Workbook
Name MIN.XLS: #REF!
Name MIN.XLS: #REF!

Sheet 표지
A7: =원가계산서!A2 -> [ 공사명:대구정신병원 냉난방기 교체공사 ]
A9: [ 내 역 서 ]
A14: 2026.8

Sheet 원가계산서
A1: 원 가 계 산 서
A2: [ 공사명:대구정신병원 냉난방기 교체공사 ]
A3: ="공사금액 : 일금"&NUMBERSTRING(D3,1)&"원정" -> 공사금액 : 일금영원정 | D3: =D32 -> 0
A4: 구 분 | B4: 구 성 비 | D4: 금 액
A5: 1. 총 원 가 | B5: 가 + 나 + 다 | D5: =D6+D9+D12 -> 0
A6: 가. 재 료 비 | D6: =D7+D8 -> 0
A7: 1) 직접재료비(자재비) | D7: =설치집계표!F5 -> 0
A8: 2) 부산물공제 | D8: =설치집계표!L28 -> 0
A9: 나. 노 무 비 | D9: =D10+D11 -> 0
A10: 1) 직접노무비 | D10: =설치집계표!H5 -> 0
A11: 2) 간접노무비 | B11: 나 1) 의 | D11: =INT(D10*C11) -> 0
A12: 다. 경 비 | D12: =SUM(D13:D24) -> 0
A13: 1) 산출경비 | D13: =설치집계표!J5 -> 0
A14: 2) 산재보험료 | B14: 나 의 | C14: 0.0356 | D14: =INT((D9*C14)) -> 0
A15: 3) 산업안전보건관리비 | B15: 가 2 + 나 1) 의 | C15: 0.0311 | D15: =INT((D7+D10)*C15) -> 0
A16: 4) 고용보험료 | B16: 나 의 | C16: 0.0101 | D16: =INT((D9)*C16) -> 0
A17: 5) 건강보험료 | B17: 나 1)의 | C17: 0.03595 | F17: 30일 미만일 시 미적용
A18: 6) 연금보험료 | B18: 나 1)의 | C18: 0.0475 | F18: 30일 미만일 시 미적용
A19: 7) 노인장기요양보험 | B19: 다 5)의 | C19: 0.1314 | F19: 30일 미만일 시 미적용
A20: 8) 퇴직공제부금비 | B20: 나 1)의 | C20: 0.023 | D20: =INT(D10*C20) -> 0
A21: 9) 환경보전비 | B21: 가 + 나 1) + 다 1)의 | C21: 0.003 | D21: =INT((D6+D10+D13)*C21) -> 0
A22: 10) 기타경비 | B22: 가 + 나 의 | C22: 0.05 | D22: =INT((D6+D9)*C22) -> 0
A23: 11)건설하도급대금지급보증수수료 | B23: 가 + 나 1) + 다 1)의 | D23: =INT((D6+D10+D13)*C23) -> 0
A24: 12)건설기계대여금지급보증수수료 | B24: 가 + 나 1) + 다 1)의 | D24: =INT((D6+D10+D13)*C24) -> 0
A25: 2. 일 반 관 리 비 | B25: 1 의 | C25: 0.08 | D25: =INT(D5*C25) -> 0
A26: 3. 이 윤 | B26: 1 의 나 + 1 의 다 + 2 의 | C26: 0.08 | D26: 0
A27: 4. 폐 기 물 처 리 비
A28: 5. 장 비 대 | D28: =장비대!F25 -> 0
A29: 6. 소 계 | B29: 1 + 2 + 3 + 4 + 5 | D29: =D5+D25+D26+D27+D28 -> 0
A30: 7. 총 원 가 | D30: =D29 -> 0
A31: 8. 부 가 가 치 세 | B31: 7 의 | C31: 0.1 | D31: =INT((D30)*C31) -> 0
A32: 9. 총 합 계 | B32: 7 + 8 | D32: =D30+D31 -> 0

Sheet 장비대
A1: 냉난방기 장비대 종합
A2: =원가계산서!A2 -> [ 공사명:대구정신병원 냉난방기 교체공사 ]
A3: 품 명 | B3: 규 격 | C3: 단위 | D3: 수량 | E3: 합 계 | G3: 비 고 | H3: 공종코드 | I3: 변수 | J3: 상위공종 | K3: 공종구분 | L3: 공종레벨 | M3: 공종소계 | N3: 원가계산서 연결금액
E4: 단 가 | F4: 금 액 | S4: 0.5
A5: 1. 냉난방기설치공사(장비대) | H5: 01 | L5: 1
A6: 멀티형 실외기(에너지효율1등급) | B6: 냉방57.0/난방63KW | C6: 대 | D6: 4 | F6: =E6*D6 -> 0 | G6: 20.0HP(멀티) | T6: =D6*S6 -> 0
A7: 천장형 실내기(1WAY,실내기판넬포함) | B7: 냉방2.0/난방2.2KW | C7: 대 | D7: 12 | F7: =E7*D7 -> 0 | G7: 0.6HP(멀티) | T7: =D7*S7 -> 0
A8: 천장형 실내기(1WAY,실내기판넬포함) | B8: 냉방2.3/난방2.6KW | C8: 대 | D8: 2 | F8: =E8*D8 -> 0 | G8: 0.8HP(멀티) | T8: =D8*S8 -> 0
A9: 천장형 실내기(1WAY,실내기판넬포함) | B9: 냉방3.2/난방3.6KW | C9: 대 | D9: 2 | F9: =E9*D9 -> 0 | G9: 1.0HP(멀티) | T9: =D9*S9 -> 0
A10: 천장형 실내기(4WAY,실내기판넬포함) | B10: 냉방7.2/난방8.1KW | C10: 대 | D10: 18 | F10: =E10*D10 -> 0 | G10: 2.5HP(멀티) | T10: =D10*S10 -> 0
A11: 천장형 실내기(4WAY,실내기판넬포함) | B11: 냉방13.0/난방14.6KW | C11: 대 | D11: 4 | F11: =E11*D11 -> 0 | G11: 4.5HP(멀티) | T11: =D11*S11 -> 0
A12: 중앙제어기 | B12: 16실제어기 | C12: 대 | D12: 4 | F12: =TRUNC(E12*D12, 0) -> 0 | H12: =TRUNC(G12*D12, 0) -> 0 | J12: =TRUNC(I12*D12, 0) -> 0 | K12: =TRUNC(E12+G12+I12, 0) -> 0 | L12: =TRUNC(F12+H12+J12, 0) -> 0 | T12: 1000000
F13: =TRUNC(E13*D13, 0) -> 0 | H13: =TRUNC(G13*D13, 0) -> 0 | J13: =TRUNC(I13*D13, 0) -> 0 | K13: =TRUNC(E13+G13+I13, 0) -> 0 | L13: =TRUNC(F13+H13+J13, 0) -> 0 | T13: =SUM(T6:T12) -> 1000000
T14: =R13-T13 -> -1000000
A25: [ 합 계 ] | F25: =SUM(F6:F24) -> 0

Sheet 설치집계표
A1: 설 치 집 계 표
A2: =원가계산서!A2 -> [ 공사명:대구정신병원 냉난방기 교체공사 ]
A3: 품 명 | B3: 규 격 | C3: 단위 | D3: 수량 | E3: 재 료 비 | G3: 노 무 비 | I3: 경 비 | K3: 합 계 | M3: 비 고 | N3: 공종코드 | O3: 변수 | P3: 상위공종 | Q3: 공종구분 | R3: 공종레벨 | S3: 공종소계 | T3: 원가계산서 연결금액
E4: 단 가 | F4: 금 액 | G4: 단 가 | H4: 금 액 | I4: 단 가 | J4: 금 액 | K4: 단 가 | L4: 금 액
A5: 01 대구정신병원 냉난방기 교체공사 | D5: 1 | E5: =F6+F10+F14+F18 -> 0 | F5: =E5*D5 -> 0 | G5: =H6+H10+H14+H18 -> 0 | H5: =G5*D5 -> 0 | I5: =J6+J10+J14+J18 -> 0 | J5: =I5*D5 -> 0 | K5: =E5+G5+I5 -> 0 | L5: =F5+H5+J5 -> 0 | N5: 01 | R5: 1
A6: 0101 냉난방기설치공사 | D6: 1 | E6: =F7+F8 -> 0 | F6: =E6*D6 -> 0 | G6: =H7+H8 -> 0 | H6: =G6*D6 -> 0 | I6: =J7+J8 -> 0 | J6: =I6*D6 -> 0 | K6: =E6+G6+I6 -> 0 | L6: =F6+H6+J6 -> 0 | N6: 0101 | P6: 01 | R6: 2
A7: 010101 냉난방기 설치공사 | D7: 1 | E7: =설치내역서!F26 -> 0 | F7: =E7*D7 -> 0 | G7: =설치내역서!H26 -> 0 | H7: =G7*D7 -> 0 | I7: =설치내역서!J26 -> 0 | J7: =I7*D7 -> 0 | K7: =E7+G7+I7 -> 0 | L7: =F7+H7+J7 -> 0 | N7: 010101 | P7: 0101 | R7: 3
A8: 010102 냉난방기 철거공사 | D8: 1 | E8: =설치내역서!F41 -> 0 | F8: =E8*D8 -> 0 | G8: =설치내역서!H41 -> 0 | H8: =G8*D8 -> 0 | I8: =설치내역서!J41 -> 0 | J8: =I8*D8 -> 0 | K8: =E8+G8+I8 -> 0 | L8: =F8+H8+J8 -> 0
A28: 02 작업부산물 | D28: 1 | E28: =F29+F30+F31+F32 -> 0 | F28: =E28*D28 -> 0 | G28: =H29+H30+H31+H32 -> 0 | H28: =G28*D28 -> 0 | I28: =J29+J30+J31+J32 -> 0 | J28: =I28*D28 -> 0 | K28: =E28+G28+I28 -> 0 | L28: =F28+H28+J28 -> 0
A29: 0201 작업부산물 | D29: 1 | E29: =설치내역서!F46 -> 0 | F29: =E29*D29 -> 0 | G29: =설치내역서!H46 -> 0 | H29: =G29*D29 -> 0 | I29: =설치내역서!J46 -> 0 | J29: =I29*D29 -> 0 | K29: =E29+G29+I29 -> 0 | L29: =F29+H29+J29 -> 0

Sheet 설치내역서
A1: =원가계산서!A2 -> [ 공사명:대구정신병원 냉난방기 교체공사 ]
A2: 품 명 | B2: 규 격 | C2: 단위 | D2: 수량 | E2: 재 료 비 | G2: 노 무 비 | I2: 경 비 | K2: 합 계 | M2: 비 고
E3: 단 가 | F3: 금 액 | G3: 단 가 | H3: 금 액 | I3: 단 가 | J3: 금 액 | K3: 단 가 | L3: 금 액
A4: 010101 냉난방기 설치공사
A5: 가변형히트펌프냉난방기설치 | B5: 기본(냉매배관제외) | C5: 식 | D5: 38 | F5: =TRUNC(E5*D5, 0) -> 0 | H5: =TRUNC(G5*D5, 0) -> 0 | J5: =TRUNC(I5*D5, 0) -> 0 | K5: =TRUNC(E5+G5+I5, 0) -> 0 | L5: =TRUNC(F5+H5+J5, 0) -> 0
A6: 냉매관및설치 | B6: Φ12.7/9.52mm | C6: M | D6: 5 | F6: =TRUNC(E6*D6, 0) -> 0 | H6: =TRUNC(G6*D6, 0) -> 0 | J6: =TRUNC(I6*D6, 0) -> 0 | K6: =TRUNC(E6+G6+I6, 0) -> 0 | L6: =TRUNC(F6+H6+J6, 0) -> 0
A7: 냉매관및설치 | B7: Φ28.58/15.88mm | C7: M | D7: 104 | F7: =TRUNC(E7*D7, 0) -> 0 | H7: =TRUNC(G7*D7, 0) -> 0 | J7: =TRUNC(I7*D7, 0) -> 0 | K7: =TRUNC(E7+G7+I7, 0) -> 0 | L7: =TRUNC(F7+H7+J7, 0) -> 0
A8: 실내기실외기간 난연성 통신케이블 및 CD관 설치 | C8: M | D8: 128 | F8: =TRUNC(E8*D8, 0) -> 0 | H8: =TRUNC(G8*D8, 0) -> 0 | J8: =TRUNC(I8*D8, 0) -> 0 | K8: =TRUNC(E8+G8+I8, 0) -> 0 | L8: =TRUNC(F8+H8+J8, 0) -> 0
A9: 중앙컨트롤러세트용 전선및 전선관 설치,커버없음 | C9: M | D9: 108 | F9: =TRUNC(E9*D9, 0) -> 0 | H9: =TRUNC(G9*D9, 0) -> 0 | J9: =TRUNC(I9*D9, 0) -> 0 | K9: =TRUNC(E9+G9+I9, 0) -> 0 | L9: =TRUNC(F9+H9+J9, 0) -> 0
A10: 실외기 받침대 | B10: 평균 990x830x130mm | C10: 조 | D10: 4 | F10: =TRUNC(E10*D10, 0) -> 0 | H10: =TRUNC(G10*D10, 0) -> 0 | J10: =TRUNC(I10*D10, 0) -> 0 | K10: =TRUNC(E10+G10+I10, 0) -> 0 | L10: =TRUNC(F10+H10+J10, 0) -> 0
A11: 냉난방기용Y분기관설치 | C11: EA | D11: 6 | F11: =TRUNC(E11*D11, 0) -> 0 | H11: =TRUNC(G11*D11, 0) -> 0 | J11: =TRUNC(I11*D11, 0) -> 0 | K11: =TRUNC(E11+G11+I11, 0) -> 0 | L11: =TRUNC(F11+H11+J11, 0) -> 0
A12: 냉난방기용 PVC 드레인관설치 | B12: Φ32mm | C12: M | D12: 40 | F12: =TRUNC(E12*D12, 0) -> 0 | H12: =TRUNC(G12*D12, 0) -> 0 | J12: =TRUNC(I12*D12, 0) -> 0 | K12: =TRUNC(E12+G12+I12, 0) -> 0 | L12: =TRUNC(F12+H12+J12, 0) -> 0
A13: 실외기노출배관커버트레이 | C13: 조 | D13: 20 | F13: =TRUNC(E13*D13, 0) -> 0 | H13: =TRUNC(G13*D13, 0) -> 0 | J13: =TRUNC(I13*D13, 0) -> 0 | K13: =TRUNC(E13+G13+I13, 0) -> 0 | L13: =TRUNC(F13+H13+J13, 0) -> 0
A14: 공기조절장치설치용크레인 | B14: 50톤 | C14: 대 | D14: 2 | F14: =TRUNC(E14*D14, 0) -> 0 | H14: =TRUNC(G14*D14, 0) -> 0 | J14: =TRUNC(I14*D14, 0) -> 0 | K14: =TRUNC(E14+G14+I14, 0) -> 0 | L14: =TRUNC(F14+H14+J14, 0) -> 0
A26: [ 합 계 ] | F26: =SUM(F5:F25) -> 0 | H26: =SUM(H5:H25) -> 0 | J26: =SUM(J5:J25) -> 0 | L26: =SUM(L5:L25) -> 0
A27: 010102 냉난방기 철거공사
A28: 기존 천장형 실내기 철거 | B28: 냉방능력16KW이하 | C28: 대 | D28: 36 | F28: =TRUNC(E28*D28, 0) -> 0 | H28: =TRUNC(G28*D28, 0) -> 0 | J28: =TRUNC(I28*D28, 0) -> 0 | K28: =TRUNC(E28+G28+I28, 0) -> 0 | L28: =TRUNC(F28+H28+J28, 0) -> 0
A29: 기존 멀티 실외기 철거 | B29: 18~20HP(냉방능력52.2~57KW) | C29: 대 | D29: 4 | F29: =TRUNC(E29*D29, 0) -> 0 | H29: =TRUNC(G29*D29, 0) -> 0 | J29: =TRUNC(I29*D29, 0) -> 0 | K29: =TRUNC(E29+G29+I29, 0) -> 0 | L29: =TRUNC(F29+H29+J29, 0) -> 0
A30: 냉매관 철거 | B30: 평균Φ38.1기준(액,가스관) | C30: m | D30: 96 | H30: =TRUNC(G30*D30, 0) -> 0 | J30: =TRUNC(I30*D30, 0) -> 0 | K30: =TRUNC(E30+G30+I30, 0) -> 0 | L30: =TRUNC(F30+H30+J30, 0) -> 0
A31: 구멍뚫기(바닥) | C31: 개소 | D31: 3 | H31: =TRUNC(G31*D31, 0) -> 0 | K31: =TRUNC(E31+G31+I31, 0) -> 0 | L31: =TRUNC(F31+H31+J31, 0) -> 0
A32: 기존 트레이 철거 | C32: M | D32: 39 | F32: =TRUNC(E32*D32, 0) -> 0 | H32: =TRUNC(G32*D32, 0) -> 0 | J32: =TRUNC(I32*D32, 0) -> 0 | K32: =TRUNC(E32+G32+I32, 0) -> 0 | L32: =TRUNC(F32+H32+J32, 0) -> 0
A41: [ 합 계 ] | F41: =SUM(F28:F40) -> 0 | H41: =SUM(H28:H40) -> 0 | J41: =SUM(J28:J40) -> 0 | L41: =SUM(L28:L40) -> 0
A42: 0201 작업부산물
A43: 고동 | C43: KG | D43: -32 | F43: =TRUNC(E43*D43, 0) -> 0 | H43: =TRUNC(G43*D43, 0) -> 0 | J43: =TRUNC(I43*D43, 0) -> 0 | K43: =TRUNC(E43+G43+I43, 0) -> 0 | L43: =TRUNC(F43+H43+J43, 0) -> 0
A44: 고철 | C44: KG | D44: -1144 | F44: =TRUNC(E44*D44, 0) -> 0 | H44: =TRUNC(G44*D44, 0) -> 0 | J44: =TRUNC(I44*D44, 0) -> 0 | K44: =TRUNC(E44+G44+I44, 0) -> 0 | L44: =TRUNC(F44+H44+J44, 0) -> 0
A46: [ 합 계 ] | F46: =SUM(F43:F45) -> 0 | H46: =SUM(H43:H45) -> 0 | J46: =SUM(J43:J45) -> 0 | L46: =SUM(L43:L45) -> 0
