Workbook
Name ______NMB96: #REF!
Name ______PB1: #REF!
Name ______PB2: #REF!
Name ______PB3: #REF!
Name _____LP2: #REF!
Name _____NMB96: #REF!
Name _____PB1: #REF!
Name _____PB2: #REF!
Name _____PB3: #REF!
Name ____LP1: '[2]부하(성남)'!#REF!
Name ____LP2: #REF!
Name ____LPB1: [3]부하계산서!#REF!
Name ____LPK1: [3]부하계산서!#REF!
Name ____LU1: '[2]부하(성남)'!#REF!
Name ____LU2: '[2]부하(성남)'!#REF!
Name ____LV01: '[2]부하(성남)'!#REF!
Name ____NMB96: #REF!
Name ____PB1: #REF!
Name ____PB2: #REF!
Name ____PB3: #REF!
Name ____UP1: [3]부하계산서!#REF!
Name ____UP2: [3]부하계산서!#REF!
Name ___AA1: [4]공사내역!$A$2
Name ___LP1: '[2]부하(성남)'!#REF!
Name ___LP2: #REF!
Name ___LPB1: [3]부하계산서!#REF!
Name ___LPK1: [3]부하계산서!#REF!
Name ___LU1: '[2]부하(성남)'!#REF!
Name ___LU2: '[2]부하(성남)'!#REF!
Name ___LV01: '[2]부하(성남)'!#REF!
Name ___NMB96: #REF!
Name ___PB1: #REF!
Name ___PB2: #REF!
Name ___PB3: #REF!
Name ___PR01: '[5]기계경비 (2)'!$B$1:$C$30
Name ___PRT2: '[5]기계경비 (2)'!$B$1:$C$30
Name ___PRT3: '[5]기계경비 (2)'!$A$1:$C$77
Name ___UP1: [3]부하계산서!#REF!
Name ___UP2: [3]부하계산서!#REF!
Name __AA1: [4]공사내역!$A$2
Name __dfdfe: #REF!
Name __dfdfe: #REF!
Name __dfdfe: #REF!
Name __LP1: '[2]부하(성남)'!#REF!
Name __LP2: #REF!
Name __LPB1: [3]부하계산서!#REF!
Name __LPK1: [3]부하계산서!#REF!
Name __LU1: '[2]부하(성남)'!#REF!
Name __LU2: '[2]부하(성남)'!#REF!
Name __LV01: '[2]부하(성남)'!#REF!
Name __NMB96: #REF!
Name __PB1: #REF!
Name __PB2: #REF!
Name __PB3: #REF!
Name __PR01: '[5]기계경비 (2)'!$B$1:$C$30
Name __PRT2: '[5]기계경비 (2)'!$B$1:$C$30
Name __PRT3: '[5]기계경비 (2)'!$A$1:$C$77
Name __UP1: [3]부하계산서!#REF!
Name __UP2: [3]부하계산서!#REF!
Name _0: [7]직재!#REF!

Sheet 설계서(갑)
A1: 소 장 | C1: 과 장 | E1: 심 사 자 | G1: 설 계 자 | I1: 설 계 | J1: 2026년 08월 일 | M1: 결 재
I2: 심 사 | J2: 2026년 08월 일 | M2: 월 일
A4: 공 사 명 : 1정수장 활성탄지 배기팬(측벽) 교체공사
B7: 구 분 | E7: 금 액 | K7: 비 고
B8: 합 계 | E8: =원가계산서!D28 -> 0 | H8: =E8 -> 0 | K8: 천단위 절사
B9: 도 급 액 | C9: 공 급 가 액 | E9: =원가계산서!D24 -> 0 | H9: =E9 -> 0
C10: 고재처리비 | E10: =원가계산서!D25 -> 0 | H10: =E10 -> 0
C11: 부가가치세 | E11: =원가계산서!D27 -> 0 | H11: =E11 -> 0
B12: 관 급 자 재 | E12: =원가계산서!D26 -> 0 | H12: =E12 -> 0 | K12: 부가세 별도
B13: 사 업 개 요 | E13: ○ 1정수장 활성탄지 배기팬(측벽) 교체공사
E14: - 배기팬(시로코형, 5.5kW) 2대 구매 및 철거,설치공사 1식

Sheet 원가계산서
A1: 원 가 계 산 서
A2: ='설계서(갑)'!A4:M4 -> 공 사 명 : 1정수장 활성탄지 배기팬(측벽) 교체공사
A3: 비목 / 구분 | D3: 금 액 | E3: 구성비(%) | F3: 비 고
A4: 순 공 사 원 가 | B4: 재료비 | C4: 직 접 재 료 비 | D4: =내역서!F20-내역서!F19 -> 0 | E4: =D4/$D$28 -> #DIV/0! | G4: ※26년 토목,조경,산업환경설비공사(산업설비 토목) 원가계산 적용(2026.1.)
C5: 간 접 재 료 비 | D5: 0 | E5: =D5/$D$28 -> #DIV/0!
C6: 작업설∙부산물 등(△) | D6: 0 | E6: =D6/$D$28 -> #DIV/0!
C7: 소 계 | D7: =SUM(D4:D5) -> 0 | E7: =D7/$D$28 -> #DIV/0!
B8: 노무비 | C8: 직 접 노 무 비 | D8: =내역서!H20 -> 0 | E8: =D8/$D$28 -> #DIV/0!
C9: 간 접 노 무 비 | D9: =TRUNC(D8*16.5%,0) -> 0 | E9: =D9/$D$28 -> #DIV/0! | F9: 직접노무비 x 16.5% 공사규모 : 10억미만, 공사기간 : 6개월 이하
C10: 소 계 | D10: =SUM(D8:D9) -> 0 | E10: =D10/$D$28 -> #DIV/0!
B11: 경 비 | C11: 산 출 경 비 | D11: =내역서!J20 -> 0 | E11: =D11/$D$28 -> #DIV/0!
C12: 산 재 보 험 료 | D12: =TRUNC(D10*3.56%,0) -> 0 | E12: =D12/$D$28 -> #DIV/0! | F12: 노무비*3.56%, 모든 건설공사 적용
C13: 고 용 보 험 료 | D13: =TRUNC(D10*1.01%,0) -> 0 | E13: =D13/$D$28 -> #DIV/0! | F13: 노무비*1.01%, 모든 건설공사 적용(7등급 미만)
C14: 건 강 보 험 료 | D14: 0 | E14: =D14/$D$28 -> #DIV/0! | F14: 직접노무비*3.595%, 모든 건설공사 적용(30일 이상) | G14: 설계내액 고정금액
C15: 연 금 보 험 료 | D15: 0 | E15: =D15/$D$28 -> #DIV/0! | F15: 직접노무비*4.75%, 모든 건설공사 적용(30일 이상) | G15: 설계내액 고정금액
C16: 노인장기요양보험 | D16: =TRUNC(D14*13.14%,0) -> 0 | E16: =D16/$D$28 -> #DIV/0! | F16: 건강보험료*13.14%, 모든 건설공사 적용(30일 이상) | G16: 설계내액 고정금액
C17: 산업안전보건관리비 | D17: 0 | E17: =D17/$D$28 -> #DIV/0! | F17: (재료비+직접노무비)*3.15%, 토목공사 | G17: 설계내액 고정금액
C18: 퇴직공제부금비 | D18: 0 | E18: =D18/$D$28 -> #DIV/0! | F18: 직접노무비*2.3%, 모든 건설공사 적용(추정금액 1억 이상) | G18: 설계내액 고정금액
C19: 기 타 경 비 | D19: =TRUNC((D7+D10)*5.2%,0) -> 0 | E19: =D19/$D$28 -> #DIV/0! | F19: (재료비+노무비) x 5.2%, 공사규모 : 10억미만, 공사기간 : 6개월 이하
C20: 소 계 | D20: =SUM(D11:D19) -> 0 | E20: =D20/$D$28 -> #DIV/0!
A21: 소 계 | D21: =SUM(D7,D10,D20) -> 0 | E21: =D21/$D$28 -> #DIV/0!
A22: 일 반 관 리 비 | D22: =TRUNC((D7+D10+D20)*8%,0) -> 0 | E22: =D22/$D$28 -> #DIV/0! | F22: (재료비+노무비+경비) x 8.0%, 공사규모 : 5억미만 산업설비
A23: 이 윤 | D23: =TRUNC(((D10+D20+D22)*15%),0) -> 0 | E23: =D23/$D$28 -> #DIV/0! | F23: (노무비+경비+일반관리비) x 15%이내, 공사규모 : 5억미만
A24: 공 급 가 액 | D24: =D21+D22+D23 -> 0 | E24: =D24/$D$28 -> #DIV/0!
A25: 고 재 처 리 비 | D25: =내역서!F19 -> 0 | E25: =D25/$D$28 -> #DIV/0!
A26: 주 요 기 자 재 비 | D26: 0 | E26: =D26/$D$28 -> #DIV/0!
A27: 부 가 가 치 세 | D27: =TRUNC((D24+D25+D26)*10%,0) -> 0 | E27: =D27/$D$28 -> #DIV/0! | F27: (공급가액+고재처리비+주요기자재비)*10%
A28: 합 계 | D28: =ROUNDDOWN(SUM(D24:D27),-4) -> 0 | E28: =D28/$D$28 -> #DIV/0! | F28: 천단위 절사

Sheet 내역서
A1: 내 역 서
A3: =원가계산서!A2 -> 공 사 명 : 1정수장 활성탄지 배기팬(측벽) 교체공사
A4: 품명 | B4: 규격 | C4: 단위 | D4: 수량 | E4: 재료비 | G4: 노무비 | I4: 경비 | K4: 합계 | L4: 비고
E5: 단가 | F5: 금액 | G5: 단가 | H5: 금액 | I5: 단가 | J5: 금액
A6: =수량산출서!A6 -> 1.철거공사 | F6: =TRUNC(D6*E6,0) -> 0 | H6: =TRUNC(D6*G6,0) -> 0 | J6: =TRUNC(D6*I6,0) -> 0 | K6: =TRUNC(F6+H6+J6,0) -> 0
A7: =수량산출서!A7 -> 배기팬 철거 | B7: =수량산출서!B7 -> 시로코형(편흡입) SS#5, 5.5KW | C7: =수량산출서!H7 -> EA | D7: =수량산출서!K7 -> 2 | K7: =F7+H7+J7 -> 0
A8: =수량산출서!A8 -> 덕트 플렉시블 조인트 철거 | B8: =수량산출서!B8 -> 호칭번호 080(5 1/3) | C8: =수량산출서!H8 -> EA | D8: =수량산출서!K8 -> 2 | K8: =F8+H8+J8 -> 0
A9: =수량산출서!A9 -> 전동기 해체 | B9: =수량산출서!B9 -> 7.5KW 이하 | C9: =수량산출서!H9 -> EA | D9: =수량산출서!K9 -> 2 | K9: =F9+H9+J9 -> 0
A10: [ 소 계 ] | K10: =F10+H10+J10 -> 0
A11: =수량산출서!A10 -> 2.설치공사
A12: =수량산출서!A11 -> 배기팬 설치 | B12: =수량산출서!B11 -> 시로코형(편흡입) SS#5, 5.5KW | C12: =수량산출서!H11 -> EA | D12: =수량산출서!K11 -> 2 | K12: =F12+H12+J12 -> 0 | L12: 자재비 포함
A13: =수량산출서!A12 -> 플렉시블 조인트 설치 | B13: =수량산출서!B12 -> 호칭번호 080(5 1/3) | C13: =수량산출서!H12 -> EA | D13: =수량산출서!K12 -> 2 | K13: =F13+H13+J13 -> 0 | L13: 자재비 포함
A14: =수량산출서!A13 -> 전동기 결선 | B14: =수량산출서!B13 -> 7.5KW 이하 | C14: =수량산출서!H13 -> EA | D14: =수량산출서!K13 -> 2 | K14: =F14+H14+J14 -> 0
A15: =수량산출서!A14 -> 지게차(대여) | B15: =수량산출서!B14 -> 하차용 | C15: =수량산출서!H14 -> 회 | D15: =수량산출서!K14 -> 2 | K15: =F15+H15+J15 -> 0
A16: [ 소 계 ] | K16: =F16+H16+J16 -> 0
A17: =수량산출서!A15 -> 3.고재처리 | K17: =F17+H17+J17 -> 0
A18: =수량산출서!A16 -> 고철 | B18: =수량산출서!B16 -> 중량B | C18: =수량산출서!H16 -> kg | D18: =수량산출서!K16 -> 820 | K18: =F18+H18+J18 -> 0
A19: [ 소 계 ] | K19: =F19+H19+J19 -> 0
A20: 합 계 | F20: =F10+F16+F19 -> 0 | H20: =H10+H16 -> 0 | J20: =J10+J16 -> 0 | K20: =TRUNC(F20+H20+J20,0) -> 0

Sheet 일위대가총괄표
A1: 일 위 대 가 총 괄 표
A3: =원가계산서!A2 -> 공 사 명 : 1정수장 활성탄지 배기팬(측벽) 교체공사
A4: 품명 | B4: 규격 | C4: 단위 | D4: 수량 | E4: 재료비 | G4: 노무비 | I4: 경비 | K4: 합계 | L4: 비고
E5: 단가 | F5: 금액 | G5: 단가 | H5: 금액 | I5: 단가 | J5: 금액
A6: =일위대가!A6 -> 제1호표 송풍기 설치(기계4-2-1) | B6: =일위대가!B6 -> 편흡입, 호칭080(5 1/3) | C6: =일위대가!C6 -> 대 | D6: 1 | E6: =일위대가!F11 -> 0 | F6: =TRUNC(D6*E6,0) -> 0 | G6: =일위대가!H11 -> 0 | H6: =TRUNC(D6*G6,0) -> 0 | I6: =일위대가!J11 -> 0 | J6: =TRUNC(D6*I6,0) -> 0 | K6: =F6+H6+J6 -> 0 | L6: 제1호표
A7: =일위대가!A12 -> 제2호표 송풍기 철거(유지4-1-7) | B7: =일위대가!B12 -> 편흡입, 호칭080(5 1/3) | C7: =일위대가!C12 -> 대 | D7: 1 | E7: =일위대가!F14 -> 0 | F7: =TRUNC(D7*E7,0) -> 0 | G7: =일위대가!H14 -> 0 | H7: =TRUNC(D7*G7,0) -> 0 | I7: =일위대가!J14 -> 0 | J7: =TRUNC(D7*I7,0) -> 0 | K7: =F7+H7+J7 -> 0 | L7: =일위대가!L12 -> 제2호표
A8: =일위대가!A15 -> 제3호표 전동기 결선(전기5-38) | B8: =일위대가!B15 -> 7.5KW 이하 | C8: =일위대가!C15 -> 대 | D8: 1 | G8: =일위대가!H17 -> 0 | H8: =TRUNC(D8*G8,0) -> 0 | K8: =F8+H8+J8 -> 0 | L8: =일위대가!L15 -> 제3호표
A9: =일위대가!A18 -> 제4호표 전동기 결선 해체(전기5-38) | B9: =일위대가!B18 -> 7.5KW 이하 | C9: =일위대가!C18 -> 대 | D9: 1 | G9: =일위대가!H20 -> 0 | H9: =TRUNC(D9*G9,0) -> 0 | K9: =F9+H9+J9 -> 0 | L9: =일위대가!L18 -> 제4호표
A10: =일위대가!A21 -> 제5호표 덕트 플렉시블 조인트 설치(기계2-2-3) | B10: =일위대가!B21 -> 호칭080(5 1/3) | C10: =일위대가!C21 -> 개소 | D10: 1 | G10: =일위대가!H24 -> 0 | H10: =TRUNC(D10*G10,0) -> 0 | K10: =F10+H10+J10 -> 0 | L10: =일위대가!L21 -> 제5호표
A11: =일위대가!A25 -> 제6호표 덕트 플렉시블 조인트 설치(유지4-1-7) | B11: =일위대가!B25 -> 호칭080(5 1/3) | C11: =일위대가!C25 -> 개소 | D11: 1 | G11: =일위대가!H27 -> 0 | H11: =TRUNC(D11*G11,0) -> 0 | K11: =F11+H11+J11 -> 0 | L11: =일위대가!L25 -> 제6호표

Sheet 일위대가
A1: 일 위 대 가 표
A3: =원가계산서!A2 -> 공 사 명 : 1정수장 활성탄지 배기팬(측벽) 교체공사
A4: 품명 | B4: 규격 | C4: 단위 | D4: 수량 | E4: 재료비 | G4: 노무비 | I4: 경비 | K4: 합계 | L4: 비고
E5: 단가 | F5: 금액 | G5: 단가 | H5: 금액 | I5: 단가 | J5: 금액
A6: 제1호표 송풍기 설치(기계4-2-1) | B6: 편흡입, 호칭080(5 1/3) | C6: 대 | L6: 제1호표
A7: =단가대비표!B12 -> 기계설비공 | C7: 인 | D7: 2.526 | K7: =F7+H7+J7 -> 0
A8: =단가대비표!B10 -> 보통인부 | C8: 인 | D8: 0.75 | K8: =F8+H8+J8 -> 0
A9: 공구손료 | B9: 설치의 3% | C9: 식 | D9: 1 | K9: =F9+H9+J9 -> 0
A10: 기계경비 | C10: 식 | D10: 1 | K10: =F10+H10+J10 -> 0
A11: [ 합 계 ] | K11: =F11+H11+J11 -> 0
A12: 제2호표 송풍기 철거(유지4-1-7) | B12: 편흡입, 호칭080(5 1/3) | C12: 대 | L12: 제2호표
A13: 철거(재사용 미고려) | B13: 설치의 50% | C13: 식 | D13: 1 | K13: =F13+H13+J13 -> 0
A14: [ 합 계 ] | K14: =F14+H14+J14 -> 0
A15: 제3호표 전동기 결선(전기5-38) | B15: 7.5KW 이하 | C15: 대 | L15: 제3호표
A16: =단가대비표!B13 -> 플랜트전공 | C16: 인 | D16: 0.174 | K16: =F16+H16+J16 -> 0
A17: [ 합 계 ] | K17: =F17+H17+J17 -> 0
A18: 제4호표 전동기 결선 해체(전기5-38) | B18: 7.5KW 이하 | C18: 대 | L18: 제4호표
A19: 결선 해체 | B19: 설치의 50% | C19: 식 | D19: 1 | K19: =F19+H19+J19 -> 0
A20: [ 합 계 ] | K20: =F20+H20+J20 -> 0
A21: 제5호표 덕트 플렉시블 조인트 설치(기계2-2-3) | B21: 호칭080(5 1/3) | C21: 개소 | L21: 제5호표
A22: =단가대비표!B11 -> 덕트공 | C22: 인 | D22: 0.577 | K22: =F22+H22+J22 -> 0
A23: =단가대비표!B10 -> 보통인부 | C23: 인 | D23: 0.176 | K23: =F23+H23+J23 -> 0
A24: [ 합 계 ] | K24: =F24+H24+J24 -> 0
A25: 제6호표 덕트 플렉시블 조인트 설치(유지4-1-7) | B25: 호칭080(5 1/3) | C25: 개소 | L25: 제6호표
A26: 배관류 철거 | B26: 설치의 40% | C26: 식 | D26: 1 | K26: =F26+H26+J26 -> 0
A27: [ 합 계 ] | K27: =F27+H27+J27 -> 0

Sheet 수량산출서
A1: 수 량 산 출 서
A3: =내역서!A3 -> 공 사 명 : 1정수장 활성탄지 배기팬(측벽) 교체공사
A4: 품명 | B4: 규격 | C4: 산 출 근 거 | I4: 산출량 | J4: 할증 | K4: 합 계
C5: 계 산 | G5: 수량 | H5: 단위
A6: 1.철거공사
A7: 배기팬 철거 | B7: 시로코형(편흡입) SS#5, 5.5KW | C7: 2대 | G7: 2 | H7: EA | I7: =G7 -> 2 | J7: 1 | K7: =I7*J7 -> 2
A8: 덕트 플렉시블 조인트 철거 | B8: 호칭번호 080(5 1/3) | C8: 2대 | G8: 2 | H8: EA | I8: =G8 -> 2 | J8: 1 | K8: =I8*J8 -> 2
A9: 전동기 해체 | B9: 7.5KW 이하 | C9: 2대 | G9: 2 | H9: EA | I9: =G9 -> 2 | J9: 1 | K9: =I9*J9 -> 2
A10: 2.설치공사
A11: 배기팬 설치 | B11: 시로코형(편흡입) SS#5, 5.5KW | C11: 2대 | G11: 2 | H11: EA | I11: =G11 -> 2 | J11: 1 | K11: =I11*J11 -> 2
A12: 플렉시블 조인트 설치 | B12: 호칭번호 080(5 1/3) | C12: 2대 | G12: 2 | H12: EA | I12: =G12 -> 2 | J12: 1 | K12: =I12*J12 -> 2
A13: 전동기 결선 | B13: 7.5KW 이하 | C13: 2대 | G13: 2 | H13: EA | I13: =G13 -> 2 | J13: 1 | K13: =I13*J13 -> 2
A14: 지게차(대여) | B14: 하차용 | C14: 2회 | G14: 2 | H14: 회 | I14: =G14 -> 2 | J14: 1 | K14: =I14*J14 -> 2
A15: 3.고재처리
A16: =단가대비표!B8 -> 고철 | B16: =단가대비표!C8 -> 중량B | C16: 2대×410kg | G16: 820 | H16: kg | I16: =G16 -> 820 | J16: 1 | K16: =I16*J16 -> 820

Sheet 단가대비표
A1: 단 가 대 비 표
A2: =수량산출서!A3 -> 공 사 명 : 1정수장 활성탄지 배기팬(측벽) 교체공사
A4: 코 드 | B4: 품 명 | C4: 규격 | D4: 단위 | E4: 재 료 비 | O4: 심사요청단가 | P4: 심사평가단가 | Q4: 적용단가 | R4: 노 무 비 | S4: 경 비 | Y4: 번 호 | Z4: 비 고
E5: 거래가격 | F5: PAGE | G5: 유통물가 | H5: PAGE | I5: 물가정보 | J5: PAGE | K5: 물가자료 | L5: PAGE | M5: 조사가격 (견적1) | N5: 조사가격 (견적2) | S5: 가격정보 | T5: 거래가격 | U5: 유통물가 | V5: 물가자료 | W5: 조사가격 | X5: 적용단가
B6: 배기팬 | C6: 시로코형(편흡입) SS#5, 5.5KW | D6: EA | M6: 3000000 | N6: 3530000 | Q6: =SMALL(E6:P6,COUNTIF(E6:P6,0)+1) -> 3000000 | Y6: 자재 1
B7: 플렉시블 조인트 | C7: 호칭번호 080(5 1/3) | D7: EA | M7: 92000 | N7: 95000 | Q7: =SMALL(E7:P7,COUNTIF(E7:P7,0)+1) -> 92000 | Y7: 자재 2
B8: 고철 | C8: 중량B | D8: EA | I8: -270 | J8: 2-84 | K8: -325 | L8: 하47 | Q8: =SMALL(E8:P8,COUNTIF(E8:P8,0)+1) -> -325 | Y8: 자재 3
B9: 지게차(대여) | C9: 장비 하차용 | D9: EA | I9: 80000 | J9: 1-1004 | Q9: =SMALL(E9:P9,COUNTIF(E9:P9,0)+1) -> 80000 | Y9: 자재 4
B10: 보통인부 | C10: 건설부문(26년 상반기) | D10: 인 | R10: 172068 | Y10: 노임 1
B11: 덕트공 | C11: 건설부문(26년 상반기) | D11: 인 | R11: 202472 | Y11: 노임 2
B12: 기계설비공 | C12: 건설부문(26년 상반기) | D12: 인 | R12: 241698 | Y12: 노임 3
B13: 플랜트전공 | C13: 건설부문(26년 상반기) | D13: 인 | R13: 269759 | Y13: 노임 4
