Workbook
Name _01._본____청: #REF!
Name _02._경_비_실___1: #REF!
Name _03._경_비_실___2: #REF!
Name _04._경_비_실___3: #REF!
Name _05._급__기__탑: #REF!
Name _06._배__기__탑: #REF!
Name _07._부______대: #REF!
Name _1: #N/A
Name _1._PANEL_BD.__LP___1: #REF!
Name _1._사급자재대: #REF!
Name _1_: '[C:/Users/Computer/Documents/이학/MECH/성지공현.XLS]ELECTRIC'!#REF!
Name _10: #N/A
Name _10_0ELP전선관_3: '[C:/Users/Computer/Documents/Park/d/aajob/센텀시티개발사업(전기및기계)/수량산출서/가로등및공원/산출근거통합.xls]가로등기초'!#REF!
Name _100____________________________________________________Module4_.Macro3: _100____________________________________________________Module4_.Macro3
Name _1000_______________________________________________________________3__Crite: #REF!
Name _1001_______________________________________________________________3__Criteria: #REF!
Name _1002_______________________________________________________________3__Criteria: #REF!
Name _1003_______________________________________________________________G__Extr: #REF!
Name _1004_______________________________________________________________G__Extr: #REF!
Name _1005_______________________________________________________________G__Extract: #REF!
Name _1006_______________________________________________________________G__Extract: #REF!
Name _1017______________________________________________________________3__Crite: #REF!
Name _1018______________________________________________________________3__Crite: #REF!
Name _1019______________________________________________________________3__Criteria: #REF!
Name _102____________________________________________________Module6_.Macro4: _102____________________________________________________Module6_.Macro4
Name _1020______________________________________________________________3__Criteria: #REF!
Name _1021______________________________________________________________G__Extr: #REF!
Name _1022______________________________________________________________G__Extr: #REF!
Name _1023______________________________________________________________G__Extract: #REF!
Name _1024______________________________________________________________G__Extract: #REF!
Name _1035_____________________________________________________________3__Crite: #REF!
Name _1036_____________________________________________________________3__Crite: #REF!
Name _1037_____________________________________________________________3__Criteria: #REF!
Name _1038_____________________________________________________________3__Criteria: #REF!
Name _1039_____________________________________________________________G__Extr: #REF!
Name _104_____________________________________________________Module4_.Macro3: _104_____________________________________________________Module4_.Macro3
Name _1040_____________________________________________________________G__Extr: #REF!
Name _1041_____________________________________________________________G__Extract: #REF!
Name _1042_____________________________________________________________G__Extract: #REF!
Name _1053____________________________________________________________3__Crite: #REF!
Name _1054____________________________________________________________3__Crite: #REF!
Name _1055____________________________________________________________3__Criteria: #REF!
Name _1056____________________________________________________________3__Criteria: #REF!
Name _1057____________________________________________________________G__Extr: #REF!
Name _1058____________________________________________________________G__Extr: #REF!
Name _1059____________________________________________________________G__Extract: #REF!
Name _106_____________________________________________________Module6_.Macro4: _106_____________________________________________________Module6_.Macro4
Name _1060____________________________________________________________G__Extract: #REF!
Name _1071___________________________________________________________3__Crite: #REF!
Name _1072___________________________________________________________3__Crite: #REF!
Name _1073___________________________________________________________3__Criteria: #REF!
Name _1074___________________________________________________________3__Criteria: #REF!
Name _1075___________________________________________________________G__Extr: #REF!
Name _1076___________________________________________________________G__Extr: #REF!
Name _1077___________________________________________________________G__Extract: #REF!
Name _1078___________________________________________________________G__Extract: #REF!
Name _108______________________________________________________Module4_.Macro3: _108______________________________________________________Module4_.Macro3
Name _1089__________________________________________________________3__Crite: #REF!
Name _1090__________________________________________________________3__Crite: #REF!
Name _1091__________________________________________________________3__Criteria: #REF!

Sheet 원가
AI1: 공사기간: | AM1: =IF(#REF!=1,#REF!,IF(#REF!=1,#REF!,IF(#REF!=1,#REF!,IF(#REF!=1,#REF!)))) -> #REF!
A2: =총괄표!D1 -> [ 함현중 급식실 개선 및 증축 통신공사 ]
A3: 비 목 | C3: 구 분 | L3: 금 액 | S3: 구 성 비 | AC3: 비 고
A4: 순 공 사 비 원 가 | C4: 재료비 | E4: 직 접 재 료 비
E5: 간 접 재 료 비
E6: 작 업 부 산 물
E7: 소 계
C8: 노무비 | E8: 직접노무비(가)
E9: 간접노무비(나) | S9: =CONCATENATE(" (직노)x",#REF!*100,"%") -> #REF!
E10: 소 계
C11: 경 비 | E11: 산 출 경 비
E12: 산 재 보 험 료 | S12: =CONCATENATE(" (노)x",#REF!*100,"%") -> #REF!
E13: 고 용 보 험 료 | S13: =CONCATENATE(" (노)x",#REF!*100,"%") -> #REF!
E14: 건 강 보 험 료 | S14: =CONCATENATE(" (직노)x",#REF!*100,"%") -> #REF!
E15: 연 금 보 험 료 | S15: =CONCATENATE(" (직노)x",#REF!*100,"%") -> #REF!
E16: 노인장기요양보험료 | S16: =CONCATENATE(" (건강보험료)x",#REF!*100,"%") -> #REF!
E17: 산업안전보건관리비 | S17: (재+직노)x3.11% | AC17: 총공사금액 2천만원이상공사 적용.
E18: 기 타 경 비 | S18: =CONCATENATE(" (재+노)x",#REF!*100,"%") -> #REF!
E19: 퇴직공제부금비 | S19: =CONCATENATE(" (직노)x",#REF!*100,"%") -> #REF! | AC19: 공사예정금액(설계금액+관급) 1억원이상공사 적용.
E20: 석 면 분 담 금 | S20: (노)x0.006%
E21: 임 금 채 권 부 담 금 | S21: (노)x0.09%
E22: 예비-1
E23: 예비-2
E24: 소 계
C25: 계
A26: 일 반 관 리 비 | S26: =CONCATENATE(" (재+노+경)x",#REF!*100,"%") -> #REF!
A27: 이 윤 | S27: =CONCATENATE(" (노+경+일관)x",#REF!*100,"%") -> #REF!
A28: 사 급 자 재 비
A29: 총 원 가
A30: 손해배상보험료(PS단가) | S30: 순계약금액*기본요율*[1+(초과일수/1095)]
A31: 고용개선지원비(PS단가) | AC31: 사회보험료 및 고용개선장려금 제외(소방,전기,통신공사)
A32: 부 가 가 치 세 | S32: 공급가액의 10%
A33: 도 급 액
A34: 한 전 불 입 금 | S34: 저압지중인입(~kW) | AC34: 한전불입금,전기안전공사검사수수료
A35: 관 급 자 관 급
A36: 도 급 자 관 급
A37: 재해예방기술지도
A38: 총 공 사 비 | AC38: 천단위미만절삭.
M62: 예시 | P62: 공사기간(일) | T62: = | U62: 준비기간 | Y62: + | Z62: 비작업일수 | AD62: + | AE62: 작업일수 | AI62: + | AJ62: 정리기간
P63: =Z63+AE63+AJ63 -> 360 | U63: 370 | Z63: 30 | AE63: 300 | AJ63: 30
M65: 구 분 | R65: 임 금 (원) | W65: 공사금액 | AB65: 1회당 직접인건비(원) | AH65: 일 기술지도 현장 수 | AP65: 직접경비
M66: 기술사(1)+고급기술자(7) | R66: 319947 | W66: 40억이상 | AB66: =ROUND(R66/2,0) -> 159974 | AH66: 2개소(40개소/20일) | AP66: 27885
M67: 고급기술자 | R67: 300980 | W67: 20억이상~40억미만 | AB67: =ROUND(R67/2.5,0) -> 120392 | AH67: 2.5개소(50개소/20일) | AP67: 25334
M68: 중급기술자 | R68: 284046 | W68: 3억이상~20억미만 | AB68: =ROUND(R68/3,0) -> 94682 | AH68: 3개소(60개소/20일) | AP68: 23633
M69: 중급기술자 | R69: 284046 | W69: 3억미만 | AB69: =ROUND(R69/3.5,0) -> 81156 | AH69: 3.5개소(70개소/20일) | AP69: 22418
M70: 초급기술자 | R70: 223644

Sheet 총괄표
B1: 29 | D1: [ 함현중 급식실 개선 및 증축 통신공사 ]
A2: 번호 | B2: 공종코드 | C2: … | D2: 공 종 명 | E2: 규격 | F2: 단위 | G2: 수량 | H2: 재료비 | J2: 노무비 | M2: 경비 | P2: 계 | Q2: 비고
H3: 단가 | I3: 금액 | J3: 수량 | K3: 단가 | L3: 금액 | M3: 단가 | N3: 금액 | O3: 단가
B4: 00 | D4: 함현중 급식실 개선 및 증축 통신공사 설계용역 | G4: 1 | H4: =SUM(U4:U6) -> 0 | I4: =G4*H4 -> 0 | K4: =SUM(V4:V6) -> 0 | L4: =G4*K4 -> 0 | M4: =SUM(W4:W6) -> 0 | N4: =G4*M4 -> 0 | O4: =IF((H4+K4+M4)=0,"",(H4+K4+M4)) | P4: =SUM(I4,L4,N4) -> 0
B6: 01 | D6: 1.통신공사 | F6: 식 | G6: 1 | H6: =SUM(I7:I10) -> 0 | I6: =G6*H6 -> 0 | K6: =SUM(L7:L10) -> 0 | L6: =G6*K6 -> 0 | M6: =SUM(N7:N10) -> 0 | N6: =G6*M6 -> 0 | O6: =IF((H6+K6+M6)=0,"",(H6+K6+M6)) | P6: =SUM(I6,L6,N6) -> 0 | U6: =I6 -> 0 | V6: =L6 -> 0 | W6: =N6 -> 0
B7: 0101 | D7: 1-1.통합배선설비공사 | F7: 식 | G7: 1 | H7: =내역서!I28 -> 0 | I7: =G7*H7 -> 0 | K7: =내역서!L28 -> 0 | L7: =G7*K7 -> 0 | M7: =내역서!N28 -> 0 | N7: =G7*M7 -> 0 | O7: =IF((H7+K7+M7)=0,"",(H7+K7+M7)) | P7: =SUM(I7,L7,N7) -> 0
B8: 0102 | D8: 1-2.CATV설비공사 | F8: 식 | G8: 1 | H8: =내역서!I53 -> 0 | I8: =G8*H8 -> 0 | K8: =내역서!L53 -> 0 | L8: =G8*K8 -> 0 | M8: =내역서!N53 -> 0 | N8: =G8*M8 -> 0 | O8: =IF((H8+K8+M8)=0,"",(H8+K8+M8)) | P8: =SUM(I8,L8,N8) -> 0
B9: 0103 | D9: 1-3.방송설비공사 | F9: 식 | G9: 1 | H9: =내역서!I78 -> 0 | I9: =G9*H9 -> 0 | K9: =내역서!L78 -> 0 | L9: =G9*K9 -> 0 | M9: =내역서!N78 -> 0 | N9: =G9*M9 -> 0 | O9: =IF((H9+K9+M9)=0,"",(H9+K9+M9)) | P9: =SUM(I9,L9,N9) -> 0
B10: 0104 | D10: 1-4.철거공사 | F10: 식 | G10: 1 | H10: =내역서!I103 -> 0 | I10: =G10*H10 -> 0 | K10: =내역서!L103 -> 0 | L10: =G10*K10 -> 0 | M10: =내역서!N103 -> 0 | N10: =G10*M10 -> 0 | O10: =IF((H10+K10+M10)=0,"",(H10+K10+M10)) | P10: =SUM(I10,L10,N10) -> 0

Sheet 내역서
A1: 총줄수-> | B1: 107 | D1: [ 함현중 급식실 개선 및 증축 통신공사 ]
A2: 번호 | B2: 공종코드 | C2: 코드 | D2: 명 칭 | E2: 규 격 | F2: 단위 | G2: 수량 | H2: 재료비 | J2: 노무비 | M2: 경비 | P2: 계 | Q2: 비고
H3: 단가 | I3: 금액 | J3: 수량 | K3: 단가 | L3: 금액 | M3: 단가 | N3: 금액 | O3: 단가
B4: 공종줄 | D4: 1.통신공사::1-1.통합배선설비공사
A5: 5975D097002 | B5: 0101 | C5: V5975D097002 | D5: 합성수지제 가요전선관(CD난연) | E5: 16㎜ | F5: M | G5: 51
A6: 5975D017003 | B6: 0101 | C6: V5975D017003 | D6: 1종금속제가요전선관 | E6: 16㎜ 비방수 | F6: M | G6: 239 | R6: 방수 삭제, 비방수 적용
A7: 5975D017004 | B7: 0101 | C7: V5975D017004 | D7: 1종금속제가요전선관 | E7: 22㎜ 비방수 | F7: M | G7: 97
A8: 59753017043 | B8: 0101 | C8: 3913170620174434 | D8: 1종금속제가요전선관 박스커넥터 | E8: 16㎜ 비방수 | F8: 개 | G8: 28 | R8: 방수 삭제, 비방수 적용
A9: 59753017044 | B9: 0101 | C9: 3913170620174435 | D9: 1종금속제가요전선관 박스커넥터 | E9: 22㎜ 비방수 | F9: 개 | G9: 2
A10: 5975D767041 | B10: 0101 | C10: V5975D767041 | D10: 아우트렛박스 | E10: 중형4각 54㎜ | F10: 개 | G10: 5
A11: 5975D777102 | B11: 0101 | C11: V5975D777102 | D11: 스위치박스 | E11: 1개용 54mm | F11: 개 | G11: 4
A12: 59753767251 | B12: 0101 | C12: 3912130820174715 | D12: 아우트렛박스 커버 | E12: 커버, 4각, 둥근구멍(평) | F12: 개 | G12: 5
A13: 5975D857001 | B13: 0101 | C13: V5975D857001 | D13: 풀박스(ST) | E13: 100x100x50㎜ | F13: 개 | G13: 7
A14: 5975D857061 | B14: 0101 | C14: V5975D857061 | D14: 풀박스(ST) | E14: 200x200x100㎜ | F14: 개 | G14: 3
A15: 56959000210 | B15: 0101 | C15: V56959000210 | D15: UTP 케이블 | E15: Cat.5E, 4P-0.5㎜ | F15: M | G15: 265
A16: 6145C167501 | B16: 0101 | C16: V6145C167501 | D16: UTP 케이블 | E16: Cat.6, 4P-0.5㎜ | F16: M | G16: 144
A17: 56959000211 | B17: 0101 | C17: V56959000211 | D17: UTP 케이블 | E17: Cat.6A, 4P-0.5㎜ | F17: M | G17: 28
A18: 6015A037108 | B18: 0101 | C18: V6015A037108 | D18: 광케이블 | E18: SM 8C | F18: M | G18: 107
A19: 5805B750201 | B19: 0101 | C19: V5805B750201 | D19: 모듈라짹 | E19: 매입용, Cat.6 1구 | F19: 개 | G19: 1
A20: 5805B750202 | B20: 0101 | C20: V5805B750202 | D20: 모듈라짹 | E20: 매입용, Cat.6 2구 | F20: 개 | G20: 3
A21: 56950621020 | B21: 0101 | C21: V56950621020 | D21: 광케이블 성단 | F21: 코아 | G21: 8
A22: 56950621050 | B22: 0101 | C22: V56950621050 | D22: 성단 | E22: 4P | F22: 개 | G22: 8
A23: MM046107341 | B23: 0101 | C23: 391115ZZ701Z0001 | D23: IDF-급식실 | E23: FDF 8C,DATA 8P,VOICE 8P | F23: SET | G23: 1
B28: 합계줄 | D28: ( 합 계 ) | I28: =TRUNC(SUM(I4:I27)) -> 0 | L28: =TRUNC(SUM(L4:L27)) -> 0 | N28: =TRUNC(SUM(N4:N27)) -> 0 | O28: =IF((H28+K28+M28)=0,"",(H28+K28+M28)) | P28: =TRUNC(SUM(P4:P27)) -> 0
B29: 공종줄 | D29: 1.통신공사::1-2.CATV설비공사
A30: 5975D097002 | B30: 0102 | C30: V5975D097002 | D30: 합성수지제 가요전선관(CD난연) | E30: 16㎜ | F30: M | G30: 3
A31: 5975D017023 | B31: 0102 | C31: V5975D017023 | D31: 1종금속제가요전선관 | E31: 16㎜ 비방수 | F31: M | G31: 41 | R31: 방수 삭제, 비방수 적용
A32: 59753017063 | B32: 0102 | C32: 3913170620174446 | D32: 1종금속제가요전선관 박스커넥터 | E32: 16㎜ 비방수 | F32: 개 | G32: 2 | R32: 방수 삭제, 비방수 적용
A33: 5975D767041 | B33: 0102 | C33: V5975D767041 | D33: 아우트렛박스 | E33: 중형4각 54㎜ | F33: 개 | G33: 1
A34: 5975D777102 | B34: 0102 | C34: V5975D777102 | D34: 스위치박스 | E34: 1개용 54mm | F34: 개 | G34: 1
A35: 59753767251 | B35: 0102 | C35: 3912130820174715 | D35: 아우트렛박스 커버 | E35: 커버, 4각, 둥근구멍(평) | F35: 개 | G35: 1
A36: 5975D857001 | B36: 0102 | C36: V5975D857001 | D36: 풀박스(ST) | E36: 100x100x50㎜ | F36: 개 | G36: 1
A37: 5935A187011 | B37: 0102 | C37: V5935A187011 | D37: 모울드(AL) | E37: 소 | F37: M | G37: 3
A38: 6145E127541 | B38: 0102 | C38: V6145E127541 | D38: 고발포동축케이블 | E38: 5C-HFBT | F38: M | G38: 47
A39: 5820A297102 | B39: 0102 | C39: V5820A297102 | D39: TV UNIT | E39: 쌍방향, 단말 | F39: 개 | G39: 1
A40: 56950012321 | B40: 0102 | C40: V56950012321 | D40: 콘넥터설치 | E40: 5C | F40: 개소 | G40: 2
B53: 합계줄 | D53: ( 합 계 ) | I53: =TRUNC(SUM(I29:I52)) -> 0 | L53: =TRUNC(SUM(L29:L52)) -> 0 | N53: =TRUNC(SUM(N29:N52)) -> 0 | O53: =IF((H53+K53+M53)=0,"",(H53+K53+M53)) | P53: =TRUNC(SUM(P29:P52)) -> 0
B54: 공종줄 | D54: 1.통신공사::1-3.방송설비공사
A55: 5975D097002 | B55: 0103 | C55: V5975D097002 | D55: 합성수지제 가요전선관(CD난연) | E55: 16㎜ | F55: M | G55: 4
A56: 5975D017023 | B56: 0103 | C56: V5975D017023 | D56: 1종금속제가요전선관 | E56: 16㎜ 비방수 | F56: M | G56: 66 | R56: 방수 삭제, 비방수 적용
A57: 59753017063 | B57: 0103 | C57: 3913170620174446 | D57: 1종금속제가요전선관 박스커넥터 | E57: 16㎜ 비방수 | F57: 개 | G57: 32 | R57: 방수 삭제, 비방수 적용
A58: 5975D767011 | B58: 0103 | C58: V5975D767011 | D58: 아우트렛박스 | E58: 8각 54㎜ | F58: 개 | G58: 7
A59: 5975D767041 | B59: 0103 | C59: V5975D767041 | D59: 아우트렛박스 | E59: 중형4각 54㎜ | F59: 개 | G59: 3
A60: 5975D777102 | B60: 0103 | C60: V5975D777102 | D60: 스위치박스 | E60: 1개용 54mm | F60: 개 | G60: 3
A61: 56959000201 | B61: 0103 | C61: V56959000201 | D61: 연결박스 | E61: 4각 44㎜ | F61: 개 | G61: 3
A62: 59753767221 | B62: 0103 | C62: 3912130820174712 | D62: 아우트렛박스 커버 | E62: 커버, 8각, 둥근구멍(평) | F62: 개 | G62: 7
A63: 59753767251 | B63: 0103 | C63: 3912130820174715 | D63: 아우트렛박스 커버 | E63: 커버, 4각, 둥근구멍(평) | F63: 개 | G63: 3
A64: 56959000207 | B64: 0103 | C64: V56959000207 | D64: 저독성난연폴리올레핀전선(HFIX) | E64: 450/750V, 1.5㎟(1.38mm) | F64: M | G64: 143
A65: 5965A397012 | B65: 0103 | C65: V5965A397012 | D65: 스 피 커 | E65: 원형, 천정용(3W) | F65: 개 | G65: 6
A66: 5965A397031 | B66: 0103 | C66: V5965A397031 | D66: 스 피 커 | E66: 벽부형(10W) | F66: 개 | G66: 2
A67: 56935112920 | B67: 0103 | C67: EBT810013130 | D67: 스피커 이설 | E67: 벽부형 30W 이하 | F67: 개소 | G67: 1
B78: 합계줄 | D78: ( 합 계 ) | I78: =TRUNC(SUM(I54:I77)) -> 0 | L78: =TRUNC(SUM(L54:L77)) -> 0 | N78: =TRUNC(SUM(N54:N77)) -> 0 | O78: =IF((H78+K78+M78)=0,"",(H78+K78+M78)) | P78: =TRUNC(SUM(P54:P77)) -> 0
B79: 공종줄 | D79: 1.통신공사::1-4.철거공사
A80: 56935106790 | B80: 0104 | C80: EBT810007000 | D80: UTP 케이블 철거 | E80: 4P | F80: M | G80: 2
A81: 56935110960 | B81: 0104 | C81: EBT810011180 | D81: 모듈러짹 철거 | E81: 8PIN, 1구 | F81: EA | G81: 2
A82: 56935110970 | B82: 0104 | C82: EBT810011190 | D82: 모듈러짹 철거 | E82: 8PIN, 2구 | F82: EA | G82: 2
A83: 56935111140 | B83: 0104 | C83: EBT810011340 | D83: 단자함 철거 | E83: 15P 이하 | F83: 면 | G83: 1
A84: 56935112730 | B84: 0104 | C84: EBT810012940 | D84: 풀박스 철거(통신) | E84: 100x100x100이하 | F84: 개소 | G84: 4
A85: 56935120060 | B85: 0104 | C85: V56935120060 | D85: 스피커 철거 | E85: 천정형 5W 이하 | F85: 개소 | G85: 4
A86: 56935112900 | B86: 0104 | C86: EBT810013110 | D86: 스피커 철거 | E86: 벽부형 30W 이하 | F86: 개소 | G86: 3
A87: 56959000194 | B87: 0104 | C87: V56959000194 | D87: HDMI케이블철거 | E87: HDMI케이블철거 | F87: M | G87: 10
A88: 56959000161 | B88: 0104 | C88: V56959000161 | D88: 전선관 철거 | E88: FLEX 36C | F88: M | G88: 10
A89: 56959000188 | B89: 0104 | C89: V56959000188 | D89: AV용벽부형스피커 철거 | F89: 개소 | G89: 2
A90: 56959000190 | B90: 0104 | C90: V56959000190 | D90: AV용장비철거 | E90: AV용장비철거 | F90: 개소 | G90: 1
A91: 56959000187 | B91: 0104 | C91: V56959000187 | D91: 빔 스크린 철거 | E91: 빔 스크린 철거 | F91: 개소 | G91: 1
A92: 56959000189 | B92: 0104 | C92: V56959000189 | D92: 스크린스위치 철거 | E92: 스크린스위치철거 | F92: 개소 | G92: 1 | R92: 스크린 업다운 스위치
A93: 56959000186 | B93: 0104 | C93: V56959000186 | D93: 빔 프로젝터 철거 | E93: 빔 프로젝터 철거 | F93: 개소 | G93: 1
B103: 합계줄 | D103: ( 합 계 ) | I103: =TRUNC(SUM(I79:I102)) -> 0 | L103: =TRUNC(SUM(L79:L102)) -> 0 | N103: =TRUNC(SUM(N79:N102)) -> 0 | O103: =IF((H103+K103+M103)=0,"",(H103+K103+M103)) | P103: =TRUNC(SUM(P79:P102)) -> 0

Sheet 산출집계
D3: 1.통신공사::1-1.통합배선설비공사
A4: 번호 | B4: 공종코드 | C4: 코드 | D4: 명칭 | E4: 규격 | F4: 단위 | G4: 지 급
H5: 계 | I5: 할증(%) | J5: 소 계
C7: 59753097002 | D7: 합성수지제 가요전선관(CD난연) | E7: 16㎜ | F7: M | H7: 51 | J7: 51
C8: 59753017003 | D8: 1종금속제가요전선관 | E8: 16㎜ 비방수 | F8: M | H8: 239 | J8: =170+69 -> 239
C9: 59753017004 | D9: 1종금속제가요전선관 | E9: 22㎜ 비방수 | F9: M | H9: 97 | J9: 97
C10: 59753017043 | D10: 1종금속제가요전선관 박스커넥터 | E10: 16㎜ 비방수 | F10: 개 | H10: 28 | J10: =10+18 -> 28
C11: 59753017044 | D11: 1종금속제가요전선관 박스커넥터 | E11: 22㎜ 비방수 | F11: 개 | H11: 2 | J11: 2
C12: 59753767041 | D12: 아우트렛박스 | E12: 중형4각 54㎜ | F12: 개 | H12: 5 | J12: 5
C13: 59753777102 | D13: 스위치박스 | E13: 1개용 54mm | F13: 개 | H13: 4 | J13: 4
C14: 59753767251 | D14: 아우트렛박스 커버 | E14: 커버, 4각, 둥근구멍(평) | F14: 개 | H14: 5 | J14: 5
C15: 59753857001 | D15: 풀박스(ST) | E15: 100x100x50㎜ | F15: 개 | H15: 7 | J15: 7
C16: 59753857061 | D16: 풀박스(ST) | E16: 200x200x100㎜ | F16: 개 | H16: 3 | J16: 3
C17: MM362692755 | D17: UTP 케이블 | E17: Cat.5E, 4P-0.5㎜ | F17: M | H17: 265 | J17: 265
C18: 61452167501 | D18: UTP 케이블 | E18: Cat.6, 4P-0.5㎜ | F18: M | H18: 144 | J18: 144
C19: MM613349092 | D19: UTP 케이블 | E19: Cat.6A, 4P-0.5㎜ | F19: M | H19: 28 | J19: 28
C20: 60150037108 | D20: 광케이블 | E20: SM 8C | F20: M | H20: 107 | J20: 107
C21: 58051750201 | D21: 모듈라짹 | E21: 매입용, Cat.6 1구 | F21: 개 | H21: 1 | J21: 1
C22: 58051750202 | D22: 모듈라짹 | E22: 매입용, Cat.6 2구 | F22: 개 | H22: 3 | J22: 3
C23: 56950621020 | D23: 광케이블 성단 | F23: 코아 | H23: 8 | J23: 8
C24: 56950621050 | D24: 성단 | E24: 4P | F24: 개 | H24: 8 | J24: 8
C25: MM046107341 | D25: IDF-급식실 | E25: FDF 8C,DATA 8P,VOICE 8P | F25: SET | H25: 1 | J25: 1
D39: 1.통신공사::1-2.CATV설비공사
A40: 번호 | B40: 공종코드 | C40: 코드 | D40: 명칭 | E40: 규격 | F40: 단위 | G40: 지 급
H41: 계 | I41: 할증(%) | J41: 소 계
C43: 59753097002 | D43: 합성수지제 가요전선관(CD난연) | E43: 16㎜ | F43: M | H43: 3 | J43: 3
C44: 59753017023 | D44: 1종금속제가요전선관 | E44: 16㎜ 비방수 | F44: M | H44: 41 | J44: 41
C45: 59753017063 | D45: 1종금속제가요전선관 박스커넥터 | E45: 16㎜ 비방수 | F45: 개 | H45: 2 | J45: 2
C46: 59753767041 | D46: 아우트렛박스 | E46: 중형4각 54㎜ | F46: 개 | H46: 1 | J46: 1
C47: 59753777102 | D47: 스위치박스 | E47: 1개용 54mm | F47: 개 | H47: 1 | J47: 1
C48: 59753767251 | D48: 아우트렛박스 커버 | E48: 커버, 4각, 둥근구멍(평) | F48: 개 | H48: 1 | J48: 1
C49: 59753857001 | D49: 풀박스(ST) | E49: 100x100x50㎜ | F49: 개 | H49: 1 | J49: 1
C50: 59350187011 | D50: 모울드(AL) | E50: 소 | F50: M | H50: 3 | J50: 3
C51: 61454127541 | D51: 고발포동축케이블 | E51: 5C-HFBT | F51: M | H51: 47 | J51: 47
C52: 58200297102 | D52: TV UNIT | E52: 쌍방향, 단말 | F52: 개 | H52: 1 | J52: 1
C53: 56950012321 | D53: 콘넥터설치 | E53: 5C | F53: 개소 | H53: 2 | J53: 2
D75: 1.통신공사::1-3.방송설비공사
A76: 번호 | B76: 공종코드 | C76: 코드 | D76: 명칭 | E76: 규격 | F76: 단위 | G76: 지 급
H77: 계 | I77: 할증(%) | J77: 소 계
C79: 59753097002 | D79: 합성수지제 가요전선관(CD난연) | E79: 16㎜ | F79: M | H79: 4 | J79: 4
C80: 59753017023 | D80: 1종금속제가요전선관 | E80: 16㎜ 비방수 | F80: M | H80: 65 | J80: 65
C81: 59753017063 | D81: 1종금속제가요전선관 박스커넥터 | E81: 16㎜ 비방수 | F81: 개 | H81: 30 | J81: 30
C82: 59753767011 | D82: 아우트렛박스 | E82: 8각 54㎜ | F82: 개 | H82: 6 | J82: 6
C83: 59753767041 | D83: 아우트렛박스 | E83: 중형4각 54㎜ | F83: 개 | H83: 3 | J83: 3
C84: 59753777102 | D84: 스위치박스 | E84: 1개용 54mm | F84: 개 | H84: 3 | J84: 3
C85: MM300040261 | D85: 연결박스 | E85: 8각 54㎜ | F85: 개 | H85: 3 | J85: 3
C86: 59753767221 | D86: 아우트렛박스 커버 | E86: 커버, 8각, 둥근구멍(평) | F86: 개 | H86: 6 | J86: 6
C87: 59753767251 | D87: 아우트렛박스 커버 | E87: 커버, 4각, 둥근구멍(평) | F87: 개 | H87: 3 | J87: 3
C88: MM481669623 | D88: 저독성난연폴리올레핀전선(HFIX) | E88: 450/750V, 1.5㎟(1.38mm) | F88: M | H88: 140 | J88: 140
C89: 59650397012 | D89: 스 피 커 | E89: 원형, 천정용(3W) | F89: 개 | H89: 6 | J89: 6
C90: 59650397031 | D90: 스 피 커 | E90: 벽부형(10W) | F90: 개 | H90: 2 | J90: 2
C91: 56935112920 | D91: 스피커 이설 | E91: 벽부형 30W 이하 | F91: 개소 | H91: 1 | J91: 1
D111: 1.통신공사::1-4.철거공사
A112: 번호 | B112: 공종코드 | C112: 코드 | D112: 명칭 | E112: 규격 | F112: 단위 | G112: 지 급
H113: 계 | I113: 할증(%) | J113: 소 계
C115: 56935106790 | D115: UTP 케이블 철거 | E115: 4P | F115: M | H115: 2 | J115: 2
C116: 56935110960 | D116: 모듈러짹 철거 | E116: 8PIN, 1구 | F116: EA | H116: 2 | J116: 2
C117: 56935110970 | D117: 모듈러짹 철거 | E117: 8PIN, 2구 | F117: EA | H117: 2 | J117: 2
C118: 56935111140 | D118: 단자함 철거 | E118: 15P 이하 | F118: 면 | H118: 1 | J118: 1
C119: 56935112730 | D119: 풀박스 철거(통신) | E119: 100x100x100이하 | F119: 개소 | H119: 4 | J119: 4
C120: 56935120060 | D120: 스피커 철거 | E120: 천정형 5W 이하 | F120: 개소 | H120: 4 | J120: 4
C121: 56935112900 | D121: 스피커 철거 | E121: 벽부형 30W 이하 | F121: 개소 | H121: 3 | J121: 3
C122: MM045505743 | D122: HDMI케이블철거 | E122: HDMI케이블철거 | F122: M | H122: 10 | J122: 10
C123: MM045505761 | D123: 전선관 철거 | E123: FLEX 36C | F123: M | H123: 10 | J123: 10
C124: MM046374566 | D124: AV용벽부형스피커 철거 | F124: 개소 | H124: 2 | J124: 2
C125: MM046374568 | D125: AV용장비철거 | E125: AV용장비철거 | F125: 개소 | H125: 1 | J125: 1
C126: MM046374565 | D126: 빔 스크린 철거 | E126: 빔 스크린 철거 | F126: 개소 | H126: 1 | J126: 1
C127: MM046374567 | D127: 스크린스위치 철거 | E127: 스크린스위치철거 | F127: 개소 | H127: 1 | J127: 1
C128: MM046374564 | D128: 빔 프로젝터 철거 | E128: 빔 프로젝터 철거 | F128: 개소 | H128: 1 | J128: 1

Sheet 목록별산출서
B3: 공종명Line | D3: 1.통신공사::1-1.통합배선설비공사[H:3.2][L:1]
A4: 번호 | B4: 공종코드 | C4: 구분 | D4: 산 출 목 록 | E4: 산 출 수 식 | F4: 수식계 | G4: 코드 | H4: 명칭 | I4: 규격 | J4: 단위 | K4: 단위수식 | L4: 단위계 | M4: 계
A6: P0101 | D6: ▣ 장비
A7: P0101 | B7: IDF-급식실+FDF 8C,DATA 8P,VOICE 8P+SET | D7: IDF-급식실;FDF 8C,DATA 8P,VOICE 8P;SET | E7: 1 | F7: 1 | G7: MM046107341 | H7: IDF-급식실 | I7: FDF 8C,DATA 8P,VOICE 8P | J7: SET | K7: 1 | L7: 1 | M7: 1
A8: P0101
A9: P0101 | D9: ▣ 간선
A10: P0101 | D10: ☞ IDF RACK 전산실 => IDF 급식실
A11: P0101 | B11: 1종 가요 + 전선관 + 일반22c | C11: F8 | D11: FX 22C(F/O CABLE 1-8C-SM)↔ | E11: 57+40 | F11: 97 | G11: 59753017004 | H11: 1종금속제가요전선관 | I11: 22㎜ 비방수 | J11: M | K11: 1 | L11: 1 | M11: 97
A12: P0101 | B12: 칼브럭 + 천정쐐기 + 12Φ이하 | G12: 56950630067 | H12: 칼브럭(천정) | I12: 쐐기 12Φ이하 | J12: 개소 | K12: 0.5 | L12: 0.5 | M12: 48.5
A13: P0101 | B13: 광케이블 + SM + 8C | G13: 60150037108 | H13: 광케이블 | I13: SM 8C | J13: M | K13: 1 | L13: 1 | M13: 97
A14: P0101 | B14: 전선관 + (난연) + CD 16c | C14: F8 | D14: CD 22C(F/O CABLE 1-8C-SM)↕ | E14: 2.7+1.2 | F14: 3.9 | G14: 59753097002 | H14: 합성수지제 가요전선관(CD난연) | I14: 16㎜ | J14: M | K14: 1 | L14: 1 | M14: 3.9
A15: P0101 | B15: 광케이블 + SM + 8C | G15: 60150037108 | H15: 광케이블 | I15: SM 8C | J15: M | K15: 1 | L15: 1 | M15: 3.9
A16: P0101 | B16: 광케이블 + SM + 8C | C16: F8 | D16: >TRAY (F/O CABLE 1-8C-SM) | E16: ↑3.2 | F16: 3.2 | G16: 60150037108 | H16: 광케이블 | I16: SM 8C | J16: M | K16: 1 | L16: 1 | M16: 3.2
A17: P0101 | B17: 광케이블 + SM + 8C | C17: F8 | D17: ⓛ(F/O CABLE 1-8C-SM) | E17: 1+2 | F17: 3 | G17: 60150037108 | H17: 광케이블 | I17: SM 8C | J17: M | K17: 1 | L17: 1 | M17: 3
A18: P0101 | B18: 1종 가요 + 커넥터 + 일반22c | D18: 1종금속제가요 박스커넥터 22 mm 비방수 | E18: 1+1 | F18: 2 | G18: 59753017044 | H18: 1종금속제가요전선관 박스커넥터 | I18: 22㎜ 비방수 | J18: 개 | K18: 1 | L18: 1 | M18: 2
A19: P0101 | B19: 광케이블 + 시험 + 접속후 | D19: 광케이블 성단 | E19: 8 | F19: 8 | G19: 56950621020 | H19: 광케이블 성단 | J19: 코아 | K19: 1 | L19: 1 | M19: 8
A20: P0101 | B20: 광케이블 + 시험 + 최종 | D20: 광케이블 시험 | E20: 8 | F20: 8 | G20: 56950621030 | H20: 광케이블 시험 | J20: 코아 | K20: 1 | L20: 1 | M20: 8
A21: P0101 | B21: 풀박스 + ST + 100x100x50 | D21: 풀박스 100x100x50㎜ | E21: 2 | F21: 2 | G21: 59753857001 | H21: 풀박스(ST) | I21: 100x100x50㎜ | J21: 개 | K21: 1 | L21: 1 | M21: 2
A22: P0101
A23: P0101 | D23: ▣ 인터폰
A24: P0101 | D24: ☞ ELEV 제어반 => 기존인터폰
A25: P0101 | B25: 1종 가요 + 전선관 + 일반16c | C25: T1 | D25: FX 16C(UTP cat.5e 1-4P-0.5㎜) | E25: 7+5 | F25: 12 | G25: 59753017003 | H25: 1종금속제가요전선관 | I25: 16㎜ 비방수 | J25: M | K25: 1 | L25: 1 | M25: 12
A26: P0101 | B26: 칼브럭 + 천정쐐기 + 12Φ이하 | G26: 56950630067 | H26: 칼브럭(천정) | I26: 쐐기 12Φ이하 | J26: 개소 | K26: 0.5 | L26: 0.5 | M26: 6
A27: P0101 | B27: Cat5E + UTP 0.5 + 4P | G27: MM362692755 | H27: UTP 케이블 | I27: Cat.5E, 4P-0.5㎜ | J27: M | K27: 1 | L27: 1 | M27: 12
A28: P0101 | B28: 전선관 + (난연) + CD 16c | C28: T1 | D28: CD 16C(UTP cat.5e 1-4P-0.5㎜)수직 | E28: 2*2 | F28: 4 | G28: 59753097002 | H28: 합성수지제 가요전선관(CD난연) | I28: 16㎜ | J28: M | K28: 1 | L28: 1 | M28: 4
A29: P0101 | B29: Cat5E + UTP 0.5 + 4P | G29: MM362692755 | H29: UTP 케이블 | I29: Cat.5E, 4P-0.5㎜ | J29: M | K29: 1 | L29: 1 | M29: 4
A30: P0101 | B30: Cat5E + UTP 0.5 + 4P | C30: T1 | D30: ⓛ(UTP cat.5e 1-4P-0.5㎜) | E30: (0.2+0.2)*2 | F30: 0.8 | G30: MM362692755 | H30: UTP 케이블 | I30: Cat.5E, 4P-0.5㎜ | J30: M | K30: 1 | L30: 1 | M30: 0.8
A31: P0101 | B31: 1종 가요 + 커넥터 + 일반16c | D31: 1종금속제가요 박스커넥터 16 mm 비방수 | E31: 2*2 | F31: 4 | G31: 59753017043 | H31: 1종금속제가요전선관 박스커넥터 | I31: 16㎜ 비방수 | J31: 개 | K31: 1 | L31: 1 | M31: 4
A32: P0101
A33: P0101 | B33: 1종 가요 + 전선관 + 일반16c | C33: T2 | D33: FX 16C(UTP cat.5e 2-4P-0.5㎜) | E33: 19+45 | F33: 64 | G33: 59753017003 | H33: 1종금속제가요전선관 | I33: 16㎜ 비방수 | J33: M | K33: 1 | L33: 1 | M33: 64
A34: P0101 | B34: 칼브럭 + 천정쐐기 + 12Φ이하 | G34: 56950630067 | H34: 칼브럭(천정) | I34: 쐐기 12Φ이하 | J34: 개소 | K34: 0.5 | L34: 0.5 | M34: 32
A35: P0101 | B35: Cat5E + UTP 0.5 + 4P | G35: MM362692755 | H35: UTP 케이블 | I35: Cat.5E, 4P-0.5㎜ | J35: M | K35: 2 | L35: 2 | M35: 128
A36: P0101 | B36: 전선관 + (난연) + CD 16c | C36: T2 | D36: CD 16C(UTP cat.5e 2-4P-0.5㎜)수직 | E36: 3.2+1.7 | F36: 4.9 | G36: 59753097002 | H36: 합성수지제 가요전선관(CD난연) | I36: 16㎜ | J36: M | K36: 1 | L36: 1 | M36: 4.9
A37: P0101 | B37: Cat5E + UTP 0.5 + 4P | G37: MM362692755 | H37: UTP 케이블 | I37: Cat.5E, 4P-0.5㎜ | J37: M | K37: 2 | L37: 2 | M37: 9.8
A38: P0101 | B38: Cat5E + UTP 0.5 + 4P | C38: T2 | D38: >TRAY (UTP cat.5e 2-4P-0.5㎜) | E38: ↑3.2 | F38: 3.2 | G38: MM362692755 | H38: UTP 케이블 | I38: Cat.5E, 4P-0.5㎜ | J38: M | K38: 2 | L38: 2 | M38: 6.4
A39: P0101 | B39: Cat5E + UTP 0.5 + 4P | C39: T2 | D39: ⓛ(UTP cat.5e 2-4P-0.5㎜) | E39: (0.2+1) | F39: 1.2 | G39: MM362692755 | H39: UTP 케이블 | I39: Cat.5E, 4P-0.5㎜ | J39: M | K39: 2 | L39: 2 | M39: 2.4
A40: P0101 | B40: 1종 가요 + 커넥터 + 일반16c | D40: 1종금속제가요 박스커넥터 16 mm 비방수 | E40: 2+2 | F40: 4 | G40: 59753017043 | H40: 1종금속제가요전선관 박스커넥터 | I40: 16㎜ 비방수 | J40: 개 | K40: 1 | L40: 1 | M40: 4
A41: P0101 | B41: 풀박스 + ST + 100x100x50 | D41: 풀박스 100x100x50㎜ | E41: 3 | F41: 3 | G41: 59753857001 | H41: 풀박스(ST) | I41: 100x100x50㎜ | J41: 개 | K41: 1 | L41: 1 | M41: 3
A42: P0101
A43: P0101 | D43: ☞ 전산실 IDF RACK => ELEV 제어반
A44: P0101 | B44: 1종 가요 + 전선관 + 일반16c | C44: D1 | D44: FX 16C(UTP cat.5e 1-4P-0.5㎜) | E44: 54+40 | F44: 94 | G44: 59753017003 | H44: 1종금속제가요전선관 | I44: 16㎜ 비방수 | J44: M | K44: 1 | L44: 1 | M44: 94
A45: P0101 | B45: 칼브럭 + 천정쐐기 + 12Φ이하 | C45: 뒷 장으로 연결▶ | G45: 56950630067 | H45: 칼브럭(천정) | I45: 쐐기 12Φ이하 | J45: 개소 | K45: 0.5 | L45: 0.5 | M45: 47
B48: 공종명Line | C48: 1 | D48: 1.통신공사::1-1.통합배선설비공사[H:3.2][L:1]
A49: 번호 | B49: 공종코드 | C49: 구분 | D49: 산 출 목 록 | E49: 산 출 수 식 | F49: 수식계 | G49: 코드 | H49: 명칭 | I49: 규격 | J49: 단위 | K49: 단위수식 | L49: 단위계 | M49: 계
A51: P0101 | B51: Cat5E + UTP 0.5 + 4P | C51: ◀앞 장에서 연결 | G51: MM362692755 | H51: UTP 케이블 | I51: Cat.5E, 4P-0.5㎜ | J51: M | K51: 1 | L51: 1 | M51: 94
A52: P0101 | B52: 전선관 + (난연) + CD 16c | C52: D1 | D52: CD 16C(UTP cat.5e 1-4P-0.5㎜)수직 | E52: 1.2 | F52: 1.2 | G52: 59753097002 | H52: 합성수지제 가요전선관(CD난연) | I52: 16㎜ | J52: M | K52: 1 | L52: 1 | M52: 1.2
A53: P0101 | B53: Cat5E + UTP 0.5 + 4P | G53: MM362692755 | H53: UTP 케이블 | I53: Cat.5E, 4P-0.5㎜ | J53: M | K53: 1 | L53: 1 | M53: 1.2
A54: P0101 | B54: Cat5E + UTP 0.5 + 4P | C54: D1 | D54: >TRAY (UTP cat.5e 1-4P-0.5㎜) | E54: ↑3.2 | F54: 3.2 | G54: MM362692755 | H54: UTP 케이블 | I54: Cat.5E, 4P-0.5㎜ | J54: M | K54: 1 | L54: 1 | M54: 3.2
A55: P0101 | B55: Cat5E + UTP 0.5 + 4P | C55: D1 | D55: ⓛ(UTP cat.5e 1-4P-0.5㎜) | E55: (1+2) | F55: 3 | G55: MM362692755 | H55: UTP 케이블 | I55: Cat.5E, 4P-0.5㎜ | J55: M | K55: 1 | L55: 1 | M55: 3
A56: P0101 | B56: 1종 가요 + 커넥터 + 일반16c | D56: 1종금속제가요 박스커넥터 16 mm 비방수 | E56: 1+1 | F56: 2 | G56: 59753017043 | H56: 1종금속제가요전선관 박스커넥터 | I56: 16㎜ 비방수 | J56: 개 | K56: 1 | L56: 1 | M56: 2
A57: P0101 | B57: 풀박스 + ST + 100x100x50 | D57: 풀박스 100x100x50㎜ | E57: 2 | F57: 2 | G57: 59753857001 | H57: 풀박스(ST) | I57: 100x100x50㎜ | J57: 개 | K57: 1 | L57: 1 | M57: 2
A58: P0101 | D58: ▣ 급식실
A59: P0101 | D59: ☞ 모듈라잭 [1F]
A60: P0101 | B60: 1종 가요 + 전선관 + 방수16c | D60: FX 16C(UTP cat.6 1-4P-0.5㎜) | E60: 12 | F60: 12 | G60: 59753017023 | H60: 1종금속제가요전선관 | I60: 16㎜ 비방수 | J60: M | K60: 1 | L60: 1 | M60: 12
A61: P0101 | B61: 칼브럭 + 천정쐐기 + 12Φ이하 | G61: 56950630067 | H61: 칼브럭(천정) | I61: 쐐기 12Φ이하 | J61: 개소 | K61: 0.5 | L61: 0.5 | M61: 6
A62: P0101 | B62: Cat6 + UTP 0.5 + 4P | G62: 61452167501 | H62: UTP 케이블 | I62: Cat.6, 4P-0.5㎜ | J62: M | K62: 1 | L62: 1 | M62: 12
A63: P0101 | B63: 1종 가요 + 전선관 + 방수16c | D63: FX 16C(UTP cat.6 2-4P-0.5㎜) | E63: 12+8+14 | F63: 34 | G63: 59753017023 | H63: 1종금속제가요전선관 | I63: 16㎜ 비방수 | J63: M | K63: 1 | L63: 1 | M63: 34 | N63: 20
A64: P0101 | B64: 칼브럭 + 천정쐐기 + 12Φ이하 | G64: 56950630067 | H64: 칼브럭(천정) | I64: 쐐기 12Φ이하 | J64: 개소 | K64: 0.5 | L64: 0.5 | M64: 17 | N64: 10
A65: P0101 | B65: Cat6 + UTP 0.5 + 4P | G65: 61452167501 | H65: UTP 케이블 | I65: Cat.6, 4P-0.5㎜ | J65: M | K65: 2 | L65: 2 | M65: 68 | N65: 40
A66: P0101 | B66: 아우트렛 + 박스중형 + 4각54㎜ | D66: TEL UNIT -1 말단(H:500)-CD,UTP,BOX | E66: 1 | F66: 1 | G66: 59753767041 | H66: 아우트렛박스 | I66: 중형4각 54㎜ | J66: 개 | K66: 1 | L66: 1 | M66: 1
A67: P0101 | B67: 박스커버 + 4 각 + 둥근평형 | G67: 59753767251 | H67: 아우트렛박스 커버 | I67: 커버, 4각, 둥근구멍(평) | J67: 개 | K67: 1 | L67: 1 | M67: 1
A68: P0101 | B68: 전선관 + (난연) + CD 16c | G68: 59753097002 | H68: 합성수지제 가요전선관(CD난연) | I68: 16㎜ | J68: M | K68: 3.2-0.5 | L68: 2.7 | M68: 2.7
A69: P0101 | B69: Cat6 + UTP 0.5 + 4P | G69: 61452167501 | H69: UTP 케이블 | I69: Cat.6, 4P-0.5㎜ | J69: M | K69: (3.2-0.5+0.1)*2 | L69: 5.6 | M69: 5.6
A70: P0101 | B70: 스위치 + 1구 박스 + 54mm | G70: 59753777102 | H70: 스위치박스 | I70: 1개용 54mm | J70: 개 | K70: 1 | L70: 1 | M70: 1
A71: P0101 | B71: 모듈러짹 + 매입Cat6 + 1구 | G71: 58051750201 | H71: 모듈라짹 | I71: 매입용, Cat.6 1구 | J71: 개 | K71: 1 | L71: 1 | M71: 1
A72: P0101 | B72: 성단 + cat3.5 + 4P | G72: 56950621050 | H72: 성단 | I72: 4P | J72: 개 | K72: 1 | L72: 1 | M72: 1
A73: P0101 | B73: 회선 + 시험 + cat3.5 | G73: 56950621070 | H73: 회선시험 | J73: port | K73: 1 | L73: 1 | M73: 1
A74: P0101 | B74: 아우트렛 + 박스중형 + 4각54㎜ | D74: TEL UNIT -2 말단(H:500)-CD,UTP,BOX | E74: 3 | F74: 3 | G74: 59753767041 | H74: 아우트렛박스 | I74: 중형4각 54㎜ | J74: 개 | K74: 1 | L74: 1 | M74: =L74*3 -> 3 | N74: 2
A75: P0101 | B75: 박스커버 + 4 각 + 둥근평형 | G75: 59753767251 | H75: 아우트렛박스 커버 | I75: 커버, 4각, 둥근구멍(평) | J75: 개 | K75: 1 | L75: 1 | M75: =L75*3 -> 3 | N75: 2
A76: P0101 | B76: 전선관 + (난연) + CD 16c | G76: 59753097002 | H76: 합성수지제 가요전선관(CD난연) | I76: 16㎜ | J76: M | K76: 3.2-0.5 | L76: 2.7 | M76: =L76*3 -> 8.1 | N76: 5.4
A77: P0101 | B77: Cat6 + UTP 0.5 + 4P | G77: 61452167501 | H77: UTP 케이블 | I77: Cat.6, 4P-0.5㎜ | J77: M | K77: (3.2-0.5+0.1)*2 | L77: 5.6 | M77: =L77*3 -> 16.8 | N77: 11.2
A78: P0101 | B78: 스위치 + 1구 박스 + 54mm | G78: 59753777102 | H78: 스위치박스 | I78: 1개용 54mm | J78: 개 | K78: 1 | L78: 1 | M78: =L78*3 -> 3 | N78: 2
A79: P0101 | B79: 모듈러짹 + 매입Cat6 + 2구 | G79: 58051750202 | H79: 모듈라짹 | I79: 매입용, Cat.6 2구 | J79: 개 | K79: 1 | L79: 1 | M79: =L79*3 -> 3 | N79: 2
A80: P0101 | B80: 성단 + cat3.5 + 4P | G80: 56950621050 | H80: 성단 | I80: 4P | J80: 개 | K80: 2 | L80: 2 | M80: =L80*3 -> 6 | N80: 4
A81: P0101 | B81: 회선 + 시험 + cat3.5 | G81: 56950621070 | H81: 회선시험 | J81: port | K81: 2 | L81: 2 | M81: =L81*3 -> 6 | N81: 4
A82: P0101 | B82: 1종 가요 + 커넥터 + 방수16c | D82: 1종금속제가요박스커넥터,16mm | E82: 2*4 | F82: 8 | G82: 59753017063 | H82: 1종금속제가요전선관 박스커넥터 | I82: 16㎜ 비방수 | J82: 개 | K82: 1 | L82: 1 | M82: 6 | N82: 6
A83: P0101 | B83: 풀박스 + ST + 200x200x100 | D83: 풀박스 200x200x100㎜ | E83: 1 | F83: 1 | G83: 59753857061 | H83: 풀박스(ST) | I83: 200x200x100㎜ | J83: 개 | K83: 1 | L83: 1 | M83: 1
A84: P0101
A85: P0101 | D85: ☞ 모듈라잭 [2F]
A86: P0101 | B86: 1종 가요 + 전선관 + 방수16c | D86: FX 16C(UTP cat.6 1-4P-0.5㎜) | E86: 1.5 | F86: 1.5 | G86: 59753017023 | H86: 1종금속제가요전선관 | I86: 16㎜ 비방수 | J86: M | K86: 1 | L86: 1 | M86: 1.5
A87: P0101 | B87: 칼브럭 + 천정쐐기 + 12Φ이하 | G87: 56950630067 | H87: 칼브럭(천정) | I87: 쐐기 12Φ이하 | J87: 개소 | K87: 0.5 | L87: 0.5 | M87: 0.75
A88: P0101 | B88: Cat6 + UTP 0.5 + 4P | G88: 61452167501 | H88: UTP 케이블 | I88: Cat.6, 4P-0.5㎜ | J88: M | K88: 1 | L88: 1 | M88: 1.5
A89: P0101 | B89: 1종 가요 + 전선관 + 방수16c | D89: FX 16C(UTP cat.6 2-4P-0.5㎜) | E89: 1.5*2+11 | F89: 14 | G89: 59753017023 | H89: 1종금속제가요전선관 | I89: 16㎜ 비방수 | J89: M | K89: 1 | L89: 1 | M89: 14
A90: P0101 | B90: 칼브럭 + 천정쐐기 + 12Φ이하 | C90: 뒷 장으로 연결▶ | G90: 56950630067 | H90: 칼브럭(천정) | I90: 쐐기 12Φ이하 | J90: 개소 | K90: 0.5 | L90: 0.5 | M90: 7
B93: 공종명Line | C93: 1 | D93: 1.통신공사::1-1.통합배선설비공사[H:3.2][L:1]
A94: 번호 | B94: 공종코드 | C94: 구분 | D94: 산 출 목 록 | E94: 산 출 수 식 | F94: 수식계 | G94: 코드 | H94: 명칭 | I94: 규격 | J94: 단위 | K94: 단위수식 | L94: 단위계 | M94: 계
A96: P0101 | B96: Cat6 + UTP 0.5 + 4P | C96: ◀앞 장에서 연결 | G96: 61452167501 | H96: UTP 케이블 | I96: Cat.6, 4P-0.5㎜ | J96: M | K96: 2 | L96: 2 | M96: 28
A97: P0101 | B97: 전선관 + (난연) + CD 16c | D97: CD 16C(UTP cat.6 1-4P-0.5㎜)수직 | E97: 3.2 | F97: 3.2 | G97: 59753097002 | H97: 합성수지제 가요전선관(CD난연) | I97: 16㎜ | J97: M | K97: 1 | L97: 1 | M97: 3.2
A98: P0101 | B98: Cat6 + UTP 0.5 + 4P | G98: 61452167501 | H98: UTP 케이블 | I98: Cat.6, 4P-0.5㎜ | J98: M | K98: 1 | L98: 1 | M98: 3.2
A99: P0101 | B99: 전선관 + (난연) + CD 16c | D99: CD 16C(UTP cat.6 2-4P-0.5㎜)수직 | E99: 3.2*2 | F99: 6.4 | G99: 59753097002 | H99: 합성수지제 가요전선관(CD난연) | I99: 16㎜ | J99: M | K99: 1 | L99: 1 | M99: 6.4
A100: P0101 | B100: Cat6 + UTP 0.5 + 4P | G100: 61452167501 | H100: UTP 케이블 | I100: Cat.6, 4P-0.5㎜ | J100: M | K100: 2 | L100: 2 | M100: 12.8
A101: P0101 | B101: 전선관 + (난연) + CD 16c | D101: ------1-----> 단자함 귀로(CD,UTP)↓ | E101: 1 | F101: 1 | G101: 59753097002 | H101: 합성수지제 가요전선관(CD난연) | I101: 16㎜ | J101: M | K101: 3.2-0.4 | L101: 2.8 | M101: 2.8
A102: P0101 | B102: Cat6 + UTP 0.5 + 4P | G102: 61452167501 | H102: UTP 케이블 | I102: Cat.6, 4P-0.5㎜ | J102: M | K102: (3.2-0.4+0.6)*1 | L102: 3.4 | M102: 3.4
A103: P0101 | B103: 전선관 + (난연) + CD 16c | D103: ------2-----> 단자함 귀로(CD,UTP)↓ | E103: 2+1 | F103: 3 | G103: 59753097002 | H103: 합성수지제 가요전선관(CD난연) | I103: 16㎜ | J103: M | K103: 3.2-0.4 | L103: 2.8 | M103: 8.4
A104: P0101 | B104: Cat6 + UTP 0.5 + 4P | G104: 61452167501 | H104: UTP 케이블 | I104: Cat.6, 4P-0.5㎜ | J104: M | K104: (3.2-0.4+0.6)*2 | L104: 6.8 | M104: 20.4
A105: P0101 | B105: 아우트렛 + 박스중형 + 4각54㎜ | D105: TEL UNIT -2 말단(H:500)-CD,UTP,BOX | E105: 1 | F105: 1 | G105: 59753767041 | H105: 아우트렛박스 | I105: 중형4각 54㎜ | J105: 개 | K105: 1 | L105: 1 | M105: 1
A106: P0101 | B106: 박스커버 + 4 각 + 둥근평형 | G106: 59753767251 | H106: 아우트렛박스 커버 | I106: 커버, 4각, 둥근구멍(평) | J106: 개 | K106: 1 | L106: 1 | M106: 1
A107: P0101 | B107: 전선관 + (난연) + CD 16c | G107: 59753097002 | H107: 합성수지제 가요전선관(CD난연) | I107: 16㎜ | J107: M | K107: 3.2-0.5 | L107: 2.7 | M107: 2.7
A108: P0101 | B108: Cat6 + UTP 0.5 + 4P | G108: 61452167501 | H108: UTP 케이블 | I108: Cat.6, 4P-0.5㎜ | J108: M | K108: (3.2-0.5+0.1)*2 | L108: 5.6 | M108: 5.6
A109: P0101 | B109: 스위치 + 1구 박스 + 54mm | G109: 59753777102 | H109: 스위치박스 | I109: 1개용 54mm | J109: 개 | K109: 1 | L109: 1 | M109: 1
...

Sheet 합산자재
B1: 55 | C1: [ 함현중 급식실 개선 및 증축 통신공사 설계용역 ] - 합산자재목록
A2: 번호 | B2: … | C2: 코드 | D2: 명 칭 | E2: 규 격 | F2: 단위 | G2: 수량 | H2: 재료비 | I2: 노무비 | J2: 경비 | K2: 지급비 | L2: 계 | M2: 비고
B4: 59753097002 | C4: 3913170610035664 | D4: 합성수지제 가요전선관 | E4: CD-난연성 16㎜ | F4: M | G4: 63.8 | H4: =ROUNDDOWN(#REF!*옵션!$D$11,0) -> #REF! | L4: =SUM(H4,I4,J4) -> #REF!
B5: 59753017003 | C5: 3913170620174410 | D5: 1종금속제가요전선관 | E5: 16㎜ 비방수 | F5: M | G5: 187 | H5: =ROUNDDOWN(#REF!*옵션!$D$11,0) -> #REF! | L5: =SUM(H5,I5,J5) -> #REF!
B6: 59753017004 | C6: 3913170620174411 | D6: 1종금속제가요전선관 | E6: 22㎜ 비방수 | F6: M | G6: 106.7 | H6: =ROUNDDOWN(#REF!*옵션!$D$11,0) -> #REF! | L6: =SUM(H6,I6,J6) -> #REF!
B7: 59753017023 | C7: 3913170620274422 | D7: 1종금속제가요전선관 | E7: 16㎜ 비닐피복방수 | F7: M | G7: 192.5 | H7: =ROUNDDOWN(#REF!*옵션!$D$11,0) -> #REF! | L7: =SUM(H7,I7,J7) -> #REF!
B8: 59753017043 | C8: 3913170620174434 | D8: 1종금속제가요전선관 박스커넥터 | E8: 16㎜ 비방수 | F8: 개 | G8: 10 | H8: =ROUNDDOWN(#REF!*옵션!$D$11,0) -> #REF! | L8: =SUM(H8,I8,J8) -> #REF!
B9: 59753017044 | C9: 3913170620174435 | D9: 1종금속제가요전선관 박스커넥터 | E9: 22㎜ 비방수 | F9: 개 | G9: 2 | H9: =ROUNDDOWN(#REF!*옵션!$D$11,0) -> #REF! | L9: =SUM(H9,I9,J9) -> #REF!
B10: 59753017063 | C10: 3913170620174446 | D10: 1종금속제가요전선관 박스커넥터 | E10: 16㎜ 비닐피복방수 | F10: 개 | G10: 50 | H10: =ROUNDDOWN(#REF!*옵션!$D$11,0) -> #REF! | L10: =SUM(H10,I10,J10) -> #REF!
B11: 59753767011 | C11: 3912130810035750 | D11: 아우트렛박스 | E11: 8각 54㎜ | F11: 개 | G11: 6 | H11: =ROUNDDOWN(#REF!*옵션!$D$11,0) -> #REF! | L11: =SUM(H11,I11,J11) -> #REF!
B12: 59753767041 | C12: 3912130810035753 | D12: 아우트렛박스 | E12: 중형4각 54㎜ | F12: 개 | G12: 9 | H12: =ROUNDDOWN(#REF!*옵션!$D$11,0) -> #REF! | L12: =SUM(H12,I12,J12) -> #REF!
B13: 59753777102 | C13: 3912130610035778 | D13: 스위치박스 | E13: 1개용 54mm | F13: 개 | G13: 8 | H13: =ROUNDDOWN(#REF!*옵션!$D$11,0) -> #REF! | L13: =SUM(H13,I13,J13) -> #REF!
B14: MM300040261 | C14: 3912130610036786 | D14: 연결박스 | E14: 4각 44㎜ | F14: 개 | G14: 3 | H14: =ROUNDDOWN(#REF!*옵션!$D$11,0) -> #REF! | L14: =SUM(H14,I14,J14) -> #REF!
B15: 59753767221 | C15: 3912130820174712 | D15: 아우트렛박스 커버 | E15: 커버, 8각, 둥근구멍(평) | F15: 개 | G15: 6 | H15: =ROUNDDOWN(#REF!*옵션!$D$11,0) -> #REF! | L15: =SUM(H15,I15,J15) -> #REF!
... B19: 59350187011 | C19: 3913171210033638 | D19: 모울드(AL) | E19: 소 | F19: M | G19: 3 | H19: =ROUNDDOWN(#REF!*옵션!$D$11,0) -> #REF! | L19: =SUM(H19,I19,J19) -> #REF!
B20: MM481669623 | C20: 2612162922076726 | D20: 저독성난연폴리올레핀전선(HFIX) | E20: 450/750V, 1.5㎟(1.38mm) | F20: M | G20: 154 | H20: =ROUNDDOWN(#REF!*옵션!$D$22,0) -> #REF! | L20: =SUM(H20,I20,J20) -> #REF!
B21: MM362692755 | C21: 2612160921650751 | D21: UTP 케이블 | E21: Cat.5E, 4P-0.5㎜ | F21: M | G21: 284.875 | H21: =ROUNDDOWN(#REF!*옵션!$D$21,0) -> #REF! | L21: =SUM(H21,I21,J21) -> #REF!
B22: 61452167501 | C22: 2612160620185645 | D22: UTP 케이블 | E22: Cat.6, 4P-0.5㎜ | F22: M | G22: 154.8 | H22: =ROUNDDOWN(#REF!*옵션!$D$21,0) -> #REF! | L22: =SUM(H22,I22,J22) -> #REF!
B23: MM613349092 | C23: 2612160921650801 | D23: UTP 케이블 | E23: Cat.6A, 4P-0.5㎜ | F23: M | G23: 30.1 | H23: =ROUNDDOWN(#REF!*옵션!$D$21,0) -> #REF! | L23: =SUM(H23,I23,J23) -> #REF!
B24: 60150037108 | C24: 2612163720178007 | D24: 광케이블 | E24: SM 8C | F24: M | G24: 115.025 | H24: =ROUNDDOWN(#REF!*옵션!$D$21,0) -> #REF! | L24: =SUM(H24,I24,J24) -> #REF!
B25: 61454127541 | C25: 2612160621650577 | D25: 고발포동축케이블 | E25: 5C-HFBT | F25: M | G25: 50.525 | H25: =ROUNDDOWN(#REF!*옵션!$D$21,0) -> #REF! | L25: =SUM(H25,I25,J25) -> #REF!
B26: 58051750201 | C26: 3912140620937656 | D26: 모듈라짹 | E26: 매입용, Cat.6 1구 | F26: 개 | G26: 1 | H26: =ROUNDDOWN(#REF!*옵션!$D$11,0) -> #REF! | L26: =SUM(H26,I26,J26) -> #REF!
B27: 58051750202 | C27: 3912140620937657 | D27: 모듈라짹 | E27: 매입용, Cat.6 2구 | F27: 개 | G27: 3 | H27: =ROUNDDOWN(#REF!*옵션!$D$11,0) -> #REF! | L27: =SUM(H27,I27,J27) -> #REF!
B28: 59650397012 | C28: 5216151220173734 | D28: 스 피 커 | E28: 원형, 천정용(3W) | F28: 개 | G28: 6 | H28: =ROUNDDOWN(#REF!*옵션!$D$11,0) -> #REF! | L28: =SUM(H28,I28,J28) -> #REF!
B29: 59650397031 | C29: 5216151220172712 | D29: 스 피 커 | E29: 벽부형(10W) | F29: 개 | G29: 2 | H29: =ROUNDDOWN(#REF!*옵션!$D$11,0) -> #REF! | L29: =SUM(H29,I29,J29) -> #REF!
B30: 58200297102 | C30: 3912140620937621 | D30: TV UNIT | E30: 쌍방향, 단말 | F30: 개 | G30: 1 | H30: =ROUNDDOWN(#REF!*옵션!$D$11,0) -> #REF! | L30: =SUM(H30,I30,J30) -> #REF!
B31: MM046107341 | C31: 391115ZZ701Z0001 | D31: IDF-급식실 | E31: FDF 8C,DATA 8P,VOICE 8P | F31: SET | G31: 1 | H31: =ROUNDDOWN(#REF!*옵션!$D$11,0) -> #REF! | L31: =SUM(H31,I31,J31) -> #REF!
B32: 56900017016 | C32: L001010101000075 | D32: 노 무 비 | E32: 내선전공 | F32: 인 | G32: 12.213 | I32: =ROUNDDOWN(#REF!,0) -> #REF! | L32: =SUM(H32,I32,J32) -> #REF!
B33: 56900017113 | C33: L001010101000086 | D33: 노 무 비 | E33: 통신내선공 | F33: 인 | G33: 27.7319 | I33: =ROUNDDOWN(#REF!,0) -> #REF! | L33: =SUM(H33,I33,J33) -> #REF!
B34: 56900017116 | C34: L001010101000089 | D34: 노 무 비 | E34: 통신케이블공 | F34: 인 | G34: 8.089 | I34: =ROUNDDOWN(#REF!,0) -> #REF! | L34: =SUM(H34,I34,J34) -> #REF!
B35: 56900017114 | C35: L001010101000087 | D35: 노 무 비 | E35: 통신설비공 | F35: 인 | G35: 4.3908 | I35: =ROUNDDOWN(#REF!,0) -> #REF! | L35: =SUM(H35,I35,J35) -> #REF!
B36: 56900017112 | C36: L001010501000112 | D36: 노 무 비 | E36: 통신관련산업기사 | F36: 인 | G36: 0.06 | I36: =ROUNDDOWN(#REF!,0) -> #REF! | L36: =SUM(H36,I36,J36) -> #REF!
B37: 56900017011 | C37: L001010201000092 | D37: 노 무 비 | E37: 광케이블설치사 | F37: 인 | G37: 1.8644 | I37: =ROUNDDOWN(#REF!,0) -> #REF! | L37: =SUM(H37,I37,J37) -> #REF!
B38: 56900017041 | C38: L001010101000002 | D38: 노 무 비 | E38: 보통인부 | F38: 인 | G38: 1.114 | I38: =ROUNDDOWN(#REF!,0) -> #REF! | L38: =SUM(H38,I38,J38) -> #REF!
B39: 56900017118 | C39: L001010101000003 | D39: 노 무 비 | E39: 특별인부 | F39: 인 | G39: 1.0522 | I39: =ROUNDDOWN(#REF!,0) -> #REF! | L39: =SUM(H39,I39,J39) -> #REF!
B40: 56900017124 | C40: L001010101000060 | D40: 노 무 비 | E40: 플랜트기계설치공 | F40: 인 | G40: 1.2 | I40: =ROUNDDOWN(#REF!,0) -> #REF! | L40: =SUM(H40,I40,J40) -> #REF!
B41: 56900017005 | C41: L001010101000023 | D41: 노 무 비 | E41: 건축목공 | F41: 인 | G41: 0.66 | I41: =ROUNDDOWN(#REF!,0) -> #REF! | L41: =SUM(H41,I41,J41) -> #REF!
B42: 56900017017 | C42: L001010101000030 | D42: 노 무 비 | E42: 내장공 | F42: 인 | G42: 1.2 | I42: =ROUNDDOWN(#REF!,0) -> #REF! | L42: =SUM(H42,I42,J42) -> #REF!

Sheet 옵션
B1: 재료비 | C1: 노무비 | D1: 경비 | F1: 계
A2: 총 급 액 | B2: =#REF! -> #REF! | C2: =#REF! -> #REF! | D2: =#REF! -> #REF! | F2: =SUM(B2,C2,D2) -> #REF!
A3: 관급 자재비 | F3: =SUM(B3,C3,D3) -> 0 | H3: 금액조정이 안되나요?
H6: 이지테크에서 변환할 때 2번 옵션을 지정하여 다시 해보세요
H9: 시트를 삭제할 때 에러가 뜨면 1번 옵션으로 하면 됩니다.
B10: 적용율(%) | C10: 끝자리 | D10: 적용율(%)/100 | E10: 일위대가소수
A11: 전체자재 적용율(%)(공종/일위대가) | B11: 100 | C11: 1 | D11: =$B$11/100 -> 1
A12: 전체노임 적용율(%)(공종) | B12: 100 | C12: 1 | D12: =$B$12/100 -> 1 | E12: 2 | H12: 2번 옵션으로 변환했을 때에는 결과값이 다를 수 있습니다.
A13: 전체노임 적용율(%)(일위대가) | B13: 100 | C13: 1 | D13: =$B$13/100 -> 1 | E13: 5
A20: *(그룹별 자재 단가 추가 할증)* | B20: 적용율(%) | D20: 적용율(%)/100
A21: Cable(CAB) 할증(%) | B21: =B11 -> 100 | D21: =$B$21/100 -> 1
A22: Wire (WIR) 할증(%) | B22: =B11 -> 100 | D22: =$B$22/100 -> 1
A23: Pipe (PIP) 할증(%) | B23: =B11 -> 100 | D23: =$B$23/100 -> 1
A24: 제 4그룹 할증(%) | B24: =B11 -> 100 | D24: =$B$24/100 -> 1
A25: 제 5그룹 할증(%) | B25: =B11 -> 100 | D25: =$B$25/100 -> 1
A30: *(그룹별 노임 추가 할증)* | B30: 적용율(%) | C30: 자동부속재(전기) | D30: 자동부속재(통신)
A31: 배관부속재(%) | B31: 15 | C31: 15 | D31: 20
A32: CD관부속재(%) | B32: 40 | C32: 40 | D32: 40
A33: 소모잡자재(%) | B33: 2 | H33: 본 파일은 이지테크에서 2번 옵션으로 만들었습니다.
A34: 방폭할증(%)
A35: 고소할증(%) | B35: 2
A36: 공구손료(%) | B36: 3
A40: *(공종별 노임 적용율(%))* | B40: 적용율(%) | C40: 소수자릿수
A41: 1-1.통합배선설비공사 | B41: 100 | C41: 3
A42: 1-2.CATV설비공사 | B42: 100 | C42: 3
A43: 1-3.방송설비공사 | B43: 100 | C43: 3
A44: 1-4.철거공사 | B44: 100 | C44: 3
