Workbook

Sheet 총괄
B2: 2026년 하반기 시험용 소모품 소요량 및 소요금액 산출내역서
B4: 구 분 | C4: 하 반 기 | E4: 비 고
C5: 품목수 | D5: 추정소요비용
B6: 시 약 | C6: ='1.시약'!J25 -> 21 | D6: ='1.시약'!L31 -> 24032000 | E6: [예산과목] ∙ 유지관리-연구원-환경시험 -유지관리(26년부터) ∙ 용수수질조사-연구원-환경시험 -수질조사(26년부터) ※ 견적금액은 천원 이하 절사
B7: 초 자 | C7: ='2.초자'!I10 -> 7 | D7: ='2.초자'!K14 -> 6124000
B8: 잡 품 | C8: ='3.잡품'!I29 -> 26 | D8: ='3.잡품'!K33 -> 19712000
B9: 합 계 (부가세 포함) | D9: =SUM(D6:D8) -> 49868000
B10: ※ 2026년 환경시험분석 시험용 소모품 수급계획 내역에 대하여 하반기 분석계획 및 물량조정, 단가상승 등으로 품목 및 구매량, 금액 일부 조정

Sheet 1.시약
A1: * 당해년도 제조된 시약 납품 * | C1: * MSDS(전품목) 필히 첨부 * | J1: * CERTIFICATE OF ANALYSIS 필히 첨부 [7번] *
B2: 품명 | C2: 등급 | D2: 메이커 | E2: 규격 | H2: 단위 | I2: 최종단위 | J2: 하반기 | K2: 추정비용 | M2: 비고
K3: 단가 | L3: 하반기금액
A4: 1 | B4: Aceton | C4: 특급 | D4: Junsei | G4: 1000 | H4: mL | I4: ea | J4: 40 | K4: 33000 | L4: =$K4*$J4 -> 1320000
A5: 2 | B5: Buffer Reference Standard pH4.01 | D5: Thermo Scientific | E5: Orion 910104 | G5: 475 | H5: mL | I5: ea | J5: 3 | K5: 50000 | L5: =$K5*$J5 -> 150000
A6: 3 | B6: Buffer Reference Standard pH7.00 | D6: Thermo Scientific | E6: Orion 910107 | G6: 475 | H6: mL | I6: ea | J6: 3 | K6: 56000 | L6: =$K6*$J6 -> 168000
A7: 4 | B7: Buffer Reference Standard pH10.0 | D7: Thermo Scientific | E7: Orion 910110 | G7: 475 | H7: mL | I7: ea | J7: 3 | K7: 50000 | L7: =$K7*$J7 -> 150000
A8: 5 | B8: 1413 ㎲/㎝ Conductivity/TDS Standard | C8: 011007 | D8: Thermo Scientific | E8: Orion 11007 | F8: 5ea/pk | G8: 60 | H8: mL | I8: pk | J8: 4 | K8: 330000 | L8: =$K8*$J8 -> 1320000
A9: 6 | B9: Nitric acid(65%) | C9: 1.00452.1000 | D9: Merck | F9: HNO3 | G9: 1000 | H9: mL | I9: ea | J9: 5 | K9: 94000 | L9: =$K9*$J9 -> 470000
A10: 7 | B10: 0.02 mol/L Potassium permanganate solution | C10: VA | D10: Junsei | G10: 1000 | H10: mL | I10: ea | J10: 10 | K10: 39000 | L10: =$K10*$J10 -> 390000
A11: 8 | B11: Potassium peroxodisulfate (Potassium persulfate) | C11: 특급 | D11: Wako | F11: K2S2O8 | G11: 100 | H11: g | I11: ea | J11: 6 | K11: 72000 | L11: =$K11*$J11 -> 432000
A12: 9 | B12: Silver Sulfate | C12: COD용 | D12: Wako | F12: AgSO4 | G12: 500 | H12: g | I12: ea | J12: 1 | K12: 6700000 | L12: =$K12*$J12 -> 6700000
A13: 10 | B13: 0.05 mol/L Sodium oxalate solution | C13: 특급 | D13: Junsei | F13: Na2C2O4 | G13: 1000 | H13: mL | I13: ea | J13: 10 | K13: 39000 | L13: =$K13*$J13 -> 390000
A14: 11 | B14: Sulfuric acid | C14: 특급 | D14: Junsei | E14: 7664-93-9 | F14: H2SO4 | G14: 1000 | H14: g | I14: ea | J14: 30 | K14: 22000 | L14: =$K14*$J14 -> 660000
A15: 12 | B15: 64% Sulfuric acid | C15: 특급 | D15: Wako | E15: 198-11565 | F15: 64% H2SO4 | G15: 500 | H15: mL | I15: ea | J15: 4 | K15: 39000 | L15: =$K15*$J15 -> 156000
A16: 13 | B16: Tin(Ⅱ) chloride solution(10% Stannous) | C16: 특급 | D16: kanto | E16: 36522-08 | F16: SnCl2·2H2O | G16: 500 | H16: mL | I16: ea | J16: 4 | K16: 39000 | L16: =$K16*$J16 -> 156000
A17: 14 | B17: water | C17: 270733-2.5L | D17: Sigma | G17: 2500 | H17: mL | I17: ea | J17: 5 | K17: 244000 | L17: =$K17*$J17 -> 1220000
A18: 15 | B18: 초자세척기용 세척제 (ELTRIT MD100, MDT D 100, 22LIQ-X) | C18: 에덴복지재단 | D18: 한국메덴트 | G18: 5000 | H18: mL | I18: ea | J18: 6 | K18: 222000 | L18: =$K18*$J18 -> 1332000
A19: 16 | B19: Microcystin-YR | D19: ENZO | E19: ALX-350-044-C100 | F19: 1×100 μg | G19: 100 μg | H19: μg | I19: ea | J19: 1 | K19: 1330000 | L19: =$K19*$J19 -> 1330000
A20: 17 | B20: Microcystin-LA | D20: ENZO | E20: ALX-350-096-C100 | F20: 1×100 μg | G20: 100 μg | H20: μg | I20: ea | J20: 1 | K20: 1000000 | L20: =$K20*$J20 -> 1000000
A21: 18 | B21: Microcystin-RR | D21: ENZO | E21: ALX-350-043-C100 | F21: 1×100 μg | G21: 100 μg | H21: μg | I21: ea | J21: 1 | K21: 390000 | L21: =$K21*$J21 -> 390000
A22: 19 | B22: Microcystin-LR | D22: ENZO | E22: ALX-350-012-C100 | F22: 1×100 μg | G22: 100 μg | H22: μg | I22: ea | J22: 1 | K22: 444000 | L22: =$K22*$J22 -> 444000
A23: 20 | B23: Microcystin-LF | D23: ENZO | E23: ALX-350-081-C100 | F23: 1×100 μg | G23: 100 μg | H23: μg | I23: ea | J23: 1 | K23: 1890000 | L23: =$K23*$J23 -> 1890000
A24: 21 | B24: Microcystin-LY | D24: ENZO | E24: ALX-350-148-C100 | F24: 1×100 μg | G24: 100 μg | H24: μg | I24: ea | J24: 1 | K24: 1780000 | L24: =$K24*$J24 -> 1780000
J25: =$A24-COUNTIF(J4:J24,"0") -> 21
B27: * 당해년도 제조된 시약 납품 *
B28: * MSDS(전품목) 필히 첨부 *
K29: 합계 | L29: =SUM(L4:L24) -> 21848000
K30: 부가세 | L30: =L29*10% -> 2184800
K31: 총합계 | L31: =ROUNDDOWN(L29+L30,-3) -> 24032000 | M31: (※천원단위 이하 절사)

Sheet 2.초자
A1: 번호 | B1: 품명 | C1: 등급 | D1: 메이커 | E1: 규격 | G1: 단위 | H1: 최종단위 | I1: 하반기 | J1: 추정비용 | L1: 비고
J2: 단가 | K2: 하반기금액
A3: 1 | B3: Mass Cylinder | C3: A | D3: DURAN | F3: 50 mL | G3: ea | H3: ea | I3: 2 | J3: 33000 | K3: =$J3*$I3 -> 66000
A4: 2 | B4: Mass Cylinder | C4: A | D4: DURAN | F4: 100 mL | G4: ea | H4: ea | I4: 2 | J4: 39000 | K4: =$J4*$I4 -> 78000
A5: 3 | B5: Volumetric flask | C5: A | D5: DURAN | F5: 1000 mL | G5: ea | H5: ea | I5: 2 | J5: 106000 | K5: =$J5*$I5 -> 212000
A6: 4 | B6: 둥근바닥 플라스크 | D6: 국산, PYREX | E6: 바닥 flat | F6: 300 mL, 24/40 joint | G6: ea | H6: ea | I6: 50 | J6: 22000 | K6: =$J6*$I6 -> 1100000
A7: 5 | B7: autopipette | D7: eppendorf | E7: 20 μL | G7: ea | H7: ea | I7: 1 | J7: 778000 | K7: =$J7*$I7 -> 778000
A8: 6 | B8: autopipette tip | D8: eppendorf | E8: 1 ~ 10 mL, Long | F8: 2 pk/box | G8: pk/box | H8: box | I8: 2 | J8: 222000 | K8: =$J8*$I8 -> 444000
A9: 7 | B9: Dispenser (정량분주기) | D9: BRAND | E9: 5 ~ 50 mL(잠금장치 있는것) | F9: 유기용매 | G9: ea | H9: ea | I9: 2 | J9: 1445000 | K9: =$J9*$I9 -> 2890000
I10: =$A9-COUNTIF(I3:I9,"0") -> 7
J12: 합계 | K12: =SUM(K3:K9) -> 5568000
J13: 부가세 | K13: =K12*10% -> 556800
J14: 총합계 | K14: =ROUNDDOWN(K12+K13,-3) -> 6124000 | L14: (※천원단위 이하 절사)

Sheet 3.잡품
A1: 번호 | B1: 품명 | C1: 메이커 | D1: 규격 | G1: 단위 | H1: 최종단위 | I1: 하반기 | J1: 추정비용 | L1: 비고
J2: 단가 | K2: 하반기금액
A3: 1 | B3: Parafilm (파라필름) | C3: Bemis | D3: PM-996 | G3: ea | H3: ea | I3: 5 | J3: 40000 | K3: =$J3*$I3 -> 200000
A4: 2 | B4: 실험복 (남) | C4: 금성가운 | D4: 사계절용, 남, 특대 | G4: ea | H4: ea | I4: 10 | J4: 44000 | K4: =$J4*$I4 -> 440000
A5: 3 | B5: 장갑류1 (라텍스) | C5: Microflex | D5: 라텍스, S | G5: ea | H5: ea | I5: 20 | J5: 39000 | K5: =$J5*$I5 -> 780000
A6: 4 | B6: 장갑류1 (라텍스) | C6: Microflex | D6: 라텍스, M | G6: ea | H6: ea | I6: 5 | J6: 39000 | K6: =$J6*$I6 -> 195000
A7: 5 | B7: 시험용 작업장갑(사계절용) | C7: 3M | D7: 슈퍼그립 200 | E7: L | G7: ea | H7: ea | I7: 10 | J7: 12000 | K7: =$J7*$I7 -> 120000
A8: 6 | B8: 시험용 작업장갑(겨울용) | C8: 3M | D8: 슈퍼그립 핫 | E8: M | G8: ea | H8: ea | I8: 10 | J8: 12000 | K8: =$J8*$I8 -> 120000
A9: 7 | B9: 시험용 작업장갑(겨울용) | C9: 3M | D9: 슈퍼그립 핫 | E9: L | G9: ea | H9: ea | I9: 10 | J9: 12000 | K9: =$J9*$I9 -> 120000
A10: 8 | B10: 여지 (5B) | C10: ADVANTEC | D10: 110mm | F10: 100장/pk | G10: 장/pk | H10: pk | I10: 30 | J10: 44000 | K10: =$J10*$I10 -> 1320000
A11: 9 | B11: 유리섬유 여지 (GF/C 110 mm) | C11: WHATMAN | D11: WM.1822110 | F11: 100장/PK | G11: 장/pk | H11: pk | I11: 2 | J11: 50000 | K11: =$J11*$I11 -> 100000
A12: 10 | B12: 흡습포-산업용 와이퍼 | C12: 토미타올스 | F12: 300매/box | G12: box | H12: box | I12: 3 | J12: 61000 | K12: =$J12*$I12 -> 183000
A13: 11 | B13: 시험용 드라이셀 타올 | C13: 유한킴벌리 | D13: 234*240 mm | E13: 47201 | F13: 16/box | G13: pk/box | H13: box | I13: 5 | J13: 56000 | K13: =$J13*$I13 -> 280000
A14: 12 | B14: ULTi RO Pack | C14: BALMANNTECH | E14: 초자세척기용 | G14: ea | H14: ea | I14: 1 | J14: 389000 | K14: =$J14*$I14 -> 389000
A15: 13 | B15: Micro filter | C15: 밀레 | D15: 10831930 | E15: 초자세척기용 | G15: ea | H15: ea | I15: 1 | J15: 667000 | K15: =$J15*$I15 -> 667000
A16: 14 | B16: resin | C16: 밀레 | D16: 3250808 | E16: 초자세척기용 | G16: ea | H16: ea | I16: 2 | J16: 722000 | K16: =$J16*$I16 -> 1444000
A17: 15 | B17: 유해가스정화장치 필터(고정형) | C17: 지티사이언 | D17: TOGA-S02DF | G17: ea | H17: ea | I17: 2 | J17: 1670000 | K17: =$J17*$I17 -> 3340000
A18: 16 | B18: 유해가스정화장치 필터(이동형, VOC용) | C18: 지티사이언 | D18: TOGA-M01DF | E18: VOC용 | G18: ea | H18: ea | I18: 1 | J18: 1444000 | K18: =$J18*$I18 -> 1444000
A19: 17 | B19: 유해가스정화장치 필터(이동형, 산가스용) | C19: 지티사이언 | D19: TOGA-M01DF | E19: 산가스용 | G19: ea | H19: ea | I19: 1 | J19: 1444000 | K19: =$J19*$I19 -> 1444000
A20: 18 | B20: 실험복 보관함 필터 | C20: ㈜크렌즈 | D20: 280/480(SF21C) | E20: 보관함 모델명:KNS480 | G20: ea | H20: ea | I20: 4 | J20: 222000 | K20: =$J20*$I20 -> 888000
A21: 19 | B21: PE광구샘플병 | C21: 조이랩 | D21: 원시료통, bt1521-100, 뚜껑포함 | E21: 100 mL | F21: 500ea/pk | G21: Pk | H21: Pk | I21: 5 | J21: 278000 | K21: =$J21*$I21 -> 1390000
A22: 20 | B22: 마대자루 | D22: 100*120 cm, 120 Kg | E22: PP,겨자색(황색) | F22: 25/Pk | G22: ea/Pk | H22: Pk | I22: 10 | J22: 28000 | K22: =$J22*$I22 -> 280000
A23: 21 | B23: snow plow shovel | C23: 공구생활 | D23: G-2 국산 A급 | G23: ea | H23: ea | I23: 10 | J23: 33000 | K23: =$J23*$I23 -> 330000
A24: 22 | B24: 시료 접수용 카트(접이식대차) | D24: 무소음/900*600*960mm/200kg | E24: K15944762 | G24: ea | H24: ea | I24: 2 | J24: 222000 | K24: =$J24*$I24 -> 444000
A25: 23 | B25: 실험 기록지 용지 (A4용지) | C25: Double A | D25: 210*297mm, 80g, 500매, white | F25: 5/box | G25: pk/box | H25: box | I25: 10 | J25: 22000 | K25: =$J25*$I25 -> 220000
A26: 24 | B26: 실험실용 건전지(AA) | C26: 에너자이저 | D26: AA | E26: 2개입*20팩 | F26: 40/box | G26: box | H26: box | I26: 1 | J26: 56000 | K26: =$J26*$I26 -> 56000
A27: 25 | B27: 실험실용 건전지(AAA) | C27: 에너자이저 | D27: AAA | E27: 2개입*20팩 | F27: 40/box | G27: box | H27: box | I27: 1 | J27: 56000 | K27: =$J27*$I27 -> 56000
A28: 26 | B28: Water bath | C28: 대한과학 | D28: WEB-6 | G28: ea | H28: ea | I28: 1 | J28: 1670000 | K28: =$J28*$I28 -> 1670000
I29: =$A28-COUNTIF(I3:I28,"0") -> 26
J31: 합계 | K31: =SUM(K3:K28) -> 17920000
J32: 부가세 | K32: =K31*10% -> 1792000
J33: 총합계 | K33: =ROUND(K31+K32,-3) -> 19712000
