Workbook
Name _: #REF!
Name _: #REF!
Name _?: #REF!
Name _?: #REF!
Name __: #REF!
Name __: #REF!
Name __?: #REF!
Name __?: #REF!
Name ___A1: #REF!
Name ___A1: #REF!
Name ___a10: #N/A
Name ___a11: #N/A
Name ___a12: #N/A
Name ___a13: #N/A
Name ___a14: #N/A
Name ___a15: #N/A
Name ___a16: #N/A
Name ___a17: #N/A
Name ___a2: #N/A
Name ___a3: #N/A
Name ___a4: #N/A
Name ___a5: #N/A
Name ___a6: #N/A
Name ___a7: #N/A
Name ___a8: #N/A
Name ___a9: #N/A
Name ___COM1: #N/A
Name ___D1: #REF!
Name ___D1: #REF!
Name ___DOG1: #REF!
Name ___DOG1: #REF!
Name ___DOG2: #REF!
Name ___DOG2: #REF!
Name ___DOG22: #REF!
Name ___DOG22: #REF!
Name ___DOG3: #REF!
Name ___DOG3: #REF!
Name ___DOG33: #REF!
Name ___DOG33: #REF!
Name ___DOG4: #REF!
Name ___DOG4: #REF!
Name ___L1: #REF!
Name ___L1: #REF!
Name ___LP1: #REF!
Name ___LP1: #REF!
Name ___LP2: #REF!
Name ___LP2: #REF!
Name ___PI48: #REF!
Name ___PI48: #REF!
Name ___PI60: #REF!
Name ___PI60: #REF!
Name ___PRT1: #N/A
Name ___PRT2: #N/A
Name ___PRT3: #N/A
Name ___PRT4: #N/A
Name ___PRT5: #N/A
Name ___PRT6: #N/A
Name ___PRT7: #N/A
Name ___PRT8: #N/A
Name ___PRT9: #N/A

Sheet 원가
A1: 공 사 원 가 계 산 서
A3: 공사명 [ 산울림청소년센터 냉난방기 교체 공사 ] [ 기계설비공사 ]
D4: 금 액 | E4: 구 성 비 (%) | F4: 비 고
A5: 순 공 사 원 가 | B5: 재 료 비 | C5: 직 접 재 료 비 | D5: =공종별집계표!F6 -> 7550115
C6: 작 업 설 . 부 산 물 등
C7: [소 계] | D7: =INT(SUM(D5:D6)) -> 7550115
B8: 노 무 비 | C8: 직 접 노 무 비 | D8: =공종별집계표!H6 -> 18750221
C9: 간 접 노 무 비 | D9: =INT(SUM(D8)*17.5%) -> 3281288 | E9: 직접노무비의 17.5%
C10: [소 계] | D10: =SUM(D8:D9) -> 22031509
B11: 경 비 | C11: 기 계 경 비 | D11: =공종별집계표!J6 -> 1303648
C12: 산 재 보 험 료 | D12: =INT(SUM(D10)*3.56%) -> 784321 | E12: 노무비의 3.56%
C13: 고 용 보 험 료 | D13: =INT(SUM(D10)*1.01%) -> 222518 | E13: 노무비의 1.01%
C14: 건 강 보 험 료 | E14: 직접노무비의 3.595% | F14: 1개월미만공사
C15: 노 인 장 기 요 양 보 험 료 | E15: 건강보험료의 13.14% | F15: 1개월미만공사
C16: 연 금 보 험 료 | E16: 직접노무비의 4.75% | F16: 1개월미만공사
C17: 산 업 안 전 보 건 관 리 비 | D17: =(D7+D8)*3.11% -> 817940.45 | E17: (재료비+직노+관급)*3.11%
C18: 환 경 관 리 비 | D18: =INT(SUM(D5+D8+D11)*0.5%) -> 138019 | E18: (재료비+직노+기경)*0.5%
C19: 하 도 급 지 급 수 수 료 | E19: (재료비+직노+기경)*0.0%
C20: 건 설 기 계 지 급 수 수 료 | D20: =INT(SUM(D5+D8+D11)*0.1%) -> 27603 | E20: (재료비+직노+기경)*0.1%
C21: 기 타 경 비 | D21: =INT(SUM(D7+D10)*5%)-D22 -> 1400274 | E21: (재료비+노무비)*5.0%
C22: 수 도 광 열 비 | D22: =INT(SUM(D7+D10)*5%*0.289/5.424) -> 78807 | E22: (재료비+노무비)*5.0% | F22: 제외
C23: 석 면 분 담 금 | D23: =INT(SUM(D10)*0.006%) -> 1321 | E23: 노무비의 0.006%
C24: 임 금 채 권 부 담 금 | D24: =INT(SUM(D10)*0.09%) -> 19828 | E24: 노무비의 0.09%
C25: [소 계] | D25: =INT(SUM(D11:D24))-D22 -> 4715472
A26: 계 | D26: =SUM(D25,D10,D7) -> 34297096
A27: 일 반 관 리 비 | D27: =INT(SUM(D26)*8%) -> 2743767 | E27: 계의 8%
A28: 이 윤 | D28: =INT((SUM(D10+D25+D27))*15%) -> 4423612 | E28: (노무비+경비+일반관리비)*15%
A29: 장 비 비 | D29: =공종별집계표!L5 -> 58106727
A30: 공 급 가 액 | D30: =INT(SUM(D26:D29)) -> 99571202
A31: T. A. B 공 사
A32: 부 가 가 치 세 | D32: =INT((D30+D31)*10%) -> 9957120 | E32: (공급가액+T.A.B)의 10%
A33: 도 급 금 액 | D33: =INT(SUM(D30:D32)) -> 109528322
A34: 분 담 금 공 사
A35: 도 급 자 관 급 | D35: 0 | E35: 부가가치세,조달수수료포함
A36: 관 급 자 관 급 | D36: 0 | E36: 부가가치세,조달수수료포함
A37: 결 정 금 액 | D37: =INT(SUM(D33:D36)/1000)*1000 -> 109528000

Sheet 공종별집계표
A1: 공 종 별 집 계 표
A2: 산울림청소년센터 냉난방기 교체 공사
A3: 품 명 | B3: 규 격 | C3: 단위 | D3: 수량 | E3: 재 료 비 | G3: 노 무 비 | I3: 경 비 | K3: 합 계 | M3: 비 고 | N3: 공종코드 | O3: 변수 | P3: 상위공종 | Q3: 공종구분 | R3: 공종레벨 | S3: 공종소계 | T3: 원가계산서 연결금액
E4: 단 가 | F4: 금 액 | G4: 단 가 | H4: 금 액 | I4: 단 가 | J4: 금 액 | K4: 단 가 | L4: 금 액
A5: =공종별내역서!A4 -> 010101 장비비 | D5: 1 | E5: =공종별내역서!E19 -> 0 | F5: =공종별내역서!F19 -> 58106727 | H5: =G5*D5 -> 0 | J5: =I5*D5 -> 0 | L5: =F5+H5+J5 -> 58106727 | N5: 01 | R5: 1
A6: =공종별내역서!A20 -> 010102 설치비 | D6: 1 | E6: 0 | F6: =공종별내역서!F46 -> 7550115 | G6: 0 | H6: =공종별내역서!H47 -> 18750221 | J6: =공종별내역서!J47 -> 1303648 | L6: =공종별내역서!L46 -> 27603984 | N6: 0101 | P6: 01 | R6: 2
N7: 010101 | P7: 0101 | R7: 3
A26: [ 합 계 ] | F26: =SUM(F5:F7) -> 65656842 | H26: =SUM(H5:H7) -> 18750221 | J26: 0 | L26: =SUM(L5:L7) -> 85710711

Sheet 공종별내역서
A1: 산울림청소년센터 냉난방기 교체 공사
A2: 품 명 | B2: 규 격 | C2: 단위 | D2: 수량 | E2: 재 료 비 | G2: 노 무 비 | I2: 경 비 | K2: 합 계 | M2: 비 고 | N2: 품목코드 | O2: 변수 | P2: 설정 | Q2: 공종코드 | R2: 일위 | S2: 단산 | T2: 자재 | U2: 손료적용 | V2: 손료저장 | W2: 적용율 | X2: JUK1 | Y2: JUK2 | Z2: JUK3 | AA2: JUK4 | AB2: JUK5 | AC2: JUK6 | AD2: JUK7 | AE2: JUK8 | AF2: JUK9 | AG2: JUK10 | AH2: JUK11 | AI2: JUK12 | AJ2: JUK13 | AK2: JUK14 | AL2: JUK15 | AM2: JUK16 | AN2: JUK17 | AO2: JUK18 | AP2: JUK19 | AQ2: JUK20 | AR2: 자재구분 | AS2: 공종구분 | AT2: 공종레벨 | AU2: 공종+자재 | AV2: 고유번호
E3: 단 가 | F3: 금 액 | G3: 단 가 | H3: 금 액 | I3: 단 가 | J3: 금 액 | K3: 단 가 | L3: 금 액
A4: 010101 장비비 | Q4: 010101
A5: 1WAY 실내기 멀티 | B5: RNW0400C2S.AKM | C5: 대 | D5: 2 | E5: =단가대비표!M38 -> 572000 | F5: =E5*D5 -> 1144000 | K5: =TRUNC(E5+G5+I5, 0) -> 572000 | L5: =TRUNC(F5+H5+J5, 0) -> 1144000 | M5: 자재 34 | N5: 5BB286F76DF310007C8831677ED5CE | Q5: 010101 | R5: T | S5: F | T5: F | AU5: 0101015BB286F76DF310007C8831677ED5CE | AV5: 4550
A6: 4WAY 실내기 멀티 | B6: RNW0601A2S.AKM | C6: 대 | D6: 1 | E6: =단가대비표!M39 -> 832000 | F6: =E6*D6 -> 832000 | K6: =TRUNC(E6+G6+I6, 0) -> 832000 | L6: =TRUNC(F6+H6+J6, 0) -> 832000 | M6: 자재 35 | N6: 5BB286F76DF310007C8831677ED5CF | Q6: 010101 | R6: T | S6: F | T6: F | AU6: 0101015BB286F76DF310007C8831677ED5CF | AV6: 4551
A7: 4WAY 실내기 멀티 | B7: RNW0721A2S.AKM | C7: 대 | D7: 2 | E7: =단가대비표!M40 -> 875000 | F7: =E7*D7 -> 1750000 | H7: =TRUNC(G7*D7, 0) -> 0 | J7: =TRUNC(I7*D7, 0) -> 0 | K7: =TRUNC(E7+G7+I7, 0) -> 875000 | L7: =TRUNC(F7+H7+J7, 0) -> 1750000 | M7: 자재 36 | N7: 5BB286F76DF310007C8831677ED5CD | Q7: 010101 | R7: T | S7: F | T7: F | AU7: 0101015BB286F76DF310007C8831677ED5CD | AV7: 4549
A8: 4WAY 실내기 멀티 | B8: RNW0831A2S.AKM | C8: 대 | D8: 3 | E8: =단가대비표!M41 -> 886000 | F8: =E8*D8 -> 2658000 | H8: =TRUNC(G8*D8, 0) -> 0 | J8: =TRUNC(I8*D8, 0) -> 0 | K8: =TRUNC(E8+G8+I8, 0) -> 886000 | L8: =TRUNC(F8+H8+J8, 0) -> 2658000 | M8: 자재 37 | N8: 5BB286F76DF310007C8831677ED5CD | Q8: 010101 | R8: T | S8: F | T8: F | AU8: 0101015BB286F76DF310007C8831677ED5CD | AV8: 4549
A9: 4WAY 실내기 멀티 | B9: RNW1101A2S.AKM | C9: 대 | D9: 1 | E9: =단가대비표!M42 -> 940000 | F9: =E9*D9 -> 940000 | H9: =TRUNC(G9*D9, 0) -> 0 | J9: =TRUNC(I9*D9, 0) -> 0 | K9: =TRUNC(E9+G9+I9, 0) -> 940000 | L9: =TRUNC(F9+H9+J9, 0) -> 940000 | M9: 자재 38 | N9: 5BB286F76DF310007C8831677ED5CE | Q9: 010101 | R9: T | S9: F | T9: F | AU9: 0101015BB286F76DF310007C8831677ED5CE | AV9: 4550
A10: 8마력 실외기 냉난방전용 | B10: RPUW082X9T.AKM2 | C10: 대 | D10: 1 | E10: =단가대비표!M43 -> 9229000 | F10: =E10*D10 -> 9229000 | H10: =TRUNC(G10*D10, 0) -> 0 | J10: =TRUNC(I10*D10, 0) -> 0 | K10: =TRUNC(E10+G10+I10, 0) -> 9229000 | L10: =TRUNC(F10+H10+J10, 0) -> 9229000 | M10: 자재 39 | N10: 5BB286F76DF310007C8831677ED5CE | Q10: 010101 | R10: T | S10: F | T10: F | AU10: 0101015BB286F76DF310007C8831677ED5CE | AV10: 4550
A11: 10마력 실외기 냉난방전용 | B11: RPUW102X9T.AKM2 | C11: 대 | D11: 1 | E11: =단가대비표!M44 -> 9988000 | F11: =E11*D11 -> 9988000 | H11: =TRUNC(G11*D11, 0) -> 0 | K11: =TRUNC(E11+G11+I11, 0) -> 9988000 | L11: =TRUNC(F11+H11+J11, 0) -> 9988000 | M11: 자재 40 | N11: 5BB2C6073D039F0071D6CE30598B91 | Q11: 010101 | R11: T | S11: F | T11: F | AU11: 0101015BB2C6073D039F0071D6CE30598B91 | AV11: 4562
A12: 5마력 실외기 냉난방전용 | B12: RPUW051S9S.AKM | C12: 대 | D12: 1 | E12: =단가대비표!M45 -> 3399000 | F12: =E12*D12 -> 3399000 | H12: =TRUNC(G12*D12, 0) -> 0 | K12: =TRUNC(E12+G12+I12, 0) -> 3399000 | L12: =TRUNC(F12+H12+J12, 0) -> 3399000 | M12: 자재 41 | N12: 5BB2C6073D039F0071D6CE30598B91 | Q12: 010101 | R12: T | S12: F | T12: F | AU12: 0101015BB2C6073D039F0071D6CE30598B91 | AV12: 4562
A13: 5마력 실외기 냉난방전용 | B13: PW1450T9L.ASM | C13: 대 | D13: 2 | E13: =단가대비표!M46 -> 2478000 | F13: =E13*D13 -> 4956000 | H13: =TRUNC(G13*D13, 0) -> 0 | K13: =TRUNC(E13+G13+I13, 0) -> 2478000 | L13: =TRUNC(F13+H13+J13, 0) -> 4956000 | M13: 자재 42 | N13: 5BB2A6C11BD33B007E06D9C5D1E07C | Q13: 010101 | R13: T | S13: F | T13: F | AU13: 0101015BB2A6C11BD33B007E06D9C5D1E07C | AV13: 4563
A14: 10마력 스탠드 싱글형 냉난방 | B14: PW2900F9SF.AKM | C14: 대 | D14: 3 | E14: =단가대비표!M47 -> 6870909.1 | F14: =E14*D14 -> 20612727 | H14: =TRUNC(G14*D14, 0) -> 0 | I14: 0 | J14: =TRUNC(I14*D14, 0) -> 0 | K14: =TRUNC(E14+G14+I14, 0) -> 6870909 | L14: =TRUNC(F14+H14+J14, 0) -> 20612727 | M14: 자재 43 | N14: 5C28D63F633353007449C2DE5C678778D205D5 | Q14: 010101 | R14: F | S14: F | T14: T | AU14: 0101015C28D63F633353007449C2DE5C678778D205D5 | AV14: 4585
A15: 1WAY 실내기 판넬 소형 | B15: PFP-VU2SW.AKM | C15: 대 | D15: 2 | E15: =단가대비표!M48 -> 137000 | F15: =E15*D15 -> 274000 | H15: =TRUNC(G15*D15, 0) -> 0 | I15: 0 | J15: =TRUNC(I15*D15, 0) -> 0 | K15: =TRUNC(E15+G15+I15, 0) -> 137000 | L15: =TRUNC(F15+H15+J15, 0) -> 274000 | M15: 자재 44 | N15: 5C28D63F633353007449C2DE5C6FD85531C4B8 | Q15: 010101 | R15: F | S15: F | T15: T | AU15: 0101015C28D63F633353007449C2DE5C6FD85531C4B8 | AV15: 4586
A16: 4WAY 실내기 판넬 | B16: PFP-WA4CW.AKM | C16: 대 | D16: 6 | E16: =단가대비표!M49 -> 173000 | F16: =E16*D16 -> 1038000 | H16: =TRUNC(G16*D16, 0) -> 0 | I16: 0 | J16: =TRUNC(I16*D16, 0) -> 0 | K16: =TRUNC(E16+G16+I16, 0) -> 173000 | L16: =TRUNC(F16+H16+J16, 0) -> 1038000 | M16: 자재 45
A17: 유선 리모컨 | B17: PREMTB200.AKM | C17: 대 | D17: 9 | E17: =단가대비표!M50 -> 86000 | F17: =E17*D17 -> 774000 | H17: =TRUNC(G17*D17, 0) -> 0 | I17: 0 | J17: =TRUNC(I17*D17, 0) -> 0 | K17: =TRUNC(E17+G17+I17, 0) -> 86000 | L17: =TRUNC(F17+H17+J17, 0) -> 774000 | M17: 자재 46
A18: 중앙제어기 | B18: PCS-Z150S0.AKM | C18: 대 | D18: 2 | E18: =단가대비표!M51 -> 256000 | F18: =E18*D18 -> 512000 | H18: =TRUNC(G18*D18, 0) -> 0 | I18: 0 | J18: =TRUNC(I18*D18, 0) -> 0 | K18: =TRUNC(E18+G18+I18, 0) -> 256000 | L18: =TRUNC(F18+H18+J18, 0) -> 512000 | M18: 자재 47
A19: 합 계 금 액 | F19: =SUM(F5:F18) -> 58106727 | L19: =SUM(L5:L18) -> 58106727 | U19: =SUM(#REF!) -> #REF!
A20: 010102 설치비 | F20: =E20*D20 -> 0 | H20: =TRUNC(G20*D20, 0) -> 0 | I20: 0 | J20: =TRUNC(I20*D20, 0) -> 0 | K20: =TRUNC(E20+G20+I20, 0) -> 0 | L20: =TRUNC(F20+H20+J20, 0) -> 0
A21: =일위대가목록!B4 -> 실외기 설치 | B21: =일위대가목록!C4 -> 16kw이하 | C21: =일위대가목록!D4 -> 대 | D21: 8 | E21: =일위대가목록!E4 -> 8683 | F21: =E21*D21 -> 69464 | G21: =일위대가목록!F4 -> 434177 | H21: =G21*D21 -> 3473416 | K21: =I21+G21+E21 -> 442860 | L21: =J21+H21+F21 -> 3542880 | M21: 호표 1
A22: =일위대가목록!B5 -> 실내기 설치 | B22: =일위대가목록!C5 -> 16kw이하 | C22: =일위대가목록!D5 -> 대 | D22: 12 | E22: =일위대가목록!E5 -> 2915 | F22: =E22*D22 -> 34980 | G22: =일위대가목록!F5 -> 145784 | H22: =G22*D22 -> 1749408 | K22: =I22+G22+E22 -> 148699 | L22: =J22+H22+F22 -> 1784388 | M22: 호표 2
A23: 분지관 | C23: 대 | D23: 8 | E23: =단가대비표!M52 -> 98000 | F23: =E23*D23 -> 784000 | G23: 0 | H23: =G23*D23 -> 0 | K23: =I23+G23+E23 -> 98000 | L23: =J23+H23+F23 -> 784000 | M23: 자재 48
A24: 실외기 받침대 | C24: 대 | D24: 8 | E24: =단가대비표!M53 -> 138000 | F24: =E24*D24 -> 1104000 | G24: 0 | H24: =G24*D24 -> 0 | K24: =I24+G24+E24 -> 138000 | L24: =J24+H24+F24 -> 1104000 | M24: 자재 49
A25: 동관(L-TYPE) | B25: D15 | C25: m | D25: 88 | E25: =일위대가목록!E6 -> 6340 | F25: =E25*D25 -> 557920 | G25: =일위대가목록!F6 -> 8560 | H25: =G25*D25 -> 753280 | K25: =I25+G25+E25 -> 14900 | L25: =J25+H25+F25 -> 1311200 | M25: 호표 3
A26: 동관(L-TYPE) | B26: D20 | C26: m | D26: 123 | E26: =일위대가목록!E7 -> 8541 | F26: =E26*D26 -> 1050543 | G26: =일위대가목록!F7 -> 9876 | H26: =G26*D26 -> 1214748 | K26: =I26+G26+E26 -> 18417 | L26: =J26+H26+F26 -> 2265291 | M26: 호표 4
A27: 동관(L-TYPE) | B27: D25 | C27: m | D27: 115 | E27: =일위대가목록!E8 -> 10150 | F27: =E27*D27 -> 1167250 | G27: =일위대가목록!F8 -> 11817 | H27: =G27*D27 -> 1358955 | K27: =I27+G27+E27 -> 21967 | L27: =J27+H27+F27 -> 2526205 | M27: 호표 5
A28: 동관(L-TYPE) | B28: D32 | C28: m | D28: 70 | E28: =일위대가목록!E9 -> 11239 | F28: =E28*D28 -> 786730 | G28: =일위대가목록!F9 -> 14782 | H28: =G28*D28 -> 1034740 | K28: =I28+G28+E28 -> 26021 | L28: =J28+H28+F28 -> 1821470 | M28: 호표 6
A29: 관보온(고무발포) | B29: 19TxD15 | C29: m | D29: =D25 -> 88 | E29: =일위대가목록!E10 -> 1808 | F29: =E29*D29 -> 159104 | G29: =일위대가목록!F10 -> 7730 | H29: =G29*D29 -> 680240 | K29: =I29+G29+E29 -> 9538 | L29: =J29+H29+F29 -> 839344 | M29: 호표 7
A30: 관보온(고무발포) | B30: 19TxD20 | C30: m | D30: =D26 -> 123 | E30: =일위대가목록!E11 -> 2011 | F30: =E30*D30 -> 247353 | G30: =일위대가목록!F11 -> 8753 | H30: =G30*D30 -> 1076619 | K30: =I30+G30+E30 -> 10764 | L30: =J30+H30+F30 -> 1323972 | M30: 호표 8
A31: 관보온(고무발포) | B31: 19TxD25 | C31: m | D31: =D27 -> 115 | E31: =일위대가목록!E12 -> 2133 | F31: =E31*D31 -> 245295 | G31: =일위대가목록!F12 -> 8991 | H31: =G31*D31 -> 1033965 | K31: =I31+G31+E31 -> 11124 | L31: =J31+H31+F31 -> 1279260 | M31: 호표 9
A32: 관보온(고무발포) | B32: 19TxD32 | C32: m | D32: =D28 -> 70 | E32: =일위대가목록!E13 -> 2363 | F32: =E32*D32 -> 165410 | G32: =일위대가목록!F13 -> 10928 | H32: =G32*D32 -> 764960 | K32: =I32+G32+E32 -> 13291 | L32: =J32+H32+F32 -> 930370 | M32: 호표 10
A33: 경질염화비닐관(접착제) | B33: PVC관(VG1), D25 | C33: m | D33: 30 | E33: =일위대가목록!E14 -> 1715 | F33: =E33*D33 -> 51450 | G33: =일위대가목록!F14 -> 17121 | H33: =G33*D33 -> 513630 | K33: =I33+G33+E33 -> 18836 | L33: =J33+H33+F33 -> 565080 | M33: 호표 11
A34: 경질염화비닐관(접착제) | B34: PVC관(VG1), D32 | C34: m | D34: 130 | E34: =일위대가목록!E15 -> 2321 | F34: =E34*D34 -> 301730 | G34: =일위대가목록!F15 -> 17121 | H34: =G34*D34 -> 2225730 | K34: =I34+G34+E34 -> 19442 | L34: =J34+H34+F34 -> 2527460 | M34: 호표 12
A35: 관보온(아티론.슈퍼매직303) | B35: 25TxD25 | C35: m | D35: 30 | E35: =일위대가목록!E16 -> 2916 | F35: =E35*D35 -> 87480 | G35: =일위대가목록!F16 -> 6943 | H35: =G35*D35 -> 208290 | K35: =I35+G35+E35 -> 9859 | L35: =J35+H35+F35 -> 295770 | M35: 호표 13
A36: 관보온(아티론.슈퍼매직303) | B36: 25TxD32 | C36: m | D36: 80 | E36: =일위대가목록!E17 -> 3117 | F36: =E36*D36 -> 249360 | G36: =일위대가목록!F17 -> 8154 | H36: =G36*D36 -> 652320 | K36: =I36+G36+E36 -> 11271 | L36: =J36+H36+F36 -> 901680 | M36: 호표 14
A37: 동관용접(Brazing) | B37: D15 | C37: 개소 | D37: 8 | E37: =일위대가목록!E18 -> 448 | F37: =E37*D37 -> 3584 | G37: =일위대가목록!F18 -> 5955 | H37: =G37*D37 -> 47640 | K37: =I37+G37+E37 -> 6403 | L37: =J37+H37+F37 -> 51224 | M37: 호표 15
A38: 동관용접(Brazing) | B38: D20 | C38: 개소 | D38: 9 | E38: =일위대가목록!E19 -> 802 | F38: =E38*D38 -> 7218 | G38: =일위대가목록!F19 -> 8121 | H38: =G38*D38 -> 73089 | K38: =I38+G38+E38 -> 8923 | L38: =J38+H38+F38 -> 80307 | M38: 호표 16
A39: 동관용접(Brazing) | B39: D25 | C39: 개소 | D39: 5 | E39: =일위대가목록!E20 -> 1043 | F39: =E39*D39 -> 5215 | G39: =일위대가목록!F20 -> 10287 | H39: =G39*D39 -> 51435 | K39: =I39+G39+E39 -> 11330 | L39: =J39+H39+F39 -> 56650 | M39: 호표 17
A40: 동관용접(Brazing) | B40: D32 | C40: 개소 | D40: 6 | E40: =일위대가목록!E21 -> 1381 | F40: =E40*D40 -> 8286 | G40: =일위대가목록!F21 -> 12182 | H40: =G40*D40 -> 73092 | K40: =I40+G40+E40 -> 13563 | L40: =J40+H40+F40 -> 81378 | M40: 호표 18
A41: 통신선 | B41: CVV-SB 1.0㎟ x 2C | C41: M | D41: 130 | E41: =일위대가목록!E22 -> 2678 | F41: =E41*D41 -> 348140 | G41: =일위대가목록!F22 -> 4219 | H41: =G41*D41 -> 548470 | K41: =I41+G41+E41 -> 6897 | L41: =J41+H41+F41 -> 896610 | M41: 호표 19
A42: 개별제어선 | C42: M | D42: 130 | E42: =일위대가목록!E23 -> 800 | F42: =E42*D42 -> 104000 | G42: =일위대가목록!F23 -> 5726 | H42: =G42*D42 -> 744380 | K42: =I42+G42+E42 -> 6526 | L42: =J42+H42+F42 -> 848380 | M42: 호표 20
A43: 크레인 | C43: 회 | D43: 1 | E43: =일위대가목록!E24 -> 283 | F43: =E43*D43 -> 283 | H43: =G43*D43 -> 0 | I43: 1303648 | J43: =I43*D43 -> 1303648 | K43: =I43+G43+E43 -> 1303931 | L43: =J43+H43+F43 -> 1303931
A44: 노무비 | B44: 보통인부(PS실 천장 조적철거) | C44: 인 | D44: 2 | E44: =일위대가목록!E25 -> 0 | F44: =E44*D44 -> 0 | G44: =단가대비표!P54 -> 167081 | H44: =G44*D44 -> 334162 | J44: =I44*D44 -> 0 | K44: =I44+G44+E44 -> 167081 | L44: =J44+H44+F44 -> 334162
A45: 흡음천정텍스 철거후재설치 (600*300) | C45: m2 | D45: 40 | E45: 283 | F45: =E45*D45 -> 11320 | G45: =일위대가목록!F24 -> 3441.3 | H45: =G45*D45 -> 137652 | J45: =I45*D45 -> 0 | K45: =I45+G45+E45 -> 3724.3 | L45: =J45+H45+F45 -> 148972 | M45: 호표 21
A46: 합 계 금 액 | F46: =SUM(F20:F45) -> 7550115 | H46: =SUM(H20:H45) -> 18750221 | J46: =SUM(J43:J45) -> 1303648 | L46: =SUM(L20:L45) -> 27603984 | U46: =SUM(#REF!) -> #REF!
A47: 합 계 금 액 | F47: =SUM(F46,F19) -> 65656842 | H47: =SUM(H46) -> 18750221 | J47: =SUM(J46) -> 1303648 | L47: =SUM(L46,L19) -> 85710711 | U47: =SUM(#REF!) -> #REF!

Sheet 일위대가목록
A1: 일 위 대 가 목 록
A2: 산울림청소년센터 냉난방기 교체 공사
A3: 코 드 | B3: 품 명 | C3: 규 격 | D3: 단위 | E3: 재 료 비 | F3: 노 무 비 | G3: 경 비 | H3: 합 계 | I3: 번 호 | J3: 비 고 | K3: 노임계수 | L3: 할증 | M3: 품셈개요 | N3: 장비일위
A4: 5AC2A561AA9C7D2C6D0258C3B20DF1 | B4: 실외기 설치 | C4: 16kw이하 | D4: 대 | E4: =일위대가!F8 -> 8683 | F4: =일위대가!H8 -> 434177 | G4: =[1]일위대가!J6 -> 0 | H4: =E4+F4+G4 -> 442860 | I4: 호표 1 | J4: 기계설비 8-2-4
A5: 5AC2A561AA9C7D2C6D0258C3B26671 | B5: 실내기 설치 | C5: 16kw이하 | D5: 대 | E5: =일위대가!F14 -> 2915 | F5: =일위대가!H14 -> 145784 | G5: =[1]일위대가!J10 -> 0 | H5: =E5+F5+G5 -> 148699 | I5: 호표 2 | J5: 기계설비 8-2-4
A6: 5BB2C60D4043E60073CFBA09A661CC | B6: 동관(L-TYPE) | C6: D15 | D6: m | E6: =일위대가!F22 -> 6340 | F6: =일위대가!H22 -> 8560 | G6: =일위대가!J22 -> 0 | H6: =E6+F6+G6 -> 14900 | I6: 호표 3 | J6: 기계설비 1-2-2 | M6: 기계설비 1-2-2
A7: 5BB2C60D4043D5007A10B74C89254D | B7: 동관(L-TYPE) | C7: D20 | D7: m | E7: =일위대가!F30 -> 8541 | F7: =일위대가!H30 -> 9876 | G7: =일위대가!J30 -> 0 | H7: =E7+F7+G7 -> 18417 | I7: 호표 4 | J7: 기계설비 1-2-2 | M7: 기계설비 1-2-2
A8: 5BB2C60D4043CB00744DEF378B1347 | B8: 동관(L-TYPE) | C8: D25 | D8: m | E8: =일위대가!F38 -> 10150 | F8: =일위대가!H38 -> 11817 | G8: =일위대가!J38 -> 0 | H8: =E8+F8+G8 -> 21967 | I8: 호표 5 | J8: 기계설비 1-2-2 | M8: 기계설비 1-2-2
A9: 5BB2C60D4043BA007F09F434C818B0 | B9: 동관(L-TYPE) | C9: D32 | D9: m | E9: =일위대가!F46 -> 11239 | F9: =일위대가!H46 -> 14782 | G9: =일위대가!J46 -> 0 | H9: =E9+F9+G9 -> 26021 | I9: 호표 6 | J9: 기계설비 1-2-2 | M9: 기계설비 1-2-2
A10: 5BB2A6C11AC38E007427A395966AC9 | B10: 관보온(고무발포) | C10: 19TxD15 | D10: m | E10: =일위대가!F54 -> 1808 | F10: =일위대가!H54 -> 7730 | G10: =일위대가!J54 -> 0 | H10: =E10+F10+G10 -> 9538 | I10: 호표 7 | J10: 기계설비 3-1-1 | M10: 기계설비 3-1-1
A11: 5BB2A6C11AC3BA00787AE92EE7614D | B11: 관보온(고무발포) | C11: 19TxD20 | D11: m | E11: =일위대가!F62 -> 2011 | F11: =일위대가!H62 -> 8753 | G11: =일위대가!J62 -> 0 | H11: =E11+F11+G11 -> 10764 | I11: 호표 8 | J11: 기계설비 3-1-1 | M11: 기계설비 3-1-1
A12: 5BB2A6C11AC3A90072830B8891CEE6 | B12: 관보온(고무발포) | C12: 19TxD25 | D12: m | E12: =일위대가!F70 -> 2133 | F12: =일위대가!H70 -> 8991 | G12: =일위대가!J70 -> 0 | H12: =E12+F12+G12 -> 11124 | I12: 호표 9 | J12: 기계설비 3-1-1 | M12: 기계설비 3-1-1
A13: 5BB2A6C11AC3D60076610418A5DF64 | B13: 관보온(고무발포) | C13: 19TxD32 | D13: m | E13: =일위대가!F78 -> 2363 | F13: =일위대가!H78 -> 10928 | G13: =일위대가!J78 -> 0 | H13: =E13+F13+G13 -> 13291 | I13: 호표 10 | J13: 기계설비 3-1-1 | M13: 기계설비 3-1-1
A14: 5BB2C6073D038E007837E30473F3A4 | B14: 경질염화비닐관(접착제) | C14: PVC관(VG1), D25 | D14: m | E14: =일위대가!F86 -> 1715 | F14: =일위대가!H86 -> 17121 | G14: =일위대가!J86 -> 0 | H14: =E14+F14+G14 -> 18836 | I14: 호표 11 | J14: 기계설비 1-5-1 | M14: 기계설비 1-5-1
A15: 5BB2C6073D038E007837E30473F3A7 | B15: 경질염화비닐관(접착제) | C15: PVC관(VG1), D32 | D15: m | E15: =일위대가!F94 -> 2321 | F15: =일위대가!H94 -> 17121 | G15: =일위대가!J94 -> 0 | H15: =E15+F15+G15 -> 19442 | I15: 호표 12 | J15: 기계설비 1-5-1 | M15: 기계설비 1-5-1
A16: 5BB2A6C11BD33B007E06D9C5D1E07C | B16: 관보온(아티론.슈퍼매직303) | C16: 25TxD25 | D16: m | E16: =일위대가!F104 -> 2916 | F16: =일위대가!H104 -> 6943 | G16: =일위대가!J104 -> 0 | H16: =E16+F16+G16 -> 9859 | I16: 호표 13 | J16: 기계설비 3-1-1 | M16: 기계설비 3-1-1
A17: 5BB2A6C11BD344007786D3A8ACDC6F | B17: 관보온(아티론.슈퍼매직303) | C17: 25TxD32 | D17: m | E17: =일위대가!F114 -> 3117 | F17: =일위대가!H114 -> 8154 | G17: =일위대가!J114 -> 0 | H17: =E17+F17+G17 -> 11271 | I17: 호표 14 | J17: 기계설비 3-1-1 | M17: 기계설비 3-1-1
A18: 5BB2C61EFBC36E00780F5CA3D4530C | B18: 동관용접(Brazing) | C18: D15 | D18: 개소 | E18: =일위대가!F123 -> 448 | F18: =일위대가!H123 -> 5955 | G18: =일위대가!J123 -> 0 | H18: =E18+F18+G18 -> 6403 | I18: 호표 15 | J18: 기계설비 1-2-1 | M18: 기계설비 1-2-1
A19: 5BB2C61EFBC35C007160F029E3A502 | B19: 동관용접(Brazing) | C19: D20 | D19: 개소 | E19: =일위대가!F132 -> 802 | F19: =일위대가!H132 -> 8121 | G19: =일위대가!J132 -> 0 | H19: =E19+F19+G19 -> 8923 | I19: 호표 16 | J19: 기계설비 1-2-1 | M19: 기계설비 1-2-1
A20: 5BB2C61EFBC343007BFB9EC4FDB257 | B20: 동관용접(Brazing) | C20: D25 | D20: 개소 | E20: =일위대가!F141 -> 1043 | F20: =일위대가!H141 -> 10287 | G20: =일위대가!J141 -> 0 | H20: =E20+F20+G20 -> 11330 | I20: 호표 17 | J20: 기계설비 1-2-1 | M20: 기계설비 1-2-1
A21: 5BB2C61EFBC3310074EC49B9197588 | B21: 동관용접(Brazing) | C21: D32 | D21: 개소 | E21: =일위대가!F150 -> 1381 | F21: =일위대가!H150 -> 12182 | G21: =일위대가!J150 -> 0 | H21: =E21+F21+G21 -> 13563 | I21: 호표 18 | J21: 기계설비 1-2-1 | M21: 기계설비 1-2-1
A22: 5BB286F76493BD0071FA2579FE02E3 | B22: 통신선 | C22: CVV-SB 1.0㎟ x 2C | D22: M | E22: =일위대가!F156 -> 2678 | F22: =일위대가!H156 -> 4219 | G22: =일위대가!J156 -> 0 | H22: =E22+F22+G22 -> 6897 | I22: 호표 19 | J22: 전기 5-13 | M22: 전기 5-13
A23: 5BB286F76493BD0071FA2579FE02E5 | B23: 개별제어선 | C23: AWG22 0.5㎟ x 3C | D23: M | E23: =일위대가!F162 -> 800 | F23: =일위대가!H162 -> 5726 | G23: =일위대가!J162 -> 0 | H23: =E23+F23+G23 -> 6526 | I23: 호표 20 | J23: 전기 5-13 | M23: 전기 5-13
B24: 흡음천정텍스 철거후재설치 (600*300) | D24: M2 | E24: 283 | F24: 3441.3 | G24: =[2]일위대가!L91 -> 0 | H24: =E24+F24+G24 -> 3724.3 | I24: 호표 21

Sheet 일위대가
A1: 산울림청소년센터 냉난방기 교체 공사
A2: 품 명 | B2: 규 격 | C2: 단위 | D2: 수량 | E2: 재 료 비 | G2: 노 무 비 | I2: 경 비 | K2: 합 계 | M2: 비 고 | N2: 일위대가 | O2: 품목코드 | P2: 일위 | Q2: 단산 | R2: 자재 | S2: 손료적용 | T2: 손료저장 | U2: 적용율 | V2: JUK1 | W2: JUK2 | X2: JUK3 | Y2: JUK4 | Z2: JUK5 | AA2: JUK6 | AB2: JUK7 | AC2: JUK8 | AD2: JUK9 | AE2: JUK10 | AF2: JUK11 | AG2: JUK12 | AH2: JUK13 | AI2: JUK14 | AJ2: JUK15 | AK2: JUK16 | AL2: JUK17 | AM2: JUK18 | AN2: JUK19 | AO2: JUK20 | AP2: 할증적용 | AQ2: 할증저장 | AR2: 할증율 | AS2: HAL1 | AT2: HAL2 | AU2: HAL3 | AV2: 자재구분 | AW2: 일위대가+자재 | AX2: 장비일위 | AY2: 설정
E3: 단 가 | F3: 금 액 | G3: 단 가 | H3: 금 액 | I3: 단 가 | J3: 금 액 | K3: 단 가 | L3: 금 액
A4: 천정형 에어컨 설치 실외기 설치 ( 호표 1 ) 대 기계비 8-2-4 | N4: 5BB286F76DF310007C8831677ED5CD
A5: 기계설비공 | B5: 일반공사 직종 | C5: 인 | D5: 1.33 | E5: =단가대비표!O58 -> 0 | F5: =TRUNC(E5*D5,1) -> 0 | G5: =단가대비표!P58 -> 242281 | H5: =TRUNC(G5*D5,1) -> 322233.7 | I5: =단가대비표!V58 -> 0 | J5: =TRUNC(I5*D5,1) -> 0 | K5: =TRUNC(E5+G5+I5,1) -> 242281 | L5: =TRUNC(F5+H5+J5,1) -> 322233.7 | N5: 5BB286F76DF310007C8831677ED5CD | O5: 5BAB76E58F63A70071C77725317C333D96D707 | P5: F | Q5: F | R5: T | V5: 1 | AW5: 5BB286F76DF310007C8831677ED5CD5BAB76E58F63A70071C77725317C333D96D707
A6: 보통인부 | B6: 일반공사 직종 | C6: 인 | D6: 0.67 | E6: =단가대비표!O54 -> 0 | F6: =TRUNC(E6*D6,1) -> 0 | G6: =단가대비표!P54 -> 167081 | H6: =TRUNC(G6*D6,1) -> 111944.2 | I6: =단가대비표!V54 -> 0 | J6: =TRUNC(I6*D6,1) -> 0 | K6: =TRUNC(E6+G6+I6,1) -> 167081 | L6: =TRUNC(F6+H6+J6,1) -> 111944.2 | N6: 5BB286F76DF310007C8831677ED5CD | O6: 5BAB76E58F63A70071C77725317C333D96D287 | P6: F | Q6: F | R6: T | V6: 1 | AW6: 5BB286F76DF310007C8831677ED5CD5BAB76E58F63A70071C77725317C333D96D287
A7: 공구손료 | B7: 인력품의 2% | C7: 식 | D7: 1 | E7: =TRUNC(SUMIF(V5:V7, RIGHTB(O7, 1), H5:H7)*U7, 2) -> 8683.55 | F7: =TRUNC(E7*D7,1) -> 8683.5 | G7: 0 | H7: =TRUNC(G7*D7,1) -> 0 | I7: 0 | J7: =TRUNC(I7*D7,1) -> 0 | K7: =TRUNC(E7+G7+I7,1) -> 8683.5 | L7: =TRUNC(F7+H7+J7,1) -> 8683.5 | N7: 5BB286F76DF310007C8831677ED5CD | O7: 5A6D067F47C3BD0073F50EE3AE3C001 | P7: F | Q7: F | R7: F | S7: 1 | T7: 0 | U7: 0.02 | AW7: 5BB286F76DF310007C8831677ED5CD5A6D067F47C3BD0073F50EE3AE3C001
A8: [ 합 계 ] | F8: =TRUNC(SUMIF(N5:N7, N4, F5:F7),0) -> 8683 | H8: =TRUNC(SUMIF(N5:N7, N4, H5:H7),0) -> 434177 | J8: =TRUNC(SUMIF(N5:N7, N4, J5:J7),0) -> 0 | L8: =F8+H8+J8 -> 442860 | N8: TOTAL | O8: TOTAL
A10: 실내기 설치 대 기계설비 8-2-4 ( 호표 2 ) | N10: 5BB286F76DF310007C8831677ED5CF
A11: 기계설비공 | B11: 일반공사 직종 | C11: 인 | D11: 0.45 | E11: =단가대비표!O58 -> 0 | F11: =TRUNC(E11*D11,1) -> 0 | G11: =단가대비표!P58 -> 242281 | H11: =TRUNC(G11*D11,1) -> 109026.4 | I11: =단가대비표!V58 -> 0 | J11: =TRUNC(I11*D11,1) -> 0 | K11: =TRUNC(E11+G11+I11,1) -> 242281 | L11: =TRUNC(F11+H11+J11,1) -> 109026.4 | N11: 5BB286F76DF310007C8831677ED5CF | O11: 5BAB76E58F63A70071C77725317C333D96D707 | P11: F | Q11: F | R11: T | V11: 1 | AW11: 5BB286F76DF310007C8831677ED5CF5BAB76E58F63A70071C77725317C333D96D707
A12: 보통인부 | B12: 일반공사 직종 | C12: 인 | D12: 0.22 | E12: =단가대비표!O54 -> 0 | F12: =TRUNC(E12*D12,1) -> 0 | G12: =단가대비표!P54 -> 167081 | H12: =TRUNC(G12*D12,1) -> 36757.8 | I12: =단가대비표!V54 -> 0 | J12: =TRUNC(I12*D12,1) -> 0 | K12: =TRUNC(E12+G12+I12,1) -> 167081 | L12: =TRUNC(F12+H12+J12,1) -> 36757.8 | N12: 5BB286F76DF310007C8831677ED5CF | O12: 5BAB76E58F63A70071C77725317C333D96D287 | P12: F | Q12: F | R12: T | V12: 1 | AW12: 5BB286F76DF310007C8831677ED5CF5BAB76E58F63A70071C77725317C333D96D287
A13: 공구손료 | B13: 인력품의 2% | C13: 식 | D13: 1 | E13: =TRUNC(SUMIF(V11:V13, RIGHTB(O13, 1), H11:H13)*U13, 2) -> 2915.68 | F13: =TRUNC(E13*D13,1) -> 2915.6 | G13: 0 | H13: =TRUNC(G13*D13,1) -> 0 | I13: 0 | J13: =TRUNC(I13*D13,1) -> 0 | K13: =TRUNC(E13+G13+I13,1) -> 2915.6 | L13: =TRUNC(F13+H13+J13,1) -> 2915.6 | N13: 5BB286F76DF310007C8831677ED5CF | O13: 5A6D067F47C3BD0073F50EE3AE3C001 | P13: F | Q13: F | R13: F | S13: 1 | T13: 0 | U13: 0.02 | AW13: 5BB286F76DF310007C8831677ED5CF5A6D067F47C3BD0073F50EE3AE3C001
A14: [ 합 계 ] | F14: =TRUNC(SUMIF(N11:N13, N10, F11:F13),0) -> 2915 | H14: =TRUNC(SUMIF(N11:N13, N10, H11:H13),0) -> 145784 | J14: =TRUNC(SUMIF(N11:N13, N10, J11:J13),0) -> 0 | L14: =F14+H14+J14 -> 148699 | N14: TOTAL | O14: TOTAL
A16: 동관(L-TYPE) D15 m 기계설비 1-2-2 ( 호표 3 ) | N16: 5BB2C60D4043E60073CFBA09A661CC
A17: 이음매없는동및동합금관 | B17: 배관용동관, L형, Φ15mm | C17: m | D17: 1 | E17: =단가대비표!O27 -> 5990 | F17: =TRUNC(E17*D17,1) -> 5990 | G17: =단가대비표!P27 -> 0 | H17: =TRUNC(G17*D17,1) -> 0 | I17: =단가대비표!V27 -> 0 | J17: =TRUNC(I17*D17,1) -> 0 | K17: =TRUNC(E17+G17+I17,1) -> 5990 | L17: =TRUNC(F17+H17+J17,1) -> 5990 | N17: 5BB2C60D4043E60073CFBA09A661CC | O17: 5C28D63F63335300760F09119ABE5075AFA2DF | P17: F | Q17: F | R17: T | V17: 1 | AW17: 5BB2C60D4043E60073CFBA09A661CC5C28D63F63335300760F09119ABE5075AFA2DF
A18: 잡재료비 | B18: 관의 3% | C18: 식 | D18: 1 | E18: =TRUNC(SUMIF(V17:V21, RIGHTB(O18, 1), F17:F21)*U18, 2) -> 179.7 | F18: =TRUNC(E18*D18,1) -> 179.7 | G18: 0 | H18: =TRUNC(G18*D18,1) -> 0 | I18: 0 | J18: =TRUNC(I18*D18,1) -> 0 | K18: =TRUNC(E18+G18+I18,1) -> 179.7 | L18: =TRUNC(F18+H18+J18,1) -> 179.7 | N18: 5BB2C60D4043E60073CFBA09A661CC | O18: 5A6D067F47C3BD0073F50EE3AE3C001 | P18: F | Q18: F | R18: F | S18: 0 | T18: 0 | U18: 0.03 | AW18: 5BB2C60D4043E60073CFBA09A661CC5A6D067F47C3BD0073F50EE3AE3C001
A19: 배관공 | B19: 일반공사 직종 | C19: 인 | D19: 0.03 | E19: =단가대비표!O56 -> 0 | F19: =TRUNC(E19*D19,1) -> 0 | G19: =단가대비표!P56 -> 229664 | H19: =TRUNC(G19*D19,1) -> 6889.9 | I19: =단가대비표!V56 -> 0 | J19: =TRUNC(I19*D19,1) -> 0 | K19: =TRUNC(E19+G19+I19,1) -> 229664 | L19: =TRUNC(F19+H19+J19,1) -> 6889.9 | N19: 5BB2C60D4043E60073CFBA09A661CC | O19: 5BAB76E58F63A70071C77725317C333D96D1F7 | P19: F | Q19: F | R19: T | W19: 2 | AW19: 5BB2C60D4043E60073CFBA09A661CC5BAB76E58F63A70071C77725317C333D96D1F7
A20: 보통인부 | B20: 일반공사 직종 | C20: 인 | D20: 0.01 | E20: =단가대비표!O54 -> 0 | F20: =TRUNC(E20*D20,1) -> 0 | G20: =단가대비표!P54 -> 167081 | H20: =TRUNC(G20*D20,1) -> 1670.8 | I20: =단가대비표!V54 -> 0 | J20: =TRUNC(I20*D20,1) -> 0 | K20: =TRUNC(E20+G20+I20,1) -> 167081 | L20: =TRUNC(F20+H20+J20,1) -> 1670.8 | N20: 5BB2C60D4043E60073CFBA09A661CC | O20: 5BAB76E58F63A70071C77725317C333D96D287 | P20: F | Q20: F | R20: T | W20: 2 | AW20: 5BB2C60D4043E60073CFBA09A661CC5BAB76E58F63A70071C77725317C333D96D287
A21: 공구손료 | B21: 인력품의 2% | C21: 식 | D21: 1 | E21: =TRUNC(SUMIF(W17:W21, RIGHTB(O21, 1), H17:H21)*U21, 2) -> 171.21 | F21: =TRUNC(E21*D21,1) -> 171.2 | G21: 0 | H21: =TRUNC(G21*D21,1) -> 0 | I21: 0 | J21: =TRUNC(I21*D21,1) -> 0 | K21: =TRUNC(E21+G21+I21,1) -> 171.2 | L21: =TRUNC(F21+H21+J21,1) -> 171.2 | N21: 5BB2C60D4043E60073CFBA09A661CC | O21: 5A6D067F47C3BD0073F50EE3AE3F002 | P21: F | Q21: F | R21: F | S21: 1 | T21: 0 | U21: 0.02 | AW21: 5BB2C60D4043E60073CFBA09A661CC5A6D067F47C3BD0073F50EE3AE3F002
A22: [ 합 계 ] | F22: =TRUNC(SUMIF(N17:N21, N16, F17:F21),0) -> 6340 | H22: =TRUNC(SUMIF(N17:N21, N16, H17:H21),0) -> 8560 | J22: =TRUNC(SUMIF(N17:N21, N16, J17:J21),0) -> 0 | L22: =F22+H22+J22 -> 14900 | N22: TOTAL | O22: TOTAL
A24: 동관(L-TYPE) D20 m 기계설비 1-2-2 ( 호표 4 ) | N24: 5BB2C60D4043D5007A10B74C89254D
A25: 이음매없는동및동합금관 | B25: 배관용동관, L형, Φ20mm | C25: m | D25: 0.85 | E25: =단가대비표!O28 -> 9530 | F25: =TRUNC(E25*D25,1) -> 8100.5 | G25: =단가대비표!P28 -> 0 | H25: =TRUNC(G25*D25,1) -> 0 | I25: =단가대비표!V28 -> 0 | J25: =TRUNC(I25*D25,1) -> 0 | K25: =TRUNC(E25+G25+I25,1) -> 9530 | L25: =TRUNC(F25+H25+J25,1) -> 8100.5 | N25: 5BB2C60D4043D5007A10B74C89254D | O25: 5C28D63F63335300760F09119ABE5075AFA2DE | P25: F | Q25: F | R25: T | V25: 1 | AW25: 5BB2C60D4043D5007A10B74C89254D5C28D63F63335300760F09119ABE5075AFA2DE
A26: 잡재료비 | B26: 관의 3% | C26: 식 | D26: 1 | E26: =TRUNC(SUMIF(V25:V29, RIGHTB(O26, 1), F25:F29)*U26, 2) -> 243.01 | F26: =TRUNC(E26*D26,1) -> 243 | G26: 0 | H26: =TRUNC(G26*D26,1) -> 0 | I26: 0 | J26: =TRUNC(I26*D26,1) -> 0 | K26: =TRUNC(E26+G26+I26,1) -> 243 | L26: =TRUNC(F26+H26+J26,1) -> 243 | N26: 5BB2C60D4043D5007A10B74C89254D | O26: 5A6D067F47C3BD0073F50EE3AE3C001 | P26: F | Q26: F | R26: F | S26: 0 | T26: 0 | U26: 0.03 | AW26: 5BB2C60D4043D5007A10B74C89254D5A6D067F47C3BD0073F50EE3AE3C001
A27: 배관공 | B27: 일반공사 직종 | C27: 인 | D27: 0.035 | E27: =단가대비표!O56 -> 0 | F27: =TRUNC(E27*D27,1) -> 0 | G27: =단가대비표!P56 -> 229664 | H27: =TRUNC(G27*D27,1) -> 8038.2 | I27: =단가대비표!V56 -> 0 | J27: =TRUNC(I27*D27,1) -> 0 | K27: =TRUNC(E27+G27+I27,1) -> 229664 | L27: =TRUNC(F27+H27+J27,1) -> 8038.2 | N27: 5BB2C60D4043D5007A10B74C89254D | O27: 5BAB76E58F63A70071C77725317C333D96D1F7 | P27: F | Q27: F | R27: T | W27: 2 | AW27: 5BB2C60D4043D5007A10B74C89254D5BAB76E58F63A70071C77725317C333D96D1F7
A28: 보통인부 | B28: 일반공사 직종 | C28: 인 | D28: 0.011 | E28: =단가대비표!O54 -> 0 | F28: =TRUNC(E28*D28,1) -> 0 | G28: =단가대비표!P54 -> 167081 | H28: =TRUNC(G28*D28,1) -> 1837.8 | I28: =단가대비표!V54 -> 0 | J28: =TRUNC(I28*D28,1) -> 0 | K28: =TRUNC(E28+G28+I28,1) -> 167081 | L28: =TRUNC(F28+H28+J28,1) -> 1837.8 | N28: 5BB2C60D4043D5007A10B74C89254D | O28: 5BAB76E58F63A70071C77725317C333D96D287 | P28: F | Q28: F | R28: T | W28: 2 | AW28: 5BB2C60D4043D5007A10B74C89254D5BAB76E58F63A70071C77725317C333D96D287
A29: 공구손료 | B29: 인력품의 2% | C29: 식 | D29: 1 | E29: =TRUNC(SUMIF(W25:W29, RIGHTB(O29, 1), H25:H29)*U29, 2) -> 197.52 | F29: =TRUNC(E29*D29,1) -> 197.5 | G29: 0 | H29: =TRUNC(G29*D29,1) -> 0 | I29: 0 | J29: =TRUNC(I29*D29,1) -> 0 | K29: =TRUNC(E29+G29+I29,1) -> 197.5 | L29: =TRUNC(F29+H29+J29,1) -> 197.5 | N29: 5BB2C60D4043D5007A10B74C89254D | O29: 5A6D067F47C3BD0073F50EE3AE3F002 | P29: F | Q29: F | R29: F | S29: 1 | T29: 0 | U29: 0.02 | AW29: 5BB2C60D4043D5007A10B74C89254D5A6D067F47C3BD0073F50EE3AE3F002
A30: [ 합 계 ] | F30: =TRUNC(SUMIF(N25:N29, N24, F25:F29),0) -> 8541 | H30: =TRUNC(SUMIF(N25:N29, N24, H25:H29),0) -> 9876 | J30: =TRUNC(SUMIF(N25:N29, N24, J25:J29),0) -> 0 | L30: =F30+H30+J30 -> 18417 | N30: TOTAL | O30: TOTAL
A32: 동관(L-TYPE) D25 m 기계설비 1-2-2 ( 호표 5 ) | N32: 5BB2C60D4043CB00744DEF378B1347
A33: 이음매없는동및동합금관 | B33: 배관용동관, L형, Φ25mm | C33: m | D33: 0.7 | E33: =단가대비표!O29 -> 13750 | F33: =TRUNC(E33*D33,1) -> 9625 | G33: =단가대비표!P29 -> 0 | H33: =TRUNC(G33*D33,1) -> 0 | I33: =단가대비표!V29 -> 0 | J33: =TRUNC(I33*D33,1) -> 0 | K33: =TRUNC(E33+G33+I33,1) -> 13750 | L33: =TRUNC(F33+H33+J33,1) -> 9625 | N33: 5BB2C60D4043CB00744DEF378B1347 | O33: 5C28D63F63335300760F09119ABE5075AFA2DD | P33: F | Q33: F | R33: T | V33: 1 | AW33: 5BB2C60D4043CB00744DEF378B13475C28D63F63335300760F09119ABE5075AFA2DD
A34: 잡재료비 | B34: 관의 3% | C34: 식 | D34: 1 | E34: =TRUNC(SUMIF(V33:V37, RIGHTB(O34, 1), F33:F37)*U34, 2) -> 288.75 | F34: =TRUNC(E34*D34,1) -> 288.7 | G34: 0 | H34: =TRUNC(G34*D34,1) -> 0 | I34: 0 | J34: =TRUNC(I34*D34,1) -> 0 | K34: =TRUNC(E34+G34+I34,1) -> 288.7 | L34: =TRUNC(F34+H34+J34,1) -> 288.7 | N34: 5BB2C60D4043CB00744DEF378B1347 | O34: 5A6D067F47C3BD0073F50EE3AE3C001 | P34: F | Q34: F | R34: F | S34: 0 | T34: 0 | U34: 0.03 | AW34: 5BB2C60D4043CB00744DEF378B13475A6D067F47C3BD0073F50EE3AE3C001
A35: 배관공 | B35: 일반공사 직종 | C35: 인 | D35: 0.042 | E35: =단가대비표!O56 -> 0 | F35: =TRUNC(E35*D35,1) -> 0 | G35: =단가대비표!P56 -> 229664 | H35: =TRUNC(G35*D35,1) -> 9645.8 | I35: =단가대비표!V56 -> 0 | J35: =TRUNC(I35*D35,1) -> 0 | K35: =TRUNC(E35+G35+I35,1) -> 229664 | L35: =TRUNC(F35+H35+J35,1) -> 9645.8 | N35: 5BB2C60D4043CB00744DEF378B1347 | O35: 5BAB76E58F63A70071C77725317C333D96D1F7 | P35: F | Q35: F | R35: T | W35: 2 | AW35: 5BB2C60D4043CB00744DEF378B13475BAB76E58F63A70071C77725317C333D96D1F7
A36: 보통인부 | B36: 일반공사 직종 | C36: 인 | D36: 0.013 | E36: =단가대비표!O54 -> 0 | F36: =TRUNC(E36*D36,1) -> 0 | G36: =단가대비표!P54 -> 167081 | H36: =TRUNC(G36*D36,1) -> 2172 | I36: =단가대비표!V54 -> 0 | J36: =TRUNC(I36*D36,1) -> 0 | K36: =TRUNC(E36+G36+I36,1) -> 167081 | L36: =TRUNC(F36+H36+J36,1) -> 2172 | N36: 5BB2C60D4043CB00744DEF378B1347 | O36: 5BAB76E58F63A70071C77725317C333D96D287 | P36: F | Q36: F | R36: T | W36: 2 | AW36: 5BB2C60D4043CB00744DEF378B13475BAB76E58F63A70071C77725317C333D96D287
A37: 공구손료 | B37: 인력품의 2% | C37: 식 | D37: 1 | E37: =TRUNC(SUMIF(W33:W37, RIGHTB(O37, 1), H33:H37)*U37, 2) -> 236.35 | F37: =TRUNC(E37*D37,1) -> 236.3 | G37: 0 | H37: =TRUNC(G37*D37,1) -> 0 | I37: 0 | J37: =TRUNC(I37*D37,1) -> 0 | K37: =TRUNC(E37+G37+I37,1) -> 236.3 | L37: =TRUNC(F37+H37+J37,1) -> 236.3 | N37: 5BB2C60D4043CB00744DEF378B1347 | O37: 5A6D067F47C3BD0073F50EE3AE3F002 | P37: F | Q37: F | R37: F | S37: 1 | T37: 0 | U37: 0.02 | AW37: 5BB2C60D4043CB00744DEF378B13475A6D067F47C3BD0073F50EE3AE3F002
A38: [ 합 계 ] | F38: =TRUNC(SUMIF(N33:N37, N32, F33:F37),0) -> 10150 | H38: =TRUNC(SUMIF(N33:N37, N32, H33:H37),0) -> 11817 | J38: =TRUNC(SUMIF(N33:N37, N32, J33:J37),0) -> 0 | L38: =F38+H38+J38 -> 21967 | N38: TOTAL | O38: TOTAL
A40: 동관(L-TYPE) D32 m 기계설비 1-2-2 ( 호표 6 ) | N40: 5BB2C60D4043BA007F09F434C818B0
A41: 이음매없는동및동합금관 | B41: 배관용동관, L형, Φ32mm | C41: m | D41: 0.57 | E41: =단가대비표!O30 -> 18640 | F41: =TRUNC(E41*D41,1) -> 10624.8 | G41: =단가대비표!P30 -> 0 | H41: =TRUNC(G41*D41,1) -> 0 | I41: =단가대비표!V30 -> 0 | J41: =TRUNC(I41*D41,1) -> 0 | K41: =TRUNC(E41+G41+I41,1) -> 18640 | L41: =TRUNC(F41+H41+J41,1) -> 10624.8 | N41: 5BB2C60D4043BA007F09F434C818B0 | O41: 5C28D63F63335300760F09119ABE5075AFA2DC | P41: F | Q41: F | R41: T | V41: 1 | AW41: 5BB2C60D4043BA007F09F434C818B05C28D63F63335300760F09119ABE5075AFA2DC
A42: 잡재료비 | B42: 관의 3% | C42: 식 | D42: 1 | E42: =TRUNC(SUMIF(V41:V45, RIGHTB(O42, 1), F41:F45)*U42, 2) -> 318.74 | F42: =TRUNC(E42*D42,1) -> 318.7 | G42: 0 | H42: =TRUNC(G42*D42,1) -> 0 | I42: 0 | J42: =TRUNC(I42*D42,1) -> 0 | K42: =TRUNC(E42+G42+I42,1) -> 318.7 | L42: =TRUNC(F42+H42+J42,1) -> 318.7 | N42: 5BB2C60D4043BA007F09F434C818B0 | O42: 5A6D067F47C3BD0073F50EE3AE3C001 | P42: F | Q42: F | R42: F | S42: 0 | T42: 0 | U42: 0.03 | AW42: 5BB2C60D4043BA007F09F434C818B05A6D067F47C3BD0073F50EE3AE3C001
A43: 배관공 | B43: 일반공사 직종 | C43: 인 | D43: 0.052 | E43: =단가대비표!O56 -> 0 | F43: =TRUNC(E43*D43,1) -> 0 | G43: =단가대비표!P56 -> 229664 | H43: =TRUNC(G43*D43,1) -> 11942.5 | I43: =단가대비표!V56 -> 0 | J43: =TRUNC(I43*D43,1) -> 0 | K43: =TRUNC(E43+G43+I43,1) -> 229664 | L43: =TRUNC(F43+H43+J43,1) -> 11942.5 | N43: 5BB2C60D4043BA007F09F434C818B0 | O43: 5BAB76E58F63A70071C77725317C333D96D1F7 | P43: F | Q43: F | R43: T | W43: 2 | AW43: 5BB2C60D4043BA007F09F434C818B05BAB76E58F63A70071C77725317C333D96D1F7
A44: 보통인부 | B44: 일반공사 직종 | C44: 인 | D44: 0.017 | E44: =단가대비표!O54 -> 0 | F44: =TRUNC(E44*D44,1) -> 0 | G44: =단가대비표!P54 -> 167081 | H44: =TRUNC(G44*D44,1) -> 2840.3 | I44: =단가대비표!V54 -> 0 | J44: =TRUNC(I44*D44,1) -> 0 | K44: =TRUNC(E44+G44+I44,1) -> 167081 | L44: =TRUNC(F44+H44+J44,1) -> 2840.3 | N44: 5BB2C60D4043BA007F09F434C818B0 | O44: 5BAB76E58F63A70071C77725317C333D96D287 | P44: F | Q44: F | R44: T | W44: 2 | AW44: 5BB2C60D4043BA007F09F434C818B05BAB76E58F63A70071C77725317C333D96D287
A45: 공구손료 | B45: 인력품의 2% | C45: 식 | D45: 1 | E45: =TRUNC(SUMIF(W41:W45, RIGHTB(O45, 1), H41:H45)*U45, 2) -> 295.65 | F45: =TRUNC(E45*D45,1) -> 295.6 | G45: 0 | H45: =TRUNC(G45*D45,1) -> 0 | I45: 0 | J45: =TRUNC(I45*D45,1) -> 0 | K45: =TRUNC(E45+G45+I45,1) -> 295.6 | L45: =TRUNC(F45+H45+J45,1) -> 295.6 | N45: 5BB2C60D4043BA007F09F434C818B0 | O45: 5A6D067F47C3BD0073F50EE3AE3F002 | P45: F | Q45: F | R45: F | S45: 1 | T45: 0 | U45: 0.02 | AW45: 5BB2C60D4043BA007F09F434C818B05A6D067F47C3BD0073F50EE3AE3F002
A46: [ 합 계 ] | F46: =TRUNC(SUMIF(N41:N45, N40, F41:F45),0) -> 11239 | H46: =TRUNC(SUMIF(N41:N45, N40, H41:H45),0) -> 14782 | J46: =TRUNC(SUMIF(N41:N45, N40, J41:J45),0) -> 0 | L46: =F46+H46+J46 -> 26021 | N46: TOTAL | O46: TOTAL
A48: 관보온(고무발포) 19TxD15 m 기계설비 3-1-1 ( 호표 7 ) | N48: 5BB2A6C11AC38E007427A395966AC9
A49: 관보온재 | B49: 고무발포, 19TxD15 | C49: M | D49: 0.77 | E49: =단가대비표!O15 -> 1940 | F49: =TRUNC(E49*D49,1) -> 1493.8 | G49: =단가대비표!P15 -> 0 | H49: =TRUNC(G49*D49,1) -> 0 | I49: =단가대비표!V15 -> 0 | J49: =TRUNC(I49*D49,1) -> 0 | K49: =TRUNC(E49+G49+I49,1) -> 1940 | L49: =TRUNC(F49+H49+J49,1) -> 1493.8 | M49: 신규 | N49: 5BB2A6C11AC38E007427A395966AC9 | O49: 5C28D63F67933F007322A47AE766F1D270909E | P49: F | Q49: F | R49: T | AW49: 5BB2A6C11AC38E007427A395966AC95C28D63F67933F007322A47AE766F1D270909E
A50: 본드(고무발포용) | C50: KG | D50: 0.011 | E50: =단가대비표!O11 -> 7560 | F50: =TRUNC(E50*D50,1) -> 83.1 | G50: =단가대비표!P11 -> 0 | H50: =TRUNC(G50*D50,1) -> 0 | I50: =단가대비표!V11 -> 0 | J50: =TRUNC(I50*D50,1) -> 0 | K50: =TRUNC(E50+G50+I50,1) -> 7560 | L50: =TRUNC(F50+H50+J50,1) -> 83.1 | M50: 신규 | N50: 5BB2A6C11AC38E007427A395966AC9 | O50: 5C5406DF2233850073D6CAFED34239283B9C1C | P50: F | Q50: F | R50: T | AW50: 5BB2A6C11AC38E007427A395966AC95C5406DF2233850073D6CAFED34239283B9C1C
A51: 보온공 | B51: 일반공사 직종 | C51: 인 | D51: 0.025974026 | E51: =단가대비표!O57 -> 0 | F51: =TRUNC(E51*D51,1) -> 0 | G51: =단가대비표!P57 -> 214086 | H51: =TRUNC(G51*D51,1) -> 5560.6 | I51: =단가대비표!V57 -> 0 | J51: =TRUNC(I51*D51,1) -> 0 | K51: =TRUNC(E51+G51+I51,1) -> 214086 | L51: =TRUNC(F51+H51+J51,1) -> 5560.6 | N51: 5BB2A6C11AC38E007427A395966AC9 | O51: 5BAB76E58F63A70071C77725317C333D96D664 | P51: F | Q51: F | R51: T | V51: 1 | AW51: 5BB2A6C11AC38E007427A395966AC95BAB76E58F63A70071C77725317C333D96D664
A52: 보통인부 | B52: 일반공사 직종 | C52: 인 | D52: 0.012987013 | E52: =단가대비표!O54 -> 0 | F52: =TRUNC(E52*D52,1) -> 0 | G52: =단가대비표!P54 -> 167081 | H52: =TRUNC(G52*D52,1) -> 2169.8 | I52: =단가대비표!V54 -> 0 | J52: =TRUNC(I52*D52,1) -> 0 | K52: =TRUNC(E52+G52+I52,1) -> 167081 | L52: =TRUNC(F52+H52+J52,1) -> 2169.8 | N52: 5BB2A6C11AC38E007427A395966AC9 | O52: 5BAB76E58F63A70071C77725317C333D96D287 | P52: F | Q52: F | R52: T | V52: 1 | AW52: 5BB2A6C11AC38E007427A395966AC95BAB76E58F63A70071C77725317C333D96D287
A53: 공구손료 | B53: 인력품의 3% | C53: 식 | D53: 1 | E53: =TRUNC(SUMIF(V49:V53, RIGHTB(O53, 1), H49:H53)*U53, 2) -> 231.91 | F53: =TRUNC(E53*D53,1) -> 231.9 | G53: 0 | H53: =TRUNC(G53*D53,1) -> 0 | I53: 0 | J53: =TRUNC(I53*D53,1) -> 0 | K53: =TRUNC(E53+G53+I53,1) -> 231.9 | L53: =TRUNC(F53+H53+J53,1) -> 231.9 | N53: 5BB2A6C11AC38E007427A395966AC9 | O53: 5A6D067F47C3BD0073F50EE3AE3C001 | P53: F | Q53: F | R53: F | S53: 1 | T53: 0 | U53: 0.03 | AW53: 5BB2A6C11AC38E007427A395966AC95A6D067F47C3BD0073F50EE3AE3C001
A54: [ 합 계 ] | F54: =TRUNC(SUMIF(N49:N53, N48, F49:F53),0) -> 1808 | H54: =TRUNC(SUMIF(N49:N53, N48, H49:H53),0) -> 7730 | J54: =TRUNC(SUMIF(N49:N53, N48, J49:J53),0) -> 0 | L54: =F54+H54+J54 -> 9538 | N54: TOTAL | O54: TOTAL
A56: 관보온(고무발포) 19TxD20 m 기계설비 3-1-1 ( 호표 8 ) | N56: 5BB2A6C11AC3BA00787AE92EE7614D
A57: 관보온재 | B57: 고무발포, 19TxD20 | C57: M | D57: 0.68 | E57: =단가대비표!O16 -> 2450 | F57: =TRUNC(E57*D57,1) -> 1666 | G57: =단가대비표!P16 -> 0 | H57: =TRUNC(G57*D57,1) -> 0 | I57: =단가대비표!V16 -> 0 | J57: =TRUNC(I57*D57,1) -> 0 | K57: =TRUNC(E57+G57+I57,1) -> 2450 | L57: =TRUNC(F57+H57+J57,1) -> 1666 | M57: 신규 | N57: 5BB2A6C11AC3BA00787AE92EE7614D | O57: 5C28D63F67933F007322A47AE766F1D270909F | P57: F | Q57: F | R57: T | AW57: 5BB2A6C11AC3BA00787AE92EE7614D5C28D63F67933F007322A47AE766F1D270909F
A58: 본드(고무발포용) | C58: KG | D58: 0.011 | E58: =단가대비표!O11 -> 7560 | F58: =TRUNC(E58*D58,1) -> 83.1 | G58: =단가대비표!P11 -> 0 | H58: =TRUNC(G58*D58,1) -> 0 | I58: =단가대비표!V11 -> 0 | J58: =TRUNC(I58*D58,1) -> 0 | K58: =TRUNC(E58+G58+I58,1) -> 7560 | L58: =TRUNC(F58+H58+J58,1) -> 83.1 | M58: 신규 | N58: 5BB2A6C11AC3BA00787AE92EE7614D | O58: 5C5406DF2233850073D6CAFED34239283B9C1C | P58: F | Q58: F | R58: T | AW58: 5BB2A6C11AC3BA00787AE92EE7614D5C5406DF2233850073D6CAFED34239283B9C1C
A59: 보온공 | B59: 일반공사 직종 | C59: 인 | D59: 0.029411765 | E59: =단가대비표!O57 -> 0 | F59: =TRUNC(E59*D59,1) -> 0 | G59: =단가대비표!P57 -> 214086 | H59: =TRUNC(G59*D59,1) -> 6296.6 | I59: =단가대비표!V57 -> 0 | J59: =TRUNC(I59*D59,1) -> 0 | K59: =TRUNC(E59+G59+I59,1) -> 214086 | L59: =TRUNC(F59+H59+J59,1) -> 6296.6 | N59: 5BB2A6C11AC3BA00787AE92EE7614D | O59: 5BAB76E58F63A70071C77725317C333D96D664 | P59: F | Q59: F | R59: T | V59: 1 | AW59: 5BB2A6C11AC3BA00787AE92EE7614D5BAB76E58F63A70071C77725317C333D96D664
A60: 보통인부 | B60: 일반공사 직종 | C60: 인 | D60: 0.014705882 | E60: =단가대비표!O54 -> 0 | F60: =TRUNC(E60*D60,1) -> 0 | G60: =단가대비표!P54 -> 167081 | H60: =TRUNC(G60*D60,1) -> 2457 | I60: =단가대비표!V54 -> 0 | J60: =TRUNC(I60*D60,1) -> 0 | K60: =TRUNC(E60+G60+I60,1) -> 167081 | L60: =TRUNC(F60+H60+J60,1) -> 2457 | N60: 5BB2A6C11AC3BA00787AE92EE7614D | O60: 5BAB76E58F63A70071C77725317C333D96D287 | P60: F | Q60: F | R60: T | V60: 1 | AW60: 5BB2A6C11AC3BA00787AE92EE7614D5BAB76E58F63A70071C77725317C333D96D287
A61: 공구손료 | B61: 인력품의 3% | C61: 식 | D61: 1 | E61: =TRUNC(SUMIF(V57:V61, RIGHTB(O61, 1), H57:H61)*U61, 2) -> 262.6 | F61: =TRUNC(E61*D61,1) -> 262.6 | G61: 0 | H61: =TRUNC(G61*D61,1) -> 0 | I61: 0 | J61: =TRUNC(I61*D61,1) -> 0 | K61: =TRUNC(E61+G61+I61,1) -> 262.6 | L61: =TRUNC(F61+H61+J61,1) -> 262.6 | N61: 5BB2A6C11AC3BA00787AE92EE7614D | O61: 5A6D067F47C3BD0073F50EE3AE3C001 | P61: F | Q61: F | R61: F | S61: 1 | T61: 0 | U61: 0.03 | AW61: 5BB2A6C11AC3BA00787AE92EE7614D5A6D067F47C3BD0073F50EE3AE3C001
A62: [ 합 계 ] | F62: =TRUNC(SUMIF(N57:N61, N56, F57:F61),0) -> 2011 | H62: =TRUNC(SUMIF(N57:N61, N56, H57:H61),0) -> 8753 | J62: =TRUNC(SUMIF(N57:N61, N56, J57:J61),0) -> 0 | L62: =F62+H62+J62 -> 10764 | N62: TOTAL | O62: TOTAL
A64: 관보온(고무발포) 19TxD25 m 기계설비 3-1-1 ( 호표 9 ) | N64: 5BB2A6C11AC3A90072830B8891CEE6
A65: 관보온재 | B65: 고무발포, 19TxD25 | C65: M | D65: 0.62 | E65: =단가대비표!O17 -> 2860 | F65: =TRUNC(E65*D65,1) -> 1773.2 | G65: =단가대비표!P17 -> 0 | H65: =TRUNC(G65*D65,1) -> 0 | I65: =단가대비표!V17 -> 0 | J65: =TRUNC(I65*D65,1) -> 0 | K65: =TRUNC(E65+G65+I65,1) -> 2860 | L65: =TRUNC(F65+H65+J65,1) -> 1773.2 | M65: 신규 | N65: 5BB2A6C11AC3A90072830B8891CEE6 | O65: 5C28D63F67933F007322A47AE766F1D2709098 | P65: F | Q65: F | R65: T | AW65: 5BB2A6C11AC3A90072830B8891CEE65C28D63F67933F007322A47AE766F1D2709098
A66: 본드(고무발포용) | C66: KG | D66: 0.012 | E66: =단가대비표!O11 -> 7560 | F66: =TRUNC(E66*D66,1) -> 90.7 | G66: =단가대비표!P11 -> 0 | H66: =TRUNC(G66*D66,1) -> 0 | I66: =단가대비표!V11 -> 0 | J66: =TRUNC(I66*D66,1) -> 0 | K66: =TRUNC(E66+G66+I66,1) -> 7560 | L66: =TRUNC(F66+H66+J66,1) -> 90.7 | M66: 신규 | N66: 5BB2A6C11AC3A90072830B8891CEE6 | O66: 5C5406DF2233850073D6CAFED34239283B9C1C | P66: F | Q66: F | R66: T | AW66: 5BB2A6C11AC3A90072830B8891CEE65C5406DF2233850073D6CAFED34239283B9C1C
A67: 보온공 | B67: 일반공사 직종 | C67: 인 | D67: 0.029411765 | E67: =단가대비표!O57 -> 0 | F67: =TRUNC(E67*D67,1) -> 0 | G67: =단가대비표!P57 -> 214086 | H67: =TRUNC(G67*D67,1) -> 6296.6 | I67: =단가대비표!V57 -> 0 | J67: =TRUNC(I67*D67,1) -> 0 | K67: =TRUNC(E67+G67+I67,1) -> 214086 | L67: =TRUNC(F67+H67+J67,1) -> 6296.6 | N67: 5BB2A6C11AC3A90072830B8891CEE6 | O67: 5BAB76E58F63A70071C77725317C333D96D664 | P67: F | Q67: F | R67: T | V67: 1 | AW67: 5BB2A6C11AC3A90072830B8891CEE65BAB76E58F63A70071C77725317C333D96D664
A68: 보통인부 | B68: 일반공사 직종 | C68: 인 | D68: 0.016129032 | E68: =단가대비표!O54 -> 0 | F68: =TRUNC(E68*D68,1) -> 0 | G68: =단가대비표!P54 -> 167081 | H68: =TRUNC(G68*D68,1) -> 2694.8 | I68: =단가대비표!V54 -> 0 | J68: =TRUNC(I68*D68,1) -> 0 | K68: =TRUNC(E68+G68+I68,1) -> 167081 | L68: =TRUNC(F68+H68+J68,1) -> 2694.8 | N68: 5BB2A6C11AC3A90072830B8891CEE6 | O68: 5BAB76E58F63A70071C77725317C333D96D287 | P68: F | Q68: F | R68: T | V68: 1 | AW68: 5BB2A6C11AC3A90072830B8891CEE65BAB76E58F63A70071C77725317C333D96D287
A69: 공구손료 | B69: 인력품의 3% | C69: 식 | D69: 1 | E69: =TRUNC(SUMIF(V65:V69, RIGHTB(O69, 1), H65:H69)*U69, 2) -> 269.74 | F69: =TRUNC(E69*D69,1) -> 269.7 | G69: 0 | H69: =TRUNC(G69*D69,1) -> 0 | I69: 0 | J69: =TRUNC(I69*D69,1) -> 0 | K69: =TRUNC(E69+G69+I69,1) -> 269.7 | L69: =TRUNC(F69+H69+J69,1) -> 269.7 | N69: 5BB2A6C11AC3A90072830B8891CEE6 | O69: 5A6D067F47C3BD0073F50EE3AE3C001 | P69: F | Q69: F | R69: F | S69: 1 | T69: 0 | U69: 0.03 | AW69: 5BB2A6C11AC3A90072830B8891CEE65A6D067F47C3BD0073F50EE3AE3C001
A70: [ 합 계 ] | F70: =TRUNC(SUMIF(N65:N69, N64, F65:F69),0) -> 2133 | H70: =TRUNC(SUMIF(N65:N69, N64, H65:H69),0) -> 8991 | J70: =TRUNC(SUMIF(N65:N69, N64, J65:J69),0) -> 0 | L70: =F70+H70+J70 -> 11124 | N70: TOTAL | O70: TOTAL
A72: 관보온(고무발포) 19TxD32 m 기계설비 3-1-1 ( 호표 10 ) | N72: 5BB2A6C11AC3D60076610418A5DF64
A73: 관보온재 | B73: 고무발포, 19TxD32 | C73: M | D73: 0.53 | E73: =단가대비표!O18 -> 3670 | F73: =TRUNC(E73*D73,1) -> 1945.1 | G73: =단가대비표!P18 -> 0 | H73: =TRUNC(G73*D73,1) -> 0 | I73: =단가대비표!V18 -> 0 | J73: =TRUNC(I73*D73,1) -> 0 | K73: =TRUNC(E73+G73+I73,1) -> 3670 | L73: =TRUNC(F73+H73+J73,1) -> 1945.1 | M73: 신규 | N73: 5BB2A6C11AC3D60076610418A5DF64 | O73: 5C28D63F67933F007322A47AE766F1D2709099 | P73: F | Q73: F | R73: T | AW73: 5BB2A6C11AC3D60076610418A5DF645C28D63F67933F007322A47AE766F1D2709099
A74: 본드(고무발포용) | C74: KG | D74: 0.012 | E74: =단가대비표!O11 -> 7560 | F74: =TRUNC(E74*D74,1) -> 90.7 | G74: =단가대비표!P11 -> 0 | H74: =TRUNC(G74*D74,1) -> 0 | I74: =단가대비표!V11 -> 0 | J74: =TRUNC(I74*D74,1) -> 0 | K74: =TRUNC(E74+G74+I74,1) -> 7560 | L74: =TRUNC(F74+H74+J74,1) -> 90.7 | M74: 신규 | N74: 5BB2A6C11AC3D60076610418A5DF64 | O74: 5C5406DF2233850073D6CAFED34239283B9C1C | P74: F | Q74: F | R74: T | AW74: 5BB2A6C11AC3D60076610418A5DF645C5406DF2233850073D6CAFED34239283B9C1C
A75: 보온공 | B75: 일반공사 직종 | C75: 인 | D75: 0.037 | E75: =단가대비표!O57 -> 0 | F75: =TRUNC(E75*D75,1) -> 0 | G75: =단가대비표!P57 -> 214086 | H75: =TRUNC(G75*D75,1) -> 7921.1 | I75: =단가대비표!V57 -> 0 | J75: =TRUNC(I75*D75,1) -> 0 | K75: =TRUNC(E75+G75+I75,1) -> 214086 | L75: =TRUNC(F75+H75+J75,1) -> 7921.1 | N75: 5BB2A6C11AC3D60076610418A5DF64 | O75: 5BAB76E58F63A70071C77725317C333D96D664 | P75: F | Q75: F | R75: T | V75: 1 | AW75: 5BB2A6C11AC3D60076610418A5DF645BAB76E58F63A70071C77725317C333D96D664
A76: 보통인부 | B76: 일반공사 직종 | C76: 인 | D76: 0.018 | E76: =단가대비표!O54 -> 0 | F76: =TRUNC(E76*D76,1) -> 0 | G76: =단가대비표!P54 -> 167081 | H76: =TRUNC(G76*D76,1) -> 3007.4 | I76: =단가대비표!V54 -> 0 | J76: =TRUNC(I76*D76,1) -> 0 | K76: =TRUNC(E76+G76+I76,1) -> 167081 | L76: =TRUNC(F76+H76+J76,1) -> 3007.4 | N76: 5BB2A6C11AC3D60076610418A5DF64 | O76: 5BAB76E58F63A70071C77725317C333D96D287 | P76: F | Q76: F | R76: T | V76: 1 | AW76: 5BB2A6C11AC3D60076610418A5DF645BAB76E58F63A70071C77725317C333D96D287
A77: 공구손료 | B77: 인력품의 3% | C77: 식 | D77: 1 | E77: =TRUNC(SUMIF(V73:V77, RIGHTB(O77, 1), H73:H77)*U77, 2) -> 327.85 | F77: =TRUNC(E77*D77,1) -> 327.8 | G77: 0 | H77: =TRUNC(G77*D77,1) -> 0 | I77: 0 | J77: =TRUNC(I77*D77,1) -> 0 | K77: =TRUNC(E77+G77+I77,1) -> 327.8 | L77: =TRUNC(F77+H77+J77,1) -> 327.8 | N77: 5BB2A6C11AC3D60076610418A5DF64 | O77: 5A6D067F47C3BD0073F50EE3AE3C001 | P77: F | Q77: F | R77: F | S77: 1 | T77: 0 | U77: 0.03 | AW77: 5BB2A6C11AC3D60076610418A5DF645A6D067F47C3BD0073F50EE3AE3C001
A78: [ 합 계 ] | F78: =TRUNC(SUMIF(N73:N77, N72, F73:F77),0) -> 2363 | H78: =TRUNC(SUMIF(N73:N77, N72, H73:H77),0) -> 10928 | J78: =TRUNC(SUMIF(N73:N77, N72, J73:J77),0) -> 0 | L78: =F78+H78+J78 -> 13291 | N78: TOTAL | O78: TOTAL
A80: 경질염화비닐관(접착제) PVC관(VG1), D25 m 기계설비 1-5-1 ( 호표 11 ) | N80: 5BB2C6073D038E007837E30473F3A4
A81: 일반용경질폴리염화비닐관 | B81: Φ25mm, VG1 | C81: m | D81: 1.05 | E81: =단가대비표!O33 -> 1270 | F81: =TRUNC(E81*D81,1) -> 1333.5 | G81: =단가대비표!P33 -> 0 | H81: =TRUNC(G81*D81,1) -> 0 | I81: =단가대비표!V33 -> 0 | J81: =TRUNC(I81*D81,1) -> 0 | K81: =TRUNC(E81+G81+I81,1) -> 1270 | L81: =TRUNC(F81+H81+J81,1) -> 1333.5 | N81: 5BB2C6073D038E007837E30473F3A4 | O81: 5C28D63F63335300760629170C8A5925C96FFE | P81: F | Q81: F | R81: T | V81: 1 | AW81: 5BB2C6073D038E007837E30473F3A45C28D63F63335300760629170C8A5925C96FFE
A82: 잡재료 | B82: 관의 3% | C82: 식 | D82: 1 | E82: =TRUNC(SUMIF(V81:V85, RIGHTB(O82, 1), F81:F85)*U82, 2) -> 40 | F82: =TRUNC(E82*D82,1) -> 40 | G82: 0 | H82: =TRUNC(G82*D82,1) -> 0 | I82: 0 | J82: =TRUNC(I82*D82,1) -> 0 | K82: =TRUNC(E82+G82+I82,1) -> 40 | L82: =TRUNC(F82+H82+J82,1) -> 40 | N82: 5BB2C6073D038E007837E30473F3A4 | O82: 5A6D067F47C3BD0073F50EE3AE3C001 | P82: F | Q82: F | R82: F | S82: 0 | T82: 0 | U82: 0.03 | AW82: 5BB2C6073D038E007837E30473F3A45A6D067F47C3BD0073F50EE3AE3E003
A83: 배관공 | B83: 일반공사 직종 | C83: 인 | D83: 0.06 | E83: =단가대비표!O56 -> 0 | F83: =TRUNC(E83*D83,1) -> 0 | G83: =단가대비표!P56 -> 229664 | H83: =TRUNC(G83*D83,1) -> 13779.8 | I83: =단가대비표!V56 -> 0 | J83: =TRUNC(I83*D83,1) -> 0 | K83: =TRUNC(E83+G83+I83,1) -> 229664 | L83: =TRUNC(F83+H83+J83,1) -> 13779.8 | N83: 5BB2C6073D038E007837E30473F3A4 | O83: 5BAB76E58F63A70071C77725317C333D96D1F7 | P83: F | Q83: F | R83: T | W83: 2 | AW83: 5BB2C6073D038E007837E30473F3A45BAB76E58F63A70071C77725317C333D96D1F7
A84: 보통인부 | B84: 일반공사 직종 | C84: 인 | D84: 0.02 | E84: =단가대비표!O54 -> 0 | F84: =TRUNC(E84*D84,1) -> 0 | G84: =단가대비표!P54 -> 167081 | H84: =TRUNC(G84*D84,1) -> 3341.6 | I84: =단가대비표!V54 -> 0 | J84: =TRUNC(I84*D84,1) -> 0 | K84: =TRUNC(E84+G84+I84,1) -> 167081 | L84: =TRUNC(F84+H84+J84,1) -> 3341.6 | N84: 5BB2C6073D038E007837E30473F3A4 | O84: 5BAB76E58F63A70071C77725317C333D96D287 | P84: F | Q84: F | R84: T | W84: 2 | AW84: 5BB2C6073D038E007837E30473F3A45BAB76E58F63A70071C77725317C333D96D287
A85: 공구손료 | B85: 인력품의 2% | C85: 식 | D85: 1 | E85: =TRUNC(SUMIF(W81:W85, RIGHTB(O85, 1), H81:H85)*U85, 2) -> 342.42 | F85: =TRUNC(E85*D85,1) -> 342.4 | G85: 0 | H85: =TRUNC(G85*D85,1) -> 0 | I85: 0 | J85: =TRUNC(I85*D85,1) -> 0 | K85: =TRUNC(E85+G85+I85,1) -> 342.4 | L85: =TRUNC(F85+H85+J85,1) -> 342.4 | N85: 5BB2C6073D038E007837E30473F3A4 | O85: 5A6D067F47C3BD0073F50EE3AE3F002 | P85: F | Q85: F | R85: F | S85: 1 | T85: 0 | U85: 0.02 | AW85: 5BB2C6073D038E007837E30473F3A45A6D067F47C3BD0073F50EE3AE39004
A86: [ 합 계 ] | F86: =TRUNC(SUMIF(N81:N85, N80, F81:F85),0) -> 1715 | H86: =TRUNC(SUMIF(N81:N85, N80, H81:H85),0) -> 17121 | J86: =TRUNC(SUMIF(N81:N85, N80, J81:J85),0) -> 0 | L86: =F86+H86+J86 -> 18836 | N86: TOTAL | O86: TOTAL
A88: 경질염화비닐관(접착제) PVC관(VG1), D32 m 기계설비 1-5-1 ( 호표 12 ) | N88: 5BB2C6073D038E007837E30473F3A7
A89: 일반용경질폴리염화비닐관 | B89: Φ32mm, VG1 | C89: m | D89: 1.05 | E89: =단가대비표!O31 -> 1830 | F89: =TRUNC(E89*D89,1) -> 1921.5 | G89: =단가대비표!P31 -> 0 | H89: =TRUNC(G89*D89,1) -> 0 | I89: =단가대비표!V31 -> 0 | J89: =TRUNC(I89*D89,1) -> 0 | K89: =TRUNC(E89+G89+I89,1) -> 1830 | L89: =TRUNC(F89+H89+J89,1) -> 1921.5 | N89: 5BB2C6073D038E007837E30473F3A7 | O89: 5C28D63F63335300760629170C8A5925C84096 | P89: F | Q89: F | R89: T | V89: 1 | AW89: 5BB2C6073D038E007837E30473F3A75C28D63F63335300760629170C8A5925C84096
A90: 잡재료 | B90: 관의 3% | C90: 식 | D90: 1 | E90: =TRUNC(SUMIF(V89:V93, RIGHTB(O90, 1), F89:F93)*U90, 2) -> 57.64 | F90: =TRUNC(E90*D90,1) -> 57.6 | G90: 0 | H90: =TRUNC(G90*D90,1) -> 0 | I90: 0 | J90: =TRUNC(I90*D90,1) -> 0 | K90: =TRUNC(E90+G90+I90,1) -> 57.6 | L90: =TRUNC(F90+H90+J90,1) -> 57.6 | N90: 5BB2C6073D038E007837E30473F3A7 | O90: 5A6D067F47C3BD0073F50EE3AE3C001 | P90: F | Q90: F | R90: F | S90: 0 | T90: 0 | U90: 0.03 | AW90: 5BB2C6073D038E007837E30473F3A75A6D067F47C3BD0073F50EE3AE3E003
A91: 배관공 | B91: 일반공사 직종 | C91: 인 | D91: 0.06 | E91: =단가대비표!O56 -> 0 | F91: =TRUNC(E91*D91,1) -> 0 | G91: =단가대비표!P56 -> 229664 | H91: =TRUNC(G91*D91,1) -> 13779.8 | I91: =단가대비표!V56 -> 0 | J91: =TRUNC(I91*D91,1) -> 0 | K91: =TRUNC(E91+G91+I91,1) -> 229664 | L91: =TRUNC(F91+H91+J91,1) -> 13779.8 | N91: 5BB2C6073D038E007837E30473F3A7 | O91: 5BAB76E58F63A70071C77725317C333D96D1F7 | P91: F | Q91: F | R91: T | W91: 2 | AW91: 5BB2C6073D038E007837E30473F3A75BAB76E58F63A70071C77725317C333D96D1F7
A92: 보통인부 | B92: 일반공사 직종 | C92: 인 | D92: 0.02 | E92: =단가대비표!O54 -> 0 | F92: =TRUNC(E92*D92,1) -> 0 | G92: =단가대비표!P54 -> 167081 | H92: =TRUNC(G92*D92,1) -> 3341.6 | I92: =단가대비표!V54 -> 0 | J92: =TRUNC(I92*D92,1) -> 0 | K92: =TRUNC(E92+G92+I92,1) -> 167081 | L92: =TRUNC(F92+H92+J92,1) -> 3341.6 | N92: 5BB2C6073D038E007837E30473F3A7 | O92: 5BAB76E58F63A70071C77725317C333D96D287 | P92: F | Q92: F | R92: T | W92: 2 | AW92: 5BB2C6073D038E007837E30473F3A75BAB76E58F63A70071C77725317C333D96D287
A93: 공구손료 | B93: 인력품의 2% | C93: 식 | D93: 1 | E93: =TRUNC(SUMIF(W89:W93, RIGHTB(O93, 1), H89:H93)*U93, 2) -> 342.42 | F93: =TRUNC(E93*D93,1) -> 342.4 | G93: 0 | H93: =TRUNC(G93*D93,1) -> 0 | I93: 0 | J93: =TRUNC(I93*D93,1) -> 0 | K93: =TRUNC(E93+G93+I93,1) -> 342.4 | L93: =TRUNC(F93+H93+J93,1) -> 342.4 | N93: 5BB2C6073D038E007837E30473F3A7 | O93: 5A6D067F47C3BD0073F50EE3AE3F002 | P93: F | Q93: F | R93: F | S93: 1 | T93: 0 | U93: 0.02 | AW93: 5BB2C6073D038E007837E30473F3A75A6D067F47C3BD0073F50EE3AE39004
A94: [ 합 계 ] | F94: =TRUNC(SUMIF(N89:N93, N88, F89:F93),0) -> 2321 | H94: =TRUNC(SUMIF(N89:N93, N88, H89:H93),0) -> 17121 | J94: =TRUNC(SUMIF(N89:N93, N88, J89:J93),0) -> 0 | L94: =F94+H94+J94 -> 19442 | N94: TOTAL | O94: TOTAL
A96: 관보온(아티론.슈퍼매직303) 25TxD25 m 기계설비 3-1-1 ( 호표 13 ) | N96: 5BB2A6C11BD33B007E06D9C5D1E07C
A97: 관보온재 | B97: 관보온재, 아티론, 난연, Φ25*25mm | C97: m | D97: 1.05 | E97: =단가대비표!O12 -> 1987 | F97: =TRUNC(E97*D97,1) -> 2086.3 | G97: =단가대비표!P12 -> 0 | H97: =TRUNC(G97*D97,1) -> 0 | I97: =단가대비표!V12 -> 0 | J97: =TRUNC(I97*D97,1) -> 0 | K97: =TRUNC(E97+G97+I97,1) -> 1987 | L97: =TRUNC(F97+H97+J97,1) -> 2086.3 | N97: 5BB2A6C11BD33B007E06D9C5D1E07C | O97: 5C28D63F67933F007322A7CF8B3DAED023DA79 | P97: F | Q97: F | R97: T | V97: 1 | AW97: 5BB2A6C11BD33B007E06D9C5D1E07C5C28D63F67933F007322A7CF8B3DAED023DA79
A98: 잡재료 | B98: 보온통의 3% | C98: 식 | D98: 1 | E98: =TRUNC(SUMIF(V97:V103, RIGHTB(O98, 1), F97:F103)*U98, 2) -> 62.58 | F98: =TRUNC(E98*D98,1) -> 62.5 | G98: 0 | H98: =TRUNC(G98*D98,1) -> 0 | I98: 0 | J98: =TRUNC(I98*D98,1) -> 0 | K98: =TRUNC(E98+G98+I98,1) -> 62.5 | L98: =TRUNC(F98+H98+J98,1) -> 62.5 | N98: 5BB2A6C11BD33B007E06D9C5D1E07C | O98: 5A6D067F47C3BD0073F50EE3AE3C001 | P98: F | Q98: F | R98: F | S98: 0 | T98: 0 | U98: 0.03 | AW98: 5BB2A6C11BD33B007E06D9C5D1E07C5A6D067F47C3BD0073F50EE3AE3C001
A99: 슈퍼매직 303 | B99: 0.2t, 100mm*15m | C99: ㎡ | D99: 0.36 | E99: =단가대비표!O9 -> 1279 | F99: =TRUNC(E99*D99,1) -> 460.4 | G99: =단가대비표!P9 -> 0 | H99: =TRUNC(G99*D99,1) -> 0 | I99: =단가대비표!V9 -> 0 | J99: =TRUNC(I99*D99,1) -> 0 | K99: =TRUNC(E99+G99+I99,1) -> 1279 | L99: =TRUNC(F99+H99+J99,1) -> 460.4 | N99: 5BB2A6C11BD33B007E06D9C5D1E07C | O99: 5C5406DF2233850073D6CAFED34239283B9ECF | P99: F | Q99: F | R99: T | AW99: 5BB2A6C11BD33B007E06D9C5D1E07C5C5406DF2233850073D6CAFED34239283B9ECF
A100: AL 밴드 | B100: 0.3*30W | C100: M | D100: 0.32 | E100: =단가대비표!O10 -> 310 | F100: =TRUNC(E100*D100,1) -> 99.2 | G100: =단가대비표!P10 -> 0 | H100: =TRUNC(G100*D100,1) -> 0 | I100: =단가대비표!V10 -> 0 | J100: =TRUNC(I100*D100,1) -> 0 | K100: =TRUNC(E100+G100+I100,1) -> 310 | L100: =TRUNC(F100+H100+J100,1) -> 99.2 | N100: 5BB2A6C11BD33B007E06D9C5D1E07C | O100: 5C5406DF2233850073D6CAFED34239283B9FEF | P100: F | Q100: F | R100: T | AW100: 5BB2A6C11BD33B007E06D9C5D1E07C5C5406DF2233850073D6CAFED34239283B9FEF
A101: 보온공 | B101: 일반공사 직종 | C101: 인 | D101: 0.0233 | E101: =단가대비표!O57 -> 0 | F101: =TRUNC(E101*D101,1) -> 0 | G101: =단가대비표!P57 -> 214086 | H101: =TRUNC(G101*D101,1) -> 4988.2 | I101: =단가대비표!V57 -> 0 | J101: =TRUNC(I101*D101,1) -> 0 | K101: =TRUNC(E101+G101+I101,1) -> 214086 | L101: =TRUNC(F101+H101+J101,1) -> 4988.2 | N101: 5BB2A6C11BD33B007E06D9C5D1E07C | O101: 5BAB76E58F63A70071C77725317C333D96D664 | P101: F | Q101: F | R101: T | W101: 2 | AW101: 5BB2A6C11BD33B007E06D9C5D1E07C5BAB76E58F63A70071C77725317C333D96D664
A102: 보통인부 | B102: 일반공사 직종 | C102: 인 | D102: 0.0117 | E102: =단가대비표!O54 -> 0 | F102: =TRUNC(E102*D102,1) -> 0 | G102: =단가대비표!P54 -> 167081 | H102: =TRUNC(G102*D102,1) -> 1954.8 | I102: =단가대비표!V54 -> 0 | J102: =TRUNC(I102*D102,1) -> 0 | K102: =TRUNC(E102+G102+I102,1) -> 167081 | L102: =TRUNC(F102+H102+J102,1) -> 1954.8 | N102: 5BB2A6C11BD33B007E06D9C5D1E07C | O102: 5BAB76E58F63A70071C77725317C333D96D287 | P102: F | Q102: F | R102: T | W102: 2 | AW102: 5BB2A6C11BD33B007E06D9C5D1E07C5BAB76E58F63A70071C77725317C333D96D287
A103: 공구손료 | B103: 인력품의 3% | C103: 식 | D103: 1 | E103: =TRUNC(SUMIF(W97:W103, RIGHTB(O103, 1), H97:H103)*U103, 2) -> 208.29 | F103: =TRUNC(E103*D103,1) -> 208.2 | G103: 0 | H103: =TRUNC(G103*D103,1) -> 0 | I103: 0 | J103: =TRUNC(I103*D103,1) -> 0 | K103: =TRUNC(E103+G103+I103,1) -> 208.2 | L103: =TRUNC(F103+H103+J103,1) -> 208.2 | N103: 5BB2A6C11BD33B007E06D9C5D1E07C | O103: 5A6D067F47C3BD0073F50EE3AE3F002 | P103: F | Q103: F | R103: F | S103: 1 | T103: 0 | U103: 0.03 | AW103: 5BB2A6C11BD33B007E06D9C5D1E07C5A6D067F47C3BD0073F50EE3AE3F002
A104: [ 합 계 ] | F104: =TRUNC(SUMIF(N97:N103, N96, F97:F103),0) -> 2916 | H104: =TRUNC(SUMIF(N97:N103, N96, H97:H103),0) -> 6943 | J104: =TRUNC(SUMIF(N97:N103, N96, J97:J103),0) -> 0 | L104: =F104+H104+J104 -> 9859 | N104: TOTAL | O104: TOTAL
A106: 관보온(아티론.슈퍼매직303) 25TxD32 m 기계설비 3-1-1 ( 호표 14 ) | N106: 5BB2A6C11BD344007786D3A8ACDC6F
A107: 관보온재 | B107: 관보온재, 아티론, 난연, Φ32*25mm | C107: m | D107: 1.05 | E107: =단가대비표!O13 -> 2083 | F107: =TRUNC(E107*D107,1) -> 2187.1 | G107: =단가대비표!P13 -> 0 | H107: =TRUNC(G107*D107,1) -> 0 | I107: =단가대비표!V13 -> 0 | J107: =TRUNC(I107*D107,1) -> 0 | K107: =TRUNC(E107+G107+I107,1) -> 2083 | L107: =TRUNC(F107+H107+J107,1) -> 2187.1 | N107: 5BB2A6C11BD344007786D3A8ACDC6F | O107: 5C28D63F67933F007322A7CF8B3DAED023DA78 | P107: F | Q107: F | R107: T | V107: 1 | AW107: 5BB2A6C11BD344007786D3A8ACDC6F5C28D63F67933F007322A7CF8B3DAED023DA78
A108: 잡재료 | B108: 보온통의 3% | C108: 식 | D108: 1 | E108: =TRUNC(SUMIF(V107:V113, RIGHTB(O108, 1), F107:F113)*U108, 2) -> 65.61 | F108: =TRUNC(E108*D108,1) -> 65.6 | G108: 0 | H108: =TRUNC(G108*D108,1) -> 0 | I108: 0 | J108: =TRUNC(I108*D108,1) -> 0 | K108: =TRUNC(E108+G108+I108,1) -> 65.6 | L108: =TRUNC(F108+H108+J108,1) -> 65.6 | N108: 5BB2A6C11BD344007786D3A8ACDC6F | O108: 5A6D067F47C3BD0073F50EE3AE3C001 | P108: F | Q108: F | R108: F | S108: 0 | T108: 0 | U108: 0.03 | AW108: 5BB2A6C11BD344007786D3A8ACDC6F5A6D067F47C3BD0073F50EE3AE3C001
A109: 슈퍼매직 303 | B109: 0.2t, 100mm*15m | C109: ㎡ | D109: 0.4 | E109: =단가대비표!O9 -> 1279 | F109: =TRUNC(E109*D109,1) -> 511.6 | G109: =단가대비표!P9 -> 0 | H109: =TRUNC(G109*D109,1) -> 0 | I109: =단가대비표!V9 -> 0 | J109: =TRUNC(I109*D109,1) -> 0 | K109: =TRUNC(E109+G109+I109,1) -> 1279 | L109: =TRUNC(F109+H109+J109,1) -> 511.6 | N109: 5BB2A6C11BD344007786D3A8ACDC6F | O109: 5C5406DF2233850073D6CAFED34239283B9ECF | P109: F | Q109: F | R109: T | AW109: 5BB2A6C11BD344007786D3A8ACDC6F5C5406DF2233850073D6CAFED34239283B9ECF
A110: AL 밴드 | B110: 0.3*30W | C110: M | D110: 0.35 | E110: =단가대비표!O10 -> 310 | F110: =TRUNC(E110*D110,1) -> 108.5 | G110: =단가대비표!P10 -> 0 | H110: =TRUNC(G110*D110,1) -> 0 | I110: =단가대비표!V10 -> 0 | J110: =TRUNC(I110*D110,1) -> 0 | K110: =TRUNC(E110+G110+I110,1) -> 310 | L110: =TRUNC(F110+H110+J110,1) -> 108.5 | N110: 5BB2A6C11BD344007786D3A8ACDC6F | O110: 5C5406DF2233850073D6CAFED34239283B9FEF | P110: F | Q110: F | R110: T | AW110: 5BB2A6C11BD344007786D3A8ACDC6F5C5406DF2233850073D6CAFED34239283B9FEF
A111: 보온공 | B111: 일반공사 직종 | C111: 인 | D111: 0.0274 | E111: =단가대비표!O57 -> 0 | F111: =TRUNC(E111*D111,1) -> 0 | G111: =단가대비표!P57 -> 214086 | H111: =TRUNC(G111*D111,1) -> 5865.9 | I111: =단가대비표!V57 -> 0 | J111: =TRUNC(I111*D111,1) -> 0 | K111: =TRUNC(E111+G111+I111,1) -> 214086 | L111: =TRUNC(F111+H111+J111,1) -> 5865.9 | N111: 5BB2A6C11BD344007786D3A8ACDC6F | O111: 5BAB76E58F63A70071C77725317C333D96D664 | P111: F | Q111: F | R111: T | W111: 2 | AW111: 5BB2A6C11BD344007786D3A8ACDC6F5BAB76E58F63A70071C77725317C333D96D664
A112: 보통인부 | B112: 일반공사 직종 | C112: 인 | D112: 0.0137 | E112: =단가대비표!O54 -> 0 | F112: =TRUNC(E112*D112,1) -> 0 | G112: =단가대비표!P54 -> 167081 | H112: =TRUNC(G112*D112,1) -> 2289 | I112: =단가대비표!V54 -> 0 | J112: =TRUNC(I112*D112,1) -> 0 | K112: =TRUNC(E112+G112+I112,1) -> 167081 | L112: =TRUNC(F112+H112+J112,1) -> 2289 | N112: 5BB2A6C11BD344007786D3A8ACDC6F | O112: 5BAB76E58F63A70071C77725317C333D96D287 | P112: F | Q112: F | R112: T | W112: 2 | AW112: 5BB2A6C11BD344007786D3A8ACDC6F5BAB76E58F63A70071C77725317C333D96D287
A113: 공구손료 | B113: 인력품의 3% | C113: 식 | D113: 1 | E113: =TRUNC(SUMIF(W107:W113, RIGHTB(O113, 1), H107:H113)*U113, 2) -> 244.64 | F113: =TRUNC(E113*D113,1) -> 244.6 | G113: 0 | H113: =TRUNC(G113*D113,1) -> 0 | I113: 0 | J113: =TRUNC(I113*D113,1) -> 0 | K113: =TRUNC(E113+G113+I113,1) -> 244.6 | L113: =TRUNC(F113+H113+J113,1) -> 244.6 | N113: 5BB2A6C11BD344007786D3A8ACDC6F | O113: 5A6D067F47C3BD0073F50EE3AE3F002 | P113: F | Q113: F | R113: F | S113: 1 | T113: 0 | U113: 0.03 | AW113: 5BB2A6C11BD344007786D3A8ACDC6F5A6D067F47C3BD0073F50EE3AE3F002
...

Sheet 단가대비표
A1: 단 가 대 비 표
A2: 산울림청소년센터 냉난방기 교체 공사
A3: 코 드 | B3: 품 명 | C3: 규격 | D3: 단위 | E3: 재 료 비 | P3: 노 무 비 | Q3: 경 비 | W3: 번 호 | X3: 비 고 | Y3: 품목구분 | Z3: 노임구분 | AA3: 소수점처리 | AB3: 자재구분
E4: 조달청가격 | F4: PAGE | G4: 거래가격 | H4: PAGE | I4: 유통물가 | J4: PAGE | K4: 물가자료 | L4: PAGE | M4: 조사가격2 | N4: PAGE | O4: 적용단가 | Q4: 조달청가격 | R4: 거래가격 | S4: 유통물가 | T4: 물가자료 | U4: 조사가격2 | V4: 적용단가
A5: 5C70D64A22B37D007152C7CF1D00E6BD091053 | B5: 산소가스 | C5: 기체 | D5: L | E5: 2 | G5: 4.16 | H5: 1451 | I5: 3.03 | J5: 1190 | K5: 0 | M5: 0 | O5: =SMALL(E5:M5,COUNTIF(E5:M5,0)+1) -> 2 | P5: 0 | Q5: 0 | R5: 0 | S5: 0 | T5: 0 | U5: 0 | V5: 0 | W5: 자재 1
A6: 5C70A6F6E6E333007247565614410539C9EA07 | B6: 아세틸렌가스 | C6: 아세틸렌가스, g | D6: g | E6: 0 | G6: 42 | H6: 1451 | I6: 23.7 | J6: 1190 | K6: 0 | M6: 0 | O6: =SMALL(E6:M6,COUNTIF(E6:M6,0)+1) -> 23.7 | P6: 0 | Q6: 0 | R6: 0 | S6: 0 | T6: 0 | U6: 0 | V6: 0 | W6: 자재 2
A7: 5C5406DF2C33CA0070B2FBF926E0B70A7EA228 | B7: 용접용 용재 | C7: 후락스 | D7: g | E7: 10.62 | G7: 0 | I7: 0 | K7: 0 | M7: 9 | N7: 설비협회 | O7: =SMALL(E7:M7,COUNTIF(E7:M7,0)+1) -> 9 | P7: 0 | Q7: 0 | R7: 0 | S7: 0 | T7: 0 | U7: 0 | V7: 0 | W7: 자재 3
A8: 5C5406DF2C33CA0070B2FBF926E0B70A7EA22B | B8: 동 및 동합금용 용접봉 | C8: D2.4mm, BCUP3 | D8: g | E8: 53.45 | G8: 0 | I8: 0 | K8: 0 | M8: 0 | O8: =SMALL(E8:M8,COUNTIF(E8:M8,0)+1) -> 53.45 | P8: 0 | Q8: 0 | R8: 0 | S8: 0 | T8: 0 | U8: 0 | V8: 0 | W8: 자재 4
A9: 5C5406DF2233850073D6CAFED34239283B9ECF | B9: 슈퍼매직 303 | C9: 0.2t, 100mm*15m | D9: ㎡ | E9: 1660 | G9: 0 | I9: 1300 | J9: 711 | K9: 0 | M9: 1279 | N9: 설비협회 | O9: =SMALL(E9:M9,COUNTIF(E9:M9,0)+1) -> 1279 | P9: 0 | Q9: 0 | R9: 0 | S9: 0 | T9: 0 | U9: 0 | V9: 0 | W9: 자재 5
A10: 5C5406DF2233850073D6CAFED34239283B9FEF | B10: AL 밴드 | C10: 0.3*30W | D10: M | E10: 310 | G10: 360 | H10: 991 | I10: 360 | J10: 683 | K10: 0 | M10: 0 | O10: =SMALL(E10:M10,COUNTIF(E10:M10,0)+1) -> 310 | P10: 0 | Q10: 0 | R10: 0 | S10: 0 | T10: 0 | U10: 0 | V10: 0 | W10: 자재 6
A11: 5C5406DF2233850073D6CAFED34239283B9C1C | B11: 본드(고무발포용) | D11: KG | E11: 7560 | G11: 0 | I11: 10000 | J11: 682 | K11: 0 | M11: 0 | O11: =SMALL(E11:M11,COUNTIF(E11:M11,0)+1) -> 7560 | P11: 0 | Q11: 0 | R11: 0 | S11: 0 | T11: 0 | U11: 0 | V11: 0 | W11: 자재 7
A12: 5C28D63F67933F007322A7CF8B3DAED023DA79 | B12: 관보온재 | C12: 관보온재, 아티론, 난연, Φ25*25mm | D12: m | E12: 1987 | G12: 2080 | H12: 990 | I12: 0 | K12: 0 | M12: 0 | O12: =SMALL(E12:M12,COUNTIF(E12:M12,0)+1) -> 1987 | P12: 0 | Q12: 0 | R12: 0 | S12: 0 | T12: 0 | U12: 0 | V12: 0 | W12: 자재 8
A13: 5C28D63F67933F007322A7CF8B3DAED023DA78 | B13: 관보온재 | C13: 관보온재, 아티론, 난연, Φ32*25mm | D13: m | E13: 2083 | G13: 2281 | H13: 990 | I13: 0 | K13: 0 | M13: 0 | O13: =SMALL(E13:M13,COUNTIF(E13:M13,0)+1) -> 2083 | P13: 0 | Q13: 0 | R13: 0 | S13: 0 | T13: 0 | U13: 0 | V13: 0 | W13: 자재 9
A14: 5C28D63F67933F007322A7CF8B3DAED023DA7F | B14: 관보온재 | C14: 관보온재, 아티론, 난연, Φ40*25mm | D14: m | E14: 2280 | G14: 2417 | H14: 990 | I14: 0 | K14: 0 | M14: 0 | O14: =SMALL(E14:M14,COUNTIF(E14:M14,0)+1) -> 2280 | P14: 0 | Q14: 0 | R14: 0 | S14: 0 | T14: 0 | U14: 0 | V14: 0 | W14: 자재 10
A15: 5C28D63F67933F007322A47AE766F1D270909E | B15: 관보온재 | C15: 고무발포, 19TxD15 | D15: M | E15: 0 | G15: 1940 | H15: 989 | I15: 2450 | J15: 682 | K15: 0 | M15: 0 | O15: =SMALL(E15:M15,COUNTIF(E15:M15,0)+1) -> 1940 | P15: 0 | Q15: 0 | R15: 0 | S15: 0 | T15: 0 | U15: 0 | V15: 0 | W15: 자재 11
A16: 5C28D63F67933F007322A47AE766F1D270909F | B16: 관보온재 | C16: 고무발포, 19TxD20 | D16: M | E16: 0 | G16: 2450 | H16: 989 | I16: 2860 | J16: 682 | K16: 0 | M16: 0 | O16: =SMALL(E16:M16,COUNTIF(E16:M16,0)+1) -> 2450 | P16: 0 | Q16: 0 | R16: 0 | S16: 0 | T16: 0 | U16: 0 | V16: 0 | W16: 자재 12
A17: 5C28D63F67933F007322A47AE766F1D2709098 | B17: 관보온재 | C17: 고무발포, 19TxD25 | D17: M | E17: 0 | G17: 2860 | H17: 989 | I17: 3670 | J17: 682 | K17: 0 | M17: 0 | O17: =SMALL(E17:M17,COUNTIF(E17:M17,0)+1) -> 2860 | P17: 0 | Q17: 0 | R17: 0 | S17: 0 | T17: 0 | U17: 0 | V17: 0 | W17: 자재 13
A18: 5C28D63F67933F007322A47AE766F1D2709099 | B18: 관보온재 | C18: 고무발포, 19TxD32 | D18: M | E18: 0 | G18: 3670 | H18: 989 | I18: 4240 | J18: 682 | K18: 0 | M18: 0 | O18: =SMALL(E18:M18,COUNTIF(E18:M18,0)+1) -> 3670 | P18: 0 | Q18: 0 | R18: 0 | S18: 0 | T18: 0 | U18: 0 | V18: 0 | W18: 자재 14
A19: 5C28D63F63336D0078349E30C97F692A5DC267 | B19: 통신선 | C19: CVV-SB 1.0㎟ x 2C | D19: M | E19: 0 | G19: 0 | I19: 2552 | J19: 835 | K19: 0 | M19: 0 | O19: =SMALL(E19:M19,COUNTIF(E19:M19,0)+1) -> 2552 | P19: 0 | Q19: 0 | R19: 0 | S19: 0 | T19: 0 | U19: 0 | V19: 0 | W19: 자재 15
A20: 5C28D63F63336D0078349E30C97F692A5DC266 | B20: 전원선 | C20: HFIX 2.5㎟ x 3C | D20: M | E20: 0 | G20: 0 | I20: 760 | J20: 833 | K20: 0 | M20: 0 | O20: =SMALL(E20:M20,COUNTIF(E20:M20,0)+1) -> 760 | P20: 0 | Q20: 0 | R20: 0 | S20: 0 | T20: 0 | U20: 0 | V20: 0 | W20: 자재 16
A21: 5C28D63F63336D0078349E30C97F692A5DC269 | B21: 개별제어선 | C21: AWG22 0.5㎟ x 3C | D21: M | E21: 0 | G21: 0 | I21: 629 | J21: 841 | K21: 0 | M21: 0 | O21: =SMALL(E21:M21,COUNTIF(E21:M21,0)+1) -> 629 | P21: 0 | Q21: 0 | R21: 0 | S21: 0 | T21: 0 | U21: 0 | V21: 0 | W21: 자재 17
A22: 5C28D63F63336D0078349E30C97F692A5DC268 | B22: 금속가요전선관 | C22: 16C,비방수 | D22: M | E22: 0 | G22: 0 | I22: 1100 | J22: 862 | K22: 0 | M22: 0 | O22: =SMALL(E22:M22,COUNTIF(E22:M22,0)+1) -> 1100 | P22: 0 | Q22: 0 | R22: 0 | S22: 0 | T22: 0 | U22: 0 | V22: 0 | W22: 자재 18
A23: 5C28D63F63336D00783CD015F28F35A4746B13 | B23: 냉매 | C23: R-410A | D23: KG | E23: 0 | G23: 0 | I23: 0 | K23: 8500 | L23: 부록P33 | M23: 0 | O23: =SMALL(E23:M23,COUNTIF(E23:M23,0)+1) -> 8500 | P23: 0 | Q23: 0 | R23: 0 | S23: 0 | T23: 0 | U23: 0 | V23: 0 | W23: 자재 19
A24: 5C28D63F63336D00783CD015F28F35A4746B14 | B24: 질소 | D24: KG | E24: 0 | G24: 0 | I24: 0 | K24: 3250 | L24: 부록P33 | M24: 0 | O24: =SMALL(E24:M24,COUNTIF(E24:M24,0)+1) -> 3250 | P24: 0 | Q24: 0 | R24: 0 | S24: 0 | T24: 0 | U24: 0 | V24: 0 | W24: 자재 20
A25: 5C28D63F63336D0079D5B982E7D10052FDEA5C | B25: 크레인 | C25: 25톤(8시간기준) | D25: 회 | E25: 0 | G25: 0 | I25: 0 | K25: 0 | M25: 0 | O25: 0 | P25: 0 | Q25: 0 | R25: 0 | S25: 0 | T25: 987192 | U25: 0 | V25: =SMALL(Q25:U25,COUNTIF(Q25:U25,0)+1) -> 987192 | W25: 자재 21
A26: 5C28D63F63336D0079D5B982E7D10052FDEA5D | B26: 크레인 | C26: 50톤(8시간기준) | D26: 회 | E26: 0 | G26: 0 | I26: 0 | K26: 0 | M26: 0 | O26: 0 | P26: 0 | Q26: 0 | R26: 0 | S26: 0 | T26: 1304648 | U26: 0 | V26: =SMALL(Q26:U26,COUNTIF(Q26:U26,0)+1) -> 1304648 | W26: 자재 22
A27: 5C28D63F63335300760F09119ABE5075AFA2DF | B27: 이음매없는동및동합금관 | C27: 배관용동관, L형, Φ15mm | D27: m | E27: 5990 | G27: 6646 | H27: 785 | I27: 6700 | J27: 546 | K27: 0 | M27: 0 | O27: =SMALL(E27:M27,COUNTIF(E27:M27,0)+1) -> 5990 | P27: 0 | Q27: 0 | R27: 0 | S27: 0 | T27: 0 | U27: 0 | V27: 0 | W27: 자재 23
A28: 5C28D63F63335300760F09119ABE5075AFA2DE | B28: 이음매없는동및동합금관 | C28: 배관용동관, L형, Φ20mm | D28: m | E28: 9530 | G28: 10530 | H28: 785 | I28: 10610 | J28: 546 | K28: 0 | M28: 0 | O28: =SMALL(E28:M28,COUNTIF(E28:M28,0)+1) -> 9530 | P28: 0 | Q28: 0 | R28: 0 | S28: 0 | T28: 0 | U28: 0 | V28: 0 | W28: 자재 24
A29: 5C28D63F63335300760F09119ABE5075AFA2DD | B29: 이음매없는동및동합금관 | C29: 배관용동관, L형, Φ25mm | D29: m | E29: 13750 | G29: 15194 | H29: 785 | I29: 15330 | J29: 546 | K29: 0 | M29: 0 | O29: =SMALL(E29:M29,COUNTIF(E29:M29,0)+1) -> 13750 | P29: 0 | Q29: 0 | R29: 0 | S29: 0 | T29: 0 | U29: 0 | V29: 0 | W29: 자재 25
A30: 5C28D63F63335300760F09119ABE5075AFA2DC | B30: 이음매없는동및동합금관 | C30: 배관용동관, L형, Φ32mm | D30: m | E30: 18640 | G30: 20592 | H30: 785 | I30: 20740 | J30: 546 | K30: 0 | M30: 0 | O30: =SMALL(E30:M30,COUNTIF(E30:M30,0)+1) -> 18640 | P30: 0 | Q30: 0 | R30: 0 | S30: 0 | T30: 0 | U30: 0 | V30: 0 | W30: 자재 26
A31: 5C28D63F63335300760629170C8A5925C84096 | B31: 일반용경질폴리염화비닐관 | C31: Φ32mm, VG1 | D31: m | E31: 0 | G31: 2012 | H31: 793 | I31: 2175 | J31: 554 | K31: 1830 | M31: 0 | O31: =SMALL(E31:M31,COUNTIF(E31:M31,0)+1) -> 1830 | P31: 0 | Q31: 0 | R31: 0 | S31: 0 | T31: 0 | U31: 0 | V31: 0 | W31: 자재 27
A32: 5C28D63F63335300760629170C8A5925C84097 | B32: 일반용경질폴리염화비닐관 | C32: Φ40mm, VG1 | D32: m | E32: 0 | G32: 2622 | H32: 793 | I32: 2825 | J32: 554 | K32: 0 | M32: 0 | O32: =SMALL(E32:M32,COUNTIF(E32:M32,0)+1) -> 2622 | P32: 0 | Q32: 0 | R32: 0 | S32: 0 | T32: 0 | U32: 0 | V32: 0 | W32: 자재 28
A33: 5C28D63F63335300760629170C8A5925C96FFE | B33: 일반용경질폴리염화비닐관 | C33: Φ25mm, VG1 | D33: m | E33: 0 | G33: 1350 | H33: 793 | I33: 1350 | J33: 554 | K33: 1270 | M33: 0 | O33: =SMALL(E33:M33,COUNTIF(E33:M33,0)+1) -> 1270 | P33: 0 | Q33: 0 | R33: 0 | S33: 0 | T33: 0 | U33: 0 | V33: 0 | W33: 자재 29
A34: 5C28D63F633353007449C2DE5C6FD85531C4B8 | B34: 동관이음쇠 | C34: Φ20mm, 동소켓 | D34: 개 | E34: 530 | G34: 750 | H34: 786 | I34: 740 | J34: 547 | K34: 0 | M34: 0 | O34: =SMALL(E34:M34,COUNTIF(E34:M34,0)+1) -> 530 | P34: 0 | Q34: 0 | R34: 0 | S34: 0 | T34: 0 | U34: 0 | V34: 0 | W34: 자재 30
A35: 5C28D63F633353007449C2DE5C6FD85531C4BB | B35: 동관이음쇠 | C35: Φ25mm, 동소켓 | D35: 개 | E35: 900 | G35: 1290 | H35: 786 | I35: 1270 | J35: 547 | K35: 0 | M35: 0 | O35: =SMALL(E35:M35,COUNTIF(E35:M35,0)+1) -> 900 | P35: 0 | Q35: 0 | R35: 0 | S35: 0 | T35: 0 | U35: 0 | V35: 0 | W35: 자재 31
A36: 5C28D63F633353007449C2DE5C6FD85531C4BA | B36: 동관이음쇠 | C36: Φ32mm, 동소켓 | D36: 개 | E36: 1490 | G36: 2110 | H36: 786 | I36: 2070 | J36: 547 | K36: 0 | M36: 0 | O36: =SMALL(E36:M36,COUNTIF(E36:M36,0)+1) -> 1490 | P36: 0 | Q36: 0 | R36: 0 | S36: 0 | T36: 0 | U36: 0 | V36: 0 | W36: 자재 32
A37: 5C28D63F633353007449C2DE5C678778D205D5 | B37: 동관이음쇠 | C37: Φ15mm, 동소켓 | D37: 개 | E37: 340 | G37: 490 | H37: 786 | I37: 490 | J37: 547 | K37: 0 | M37: 0 | O37: =SMALL(E37:M37,COUNTIF(E37:M37,0)+1) -> 340 | P37: 0 | Q37: 0 | R37: 0 | S37: 0 | T37: 0 | U37: 0 | V37: 0 | W37: 자재 33
A38: 5C28D63F63335300760F09119ABE5075AFA2DF | B38: 1WAY 실내기 멀티 | C38: RNW0400C2S.AKM | D38: 대 | M38: 572000 | N38: 시장조사 | O38: =SMALL(E38:M38,COUNTIF(E38:M38,0)+1) -> 572000 | P38: 0 | Q38: 0 | R38: 0 | S38: 0 | T38: 0 | U38: 0 | V38: 0 | W38: 자재 34
A39: 5C28D63F63335300760F09119ABE5075AFA2DE | B39: 4WAY 실내기 멀티 | C39: RNW0601A2S.AKM | D39: 대 | M39: 832000 | N39: 시장조사 | O39: =SMALL(E39:M39,COUNTIF(E39:M39,0)+1) -> 832000 | P39: 0 | Q39: 0 | R39: 0 | S39: 0 | T39: 0 | U39: 0 | V39: 0 | W39: 자재 35
A40: 5C28D63F63335300760F09119ABE5075AFA2DD | B40: 4WAY 실내기 멀티 | C40: RNW0721A2S.AKM | D40: 대 | M40: 875000 | N40: 시장조사 | O40: =SMALL(E40:M40,COUNTIF(E40:M40,0)+1) -> 875000 | P40: 0 | Q40: 0 | R40: 0 | S40: 0 | T40: 0 | U40: 0 | V40: 0 | W40: 자재 36
A41: 5C28D63F63335300760F09119ABE5075AFA2DC | B41: 4WAY 실내기 멀티 | C41: RNW0831A2S.AKM | D41: 대 | M41: 886000 | N41: 시장조사 | O41: =SMALL(E41:M41,COUNTIF(E41:M41,0)+1) -> 886000 | P41: 0 | Q41: 0 | R41: 0 | S41: 0 | T41: 0 | U41: 0 | V41: 0 | W41: 자재 37
A42: 5C28D63F63335300760629170C8A5925C84096 | B42: 4WAY 실내기 멀티 | C42: RNW1101A2S.AKM | D42: 대 | M42: 940000 | N42: 시장조사 | O42: =SMALL(E42:M42,COUNTIF(E42:M42,0)+1) -> 940000 | P42: 0 | Q42: 0 | R42: 0 | S42: 0 | T42: 0 | U42: 0 | V42: 0 | W42: 자재 38
A43: 5C28D63F63335300760629170C8A5925C84097 | B43: 8마력 실외기 냉방전용 | C43: RPUW082X9T.AKM2 | D43: 대 | M43: 9229000 | N43: 시장조사 | O43: =SMALL(E43:M43,COUNTIF(E43:M43,0)+1) -> 9229000 | P43: 0 | Q43: 0 | R43: 0 | S43: 0 | T43: 0 | U43: 0 | V43: 0 | W43: 자재 39
A44: 5C28D63F63335300760629170C8A5925C96FFE | B44: 10마력 실외기 냉방전용 | C44: RPUW102X9T.AKM2 | D44: 대 | M44: 9988000 | N44: 시장조사 | O44: =SMALL(E44:M44,COUNTIF(E44:M44,0)+1) -> 9988000 | P44: 0 | Q44: 0 | R44: 0 | S44: 0 | T44: 0 | U44: 0 | V44: 0 | W44: 자재 40
A45: 5C28D63F633353007449C2DE5C6FD85531C4B8 | B45: 5마력 실외기 냉방전용 | C45: RPUW051S9S.AKM | D45: 대 | M45: 3399000 | N45: 시장조사 | O45: =SMALL(E45:M45,COUNTIF(E45:M45,0)+1) -> 3399000 | P45: 0 | Q45: 0 | R45: 0 | S45: 0 | T45: 0 | U45: 0 | V45: 0 | W45: 자재 41
A46: 5C28D63F63335300760F09119ABE5075AFA2DF | B46: 5마력 실외기 냉방전용 | C46: PW1450T9L.ASM | D46: 대 | M46: 2478000 | N46: 시장조사 | O46: =SMALL(E46:M46,COUNTIF(E46:M46,0)+1) -> 2478000 | P46: 0 | Q46: 0 | R46: 0 | S46: 0 | T46: 0 | U46: 0 | V46: 0 | W46: 자재 42
A47: 5C28D63F63335300760F09119ABE5075AFA2DE | B47: 10마력 스탠드 싱글형 냉난방 | C47: PW2900F9SF.AKM | D47: 대 | M47: 6870909.1 | N47: 시장조사 | O47: =SMALL(E47:M47,COUNTIF(E47:M47,0)+1) -> 6870909.1 | P47: 0 | Q47: 0 | R47: 0 | S47: 0 | T47: 0 | U47: 0 | V47: 0 | W47: 자재 43
A48: 5C28D63F63335300760F09119ABE5075AFA2DD | B48: 1WAY 실내기 판넬 소형 | C48: PFP-VU2SW.AKM | D48: 대 | M48: 137000 | N48: 시장조사 | O48: =SMALL(E48:M48,COUNTIF(E48:M48,0)+1) -> 137000 | P48: 0 | Q48: 0 | R48: 0 | S48: 0 | T48: 0 | U48: 0 | V48: 0 | W48: 자재 44
A49: 5C28D63F63335300760F09119ABE5075AFA2DC | B49: 4WAY 실내기 판넬 | C49: PFP-WA4CW.AKM | D49: 대 | M49: 173000 | N49: 시장조사 | O49: =SMALL(E49:M49,COUNTIF(E49:M49,0)+1) -> 173000 | P49: 0 | Q49: 0 | R49: 0 | S49: 0 | T49: 0 | U49: 0 | V49: 0 | W49: 자재 45
... A51: 5C28D63F63335300760629170C8A5925C84097 | B51: 중앙제어기 | C51: PCS-Z150S0.AKM | D51: 대 | M51: 256000 | N51: 시장조사 | O51: =SMALL(E51:M51,COUNTIF(E51:M51,0)+1) -> 256000 | P51: 0 | Q51: 0 | R51: 0 | S51: 0 | T51: 0 | U51: 0 | V51: 0 | W51: 자재 47
A52: 5C28D63F63335300760629170C8A5925C96FFE | B52: 분지관 | D52: 대 | M52: 98000 | N52: 시장조사 | O52: =SMALL(E52:M52,COUNTIF(E52:M52,0)+1) -> 98000 | P52: 0 | Q52: 0 | R52: 0 | S52: 0 | T52: 0 | U52: 0 | V52: 0 | W52: 자재 48
A53: 5C28D63F633353007449C2DE5C6FD85531C4B8 | B53: 실외기 받침대 | D53: 대 | M53: 138000 | N53: 시장조사 | O53: =SMALL(E53:M53,COUNTIF(E53:M53,0)+1) -> 138000 | P53: 0 | Q53: 0 | R53: 0 | S53: 0 | T53: 0 | U53: 0 | V53: 0 | W53: 자재 49
A54: 5BAB76E58F63A70071C77725317C333D96D287 | B54: 보통인부 | C54: 일반공사 직종 | D54: 인 | E54: 0 | G54: 0 | I54: 0 | K54: 0 | M54: 0 | O54: 0 | P54: 167081 | Q54: 0 | R54: 0 | S54: 0 | T54: 0 | U54: 0 | V54: 0 | W54: 노임 1 | Y54: B
A55: 5BAB76E58F63A70071C77725317C333D96D3A9 | B55: 용접공 | C55: 일반공사 직종 | D55: 인 | E55: 0 | G55: 0 | I55: 0 | K55: 0 | M55: 0 | O55: 0 | P55: 270724 | Q55: 0 | R55: 0 | S55: 0 | T55: 0 | U55: 0 | V55: 0 | W55: 노임 2 | Y55: B
A56: 5BAB76E58F63A70071C77725317C333D96D1F7 | B56: 배관공 | C56: 일반공사 직종 | D56: 인 | E56: 0 | G56: 0 | I56: 0 | K56: 0 | M56: 0 | O56: 0 | P56: 229664 | Q56: 0 | R56: 0 | S56: 0 | T56: 0 | U56: 0 | V56: 0 | W56: 노임 3 | Y56: B
A57: 5BAB76E58F63A70071C77725317C333D96D664 | B57: 보온공 | C57: 일반공사 직종 | D57: 인 | E57: 0 | G57: 0 | I57: 0 | K57: 0 | M57: 0 | O57: 0 | P57: 214086 | Q57: 0 | R57: 0 | S57: 0 | T57: 0 | U57: 0 | V57: 0 | W57: 노임 4 | Y57: B
A58: 5BAB76E58F63A70071C77725317C333D96D707 | B58: 기계설비공 | C58: 일반공사 직종 | D58: 인 | E58: 0 | G58: 0 | I58: 0 | K58: 0 | M58: 0 | O58: 0 | P58: 242281 | Q58: 0 | R58: 0 | S58: 0 | T58: 0 | U58: 0 | V58: 0 | W58: 노임 5 | Y58: B
A59: 5BAB76E58F63A70071C77725317C333D96D55C | B59: 내선전공 | C59: 일반공사 직종 | D59: 인 | E59: 0 | G59: 0 | I59: 0 | K59: 0 | M59: 0 | O59: 0 | P59: 272860 | Q59: 0 | R59: 0 | S59: 0 | T59: 0 | U59: 0 | V59: 0 | W59: 노임 6 | Y59: B
A60: 5BAB76E58F63A70071C77725317C333D96D551 | B60: 저압케이블전공 | C60: 일반공사 직종 | D60: 인 | E60: 0 | G60: 0 | I60: 0 | K60: 0 | M60: 0 | O60: 0 | P60: 301374 | Q60: 0 | R60: 0 | S60: 0 | T60: 0 | U60: 0 | V60: 0 | W60: 노임 7 | Y60: B
A61: 5BAB76E58F63A70071C77725317C333D96DADF | B61: 계장공 | C61: 일반공사 직종 | D61: 인 | E61: 0 | G61: 0 | I61: 0 | K61: 0 | M61: 0 | O61: 0 | P61: 310890 | Q61: 0 | R61: 0 | S61: 0 | T61: 0 | U61: 0 | V61: 0 | W61: 노임 8 | Y61: B

Sheet  공사설정 
A1: 이 Sheet는 수정하지 마십시요
A2: 공사구분 | B2: C | C2: 타이틀
A3: 확정내역 | B3: 원내역
A4: 자재단가적용 | B4: 5
A5: 경비단가적용 | B5: 5
A6: 품목코드형식 | B6: XXXX-XXXXXXXXXXXXX
A7: 내역금액소수점처리 | B7: C | C7: 1
A8: 일위대가내역소수점처리 | B8: C | C8: 2
A9: 단가명 | B9: 조달청가격 | C9: 거래가격 | D9: 유통물가 | E9: 물가자료 | F9: 조사가격2 | G9: TTTTT
A10: 환율 | B10: 0 | C10: 0 | D10: 0
A11: 시간당작업량 | B11: R | C11: 3
A12: 1회 사이클시간 | B12: R | C12: 3
A13: 시간당 작업사이클 | B13: R | C13: 2
A14: 일반변수 | B14: C | C14: 5
A15: 시간당 노임산출 계수 | B15: A | C15: 1/8*16/12*25/20 | D15: 1/8*16/12*25/20 | E15: 1/8*16/12*25/20 | F15: 1
A16: 재료비 할증 계수 | B16: 0 | C16: 0
A17: 노무비 할증 계수 | B17: 0 | C17: 0 | D17: 0 | E17: 0 | F17: 0 | G17: 0 | H17: 0 | I17: 0 | J17: 0 | K17: 0 | L17: 0 | M17: 0
A18: 경비 할증 계수 | B18: 0 | C18: 0
A19: 내역,일위대가 품명,규격,단위 따로적용
A20: 내역단가 소수점처리 | C20: 1
A21: 코드 | B21: 공종구분명 | C21: 원가비목코드
A22: 1 | B22: 작 업 부 산 물 | C22: A3
A23: 2 | B23: 운 반 비 | C23: C1
A24: 3 | B24: 관 급 자 재 비 | C24: DJ
A25: 4 | B25: 사 급 자 재 비 | C25: D3
A26: 5 | B26: 외 자 재
A27: 6 | B27: ...
A28: 7 | B28: ...
A29: 8 | B29: ...
A30: 9 | B30: ...
