Workbook
Name _______________H66766: [1]단가조사표!#REF!
Name ______________DOG1: #REF!
Name ______________DOG1: #REF!
Name ______________DOG2: #REF!
Name ______________DOG2: #REF!
Name ______________DOG22: #REF!
Name ______________DOG22: #REF!
Name ______________DOG3: #REF!
Name ______________DOG3: #REF!
Name ______________DOG33: #REF!
Name ______________DOG33: #REF!
Name ______________DOG4: #REF!
Name ______________DOG4: #REF!
Name ______________H66766: [1]단가조사표!#REF!
Name ______________IL1: #REF!
Name ______________IL1: #REF!
Name ______________PI48: #REF!
Name ______________PI48: #REF!
Name ______________PI60: #REF!
Name ______________PI60: #REF!
Name ______________RO110: #REF!
Name ______________RO110: #REF!
Name ______________RO22: #REF!
Name ______________RO22: #REF!
Name ______________RO35: #REF!
Name ______________RO35: #REF!
Name ______________RO45: #REF!
Name ______________RO45: #REF!
Name ______________RO60: #REF!
Name ______________RO60: #REF!
Name ______________RO80: #REF!
Name ______________RO80: #REF!
Name ______________SUB1: #REF!
Name ______________SUB1: #REF!
Name ______________SUB2: #REF!
Name ______________SUB2: #REF!
Name ______________SUB3: #REF!
Name ______________SUB3: #REF!
Name ______________sub4: #REF!
Name ______________sub4: #REF!
Name ______________sub5: #REF!
Name ______________sub5: #REF!
Name ______________TON1: #REF!
Name ______________TON1: #REF!
Name ______________TON2: #REF!
Name ______________TON2: #REF!
Name ______________WW2: #REF!
Name ______________WW2: #REF!
Name ______________WW3: #REF!
Name ______________WW3: #REF!
Name ______________WW6: #REF!
Name ______________WW6: #REF!
Name ______________WW7: #REF!
Name ______________WW7: #REF!
Name ______________WW8: #REF!
Name ______________WW8: #REF!
Name _____________DOG1: #REF!
Name _____________DOG1: #REF!
Name _____________DOG2: #REF!
Name _____________DOG2: #REF!

Sheet 원가계산서
B1: 공 사 원 가 계 산 서
B2: 공사명 : | D2: =공종별집계표!A2 -> [ 제1철골주차장 보수공사(2차-전기) ]
B3: 비 목 | E3: 금 액 | F3: 구성비 | G3: 비 고
A4: A1 | B4: 순 공 사 원 가 | C4: 재 료 비 | D4: 직 접 재 료 비 | I4: =#REF!+#REF! -> #REF! | J4: =E4-I4 -> #REF!
A5: A2 | D5: 간 접 재 료 비 | E5: 0 | I5: =#REF!+#REF! -> #REF! | J5: =E5-I5 -> #REF!
A6: A3 | D6: 작 업 부 산 물 | I6: =#REF!+#REF! -> #REF! | J6: =E6-I6 -> #REF!
A7: AS | D7: [ 소 계 ] | E7: =(E4+E5-E6) -> 0 | I7: =#REF!+#REF! -> #REF! | J7: =E7-I7 -> #REF!
A8: B1 | C8: 노 무 비 | D8: 직 접 노 무 비 | I8: =#REF!+#REF! -> #REF! | J8: =E8-I8 -> #REF!
A9: B2 | D9: 간 접 노 무 비 | E9: =TRUNC(E8*F9, 0) -> 0 | F9: 0.175 | G9: 직접노무비 | I9: =#REF!+#REF! -> #REF! | J9: =E9-I9 -> #REF!
A10: BS | D10: [ 소 계 ] | E10: =TRUNC(E8+E9, 0) -> 0 | I10: =#REF!+#REF! -> #REF! | J10: =E10-I10 -> #REF!
A11: C1 | C11: 경 비 | I11: =#REF!+#REF! -> #REF! | J11: =E11-I11 -> #REF!
A12: C2 | D12: 기 계 경 비 | E12: =공종별집계표!J5 -> 0 | I12: =#REF!+#REF! -> #REF! | J12: =E12-I12 -> #REF!
A13: C3 | D13: 품 질 관 리 비 | I13: =#REF!+#REF! -> #REF! | J13: =E13-I13 -> #REF!
A14: C9 | D14: 안 전 관 리 비 | I14: =#REF!+#REF! -> #REF! | J14: =E14-I14 -> #REF!
A15: C4 | D15: 산 재 보 험 료 | E15: =TRUNC(E10*F15, 0) -> 0 | F15: 0.0356 | G15: 노무비 | I15: =#REF!+#REF! -> #REF! | J15: =E15-I15 -> #REF!
A16: C5 | D16: 고 용 보 험 료 | E16: =TRUNC(E10*F16, 0) -> 0 | F16: 0.0101 | G16: 노무비 | I16: =#REF!+#REF! -> #REF! | J16: =E16-I16 -> #REF!
A17: C6 | D17: 국민 건강 보험료 | E17: =TRUNC(E8*F17, 0) -> 0 | F17: 0.03595 | G17: 직접노무비 | I17: =#REF!+#REF! -> #REF! | J17: =E17-I17 -> #REF!
A18: C7 | D18: 국민 연금 보험료 | E18: =TRUNC(E8*F18, 0) -> 0 | F18: 0.0475 | G18: 직접노무비 | I18: =#REF!+#REF! -> #REF! | J18: =E18-I18 -> #REF!
A19: CB | D19: 노인장기요양보험료 | E19: =TRUNC(E17*F19, 0) -> 0 | F19: 0.1314 | G19: 건강보험료 | I19: =#REF!+#REF! -> #REF! | J19: =E19-I19 -> #REF!
A20: C8 | D20: 퇴직 공제 부금비 | E20: =TRUNC(E8*F20, 0) -> 0 | F20: 0.023 | G20: 직접노무비 | I20: =#REF!+#REF! -> #REF! | J20: =E20-I20 -> #REF!
A21: CE | D21: 산업안전보건관리비 | E21: =TRUNC((E7+E8)*F21, 0) -> 0 | F21: 0.0207 | G21: 재료비+직접노무비 | I21: =#REF!+#REF! -> #REF! | J21: =#REF!-I21 -> #REF!
A22: CG | D22: 기 타 경 비 | E22: =TRUNC((E7+E10)*F22, 0) -> 0 | F22: 0.05 | G22: 재료비+노무비 | I22: =#REF!+#REF! -> #REF! | J22: =E22-I22 -> #REF!
A23: CK | D23: 석면분담금 | E23: =TRUNC(E10*F23, 0) -> 0 | F23: 6e-05 | G23: 노무비 | I23: =#REF!+#REF! -> #REF! | J23: =E23-I23 -> #REF!
A24: CL | D24: 임금채권부담금 | E24: =TRUNC(E10*F24, 0) -> 0 | F24: 0.0009 | G24: 노무비 | I24: =#REF!+#REF! -> #REF! | J24: =E24-I24 -> #REF!
A25: CS | D25: [ 소 계 ] | E25: =TRUNC(E11+E12+E13+E15+E16+E17+E18+E20+E14+E19+E21+E22+E23+E24, 0) -> 0 | I25: =#REF!+#REF! -> #REF! | J25: =E25-I25 -> #REF!
A26: S1 | B26: 계 | E26: =TRUNC(E7+E10+E25, 0) -> 0 | I26: =#REF!+#REF! -> #REF! | J26: =E26-I26 -> #REF!
A27: D1 | B27: 일 반 관 리 비 | E27: =TRUNC(E26*F27, 0) -> 0 | F27: 0.04 | G27: 재료비+노무비+경비 | I27: =#REF!+#REF! -> #REF! | J27: =E27-I27 -> #REF!
A28: D2 | B28: 이 윤 | E28: =TRUNC((E10+E25+E27)*F28,0) -> 0 | F28: 0.1 | G28: 노무비+경비+일반관리비 | I28: =#REF!+#REF! -> #REF! | J28: =E28-I28 -> #REF!
A29: D7 | B29: 폐기물상차비or처리비 | I29: =#REF!+#REF! -> #REF! | J29: =E29-I29 -> #REF!
A30: D7 | B30: 작업부산물(철거공사분) | I30: =#REF!+#REF! -> #REF! | J30: =E30-I30 -> #REF!
A31: D9 | B31: 공 급 가 액 | E31: =TRUNC(E26+E27+E28-E30, 0) -> 0 | I31: =#REF!+#REF! -> #REF! | J31: =E31-I31 -> #REF!
B32: 전기공사 손해배상공제 | E32: =TRUNC(E31*F32, 0) -> 0 | F32: 0.0026477 | G32: 순계약금액 * 0.26477
A33: DB | B33: 부 가 가 치 세 | E33: =TRUNC(E31*F33, 0) -> 0 | F33: 0.1 | G33: 공급가액 | I33: =#REF!+#REF! -> #REF! | J33: =E33-I33 -> #REF!
A34: DH | B34: 도 급 액 | E34: =TRUNC(E31+E32+E33, 0) -> 0 | I34: =#REF!+#REF! -> #REF! | J34: =E34-I34 -> #REF!
A35: DL | B35: 관 급 자 재 | E35: =공종별집계표!L9 -> 0 | I35: =#REF!+#REF! -> #REF! | J35: =E35-I35 -> #REF!
A36: DL | I36: =#REF!+#REF! -> #REF! | J36: =E36-I36 -> #REF!
A37: S2 | B37: 총 공 사 비 | E37: =TRUNC(E34+E35+E36, -3) -> 0 | G37: 백원 이하 절사 | I37: =#REF!+#REF! -> #REF! | J37: =E37-I37 -> #REF!

Sheet 공종별집계표
A1: 공 종 별 집 계 표
A2: [ 제1철골주차장 보수공사(2차-전기) ]
A3: 품 명 | B3: 규 격 | C3: 단위 | D3: 수량 | E3: 재 료 비 | G3: 노 무 비 | I3: 경 비 | K3: 합 계 | M3: 비 고 | N3: 공종코드 | O3: 변수 | P3: 상위공종 | Q3: 공종구분 | R3: 공종레벨 | S3: 공종소계 | T3: 원가계산서 연결금액
E4: 단 가 | F4: 금 액 | G4: 단 가 | H4: 금 액 | I4: 단 가 | J4: 금 액 | K4: 단 가 | L4: 금 액
A5: 01 충대병원 제1철골주차장 보수 및 승강기 설계용역-2차공사 | D5: 1 | E5: =F6 -> 0 | F5: =E5*D5 -> 0 | G5: =H6 -> 0 | H5: =G5*D5 -> 0 | I5: =J6+J9 -> 0 | J5: =I5*D5 -> 0 | K5: =E5+G5+I5 -> 0 | L5: =F5+H5+J5 -> 0 | N5: 01 | R5: 1
A6: 0101 전기공사 | D6: 1 | E6: =F7+F8 -> 0 | F6: =E6*D6 -> 0 | G6: =H7+H8 -> 0 | H6: =G6*D6 -> 0 | I6: =J7+J8 -> 0 | J6: =I6*D6 -> 0 | K6: =E6+G6+I6 -> 0 | L6: =F6+H6+J6 -> 0 | N6: 0101 | P6: 01 | R6: 2
A7: 010101 전등 설비공사(2차) | D7: 1 | E7: =공종별내역서!F33 -> 0 | F7: =E7*D7 -> 0 | G7: =공종별내역서!H33 -> 0 | H7: =G7*D7 -> 0 | I7: =공종별내역서!J33 -> 0 | J7: =I7*D7 -> 0 | K7: =E7+G7+I7 -> 0 | L7: =F7+H7+J7 -> 0 | N7: 010101 | P7: 0101 | R7: 3
A8: 010102 전력간선 설비공사(2차) | D8: 1 | E8: =공종별내역서!F56 -> 0 | F8: =E8*D8 -> 0 | G8: =공종별내역서!H56 -> 0 | H8: =G8*D8 -> 0 | I8: =공종별내역서!J56 -> 0 | J8: =I8*D8 -> 0 | K8: =E8+G8+I8 -> 0 | L8: =F8+H8+J8 -> 0 | N8: 010102 | P8: 0101 | R8: 3
E9: =F10 -> 0 | G9: =H10 -> 0 | I9: =J10 -> 0 | J9: =I9*D9 -> 0 | K9: =E9+G9+I9 -> 0 | L9: =F9+H9+J9 -> 0 | N9: 0102 | P9: 01 | R9: 2
E10: =F11 -> 0 | G10: =H11 -> 0 | I10: =J11 -> 0 | J10: =I10*D10 -> 0 | K10: =E10+G10+I10 -> 0 | L10: =F10+H10+J10 -> 0 | N10: 010201 | P10: 0102 | R10: 3
E11: =공종별내역서!F80 -> 0 | F11: =E11*D11 -> 0 | G11: =공종별내역서!H80 -> 0 | H11: =G11*D11 -> 0 | I11: =공종별내역서!J80 -> 0 | J11: =I11*D11 -> 0 | K11: =E11+G11+I11 -> 0 | L11: =F11+H11+J11 -> 0 | N11: 01020101 | P11: 010201 | R11: 4
A21: [ 합 계 ] | F21: =F5 -> 0 | H21: =H5 -> 0 | J21: =J5 -> 0 | L21: =L5 -> 0

Sheet 공종별내역서
A1: =공종별집계표!A2 -> [ 제1철골주차장 보수공사(2차-전기) ]
A2: 품 명 | B2: 규 격 | C2: 단위 | D2: 수량 | E2: 재 료 비 | G2: 노 무 비 | I2: 경 비 | K2: 합 계 | M2: 비 고 | N2: 품목코드 | O2: 변수 | P2: 설정 | Q2: 공종코드 | R2: 일위 | S2: 단산 | T2: 자재 | U2: 손료적용 | V2: 손료저장 | W2: 적용율 | X2: JUK1 | Y2: JUK2 | Z2: JUK3 | AA2: JUK4 | AB2: JUK5 | AC2: JUK6 | AD2: JUK7 | AE2: JUK8 | AF2: JUK9 | AG2: JUK10 | AH2: JUK11 | AI2: JUK12 | AJ2: JUK13 | AK2: JUK14 | AL2: JUK15 | AM2: JUK16 | AN2: JUK17 | AO2: JUK18 | AP2: JUK19 | AQ2: JUK20 | AR2: 자재구분 | AS2: 공종구분 | AT2: 공종레벨 | AU2: 공종+자재 | AV2: 고유번호
E3: 단 가 | F3: 금 액 | G3: 단 가 | H3: 금 액 | I3: 단 가 | J3: 금 액 | K3: 단 가 | L3: 금 액
A4: 010101 전등 설비공사(2차) | Q4: 010101
A5: LED 레이스웨이등 | B5: LED 40W | C5: 조 | D5: 346 | F5: =TRUNC(E5*D5, 0) -> 0 | L5: =TRUNC(F5+H5+J5, 0) -> 0 | M5: 견적가 | N5: 575B715E1B838816AE54130E47E4CCA21A78F3 | Q5: 010101 | R5: F | S5: F | T5: T | AU5: 010101575B715E1B838816AE54130E47E4CCA21A78F3 | AV5: 1347
A6: LED 원형쎈서등 | B6: LED 12W | C6: 조 | D6: 24 | F6: =TRUNC(E6*D6, 0) -> 0 | L6: =TRUNC(F6+H6+J6, 0) -> 0 | M6: 견적가 | N6: 575B715E1B838816AE54130E47E4CCA21A78F4 | Q6: 010101 | R6: F | S6: F | T6: T | AU6: 010101575B715E1B838816AE54130E47E4CCA21A78F4 | AV6: 1348
A7: LED 원형직부등 | B7: LED 12W | C7: 조 | D7: 11 | F7: =TRUNC(E7*D7, 0) -> 0 | L7: =TRUNC(F7+H7+J7, 0) -> 0 | M7: 견적가 | N7: 575B715E1B838816AE54130E47E4CCA21A78F5 | Q7: 010101 | R7: F | S7: F | T7: T | AU7: 010101575B715E1B838816AE54130E47E4CCA21A78F5 | AV7: 1349
A8: 스위치박스 | B8: 1 개용 54 mm | C8: 개 | D8: 6 | F8: =TRUNC(E8*D8, 0) -> 0 | L8: =TRUNC(F8+H8+J8, 0) -> 0 | N8: 575B715E1B838816AE54130E47E4CCA21C266A | Q8: 010101 | R8: F | S8: F | T8: T | AU8: 010101575B715E1B838816AE54130E47E4CCA21C266A | AV8: 1338
A9: 아우트렛박스 | B9: 중형4각 54㎜ | C9: 개 | D9: 4 | F9: =TRUNC(E9*D9, 0) -> 0 | L9: =TRUNC(F9+H9+J9, 0) -> 0 | N9: 575B715E1B838816AE54130E47E4CCA21C266C | Q9: 010101 | R9: F | S9: F | T9: T | AU9: 010101575B715E1B838816AE54130E47E4CCA21C266C | AV9: 121
A10: 아우트렛박스 | B10: 8각 54㎜ | C10: 개 | D10: 380 | F10: =TRUNC(E10*D10, 0) -> 0 | L10: =TRUNC(F10+H10+J10, 0) -> 0 | N10: 575B715E1B838816AE54130E47E4CCA21C2777 | Q10: 010101 | R10: F | S10: F | T10: T | AU10: 010101575B715E1B838816AE54130E47E4CCA21C2777 | AV10: 1350
A11: 아우트렛박스 | B11: 커버, 4각, 평 | C11: 개 | D11: 4 | F11: =TRUNC(E11*D11, 0) -> 0 | L11: =TRUNC(F11+H11+J11, 0) -> 0 | N11: 575B715E1B838816AE54130E47E4CCA21C2547 | Q11: 010101 | R11: F | S11: F | T11: T | AU11: 010101575B715E1B838816AE54130E47E4CCA21C2547 | AV11: 123
A12: 아우트렛박스 | B12: 커버, 8각, 평 | C12: 개 | D12: 380 | F12: =TRUNC(E12*D12, 0) -> 0 | L12: =TRUNC(F12+H12+J12, 0) -> 0 | N12: 575B715E1B838816AE54130E47E4CCA21C2545 | Q12: 010101 | R12: F | S12: F | T12: T | AU12: 010101575B715E1B838816AE54130E47E4CCA21C2545 | AV12: 1351
A13: 풀박스 | B13: 200×200×100 | C13: 개 | D13: 6 | F13: =TRUNC(E13*D13, 0) -> 0 | L13: =TRUNC(F13+H13+J13, 0) -> 0 | N13: 575B715E1B838816AE54130E47E4CCA21C2390 | Q13: 010101 | R13: F | S13: F | T13: T | AU13: 010101575B715E1B838816AE54130E47E4CCA21C2390 | AV13: 1323
A14: 450/750V 저독성난연가교폴리올레핀절연전선 | B14: HFIX 2.5㎟(1.78㎜)단선 | C14: m | D14: 8330 | F14: =TRUNC(E14*D14, 0) -> 0 | L14: =TRUNC(F14+H14+J14, 0) -> 0 | N14: 509AB15E2CA35616F00A4D8CA584554A66C880 | Q14: 010101 | R14: F | S14: F | T14: T | Y14: 2 | AU14: 010101509AB15E2CA35616F00A4D8CA584554A66C880 | AV14: 1352
A15: 1종금속제가요전선관 | B15: 고장력후렉시블전선관, 16mm, 방수 | C15: m | D15: 741 | F15: =TRUNC(E15*D15, 0) -> 0 | L15: =TRUNC(F15+H15+J15, 0) -> 0 | N15: 5088F15E55237816EA0D13AD838720EE6563FA | Q15: 010101 | R15: F | S15: F | T15: T | X15: 1 | Y15: 2 | AU15: 0101015088F15E55237816EA0D13AD838720EE6563FA | AV15: 845
A16: 전선관부속품비 | B16: 전선관의 15% | C16: 식 | D16: 1 | F16: =TRUNC(E16*D16, 0) -> 0 | L16: =TRUNC(F16+H16+J16, 0) -> 0 | N16: 56BA2157FB53B5167C0E4DD681F4001 | Q16: 010101 | R16: F | S16: F | T16: F | U16: 0 | V16: 0 | W16: 0.15 | AU16: 01010156BA2157FB53B5167C0E4DD681F6003 | AV16: 1433
A17: 잡재료비 | B17: 배관배선의 2% | C17: 식 | D17: 1 | F17: =TRUNC(E17*D17, 0) -> 0 | L17: =TRUNC(F17+H17+J17, 0) -> 0 | N17: 56BA2157FB53B5167C0E4DD681F7002 | Q17: 010101 | R17: F | S17: F | T17: F | U17: 0 | V17: 0 | W17: 0.02 | AU17: 01010156BA2157FB53B5167C0E4DD681F4001 | AV17: 1431
A18: 1종금속제가요전선관 | B18: 박스커넥터-비닐, 16mm, 방수 | C18: 개 | D18: 611 | F18: =TRUNC(E18*D18, 0) -> 0 | L18: =TRUNC(F18+H18+J18, 0) -> 0 | N18: 5088F15E55237816EA0D13AD838720EE656020 | Q18: 010101 | R18: F | S18: F | T18: T | AU18: 0101015088F15E55237816EA0D13AD838720EE656020 | AV18: 552
A19: 레이스웨이 본체 | B19: 70*40 | C19: M | D19: 1590 | F19: =TRUNC(E19*D19, 0) -> 0 | K19: =TRUNC(E19+G19+I19, 0) -> 0 | L19: =TRUNC(F19+H19+J19, 0) -> 0
A20: 레이스웨이 커버 | B20: 70*40 | C20: M | D20: 1590 | F20: =TRUNC(E20*D20, 0) -> 0 | K20: =TRUNC(E20+G20+I20, 0) -> 0 | L20: =TRUNC(F20+H20+J20, 0) -> 0
A21: J/BOX | B21: "T" | C21: EA | D21: 105 | F21: =TRUNC(E21*D21, 0) -> 0 | K21: =TRUNC(E21+G21+I21, 0) -> 0 | L21: =TRUNC(F21+H21+J21, 0) -> 0
A22: J/BOX | B22: "+" | C22: EA | D22: 49 | F22: =TRUNC(E22*D22, 0) -> 0 | K22: =TRUNC(E22+G22+I22, 0) -> 0 | L22: =TRUNC(F22+H22+J22, 0) -> 0
A23: COVER Clamp | B23: 70*40 | C23: EA | D23: 1055 | F23: =TRUNC(E23*D23, 0) -> 0 | K23: =TRUNC(E23+G23+I23, 0) -> 0 | L23: =TRUNC(F23+H23+J23, 0) -> 0
A24: Hanger "C" | B24: 70*40 | C24: EA | D24: 1055 | F24: =TRUNC(E24*D24, 0) -> 0 | K24: =TRUNC(E24+G24+I24, 0) -> 0 | L24: =TRUNC(F24+H24+J24, 0) -> 0
A25: 기구용금구 | B25: 70*40 | C25: EA | D25: 1055 | F25: =TRUNC(E25*D25, 0) -> 0 | K25: =TRUNC(E25+G25+I25, 0) -> 0 | L25: =TRUNC(F25+H25+J25, 0) -> 0
A26: LED 터널등 철거 | B26: LED 50W | C26: 조 | D26: 230 | F26: =TRUNC(E26*D26, 0) -> 0 | L26: =TRUNC(F26+H26+J26, 0) -> 0 | M26: 품적용 | N26: 575B715E1B838816AE54130268729856275342 | Q26: 010101 | R26: F | S26: F | T26: T | AU26: 010101575B715E1B838816AE54130268729856275342 | AV26: 1361
A27: LED 원형쎈서등 철거 | B27: LED 12W | C27: 조 | D27: 24 | F27: =TRUNC(E27*D27, 0) -> 0 | L27: =TRUNC(F27+H27+J27, 0) -> 0 | M27: 품적용 | N27: 575B715E1B838816AE54130268729856275343 | Q27: 010101 | R27: F | S27: F | T27: T | AU27: 010101575B715E1B838816AE54130268729856275343 | AV27: 1362
A28: LED 원형직부등 철거 | B28: LED 12W | C28: 조 | D28: 8 | F28: =TRUNC(E28*D28, 0) -> 0 | L28: =TRUNC(F28+H28+J28, 0) -> 0 | M28: 품적용 | N28: 575B715E1B838816AE541302687298562752A3 | Q28: 010101 | R28: F | S28: F | T28: T | AU28: 010101575B715E1B838816AE541302687298562752A3 | AV28: 1363
A29: 기존 케이블 정리 | C29: 식 | D29: 6 | F29: =TRUNC(E29*D29, 0) -> 0 | L29: =TRUNC(F29+H29+J29, 0) -> 0 | M29: 품적용 | N29: 575B715E1B838816AE541302687298562752A2 | Q29: 010101 | R29: F | S29: F | T29: T | AU29: 010101575B715E1B838816AE541302687298562752A2 | AV29: 1388
A30: 내선전공 | B30: 일반공사 직종 | C30: 인 | D30: 347.66 | F30: =TRUNC(E30*D30, 0) -> 0 | L30: =TRUNC(F30+H30+J30, 0) -> 0 | N30: 577F3157CBE3DE16C5E0B80D5B3B7422D40422 | Q30: 010101 | R30: F | S30: F | T30: T | Z30: 3 | AU30: 010101577F3157CBE3DE16C5E0B80D5B3B7422D40422 | AV30: 140
A31: 공구손료 | B31: 인력품의 3% | C31: 식 | D31: 1 | F31: =TRUNC(E31*D31, 0) -> 0 | L31: =TRUNC(F31+H31+J31, 0) -> 0 | N31: 56BA2157FB53B5167C0E4DD681F6003 | Q31: 010101 | R31: F | S31: F | T31: F | U31: 1 | V31: 0 | W31: 0.03 | AU31: 01010156BA2157FB53B5167C0E4DD681F7002 | AV31: 1432
A33: [ 합 계 ] | F33: =SUM(F5:F32) -> 0 | L33: =SUM(L5:L32) -> 0 | N33: TOTAL
A34: 010102 전력간선 설비공사(2차) | Q34: 010102
A35: 배선용 차단기 | B35: 표준형, 4P 460V 50AF, 18KA | C35: 개 | D35: 1 | F35: =TRUNC(E35*D35, 0) -> 0 | L35: =TRUNC(F35+H35+J35, 0) -> 0 | N35: 575B715E1B838816AE54130E47E4CCA21ED75F | Q35: 010102 | R35: F | S35: F | T35: T | AU35: 010102575B715E1B838816AE54130E47E4CCA21ED75F | AV35: 1364
A36: 배선용 차단기 | B36: 4P 50AF(표준형), 18KA | C36: 개 | D36: 1 | F36: =TRUNC(E36*D36, 0) -> 0 | L36: =TRUNC(F36+H36+J36, 0) -> 0
A37: ELB (표준형) | B37: 2P 30AF(표준형), 14KA | C37: 개 | D37: 1 | F37: =TRUNC(E37*D37, 0) -> 0 | L37: =TRUNC(F37+H37+J37, 0) -> 0
A38: 접지 2구 방우형 콘센트 | B38: 16A 250V | C38: 개 | D38: 1 | F38: =TRUNC(E38*D38, 0) -> 0 | L38: =TRUNC(F38+H38+J38, 0) -> 0
A39: HI- BOX | B39: 250×250×200 | C39: 개 | D39: 1 | F39: =TRUNC(E39*D39, 0) -> 0 | L39: =TRUNC(F39+H39+J39, 0) -> 0 | N39: 575B715E1B838816AE54130E47E4CCA21C22F2 | Q39: 010102 | R39: F | S39: F | T39: T | AU39: 010102575B715E1B838816AE54130E47E4CCA21C22F2 | AV39: 1389
A40: 풀박스 | B40: 200×200×100 | C40: 개 | D40: 6 | F40: =TRUNC(E40*D40, 0) -> 0 | L40: =TRUNC(F40+H40+J40, 0) -> 0 | N40: 575B715E1B838816AE54130E47E4CCA21C2390 | Q40: 010102 | R40: F | S40: F | T40: T | AU40: 010102575B715E1B838816AE54130E47E4CCA21C2390 | AV40: 1367
A41: 0.6/1kV 가교폴리에틸렌절연난연비닐시스트레이용케이블 | B41: F-CV, 4C*10㎟ | C41: m | D41: 114 | F41: =TRUNC(E41*D41, 0) -> 0 | L41: =TRUNC(F41+H41+J41, 0) -> 0 | N41: 509AB15E2CA35616F00A4D8CA7B7E7EE4AF378 | Q41: 010102 | R41: F | S41: F | T41: T | Y41: 2 | AU41: 010102509AB15E2CA35616F00A4D8CA7B7E7EE4AF378 | AV41: 1368
...

Sheet  공사설정 
A1: 이 Sheet는 수정하지 마십시요
A2: 공사구분 | B2: D | C2: 타이틀
A3: 확정내역 | B3: 원내역
A4: 자재단가적용 | B4: 5
A5: 경비단가적용 | B5: 5
A6: 품목코드형식 | B6: XXXX-XXXX-XXXXXXXXX
A7: 내역금액소수점처리 | B7: C | C7: 1
A8: 일위대가내역소수점처리 | B8: C | C8: 2
A9: 단가명 | B9: 조달청가격 | C9: 거래가격 | D9: 물가자료 | E9: 물가정보 | F9: 조사가격 | G9: TTTTT
A10: 환율 | B10: 1208 | C10: 0 | D10: 0
A11: 시간당작업량 | B11: R | C11: 4
A12: 1회 사이클시간 | B12: R | C12: 4
A13: 시간당 작업사이클 | B13: R | C13: 3
A14: 일반변수 | B14: C | C14: 5
A15: 시간당 노임산출 계수 | B15: A | C15: 1/8*16/12*25/20 | D15: 1/8*16/12*25/20 | E15: 1/8*16/12*25/20 | F15: 1
A16: 재료비 할증 계수 | B16: 1.11 | C16: 1.12
A17: 노무비 할증 계수 | B17: 1 | C17: 1.5 | D17: 1.16 | E17: 1.6 | F17: 1.6 | G17: 1.6 | H17: 1.94 | I17: 1.94 | J17: 1.94 | K17: 1 | L17: 1 | M17: 1
A18: 경비 할증 계수 | B18: 1.25 | C18: 1.071
A19: 내역,일위대가 품명,규격,단위 따로적용
A20: 내역단가 소수점처리 | B20: C | C20: 1
A21: 코드 | B21: 공종구분명 | C21: 원가비목코드
A22: 1 | B22: 작 업 부 산 물 | C22: A3
A23: 2 | B23: 운 반 비 | C23: C1
A24: 3 | B24: 관 급 자 재 비 A | C24: DJ
A25: 4 | B25: 사 급 자 재 비 | C25: D3
A26: 5 | B26: 외 자 재
A27: 6 | B27: 폐기물처리비 | C27: DA
A28: 7 | B28: 관 급 자 재 비 B | C28: DK
A29: 8 | B29: 한 전 불 입 금 | C29: DM
A30: 9 | B30: 사 용 전 검 사 | C30: DN

Sheet Sheet1
