Workbook

Sheet 원가
B1: 시트명 | M1: 공종별집계표
B2: 행 | M2: 6
B4: =공종별집계표!A2 -> [ 확장양수장 신설사업 전기공사 ] | R4: 금액: | T4: =NUMBERSTRING(AG4,1) -> 이억일천구백칠십육만구천 | AC4: 원 정 | AE4: ( | AF4: W | AG4: =M40 -> 219769000 | AL4: )
A5: 열 | B5: 비목 | D5: 구분 | M5: 금액 | N5: 구성비 | X5: 비고
A6: F | B6: 순공사비원가 | D6: 재료비 | F6: 직접재료비 | M6: =공종별내역서!F206+공종별내역서!F207 -> 316686 | AN6: 순공사비 | AO6: =M9+M10+M13 -> 16151325
F7: 간접재료비 | AN7: 관급총액 | AO7: =M38+M39 -> 196819000
F8: 작업부산물 | AN8: 한전비 | AO8: =M37 -> 0
F9: 소계 | M9: =SUM(M6:M8) -> 316686
A10: H | D10: 노무비 | F10: 직접노무비(가) | M10: =공종별내역서!H206+공종별내역서!H207 -> 15834639
F11: 간접노무비(나) | M11: =INT(M10*R11) -> 3024416 | N11: 직접노무비의 | R11: 0.191
F12: 소계 | M12: =SUM(M10:M11) -> 18859055
A13: J | D13: 경비 | F13: 기계경비 | M13: =INDIRECT(M$1&"!"&$A13&M$2) -> 0 | AN13: 퇴직공제비 | AO13: =IF(M35+M39>=100000000, "☜ 적용(2.3%)","☜ 삭제") -> ☜ 삭제
F14: 고용보험료 | M14: =INT(M12*Q14) -> 190476 | N14: 노무비의 | Q14: 0.0101
F15: 산재보험료 | M15: =INT(M12*Q15) -> 671382 | N15: 노무비의 | Q15: 0.0356 | AN15: 안전관리비 | AO15: =IF(M35+M39-M16<20000000,"☜ 삭제",IF(M9+M10+M39<=499999999,"☜ 적용(3.11%)",IF(M9+M10+M39<=4999999999,"☜ 교체(2.28%+4,325천원)",IF(M9+M10+M39>=5000000000,"☜ 교체(2.37%)")))) -> ☜ 적용(3.11%)
F16: 산업안전보건관리비 | M16: =(M9+M10)*0.0207*0.7*1.2 -> 280839.24 | N16: (재표비+직노)*2.07%*70%*1.2 | AO16: 5억미만 | AP16: 5억이상 50억미만
F17: 임금채권부담금 | M17: =M12*Q17 -> 16973.149 | N17: 노무비의 | Q17: 0.0009
F18: 석면피해구제분담금 | M18: =M12*Q18 -> 1131.5433 | N18: 노무비의 | Q18: 6e-05
F19: 건강보험료 | M19: =INT(M10*R19) -> 0 | AN19: a. | AO19: =INT((($M$9+$M$10)+($M$39/1.1))*3.11%) -> 502306 | AP19: =INT((($M$9+$M$10)+($M$39/1.1))*2.28%)+4325000 -> 4693250
F20: 연금보험료 | M20: =INT(M10*R20) -> 0 | AN20: b. | AO20: =INT((($M$9+$M$10)*3.11%)*1.2) -> 602767 | AP20: =INT((($M$9+$M$10)*2.28%)+4325000)*1.2 -> 5631900
F21: 노인장기요양보험료 | M21: =INT(M19*R21) -> 0 | AO21: (재+직노+도급자관급)의3.11% | AP21: (재+직노+도급자관급)의2.28%+4,325천원
F22: 기타경비 | M22: =INT((M9+M12)*Q22) -> 0 | AO22: (재+직노)의 3.11% *1.2 | AP22: ((재+직노)의 2.28%+4,325천원)*1.2
F23: 퇴직공제부금비 | N23: =IF(M35+M39>=100000000, "직접노무비의 2.3%","")
F24: 공사이행보증수수료
F25: 환경보전비
F26: 지급수수료
F27: 소계 | M27: =SUM(M13:M26) -> 1160801.9
D28: 계 | M28: =M9+M12+M27 -> 20336543
B29: 일반관리비 | X29: 5억미만 8% / 5~30억미만 6.5% / 30~100억미만 5% (공급가액 기준)
B30: 이윤 | X30: 50억미만 15% / 50~300억미만 12% (공급가액 기준)
B31: 사급자재비
B32: 손해배상공제료 | M32: =(M28+M38/1.1)*0.0026477 -> 527588.4 | N32: (공급가액+관급자재비/1.1)*0.26477%
B33: 공급가액 | M33: =SUM(M28:M32) -> 20864131
B34: 부가가치세 | M34: =INT(M33*R34) -> 2086413 | N34: 공급가액의 | R34: 0.1
B35: 도급액 | M35: =ROUNDDOWN(M33+M34,-3) -> 22950000 | X35: 천단위절사
B36: 재해예방기술지도비 | X36: 천단위절상 | AN36: 5808000 | AO36: ☜ 한전비 입력
B37: 한전인입비/사용전검사비 | X37: 천단위절상 | AN37: =공종별집계표!L12 -> 0 | AO37: ☜ 한전비 입력
B38: 관급자설치 관급자재 | M38: =ROUNDUP(AN38,-3) -> 196819000 | X38: 천단위절상 | AN38: =공종별집계표!L14 -> 196818552 | AO38: ☜ 관급자관급 입력
B39: 도급자설치 관급자재 | X39: 천단위절상 | AO39: ☜ 도급자관급 입력
B40: 총공사비 | M40: =SUM(M35:M39) -> 219769000

Sheet 공종별집계표
A1: 공 종 별 집 계 표
A2: [ 확장양수장 신설사업 전기공사 ]
A3: 품 명 | B3: 규 격 | C3: 단위 | D3: 수량 | E3: 재 료 비 | G3: 노 무 비 | I3: 경 비 | K3: 합 계 | M3: 비 고 | N3: 공종코드 | O3: 변수 | P3: 상위공종 | Q3: 공종구분 | R3: 공종레벨 | S3: 공종소계 | T3: 원가계산서 연결금액
E4: 단 가 | F4: 금 액 | G4: 단 가 | H4: 금 액 | I4: 단 가 | J4: 금 액 | K4: 단 가 | L4: 금 액
A5: 01 확장양수장 신설사업 전기공사 | D5: 1 | E5: =F6 -> 0 | F5: =E5*D5 -> 0 | G5: =H6 -> 0 | H5: =G5*D5 -> 0 | I5: =J6 -> 0 | J5: =I5*D5 -> 0 | K5: =E5+G5+I5 -> 0 | L5: =F5+H5+J5 -> 0 | N5: 01 | R5: 1
A6: 0101 전기공사 | D6: 1 | N6: 0101 | P6: 01 | R6: 2
A7: 010101 옥외전기설비공사 | D7: 1 | N7: 010101 | P7: 0101 | R7: 3
A8: 010102 옥외보안등설비공사 | D8: 1 | N8: 010102 | P8: 0101 | R8: 3
A9: 010103 수변전설비공사 | D9: 1 | N9: 010103 | P9: 0101 | R9: 3
A10: 010104 전열설비공사 | D10: 1 | N10: 010104 | P10: 0101 | R10: 3
A11: 010105 전등설비공사 | D11: 1 | N11: 010105 | P11: 0101 | R11: 3
A12: 0102 안전공사비 | D12: 1 | N12: 0102 | Q12: 6 | R12: 2 | T12: =L12*1 -> 0
A13: 0103 자재구매비 | D13: 1 | N13: 0103 | Q13: 3 | R13: 2 | T13: =L13*1 -> 0
A14: 010301 관급자설치 관급자재 | D14: 1 | E14: =F15 -> 196818552 | F14: =E14*D14 -> 196818552 | G14: =H15 -> 0 | H14: =G14*D14 -> 0 | I14: =J15 -> 0 | J14: =I14*D14 -> 0 | K14: =E14+G14+I14 -> 196818552 | L14: =F14+H14+J14 -> 196818552 | N14: 010301 | P14: 0103 | R14: 3
A15: 01030101 수배전반 | D15: 1 | E15: =공종별내역서!F216 -> 196818552 | F15: =E15*D15 -> 196818552 | G15: =공종별내역서!H216 -> 0 | H15: =G15*D15 -> 0 | I15: =공종별내역서!J216 -> 0 | J15: =I15*D15 -> 0 | K15: =E15+G15+I15 -> 196818552 | L15: =F15+H15+J15 -> 196818552 | N15: 01030101 | P15: 010301 | R15: 4
A16: 01030102 수배전반 설치비 | D16: 1 | E16: =공종별내역서!F206+공종별내역서!F207 -> 316686 | F16: =E16*D16 -> 316686 | G16: =공종별내역서!H206+공종별내역서!H207 -> 15834639 | H16: =D16*G16 -> 15834639 | K16: =E16+G16+I16 -> 16151325 | L16: =F16+H16+J16 -> 16151325
A27: [ 합 계 ] | F27: =F5 -> 0 | H27: =H5 -> 0 | J27: =J5 -> 0 | L27: =L5 -> 0

Sheet 공종별내역서
A1: [ 확장양수장 신설사업 전기공사 ]
A2: 품 명 | B2: 규 격 | C2: 단위 | D2: 수량 | E2: 재 료 비 | G2: 노 무 비 | I2: 경 비 | K2: 합 계 | M2: 비 고 | N2: 품목코드 | O2: 변수 | P2: 설정 | Q2: 공종코드 | R2: 일위 | S2: 단산 | T2: 자재 | U2: 손료적용 | V2: 손료저장 | W2: 적용율 | X2: JUK1 | Y2: JUK2 | Z2: JUK3 | AA2: JUK4 | AB2: JUK5 | AC2: JUK6 | AD2: JUK7 | AE2: JUK8 | AF2: JUK9 | AG2: JUK10 | AH2: JUK11 | AI2: JUK12 | AJ2: JUK13 | AK2: JUK14 | AL2: JUK15 | AM2: JUK16 | AN2: JUK17 | AO2: JUK18 | AP2: JUK19 | AQ2: JUK20 | AR2: 자재구분 | AS2: 공종구분 | AT2: 공종레벨 | AU2: 공종+자재 | AV2: 고유번호
E3: 단 가 | F3: 금 액 | G3: 단 가 | H3: 금 액 | I3: 단 가 | J3: 금 액 | K3: 단 가 | L3: 금 액
A4: 010101 옥외전기설비공사 | B4: 전기공사 | Q4: 010101
A5: 1종금속제가요전선관 | B5: 비닐피복, 28 mm 방수 | C5: M | D5: 6 | E5: =TRUNC(일위대가목록!E41,0) -> 2656 | F5: =TRUNC(E5*D5, 0) -> 15936 | G5: =TRUNC(일위대가목록!F41,0) -> 23633 | H5: =TRUNC(G5*D5, 0) -> 141798 | I5: =TRUNC(일위대가목록!G41,0) -> 0 | J5: =TRUNC(I5*D5, 0) -> 0 | K5: =TRUNC(E5+G5+I5, 0) -> 26289 | L5: =TRUNC(F5+H5+J5, 0) -> 157734 | M5: 호표 38 | N5: 5853949F59EA5DD658398434652D23 | Q5: 010101 | R5: T | S5: F | T5: F | AU5: 0101015853949F59EA5DD658398434652D23 | AV5: 4
A6: 1종금속제가요전선관 | B6: 비닐피복, 54 mm 방수 | C6: M | D6: 6 | E6: =TRUNC(일위대가목록!E42,0) -> 6302 | F6: =TRUNC(E6*D6, 0) -> 37812 | G6: =TRUNC(일위대가목록!F42,0) -> 44641 | H6: =TRUNC(G6*D6, 0) -> 267846 | I6: =TRUNC(일위대가목록!G42,0) -> 0 | J6: =TRUNC(I6*D6, 0) -> 0 | K6: =TRUNC(E6+G6+I6, 0) -> 50943 | L6: =TRUNC(F6+H6+J6, 0) -> 305658 | M6: 호표 39 | N6: 5853949F59EA5DD6583984346528A1 | Q6: 010101 | R6: T | S6: F | T6: F | AU6: 0101015853949F59EA5DD6583984346528A1 | AV6: 5
A7: 파상형 경질폴리에틸렌 전선관 | B7: 30㎜ | C7: M | D7: 16 | E7: =TRUNC(일위대가목록!E43,0) -> 454 | F7: =TRUNC(E7*D7, 0) -> 7264 | G7: =TRUNC(일위대가목록!F43,0) -> 3819 | H7: =TRUNC(G7*D7, 0) -> 61104 | I7: =TRUNC(일위대가목록!G43,0) -> 0 | J7: =TRUNC(I7*D7, 0) -> 0 | K7: =TRUNC(E7+G7+I7, 0) -> 4273 | L7: =TRUNC(F7+H7+J7, 0) -> 68368 | M7: 호표 40 | N7: 5853949F59EA5DF13638840EE550A2 | Q7: 010101 | R7: T | S7: F | T7: F | AU7: 0101015853949F59EA5DF13638840EE550A2 | AV7: 6
A8: 파상형 경질폴리에틸렌 전선관 | B8: 40㎜ | C8: M | D8: 87 | E8: =TRUNC(일위대가목록!E44,0) -> 669 | F8: =TRUNC(E8*D8, 0) -> 58203 | G8: =TRUNC(일위대가목록!F44,0) -> 4616 | H8: =TRUNC(G8*D8, 0) -> 401592 | I8: =TRUNC(일위대가목록!G44,0) -> 0 | J8: =TRUNC(I8*D8, 0) -> 0 | K8: =TRUNC(E8+G8+I8, 0) -> 5285 | L8: =TRUNC(F8+H8+J8, 0) -> 459795 | M8: 호표 41 | N8: 5853949F59EA5DF13638840EE55376 | Q8: 010101 | R8: T | S8: F | T8: F | AU8: 0101015853949F59EA5DF13638840EE55376 | AV8: 7
A9: 파상형 경질폴리에틸렌 전선관 | B9: 50㎜ | C9: M | D9: 49 | E9: =TRUNC(일위대가목록!E45,0) -> 858 | F9: =TRUNC(E9*D9, 0) -> 42042 | G9: =TRUNC(일위대가목록!F45,0) -> 4616 | H9: =TRUNC(G9*D9, 0) -> 226184 | I9: =TRUNC(일위대가목록!G45,0) -> 0 | J9: =TRUNC(I9*D9, 0) -> 0 | K9: =TRUNC(E9+G9+I9, 0) -> 5474 | L9: =TRUNC(F9+H9+J9, 0) -> 268226 | M9: 호표 42 | N9: 5853949F59EA5DF13638840EE5526F | Q9: 010101 | R9: T | S9: F | T9: F | AU9: 0101015853949F59EA5DF13638840EE5526F | AV9: 8
A10: 파상형 경질폴리에틸렌 전선관 | B10: 65㎜ | C10: M | D10: 107 | E10: =TRUNC(일위대가목록!E46,0) -> 1261 | F10: =TRUNC(E10*D10, 0) -> 134927 | G10: =TRUNC(일위대가목록!F46,0) -> 5825 | H10: =TRUNC(G10*D10, 0) -> 623275 | I10: =TRUNC(일위대가목록!G46,0) -> 0 | J10: =TRUNC(I10*D10, 0) -> 0 | K10: =TRUNC(E10+G10+I10, 0) -> 7086 | L10: =TRUNC(F10+H10+J10, 0) -> 758202 | M10: 호표 43 | N10: 5853949F59EA5DF13638840EE55524 | Q10: 010101 | R10: T | S10: F | T10: F | AU10: 0101015853949F59EA5DF13638840EE55524 | AV10: 9
A11: 파상형 경질폴리에틸렌 전선관 | B11: 80㎜ | C11: M | D11: 67 | E11: =TRUNC(일위대가목록!E47,0) -> 1639 | F11: =TRUNC(E11*D11, 0) -> 109813 | G11: =TRUNC(일위대가목록!F47,0) -> 5825 | H11: =TRUNC(G11*D11, 0) -> 390275 | I11: =TRUNC(일위대가목록!G47,0) -> 0 | J11: =TRUNC(I11*D11, 0) -> 0 | K11: =TRUNC(E11+G11+I11, 0) -> 7464 | L11: =TRUNC(F11+H11+J11, 0) -> 500088 | M11: 호표 44 | N11: 5853949F59EA5DF13638840EE5541D | Q11: 010101 | R11: T | S11: F | T11: F | AU11: 0101015853949F59EA5DF13638840EE5541D | AV11: 10
A12: 난연성 비닐절연 접지용전선 | B12: 0.6/1kV F-GV 4㎟ | C12: M | D12: 60 | E12: =TRUNC(일위대가목록!E50,0) -> 1293 | F12: =TRUNC(E12*D12, 0) -> 77580 | G12: =TRUNC(일위대가목록!F50,0) -> 2461 | H12: =TRUNC(G12*D12, 0) -> 147660 | I12: =TRUNC(일위대가목록!G50,0) -> 0 | J12: =TRUNC(I12*D12, 0) -> 0 | K12: =TRUNC(E12+G12+I12, 0) -> 3754 | L12: =TRUNC(F12+H12+J12, 0) -> 225240 | M12: 호표 47 | N12: 5853949F59D9EE50673F64F0852C4C | Q12: 010101 | R12: T | S12: F | T12: F | AU12: 0101015853949F59D9EE50673F64F0852C4C | AV12: 11
A13: 난연성 비닐절연 접지용전선 | B13: 0.6/1kV F-GV 6㎟ | C13: M | D13: 34 | E13: =TRUNC(일위대가목록!E51,0) -> 1464 | F13: =TRUNC(E13*D13, 0) -> 49776 | G13: =TRUNC(일위대가목록!F51,0) -> 2461 | H13: =TRUNC(G13*D13, 0) -> 83674 | I13: =TRUNC(일위대가목록!G51,0) -> 0 | J13: =TRUNC(I13*D13, 0) -> 0 | K13: =TRUNC(E13+G13+I13, 0) -> 3925 | L13: =TRUNC(F13+H13+J13, 0) -> 133450 | M13: 호표 48 | N13: 5853949F59D9EE50673F64F0852D52 | Q13: 010101 | R13: T | S13: F | T13: F | AU13: 0101015853949F59D9EE50673F64F0852D52 | AV13: 12
A14: 난연성 비닐절연 접지용전선 | B14: 0.6/1kV F-GV 16㎟ | C14: M | D14: 55 | E14: =TRUNC(일위대가목록!E52,0) -> 3315 | F14: =TRUNC(E14*D14, 0) -> 182325 | G14: =TRUNC(일위대가목록!F52,0) -> 2872 | H14: =TRUNC(G14*D14, 0) -> 157960 | I14: =TRUNC(일위대가목록!G52,0) -> 0 | J14: =TRUNC(I14*D14, 0) -> 0 | K14: =TRUNC(E14+G14+I14, 0) -> 6187 | L14: =TRUNC(F14+H14+J14, 0) -> 340285 | M14: 호표 49 | N14: 5853949F59D9EE50673F64F0852BA5 | Q14: 010101 | R14: T | S14: F | T14: F | AU14: 0101015853949F59D9EE50673F64F0852BA5 | AV14: 13
A15: 6/10kV고압가교폴리에틸렌(F-CV) | B15: 1C 50㎟(3열) | C15: M | D15: 99 | E15: =TRUNC(일위대가목록!E13,0) -> 12835 | F15: =TRUNC(E15*D15, 0) -> 1270665 | G15: =TRUNC(일위대가목록!F13,0) -> 3421 | H15: =TRUNC(G15*D15, 0) -> 338679 | I15: =TRUNC(일위대가목록!G13,0) -> 0 | J15: =TRUNC(I15*D15, 0) -> 0 | K15: =TRUNC(E15+G15+I15, 0) -> 16256 | L15: =TRUNC(F15+H15+J15, 0) -> 1609344 | M15: 호표 10 | N15: 5F546497C900DCEBF63AC47A857676 | Q15: 010101 | R15: T | S15: F | T15: F | AU15: 0101015F546497C900DCEBF63AC47A857676 | AV15: 14
A16: 6/10kV고압가교폴리에틸렌(F-CV) | B16: 3C 25㎟ | C16: M | D16: 55 | E16: =TRUNC(일위대가목록!E14,0) -> 25899 | F16: =TRUNC(E16*D16, 0) -> 1424445 | G16: =TRUNC(일위대가목록!F14,0) -> 6562 | H16: =TRUNC(G16*D16, 0) -> 360910 | I16: =TRUNC(일위대가목록!G14,0) -> 0 | J16: =TRUNC(I16*D16, 0) -> 0 | K16: =TRUNC(E16+G16+I16, 0) -> 32461 | L16: =TRUNC(F16+H16+J16, 0) -> 1785355 | M16: 호표 11 | N16: 5F546497C900DCEBF63AC468250D8F | Q16: 010101 | R16: T | S16: F | T16: F | AU16: 0101015F546497C900DCEBF63AC468250D8F | AV16: 15
A17: 0.6/1kV가교폴리에틸렌(F-CV) 옥외 | B17: 3C 4㎟ | C17: M | D17: 60 | E17: =TRUNC(일위대가목록!E55,0) -> 3045 | F17: =TRUNC(E17*D17, 0) -> 182700 | G17: =TRUNC(일위대가목록!F55,0) -> 3674 | H17: =TRUNC(G17*D17, 0) -> 220440 | I17: =TRUNC(일위대가목록!G55,0) -> 0 | J17: =TRUNC(I17*D17, 0) -> 0 | K17: =TRUNC(E17+G17+I17, 0) -> 6719 | L17: =TRUNC(F17+H17+J17, 0) -> 403140 | M17: 호표 52 | N17: 5853949F59CF77FD0A36D4AAE57E14 | Q17: 010101 | R17: T | S17: F | T17: F | AU17: 0101015853949F59CF77FD0A36D4AAE57E14 | AV17: 16
A18: 0.6/1kV가교폴리에틸렌(F-CV) 옥외 | B18: 4C 6㎟ | C18: M | D18: 34 | E18: =TRUNC(일위대가목록!E56,0) -> 5378 | F18: =TRUNC(E18*D18, 0) -> 182852 | G18: =TRUNC(일위대가목록!F56,0) -> 4792 | H18: =TRUNC(G18*D18, 0) -> 162928 | I18: =TRUNC(일위대가목록!G56,0) -> 0 | J18: =TRUNC(I18*D18, 0) -> 0 | K18: =TRUNC(E18+G18+I18, 0) -> 10170 | L18: =TRUNC(F18+H18+J18, 0) -> 345780 | M18: 호표 53 | N18: 5853949F59CF77FD0A36D4AAC54B97 | Q18: 010101 | R18: T | S18: F | T18: F | AU18: 0101015853949F59CF77FD0A36D4AAC54B97 | AV18: 17
A19: 0.6/1kV가교폴리에틸렌(F-CV) 옥외 | B19: 4C 35㎟ | C19: M | D19: 33 | E19: =TRUNC(일위대가목록!E57,0) -> 27936 | F19: =TRUNC(E19*D19, 0) -> 921888 | G19: =TRUNC(일위대가목록!F57,0) -> 6829 | H19: =TRUNC(G19*D19, 0) -> 225357 | I19: =TRUNC(일위대가목록!G57,0) -> 0 | J19: =TRUNC(I19*D19, 0) -> 0 | K19: =TRUNC(E19+G19+I19, 0) -> 34765 | L19: =TRUNC(F19+H19+J19, 0) -> 1147245 | M19: 호표 54 | N19: 5853949F59CF77FD0A36D4AAC5473C | Q19: 010101 | R19: T | S19: F | T19: F | AU19: 0101015853949F59CF77FD0A36D4AAC5473C | AV19: 18
A20: 0.6/1kV제어용난연(F-CVV-SB) | B20: 2C 1.5㎟ | C20: M | D20: 60 | E20: =TRUNC(일위대가목록!E15,0) -> 2233 | F20: =TRUNC(E20*D20, 0) -> 133980 | G20: =TRUNC(일위대가목록!F15,0) -> 5101 | H20: =TRUNC(G20*D20, 0) -> 306060 | I20: =TRUNC(일위대가목록!G15,0) -> 0 | J20: =TRUNC(I20*D20, 0) -> 0 | K20: =TRUNC(E20+G20+I20, 0) -> 7334 | L20: =TRUNC(F20+H20+J20, 0) -> 440040 | M20: 호표 12 | N20: 5F546497C900DCEBDB3D0496E547FD | Q20: 010101 | R20: T | S20: F | T20: F | AU20: 0101015F546497C900DCEBDB3D0496E547FD | AV20: 19
A21: 0.6/1kV제어용난연(F-CVV-SB) | B21: 20C 1.5㎟ | C21: M | D21: 240 | E21: =TRUNC(일위대가목록!E16,0) -> 9770 | F21: =TRUNC(E21*D21, 0) -> 2344800 | G21: =TRUNC(일위대가목록!F16,0) -> 26962 | H21: =TRUNC(G21*D21, 0) -> 6470880 | I21: =TRUNC(일위대가목록!G16,0) -> 0 | J21: =TRUNC(I21*D21, 0) -> 0 | K21: =TRUNC(E21+G21+I21, 0) -> 36732 | L21: =TRUNC(F21+H21+J21, 0) -> 8815680 | M21: 호표 13 | N21: 5F546497C900DCEBDB3D0496650F0F | Q21: 010101 | R21: T | S21: F | T21: F | AU21: 0101015F546497C900DCEBDB3D0496650F0F | AV21: 20
A22: 풀박스 | B22: 200x200x200 | C22: 개 | D22: 8 | E22: =TRUNC(일위대가목록!E81,0) -> 8303 | F22: =TRUNC(E22*D22, 0) -> 66424 | G22: =TRUNC(일위대가목록!F81,0) -> 60178 | H22: =TRUNC(G22*D22, 0) -> 481424 | I22: =TRUNC(일위대가목록!G81,0) -> 0 | J22: =TRUNC(I22*D22, 0) -> 0 | K22: =TRUNC(E22+G22+I22, 0) -> 68481 | L22: =TRUNC(F22+H22+J22, 0) -> 547848 | M22: 호표 78 | N22: 5853949F5966F16FE53514AEC5F595 | Q22: 010101 | R22: T | S22: F | T22: F | AU22: 0101015853949F5966F16FE53514AEC5F595 | AV22: 21
A23: 전기맨홀 | B23: 1000x1000x1000 | C23: 개소 | D23: 2 | E23: =TRUNC(일위대가목록!E67,0) -> 629088 | F23: =TRUNC(E23*D23, 0) -> 1258176 | G23: =TRUNC(일위대가목록!F67,0) -> 784111 | H23: =TRUNC(G23*D23, 0) -> 1568222 | I23: =TRUNC(일위대가목록!G67,0) -> 72657 | J23: =TRUNC(I23*D23, 0) -> 145314 | K23: =TRUNC(E23+G23+I23, 0) -> 1485856 | L23: =TRUNC(F23+H23+J23, 0) -> 2971712 | M23: 호표 64 | N23: 5853949F59ACA058043E546E051B5B | Q23: 010101 | R23: T | S23: F | T23: F | AU23: 0101015853949F59ACA058043E546E051B5B | AV23: 22
A24: 관로구방수 | B24: D 50 | C24: 개소 | D24: 24 | E24: =TRUNC(일위대가목록!E69,0) -> 40411 | F24: =TRUNC(E24*D24, 0) -> 969864 | G24: =TRUNC(일위대가목록!F69,0) -> 52720 | H24: =TRUNC(G24*D24, 0) -> 1265280 | I24: =TRUNC(일위대가목록!G69,0) -> 0 | J24: =TRUNC(I24*D24, 0) -> 0 | K24: =TRUNC(E24+G24+I24, 0) -> 93131 | L24: =TRUNC(F24+H24+J24, 0) -> 2235144 | M24: 호표 66 | N24: 5853949F59ACA02CC83B2431455110 | Q24: 010101 | R24: T | S24: F | T24: F | AU24: 0101015853949F59ACA02CC83B2431455110 | AV24: 23
A25: 관로구방수 | B25: D 65 | C25: 개소 | D25: 18 | E25: =TRUNC(일위대가목록!E70,0) -> 44041 | F25: =TRUNC(E25*D25, 0) -> 792738 | G25: =TRUNC(일위대가목록!F70,0) -> 52720 | H25: =TRUNC(G25*D25, 0) -> 948960 | I25: =TRUNC(일위대가목록!G70,0) -> 0 | J25: =TRUNC(I25*D25, 0) -> 0 | K25: =TRUNC(E25+G25+I25, 0) -> 96761 | L25: =TRUNC(F25+H25+J25, 0) -> 1741698 | M25: 호표 67 | N25: 5853949F59ACA02CC83B2431455009 | Q25: 010101 | R25: T | S25: F | T25: F | AU25: 0101015853949F59ACA02CC83B2431455009 | AV25: 24
A26: 관로구방수 | B26: D 80 | C26: 개소 | D26: 9 | E26: =TRUNC(일위대가목록!E71,0) -> 45961 | F26: =TRUNC(E26*D26, 0) -> 413649 | G26: =TRUNC(일위대가목록!F71,0) -> 52720 | H26: =TRUNC(G26*D26, 0) -> 474480 | I26: =TRUNC(일위대가목록!G71,0) -> 0 | J26: =TRUNC(I26*D26, 0) -> 0 | K26: =TRUNC(E26+G26+I26, 0) -> 98681 | L26: =TRUNC(F26+H26+J26, 0) -> 888129 | M26: 호표 68 | N26: 5853949F59ACA02CC83B24314557B8 | Q26: 010101 | R26: T | S26: F | T26: F | AU26: 0101015853949F59ACA02CC83B24314557B8 | AV26: 25
A27: 경고 테이프(저압용) | B27: 200*250 | C27: M | D27: 112 | E27: =TRUNC(일위대가목록!E72,0) -> 206 | F27: =TRUNC(E27*D27, 0) -> 23072 | G27: =TRUNC(일위대가목록!F72,0) -> 247 | H27: =TRUNC(G27*D27, 0) -> 27664 | I27: =TRUNC(일위대가목록!G72,0) -> 0 | J27: =TRUNC(I27*D27, 0) -> 0 | K27: =TRUNC(E27+G27+I27, 0) -> 453 | L27: =TRUNC(F27+H27+J27, 0) -> 50736 | M27: 호표 69 | N27: 5853949F59ACA02CC83A14C235A3BC | Q27: 010101 | R27: T | S27: F | T27: F | AU27: 0101015853949F59ACA02CC83A14C235A3BC | AV27: 26
A28: 경고 테이프(고압용) | B28: 200*250 | C28: M | D28: 33 | E28: =TRUNC(일위대가목록!E73,0) -> 207 | F28: =TRUNC(E28*D28, 0) -> 6831 | G28: =TRUNC(일위대가목록!F73,0) -> 282 | H28: =TRUNC(G28*D28, 0) -> 9306 | I28: =TRUNC(일위대가목록!G73,0) -> 0 | J28: =TRUNC(I28*D28, 0) -> 0 | K28: =TRUNC(E28+G28+I28, 0) -> 489 | L28: =TRUNC(F28+H28+J28, 0) -> 16137 | M28: 호표 70 | N28: 5853949F59ACA02CC83A14C235A0E8 | Q28: 010101 | R28: T | S28: F | T28: F | AU28: 0101015853949F59ACA02CC83A14C235A0E8 | AV28: 27
A29: 지중선용 가선철물 | B29: 지중선로표시기, 전규격 | C29: EA | D29: 3 | E29: =TRUNC(일위대가목록!E74,0) -> 5943 | F29: =TRUNC(E29*D29, 0) -> 17829 | G29: =TRUNC(일위대가목록!F74,0) -> 27194 | H29: =TRUNC(G29*D29, 0) -> 81582 | I29: =TRUNC(일위대가목록!G74,0) -> 0 | J29: =TRUNC(I29*D29, 0) -> 0 | K29: =TRUNC(E29+G29+I29, 0) -> 33137 | L29: =TRUNC(F29+H29+J29, 0) -> 99411 | M29: 호표 71 | N29: 5853949F59ACA02CC83A14C205EFF5 | Q29: 010101 | R29: T | S29: F | T29: F | AU29: 0101015853949F59ACA02CC83A14C205EFF5 | AV29: 28
A30: 분전반 PAD | B30: 1000x400x300 | C30: 개소 | D30: 3 | E30: =TRUNC(일위대가목록!E12,0) -> 32097 | F30: =TRUNC(E30*D30, 0) -> 96291 | G30: =TRUNC(일위대가목록!F12,0) -> 85567 | H30: =TRUNC(G30*D30, 0) -> 256701 | I30: =TRUNC(일위대가목록!G12,0) -> 587 | J30: =TRUNC(I30*D30, 0) -> 1761 | K30: =TRUNC(E30+G30+I30, 0) -> 118251 | L30: =TRUNC(F30+H30+J30, 0) -> 354753 | M30: 호표 9 | N30: 5F546497C900DCEBAE3B5484859831 | Q30: 010101 | R30: T | S30: F | T30: F | AU30: 0101015F546497C900DCEBAE3B5484859831 | AV30: 30
A31: 분전반 | B31: 양수장현장조작반 제작 | C31: 면 | D31: 1 | E31: =TRUNC(일위대가목록!E107,0) -> 4796479 | F31: =TRUNC(E31*D31, 0) -> 4796479 | G31: =TRUNC(일위대가목록!F107,0) -> 0 | H31: =TRUNC(G31*D31, 0) -> 0 | I31: =TRUNC(일위대가목록!G107,0) -> 0 | J31: =TRUNC(I31*D31, 0) -> 0 | K31: =TRUNC(E31+G31+I31, 0) -> 4796479 | L31: =TRUNC(F31+H31+J31, 0) -> 4796479 | M31: 관급자재 | N31: 594334EB990E66AB71315404058B98 | R31: T | S31: F | T31: F | AR31: 관급자재 | AU31: 010101594334EB990E66AB71315404058B98 | AV31: 31
A32: 분전반 | B32: 유입수문현장조작반 제작 (수문#1,2) | C32: 면 | D32: 2 | E32: =TRUNC(일위대가목록!E109,0) -> 5848217 | F32: =TRUNC(E32*D32, 0) -> 11696434 | G32: =TRUNC(일위대가목록!F109,0) -> 0 | H32: =TRUNC(G32*D32, 0) -> 0 | I32: =TRUNC(일위대가목록!G109,0) -> 0 | J32: =TRUNC(I32*D32, 0) -> 0 | K32: =TRUNC(E32+G32+I32, 0) -> 5848217 | L32: =TRUNC(F32+H32+J32, 0) -> 11696434 | M32: 관급자재 | N32: 594334EB990E66AB71315404058AF1 | R32: T | S32: F | T32: F | AR32: 관급자재 | AU32: 010101594334EB990E66AB71315404058AF1 | AV32: 32
A33: 자립형 분전반설치비 | C33: 면 | D33: 3 | E33: =TRUNC(일위대가목록!E24,0) -> 30328 | F33: =TRUNC(E33*D33, 0) -> 90984 | G33: =TRUNC(일위대가목록!F24,0) -> 1516415 | H33: =TRUNC(G33*D33, 0) -> 4549245 | I33: =TRUNC(일위대가목록!G24,0) -> 0 | J33: =TRUNC(I33*D33, 0) -> 0 | K33: =TRUNC(E33+G33+I33, 0) -> 1546743 | L33: =TRUNC(F33+H33+J33, 0) -> 4640229 | M33: 관급자재 | N33: 5F546497C900DCD94E36344E458D91 | R33: T | S33: F | T33: F | AR33: 관급자재 | AU33: 0101015F546497C900DCD94E36344E458D91 | AV33: 29
A34: 터파기(기계100%) | B34: 보통토사 | C34: ㎥ | D34: 136 | E34: =TRUNC(일위대가목록!E25,0) -> 245 | F34: =TRUNC(E34*D34, 0) -> 33320 | G34: =TRUNC(일위대가목록!F25,0) -> 755 | H34: =TRUNC(G34*D34, 0) -> 102680 | I34: =TRUNC(일위대가목록!G25,0) -> 304 | J34: =TRUNC(I34*D34, 0) -> 41344 | K34: =TRUNC(E34+G34+I34, 0) -> 1304 | L34: =TRUNC(F34+H34+J34, 0) -> 177344 | M34: 호표 22 | N34: 581A341D89B3D0DD7E38E4D8252150 | Q34: 010101 | R34: T | S34: F | T34: F | AU34: 010101581A341D89B3D0DD7E38E4D8252150 | AV34: 33
A35: 되메우기(기계100%) | B35: 보통토사 | C35: ㎥ | D35: 136 | E35: =TRUNC(일위대가목록!E26,0) -> 677 | F35: =TRUNC(E35*D35, 0) -> 92072 | G35: =TRUNC(일위대가목록!F26,0) -> 10574 | H35: =TRUNC(G35*D35, 0) -> 1438064 | I35: =TRUNC(일위대가목록!G26,0) -> 576 | J35: =TRUNC(I35*D35, 0) -> 78336 | K35: =TRUNC(E35+G35+I35, 0) -> 11827 | L35: =TRUNC(F35+H35+J35, 0) -> 1608472 | M35: 호표 23 | N35: 581A341D89B3D0DD7E38E4D835C899 | Q35: 010101 | R35: T | S35: F | T35: F | AU35: 010101581A341D89B3D0DD7E38E4D835C899 | AV35: 34
A36: 1종금속제가요전선관 | B36: 박스커넥터-비닐, 28mm 방수 | C36: 개 | D36: 12 | E36: =TRUNC(단가대비표!O87,0) -> 1500 | F36: =TRUNC(E36*D36, 0) -> 18000 | G36: =TRUNC(단가대비표!P87,0) -> 0 | H36: =TRUNC(G36*D36, 0) -> 0 | I36: =TRUNC(단가대비표!V87,0) -> 0 | J36: =TRUNC(I36*D36, 0) -> 0 | K36: =TRUNC(E36+G36+I36, 0) -> 1500 | L36: =TRUNC(F36+H36+J36, 0) -> 18000 | N36: 5F39B4F6191BCC929E3D7455358B9DD8B10D1E | Q36: 010101 | R36: F | S36: F | T36: T | AU36: 0101015F39B4F6191BCC929E3D7455358B9DD8B10D1E | AV36: 35
A37: 1종금속제가요전선관 | B37: 박스커넥터-비닐, 54mm 방수 | C37: 개 | D37: 12 | E37: =TRUNC(단가대비표!O88,0) -> 3740 | F37: =TRUNC(E37*D37, 0) -> 44880 | G37: =TRUNC(단가대비표!P88,0) -> 0 | H37: =TRUNC(G37*D37, 0) -> 0 | I37: =TRUNC(단가대비표!V88,0) -> 0 | J37: =TRUNC(I37*D37, 0) -> 0 | K37: =TRUNC(E37+G37+I37, 0) -> 3740 | L37: =TRUNC(F37+H37+J37, 0) -> 44880 | N37: 5F39B4F6191BCC929E3D7455358B9DD8B10C0E | Q37: 010101 | R37: F | S37: F | T37: T | AU37: 0101015F39B4F6191BCC929E3D7455358B9DD8B10C0E | AV37: 36
A51: [ 합 계 ] | F51: =SUM(F5:F50) -F33-F31-F32 -> 11010154 | H51: =SUM(H5:H50) -H33-H31-H32 -> 17240985 | J51: =SUM(J5:J50) -J33-J31-J32 -> 266755 | L51: =SUM(L5:L50) -L33-L31-L32 -> 28517894 | N51: TOTAL
A52: 010102 옥외보안등설비공사 | B52: 전기공사 | Q52: 010102
A53: 파상형 경질폴리에틸렌 전선관 | B53: 30㎜ | C53: M | D53: 40 | E53: =TRUNC(일위대가목록!E43,0) -> 454 | F53: =TRUNC(E53*D53, 0) -> 18160 | G53: =TRUNC(일위대가목록!F43,0) -> 3819 | H53: =TRUNC(G53*D53, 0) -> 152760 | I53: =TRUNC(일위대가목록!G43,0) -> 0 | J53: =TRUNC(I53*D53, 0) -> 0 | K53: =TRUNC(E53+G53+I53, 0) -> 4273 | L53: =TRUNC(F53+H53+J53, 0) -> 170920 | M53: 호표 40 | N53: 5853949F59EA5DF13638840EE550A2 | Q53: 010102 | R53: T | S53: F | T53: F | AU53: 0101025853949F59EA5DF13638840EE550A2 | AV53: 38
...

Sheet 일위대가목록
A1: 일 위 대 가 목 록
A2: [ 확장양수장 신설사업 전기공사 ]
A3: 코 드 | B3: 품 명 | C3: 규 격 | D3: 단위 | E3: 재 료 비 | F3: 노 무 비 | G3: 경 비 | H3: 합 계 | I3: 번 호 | J3: 비 고 | K3: 노임계수 | L3: 할증 | M3: 품셈개요 | N3: 장비일위
A4: 5F0DE4D349137D85CA31548175F9693D1F9CEBD5 | B4: 굴삭기(무한궤도) | C4: 0.2㎥ | D4: HR | E4: =일위대가!F9 -> 8415 | F4: =일위대가!H9 -> 58296 | G4: =일위대가!J9 -> 13399 | H4: =E4+F4+G4 -> 80110 | I4: 호표 1 | K4: A | M4: 공통 8-3,4(0201) | N4: T
A5: 5F0DE4D349137D85CA31548175FC3D9BB8A49863 | B5: 굴삭기(무한궤도) | C5: 0.7㎥ | D5: HR | E5: =일위대가!F16 -> 19685 | F5: =일위대가!H16 -> 58296 | G5: =일위대가!J16 -> 24001 | H5: =E5+F5+G5 -> 101982 | I5: 호표 2 | K5: A | M5: 토목 11-3.4 | N5: T
A6: 5F0DE4D349137D85D436145935DA6475B51D0C46 | B6: 굴삭기(타이어) | C6: 0.18㎥ | D6: HR | E6: =일위대가!F23 -> 9659 | F6: =일위대가!H23 -> 58296 | G6: =일위대가!J23 -> 15517 | H6: =E6+F6+G6 -> 83472 | I6: 호표 3 | K6: A | M6: 공통 8-3,4(0211) | N6: T
A7: 5F0DE4D349136300CF3ED45CD5AE840C2CCC73DC | B7: 진동 롤러(핸드가이드식) | C7: 0.7ton | D7: HR | E7: =일위대가!F30 -> 3458 | F7: =일위대가!H30 -> 35913 | G7: =일위대가!J30 -> 1902 | H7: =E7+F7+G7 -> 41273 | I7: 호표 4 | K7: A | M7: 토목 11-9.4 | N7: T
A8: 5F0DE4D349136358DE3EA42EA5546B8677A52E2B | B8: 래머 | C8: 80kg | D8: HR | E8: =일위대가!F37 -> 1161 | F8: =일위대가!H37 -> 35913 | G8: =일위대가!J37 -> 507 | H8: =E8+F8+G8 -> 37581 | I8: 호표 5 | K8: A | M8: 공통 8-3,4(1630) | N8: T
A9: 5F0DE4D3491352CEF63CD4FD15B662FFEEC1AD5B | B9: 크레인(타이어) | C9: 10톤 | D9: HR | E9: =일위대가!F44 -> 7347 | F9: =일위대가!H44 -> 58296 | G9: =일위대가!J44 -> 30793 | H9: =E9+F9+G9 -> 96436 | I9: 호표 6 | K9: A | M9: 공통 8-3,4(2104) | N9: T
A10: 5F546497C900DCEBAE3B548495A4A1 | B10: 외등기초(4M이하) | C10: 400*600*600 | D10: 개소 | E10: =일위대가!F56 -> 101325 | F10: =일위대가!H56 -> 111524 | G10: =일위대가!J56 -> 6724 | H10: =E10+F10+G10 -> 219573 | I10: 호표 7 | M10: 전기 5-27-1
A11: 5F546497C900DCEBAE3B54848599DD | B11: 수.배전반 PAD | C11: 800x2200x100 | D11: 개소 | E11: =일위대가!F66 -> 46236 | F11: =일위대가!H66 -> 103379 | G11: =일위대가!J66 -> 1099 | H11: =E11+F11+G11 -> 150714 | I11: 호표 8
A12: 5F546497C900DCEBAE3B5484859831 | B12: 분전반 PAD | C12: 1000x400x300 | D12: 개소 | E12: =일위대가!F76 -> 32097 | F12: =일위대가!H76 -> 85567 | G12: =일위대가!J76 -> 587 | H12: =E12+F12+G12 -> 118251 | I12: 호표 9
A13: 5F546497C900DCEBF63AC47A857676 | B13: 6/10kV고압가교폴리에틸렌(F-CV) | C13: 1C 50㎟(3열) | D13: M | E13: =일위대가!F85 -> 12835 | F13: =일위대가!H85 -> 3421 | G13: =일위대가!J85 -> 0 | H13: =E13+F13+G13 -> 16256 | I13: 호표 10 | M13: 전기 4-34
A14: 5F546497C900DCEBF63AC468250D8F | B14: 6/10kV고압가교폴리에틸렌(F-CV) | C14: 3C 25㎟ | D14: M | E14: =일위대가!F94 -> 25899 | F14: =일위대가!H94 -> 6562 | G14: =일위대가!J94 -> 0 | H14: =E14+F14+G14 -> 32461 | I14: 호표 11 | M14: 전기 4-34
A15: 5F546497C900DCEBDB3D0496E547FD | B15: 0.6/1kV제어용난연(F-CVV-SB) | C15: 2C 1.5㎟ | D15: M | E15: =일위대가!F102 -> 2233 | F15: =일위대가!H102 -> 5101 | G15: =일위대가!J102 -> 0 | H15: =E15+F15+G15 -> 7334 | I15: 호표 12 | M15: 전기 5-13
A16: 5F546497C900DCEBDB3D0496650F0F | B16: 0.6/1kV제어용난연(F-CVV-SB) | C16: 20C 1.5㎟ | D16: M | E16: =일위대가!F110 -> 9770 | F16: =일위대가!H110 -> 26962 | G16: =일위대가!J110 -> 0 | H16: =E16+F16+G16 -> 36732 | I16: 호표 13 | M16: 전기 5-13
A17: 5F546497C900DCEB3B3AD4C2B595A3 | B17: 케이블 단말접속자재 | C17: 자기수축,6.9kV 1Cx60 ㎟ | D17: KIT | E17: =일위대가!F116 -> 61663 | F17: =일위대가!H116 -> 264827 | G17: =일위대가!J116 -> 0 | H17: =E17+F17+G17 -> 326490 | I17: 호표 14 | M17: 전기 4-37
A18: 5F546497C900DCEB3B3BE47F85F105 | B18: 러그단자(전력용)-1C | C18: 동관단자 2 HOLE 35 ㎟ | D18: 개 | E18: =일위대가!F122 -> 1997 | F18: =일위대가!H122 -> 39350 | G18: =일위대가!J122 -> 0 | H18: =E18+F18+G18 -> 41347 | I18: 호표 15 | M18: 전기 4-37
A19: 5F546497C900DCEB3B3BE431D5687B | B19: 압착단자(접지용) | C19: R형동선 나압착 16 ㎟ | D19: 개 | E19: =일위대가!F128 -> 643 | F19: =일위대가!H128 -> 22156 | G19: =일위대가!J128 -> 0 | H19: =E19+F19+G19 -> 22799 | I19: 호표 16 | M19: 전기 3-38
A20: 5F546497C900DCEB3B3BE431D56E9C | B20: 압착단자(전력용)-1C | C20: R형동선 나압착 25 ㎟ | D20: 개 | E20: =일위대가!F134 -> 981 | F20: =일위대가!H134 -> 36071 | G20: =일위대가!J134 -> 0 | H20: =E20+F20+G20 -> 37052 | I20: 호표 17 | M20: 전기 4-37
A21: 5F546497C900DCF447328478750AB4 | B21: RACEWAY 지지행거 70 * 40 | C21: A형 | D21: 개소 | E21: =일위대가!F142 -> 2445 | F21: =일위대가!H142 -> 14771 | G21: =일위대가!J142 -> 0 | H21: =E21+F21+G21 -> 17216 | I21: 호표 18 | M21: 전기 5-29
A22: 5F546497C900DCF45136B4E585DA79 | B22: 트레이,덕트지지대-벽체or바닥 | C22: W300 | D22: 개소 | E22: =일위대가!F151 -> 4422 | F22: =일위대가!H151 -> 19694 | G22: =일위대가!J151 -> 0 | H22: =E22+F22+G22 -> 24116 | I22: 호표 19 | M22: 전기 5-29
A23: 5F546497C900DCD94E36344E458D92 | B23: 분전반설치비 | D23: 면 | E23: =일위대가!F157 -> 6729 | F23: =일위대가!H157 -> 336452 | G23: =일위대가!J157 -> 0 | H23: =E23+F23+G23 -> 343181 | I23: 호표 20 | M23: 전기 5-4
A24: 5F546497C900DCD94E36344E458D91 | B24: 자립형 분전반설치비 | D24: 면 | E24: =일위대가!F164 -> 30328 | F24: =일위대가!H164 -> 1516415 | G24: =일위대가!J164 -> 0 | H24: =E24+F24+G24 -> 1546743 | I24: 호표 21 | M24: 전기 3-33
A25: 581A341D89B3D0DD7E38E4D8252150 | B25: 터파기(기계100%) | C25: 보통토사 | D25: ㎥ | E25: =일위대가!F168 -> 245 | F25: =일위대가!H168 -> 755 | G25: =일위대가!J168 -> 304 | H25: =E25+F25+G25 -> 1304 | I25: 호표 22
A26: 581A341D89B3D0DD7E38E4D835C899 | B26: 되메우기(기계100%) | C26: 보통토사 | D26: ㎥ | E26: =일위대가!F172 -> 677 | F26: =일위대가!H172 -> 10574 | G26: =일위대가!J172 -> 576 | H26: =E26+F26+G26 -> 11827 | I26: 호표 23
A27: 581A341D89B3D0A0343B04ACB53195 | B27: 터파기(기계90%,인력10%) | C27: 보통토사 | D27: ㎥ | E27: =일위대가!F177 -> 276 | F27: =일위대가!H177 -> 2764 | G27: =일위대가!J177 -> 342 | H27: =E27+F27+G27 -> 3382 | I27: 호표 24
A28: 581A341D89B3D0A0343B04ACA52AA3 | B28: 되메우기(기계90%,인력10%) | C28: 보통토사 | D28: ㎥ | E28: =일위대가!F182 -> 609 | F28: =일위대가!H182 -> 11815 | G28: =일위대가!J182 -> 518 | H28: =E28+F28+G28 -> 12942 | I28: 호표 25
A29: 581A341D89B3C666A03404F1B569EF | B29: 인력터파기 | C29: 보통토사0∼1m | D29: ㎥ | E29: =일위대가!F186 -> 0 | F29: =일위대가!H186 -> 19153 | G29: =일위대가!J186 -> 0 | H29: =E29+F29+G29 -> 19153 | I29: 호표 26 | M29: 토목 3-1-2
A30: 581A341BD9CBA5DF8334A45F252ECE | B30: 인력되메우기 | C30: 보통토사 | D30: ㎥ | E30: =일위대가!F190 -> 0 | F30: =일위대가!H190 -> 22984 | G30: =일위대가!J190 -> 0 | H30: =E30+F30+G30 -> 22984 | I30: 호표 27 | J30: 19년3-3-1포함 | M30: 토목 3-2-1
A31: 581A341BD9CBA591C93ED48B955BBC | B31: 현장내잔토처리 | C31: 소운반.고르기 | D31: ㎥ | E31: =일위대가!F194 -> 0 | F31: =일위대가!H194 -> 19153 | G31: =일위대가!J194 -> 0 | H31: =E31+F31+G31 -> 19153 | I31: 호표 28 | M31: 토목 3-1-2
A32: 581A24390965D8B0C432F4376530EF | B32: 잡석깔기지정 | C32: 장비, 백호0.2m3+진동롤러(핸드가이드식) | D32: M3 | E32: =일위대가!F199 -> 886 | F32: =일위대가!H199 -> 7169 | G32: =일위대가!J199 -> 1101 | H32: =E32+F32+G32 -> 9156 | I32: 호표 29 | M32: 토목 5-1-1(2)
A33: 581A24390965D8B0C430C457B5B8C4 | B33: 잡석깔기지정 | D33: ㎥ | E33: =일위대가!F205 -> 29886 | F33: =일위대가!H205 -> 8892 | G33: =일위대가!J205 -> 1101 | H33: =E33+F33+G33 -> 39879 | I33: 호표 30 | M33: 토목 5-1-1(2)
A34: 581A546C496D8504673174AF9539AB | B34: 합판거푸집(보통) | C34: 4회 | D34: ㎡ | E34: =일위대가!F215 -> 13811 | F34: =일위대가!H215 -> 30099 | G34: =일위대가!J215 -> 300 | H34: =E34+F34+G34 -> 44210 | I34: 호표 31 | M34: 건축6-3-1
A35: 581A546F19C679BE1534741BB59DE3 | B35: 와이어메시바닥깔기 | C35: #10-150*150 | D35: ㎡ | E35: =일위대가!F221 -> 596 | F35: =일위대가!H221 -> 1346 | G35: =일위대가!J221 -> 0 | H35: =E35+F35+G35 -> 1942 | I35: 호표 32 | M35: 건축8-1-3
A36: 581A546BB9E61775C03384755505DB | B36: 콘크리트인력비빔타설 | C36: 배합비1:2 | D36: ㎥ | E36: =일위대가!F228 -> 146800 | F36: =일위대가!H228 -> 308933 | G36: =일위대가!J228 -> 0 | H36: =E36+F36+G36 -> 455733 | I36: 호표 33 | M36: 건축6-1-2,9-1-1
A37: 5853949F59EA5D98A33C6477251975 | B37: 경질비닐전선관 | C37: HI 36 mm | D37: M | E37: =일위대가!F237 -> 1970 | F37: =일위대가!H237 -> 27353 | G37: =일위대가!J237 -> 0 | H37: =E37+F37+G37 -> 29323 | I37: 호표 34 | M37: 전기 5-1
A38: 5853949F59EA5DA9123FC45CE5A360 | B38: 합성수지제 가요전선관 | C38: CD 난연성 16㎜ | D38: M | E38: =일위대가!F246 -> 522 | F38: =일위대가!H246 -> 10941 | G38: =일위대가!J246 -> 0 | H38: =E38+F38+G38 -> 11463 | I38: 호표 35 | M38: 전기 5-1
A39: 5853949F59EA5DA9123FC45CE5A1B3 | B39: 합성수지제 가요전선관 | C39: CD 난연성 28㎜ | D39: M | E39: =일위대가!F255 -> 973 | F39: =일위대가!H255 -> 17506 | G39: =일위대가!J255 -> 0 | H39: =E39+F39+G39 -> 18479 | I39: 호표 36 | M39: 전기 5-1
A40: 5853949F59EA5DD6583F24CAB51672 | B40: 1종금속제가요전선관 | C40: 16 mm 비방수 | D40: M | E40: =일위대가!F263 -> 920 | F40: =일위대가!H263 -> 14442 | G40: =일위대가!J263 -> 0 | H40: =E40+F40+G40 -> 15362 | I40: 호표 37 | M40: 전기 5-1
...

Sheet 일위대가
A1: [ 확장양수장 신설사업 전기공사 ]
A2: 품 명 | B2: 규 격 | C2: 단위 | D2: 수량 | E2: 재 료 비 | G2: 노 무 비 | I2: 경 비 | K2: 합 계 | M2: 비 고 | N2: 일위대가 | O2: 품목코드 | P2: 일위 | Q2: 단산 | R2: 자재 | S2: 손료적용 | T2: 손료저장 | U2: 적용율 | V2: JUK1 | W2: JUK2 | X2: JUK3 | Y2: JUK4 | Z2: JUK5 | AA2: JUK6 | AB2: JUK7 | AC2: JUK8 | AD2: JUK9 | AE2: JUK10 | AF2: JUK11 | AG2: JUK12 | AH2: JUK13 | AI2: JUK14 | AJ2: JUK15 | AK2: JUK16 | AL2: JUK17 | AM2: JUK18 | AN2: JUK19 | AO2: JUK20 | AP2: 할증적용 | AQ2: 할증저장 | AR2: 할증율 | AS2: HAL1 | AT2: HAL2 | AU2: HAL3 | AV2: 자재구분 | AW2: 일위대가+자재 | AX2: 장비일위 | AY2: 설정 | AZ2: 할증체크
E3: 단 가 | F3: 금 액 | G3: 단 가 | H3: 금 액 | I3: 단 가 | J3: 금 액 | K3: 단 가 | L3: 금 액
A4: 굴삭기(무한궤도) 0.2㎥ HR 공통 8-3,4(0201) ( 호표 1 ) | N4: 5F0DE4D349137D85CA31548175F9693D1F9CEBD5
A5: 굴삭기(무한궤도) | B5: 0.2㎥ | C5: 대 | D5: 0.2085 | E5: =단가대비표!O5 -> 0 | F5: =TRUNC(E5*D5,1) -> 0 | G5: =단가대비표!P5 -> 0 | H5: =TRUNC(G5*D5,1) -> 0 | I5: =단가대비표!V5 -> 64267 | J5: =TRUNC(I5*D5,1) -> 13399.6 | K5: =TRUNC(E5+G5+I5,1) -> 64267 | L5: =TRUNC(F5+H5+J5,1) -> 13399.6 | M5: 천원 | N5: 5F0DE4D349137D85CA31548175F9693D1F9CEBD5 | O5: 5F0DE4D349137D85CA31548175F9693D1F9CEB | P5: F | Q5: F | R5: T | AW5: 5F0DE4D349137D85CA31548175F9693D1F9CEBD55F0DE4D349137D85CA31548175F9693D1F9CEB
A6: 경유 | B6: 저유황 | C6: L | D6: 5 | E6: =단가대비표!O13 -> 1391 | F6: =TRUNC(E6*D6,1) -> 6955 | G6: =단가대비표!P13 -> 0 | H6: =TRUNC(G6*D6,1) -> 0 | I6: =단가대비표!V13 -> 0 | J6: =TRUNC(I6*D6,1) -> 0 | K6: =TRUNC(E6+G6+I6,1) -> 1391 | L6: =TRUNC(F6+H6+J6,1) -> 6955 | N6: 5F0DE4D349137D85CA31548175F9693D1F9CEBD5 | O6: 5F1E04427980CC3C2E3CE483657E72D54ABA49 | P6: F | Q6: F | R6: T | V6: 1 | AW6: 5F0DE4D349137D85CA31548175F9693D1F9CEBD55F1E04427980CC3C2E3CE483657E72D54ABA49
A7: 건설기계운전사 | B7: 일반공사직종 | C7: 인 | D7: 1 | E7: =TRUNC(단가대비표!O120*1/8*16/12*25/20, 1) -> 0 | F7: =TRUNC(E7*D7,1) -> 0 | G7: =TRUNC(단가대비표!P120*1/8*16/12*25/20, 1) -> 58296.6 | H7: =TRUNC(G7*D7,1) -> 58296.6 | I7: =TRUNC(단가대비표!V120*1/8*16/12*25/20, 1) -> 0 | J7: =TRUNC(I7*D7,1) -> 0 | K7: =TRUNC(E7+G7+I7,1) -> 58296.6 | L7: =TRUNC(F7+H7+J7,1) -> 58296.6 | N7: 5F0DE4D349137D85CA31548175F9693D1F9CEBD5 | O7: 58CFC4C31996CDE96A31A4F8553087A8AC2A62 | P7: F | Q7: F | R7: T | AW7: 5F0DE4D349137D85CA31548175F9693D1F9CEBD558CFC4C31996CDE96A31A4F8553087A8AC2A62 | AX7: T
A8: 잡재료 | B8: 주연료비의 21% | C8: 식 | D8: 1 | E8: =TRUNC(SUMIF(V5:V8, RIGHTB(O8, 1), F5:F8)*U8, 2) -> 1460.55 | F8: =TRUNC(E8*D8,1) -> 1460.5 | G8: 0 | H8: =TRUNC(G8*D8,1) -> 0 | I8: 0 | J8: =TRUNC(I8*D8,1) -> 0 | K8: =TRUNC(E8+G8+I8,1) -> 1460.5 | L8: =TRUNC(F8+H8+J8,1) -> 1460.5 | N8: 5F0DE4D349137D85CA31548175F9693D1F9CEBD5 | O8: 5903743FA914797AD03514258567001 | P8: F | Q8: F | R8: F | S8: 0 | T8: 0 | U8: 0.21 | AW8: 5F0DE4D349137D85CA31548175F9693D1F9CEBD55903743FA914797AD03514258567001
A9: [ 합 계 ] | F9: =TRUNC(SUMIF(N5:N8, N4, F5:F8),0) -> 8415 | H9: =TRUNC(SUMIF(N5:N8, N4, H5:H8),0) -> 58296 | J9: =TRUNC(SUMIF(N5:N8, N4, J5:J8),0) -> 13399 | L9: =F9+H9+J9 -> 80110 | N9: TOTAL | O9: TOTAL
A11: 굴삭기(무한궤도) 0.7㎥ HR 토목 11-3.4 ( 호표 2 ) | N11: 5F0DE4D349137D85CA31548175FC3D9BB8A49863
A12: 굴삭기(유압식백호) | B12: 0.7 M3 | C12: 대 | D12: 0.2085 | E12: =단가대비표!O6 -> 0 | F12: =TRUNC(E12*D12,1) -> 0 | G12: =단가대비표!P6 -> 0 | H12: =TRUNC(G12*D12,1) -> 0 | I12: =단가대비표!V6 -> 115116 | J12: =TRUNC(I12*D12,1) -> 24001.6 | K12: =TRUNC(E12+G12+I12,1) -> 115116 | L12: =TRUNC(F12+H12+J12,1) -> 24001.6 | M12: 천원 | N12: 5F0DE4D349137D85CA31548175FC3D9BB8A49863 | O12: 5F0DE4D349137D85CA31548175FC3D9BB8A498 | P12: F | Q12: F | R12: T | AW12: 5F0DE4D349137D85CA31548175FC3D9BB8A498635F0DE4D349137D85CA31548175FC3D9BB8A498
A13: 건설기계운전사 | B13: 일반공사직종 | C13: 인 | D13: 1 | E13: =TRUNC(단가대비표!O120*1/8*16/12*25/20, 1) -> 0 | F13: =TRUNC(E13*D13,1) -> 0 | G13: =TRUNC(단가대비표!P120*1/8*16/12*25/20, 1) -> 58296.6 | H13: =TRUNC(G13*D13,1) -> 58296.6 | I13: =TRUNC(단가대비표!V120*1/8*16/12*25/20, 1) -> 0 | J13: =TRUNC(I13*D13,1) -> 0 | K13: =TRUNC(E13+G13+I13,1) -> 58296.6 | L13: =TRUNC(F13+H13+J13,1) -> 58296.6 | N13: 5F0DE4D349137D85CA31548175FC3D9BB8A49863 | O13: 58CFC4C31996CDE96A31A4F8553087A8AC2A62 | P13: F | Q13: F | R13: T | AW13: 5F0DE4D349137D85CA31548175FC3D9BB8A4986358CFC4C31996CDE96A31A4F8553087A8AC2A62 | AX13: T
A14: 경유 | B14: 저유황 | C14: L | D14: 11.6 | E14: =단가대비표!O13 -> 1391 | F14: =TRUNC(E14*D14,1) -> 16135.6 | G14: =단가대비표!P13 -> 0 | H14: =TRUNC(G14*D14,1) -> 0 | I14: =단가대비표!V13 -> 0 | J14: =TRUNC(I14*D14,1) -> 0 | K14: =TRUNC(E14+G14+I14,1) -> 1391 | L14: =TRUNC(F14+H14+J14,1) -> 16135.6 | N14: 5F0DE4D349137D85CA31548175FC3D9BB8A49863 | O14: 5F1E04427980CC3C2E3CE483657E72D54ABA49 | P14: F | Q14: F | R14: T | V14: 1 | AW14: 5F0DE4D349137D85CA31548175FC3D9BB8A498635F1E04427980CC3C2E3CE483657E72D54ABA49
A15: 잡재료 | B15: 주연료비의 22% | C15: 식 | D15: 1 | E15: =TRUNC(SUMIF(V12:V15, RIGHTB(O15, 1), F12:F15)*U15, 2) -> 3549.83 | F15: =TRUNC(E15*D15,1) -> 3549.8 | G15: 0 | H15: =TRUNC(G15*D15,1) -> 0 | I15: 0 | J15: =TRUNC(I15*D15,1) -> 0 | K15: =TRUNC(E15+G15+I15,1) -> 3549.8 | L15: =TRUNC(F15+H15+J15,1) -> 3549.8 | N15: 5F0DE4D349137D85CA31548175FC3D9BB8A49863 | O15: 5903743FA914797AD03514258567001 | P15: F | Q15: F | R15: F | S15: 0 | T15: 0 | U15: 0.22 | AW15: 5F0DE4D349137D85CA31548175FC3D9BB8A498635903743FA914797AD03514258567001
A16: [ 합 계 ] | F16: =TRUNC(SUMIF(N12:N15, N11, F12:F15),0) -> 19685 | H16: =TRUNC(SUMIF(N12:N15, N11, H12:H15),0) -> 58296 | J16: =TRUNC(SUMIF(N12:N15, N11, J12:J15),0) -> 24001 | L16: =F16+H16+J16 -> 101982 | N16: TOTAL | O16: TOTAL
A18: 굴삭기(타이어) 0.18㎥ HR 공통 8-3,4(0211) ( 호표 3 ) | N18: 5F0DE4D349137D85D436145935DA6475B51D0C46
A19: 굴삭기(타이어) | B19: 0.18㎥ | C19: 대 | D19: 0.2279 | E19: =단가대비표!O7 -> 0 | F19: =TRUNC(E19*D19,1) -> 0 | G19: =단가대비표!P7 -> 0 | H19: =TRUNC(G19*D19,1) -> 0 | I19: =단가대비표!V7 -> 68088 | J19: =TRUNC(I19*D19,1) -> 15517.2 | K19: =TRUNC(E19+G19+I19,1) -> 68088 | L19: =TRUNC(F19+H19+J19,1) -> 15517.2 | M19: 천원 | N19: 5F0DE4D349137D85D436145935DA6475B51D0C46 | O19: 5F0DE4D349137D85D436145935DA6475B51D0C | P19: F | Q19: F | R19: T | AW19: 5F0DE4D349137D85D436145935DA6475B51D0C465F0DE4D349137D85D436145935DA6475B51D0C
A20: 경유 | B20: 저유황 | C20: L | D20: 5.6 | E20: =단가대비표!O13 -> 1391 | F20: =TRUNC(E20*D20,1) -> 7789.6 | G20: =단가대비표!P13 -> 0 | H20: =TRUNC(G20*D20,1) -> 0 | I20: =단가대비표!V13 -> 0 | J20: =TRUNC(I20*D20,1) -> 0 | K20: =TRUNC(E20+G20+I20,1) -> 1391 | L20: =TRUNC(F20+H20+J20,1) -> 7789.6 | N20: 5F0DE4D349137D85D436145935DA6475B51D0C46 | O20: 5F1E04427980CC3C2E3CE483657E72D54ABA49 | P20: F | Q20: F | R20: T | V20: 1 | AW20: 5F0DE4D349137D85D436145935DA6475B51D0C465F1E04427980CC3C2E3CE483657E72D54ABA49
A21: 건설기계운전사 | B21: 일반공사직종 | C21: 인 | D21: 1 | E21: =TRUNC(단가대비표!O120*1/8*16/12*25/20, 1) -> 0 | F21: =TRUNC(E21*D21,1) -> 0 | G21: =TRUNC(단가대비표!P120*1/8*16/12*25/20, 1) -> 58296.6 | H21: =TRUNC(G21*D21,1) -> 58296.6 | I21: =TRUNC(단가대비표!V120*1/8*16/12*25/20, 1) -> 0 | J21: =TRUNC(I21*D21,1) -> 0 | K21: =TRUNC(E21+G21+I21,1) -> 58296.6 | L21: =TRUNC(F21+H21+J21,1) -> 58296.6 | N21: 5F0DE4D349137D85D436145935DA6475B51D0C46 | O21: 58CFC4C31996CDE96A31A4F8553087A8AC2A62 | P21: F | Q21: F | R21: T | AW21: 5F0DE4D349137D85D436145935DA6475B51D0C4658CFC4C31996CDE96A31A4F8553087A8AC2A62 | AX21: T
A22: 잡재료 | B22: 주연료비의 24% | C22: 식 | D22: 1 | E22: =TRUNC(SUMIF(V19:V22, RIGHTB(O22, 1), F19:F22)*U22, 2) -> 1869.5 | F22: =TRUNC(E22*D22,1) -> 1869.5 | G22: 0 | H22: =TRUNC(G22*D22,1) -> 0 | I22: 0 | J22: =TRUNC(I22*D22,1) -> 0 | K22: =TRUNC(E22+G22+I22,1) -> 1869.5 | L22: =TRUNC(F22+H22+J22,1) -> 1869.5 | N22: 5F0DE4D349137D85D436145935DA6475B51D0C46 | O22: 5903743FA914797AD03514258567001 | P22: F | Q22: F | R22: F | S22: 0 | T22: 0 | U22: 0.24 | AW22: 5F0DE4D349137D85D436145935DA6475B51D0C465903743FA914797AD03514258567001
A23: [ 합 계 ] | F23: =TRUNC(SUMIF(N19:N22, N18, F19:F22),0) -> 9659 | H23: =TRUNC(SUMIF(N19:N22, N18, H19:H22),0) -> 58296 | J23: =TRUNC(SUMIF(N19:N22, N18, J19:J22),0) -> 15517 | L23: =F23+H23+J23 -> 83472 | N23: TOTAL | O23: TOTAL
A25: 진동 롤러(핸드가이드식) 0.7ton HR 토목 11-9.4 ( 호표 4 ) | N25: 5F0DE4D349136300CF3ED45CD5AE840C2CCC73DC
A26: 진동 롤러(핸드가이드식) | B26: 0.7톤 | C26: 대 | D26: 0.2825 | E26: =단가대비표!O8 -> 0 | F26: =TRUNC(E26*D26,1) -> 0 | G26: =단가대비표!P8 -> 0 | H26: =TRUNC(G26*D26,1) -> 0 | I26: =단가대비표!V8 -> 6733 | J26: =TRUNC(I26*D26,1) -> 1902 | K26: =TRUNC(E26+G26+I26,1) -> 6733 | L26: =TRUNC(F26+H26+J26,1) -> 1902 | M26: 천원 | N26: 5F0DE4D349136300CF3ED45CD5AE840C2CCC73DC | O26: 5F0DE4D349136300CF3ED45CD5AE840C2CCC73 | P26: F | Q26: F | R26: T | AW26: 5F0DE4D349136300CF3ED45CD5AE840C2CCC73DC5F0DE4D349136300CF3ED45CD5AE840C2CCC73
A27: 일반기계운전사 | B27: 일반공사직종 | C27: 인 | D27: 1 | E27: =TRUNC(단가대비표!O121*1/8*16/12*25/20, 1) -> 0 | F27: =TRUNC(E27*D27,1) -> 0 | G27: =TRUNC(단가대비표!P121*1/8*16/12*25/20, 1) -> 35913.9 | H27: =TRUNC(G27*D27,1) -> 35913.9 | I27: =TRUNC(단가대비표!V121*1/8*16/12*25/20, 1) -> 0 | J27: =TRUNC(I27*D27,1) -> 0 | K27: =TRUNC(E27+G27+I27,1) -> 35913.9 | L27: =TRUNC(F27+H27+J27,1) -> 35913.9 | N27: 5F0DE4D349136300CF3ED45CD5AE840C2CCC73DC | O27: 58CFC4C31996CDE96A31A4F8553087A8AC2B71 | P27: F | Q27: F | R27: T | AW27: 5F0DE4D349136300CF3ED45CD5AE840C2CCC73DC58CFC4C31996CDE96A31A4F8553087A8AC2B71 | AX27: T
A28: 경유 | B28: 저유황 | C28: L | D28: 2.2 | E28: =단가대비표!O13 -> 1391 | F28: =TRUNC(E28*D28,1) -> 3060.2 | G28: =단가대비표!P13 -> 0 | H28: =TRUNC(G28*D28,1) -> 0 | I28: =단가대비표!V13 -> 0 | J28: =TRUNC(I28*D28,1) -> 0 | K28: =TRUNC(E28+G28+I28,1) -> 1391 | L28: =TRUNC(F28+H28+J28,1) -> 3060.2 | N28: 5F0DE4D349136300CF3ED45CD5AE840C2CCC73DC | O28: 5F1E04427980CC3C2E3CE483657E72D54ABA49 | P28: F | Q28: F | R28: T | V28: 1 | AW28: 5F0DE4D349136300CF3ED45CD5AE840C2CCC73DC5F1E04427980CC3C2E3CE483657E72D54ABA49
A29: 잡재료 | B29: 주연료비의 13% | C29: 식 | D29: 1 | E29: =TRUNC(SUMIF(V26:V29, RIGHTB(O29, 1), F26:F29)*U29, 2) -> 397.82 | F29: =TRUNC(E29*D29,1) -> 397.8 | G29: 0 | H29: =TRUNC(G29*D29,1) -> 0 | I29: 0 | J29: =TRUNC(I29*D29,1) -> 0 | K29: =TRUNC(E29+G29+I29,1) -> 397.8 | L29: =TRUNC(F29+H29+J29,1) -> 397.8 | N29: 5F0DE4D349136300CF3ED45CD5AE840C2CCC73DC | O29: 5903743FA914797AD03514258567001 | P29: F | Q29: F | R29: F | S29: 0 | T29: 0 | U29: 0.13 | AW29: 5F0DE4D349136300CF3ED45CD5AE840C2CCC73DC5903743FA914797AD03514258567001
A30: [ 합 계 ] | F30: =TRUNC(SUMIF(N26:N29, N25, F26:F29),0) -> 3458 | H30: =TRUNC(SUMIF(N26:N29, N25, H26:H29),0) -> 35913 | J30: =TRUNC(SUMIF(N26:N29, N25, J26:J29),0) -> 1902 | L30: =F30+H30+J30 -> 41273 | N30: TOTAL | O30: TOTAL
A32: 래머 80kg HR 공통 8-3,4(1630) ( 호표 5 ) | N32: 5F0DE4D349136358DE3EA42EA5546B8677A52E2B
A33: 래머 | B33: 80kg | C33: 대 | D33: 0.3708 | E33: =단가대비표!O9 -> 0 | F33: =TRUNC(E33*D33,1) -> 0 | G33: =단가대비표!P9 -> 0 | H33: =TRUNC(G33*D33,1) -> 0 | I33: =단가대비표!V9 -> 1370 | J33: =TRUNC(I33*D33,1) -> 507.9 | K33: =TRUNC(E33+G33+I33,1) -> 1370 | L33: =TRUNC(F33+H33+J33,1) -> 507.9 | M33: 천원 | N33: 5F0DE4D349136358DE3EA42EA5546B8677A52E2B | O33: 5F0DE4D349136358DE3EA42EA5546B8677A52E | P33: F | Q33: F | R33: T | AW33: 5F0DE4D349136358DE3EA42EA5546B8677A52E2B5F0DE4D349136358DE3EA42EA5546B8677A52E
A34: 휘발유 | B34: 무연 | C34: L | D34: 0.7 | E34: =단가대비표!O14 -> 1509 | F34: =TRUNC(E34*D34,1) -> 1056.3 | G34: =단가대비표!P14 -> 0 | H34: =TRUNC(G34*D34,1) -> 0 | I34: =단가대비표!V14 -> 0 | J34: =TRUNC(I34*D34,1) -> 0 | K34: =TRUNC(E34+G34+I34,1) -> 1509 | L34: =TRUNC(F34+H34+J34,1) -> 1056.3 | N34: 5F0DE4D349136358DE3EA42EA5546B8677A52E2B | O34: 5F1E04427980CC3C2E3FB4C955BE842FCFE447 | P34: F | Q34: F | R34: T | V34: 1 | AW34: 5F0DE4D349136358DE3EA42EA5546B8677A52E2B5F1E04427980CC3C2E3FB4C955BE842FCFE447
A35: 일반기계운전사 | B35: 일반공사직종 | C35: 인 | D35: 1 | E35: =TRUNC(단가대비표!O121*1/8*16/12*25/20, 1) -> 0 | F35: =TRUNC(E35*D35,1) -> 0 | G35: =TRUNC(단가대비표!P121*1/8*16/12*25/20, 1) -> 35913.9 | H35: =TRUNC(G35*D35,1) -> 35913.9 | I35: =TRUNC(단가대비표!V121*1/8*16/12*25/20, 1) -> 0 | J35: =TRUNC(I35*D35,1) -> 0 | K35: =TRUNC(E35+G35+I35,1) -> 35913.9 | L35: =TRUNC(F35+H35+J35,1) -> 35913.9 | N35: 5F0DE4D349136358DE3EA42EA5546B8677A52E2B | O35: 58CFC4C31996CDE96A31A4F8553087A8AC2B71 | P35: F | Q35: F | R35: T | AW35: 5F0DE4D349136358DE3EA42EA5546B8677A52E2B58CFC4C31996CDE96A31A4F8553087A8AC2B71 | AX35: T
A36: 잡재료 | B36: 주연료비의 10% | C36: 식 | D36: 1 | E36: =TRUNC(SUMIF(V33:V36, RIGHTB(O36, 1), F33:F36)*U36, 2) -> 105.63 | F36: =TRUNC(E36*D36,1) -> 105.6 | G36: 0 | H36: =TRUNC(G36*D36,1) -> 0 | I36: 0 | J36: =TRUNC(I36*D36,1) -> 0 | K36: =TRUNC(E36+G36+I36,1) -> 105.6 | L36: =TRUNC(F36+H36+J36,1) -> 105.6 | N36: 5F0DE4D349136358DE3EA42EA5546B8677A52E2B | O36: 5903743FA914797AD03514258567001 | P36: F | Q36: F | R36: F | S36: 0 | T36: 0 | U36: 0.1 | AW36: 5F0DE4D349136358DE3EA42EA5546B8677A52E2B5903743FA914797AD03514258567001
A37: [ 합 계 ] | F37: =TRUNC(SUMIF(N33:N36, N32, F33:F36),0) -> 1161 | H37: =TRUNC(SUMIF(N33:N36, N32, H33:H36),0) -> 35913 | J37: =TRUNC(SUMIF(N33:N36, N32, J33:J36),0) -> 507 | L37: =F37+H37+J37 -> 37581 | N37: TOTAL | O37: TOTAL
A39: 크레인(타이어) 10톤 HR 공통 8-3,4(2104) ( 호표 6 ) | N39: 5F0DE4D3491352CEF63CD4FD15B662FFEEC1AD5B
A40: 크레인(타이어) | B40: 10톤 | C40: 대 | D40: 0.2298 | E40: =단가대비표!O15 -> 0 | F40: =TRUNC(E40*D40,1) -> 0 | G40: =단가대비표!P15 -> 0 | H40: =TRUNC(G40*D40,1) -> 0 | I40: =단가대비표!V15 -> 134000 | J40: =TRUNC(I40*D40,1) -> 30793.2 | K40: =TRUNC(E40+G40+I40,1) -> 134000 | L40: =TRUNC(F40+H40+J40,1) -> 30793.2 | M40: 천원 | N40: 5F0DE4D3491352CEF63CD4FD15B662FFEEC1AD5B | O40: 5F2894FA39C79A2D963FF476656146E7E28E8E | P40: F | Q40: F | R40: T | AW40: 5F0DE4D3491352CEF63CD4FD15B662FFEEC1AD5B5F2894FA39C79A2D963FF476656146E7E28E8E
A41: 경유 | B41: 저유황 | C41: L | D41: 3.8 | E41: =단가대비표!O13 -> 1391 | F41: =TRUNC(E41*D41,1) -> 5285.8 | G41: =단가대비표!P13 -> 0 | H41: =TRUNC(G41*D41,1) -> 0 | I41: =단가대비표!V13 -> 0 | J41: =TRUNC(I41*D41,1) -> 0 | K41: =TRUNC(E41+G41+I41,1) -> 1391 | L41: =TRUNC(F41+H41+J41,1) -> 5285.8 | N41: 5F0DE4D3491352CEF63CD4FD15B662FFEEC1AD5B | O41: 5F1E04427980CC3C2E3CE483657E72D54ABA49 | P41: F | Q41: F | R41: T | V41: 1 | AW41: 5F0DE4D3491352CEF63CD4FD15B662FFEEC1AD5B5F1E04427980CC3C2E3CE483657E72D54ABA49
A42: 건설기계운전사 | B42: 일반공사직종 | C42: 인 | D42: 1 | E42: =TRUNC(단가대비표!O120*1/8*16/12*25/20, 1) -> 0 | F42: =TRUNC(E42*D42,1) -> 0 | G42: =TRUNC(단가대비표!P120*1/8*16/12*25/20, 1) -> 58296.6 | H42: =TRUNC(G42*D42,1) -> 58296.6 | I42: =TRUNC(단가대비표!V120*1/8*16/12*25/20, 1) -> 0 | J42: =TRUNC(I42*D42,1) -> 0 | K42: =TRUNC(E42+G42+I42,1) -> 58296.6 | L42: =TRUNC(F42+H42+J42,1) -> 58296.6 | N42: 5F0DE4D3491352CEF63CD4FD15B662FFEEC1AD5B | O42: 58CFC4C31996CDE96A31A4F8553087A8AC2A62 | P42: F | Q42: F | R42: T | AW42: 5F0DE4D3491352CEF63CD4FD15B662FFEEC1AD5B58CFC4C31996CDE96A31A4F8553087A8AC2A62 | AX42: T
A43: 잡재료 | B43: 주연료비의 39% | C43: 식 | D43: 1 | E43: =TRUNC(SUMIF(V40:V43, RIGHTB(O43, 1), F40:F43)*U43, 2) -> 2061.46 | F43: =TRUNC(E43*D43,1) -> 2061.4 | G43: 0 | H43: =TRUNC(G43*D43,1) -> 0 | I43: 0 | J43: =TRUNC(I43*D43,1) -> 0 | K43: =TRUNC(E43+G43+I43,1) -> 2061.4 | L43: =TRUNC(F43+H43+J43,1) -> 2061.4 | N43: 5F0DE4D3491352CEF63CD4FD15B662FFEEC1AD5B | O43: 5903743FA914797AD03514258567001 | P43: F | Q43: F | R43: F | S43: 0 | T43: 0 | U43: 0.39 | AW43: 5F0DE4D3491352CEF63CD4FD15B662FFEEC1AD5B5903743FA914797AD03514258567001
A44: [ 합 계 ] | F44: =TRUNC(SUMIF(N40:N43, N39, F40:F43),0) -> 7347 | H44: =TRUNC(SUMIF(N40:N43, N39, H40:H43),0) -> 58296 | J44: =TRUNC(SUMIF(N40:N43, N39, J40:J43),0) -> 30793 | L44: =F44+H44+J44 -> 96436 | N44: TOTAL | O44: TOTAL
A46: 외등기초(4M이하) 400*600*600 개소 전기 5-27-1 ( 호표 7 ) | N46: 5F546497C900DCEBAE3B548495A4A1
...

Sheet 예비품
A1: [ 확장양수장 신설사업 전기공사 ]
A2: 품 명 | B2: 규 격 | C2: 단위 | D2: 수량 | E2: 재 료 비 | G2: 노 무 비 | I2: 경 비 | K2: 합 계 | M2: 비 고 | N2: 품목코드 | O2: 변수 | P2: 설정 | Q2: 공종코드 | R2: 일위 | S2: 단산 | T2: 자재 | U2: 손료적용 | V2: 손료저장 | W2: 적용율 | X2: JUK1 | Y2: JUK2 | Z2: JUK3 | AA2: JUK4 | AB2: JUK5 | AC2: JUK6 | AD2: JUK7 | AE2: JUK8 | AF2: JUK9 | AG2: JUK10 | AH2: JUK11 | AI2: JUK12 | AJ2: JUK13 | AK2: JUK14 | AL2: JUK15 | AM2: JUK16 | AN2: JUK17 | AO2: JUK18 | AP2: JUK19 | AQ2: JUK20 | AR2: 자재구분 | AS2: 공종구분 | AT2: 공종레벨 | AU2: 공종+자재 | AV2: 고유번호
E3: 단 가 | F3: 금 액 | G3: 단 가 | H3: 금 액 | I3: 단 가 | J3: 금 액 | K3: 단 가 | L3: 금 액
A4: 010101 옥외전기설비공사 | B4: 전기공사 | Q4: 010101
A5: 1종금속제가요전선관 | B5: 비닐피복, 28 mm 방수 | C5: M | D5: 6 | E5: =TRUNC(일위대가목록!E41,0) -> 2656 | F5: =TRUNC(E5*D5, 0) -> 15936 | G5: =TRUNC(일위대가목록!F41,0) -> 23633 | H5: =TRUNC(G5*D5, 0) -> 141798 | I5: =TRUNC(일위대가목록!G41,0) -> 0 | J5: =TRUNC(I5*D5, 0) -> 0 | K5: =TRUNC(E5+G5+I5, 0) -> 26289 | L5: =TRUNC(F5+H5+J5, 0) -> 157734 | M5: 호표 38 | N5: 5853949F59EA5DD658398434652D23 | Q5: 010101 | R5: T | S5: F | T5: F | AU5: 0101015853949F59EA5DD658398434652D23 | AV5: 4
A6: 1종금속제가요전선관 | B6: 비닐피복, 54 mm 방수 | C6: M | D6: 6 | E6: =TRUNC(일위대가목록!E42,0) -> 6302 | F6: =TRUNC(E6*D6, 0) -> 37812 | G6: =TRUNC(일위대가목록!F42,0) -> 44641 | H6: =TRUNC(G6*D6, 0) -> 267846 | I6: =TRUNC(일위대가목록!G42,0) -> 0 | J6: =TRUNC(I6*D6, 0) -> 0 | K6: =TRUNC(E6+G6+I6, 0) -> 50943 | L6: =TRUNC(F6+H6+J6, 0) -> 305658 | M6: 호표 39 | N6: 5853949F59EA5DD6583984346528A1 | Q6: 010101 | R6: T | S6: F | T6: F | AU6: 0101015853949F59EA5DD6583984346528A1 | AV6: 5
A7: 파상형 경질폴리에틸렌 전선관 | B7: 30㎜ | C7: M | D7: 16 | E7: =TRUNC(일위대가목록!E43,0) -> 454 | F7: =TRUNC(E7*D7, 0) -> 7264 | G7: =TRUNC(일위대가목록!F43,0) -> 3819 | H7: =TRUNC(G7*D7, 0) -> 61104 | I7: =TRUNC(일위대가목록!G43,0) -> 0 | J7: =TRUNC(I7*D7, 0) -> 0 | K7: =TRUNC(E7+G7+I7, 0) -> 4273 | L7: =TRUNC(F7+H7+J7, 0) -> 68368 | M7: 호표 40 | N7: 5853949F59EA5DF13638840EE550A2 | Q7: 010101 | R7: T | S7: F | T7: F | AU7: 0101015853949F59EA5DF13638840EE550A2 | AV7: 6
A8: 파상형 경질폴리에틸렌 전선관 | B8: 40㎜ | C8: M | D8: 87 | E8: =TRUNC(일위대가목록!E44,0) -> 669 | F8: =TRUNC(E8*D8, 0) -> 58203 | G8: =TRUNC(일위대가목록!F44,0) -> 4616 | H8: =TRUNC(G8*D8, 0) -> 401592 | I8: =TRUNC(일위대가목록!G44,0) -> 0 | J8: =TRUNC(I8*D8, 0) -> 0 | K8: =TRUNC(E8+G8+I8, 0) -> 5285 | L8: =TRUNC(F8+H8+J8, 0) -> 459795 | M8: 호표 41 | N8: 5853949F59EA5DF13638840EE55376 | Q8: 010101 | R8: T | S8: F | T8: F | AU8: 0101015853949F59EA5DF13638840EE55376 | AV8: 7
A9: 파상형 경질폴리에틸렌 전선관 | B9: 50㎜ | C9: M | D9: 49 | E9: =TRUNC(일위대가목록!E45,0) -> 858 | F9: =TRUNC(E9*D9, 0) -> 42042 | G9: =TRUNC(일위대가목록!F45,0) -> 4616 | H9: =TRUNC(G9*D9, 0) -> 226184 | I9: =TRUNC(일위대가목록!G45,0) -> 0 | J9: =TRUNC(I9*D9, 0) -> 0 | K9: =TRUNC(E9+G9+I9, 0) -> 5474 | L9: =TRUNC(F9+H9+J9, 0) -> 268226 | M9: 호표 42 | N9: 5853949F59EA5DF13638840EE5526F | Q9: 010101 | R9: T | S9: F | T9: F | AU9: 0101015853949F59EA5DF13638840EE5526F | AV9: 8
A10: 파상형 경질폴리에틸렌 전선관 | B10: 65㎜ | C10: M | D10: 107 | E10: =TRUNC(일위대가목록!E46,0) -> 1261 | F10: =TRUNC(E10*D10, 0) -> 134927 | G10: =TRUNC(일위대가목록!F46,0) -> 5825 | H10: =TRUNC(G10*D10, 0) -> 623275 | I10: =TRUNC(일위대가목록!G46,0) -> 0 | J10: =TRUNC(I10*D10, 0) -> 0 | K10: =TRUNC(E10+G10+I10, 0) -> 7086 | L10: =TRUNC(F10+H10+J10, 0) -> 758202 | M10: 호표 43 | N10: 5853949F59EA5DF13638840EE55524 | Q10: 010101 | R10: T | S10: F | T10: F | AU10: 0101015853949F59EA5DF13638840EE55524 | AV10: 9
A11: 파상형 경질폴리에틸렌 전선관 | B11: 80㎜ | C11: M | D11: 67 | E11: =TRUNC(일위대가목록!E47,0) -> 1639 | F11: =TRUNC(E11*D11, 0) -> 109813 | G11: =TRUNC(일위대가목록!F47,0) -> 5825 | H11: =TRUNC(G11*D11, 0) -> 390275 | I11: =TRUNC(일위대가목록!G47,0) -> 0 | J11: =TRUNC(I11*D11, 0) -> 0 | K11: =TRUNC(E11+G11+I11, 0) -> 7464 | L11: =TRUNC(F11+H11+J11, 0) -> 500088 | M11: 호표 44 | N11: 5853949F59EA5DF13638840EE5541D | Q11: 010101 | R11: T | S11: F | T11: F | AU11: 0101015853949F59EA5DF13638840EE5541D | AV11: 10
A12: 난연성 비닐절연 접지용전선 | B12: 0.6/1kV F-GV 4㎟ | C12: M | D12: 60 | E12: =TRUNC(일위대가목록!E50,0) -> 1293 | F12: =TRUNC(E12*D12, 0) -> 77580 | G12: =TRUNC(일위대가목록!F50,0) -> 2461 | H12: =TRUNC(G12*D12, 0) -> 147660 | I12: =TRUNC(일위대가목록!G50,0) -> 0 | J12: =TRUNC(I12*D12, 0) -> 0 | K12: =TRUNC(E12+G12+I12, 0) -> 3754 | L12: =TRUNC(F12+H12+J12, 0) -> 225240 | M12: 호표 47 | N12: 5853949F59D9EE50673F64F0852C4C | Q12: 010101 | R12: T | S12: F | T12: F | AU12: 0101015853949F59D9EE50673F64F0852C4C | AV12: 11
A13: 난연성 비닐절연 접지용전선 | B13: 0.6/1kV F-GV 6㎟ | C13: M | D13: 34 | E13: =TRUNC(일위대가목록!E51,0) -> 1464 | F13: =TRUNC(E13*D13, 0) -> 49776 | G13: =TRUNC(일위대가목록!F51,0) -> 2461 | H13: =TRUNC(G13*D13, 0) -> 83674 | I13: =TRUNC(일위대가목록!G51,0) -> 0 | J13: =TRUNC(I13*D13, 0) -> 0 | K13: =TRUNC(E13+G13+I13, 0) -> 3925 | L13: =TRUNC(F13+H13+J13, 0) -> 133450 | M13: 호표 48 | N13: 5853949F59D9EE50673F64F0852D52 | Q13: 010101 | R13: T | S13: F | T13: F | AU13: 0101015853949F59D9EE50673F64F0852D52 | AV13: 12
A14: 난연성 비닐절연 접지용전선 | B14: 0.6/1kV F-GV 16㎟ | C14: M | D14: 55 | E14: =TRUNC(일위대가목록!E52,0) -> 3315 | F14: =TRUNC(E14*D14, 0) -> 182325 | G14: =TRUNC(일위대가목록!F52,0) -> 2872 | H14: =TRUNC(G14*D14, 0) -> 157960 | I14: =TRUNC(일위대가목록!G52,0) -> 0 | J14: =TRUNC(I14*D14, 0) -> 0 | K14: =TRUNC(E14+G14+I14, 0) -> 6187 | L14: =TRUNC(F14+H14+J14, 0) -> 340285 | M14: 호표 49 | N14: 5853949F59D9EE50673F64F0852BA5 | Q14: 010101 | R14: T | S14: F | T14: F | AU14: 0101015853949F59D9EE50673F64F0852BA5 | AV14: 13
A15: 6/10kV고압가교폴리에틸렌(F-CV) | B15: 1C 50㎟(3열) | C15: M | D15: 99 | E15: =TRUNC(일위대가목록!E13,0) -> 12835 | F15: =TRUNC(E15*D15, 0) -> 1270665 | G15: =TRUNC(일위대가목록!F13,0) -> 3421 | H15: =TRUNC(G15*D15, 0) -> 338679 | I15: =TRUNC(일위대가목록!G13,0) -> 0 | J15: =TRUNC(I15*D15, 0) -> 0 | K15: =TRUNC(E15+G15+I15, 0) -> 16256 | L15: =TRUNC(F15+H15+J15, 0) -> 1609344 | M15: 호표 10 | N15: 5F546497C900DCEBF63AC47A857676 | Q15: 010101 | R15: T | S15: F | T15: F | AU15: 0101015F546497C900DCEBF63AC47A857676 | AV15: 14
A16: 6/10kV고압가교폴리에틸렌(F-CV) | B16: 3C 25㎟ | C16: M | D16: 55 | E16: =TRUNC(일위대가목록!E14,0) -> 25899 | F16: =TRUNC(E16*D16, 0) -> 1424445 | G16: =TRUNC(일위대가목록!F14,0) -> 6562 | H16: =TRUNC(G16*D16, 0) -> 360910 | I16: =TRUNC(일위대가목록!G14,0) -> 0 | J16: =TRUNC(I16*D16, 0) -> 0 | K16: =TRUNC(E16+G16+I16, 0) -> 32461 | L16: =TRUNC(F16+H16+J16, 0) -> 1785355 | M16: 호표 11 | N16: 5F546497C900DCEBF63AC468250D8F | Q16: 010101 | R16: T | S16: F | T16: F | AU16: 0101015F546497C900DCEBF63AC468250D8F | AV16: 15
A17: 0.6/1kV가교폴리에틸렌(F-CV) 옥외 | B17: 3C 4㎟ | C17: M | D17: 60 | E17: =TRUNC(일위대가목록!E55,0) -> 3045 | F17: =TRUNC(E17*D17, 0) -> 182700 | G17: =TRUNC(일위대가목록!F55,0) -> 3674 | H17: =TRUNC(G17*D17, 0) -> 220440 | I17: =TRUNC(일위대가목록!G55,0) -> 0 | J17: =TRUNC(I17*D17, 0) -> 0 | K17: =TRUNC(E17+G17+I17, 0) -> 6719 | L17: =TRUNC(F17+H17+J17, 0) -> 403140 | M17: 호표 52 | N17: 5853949F59CF77FD0A36D4AAE57E14 | Q17: 010101 | R17: T | S17: F | T17: F | AU17: 0101015853949F59CF77FD0A36D4AAE57E14 | AV17: 16
A18: 0.6/1kV가교폴리에틸렌(F-CV) 옥외 | B18: 4C 6㎟ | C18: M | D18: 34 | E18: =TRUNC(일위대가목록!E56,0) -> 5378 | F18: =TRUNC(E18*D18, 0) -> 182852 | G18: =TRUNC(일위대가목록!F56,0) -> 4792 | H18: =TRUNC(G18*D18, 0) -> 162928 | I18: =TRUNC(일위대가목록!G56,0) -> 0 | J18: =TRUNC(I18*D18, 0) -> 0 | K18: =TRUNC(E18+G18+I18, 0) -> 10170 | L18: =TRUNC(F18+H18+J18, 0) -> 345780 | M18: 호표 53 | N18: 5853949F59CF77FD0A36D4AAC54B97 | Q18: 010101 | R18: T | S18: F | T18: F | AU18: 0101015853949F59CF77FD0A36D4AAC54B97 | AV18: 17
A19: 0.6/1kV가교폴리에틸렌(F-CV) 옥외 | B19: 4C 35㎟ | C19: M | D19: 33 | E19: =TRUNC(일위대가목록!E57,0) -> 27936 | F19: =TRUNC(E19*D19, 0) -> 921888 | G19: =TRUNC(일위대가목록!F57,0) -> 6829 | H19: =TRUNC(G19*D19, 0) -> 225357 | I19: =TRUNC(일위대가목록!G57,0) -> 0 | J19: =TRUNC(I19*D19, 0) -> 0 | K19: =TRUNC(E19+G19+I19, 0) -> 34765 | L19: =TRUNC(F19+H19+J19, 0) -> 1147245 | M19: 호표 54 | N19: 5853949F59CF77FD0A36D4AAC5473C | Q19: 010101 | R19: T | S19: F | T19: F | AU19: 0101015853949F59CF77FD0A36D4AAC5473C | AV19: 18
A20: 0.6/1kV제어용난연(F-CVV-SB) | B20: 2C 1.5㎟ | C20: M | D20: 60 | E20: =TRUNC(일위대가목록!E15,0) -> 2233 | F20: =TRUNC(E20*D20, 0) -> 133980 | G20: =TRUNC(일위대가목록!F15,0) -> 5101 | H20: =TRUNC(G20*D20, 0) -> 306060 | I20: =TRUNC(일위대가목록!G15,0) -> 0 | J20: =TRUNC(I20*D20, 0) -> 0 | K20: =TRUNC(E20+G20+I20, 0) -> 7334 | L20: =TRUNC(F20+H20+J20, 0) -> 440040 | M20: 호표 12 | N20: 5F546497C900DCEBDB3D0496E547FD | Q20: 010101 | R20: T | S20: F | T20: F | AU20: 0101015F546497C900DCEBDB3D0496E547FD | AV20: 19
A21: 0.6/1kV제어용난연(F-CVV-SB) | B21: 20C 1.5㎟ | C21: M | D21: 240 | E21: =TRUNC(일위대가목록!E16,0) -> 9770 | F21: =TRUNC(E21*D21, 0) -> 2344800 | G21: =TRUNC(일위대가목록!F16,0) -> 26962 | H21: =TRUNC(G21*D21, 0) -> 6470880 | I21: =TRUNC(일위대가목록!G16,0) -> 0 | J21: =TRUNC(I21*D21, 0) -> 0 | K21: =TRUNC(E21+G21+I21, 0) -> 36732 | L21: =TRUNC(F21+H21+J21, 0) -> 8815680 | M21: 호표 13 | N21: 5F546497C900DCEBDB3D0496650F0F | Q21: 010101 | R21: T | S21: F | T21: F | AU21: 0101015F546497C900DCEBDB3D0496650F0F | AV21: 20
A22: 풀박스 | B22: 200x200x200 | C22: 개 | D22: 8 | E22: =TRUNC(일위대가목록!E81,0) -> 8303 | F22: =TRUNC(E22*D22, 0) -> 66424 | G22: =TRUNC(일위대가목록!F81,0) -> 60178 | H22: =TRUNC(G22*D22, 0) -> 481424 | I22: =TRUNC(일위대가목록!G81,0) -> 0 | J22: =TRUNC(I22*D22, 0) -> 0 | K22: =TRUNC(E22+G22+I22, 0) -> 68481 | L22: =TRUNC(F22+H22+J22, 0) -> 547848 | M22: 호표 78 | N22: 5853949F5966F16FE53514AEC5F595 | Q22: 010101 | R22: T | S22: F | T22: F | AU22: 0101015853949F5966F16FE53514AEC5F595 | AV22: 21
A23: 전기맨홀 | B23: 1000x1000x1000 | C23: 개소 | D23: 2 | E23: =TRUNC(일위대가목록!E67,0) -> 629088 | F23: =TRUNC(E23*D23, 0) -> 1258176 | G23: =TRUNC(일위대가목록!F67,0) -> 784111 | H23: =TRUNC(G23*D23, 0) -> 1568222 | I23: =TRUNC(일위대가목록!G67,0) -> 72657 | J23: =TRUNC(I23*D23, 0) -> 145314 | K23: =TRUNC(E23+G23+I23, 0) -> 1485856 | L23: =TRUNC(F23+H23+J23, 0) -> 2971712 | M23: 호표 64 | N23: 5853949F59ACA058043E546E051B5B | Q23: 010101 | R23: T | S23: F | T23: F | AU23: 0101015853949F59ACA058043E546E051B5B | AV23: 22
A24: 관로구방수 | B24: D 50 | C24: 개소 | D24: 24 | E24: =TRUNC(일위대가목록!E69,0) -> 40411 | F24: =TRUNC(E24*D24, 0) -> 969864 | G24: =TRUNC(일위대가목록!F69,0) -> 52720 | H24: =TRUNC(G24*D24, 0) -> 1265280 | I24: =TRUNC(일위대가목록!G69,0) -> 0 | J24: =TRUNC(I24*D24, 0) -> 0 | K24: =TRUNC(E24+G24+I24, 0) -> 93131 | L24: =TRUNC(F24+H24+J24, 0) -> 2235144 | M24: 호표 66 | N24: 5853949F59ACA02CC83B2431455110 | Q24: 010101 | R24: T | S24: F | T24: F | AU24: 0101015853949F59ACA02CC83B2431455110 | AV24: 23
A25: 관로구방수 | B25: D 65 | C25: 개소 | D25: 18 | E25: =TRUNC(일위대가목록!E70,0) -> 44041 | F25: =TRUNC(E25*D25, 0) -> 792738 | G25: =TRUNC(일위대가목록!F70,0) -> 52720 | H25: =TRUNC(G25*D25, 0) -> 948960 | I25: =TRUNC(일위대가목록!G70,0) -> 0 | J25: =TRUNC(I25*D25, 0) -> 0 | K25: =TRUNC(E25+G25+I25, 0) -> 96761 | L25: =TRUNC(F25+H25+J25, 0) -> 1741698 | M25: 호표 67 | N25: 5853949F59ACA02CC83B2431455009 | Q25: 010101 | R25: T | S25: F | T25: F | AU25: 0101015853949F59ACA02CC83B2431455009 | AV25: 24
A26: 관로구방수 | B26: D 80 | C26: 개소 | D26: 9 | E26: =TRUNC(일위대가목록!E71,0) -> 45961 | F26: =TRUNC(E26*D26, 0) -> 413649 | G26: =TRUNC(일위대가목록!F71,0) -> 52720 | H26: =TRUNC(G26*D26, 0) -> 474480 | I26: =TRUNC(일위대가목록!G71,0) -> 0 | J26: =TRUNC(I26*D26, 0) -> 0 | K26: =TRUNC(E26+G26+I26, 0) -> 98681 | L26: =TRUNC(F26+H26+J26, 0) -> 888129 | M26: 호표 68 | N26: 5853949F59ACA02CC83B24314557B8 | Q26: 010101 | R26: T | S26: F | T26: F | AU26: 0101015853949F59ACA02CC83B24314557B8 | AV26: 25
A27: 경고 테이프(저압용) | B27: 200*250 | C27: M | D27: 112 | E27: =TRUNC(일위대가목록!E72,0) -> 206 | F27: =TRUNC(E27*D27, 0) -> 23072 | G27: =TRUNC(일위대가목록!F72,0) -> 247 | H27: =TRUNC(G27*D27, 0) -> 27664 | I27: =TRUNC(일위대가목록!G72,0) -> 0 | J27: =TRUNC(I27*D27, 0) -> 0 | K27: =TRUNC(E27+G27+I27, 0) -> 453 | L27: =TRUNC(F27+H27+J27, 0) -> 50736 | M27: 호표 69 | N27: 5853949F59ACA02CC83A14C235A3BC | Q27: 010101 | R27: T | S27: F | T27: F | AU27: 0101015853949F59ACA02CC83A14C235A3BC | AV27: 26
A28: 경고 테이프(고압용) | B28: 200*250 | C28: M | D28: 33 | E28: =TRUNC(일위대가목록!E73,0) -> 207 | F28: =TRUNC(E28*D28, 0) -> 6831 | G28: =TRUNC(일위대가목록!F73,0) -> 282 | H28: =TRUNC(G28*D28, 0) -> 9306 | I28: =TRUNC(일위대가목록!G73,0) -> 0 | J28: =TRUNC(I28*D28, 0) -> 0 | K28: =TRUNC(E28+G28+I28, 0) -> 489 | L28: =TRUNC(F28+H28+J28, 0) -> 16137 | M28: 호표 70 | N28: 5853949F59ACA02CC83A14C235A0E8 | Q28: 010101 | R28: T | S28: F | T28: F | AU28: 0101015853949F59ACA02CC83A14C235A0E8 | AV28: 27
A29: 지중선용 가선철물 | B29: 지중선로표시기, 전규격 | C29: EA | D29: 3 | E29: =TRUNC(일위대가목록!E74,0) -> 5943 | F29: =TRUNC(E29*D29, 0) -> 17829 | G29: =TRUNC(일위대가목록!F74,0) -> 27194 | H29: =TRUNC(G29*D29, 0) -> 81582 | I29: =TRUNC(일위대가목록!G74,0) -> 0 | J29: =TRUNC(I29*D29, 0) -> 0 | K29: =TRUNC(E29+G29+I29, 0) -> 33137 | L29: =TRUNC(F29+H29+J29, 0) -> 99411 | M29: 호표 71 | N29: 5853949F59ACA02CC83A14C205EFF5 | Q29: 010101 | R29: T | S29: F | T29: F | AU29: 0101015853949F59ACA02CC83A14C205EFF5 | AV29: 28
A30: 분전반 PAD | B30: 1000x400x300 | C30: 개소 | D30: 3 | E30: =TRUNC(일위대가목록!E12,0) -> 32097 | F30: =TRUNC(E30*D30, 0) -> 96291 | G30: =TRUNC(일위대가목록!F12,0) -> 85567 | H30: =TRUNC(G30*D30, 0) -> 256701 | I30: =TRUNC(일위대가목록!G12,0) -> 587 | J30: =TRUNC(I30*D30, 0) -> 1761 | K30: =TRUNC(E30+G30+I30, 0) -> 118251 | L30: =TRUNC(F30+H30+J30, 0) -> 354753 | M30: 호표 9 | N30: 5F546497C900DCEBAE3B5484859831 | Q30: 010101 | R30: T | S30: F | T30: F | AU30: 0101015F546497C900DCEBAE3B5484859831 | AV30: 30
A31: 분전반 | B31: 양수장현장조작반 제작 | C31: 면 | D31: 1 | E31: =TRUNC(일위대가목록!E107,0) -> 4796479 | F31: =TRUNC(E31*D31, 0) -> 4796479 | G31: =TRUNC(일위대가목록!F107,0) -> 0 | H31: =TRUNC(G31*D31, 0) -> 0 | I31: =TRUNC(일위대가목록!G107,0) -> 0 | J31: =TRUNC(I31*D31, 0) -> 0 | K31: =TRUNC(E31+G31+I31, 0) -> 4796479 | L31: =TRUNC(F31+H31+J31, 0) -> 4796479 | M31: 관급자재 | N31: 594334EB990E66AB71315404058B98 | R31: T | S31: F | T31: F | AR31: 관급자재 | AU31: 010101594334EB990E66AB71315404058B98 | AV31: 31
A32: 분전반 | B32: 유입수문현장조작반 제작 (수문#1,2) | C32: 면 | D32: 2 | E32: =TRUNC(일위대가목록!E109,0) -> 5848217 | F32: =TRUNC(E32*D32, 0) -> 11696434 | G32: =TRUNC(일위대가목록!F109,0) -> 0 | H32: =TRUNC(G32*D32, 0) -> 0 | I32: =TRUNC(일위대가목록!G109,0) -> 0 | J32: =TRUNC(I32*D32, 0) -> 0 | K32: =TRUNC(E32+G32+I32, 0) -> 5848217 | L32: =TRUNC(F32+H32+J32, 0) -> 11696434 | M32: 관급자재 | N32: 594334EB990E66AB71315404058AF1 | R32: T | S32: F | T32: F | AR32: 관급자재 | AU32: 010101594334EB990E66AB71315404058AF1 | AV32: 32
