Workbook

Sheet 원가
B1: 시트명 | M1: 공종별집계표
B2: 행 | M2: 6
B4: =공종별집계표!A2 -> [ 확장양수장 신설사업 전기공사 ] | R4: 금액: | T4: =NUMBERSTRING(AG4,1) -> 이억일천구백칠십육만구천 | AC4: 원 정 | AE4: ( | AF4: W | AG4: =M40 -> 219769000 | AL4: )
A5: 열 | B5: 비목 | D5: 구분 | M5: 금액 | N5: 구성비 | X5: 비고
A6: F | B6: 순공사비원가 | D6: 재료비 | F6: 직접재료비 | M6: =공종별내역서!F206+공종별내역서!F207 -> 316686 | AN6: 순공사비 | AO6: =M9+M10+M13 -> 16151325
F7: 간접재료비 | AN7: 관급총액 | AO7: =M38+M39 -> 196819000
F8: 작업부산물 | AN8: 한전비 | AO8: =M37 -> 0
F9: 소계 | M9: =SUM(M6:M8) -> 316686
A10: H | D10: 노무비 | F10: 직접노무비(가) | M10: =공종별내역서!H206+공종별내역서!H207 -> 15834639
F11: 간접노무비(나) | M11: =INT(M10*R11) -> 3024416 | N11: 직접노무비의 | R11: 0.191
F12: 소계 | M12: =SUM(M10:M11) -> 18859055
A13: J | D13: 경비 | F13: 기계경비 | M13: =INDIRECT(M$1&"!"&$A13&M$2) -> 0 | AN13: 퇴직공제비 | AO13: =IF(M35+M39>=100000000, "☜ 적용(2.3%)","☜ 삭제") -> ☜ 삭제
F14: 고용보험료 | M14: =INT(M12*Q14) -> 190476 | N14: 노무비의 | Q14: 0.0101
F15: 산재보험료 | M15: =INT(M12*Q15) -> 671382 | N15: 노무비의 | Q15: 0.0356 | AN15: 안전관리비 | AO15: =IF(M35+M39-M16<20000000,"☜ 삭제",IF(M9+M10+M39<=499999999,"☜ 적용(3.11%)",IF(M9+M10+M39<=4999999999,"☜ 교체(2.28%+4,325천원)",IF(M9+M10+M39>=5000000000,"☜ 교체(2.37%)")))) -> ☜ 적용(3.11%)
F16: 산업안전보건관리비 | M16: =(M9+M10)*0.0207*0.7*1.2 -> 280839.24 | N16: (재표비+직노)*2.07%*70%*1.2 | AO16: 5억미만 | AP16: 5억이상 50억미만
F17: 임금채권부담금 | M17: =M12*Q17 -> 16973.149 | N17: 노무비의 | Q17: 0.0009
F18: 석면피해구제분담금 | M18: =M12*Q18 -> 1131.5433 | N18: 노무비의 | Q18: 6e-05
F19: 건강보험료 | M19: =INT(M10*R19) -> 0 | AN19: a. | AO19: =INT((($M$9+$M$10)+($M$39/1.1))*3.11%) -> 502306 | AP19: =INT((($M$9+$M$10)+($M$39/1.1))*2.28%)+4325000 -> 4693250
F20: 연금보험료 | M20: =INT(M10*R20) -> 0 | AN20: b. | AO20: =INT((($M$9+$M$10)*3.11%)*1.2) -> 602767 | AP20: =INT((($M$9+$M$10)*2.28%)+4325000)*1.2 -> 5631900
F21: 노인장기요양보험료 | M21: =INT(M19*R21) -> 0 | AO21: (재+직노+도급자관급)의3.11% | AP21: (재+직노+도급자관급)의2.28%+4,325천원
F22: 기타경비 | M22: =INT((M9+M12)*Q22) -> 0 | AO22: (재+직노)의 3.11% *1.2 | AP22: ((재+직노)의 2.28%+4,325천원)*1.2
F23: 퇴직공제부금비 | N23: =IF(M35+M39>=100000000, "직접노무비의 2.3%","")
F24: 공사이행보증수수료
F25: 환경보전비
F26: 지급수수료
F27: 소계 | M27: =SUM(M13:M26) -> 1160801.9
D28: 계 | M28: =M9+M12+M27 -> 20336543
B29: 일반관리비 | X29: 5억미만 8% / 5~30억미만 6.5% / 30~100억미만 5% (공급가액 기준)
B30: 이윤 | X30: 50억미만 15% / 50~300억미만 12% (공급가액 기준)
B31: 사급자재비
B32: 손해배상공제료 | M32: =(M28+M38/1.1)*0.0026477 -> 527588.4 | N32: (공급가액+관급자재비/1.1)*0.26477%
B33: 공급가액 | M33: =SUM(M28:M32) -> 20864131
B34: 부가가치세 | M34: =INT(M33*R34) -> 2086413 | N34: 공급가액의 | R34: 0.1
B35: 도급액 | M35: =ROUNDDOWN(M33+M34,-3) -> 22950000 | X35: 천단위절사
B36: 재해예방기술지도비 | X36: 천단위절상 | AN36: 5808000 | AO36: ☜ 한전비 입력
B37: 한전인입비/사용전검사비 | X37: 천단위절상 | AN37: =공종별집계표!L12 -> 0 | AO37: ☜ 한전비 입력
B38: 관급자설치 관급자재 | M38: =ROUNDUP(AN38,-3) -> 196819000 | X38: 천단위절상 | AN38: =공종별집계표!L14 -> 196818552 | AO38: ☜ 관급자관급 입력
B39: 도급자설치 관급자재 | X39: 천단위절상 | AO39: ☜ 도급자관급 입력
B40: 총공사비 | M40: =SUM(M35:M39) -> 219769000

Sheet 공종별집계표
A1: 공 종 별 집 계 표
A2: [ 확장양수장 신설사업 전기공사 ]
A3: 품 명 | B3: 규 격 | C3: 단위 | D3: 수량 | E3: 재 료 비 | G3: 노 무 비 | I3: 경 비 | K3: 합 계 | M3: 비 고 | N3: 공종코드 | O3: 변수 | P3: 상위공종 | Q3: 공종구분 | R3: 공종레벨 | S3: 공종소계 | T3: 원가계산서 연결금액
E4: 단 가 | F4: 금 액 | G4: 단 가 | H4: 금 액 | I4: 단 가 | J4: 금 액 | K4: 단 가 | L4: 금 액
A5: 01 확장양수장 신설사업 전기공사 | D5: 1 | E5: =F6 -> 0 | F5: =E5*D5 -> 0 | G5: =H6 -> 0 | H5: =G5*D5 -> 0 | I5: =J6 -> 0 | J5: =I5*D5 -> 0 | K5: =E5+G5+I5 -> 0 | L5: =F5+H5+J5 -> 0 | N5: 01 | R5: 1
A6: 0101 전기공사 | D6: 1 | N6: 0101 | P6: 01 | R6: 2
A7: 010101 옥외전기설비공사 | D7: 1 | N7: 010101 | P7: 0101 | R7: 3
A8: 010102 옥외보안등설비공사 | D8: 1 | N8: 010102 | P8: 0101 | R8: 3
A9: 010103 수변전설비공사 | D9: 1 | N9: 010103 | P9: 0101 | R9: 3
A10: 010104 전열설비공사 | D10: 1 | N10: 010104 | P10: 0101 | R10: 3
A11: 010105 전등설비공사 | D11: 1 | N11: 010105 | P11: 0101 | R11: 3
A12: 0102 안전공사비 | D12: 1 | N12: 0102 | Q12: 6 | R12: 2 | T12: =L12*1 -> 0
A13: 0103 자재구매비 | D13: 1 | N13: 0103 | Q13: 3 | R13: 2 | T13: =L13*1 -> 0
A14: 010301 관급자설치 관급자재 | D14: 1 | E14: =F15 -> 196818552 | F14: =E14*D14 -> 196818552 | G14: =H15 -> 0 | H14: =G14*D14 -> 0 | I14: =J15 -> 0 | J14: =I14*D14 -> 0 | K14: =E14+G14+I14 -> 196818552 | L14: =F14+H14+J14 -> 196818552 | N14: 010301 | P14: 0103 | R14: 3
A15: 01030101 수배전반 | D15: 1 | E15: =공종별내역서!F216 -> 196818552 | F15: =E15*D15 -> 196818552 | G15: =공종별내역서!H216 -> 0 | H15: =G15*D15 -> 0 | I15: =공종별내역서!J216 -> 0 | J15: =I15*D15 -> 0 | K15: =E15+G15+I15 -> 196818552 | L15: =F15+H15+J15 -> 196818552 | N15: 01030101 | P15: 010301 | R15: 4
A16: 01030102 수배전반 설치비 | D16: 1 | E16: =공종별내역서!F206+공종별내역서!F207 -> 316686 | F16: =E16*D16 -> 316686 | G16: =공종별내역서!H206+공종별내역서!H207 -> 15834639 | H16: =D16*G16 -> 15834639 | K16: =E16+G16+I16 -> 16151325 | L16: =F16+H16+J16 -> 16151325
A27: [ 합 계 ] | F27: =F5 -> 0 | H27: =H5 -> 0 | J27: =J5 -> 0 | L27: =L5 -> 0

Sheet 공종별내역서
A1: [ 확장양수장 신설사업 전기공사 ]
A2: 품 명 | B2: 규 격 | C2: 단위 | D2: 수량 | E2: 재 료 비 | G2: 노 무 비 | I2: 경 비 | K2: 합 계 | M2: 비 고 | N2: 품목코드 | O2: 변수 | P2: 설정 | Q2: 공종코드 | R2: 일위 | S2: 단산 | T2: 자재 | U2: 손료적용 | V2: 손료저장 | W2: 적용율 | X2: JUK1 | Y2: JUK2 | Z2: JUK3 | AA2: JUK4 | AB2: JUK5 | AC2: JUK6 | AD2: JUK7 | AE2: JUK8 | AF2: JUK9 | AG2: JUK10 | AH2: JUK11 | AI2: JUK12 | AJ2: JUK13 | AK2: JUK14 | AL2: JUK15 | AM2: JUK16 | AN2: JUK17 | AO2: JUK18 | AP2: JUK19 | AQ2: JUK20 | AR2: 자재구분 | AS2: 공종구분 | AT2: 공종레벨 | AU2: 공종+자재 | AV2: 고유번호
E3: 단 가 | F3: 금 액 | G3: 단 가 | H3: 금 액 | I3: 단 가 | J3: 금 액 | K3: 단 가 | L3: 금 액
A4: 010101 옥외전기설비공사 | B4: 전기공사 | Q4: 010101
A5: 1종금속제가요전선관 | B5: 비닐피복, 28 mm 방수 | C5: M | D5: 6 | E5: =TRUNC(일위대가목록!E41,0) -> 2656 | F5: =TRUNC(E5*D5, 0) -> 15936 | G5: =TRUNC(일위대가목록!F41,0) -> 23633 | H5: =TRUNC(G5*D5, 0) -> 141798 | I5: =TRUNC(일위대가목록!G41,0) -> 0 | J5: =TRUNC(I5*D5, 0) -> 0 | K5: =TRUNC(E5+G5+I5, 0) -> 26289 | L5: =TRUNC(F5+H5+J5, 0) -> 157734 | M5: 호표 38 | N5: 5853949F59EA5DD658398434652D23 | Q5: 010101 | R5: T | S5: F | T5: F | AU5: 0101015853949F59EA5DD658398434652D23 | AV5: 4
A6: 1종금속제가요전선관 | B6: 비닐피복, 54 mm 방수 | C6: M | D6: 6 | E6: =TRUNC(일위대가목록!E42,0) -> 6302 | F6: =TRUNC(E6*D6, 0) -> 37812 | G6: =TRUNC(일위대가목록!F42,0) -> 44641 | H6: =TRUNC(G6*D6, 0) -> 267846 | I6: =TRUNC(일위대가목록!G42,0) -> 0 | J6: =TRUNC(I6*D6, 0) -> 0 | K6: =TRUNC(E6+G6+I6, 0) -> 50943 | L6: =TRUNC(F6+H6+J6, 0) -> 305658 | M6: 호표 39 | N6: 5853949F59EA5DD6583984346528A1 | Q6: 010101 | R6: T | S6: F | T6: F | AU6: 0101015853949F59EA5DD6583984346528A1 | AV6: 5
A7: 파상형 경질폴리에틸렌 전선관 | B7: 30㎜ | C7: M | D7: 16 | E7: =TRUNC(일위대가목록!E43,0) -> 454 | F7: =TRUNC(E7*D7, 0) -> 7264 | G7: =TRUNC(일위대가목록!F43,0) -> 3819 | H7: =TRUNC(G7*D7, 0) -> 61104 | I7: =TRUNC(일위대가목록!G43,0) -> 0 | J7: =TRUNC(I7*D7, 0) -> 0 | K7: =TRUNC(E7+G7+I7, 0) -> 4273 | L7: =TRUNC(F7+H7+J7, 0) -> 68368 | M7: 호표 40 | N7: 5853949F59EA5DF13638840EE550A2 | Q7: 010101 | R7: T | S7: F | T7: F | AU7: 0101015853949F59EA5DF13638840EE550A2 | AV7: 6
A8: 파상형 경질폴리에틸렌 전선관 | B8: 40㎜ | C8: M | D8: 87 | E8: =TRUNC(일위대가목록!E44,0) -> 669 | F8: =TRUNC(E8*D8, 0) -> 58203 | G8: =TRUNC(일위대가목록!F44,0) -> 4616 | H8: =TRUNC(G8*D8, 0) -> 401592 | I8: =TRUNC(일위대가목록!G44,0) -> 0 | J8: =TRUNC(I8*D8, 0) -> 0 | K8: =TRUNC(E8+G8+I8, 0) -> 5285 | L8: =TRUNC(F8+H8+J8, 0) -> 459795 | M8: 호표 41 | N8: 5853949F59EA5DF13638840EE55376 | Q8: 010101 | R8: T | S8: F | T8: F | AU8: 0101015853949F59EA5DF13638840EE55376 | AV8: 7
A9: 파상형 경질폴리에틸렌 전선관 | B9: 50㎜ | C9: M | D9: 49 | E9: =TRUNC(일위대가목록!E45,0) -> 858 | F9: =TRUNC(E9*D9, 0) -> 42042 | G9: =TRUNC(일위대가목록!F45,0) -> 4616 | H9: =TRUNC(G9*D9, 0) -> 226184 | I9: =TRUNC(일위대가목록!G45,0) -> 0 | J9: =TRUNC(I9*D9, 0) -> 0 | K9: =TRUNC(E9+G9+I9, 0) -> 5474 | L9: =TRUNC(F9+H9+J9, 0) -> 268226 | M9: 호표 42 | N9: 5853949F59EA5DF13638840EE5526F | Q9: 010101 | R9: T | S9: F | T9: F | AU9: 0101015853949F59EA5DF13638840EE5526F | AV9: 8
A10: 파상형 경질폴리에틸렌 전선관 | B10: 65㎜ | C10: M | D10: 107 | E10: =TRUNC(일위대가목록!E46,0) -> 1261 | F10: =TRUNC(E10*D10, 0) -> 134927 | G10: =TRUNC(일위대가목록!F46,0) -> 5825 | H10: =TRUNC(G10*D10, 0) -> 623275 | I10: =TRUNC(일위대가목록!G46,0) -> 0 | J10: =TRUNC(I10*D10, 0) -> 0 | K10: =TRUNC(E10+G10+I10, 0) -> 7086 | L10: =TRUNC(F10+H10+J10, 0) -> 758202 | M10: 호표 43 | N10: 5853949F59EA5DF13638840EE55524 | Q10: 010101 | R10: T | S10: F | T10: F | AU10: 0101015853949F59EA5DF13638840EE55524 | AV10: 9
A11: 파상형 경질폴리에틸렌 전선관 | B11: 80㎜ | C11: M | D11: 67 | E11: =TRUNC(일위대가목록!E47,0) -> 1639 | F11: =TRUNC(E11*D11, 0) -> 109813 | G11: =TRUNC(일위대가목록!F47,0) -> 5825 | H11: =TRUNC(G11*D11, 0) -> 390275 | I11: =TRUNC(일위대가목록!G47,0) -> 0 | J11: =TRUNC(I11*D11, 0) -> 0 | K11: =TRUNC(E11+G11+I11, 0) -> 7464 | L11: =TRUNC(F11+H11+J11, 0) -> 500088 | M11: 호표 44 | N11: 5853949F59EA5DF13638840EE5541D | Q11: 010101 | R11: T | S11: F | T11: F | AU11: 0101015853949F59EA5DF13638840EE5541D | AV11: 10
A12: 난연성 비닐절연 접지용전선 | B12: 0.6/1kV F-GV 4㎟ | C12: M | D12: 60 | E12: =TRUNC(일위대가목록!E50,0) -> 1293 | F12: =TRUNC(E12*D12, 0) -> 77580 | G12: =TRUNC(일위대가목록!F50,0) -> 2461 | H12: =TRUNC(G12*D12, 0) -> 147660 | I12: =TRUNC(일위대가목록!G50,0) -> 0 | J12: =TRUNC(I12*D12, 0) -> 0 | K12: =TRUNC(E12+G12+I12, 0) -> 3754 | L12: =TRUNC(F12+H12+J12, 0) -> 225240 | M12: 호표 47 | N12: 5853949F59D9EE50673F64F0852C4C | Q12: 010101 | R12: T | S12: F | T12: F | AU12: 0101015853949F59D9EE50673F64F0852C4C | AV12: 11
A13: 난연성 비닐절연 접지용전선 | B13: 0.6/1kV F-GV 6㎟ | C13: M | D13: 34 | E13: =TRUNC(일위대가목록!E51,0) -> 1464 | F13: =TRUNC(E13*D13, 0) -> 49776 | G13: =TRUNC(일위대가목록!F51,0) -> 2461 | H13: =TRUNC(G13*D13, 0) -> 83674 | I13: =TRUNC(일위대가목록!G51,0) -> 0 | J13: =TRUNC(I13*D13, 0) -> 0 | K13: =TRUNC(E13+G13+I13, 0) -> 3925 | L13: =TRUNC(F13+H13+J13, 0) -> 133450 | M13: 호표 48 | N13: 5853949F59D9EE50673F64F0852D52 | Q13: 010101 | R13: T | S13: F | T13: F | AU13: 0101015853949F59D9EE50673F64F0852D52 | AV13: 12
A14: 난연성 비닐절연 접지용전선 | B14: 0.6/1kV F-GV 16㎟ | C14: M | D14: 55 | E14: =TRUNC(일위대가목록!E52,0) -> 3315 | F14: =TRUNC(E14*D14, 0) -> 182325 | G14: =TRUNC(일위대가목록!F52,0) -> 2872 | H14: =TRUNC(G14*D14, 0) -> 157960 | I14: =TRUNC(일위대가목록!G52,0) -> 0 | J14: =TRUNC(I14*D14, 0) -> 0 | K14: =TRUNC(E14+G14+I14, 0) -> 6187 | L14: =TRUNC(F14+H14+J14, 0) -> 340285 | M14: 호표 49 | N14: 5853949F59D9EE50673F64F0852BA5 | Q14: 010101 | R14: T | S14: F | T14: F | AU14: 0101015853949F59D9EE50673F64F0852BA5 | AV14: 13
A15: 6/10kV고압가교폴리에틸렌(F-CV) | B15: 1C 50㎟(3열) | C15: M | D15: 99 | E15: =TRUNC(일위대가목록!E13,0) -> 12835 | F15: =TRUNC(E15*D15, 0) -> 1270665 | G15: =TRUNC(일위대가목록!F13,0) -> 3421 | H15: =TRUNC(G15*D15, 0) -> 338679 | I15: =TRUNC(일위대가목록!G13,0) -> 0 | J15: =TRUNC(I15*D15, 0) -> 0 | K15: =TRUNC(E15+G15+I15, 0) -> 16256 | L15: =TRUNC(F15+H15+J15, 0) -> 1609344 | M15: 호표 10 | N15: 5F546497C900DCEBF63AC47A857676 | Q15: 010101 | R15: T | S15: F | T15: F | AU15: 0101015F546497C900DCEBF63AC47A857676 | AV15: 14
A16: 6/10kV고압가교폴리에틸렌(F-CV) | B16: 3C 25㎟ | C16: M | D16: 55 | E16: =TRUNC(일위대가목록!E14,0) -> 25899 | F16: =TRUNC(E16*D16, 0) -> 1424445 | G16: =TRUNC(일위대가목록!F14,0) -> 6562 | H16: =TRUNC(G16*D16, 0) -> 360910 | I16: =TRUNC(일위대가목록!G14,0) -> 0 | J16: =TRUNC(I16*D16, 0) -> 0 | K16: =TRUNC(E16+G16+I16, 0) -> 32461 | L16: =TRUNC(F16+H16+J16, 0) -> 1785355 | M16: 호표 11 | N16: 5F546497C900DCEBF63AC468250D8F | Q16: 010101 | R16: T | S16: F | T16: F | AU16: 0101015F546497C900DCEBF63AC468250D8F | AV16: 15
A17: 0.6/1kV가교폴리에틸렌(F-CV) 옥외 | B17: 3C 4㎟ | C17: M | D17: 60 | E17: =TRUNC(일위대가목록!E55,0) -> 3045 | F17: =TRUNC(E17*D17, 0) -> 182700 | G17: =TRUNC(일위대가목록!F55,0) -> 3674 | H17: =TRUNC(G17*D17, 0) -> 220440 | I17: =TRUNC(일위대가목록!G55,0) -> 0 | J17: =TRUNC(I17*D17, 0) -> 0 | K17: =TRUNC(E17+G17+I17, 0) -> 6719 | L17: =TRUNC(F17+H17+J17, 0) -> 403140 | M17: 호표 52 | N17: 5853949F59CF77FD0A36D4AAE57E14 | Q17: 010101 | R17: T | S17: F | T17: F | AU17: 0101015853949F59CF77FD0A36D4AAE57E14 | AV17: 16
A18: 0.6/1kV가교폴리에틸렌(F-CV) 옥외 | B18: 4C 6㎟ | C18: M | D18: 34 | E18: =TRUNC(일위대가목록!E56,0) -> 5378 | F18: =TRUNC(E18*D18, 0) -> 182852 | G18: =TRUNC(일위대가목록!F56,0) -> 4792 | H18: =TRUNC(G18*D18, 0) -> 162928 | I18: =TRUNC(일위대가목록!G56,0) -> 0 | J18: =TRUNC(I18*D18, 0) -> 0 | K18: =TRUNC(E18+G18+I18, 0) -> 10170 | L18: =TRUNC(F18+H18+J18, 0) -> 345780 | M18: 호표 53 | N18: 5853949F59CF77FD0A36D4AAC54B97 | Q18: 010101 | R18: T | S18: F | T18: F | AU18: 0101015853949F59CF77FD0A36D4AAC54B97 | AV18: 17
A19: 0.6/1kV가교폴리에틸렌(F-CV) 옥외 | B19: 4C 35㎟ | C19: M | D19: 33 | E19: =TRUNC(일위대가목록!E57,0) -> 27936 | F19: =TRUNC(E19*D19, 0) -> 921888 | G19: =TRUNC(일위대가목록!F57,0) -> 6829 | H19: =TRUNC(G19*D19, 0) -> 225357 | I19: =TRUNC(일위대가목록!G57,0) -> 0 | J19: =TRUNC(I19*D19, 0) -> 0 | K19: =TRUNC(E19+G19+I19, 0) -> 34765 | L19: =TRUNC(F19+H19+J19, 0) -> 1147245 | M19: 호표 54 | N19: 5853949F59CF77FD0A36D4AAC5473C | Q19: 010101 | R19: T | S19: F | T19: F | AU19: 0101015853949F59CF77FD0A36D4AAC5473C | AV19: 18
A20: 0.6/1kV제어용난연(F-CVV-SB) | B20: 2C 1.5㎟ | C20: M | D20: 60 | E20: =TRUNC(일위대가목록!E15,0) -> 2233 | F20: =TRUNC(E20*D20, 0) -> 133980 | G20: =TRUNC(일위대가목록!F15,0) -> 5101 | H20: =TRUNC(G20*D20, 0) -> 306060 | I20: =TRUNC(일위대가목록!G15,0) -> 0 | J20: =TRUNC(I20*D20, 0) -> 0 | K20: =TRUNC(E20+G20+I20, 0) -> 7334 | L20: =TRUNC(F20+H20+J20, 0) -> 440040 | M20: 호표 12 | N20: 5F546497C900DCEBDB3D0496E547FD | Q20: 010101 | R20: T | S20: F | T20: F | AU20: 0101015F546497C900DCEBDB3D0496E547FD | AV20: 19
A21: 0.6/1kV제어용난연(F-CVV-SB) | B21: 20C 1.5㎟ | C21: M | D21: 240 | E21: =TRUNC(일위대가목록!E16,0) -> 9770 | F21: =TRUNC(E21*D21, 0) -> 2344800 | G21: =TRUNC(일위대가목록!F16,0) -> 26962 | H21: =TRUNC(G21*D21, 0) -> 6470880 | I21: =TRUNC(일위대가목록!G16,0) -> 0 | J21: =TRUNC(I21*D21, 0) -> 0 | K21: =TRUNC(E21+G21+I21, 0) -> 36732 | L21: =TRUNC(F21+H21+J21, 0) -> 8815680 | M21: 호표 13 | N21: 5F546497C900DCEBDB3D0496650F0F | Q21: 010101 | R21: T | S21: F | T21: F | AU21: 0101015F546497C900DCEBDB3D0496650F0F | AV21: 20
A22: 풀박스 | B22: 200x200x200 | C22: 개 | D22: 8 | E22: =TRUNC(일위대가목록!E81,0) -> 8303 | F22: =TRUNC(E22*D22, 0) -> 66424 | G22: =TRUNC(일위대가목록!F81,0) -> 60178 | H22: =TRUNC(G22*D22, 0) -> 481424 | I22: =TRUNC(일위대가목록!G81,0) -> 0 | J22: =TRUNC(I22*D22, 0) -> 0 | K22: =TRUNC(E22+G22+I22, 0) -> 68481 | L22: =TRUNC(F22+H22+J22, 0) -> 547848 | M22: 호표 78 | N22: 5853949F5966F16FE53514AEC5F595 | Q22: 010101 | R22: T | S22: F | T22: F | AU22: 0101015853949F5966F16FE53514AEC5F595 | AV22: 21
A23: 전기맨홀 | B23: 1000x1000x1000 | C23: 개소 | D23: 2 | E23: =TRUNC(일위대가목록!E67,0) -> 629088 | F23: =TRUNC(E23*D23, 0) -> 1258176 | G23: =TRUNC(일위대가목록!F67,0) -> 784111 | H23: =TRUNC(G23*D23, 0) -> 1568222 | I23: =TRUNC(일위대가목록!G67,0) -> 72657 | J23: =TRUNC(I23*D23, 0) -> 145314 | K23: =TRUNC(E23+G23+I23, 0) -> 1485856 | L23: =TRUNC(F23+H23+J23, 0) -> 2971712 | M23: 호표 64 | N23: 5853949F59ACA058043E546E051B5B | Q23: 010101 | R23: T | S23: F | T23: F | AU23: 0101015853949F59ACA058043E546E051B5B | AV23: 22
A24: 관로구방수 | B24: D 50 | C24: 개소 | D24: 24 | E24: =TRUNC(일위대가목록!E69,0) -> 40411 | F24: =TRUNC(E24*D24, 0) -> 969864 | G24: =TRUNC(일위대가목록!F69,0) -> 52720 | H24: =TRUNC(G24*D24, 0) -> 1265280 | I24: =TRUNC(일위대가목록!G69,0) -> 0 | J24: =TRUNC(I24*D24, 0) -> 0 | K24: =TRUNC(E24+G24+I24, 0) -> 93131 | L24: =TRUNC(F24+H24+J24, 0) -> 2235144 | M24: 호표 66 | N24: 5853949F59ACA02CC83B2431455110 | Q24: 010101 | R24: T | S24: F | T24: F | AU24: 0101015853949F59ACA02CC83B2431455110 | AV24: 23
A25: 관로구방수 | B25: D 65 | C25: 개소 | D25: 18 | E25: =TRUNC(일위대가목록!E70,0) -> 44041 | F25: =TRUNC(E25*D25, 0) -> 792738 | G25: =TRUNC(일위대가목록!F70,0) -> 52720 | H25: =TRUNC(G25*D25, 0) -> 948960 | I25: =TRUNC(일위대가목록!G70,0) -> 0 | J25: =TRUNC(I25*D25, 0) -> 0 | K25: =TRUNC(E25+G25+I25, 0) -> 96761 | L25: =TRUNC(F25+H25+J25, 0) -> 1741698 | M25: 호표 67 | N25: 5853949F59ACA02CC83B2431455009 | Q25: 010101 | R25: T | S25: F | T25: F | AU25: 0101015853949F59ACA02CC83B2431455009 | AV25: 24
A26: 관로구방수 | B26: D 80 | C26: 개소 | D26: 9 | E26: =TRUNC(일위대가목록!E71,0) -> 45961 | F26: =TRUNC(E26*D26, 0) -> 413649 | G26: =TRUNC(일위대가목록!F71,0) -> 52720 | H26: =TRUNC(G26*D26, 0) -> 474480 | I26: =TRUNC(일위대가목록!G71,0) -> 0 | J26: =TRUNC(I26*D26, 0) -> 0 | K26: =TRUNC(E26+G26+I26, 0) -> 98681 | L26: =TRUNC(F26+H26+J26, 0) -> 888129 | M26: 호표 68 | N26: 5853949F59ACA02CC83B24314557B8 | Q26: 010101 | R26: T | S26: F | T26: F | AU26: 0101015853949F59ACA02CC83B24314557B8 | AV26: 25
A27: 경고 테이프(저압용) | B27: 200*250 | C27: M | D27: 112 | E27: =TRUNC(일위대가목록!E72,0) -> 206 | F27: =TRUNC(E27*D27, 0) -> 23072 | G27: =TRUNC(일위대가목록!F72,0) -> 247 | H27: =TRUNC(G27*D27, 0) -> 27664 | I27: =TRUNC(일위대가목록!G72,0) -> 0 | J27: =TRUNC(I27*D27, 0) -> 0 | K27: =TRUNC(E27+G27+I27, 0) -> 453 | L27: =TRUNC(F27+H27+J27, 0) -> 50736 | M27: 호표 69 | N27: 5853949F59ACA02CC83A14C235A3BC | Q27: 010101 | R27: T | S27: F | T27: F | AU27: 0101015853949F59ACA02CC83A14C235A3BC | AV27: 26
A28: 경고 테이프(고압용) | B28: 200*250 | C28: M | D28: 33 | E28: =TRUNC(일위대가목록!E73,0) -> 207 | F28: =TRUNC(E28*D28, 0) -> 6831 | G28: =TRUNC(일위대가목록!F73,0) -> 282 | H28: =TRUNC(G28*D28, 0) -> 9306 | I28: =TRUNC(일위대가목록!G73,0) -> 0 | J28: =TRUNC(I28*D28, 0) -> 0 | K28: =TRUNC(E28+G28+I28, 0) -> 489 | L28: =TRUNC(F28+H28+J28, 0) -> 16137 | M28: 호표 70 | N28: 5853949F59ACA02CC83A14C235A0E8 | Q28: 010101 | R28: T | S28: F | T28: F | AU28: 0101015853949F59ACA02CC83A14C235A0E8 | AV28: 27
A29: 지중선용 가선철물 | B29: 지중선로표시기, 전규격 | C29: EA | D29: 3 | E29: =TRUNC(일위대가목록!E74,0) -> 5943 | F29: =TRUNC(E29*D29, 0) -> 17829 | G29: =TRUNC(일위대가목록!F74,0) -> 27194 | H29: =TRUNC(G29*D29, 0) -> 81582 | I29: =TRUNC(일위대가목록!G74,0) -> 0 | J29: =TRUNC(I29*D29, 0) -> 0 | K29: =TRUNC(E29+G29+I29, 0) -> 33137 | L29: =TRUNC(F29+H29+J29, 0) -> 99411 | M29: 호표 71 | N29: 5853949F59ACA02CC83A14C205EFF5 | Q29: 010101 | R29: T | S29: F | T29: F | AU29: 0101015853949F59ACA02CC83A14C205EFF5 | AV29: 28
A30: 분전반 PAD | B30: 1000x400x300 | C30: 개소 | D30: 3 | E30: =TRUNC(일위대가목록!E12,0) -> 32097 | F30: =TRUNC(E30*D30, 0) -> 96291 | G30: =TRUNC(일위대가목록!F12,0) -> 85567 | H30: =TRUNC(G30*D30, 0) -> 256701 | I30: =TRUNC(일위대가목록!G12,0) -> 587 | J30: =TRUNC(I30*D30, 0) -> 1761 | K30: =TRUNC(E30+G30+I30, 0) -> 118251 | L30: =TRUNC(F30+H30+J30, 0) -> 354753 | M30: 호표 9 | N30: 5F546497C900DCEBAE3B5484859831 | Q30: 010101 | R30: T | S30: F | T30: F | AU30: 0101015F546497C900DCEBAE3B5484859831 | AV30: 30
A31: 분전반 | B31: 양수장현장조작반 제작 | C31: 면 | D31: 1 | E31: =TRUNC(일위대가목록!E107,0) -> 4796479 | F31: =TRUNC(E31*D31, 0) -> 4796479 | G31: =TRUNC(일위대가목록!F107,0) -> 0 | H31: =TRUNC(G31*D31, 0) -> 0 | I31: =TRUNC(일위대가목록!G107,0) -> 0 | J31: =TRUNC(I31*D31, 0) -> 0 | K31: =TRUNC(E31+G31+I31, 0) -> 4796479 | L31: =TRUNC(F31+H31+J31, 0) -> 4796479 | M31: 관급자재 | N31: 594334EB990E66AB71315404058B98 | R31: T | S31: F | T31: F | AR31: 관급자재 | AU31: 010101594334EB990E66AB71315404058B98 | AV31: 31
A32: 분전반 | B32: 유입수문현장조작반 제작 (수문#1,2) | C32: 면 | D32: 2 | E32: =TRUNC(일위대가목록!E109,0) -> 5848217 | F32: =TRUNC(E32*D32, 0) -> 11696434 | G32: =TRUNC(일위대가목록!F109,0) -> 0 | H32: =TRUNC(G32*D32, 0) -> 0 | I32: =TRUNC(일위대가목록!G109,0) -> 0 | J32: =TRUNC(I32*D32, 0) -> 0 | K32: =TRUNC(E32+G32+I32, 0) -> 5848217 | L32: =TRUNC(F32+H32+J32, 0) -> 11696434 | M32: 관급자재 | N32: 594334EB990E66AB71315404058AF1 | R32: T | S32: F | T32: F | AR32: 관급자재 | AU32: 010101594334EB990E66AB71315404058AF1 | AV32: 32
A33: 자립형 분전반설치비 | C33: 면 | D33: 3 | E33: =TRUNC(일위대가목록!E24,0) -> 30328 | F33: =TRUNC(E33*D33, 0) -> 90984 | G33: =TRUNC(일위대가목록!F24,0) -> 1516415 | H33: =TRUNC(G33*D33, 0) -> 4549245 | I33: =TRUNC(일위대가목록!G24,0) -> 0 | J33: =TRUNC(I33*D33, 0) -> 0 | K33: =TRUNC(E33+G33+I33, 0) -> 1546743 | L33: =TRUNC(F33+H33+J33, 0) -> 4640229 | M33: 관급자재 | N33: 5F546497C900DCD94E36344E458D91 | R33: T | S33: F | T33: F | AR33: 관급자재 | AU33: 0101015F546497C900DCD94E36344E458D91 | AV33: 29
A34: 터파기(기계100%) | B34: 보통토사 | C34: ㎥ | D34: 136 | E34: =TRUNC(일위대가목록!E25,0) -> 245 | F34: =TRUNC(E34*D34, 0) -> 33320 | G34: =TRUNC(일위대가목록!F25,0) -> 755 | H34: =TRUNC(G34*D34, 0) -> 102680 | I34: =TRUNC(일위대가목록!G25,0) -> 304 | J34: =TRUNC(I34*D34, 0) -> 41344 | K34: =TRUNC(E34+G34+I34, 0) -> 1304 | L34: =TRUNC(F34+H34+J34, 0) -> 177344 | M34: 호표 22 | N34: 581A341D89B3D0DD7E38E4D8252150 | Q34: 010101 | R34: T | S34: F | T34: F | AU34: 010101581A341D89B3D0DD7E38E4D8252150 | AV34: 33
A35: 되메우기(기계100%) | B35: 보통토사 | C35: ㎥ | D35: 136 | E35: =TRUNC(일위대가목록!E26,0) -> 677 | F35: =TRUNC(E35*D35, 0) -> 92072 | G35: =TRUNC(일위대가목록!F26,0) -> 10574 | H35: =TRUNC(G35*D35, 0) -> 1438064 | I35: =TRUNC(일위대가목록!G26,0) -> 576 | J35: =TRUNC(I35*D35, 0) -> 78336 | K35: =TRUNC(E35+G35+I35, 0) -> 11827 | L35: =TRUNC(F35+H35+J35, 0) -> 1608472 | M35: 호표 23 | N35: 581A341D89B3D0DD7E38E4D835C899 | Q35: 010101 | R35: T | S35: F | T35: F | AU35: 010101581A341D89B3D0DD7E38E4D835C899 | AV35: 34
A36: 1종금속제가요전선관 | B36: 박스커넥터-비닐, 28mm 방수 | C36: 개 | D36: 12 | E36: =TRUNC(단가대비표!O87,0) -> 1500 | F36: =TRUNC(E36*D36, 0) -> 18000 | G36: =TRUNC(단가대비표!P87,0) -> 0 | H36: =TRUNC(G36*D36, 0) -> 0 | I36: =TRUNC(단가대비표!V87,0) -> 0 | J36: =TRUNC(I36*D36, 0) -> 0 | K36: =TRUNC(E36+G36+I36, 0) -> 1500 | L36: =TRUNC(F36+H36+J36, 0) -> 18000 | N36: 5F39B4F6191BCC929E3D7455358B9DD8B10D1E | Q36: 010101 | R36: F | S36: F | T36: T | AU36: 0101015F39B4F6191BCC929E3D7455358B9DD8B10D1E | AV36: 35
A37: 1종금속제가요전선관 | B37: 박스커넥터-비닐, 54mm 방수 | C37: 개 | D37: 12 | E37: =TRUNC(단가대비표!O88,0) -> 3740 | F37: =TRUNC(E37*D37, 0) -> 44880 | G37: =TRUNC(단가대비표!P88,0) -> 0 | H37: =TRUNC(G37*D37, 0) -> 0 | I37: =TRUNC(단가대비표!V88,0) -> 0 | J37: =TRUNC(I37*D37, 0) -> 0 | K37: =TRUNC(E37+G37+I37, 0) -> 3740 | L37: =TRUNC(F37+H37+J37, 0) -> 44880 | N37: 5F39B4F6191BCC929E3D7455358B9DD8B10C0E | Q37: 010101 | R37: F | S37: F | T37: T | AU37: 0101015F39B4F6191BCC929E3D7455358B9DD8B10C0E | AV37: 36
A51: [ 합 계 ] | F51: =SUM(F5:F50) -F33-F31-F32 -> 11010154 | H51: =SUM(H5:H50) -H33-H31-H32 -> 17240985 | J51: =SUM(J5:J50) -J33-J31-J32 -> 266755 | L51: =SUM(L5:L50) -L33-L31-L32 -> 28517894 | N51: TOTAL
A52: 010102 옥외보안등설비공사 | B52: 전기공사 | Q52: 010102
A53: 파상형 경질폴리에틸렌 전선관 | B53: 30㎜ | C53: M | D53: 40 | E53: =TRUNC(일위대가목록!E43,0) -> 454 | F53: =TRUNC(E53*D53, 0) -> 18160 | G53: =TRUNC(일위대가목록!F43,0) -> 3819 | H53: =TRUNC(G53*D53, 0) -> 152760 | I53: =TRUNC(일위대가목록!G43,0) -> 0 | J53: =TRUNC(I53*D53, 0) -> 0 | K53: =TRUNC(E53+G53+I53, 0) -> 4273 | L53: =TRUNC(F53+H53+J53, 0) -> 170920 | M53: 호표 40 | N53: 5853949F59EA5DF13638840EE550A2 | Q53: 010102 | R53: T | S53: F | T53: F | AU53: 0101025853949F59EA5DF13638840EE550A2 | AV53: 38
A54: 난연성 비닐절연 접지용전선 | B54: 0.6/1kV F-GV 6㎟ | C54: M | D54: 40 | E54: =TRUNC(일위대가목록!E51,0) -> 1464 | F54: =TRUNC(E54*D54, 0) -> 58560 | G54: =TRUNC(일위대가목록!F51,0) -> 2461 | H54: =TRUNC(G54*D54, 0) -> 98440 | I54: =TRUNC(일위대가목록!G51,0) -> 0 | J54: =TRUNC(I54*D54, 0) -> 0 | K54: =TRUNC(E54+G54+I54, 0) -> 3925 | L54: =TRUNC(F54+H54+J54, 0) -> 157000 | M54: 호표 48 | N54: 5853949F59D9EE50673F64F0852D52 | Q54: 010102 | R54: T | S54: F | T54: F | AU54: 0101025853949F59D9EE50673F64F0852D52 | AV54: 39
A55: 0.6/1kV가교폴리에틸렌(F-CV) 옥외 | B55: 2C 6㎟ | C55: M | D55: 40 | E55: =TRUNC(일위대가목록!E54,0) -> 3087 | F55: =TRUNC(E55*D55, 0) -> 123480 | G55: =TRUNC(일위대가목록!F54,0) -> 2556 | H55: =TRUNC(G55*D55, 0) -> 102240 | I55: =TRUNC(일위대가목록!G54,0) -> 0 | J55: =TRUNC(I55*D55, 0) -> 0 | K55: =TRUNC(E55+G55+I55, 0) -> 5643 | L55: =TRUNC(F55+H55+J55, 0) -> 225720 | M55: 호표 51 | N55: 5853949F59CF77FD0A36D4AA85D04E | Q55: 010102 | R55: T | S55: F | T55: F | AU55: 0101025853949F59CF77FD0A36D4AA85D04E | AV55: 40
A56: 0.6/1kV가교폴리에틸렌(F-CV) 옥내 | B56: 2C 6㎟ | C56: M | D56: 5 | E56: =TRUNC(일위대가목록!E59,0) -> 3203 | F56: =TRUNC(E56*D56, 0) -> 16015 | G56: =TRUNC(일위대가목록!F59,0) -> 5465 | H56: =TRUNC(G56*D56, 0) -> 27325 | I56: =TRUNC(일위대가목록!G59,0) -> 0 | J56: =TRUNC(I56*D56, 0) -> 0 | K56: =TRUNC(E56+G56+I56, 0) -> 8668 | L56: =TRUNC(F56+H56+J56, 0) -> 43340 | M56: 호표 56 | N56: 5853949F59CF77FD0A3424D165E6CD | Q56: 010102 | R56: T | S56: F | T56: F | AU56: 0101025853949F59CF77FD0A3424D165E6CD | AV56: 41
A57: 관로구방수 | B57: D 30 | C57: 개소 | D57: 3 | E57: =TRUNC(일위대가목록!E68,0) -> 36611 | F57: =TRUNC(E57*D57, 0) -> 109833 | G57: =TRUNC(일위대가목록!F68,0) -> 52720 | H57: =TRUNC(G57*D57, 0) -> 158160 | I57: =TRUNC(일위대가목록!G68,0) -> 0 | J57: =TRUNC(I57*D57, 0) -> 0 | K57: =TRUNC(E57+G57+I57, 0) -> 89331 | L57: =TRUNC(F57+H57+J57, 0) -> 267993 | M57: 호표 65 | N57: 5853949F59ACA02CC83B2431455237 | Q57: 010102 | R57: T | S57: F | T57: F | AU57: 0101025853949F59ACA02CC83B2431455237 | AV57: 42
A58: 경고 테이프(저압용) | B58: 200*250 | C58: M | D58: 35 | E58: =TRUNC(일위대가목록!E72,0) -> 206 | F58: =TRUNC(E58*D58, 0) -> 7210 | G58: =TRUNC(일위대가목록!F72,0) -> 247 | H58: =TRUNC(G58*D58, 0) -> 8645 | I58: =TRUNC(일위대가목록!G72,0) -> 0 | J58: =TRUNC(I58*D58, 0) -> 0 | K58: =TRUNC(E58+G58+I58, 0) -> 453 | L58: =TRUNC(F58+H58+J58, 0) -> 15855 | M58: 호표 69 | N58: 5853949F59ACA02CC83A14C235A3BC | Q58: 010102 | R58: T | S58: F | T58: F | AU58: 0101025853949F59ACA02CC83A14C235A3BC | AV58: 43
A59: 가로등 방수접속함 | B59: 누전차단기내장 | C59: 개 | D59: 3 | E59: =TRUNC(일위대가목록!E75,0) -> 45930 | F59: =TRUNC(E59*D59, 0) -> 137790 | G59: =TRUNC(일위대가목록!F75,0) -> 46501 | H59: =TRUNC(G59*D59, 0) -> 139503 | I59: =TRUNC(일위대가목록!G75,0) -> 0 | J59: =TRUNC(I59*D59, 0) -> 0 | K59: =TRUNC(E59+G59+I59, 0) -> 92431 | L59: =TRUNC(F59+H59+J59, 0) -> 277293 | M59: 호표 72 | N59: 5853949F59ACA02CC83DD40A85728A | Q59: 010102 | R59: T | S59: F | T59: F | AU59: 0101025853949F59ACA02CC83DD40A85728A | AV59: 44
A60: 외등기초(4M이하) | B60: 400*600*600 | C60: 개소 | D60: 3 | E60: =TRUNC(일위대가목록!E10,0) -> 101325 | F60: =TRUNC(E60*D60, 0) -> 303975 | G60: =TRUNC(일위대가목록!F10,0) -> 111524 | H60: =TRUNC(G60*D60, 0) -> 334572 | I60: =TRUNC(일위대가목록!G10,0) -> 6724 | J60: =TRUNC(I60*D60, 0) -> 20172 | K60: =TRUNC(E60+G60+I60, 0) -> 219573 | L60: =TRUNC(F60+H60+J60, 0) -> 658719 | M60: 호표 7 | N60: 5F546497C900DCEBAE3B548495A4A1 | Q60: 010102 | R60: T | S60: F | T60: F | AU60: 0101025F546497C900DCEBAE3B548495A4A1 | AV60: 45
A61: 조명기구 "옥외보안등" | B61: LED 60W/5M | C61: 조 | D61: 3 | E61: =TRUNC(일위대가목록!E92,0) -> 1561488 | F61: =TRUNC(E61*D61, 0) -> 4684464 | G61: =TRUNC(일위대가목록!F92,0) -> 574431 | H61: =TRUNC(G61*D61, 0) -> 1723293 | I61: =TRUNC(일위대가목록!G92,0) -> 0 | J61: =TRUNC(I61*D61, 0) -> 0 | K61: =TRUNC(E61+G61+I61, 0) -> 2135919 | L61: =TRUNC(F61+H61+J61, 0) -> 6407757 | M61: 호표 89 | N61: 594324C489723668933D541F853AC0 | Q61: 010102 | R61: T | S61: F | T61: F | AU61: 010102594324C489723668933D541F853AC0 | AV61: 46
A62: 터파기(기계100%) | B62: 보통토사 | C62: ㎥ | D62: 28 | E62: =TRUNC(일위대가목록!E25,0) -> 245 | F62: =TRUNC(E62*D62, 0) -> 6860 | G62: =TRUNC(일위대가목록!F25,0) -> 755 | H62: =TRUNC(G62*D62, 0) -> 21140 | I62: =TRUNC(일위대가목록!G25,0) -> 304 | J62: =TRUNC(I62*D62, 0) -> 8512 | K62: =TRUNC(E62+G62+I62, 0) -> 1304 | L62: =TRUNC(F62+H62+J62, 0) -> 36512 | M62: 호표 22 | N62: 581A341D89B3D0DD7E38E4D8252150 | Q62: 010102 | R62: T | S62: F | T62: F | AU62: 010102581A341D89B3D0DD7E38E4D8252150 | AV62: 47
A63: 되메우기(기계100%) | B63: 보통토사 | C63: ㎥ | D63: 28 | E63: =TRUNC(일위대가목록!E26,0) -> 677 | F63: =TRUNC(E63*D63, 0) -> 18956 | G63: =TRUNC(일위대가목록!F26,0) -> 10574 | H63: =TRUNC(G63*D63, 0) -> 296072 | I63: =TRUNC(일위대가목록!G26,0) -> 576 | J63: =TRUNC(I63*D63, 0) -> 16128 | K63: =TRUNC(E63+G63+I63, 0) -> 11827 | L63: =TRUNC(F63+H63+J63, 0) -> 331156 | M63: 호표 23 | N63: 581A341D89B3D0DD7E38E4D835C899 | Q63: 010102 | R63: T | S63: F | T63: F | AU63: 010102581A341D89B3D0DD7E38E4D835C899 | AV63: 48
A75: [ 합 계 ] | F75: =SUM(F53:F74) -> 5485303 | H75: =SUM(H53:H74) -> 3062150 | J75: =SUM(J53:J74) -> 44812 | L75: =SUM(L53:L74) -> 8592265 | N75: TOTAL
A76: 010103 수변전설비공사 | B76: 전기공사 | Q76: 010103
A77: 경질비닐전선관 | B77: HI 36 mm | C77: M | D77: 13 | E77: =TRUNC(일위대가목록!E37,0) -> 1970 | F77: =TRUNC(E77*D77, 0) -> 25610 | G77: =TRUNC(일위대가목록!F37,0) -> 27353 | H77: =TRUNC(G77*D77, 0) -> 355589 | I77: =TRUNC(일위대가목록!G37,0) -> 0 | J77: =TRUNC(I77*D77, 0) -> 0 | K77: =TRUNC(E77+G77+I77, 0) -> 29323 | L77: =TRUNC(F77+H77+J77, 0) -> 381199 | M77: 호표 34 | N77: 5853949F59EA5D98A33C6477251975 | Q77: 010103 | R77: T | S77: F | T77: F | AU77: 0101035853949F59EA5D98A33C6477251975 | AV77: 50
A78: 난연성 비닐절연 접지용전선 | B78: 0.6/1kV F-GV 6㎟ | C78: M | D78: 13 | E78: =TRUNC(일위대가목록!E51,0) -> 1464 | F78: =TRUNC(E78*D78, 0) -> 19032 | G78: =TRUNC(일위대가목록!F51,0) -> 2461 | H78: =TRUNC(G78*D78, 0) -> 31993 | I78: =TRUNC(일위대가목록!G51,0) -> 0 | J78: =TRUNC(I78*D78, 0) -> 0 | K78: =TRUNC(E78+G78+I78, 0) -> 3925 | L78: =TRUNC(F78+H78+J78, 0) -> 51025 | M78: 호표 48 | N78: 5853949F59D9EE50673F64F0852D52 | Q78: 010103 | R78: T | S78: F | T78: F | AU78: 0101035853949F59D9EE50673F64F0852D52 | AV78: 51
A79: 난연성 비닐절연 접지용전선 | B79: 0.6/1kV F-GV 50㎟ | C79: M | D79: 14 | E79: =TRUNC(일위대가목록!E53,0) -> 9671 | F79: =TRUNC(E79*D79, 0) -> 135394 | G79: =TRUNC(일위대가목록!F53,0) -> 3282 | H79: =TRUNC(G79*D79, 0) -> 45948 | I79: =TRUNC(일위대가목록!G53,0) -> 0 | J79: =TRUNC(I79*D79, 0) -> 0 | K79: =TRUNC(E79+G79+I79, 0) -> 12953 | L79: =TRUNC(F79+H79+J79, 0) -> 181342 | M79: 호표 50 | N79: 5853949F59D9EE50673F64F0852623 | Q79: 010103 | R79: T | S79: F | T79: F | AU79: 0101035853949F59D9EE50673F64F0852623 | AV79: 52
A80: 6/10kV고압가교폴리에틸렌(F-CV) | B80: 1C 50㎟(3열) | C80: M | D80: 93 | E80: =TRUNC(일위대가목록!E13,0) -> 12835 | F80: =TRUNC(E80*D80, 0) -> 1193655 | G80: =TRUNC(일위대가목록!F13,0) -> 3421 | H80: =TRUNC(G80*D80, 0) -> 318153 | I80: =TRUNC(일위대가목록!G13,0) -> 0 | J80: =TRUNC(I80*D80, 0) -> 0 | K80: =TRUNC(E80+G80+I80, 0) -> 16256 | L80: =TRUNC(F80+H80+J80, 0) -> 1511808 | M80: 호표 10 | N80: 5F546497C900DCEBF63AC47A857676 | Q80: 010103 | R80: T | S80: F | T80: F | AU80: 0101035F546497C900DCEBF63AC47A857676 | AV80: 53
A81: 6/10kV고압가교폴리에틸렌(F-CV) | B81: 3C 25㎟ | C81: M | D81: 10 | E81: =TRUNC(일위대가목록!E14,0) -> 25899 | F81: =TRUNC(E81*D81, 0) -> 258990 | G81: =TRUNC(일위대가목록!F14,0) -> 6562 | H81: =TRUNC(G81*D81, 0) -> 65620 | I81: =TRUNC(일위대가목록!G14,0) -> 0 | J81: =TRUNC(I81*D81, 0) -> 0 | K81: =TRUNC(E81+G81+I81, 0) -> 32461 | L81: =TRUNC(F81+H81+J81, 0) -> 324610 | M81: 호표 11 | N81: 5F546497C900DCEBF63AC468250D8F | Q81: 010103 | R81: T | S81: F | T81: F | AU81: 0101035F546497C900DCEBF63AC468250D8F | AV81: 54
A82: 0.6/1kV가교폴리에틸렌(F-CV) 옥내 | B82: 3C 4㎟ | C82: M | D82: 20 | E82: =TRUNC(일위대가목록!E60,0) -> 3162 | F82: =TRUNC(E82*D82, 0) -> 63240 | G82: =TRUNC(일위대가목록!F60,0) -> 6679 | H82: =TRUNC(G82*D82, 0) -> 133580 | I82: =TRUNC(일위대가목록!G60,0) -> 0 | J82: =TRUNC(I82*D82, 0) -> 0 | K82: =TRUNC(E82+G82+I82, 0) -> 9841 | L82: =TRUNC(F82+H82+J82, 0) -> 196820 | M82: 호표 57 | N82: 5853949F59CF77FD0A35344085BAA3 | Q82: 010103 | R82: T | S82: F | T82: F | AU82: 0101035853949F59CF77FD0A35344085BAA3 | AV82: 55
A83: 0.6/1kV가교폴리에틸렌(F-CV) 옥내 | B83: 4C 6㎟ | C83: M | D83: 23 | E83: =TRUNC(일위대가목록!E61,0) -> 5589 | F83: =TRUNC(E83*D83, 0) -> 128547 | G83: =TRUNC(일위대가목록!F61,0) -> 10323 | H83: =TRUNC(G83*D83, 0) -> 237429 | I83: =TRUNC(일위대가목록!G61,0) -> 0 | J83: =TRUNC(I83*D83, 0) -> 0 | K83: =TRUNC(E83+G83+I83, 0) -> 15912 | L83: =TRUNC(F83+H83+J83, 0) -> 365976 | M83: 호표 58 | N83: 5853949F59CF77FD0A3274FBA5DD7D | Q83: 010103 | R83: T | S83: F | T83: F | AU83: 0101035853949F59CF77FD0A3274FBA5DD7D | AV83: 56
A84: 0.6/1kV가교폴리에틸렌(F-CV) 옥내 | B84: 4C 35㎟ | C84: M | D84: 21 | E84: =TRUNC(일위대가목록!E62,0) -> 28897 | F84: =TRUNC(E84*D84, 0) -> 606837 | G84: =TRUNC(일위대가목록!F62,0) -> 28419 | H84: =TRUNC(G84*D84, 0) -> 596799 | I84: =TRUNC(일위대가목록!G62,0) -> 0 | J84: =TRUNC(I84*D84, 0) -> 0 | K84: =TRUNC(E84+G84+I84, 0) -> 57316 | L84: =TRUNC(F84+H84+J84, 0) -> 1203636 | M84: 호표 59 | N84: 5853949F59CF77FD0A3274FBA5D14C | Q84: 010103 | R84: T | S84: F | T84: F | AU84: 0101035853949F59CF77FD0A3274FBA5D14C | AV84: 57
A85: 0.6/1kV제어용난연(F-CVV-SB) | B85: 2C 1.5㎟ | C85: M | D85: 20 | E85: =TRUNC(일위대가목록!E15,0) -> 2233 | F85: =TRUNC(E85*D85, 0) -> 44660 | G85: =TRUNC(일위대가목록!F15,0) -> 5101 | H85: =TRUNC(G85*D85, 0) -> 102020 | I85: =TRUNC(일위대가목록!G15,0) -> 0 | J85: =TRUNC(I85*D85, 0) -> 0 | K85: =TRUNC(E85+G85+I85, 0) -> 7334 | L85: =TRUNC(F85+H85+J85, 0) -> 146680 | M85: 호표 12 | N85: 5F546497C900DCEBDB3D0496E547FD | Q85: 010103 | R85: T | S85: F | T85: F | AU85: 0101035F546497C900DCEBDB3D0496E547FD | AV85: 58
A86: 0.6/1kV제어용난연(F-CVV-SB) | B86: 20C 1.5㎟ | C86: M | D86: 60 | E86: =TRUNC(일위대가목록!E16,0) -> 9770 | F86: =TRUNC(E86*D86, 0) -> 586200 | G86: =TRUNC(일위대가목록!F16,0) -> 26962 | H86: =TRUNC(G86*D86, 0) -> 1617720 | I86: =TRUNC(일위대가목록!G16,0) -> 0 | J86: =TRUNC(I86*D86, 0) -> 0 | K86: =TRUNC(E86+G86+I86, 0) -> 36732 | L86: =TRUNC(F86+H86+J86, 0) -> 2203920 | M86: 호표 13 | N86: 5F546497C900DCEBDB3D0496650F0F | Q86: 010103 | R86: T | S86: F | T86: F | AU86: 0101035F546497C900DCEBDB3D0496650F0F | AV86: 59
A87: CABLE DUCT COVER(전기) - 철거후재사용 | B87: W800x100H | C87: M | D87: 8 | E87: =TRUNC(일위대가목록!E63,0) -> 945 | F87: =TRUNC(E87*D87, 0) -> 7560 | G87: =TRUNC(일위대가목록!F63,0) -> 47267 | H87: =TRUNC(G87*D87, 0) -> 378136 | I87: =TRUNC(일위대가목록!G63,0) -> 0 | J87: =TRUNC(I87*D87, 0) -> 0 | K87: =TRUNC(E87+G87+I87, 0) -> 48212 | L87: =TRUNC(F87+H87+J87, 0) -> 385696 | M87: 호표 60 | N87: 5853949F59BD053A1531C499353EA2 | Q87: 010103 | R87: T | S87: F | T87: F | AU87: 0101035853949F59BD053A1531C499353EA2 | AV87: 60
A88: 덕트형 케이블트레이 | B88: DUCT, W 300 | C88: M | D88: 14 | E88: =TRUNC(일위대가목록!E64,0) -> 35316 | F88: =TRUNC(E88*D88, 0) -> 494424 | G88: =TRUNC(일위대가목록!F64,0) -> 136769 | H88: =TRUNC(G88*D88, 0) -> 1914766 | I88: =TRUNC(일위대가목록!G64,0) -> 0 | J88: =TRUNC(I88*D88, 0) -> 0 | K88: =TRUNC(E88+G88+I88, 0) -> 172085 | L88: =TRUNC(F88+H88+J88, 0) -> 2409190 | M88: 호표 61 | N88: 5853949F59BD053A153494C6B5E579 | Q88: 010103 | R88: T | S88: F | T88: F | AU88: 0101035853949F59BD053A153494C6B5E579 | AV88: 61
A89: 덕트형 케이블트레이부속품 | B89: HOR. ELBOW, W 300 | C89: 개 | D89: 1 | E89: =TRUNC(일위대가목록!E65,0) -> 32965 | F89: =TRUNC(E89*D89, 0) -> 32965 | G89: =TRUNC(일위대가목록!F65,0) -> 136769 | H89: =TRUNC(G89*D89, 0) -> 136769 | I89: =TRUNC(일위대가목록!G65,0) -> 0 | J89: =TRUNC(I89*D89, 0) -> 0 | K89: =TRUNC(E89+G89+I89, 0) -> 169734 | L89: =TRUNC(F89+H89+J89, 0) -> 169734 | M89: 호표 62 | N89: 5853949F59BD053A153494C6A5DC5A | Q89: 010103 | R89: T | S89: F | T89: F | AU89: 0101035853949F59BD053A153494C6A5DC5A | AV89: 62
A90: 트레이,덕트지지대-벽체or바닥 | B90: W300 | C90: 개소 | D90: 9 | E90: =TRUNC(일위대가목록!E22,0) -> 4422 | F90: =TRUNC(E90*D90, 0) -> 39798 | G90: =TRUNC(일위대가목록!F22,0) -> 19694 | H90: =TRUNC(G90*D90, 0) -> 177246 | I90: =TRUNC(일위대가목록!G22,0) -> 0 | J90: =TRUNC(I90*D90, 0) -> 0 | K90: =TRUNC(E90+G90+I90, 0) -> 24116 | L90: =TRUNC(F90+H90+J90, 0) -> 217044 | M90: 호표 19 | N90: 5F546497C900DCF45136B4E585DA79 | Q90: 010103 | R90: T | S90: F | T90: F | AU90: 0101035F546497C900DCF45136B4E585DA79 | AV90: 63
A91: 케이블트레이부속품 | B91: SHANK BOLT & NUT, 아연도 | C91: 개 | D91: 93 | E91: =TRUNC(단가대비표!O73,0) -> 210 | F91: =TRUNC(E91*D91, 0) -> 19530 | G91: =TRUNC(단가대비표!P73,0) -> 0 | H91: =TRUNC(G91*D91, 0) -> 0 | I91: =TRUNC(단가대비표!V73,0) -> 0 | J91: =TRUNC(I91*D91, 0) -> 0 | K91: =TRUNC(E91+G91+I91, 0) -> 210 | L91: =TRUNC(F91+H91+J91, 0) -> 19530 | N91: 5F39B4F6191BCC929E3E14F91578CAF28D7CF3 | Q91: 010103 | R91: F | S91: F | T91: T | AU91: 0101035F39B4F6191BCC929E3E14F91578CAF28D7CF3 | AV91: 64
A92: 케이블트레이부속품 | B92: BONDING JUMPER, 38㎟ | C92: 개 | D92: 9 | E92: =TRUNC(단가대비표!O74,0) -> 4740 | F92: =TRUNC(E92*D92, 0) -> 42660 | G92: =TRUNC(단가대비표!P74,0) -> 0 | H92: =TRUNC(G92*D92, 0) -> 0 | I92: =TRUNC(단가대비표!V74,0) -> 0 | J92: =TRUNC(I92*D92, 0) -> 0 | K92: =TRUNC(E92+G92+I92, 0) -> 4740 | L92: =TRUNC(F92+H92+J92, 0) -> 42660 | N92: 5F39B4F6191BCC929E3E14F91578CAF28D7CF7 | Q92: 010103 | R92: F | S92: F | T92: T | AU92: 0101035F39B4F6191BCC929E3E14F91578CAF28D7CF7 | AV92: 65
A93: 덕트형 케이블트레이부속품 | B93: CONNECTOR, W 300 | C93: 개 | D93: 9 | E93: =TRUNC(단가대비표!O77,0) -> 6070 | F93: =TRUNC(E93*D93, 0) -> 54630 | G93: =TRUNC(단가대비표!P77,0) -> 0 | H93: =TRUNC(G93*D93, 0) -> 0 | I93: =TRUNC(단가대비표!V77,0) -> 0 | J93: =TRUNC(I93*D93, 0) -> 0 | K93: =TRUNC(E93+G93+I93, 0) -> 6070 | L93: =TRUNC(F93+H93+J93, 0) -> 54630 | N93: 5F39B4F6191BCC929E3E14F91578CAF288FB5E | Q93: 010103 | R93: F | S93: F | T93: T | AU93: 0101035F39B4F6191BCC929E3E14F91578CAF288FB5E | AV93: 66
A94: 러그단자(전력용)-1C | B94: 동관단자 2 HOLE 35 ㎟ | C94: 개 | D94: 8 | E94: =TRUNC(일위대가목록!E18,0) -> 1997 | F94: =TRUNC(E94*D94, 0) -> 15976 | G94: =TRUNC(일위대가목록!F18,0) -> 39350 | H94: =TRUNC(G94*D94, 0) -> 314800 | I94: =TRUNC(일위대가목록!G18,0) -> 0 | J94: =TRUNC(I94*D94, 0) -> 0 | K94: =TRUNC(E94+G94+I94, 0) -> 41347 | L94: =TRUNC(F94+H94+J94, 0) -> 330776 | M94: 호표 15 | N94: 5F546497C900DCEB3B3BE47F85F105 | Q94: 010103 | R94: T | S94: F | T94: F | AU94: 0101035F546497C900DCEB3B3BE47F85F105 | AV94: 68
A95: 압착단자(접지용) | B95: R형동선 나압착 16 ㎟ | C95: 개 | D95: 4 | E95: =TRUNC(일위대가목록!E19,0) -> 643 | F95: =TRUNC(E95*D95, 0) -> 2572 | G95: =TRUNC(일위대가목록!F19,0) -> 22156 | H95: =TRUNC(G95*D95, 0) -> 88624 | I95: =TRUNC(일위대가목록!G19,0) -> 0 | J95: =TRUNC(I95*D95, 0) -> 0 | K95: =TRUNC(E95+G95+I95, 0) -> 22799 | L95: =TRUNC(F95+H95+J95, 0) -> 91196 | M95: 호표 16 | N95: 5F546497C900DCEB3B3BE431D5687B | Q95: 010103 | R95: T | S95: F | T95: F | AU95: 0101035F546497C900DCEB3B3BE431D5687B | AV95: 69
A96: 압착단자(전력용)-1C | B96: R형동선 나압착 25 ㎟ | C96: 개 | D96: 12 | E96: =TRUNC(일위대가목록!E20,0) -> 981 | F96: =TRUNC(E96*D96, 0) -> 11772 | G96: =TRUNC(일위대가목록!F20,0) -> 36071 | H96: =TRUNC(G96*D96, 0) -> 432852 | I96: =TRUNC(일위대가목록!G20,0) -> 0 | J96: =TRUNC(I96*D96, 0) -> 0 | K96: =TRUNC(E96+G96+I96, 0) -> 37052 | L96: =TRUNC(F96+H96+J96, 0) -> 444624 | M96: 호표 17 | N96: 5F546497C900DCEB3B3BE431D56E9C | Q96: 010103 | R96: T | S96: F | T96: F | AU96: 0101035F546497C900DCEB3B3BE431D56E9C | AV96: 70
A97: 케이블 단말접속자재 | B97: 자기수축,6.9kV 1Cx60 ㎟ | C97: KIT | D97: 12 | E97: =TRUNC(일위대가목록!E17,0) -> 61663 | F97: =TRUNC(E97*D97, 0) -> 739956 | G97: =TRUNC(일위대가목록!F17,0) -> 264827 | H97: =TRUNC(G97*D97, 0) -> 3177924 | I97: =TRUNC(일위대가목록!G17,0) -> 0 | J97: =TRUNC(I97*D97, 0) -> 0 | K97: =TRUNC(E97+G97+I97, 0) -> 326490 | L97: =TRUNC(F97+H97+J97, 0) -> 3917880 | M97: 호표 14 | N97: 5F546497C900DCEB3B3AD4C2B595A3 | Q97: 010103 | R97: T | S97: F | T97: F | AU97: 0101035F546497C900DCEB3B3AD4C2B595A3 | AV97: 71
A98: 배선용 차단기 | B98: 4P 460V 125AF | C98: 대 | D98: 1 | E98: =TRUNC(일위대가목록!E82,0) -> 132642 | F98: =TRUNC(E98*D98, 0) -> 132642 | G98: =TRUNC(일위대가목록!F82,0) -> 167132 | H98: =TRUNC(G98*D98, 0) -> 167132 | I98: =TRUNC(일위대가목록!G82,0) -> 0 | J98: =TRUNC(I98*D98, 0) -> 0 | K98: =TRUNC(E98+G98+I98, 0) -> 299774 | L98: =TRUNC(F98+H98+J98, 0) -> 299774 | M98: 호표 79 | N98: 5853949F5966F15D743AA4AD555392 | Q98: 010103 | R98: T | S98: F | T98: F | AU98: 0101035853949F5966F15D743AA4AD555392 | AV98: 72
A99: 분전반설치비 | C99: 면 | D99: 1 | E99: =TRUNC(일위대가목록!E23,0) -> 6729 | F99: =TRUNC(E99*D99, 0) -> 6729 | G99: =TRUNC(일위대가목록!F23,0) -> 336452 | H99: =TRUNC(G99*D99, 0) -> 336452 | I99: =TRUNC(일위대가목록!G23,0) -> 0 | J99: =TRUNC(I99*D99, 0) -> 0 | K99: =TRUNC(E99+G99+I99, 0) -> 343181 | L99: =TRUNC(F99+H99+J99, 0) -> 343181 | M99: 호표 20 | N99: 5F546497C900DCD94E36344E458D92 | Q99: 010103 | R99: T | S99: F | T99: F | AU99: 0101035F546497C900DCD94E36344E458D92 | AV99: 73
A100: 수.배전반 PAD | B100: 800x2200x100 | C100: 개소 | D100: 1 | E100: =TRUNC(일위대가목록!E11,0) -> 46236 | F100: =TRUNC(E100*D100, 0) -> 46236 | G100: =TRUNC(일위대가목록!F11,0) -> 103379 | H100: =TRUNC(G100*D100, 0) -> 103379 | I100: =TRUNC(일위대가목록!G11,0) -> 1099 | J100: =TRUNC(I100*D100, 0) -> 1099 | K100: =TRUNC(E100+G100+I100, 0) -> 150714 | L100: =TRUNC(F100+H100+J100, 0) -> 150714 | M100: 호표 8 | N100: 5F546497C900DCEBAE3B54848599DD | Q100: 010103 | R100: T | S100: F | T100: F | AU100: 0101035F546497C900DCEBAE3B54848599DD | AV100: 74
A101: 현황판 철거 후 신설 | C101: EA | D101: 1 | E101: =TRUNC(일위대가목록!E93,0) -> 1575 | F101: =TRUNC(E101*D101, 0) -> 1575 | G101: =TRUNC(일위대가목록!F93,0) -> 78779 | H101: =TRUNC(G101*D101, 0) -> 78779 | I101: =TRUNC(일위대가목록!G93,0) -> 0 | J101: =TRUNC(I101*D101, 0) -> 0 | K101: =TRUNC(E101+G101+I101, 0) -> 80354 | L101: =TRUNC(F101+H101+J101, 0) -> 80354 | M101: 호표 90 | N101: 594334EB990E66AB7131540415AB72 | Q101: 010103 | R101: T | S101: F | T101: F | AU101: 010103594334EB990E66AB7131540415AB72 | AV101: 75
A102: 수배전반 [배수펌프장] | B102: HV-A6 제작 | C102: 면 | D102: 1 | E102: =TRUNC(일위대가목록!E94,0) -> 26503933 | F102: =TRUNC(E102*D102, 0) -> 26503933 | G102: =TRUNC(일위대가목록!F94,0) -> 0 | H102: =TRUNC(G102*D102, 0) -> 0 | I102: =TRUNC(일위대가목록!G94,0) -> 0 | J102: =TRUNC(I102*D102, 0) -> 0 | K102: =TRUNC(E102+G102+I102, 0) -> 26503933 | L102: =TRUNC(F102+H102+J102, 0) -> 26503933 | M102: 관급자재 | N102: 594334EB990E66AB713154040582BB | R102: T | S102: F | T102: F | AR102: 관급자재 | AU102: 010103594334EB990E66AB713154040582BB | AV102: 76
A103: 수배전반 [양수장] | B103: HV-D1 제작 | C103: 면 | D103: 1 | E103: =TRUNC(일위대가목록!E96,0) -> 26630422 | F103: =TRUNC(E103*D103, 0) -> 26630422 | G103: =TRUNC(일위대가목록!F96,0) -> 0 | H103: =TRUNC(G103*D103, 0) -> 0 | I103: =TRUNC(일위대가목록!G96,0) -> 0 | J103: =TRUNC(I103*D103, 0) -> 0 | K103: =TRUNC(E103+G103+I103, 0) -> 26630422 | L103: =TRUNC(F103+H103+J103, 0) -> 26630422 | M103: 관급자재 | N103: 594334EB990E66AB71315404058195 | R103: T | S103: F | T103: F | AR103: 관급자재 | AU103: 010103594334EB990E66AB71315404058195 | AV103: 77
A104: 수배전반 [양수장] | B104: HV-D2 제작 | C104: 면 | D104: 1 | E104: =TRUNC(일위대가목록!E98,0) -> 32763002 | F104: =TRUNC(E104*D104, 0) -> 32763002 | G104: =TRUNC(일위대가목록!F98,0) -> 0 | H104: =TRUNC(G104*D104, 0) -> 0 | I104: =TRUNC(일위대가목록!G98,0) -> 0 | J104: =TRUNC(I104*D104, 0) -> 0 | K104: =TRUNC(E104+G104+I104, 0) -> 32763002 | L104: =TRUNC(F104+H104+J104, 0) -> 32763002 | M104: 관급자재 | N104: 594334EB990E66AB7131540405808E | R104: T | S104: F | T104: F | AR104: 관급자재 | AU104: 010103594334EB990E66AB7131540405808E | AV104: 78
A105: 수배전반 [양수장] | B105: HV-D3 제작 | C105: 면 | D105: 1 | E105: =TRUNC(일위대가목록!E100,0) -> 32781056 | F105: =TRUNC(E105*D105, 0) -> 32781056 | G105: =TRUNC(일위대가목록!F100,0) -> 0 | H105: =TRUNC(G105*D105, 0) -> 0 | I105: =TRUNC(일위대가목록!G100,0) -> 0 | J105: =TRUNC(I105*D105, 0) -> 0 | K105: =TRUNC(E105+G105+I105, 0) -> 32781056 | L105: =TRUNC(F105+H105+J105, 0) -> 32781056 | M105: 관급자재 | N105: 594334EB990E66AB7131540405873D | R105: T | S105: F | T105: F | AR105: 관급자재 | AU105: 010103594334EB990E66AB7131540405873D | AV105: 79
A106: 수배전반 [양수장] | B106: HV-D4 제작 | C106: 면 | D106: 1 | E106: =TRUNC(일위대가목록!E102,0) -> 23775846 | F106: =TRUNC(E106*D106, 0) -> 23775846 | G106: =TRUNC(일위대가목록!F102,0) -> 0 | H106: =TRUNC(G106*D106, 0) -> 0 | I106: =TRUNC(일위대가목록!G102,0) -> 0 | J106: =TRUNC(I106*D106, 0) -> 0 | K106: =TRUNC(E106+G106+I106, 0) -> 23775846 | L106: =TRUNC(F106+H106+J106, 0) -> 23775846 | M106: 관급자재 | N106: 594334EB990E66AB71315404058616 | R106: T | S106: F | T106: F | AR106: 관급자재 | AU106: 010103594334EB990E66AB71315404058616 | AV106: 80
A107: 수배전반 [양수장] | B107: HV-D5 제작 | C107: 면 | D107: 1 | E107: =TRUNC(일위대가목록!E104,0) -> 16696967 | F107: =TRUNC(E107*D107, 0) -> 16696967 | G107: =TRUNC(일위대가목록!F104,0) -> 0 | H107: =TRUNC(G107*D107, 0) -> 0 | I107: =TRUNC(일위대가목록!G104,0) -> 0 | J107: =TRUNC(I107*D107, 0) -> 0 | K107: =TRUNC(E107+G107+I107, 0) -> 16696967 | L107: =TRUNC(F107+H107+J107, 0) -> 16696967 | M107: 관급자재 | N107: 594334EB990E66AB71315404058570 | R107: T | S107: F | T107: F | AR107: 관급자재 | AU107: 010103594334EB990E66AB71315404058570 | AV107: 81
A108: 배전반설치 | B108: W800*H2350*D2000 | C108: 면 | D108: 6 | E108: =TRUNC(일위대가목록!E106,0) -> 37617 | F108: =TRUNC(E108*D108, 0) -> 225702 | G108: =TRUNC(일위대가목록!F106,0) -> 1880899 | H108: =TRUNC(G108*D108, 0) -> 11285394 | I108: =TRUNC(일위대가목록!G106,0) -> 0 | J108: =TRUNC(I108*D108, 0) -> 0 | K108: =TRUNC(E108+G108+I108, 0) -> 1918516 | L108: =TRUNC(F108+H108+J108, 0) -> 11511096 | M108: 관급자재 | N108: 594334EB990E66AB71315404058469 | R108: T | S108: F | T108: F | AR108: 관급자재 | AU108: 010103594334EB990E66AB71315404058469 | AV108: 82
A109: 분전반 | B109: LP-1 제작 | C109: 면 | D109: 1 | E109: =TRUNC(일위대가목록!E111,0) -> 1110548 | F109: =TRUNC(E109*D109, 0) -> 1110548 | G109: =TRUNC(일위대가목록!F111,0) -> 0 | H109: =TRUNC(G109*D109, 0) -> 0 | I109: =TRUNC(일위대가목록!G111,0) -> 0 | J109: =TRUNC(I109*D109, 0) -> 0 | K109: =TRUNC(E109+G109+I109, 0) -> 1110548 | L109: =TRUNC(F109+H109+J109, 0) -> 1110548 | M109: 호표 108 | N109: 594334EB990E66AB713154043558C8 | Q109: 010103 | R109: T | S109: F | T109: F | AU109: 010103594334EB990E66AB713154043558C8 | AV109: 83
A110: 노말밴드 | B110: PVC 36 C | C110: 개 | D110: 3 | E110: =TRUNC(단가대비표!O96,0) -> 1200 | F110: =TRUNC(E110*D110, 0) -> 3600 | G110: =TRUNC(단가대비표!P96,0) -> 0 | H110: =TRUNC(G110*D110, 0) -> 0 | I110: =TRUNC(단가대비표!V96,0) -> 0 | J110: =TRUNC(I110*D110, 0) -> 0 | K110: =TRUNC(E110+G110+I110, 0) -> 1200 | L110: =TRUNC(F110+H110+J110, 0) -> 3600 | N110: 5F39B4F6191BCC929E337411F59EB6173E37BD | Q110: 010103 | R110: F | S110: F | T110: T | AU110: 0101035F39B4F6191BCC929E337411F59EB6173E37BD | AV110: 84
A123: [ 합 계 ] | F123: =SUM(F77:F122) -F102-F103-F104-F105-F106-F107-F108 -> 5825338 | H123: =SUM(H77:H122) -H102-H103-H104-H105-H106-H107-H108 -> 10811710 | J123: =SUM(J77:J122) -J102-J103-J104-J105-J106-J107-J108 -> 1099 | L123: =SUM(L77:L122) -L102-L103-L104-L105-L106-L107-L108 -> 16638147 | N123: TOTAL
A124: 010104 전열설비공사 | B124: 전기공사 | Q124: 010104
A125: 합성수지제 가요전선관 | B125: CD 난연성 16㎜ | C125: M | D125: 30 | E125: =TRUNC(일위대가목록!E38,0) -> 522 | F125: =TRUNC(E125*D125, 0) -> 15660 | G125: =TRUNC(일위대가목록!F38,0) -> 10941 | H125: =TRUNC(G125*D125, 0) -> 328230 | I125: =TRUNC(일위대가목록!G38,0) -> 0 | J125: =TRUNC(I125*D125, 0) -> 0 | K125: =TRUNC(E125+G125+I125, 0) -> 11463 | L125: =TRUNC(F125+H125+J125, 0) -> 343890 | M125: 호표 35 | N125: 5853949F59EA5DA9123FC45CE5A360 | Q125: 010104 | R125: T | S125: F | T125: F | AU125: 0101045853949F59EA5DA9123FC45CE5A360 | AV125: 87
A126: 합성수지제 가요전선관 | B126: CD 난연성 28㎜ | C126: M | D126: 8 | E126: =TRUNC(일위대가목록!E39,0) -> 973 | F126: =TRUNC(E126*D126, 0) -> 7784 | G126: =TRUNC(일위대가목록!F39,0) -> 17506 | H126: =TRUNC(G126*D126, 0) -> 140048 | I126: =TRUNC(일위대가목록!G39,0) -> 0 | J126: =TRUNC(I126*D126, 0) -> 0 | K126: =TRUNC(E126+G126+I126, 0) -> 18479 | L126: =TRUNC(F126+H126+J126, 0) -> 147832 | M126: 호표 36 | N126: 5853949F59EA5DA9123FC45CE5A1B3 | Q126: 010104 | R126: T | S126: F | T126: F | AU126: 0101045853949F59EA5DA9123FC45CE5A1B3 | AV126: 88
A127: 저독성폴리올레핀절연전선(HFIX) 바닥 | B127: 4㎟(2.25㎜) | C127: M | D127: 100 | E127: =TRUNC(일위대가목록!E48,0) -> 965 | F127: =TRUNC(E127*D127, 0) -> 96500 | G127: =TRUNC(일위대가목록!F48,0) -> 2188 | H127: =TRUNC(G127*D127, 0) -> 218800 | I127: =TRUNC(일위대가목록!G48,0) -> 0 | J127: =TRUNC(I127*D127, 0) -> 0 | K127: =TRUNC(E127+G127+I127, 0) -> 3153 | L127: =TRUNC(F127+H127+J127, 0) -> 315300 | M127: 호표 45 | N127: 5853949F59D9EE73243A240335A9A5 | Q127: 010104 | R127: T | S127: F | T127: F | AU127: 0101045853949F59D9EE73243A240335A9A5 | AV127: 89
A128: 난연성 비닐절연 접지용전선 | B128: 0.6/1kV F-GV 4㎟ | C128: M | D128: 9 | E128: =TRUNC(일위대가목록!E50,0) -> 1293 | F128: =TRUNC(E128*D128, 0) -> 11637 | G128: =TRUNC(일위대가목록!F50,0) -> 2461 | H128: =TRUNC(G128*D128, 0) -> 22149 | I128: =TRUNC(일위대가목록!G50,0) -> 0 | J128: =TRUNC(I128*D128, 0) -> 0 | K128: =TRUNC(E128+G128+I128, 0) -> 3754 | L128: =TRUNC(F128+H128+J128, 0) -> 33786 | M128: 호표 47 | N128: 5853949F59D9EE50673F64F0852C4C | Q128: 010104 | R128: T | S128: F | T128: F | AU128: 0101045853949F59D9EE50673F64F0852C4C | AV128: 90
A129: 0.6/1kV가교폴리에틸렌(F-CV) 옥내 | B129: 2C 4㎟ | C129: M | D129: 9 | E129: =TRUNC(일위대가목록!E58,0) -> 2384 | F129: =TRUNC(E129*D129, 0) -> 21456 | G129: =TRUNC(일위대가목록!F58,0) -> 4858 | H129: =TRUNC(G129*D129, 0) -> 43722 | I129: =TRUNC(일위대가목록!G58,0) -> 0 | J129: =TRUNC(I129*D129, 0) -> 0 | K129: =TRUNC(E129+G129+I129, 0) -> 7242 | L129: =TRUNC(F129+H129+J129, 0) -> 65178 | M129: 호표 55 | N129: 5853949F59CF77FD0A3424D165E14B | Q129: 010104 | R129: T | S129: F | T129: F | AU129: 0101045853949F59CF77FD0A3424D165E14B | AV129: 91
A130: 콘센트 | B130: 매입-접지형, 16A 250V 1구 | C130: 개 | D130: 1 | E130: =TRUNC(일위대가목록!E84,0) -> 2437 | F130: =TRUNC(E130*D130, 0) -> 2437 | G130: =TRUNC(일위대가목록!F84,0) -> 21883 | H130: =TRUNC(G130*D130, 0) -> 21883 | I130: =TRUNC(일위대가목록!G84,0) -> 0 | J130: =TRUNC(I130*D130, 0) -> 0 | K130: =TRUNC(E130+G130+I130, 0) -> 24320 | L130: =TRUNC(F130+H130+J130, 0) -> 24320 | M130: 호표 81 | N130: 5853949F5966F1430031D46B95CC84 | Q130: 010104 | R130: T | S130: F | T130: F | AU130: 0101045853949F5966F1430031D46B95CC84 | AV130: 92
A131: 콘센트 | B131: 매입-접지형, 16A 250V 2구 | C131: 개 | D131: 5 | E131: =TRUNC(일위대가목록!E85,0) -> 2637 | F131: =TRUNC(E131*D131, 0) -> 13185 | G131: =TRUNC(일위대가목록!F85,0) -> 21883 | H131: =TRUNC(G131*D131, 0) -> 109415 | I131: =TRUNC(일위대가목록!G85,0) -> 0 | J131: =TRUNC(I131*D131, 0) -> 0 | K131: =TRUNC(E131+G131+I131, 0) -> 24520 | L131: =TRUNC(F131+H131+J131, 0) -> 122600 | M131: 호표 82 | N131: 5853949F5966F1430031D46B95CF58 | Q131: 010104 | R131: T | S131: F | T131: F | AU131: 0101045853949F5966F1430031D46B95CF58 | AV131: 93
A132: 스위치박스 | B132: 1 개용 54 mm | C132: 개 | D132: 3 | E132: =TRUNC(일위대가목록!E78,0) -> 1744 | F132: =TRUNC(E132*D132, 0) -> 5232 | G132: =TRUNC(일위대가목록!F78,0) -> 54707 | H132: =TRUNC(G132*D132, 0) -> 164121 | I132: =TRUNC(일위대가목록!G78,0) -> 0 | J132: =TRUNC(I132*D132, 0) -> 0 | K132: =TRUNC(E132+G132+I132, 0) -> 56451 | L132: =TRUNC(F132+H132+J132, 0) -> 169353 | M132: 호표 75 | N132: 5853949F5966F16FE534744095BF09 | Q132: 010104 | R132: T | S132: F | T132: F | AU132: 0101045853949F5966F16FE534744095BF09 | AV132: 94
A133: 스위치박스 | B133: 2 개용 54 mm | C133: 개 | D133: 3 | E133: =TRUNC(일위대가목록!E79,0) -> 2014 | F133: =TRUNC(E133*D133, 0) -> 6042 | G133: =TRUNC(일위대가목록!F79,0) -> 54707 | H133: =TRUNC(G133*D133, 0) -> 164121 | I133: =TRUNC(일위대가목록!G79,0) -> 0 | J133: =TRUNC(I133*D133, 0) -> 0 | K133: =TRUNC(E133+G133+I133, 0) -> 56721 | L133: =TRUNC(F133+H133+J133, 0) -> 170163 | M133: 호표 76 | N133: 5853949F5966F16FE534744095BE62 | Q133: 010104 | R133: T | S133: F | T133: F | AU133: 0101045853949F5966F16FE534744095BE62 | AV133: 95
A134: 풀박스 | B134: 150x150x100 | C134: 개 | D134: 1 | E134: =TRUNC(일위대가목록!E80,0) -> 4563 | F134: =TRUNC(E134*D134, 0) -> 4563 | G134: =TRUNC(일위대가목록!F80,0) -> 60178 | H134: =TRUNC(G134*D134, 0) -> 60178 | I134: =TRUNC(일위대가목록!G80,0) -> 0 | J134: =TRUNC(I134*D134, 0) -> 0 | K134: =TRUNC(E134+G134+I134, 0) -> 64741 | L134: =TRUNC(F134+H134+J134, 0) -> 64741 | M134: 호표 77 | N134: 5853949F5966F16FE53514AEC5F970 | Q134: 010104 | R134: T | S134: F | T134: F | AU134: 0101045853949F5966F16FE53514AEC5F970 | AV134: 96
A135: 스위치박스 커버 | B135: 4각, 2개용 오목 | C135: 개 | D135: 3 | E135: =TRUNC(단가대비표!O53,0) -> 400 | F135: =TRUNC(E135*D135, 0) -> 1200 | G135: =TRUNC(단가대비표!P53,0) -> 0 | H135: =TRUNC(G135*D135, 0) -> 0 | I135: =TRUNC(단가대비표!V53,0) -> 0 | J135: =TRUNC(I135*D135, 0) -> 0 | K135: =TRUNC(E135+G135+I135, 0) -> 400 | L135: =TRUNC(F135+H135+J135, 0) -> 1200 | N135: 5F39B4F619096C87F03E44B08505CE8A24B4D1 | Q135: 010104 | R135: F | S135: F | T135: T | AU135: 0101045F39B4F619096C87F03E44B08505CE8A24B4D1 | AV135: 97
A147: [ 합 계 ] | F147: =SUM(F125:F146) -> 185696 | H147: =SUM(H125:H146) -> 1272667 | J147: =SUM(J125:J146) -> 0 | L147: =SUM(L125:L146) -> 1458363 | N147: TOTAL
...

Sheet 일위대가목록
A1: 일 위 대 가 목 록
A2: [ 확장양수장 신설사업 전기공사 ]
A3: 코 드 | B3: 품 명 | C3: 규 격 | D3: 단위 | E3: 재 료 비 | F3: 노 무 비 | G3: 경 비 | H3: 합 계 | I3: 번 호 | J3: 비 고 | K3: 노임계수 | L3: 할증 | M3: 품셈개요 | N3: 장비일위
A4: 5F0DE4D349137D85CA31548175F9693D1F9CEBD5 | B4: 굴삭기(무한궤도) | C4: 0.2㎥ | D4: HR | E4: =일위대가!F9 -> 8415 | F4: =일위대가!H9 -> 58296 | G4: =일위대가!J9 -> 13399 | H4: =E4+F4+G4 -> 80110 | I4: 호표 1 | K4: A | M4: 공통 8-3,4(0201) | N4: T
A5: 5F0DE4D349137D85CA31548175FC3D9BB8A49863 | B5: 굴삭기(무한궤도) | C5: 0.7㎥ | D5: HR | E5: =일위대가!F16 -> 19685 | F5: =일위대가!H16 -> 58296 | G5: =일위대가!J16 -> 24001 | H5: =E5+F5+G5 -> 101982 | I5: 호표 2 | K5: A | M5: 토목 11-3.4 | N5: T
A6: 5F0DE4D349137D85D436145935DA6475B51D0C46 | B6: 굴삭기(타이어) | C6: 0.18㎥ | D6: HR | E6: =일위대가!F23 -> 9659 | F6: =일위대가!H23 -> 58296 | G6: =일위대가!J23 -> 15517 | H6: =E6+F6+G6 -> 83472 | I6: 호표 3 | K6: A | M6: 공통 8-3,4(0211) | N6: T
A7: 5F0DE4D349136300CF3ED45CD5AE840C2CCC73DC | B7: 진동 롤러(핸드가이드식) | C7: 0.7ton | D7: HR | E7: =일위대가!F30 -> 3458 | F7: =일위대가!H30 -> 35913 | G7: =일위대가!J30 -> 1902 | H7: =E7+F7+G7 -> 41273 | I7: 호표 4 | K7: A | M7: 토목 11-9.4 | N7: T
A8: 5F0DE4D349136358DE3EA42EA5546B8677A52E2B | B8: 래머 | C8: 80kg | D8: HR | E8: =일위대가!F37 -> 1161 | F8: =일위대가!H37 -> 35913 | G8: =일위대가!J37 -> 507 | H8: =E8+F8+G8 -> 37581 | I8: 호표 5 | K8: A | M8: 공통 8-3,4(1630) | N8: T
A9: 5F0DE4D3491352CEF63CD4FD15B662FFEEC1AD5B | B9: 크레인(타이어) | C9: 10톤 | D9: HR | E9: =일위대가!F44 -> 7347 | F9: =일위대가!H44 -> 58296 | G9: =일위대가!J44 -> 30793 | H9: =E9+F9+G9 -> 96436 | I9: 호표 6 | K9: A | M9: 공통 8-3,4(2104) | N9: T
A10: 5F546497C900DCEBAE3B548495A4A1 | B10: 외등기초(4M이하) | C10: 400*600*600 | D10: 개소 | E10: =일위대가!F56 -> 101325 | F10: =일위대가!H56 -> 111524 | G10: =일위대가!J56 -> 6724 | H10: =E10+F10+G10 -> 219573 | I10: 호표 7 | M10: 전기 5-27-1
A11: 5F546497C900DCEBAE3B54848599DD | B11: 수.배전반 PAD | C11: 800x2200x100 | D11: 개소 | E11: =일위대가!F66 -> 46236 | F11: =일위대가!H66 -> 103379 | G11: =일위대가!J66 -> 1099 | H11: =E11+F11+G11 -> 150714 | I11: 호표 8
A12: 5F546497C900DCEBAE3B5484859831 | B12: 분전반 PAD | C12: 1000x400x300 | D12: 개소 | E12: =일위대가!F76 -> 32097 | F12: =일위대가!H76 -> 85567 | G12: =일위대가!J76 -> 587 | H12: =E12+F12+G12 -> 118251 | I12: 호표 9
A13: 5F546497C900DCEBF63AC47A857676 | B13: 6/10kV고압가교폴리에틸렌(F-CV) | C13: 1C 50㎟(3열) | D13: M | E13: =일위대가!F85 -> 12835 | F13: =일위대가!H85 -> 3421 | G13: =일위대가!J85 -> 0 | H13: =E13+F13+G13 -> 16256 | I13: 호표 10 | M13: 전기 4-34
A14: 5F546497C900DCEBF63AC468250D8F | B14: 6/10kV고압가교폴리에틸렌(F-CV) | C14: 3C 25㎟ | D14: M | E14: =일위대가!F94 -> 25899 | F14: =일위대가!H94 -> 6562 | G14: =일위대가!J94 -> 0 | H14: =E14+F14+G14 -> 32461 | I14: 호표 11 | M14: 전기 4-34
A15: 5F546497C900DCEBDB3D0496E547FD | B15: 0.6/1kV제어용난연(F-CVV-SB) | C15: 2C 1.5㎟ | D15: M | E15: =일위대가!F102 -> 2233 | F15: =일위대가!H102 -> 5101 | G15: =일위대가!J102 -> 0 | H15: =E15+F15+G15 -> 7334 | I15: 호표 12 | M15: 전기 5-13
A16: 5F546497C900DCEBDB3D0496650F0F | B16: 0.6/1kV제어용난연(F-CVV-SB) | C16: 20C 1.5㎟ | D16: M | E16: =일위대가!F110 -> 9770 | F16: =일위대가!H110 -> 26962 | G16: =일위대가!J110 -> 0 | H16: =E16+F16+G16 -> 36732 | I16: 호표 13 | M16: 전기 5-13
A17: 5F546497C900DCEB3B3AD4C2B595A3 | B17: 케이블 단말접속자재 | C17: 자기수축,6.9kV 1Cx60 ㎟ | D17: KIT | E17: =일위대가!F116 -> 61663 | F17: =일위대가!H116 -> 264827 | G17: =일위대가!J116 -> 0 | H17: =E17+F17+G17 -> 326490 | I17: 호표 14 | M17: 전기 4-37
A18: 5F546497C900DCEB3B3BE47F85F105 | B18: 러그단자(전력용)-1C | C18: 동관단자 2 HOLE 35 ㎟ | D18: 개 | E18: =일위대가!F122 -> 1997 | F18: =일위대가!H122 -> 39350 | G18: =일위대가!J122 -> 0 | H18: =E18+F18+G18 -> 41347 | I18: 호표 15 | M18: 전기 4-37
A19: 5F546497C900DCEB3B3BE431D5687B | B19: 압착단자(접지용) | C19: R형동선 나압착 16 ㎟ | D19: 개 | E19: =일위대가!F128 -> 643 | F19: =일위대가!H128 -> 22156 | G19: =일위대가!J128 -> 0 | H19: =E19+F19+G19 -> 22799 | I19: 호표 16 | M19: 전기 3-38
A20: 5F546497C900DCEB3B3BE431D56E9C | B20: 압착단자(전력용)-1C | C20: R형동선 나압착 25 ㎟ | D20: 개 | E20: =일위대가!F134 -> 981 | F20: =일위대가!H134 -> 36071 | G20: =일위대가!J134 -> 0 | H20: =E20+F20+G20 -> 37052 | I20: 호표 17 | M20: 전기 4-37
A21: 5F546497C900DCF447328478750AB4 | B21: RACEWAY 지지행거 70 * 40 | C21: A형 | D21: 개소 | E21: =일위대가!F142 -> 2445 | F21: =일위대가!H142 -> 14771 | G21: =일위대가!J142 -> 0 | H21: =E21+F21+G21 -> 17216 | I21: 호표 18 | M21: 전기 5-29
A22: 5F546497C900DCF45136B4E585DA79 | B22: 트레이,덕트지지대-벽체or바닥 | C22: W300 | D22: 개소 | E22: =일위대가!F151 -> 4422 | F22: =일위대가!H151 -> 19694 | G22: =일위대가!J151 -> 0 | H22: =E22+F22+G22 -> 24116 | I22: 호표 19 | M22: 전기 5-29
A23: 5F546497C900DCD94E36344E458D92 | B23: 분전반설치비 | D23: 면 | E23: =일위대가!F157 -> 6729 | F23: =일위대가!H157 -> 336452 | G23: =일위대가!J157 -> 0 | H23: =E23+F23+G23 -> 343181 | I23: 호표 20 | M23: 전기 5-4
A24: 5F546497C900DCD94E36344E458D91 | B24: 자립형 분전반설치비 | D24: 면 | E24: =일위대가!F164 -> 30328 | F24: =일위대가!H164 -> 1516415 | G24: =일위대가!J164 -> 0 | H24: =E24+F24+G24 -> 1546743 | I24: 호표 21 | M24: 전기 3-33
A25: 581A341D89B3D0DD7E38E4D8252150 | B25: 터파기(기계100%) | C25: 보통토사 | D25: ㎥ | E25: =일위대가!F168 -> 245 | F25: =일위대가!H168 -> 755 | G25: =일위대가!J168 -> 304 | H25: =E25+F25+G25 -> 1304 | I25: 호표 22
A26: 581A341D89B3D0DD7E38E4D835C899 | B26: 되메우기(기계100%) | C26: 보통토사 | D26: ㎥ | E26: =일위대가!F172 -> 677 | F26: =일위대가!H172 -> 10574 | G26: =일위대가!J172 -> 576 | H26: =E26+F26+G26 -> 11827 | I26: 호표 23
A27: 581A341D89B3D0A0343B04ACB53195 | B27: 터파기(기계90%,인력10%) | C27: 보통토사 | D27: ㎥ | E27: =일위대가!F177 -> 276 | F27: =일위대가!H177 -> 2764 | G27: =일위대가!J177 -> 342 | H27: =E27+F27+G27 -> 3382 | I27: 호표 24
A28: 581A341D89B3D0A0343B04ACA52AA3 | B28: 되메우기(기계90%,인력10%) | C28: 보통토사 | D28: ㎥ | E28: =일위대가!F182 -> 609 | F28: =일위대가!H182 -> 11815 | G28: =일위대가!J182 -> 518 | H28: =E28+F28+G28 -> 12942 | I28: 호표 25
A29: 581A341D89B3C666A03404F1B569EF | B29: 인력터파기 | C29: 보통토사0∼1m | D29: ㎥ | E29: =일위대가!F186 -> 0 | F29: =일위대가!H186 -> 19153 | G29: =일위대가!J186 -> 0 | H29: =E29+F29+G29 -> 19153 | I29: 호표 26 | M29: 토목 3-1-2
A30: 581A341BD9CBA5DF8334A45F252ECE | B30: 인력되메우기 | C30: 보통토사 | D30: ㎥ | E30: =일위대가!F190 -> 0 | F30: =일위대가!H190 -> 22984 | G30: =일위대가!J190 -> 0 | H30: =E30+F30+G30 -> 22984 | I30: 호표 27 | J30: 19년3-3-1포함 | M30: 토목 3-2-1
A31: 581A341BD9CBA591C93ED48B955BBC | B31: 현장내잔토처리 | C31: 소운반.고르기 | D31: ㎥ | E31: =일위대가!F194 -> 0 | F31: =일위대가!H194 -> 19153 | G31: =일위대가!J194 -> 0 | H31: =E31+F31+G31 -> 19153 | I31: 호표 28 | M31: 토목 3-1-2
A32: 581A24390965D8B0C432F4376530EF | B32: 잡석깔기지정 | C32: 장비, 백호0.2m3+진동롤러(핸드가이드식) | D32: M3 | E32: =일위대가!F199 -> 886 | F32: =일위대가!H199 -> 7169 | G32: =일위대가!J199 -> 1101 | H32: =E32+F32+G32 -> 9156 | I32: 호표 29 | M32: 토목 5-1-1(2)
A33: 581A24390965D8B0C430C457B5B8C4 | B33: 잡석깔기지정 | D33: ㎥ | E33: =일위대가!F205 -> 29886 | F33: =일위대가!H205 -> 8892 | G33: =일위대가!J205 -> 1101 | H33: =E33+F33+G33 -> 39879 | I33: 호표 30 | M33: 토목 5-1-1(2)
A34: 581A546C496D8504673174AF9539AB | B34: 합판거푸집(보통) | C34: 4회 | D34: ㎡ | E34: =일위대가!F215 -> 13811 | F34: =일위대가!H215 -> 30099 | G34: =일위대가!J215 -> 300 | H34: =E34+F34+G34 -> 44210 | I34: 호표 31 | M34: 건축6-3-1
A35: 581A546F19C679BE1534741BB59DE3 | B35: 와이어메시바닥깔기 | C35: #10-150*150 | D35: ㎡ | E35: =일위대가!F221 -> 596 | F35: =일위대가!H221 -> 1346 | G35: =일위대가!J221 -> 0 | H35: =E35+F35+G35 -> 1942 | I35: 호표 32 | M35: 건축8-1-3
A36: 581A546BB9E61775C03384755505DB | B36: 콘크리트인력비빔타설 | C36: 배합비1:2 | D36: ㎥ | E36: =일위대가!F228 -> 146800 | F36: =일위대가!H228 -> 308933 | G36: =일위대가!J228 -> 0 | H36: =E36+F36+G36 -> 455733 | I36: 호표 33 | M36: 건축6-1-2,9-1-1
A37: 5853949F59EA5D98A33C6477251975 | B37: 경질비닐전선관 | C37: HI 36 mm | D37: M | E37: =일위대가!F237 -> 1970 | F37: =일위대가!H237 -> 27353 | G37: =일위대가!J237 -> 0 | H37: =E37+F37+G37 -> 29323 | I37: 호표 34 | M37: 전기 5-1
A38: 5853949F59EA5DA9123FC45CE5A360 | B38: 합성수지제 가요전선관 | C38: CD 난연성 16㎜ | D38: M | E38: =일위대가!F246 -> 522 | F38: =일위대가!H246 -> 10941 | G38: =일위대가!J246 -> 0 | H38: =E38+F38+G38 -> 11463 | I38: 호표 35 | M38: 전기 5-1
A39: 5853949F59EA5DA9123FC45CE5A1B3 | B39: 합성수지제 가요전선관 | C39: CD 난연성 28㎜ | D39: M | E39: =일위대가!F255 -> 973 | F39: =일위대가!H255 -> 17506 | G39: =일위대가!J255 -> 0 | H39: =E39+F39+G39 -> 18479 | I39: 호표 36 | M39: 전기 5-1
A40: 5853949F59EA5DD6583F24CAB51672 | B40: 1종금속제가요전선관 | C40: 16 mm 비방수 | D40: M | E40: =일위대가!F263 -> 920 | F40: =일위대가!H263 -> 14442 | G40: =일위대가!J263 -> 0 | H40: =E40+F40+G40 -> 15362 | I40: 호표 37 | M40: 전기 5-1
A41: 5853949F59EA5DD658398434652D23 | B41: 1종금속제가요전선관 | C41: 비닐피복, 28 mm 방수 | D41: M | E41: =일위대가!F271 -> 2656 | F41: =일위대가!H271 -> 23633 | G41: =일위대가!J271 -> 0 | H41: =E41+F41+G41 -> 26289 | I41: 호표 38 | M41: 전기 5-1
A42: 5853949F59EA5DD6583984346528A1 | B42: 1종금속제가요전선관 | C42: 비닐피복, 54 mm 방수 | D42: M | E42: =일위대가!F279 -> 6302 | F42: =일위대가!H279 -> 44641 | G42: =일위대가!J279 -> 0 | H42: =E42+F42+G42 -> 50943 | I42: 호표 39 | M42: 전기 5-1
A43: 5853949F59EA5DF13638840EE550A2 | B43: 파상형 경질폴리에틸렌 전선관 | C43: 30㎜ | D43: M | E43: =일위대가!F288 -> 454 | F43: =일위대가!H288 -> 3819 | G43: =일위대가!J288 -> 0 | H43: =E43+F43+G43 -> 4273 | I43: 호표 40 | M43: 전기 4-31
A44: 5853949F59EA5DF13638840EE55376 | B44: 파상형 경질폴리에틸렌 전선관 | C44: 40㎜ | D44: M | E44: =일위대가!F297 -> 669 | F44: =일위대가!H297 -> 4616 | G44: =일위대가!J297 -> 0 | H44: =E44+F44+G44 -> 5285 | I44: 호표 41 | M44: 전기 4-31
A45: 5853949F59EA5DF13638840EE5526F | B45: 파상형 경질폴리에틸렌 전선관 | C45: 50㎜ | D45: M | E45: =일위대가!F306 -> 858 | F45: =일위대가!H306 -> 4616 | G45: =일위대가!J306 -> 0 | H45: =E45+F45+G45 -> 5474 | I45: 호표 42 | M45: 전기 4-31
A46: 5853949F59EA5DF13638840EE55524 | B46: 파상형 경질폴리에틸렌 전선관 | C46: 65㎜ | D46: M | E46: =일위대가!F315 -> 1261 | F46: =일위대가!H315 -> 5825 | G46: =일위대가!J315 -> 0 | H46: =E46+F46+G46 -> 7086 | I46: 호표 43 | M46: 전기 4-31
A47: 5853949F59EA5DF13638840EE5541D | B47: 파상형 경질폴리에틸렌 전선관 | C47: 80㎜ | D47: M | E47: =일위대가!F324 -> 1639 | F47: =일위대가!H324 -> 5825 | G47: =일위대가!J324 -> 0 | H47: =E47+F47+G47 -> 7464 | I47: 호표 44 | M47: 전기 4-31
A48: 5853949F59D9EE73243A240335A9A5 | B48: 저독성폴리올레핀절연전선(HFIX) 바닥 | C48: 4㎟(2.25㎜) | D48: M | E48: =일위대가!F332 -> 965 | F48: =일위대가!H332 -> 2188 | G48: =일위대가!J332 -> 0 | H48: =E48+F48+G48 -> 3153 | I48: 호표 45 | M48: 전기 5-10
A49: 5853949F59D9EE73243A240335AB53 | B49: 저독성폴리올레핀절연전선(HFIX) | C49: 2.5㎟(1.78㎜) | D49: M | E49: =일위대가!F340 -> 631 | F49: =일위대가!H340 -> 2735 | G49: =일위대가!J340 -> 0 | H49: =E49+F49+G49 -> 3366 | I49: 호표 46 | M49: 전기 5-10
A50: 5853949F59D9EE50673F64F0852C4C | B50: 난연성 비닐절연 접지용전선 | C50: 0.6/1kV F-GV 4㎟ | D50: M | E50: =일위대가!F348 -> 1293 | F50: =일위대가!H348 -> 2461 | G50: =일위대가!J348 -> 0 | H50: =E50+F50+G50 -> 3754 | I50: 호표 47 | M50: 전기 3-38
A51: 5853949F59D9EE50673F64F0852D52 | B51: 난연성 비닐절연 접지용전선 | C51: 0.6/1kV F-GV 6㎟ | D51: M | E51: =일위대가!F356 -> 1464 | F51: =일위대가!H356 -> 2461 | G51: =일위대가!J356 -> 0 | H51: =E51+F51+G51 -> 3925 | I51: 호표 48 | M51: 전기 3-38
A52: 5853949F59D9EE50673F64F0852BA5 | B52: 난연성 비닐절연 접지용전선 | C52: 0.6/1kV F-GV 16㎟ | D52: M | E52: =일위대가!F364 -> 3315 | F52: =일위대가!H364 -> 2872 | G52: =일위대가!J364 -> 0 | H52: =E52+F52+G52 -> 6187 | I52: 호표 49 | M52: 전기 3-38
A53: 5853949F59D9EE50673F64F0852623 | B53: 난연성 비닐절연 접지용전선 | C53: 0.6/1kV F-GV 50㎟ | D53: M | E53: =일위대가!F372 -> 9671 | F53: =일위대가!H372 -> 3282 | G53: =일위대가!J372 -> 0 | H53: =E53+F53+G53 -> 12953 | I53: 호표 50 | M53: 전기 3-38
A54: 5853949F59CF77FD0A36D4AA85D04E | B54: 0.6/1kV가교폴리에틸렌(F-CV) 옥외 | C54: 2C 6㎟ | D54: M | E54: =일위대가!F381 -> 3087 | F54: =일위대가!H381 -> 2556 | G54: =일위대가!J381 -> 0 | H54: =E54+F54+G54 -> 5643 | I54: 호표 51 | M54: 전기 4-34
A55: 5853949F59CF77FD0A36D4AAE57E14 | B55: 0.6/1kV가교폴리에틸렌(F-CV) 옥외 | C55: 3C 4㎟ | D55: M | E55: =일위대가!F390 -> 3045 | F55: =일위대가!H390 -> 3674 | G55: =일위대가!J390 -> 0 | H55: =E55+F55+G55 -> 6719 | I55: 호표 52 | M55: 전기 4-34
A56: 5853949F59CF77FD0A36D4AAC54B97 | B56: 0.6/1kV가교폴리에틸렌(F-CV) 옥외 | C56: 4C 6㎟ | D56: M | E56: =일위대가!F399 -> 5378 | F56: =일위대가!H399 -> 4792 | G56: =일위대가!J399 -> 0 | H56: =E56+F56+G56 -> 10170 | I56: 호표 53 | M56: 전기 4-34
A57: 5853949F59CF77FD0A36D4AAC5473C | B57: 0.6/1kV가교폴리에틸렌(F-CV) 옥외 | C57: 4C 35㎟ | D57: M | E57: =일위대가!F408 -> 27936 | F57: =일위대가!H408 -> 6829 | G57: =일위대가!J408 -> 0 | H57: =E57+F57+G57 -> 34765 | I57: 호표 54 | M57: 전기 4-34
A58: 5853949F59CF77FD0A3424D165E14B | B58: 0.6/1kV가교폴리에틸렌(F-CV) 옥내 | C58: 2C 4㎟ | D58: M | E58: =일위대가!F416 -> 2384 | F58: =일위대가!H416 -> 4858 | G58: =일위대가!J416 -> 0 | H58: =E58+F58+G58 -> 7242 | I58: 호표 55 | M58: 전기 5-13
A59: 5853949F59CF77FD0A3424D165E6CD | B59: 0.6/1kV가교폴리에틸렌(F-CV) 옥내 | C59: 2C 6㎟ | D59: M | E59: =일위대가!F424 -> 3203 | F59: =일위대가!H424 -> 5465 | G59: =일위대가!J424 -> 0 | H59: =E59+F59+G59 -> 8668 | I59: 호표 56 | M59: 전기 5-13
A60: 5853949F59CF77FD0A35344085BAA3 | B60: 0.6/1kV가교폴리에틸렌(F-CV) 옥내 | C60: 3C 4㎟ | D60: M | E60: =일위대가!F432 -> 3162 | F60: =일위대가!H432 -> 6679 | G60: =일위대가!J432 -> 0 | H60: =E60+F60+G60 -> 9841 | I60: 호표 57 | M60: 전기 5-13
A61: 5853949F59CF77FD0A3274FBA5DD7D | B61: 0.6/1kV가교폴리에틸렌(F-CV) 옥내 | C61: 4C 6㎟ | D61: M | E61: =일위대가!F440 -> 5589 | F61: =일위대가!H440 -> 10323 | G61: =일위대가!J440 -> 0 | H61: =E61+F61+G61 -> 15912 | I61: 호표 58 | M61: 전기 5-13
A62: 5853949F59CF77FD0A3274FBA5D14C | B62: 0.6/1kV가교폴리에틸렌(F-CV) 옥내 | C62: 4C 35㎟ | D62: M | E62: =일위대가!F448 -> 28897 | F62: =일위대가!H448 -> 28419 | G62: =일위대가!J448 -> 0 | H62: =E62+F62+G62 -> 57316 | I62: 호표 59 | M62: 전기 5-11
A63: 5853949F59BD053A1531C499353EA2 | B63: CABLE DUCT COVER(전기) - 철거후재사용 | C63: W800x100H | D63: M | E63: =일위대가!F454 -> 945 | F63: =일위대가!H454 -> 47267 | G63: =일위대가!J454 -> 0 | H63: =E63+F63+G63 -> 48212 | I63: 호표 60 | M63: 전기 5-8(180%)
A64: 5853949F59BD053A153494C6B5E579 | B64: 덕트형 케이블트레이 | C64: DUCT, W 300 | D64: M | E64: =일위대가!F461 -> 35316 | F64: =일위대가!H461 -> 136769 | G64: =일위대가!J461 -> 0 | H64: =E64+F64+G64 -> 172085 | I64: 호표 61 | M64: 전기 5-7
A65: 5853949F59BD053A153494C6A5DC5A | B65: 덕트형 케이블트레이부속품 | C65: HOR. ELBOW, W 300 | D65: 개 | E65: =일위대가!F467 -> 32965 | F65: =일위대가!H467 -> 136769 | G65: =일위대가!J467 -> 0 | H65: =E65+F65+G65 -> 169734 | I65: 호표 62 | M65: 전기 5-7
A66: 5853949F59ACA06A753834F285D7FF | B66: 접지봉 | C66: 14Φ×1000 mm | D66: 개 | E66: =일위대가!F474 -> 4073 | F66: =일위대가!H474 -> 37750 | G66: =일위대가!J474 -> 0 | H66: =E66+F66+G66 -> 41823 | I66: 호표 63 | M66: 전기 3-38
A67: 5853949F59ACA058043E546E051B5B | B67: 전기맨홀 | C67: 1000x1000x1000 | D67: 개소 | E67: =일위대가!F495 -> 629088 | F67: =일위대가!H495 -> 784111 | G67: =일위대가!J495 -> 72657 | H67: =E67+F67+G67 -> 1485856 | I67: 호표 64 | M67: 전기 4-43-3,4-38
A68: 5853949F59ACA02CC83B2431455237 | B68: 관로구방수 | C68: D 30 | D68: 개소 | E68: =일위대가!F505 -> 36611 | F68: =일위대가!H505 -> 52720 | G68: =일위대가!J505 -> 0 | H68: =E68+F68+G68 -> 89331 | I68: 호표 65 | M68: 전기 2-18
A69: 5853949F59ACA02CC83B2431455110 | B69: 관로구방수 | C69: D 50 | D69: 개소 | E69: =일위대가!F515 -> 40411 | F69: =일위대가!H515 -> 52720 | G69: =일위대가!J515 -> 0 | H69: =E69+F69+G69 -> 93131 | I69: 호표 66 | M69: 전기 2-18
A70: 5853949F59ACA02CC83B2431455009 | B70: 관로구방수 | C70: D 65 | D70: 개소 | E70: =일위대가!F525 -> 44041 | F70: =일위대가!H525 -> 52720 | G70: =일위대가!J525 -> 0 | H70: =E70+F70+G70 -> 96761 | I70: 호표 67 | M70: 전기 2-18
A71: 5853949F59ACA02CC83B24314557B8 | B71: 관로구방수 | C71: D 80 | D71: 개소 | E71: =일위대가!F535 -> 45961 | F71: =일위대가!H535 -> 52720 | G71: =일위대가!J535 -> 0 | H71: =E71+F71+G71 -> 98681 | I71: 호표 68 | M71: 전기 2-18
A72: 5853949F59ACA02CC83A14C235A3BC | B72: 경고 테이프(저압용) | C72: 200*250 | D72: M | E72: =일위대가!F542 -> 206 | F72: =일위대가!H542 -> 247 | G72: =일위대가!J542 -> 0 | H72: =E72+F72+G72 -> 453 | I72: 호표 69 | M72: 전기 4-45
A73: 5853949F59ACA02CC83A14C235A0E8 | B73: 경고 테이프(고압용) | C73: 200*250 | D73: M | E73: =일위대가!F549 -> 207 | F73: =일위대가!H549 -> 282 | G73: =일위대가!J549 -> 0 | H73: =E73+F73+G73 -> 489 | I73: 호표 70 | M73: 전기 4-45
A74: 5853949F59ACA02CC83A14C205EFF5 | B74: 지중선용 가선철물 | C74: 지중선로표시기, 전규격 | D74: EA | E74: =일위대가!F556 -> 5943 | F74: =일위대가!H556 -> 27194 | G74: =일위대가!J556 -> 0 | H74: =E74+F74+G74 -> 33137 | I74: 호표 71 | M74: 전기 4-46
A75: 5853949F59ACA02CC83DD40A85728A | B75: 가로등 방수접속함 | C75: 누전차단기내장 | D75: 개 | E75: =일위대가!F562 -> 45930 | F75: =일위대가!H562 -> 46501 | G75: =일위대가!J562 -> 0 | H75: =E75+F75+G75 -> 92431 | I75: 호표 72 | M75: 전기 5-4
A76: 5853949F5966F16FE5347440859E88 | B76: 아우트렛박스 | C76: 8각 54㎜ | D76: 개 | E76: =일위대가!F568 -> 1283 | F76: =일위대가!H568 -> 32824 | G76: =일위대가!J568 -> 0 | H76: =E76+F76+G76 -> 34107 | I76: 호표 73 | M76: 전기 5-3
A77: 5853949F5966F16FE5347440859FAF | B77: 아우트렛박스 | C77: 중형4각 54㎜ | D77: 개 | E77: =일위대가!F574 -> 1387 | F77: =일위대가!H574 -> 32824 | G77: =일위대가!J574 -> 0 | H77: =E77+F77+G77 -> 34211 | I77: 호표 74 | M77: 전기 5-3
A78: 5853949F5966F16FE534744095BF09 | B78: 스위치박스 | C78: 1 개용 54 mm | D78: 개 | E78: =일위대가!F580 -> 1744 | F78: =일위대가!H580 -> 54707 | G78: =일위대가!J580 -> 0 | H78: =E78+F78+G78 -> 56451 | I78: 호표 75 | M78: 전기 5-3
A79: 5853949F5966F16FE534744095BE62 | B79: 스위치박스 | C79: 2 개용 54 mm | D79: 개 | E79: =일위대가!F586 -> 2014 | F79: =일위대가!H586 -> 54707 | G79: =일위대가!J586 -> 0 | H79: =E79+F79+G79 -> 56721 | I79: 호표 76 | M79: 전기 5-3
A80: 5853949F5966F16FE53514AEC5F970 | B80: 풀박스 | C80: 150x150x100 | D80: 개 | E80: =일위대가!F592 -> 4563 | F80: =일위대가!H592 -> 60178 | G80: =일위대가!J592 -> 0 | H80: =E80+F80+G80 -> 64741 | I80: 호표 77 | M80: 전기 5-4
A81: 5853949F5966F16FE53514AEC5F595 | B81: 풀박스 | C81: 200x200x200 | D81: 개 | E81: =일위대가!F598 -> 8303 | F81: =일위대가!H598 -> 60178 | G81: =일위대가!J598 -> 0 | H81: =E81+F81+G81 -> 68481 | I81: 호표 78 | M81: 전기 5-4
A82: 5853949F5966F15D743AA4AD555392 | B82: 배선용 차단기 | C82: 4P 460V 125AF | D82: 대 | E82: =일위대가!F604 -> 132642 | F82: =일위대가!H604 -> 167132 | G82: =일위대가!J604 -> 0 | H82: =E82+F82+G82 -> 299774 | I82: 호표 79 | M82: 전기 5-19
A83: 5853949F5966F1430031D474355103 | B83: 단로 스위치 | C83: 2구 | D83: 개 | E83: =일위대가!F610 -> 3285 | F83: =일위대가!H610 -> 23250 | G83: =일위대가!J610 -> 0 | H83: =E83+F83+G83 -> 26535 | I83: 호표 80 | M83: 전기 5-23(2)
A84: 5853949F5966F1430031D46B95CC84 | B84: 콘센트 | C84: 매입-접지형, 16A 250V 1구 | D84: 개 | E84: =일위대가!F616 -> 2437 | F84: =일위대가!H616 -> 21883 | G84: =일위대가!J616 -> 0 | H84: =E84+F84+G84 -> 24320 | I84: 호표 81 | M84: 전기 5-23(1)
A85: 5853949F5966F1430031D46B95CF58 | B85: 콘센트 | C85: 매입-접지형, 16A 250V 2구 | D85: 개 | E85: =일위대가!F622 -> 2637 | F85: =일위대가!H622 -> 21883 | G85: =일위대가!J622 -> 0 | H85: =E85+F85+G85 -> 24520 | I85: 호표 82 | M85: 전기 5-23(1)
A86: 5853949D995935AC4231B4E1259E75 | B86: 레이스웨이 | C86: BODY, 70 x 40 | D86: M | E86: =일위대가!F629 -> 5001 | F86: =일위대가!H629 -> 82061 | G86: =일위대가!J629 -> 0 | H86: =E86+F86+G86 -> 87062 | I86: 호표 83 | M86: 전기 5-9-1
A87: 5853745A89B978AF5C37B423C5B181 | B87: 레이스웨이 부속품 | C87: JOINT BOX, W70 x H40 | D87: 개 | E87: =일위대가!F635 -> 1618 | F87: =일위대가!H635 -> 10941 | G87: =일위대가!J635 -> 0 | H87: =E87+F87+G87 -> 12559 | I87: 호표 84 | M87: 전기 5-3
A88: 5853745A89B978AF7F34A46455F889 | B88: 레이스웨이 부속품 | C88: JOINT BOX,3방, W70 x H40 | D88: 개 | E88: =일위대가!F641 -> 4298 | F88: =일위대가!H641 -> 10941 | G88: =일위대가!J641 -> 0 | H88: =E88+F88+G88 -> 15239 | I88: 호표 85 | M88: 전기 5-3
A89: 594324C489723668933D541FA5E64D | B89: 조명기구 "A" 매입등 | C89: LED 40W | D89: 조 | E89: =일위대가!F647 -> 101438 | F89: =일위대가!H647 -> 71940 | G89: =일위대가!J647 -> 0 | H89: =E89+F89+G89 -> 173378 | I89: 호표 86 | M89: 전기 5-25-3
A90: 594324C489723668933D541FA5E5A6 | B90: 조명기구 "B" R.W | C90: LED 20W | D90: 조 | E90: =일위대가!F653 -> 80754 | F90: =일위대가!H653 -> 37748 | G90: =일위대가!J653 -> 0 | H90: =E90+F90+G90 -> 118502 | I90: 호표 87 | M90: 전기 5-25-3
A91: 594324C489723668933D541FA5E480 | B91: 조명기구 "C" 직부등 | C91: LED 15W | D91: 조 | E91: =일위대가!F659 -> 47640 | F91: =일위대가!H659 -> 32004 | G91: =일위대가!J659 -> 0 | H91: =E91+F91+G91 -> 79644 | I91: 호표 88 | M91: 전기 5-25-3
A92: 594324C489723668933D541F853AC0 | B92: 조명기구 "옥외보안등" | C92: LED 60W/5M | D92: 조 | E92: =일위대가!F666 -> 1561488 | F92: =일위대가!H666 -> 574431 | G92: =일위대가!J666 -> 0 | H92: =E92+F92+G92 -> 2135919 | I92: 호표 89 | M92: 전기 5-27
A93: 594334EB990E66AB7131540415AB72 | B93: 현황판 철거 후 신설 | D93: EA | E93: =일위대가!F672 -> 1575 | F93: =일위대가!H672 -> 78779 | G93: =일위대가!J672 -> 0 | H93: =E93+F93+G93 -> 80354 | I93: 호표 90 | M93: 전기 5-29
A94: 594334EB990E66AB713154040582BB | B94: 수배전반 [배수펌프장] | C94: HV-A6 제작 | D94: 면 | E94: =일위대가!F683 -> 26503933 | F94: =일위대가!H683 -> 0 | G94: =일위대가!J683 -> 0 | H94: =E94+F94+G94 -> 26503933 | I94: 호표 91
A95: 594334EB990E66AB713154040582BA | B95: 수배전반 [배수펌프장] | C95: HV-A6 | D95: 면 | E95: =일위대가!F731 -> 17209613 | F95: =일위대가!H731 -> 2668534 | G95: =일위대가!J731 -> 0 | H95: =E95+F95+G95 -> 19878147 | I95: 호표 92
A96: 594334EB990E66AB71315404058195 | B96: 수배전반 [양수장] | C96: HV-D1 제작 | D96: 면 | E96: =일위대가!F742 -> 26630422 | F96: =일위대가!H742 -> 0 | G96: =일위대가!J742 -> 0 | H96: =E96+F96+G96 -> 26630422 | I96: 호표 93
A97: 594334EB990E66AB71315404058194 | B97: 수배전반 [양수장] | C97: HV-D1 | D97: 면 | E97: =일위대가!F791 -> 17356813 | F97: =일위대가!H791 -> 2642866 | G97: =일위대가!J791 -> 0 | H97: =E97+F97+G97 -> 19999679 | I97: 호표 94
A98: 594334EB990E66AB7131540405808E | B98: 수배전반 [양수장] | C98: HV-D2 제작 | D98: 면 | E98: =일위대가!F802 -> 32763002 | F98: =일위대가!H802 -> 0 | G98: =일위대가!J802 -> 0 | H98: =E98+F98+G98 -> 32763002 | I98: 호표 95
A99: 594334EB990E66AB7131540405808F | B99: 수배전반 [양수장] | C99: HV-D2 | D99: 면 | E99: =일위대가!F855 -> 20673022 | F99: =일위대가!H855 -> 3653293 | G99: =일위대가!J855 -> 0 | H99: =E99+F99+G99 -> 24326315 | I99: 호표 96
A100: 594334EB990E66AB7131540405873D | B100: 수배전반 [양수장] | C100: HV-D3 제작 | D100: 면 | E100: =일위대가!F866 -> 32781056 | F100: =일위대가!H866 -> 0 | G100: =일위대가!J866 -> 0 | H100: =E100+F100+G100 -> 32781056 | I100: 호표 97
...

Sheet 일위대가
A1: [ 확장양수장 신설사업 전기공사 ]
A2: 품 명 | B2: 규 격 | C2: 단위 | D2: 수량 | E2: 재 료 비 | G2: 노 무 비 | I2: 경 비 | K2: 합 계 | M2: 비 고 | N2: 일위대가 | O2: 품목코드 | P2: 일위 | Q2: 단산 | R2: 자재 | S2: 손료적용 | T2: 손료저장 | U2: 적용율 | V2: JUK1 | W2: JUK2 | X2: JUK3 | Y2: JUK4 | Z2: JUK5 | AA2: JUK6 | AB2: JUK7 | AC2: JUK8 | AD2: JUK9 | AE2: JUK10 | AF2: JUK11 | AG2: JUK12 | AH2: JUK13 | AI2: JUK14 | AJ2: JUK15 | AK2: JUK16 | AL2: JUK17 | AM2: JUK18 | AN2: JUK19 | AO2: JUK20 | AP2: 할증적용 | AQ2: 할증저장 | AR2: 할증율 | AS2: HAL1 | AT2: HAL2 | AU2: HAL3 | AV2: 자재구분 | AW2: 일위대가+자재 | AX2: 장비일위 | AY2: 설정 | AZ2: 할증체크
E3: 단 가 | F3: 금 액 | G3: 단 가 | H3: 금 액 | I3: 단 가 | J3: 금 액 | K3: 단 가 | L3: 금 액
A4: 굴삭기(무한궤도) 0.2㎥ HR 공통 8-3,4(0201) ( 호표 1 ) | N4: 5F0DE4D349137D85CA31548175F9693D1F9CEBD5
A5: 굴삭기(무한궤도) | B5: 0.2㎥ | C5: 대 | D5: 0.2085 | E5: =단가대비표!O5 -> 0 | F5: =TRUNC(E5*D5,1) -> 0 | G5: =단가대비표!P5 -> 0 | H5: =TRUNC(G5*D5,1) -> 0 | I5: =단가대비표!V5 -> 64267 | J5: =TRUNC(I5*D5,1) -> 13399.6 | K5: =TRUNC(E5+G5+I5,1) -> 64267 | L5: =TRUNC(F5+H5+J5,1) -> 13399.6 | M5: 천원 | N5: 5F0DE4D349137D85CA31548175F9693D1F9CEBD5 | O5: 5F0DE4D349137D85CA31548175F9693D1F9CEB | P5: F | Q5: F | R5: T | AW5: 5F0DE4D349137D85CA31548175F9693D1F9CEBD55F0DE4D349137D85CA31548175F9693D1F9CEB
A6: 경유 | B6: 저유황 | C6: L | D6: 5 | E6: =단가대비표!O13 -> 1391 | F6: =TRUNC(E6*D6,1) -> 6955 | G6: =단가대비표!P13 -> 0 | H6: =TRUNC(G6*D6,1) -> 0 | I6: =단가대비표!V13 -> 0 | J6: =TRUNC(I6*D6,1) -> 0 | K6: =TRUNC(E6+G6+I6,1) -> 1391 | L6: =TRUNC(F6+H6+J6,1) -> 6955 | N6: 5F0DE4D349137D85CA31548175F9693D1F9CEBD5 | O6: 5F1E04427980CC3C2E3CE483657E72D54ABA49 | P6: F | Q6: F | R6: T | V6: 1 | AW6: 5F0DE4D349137D85CA31548175F9693D1F9CEBD55F1E04427980CC3C2E3CE483657E72D54ABA49
A7: 건설기계운전사 | B7: 일반공사직종 | C7: 인 | D7: 1 | E7: =TRUNC(단가대비표!O120*1/8*16/12*25/20, 1) -> 0 | F7: =TRUNC(E7*D7,1) -> 0 | G7: =TRUNC(단가대비표!P120*1/8*16/12*25/20, 1) -> 58296.6 | H7: =TRUNC(G7*D7,1) -> 58296.6 | I7: =TRUNC(단가대비표!V120*1/8*16/12*25/20, 1) -> 0 | J7: =TRUNC(I7*D7,1) -> 0 | K7: =TRUNC(E7+G7+I7,1) -> 58296.6 | L7: =TRUNC(F7+H7+J7,1) -> 58296.6 | N7: 5F0DE4D349137D85CA31548175F9693D1F9CEBD5 | O7: 58CFC4C31996CDE96A31A4F8553087A8AC2A62 | P7: F | Q7: F | R7: T | AW7: 5F0DE4D349137D85CA31548175F9693D1F9CEBD558CFC4C31996CDE96A31A4F8553087A8AC2A62 | AX7: T
A8: 잡재료 | B8: 주연료비의 21% | C8: 식 | D8: 1 | E8: =TRUNC(SUMIF(V5:V8, RIGHTB(O8, 1), F5:F8)*U8, 2) -> 1460.55 | F8: =TRUNC(E8*D8,1) -> 1460.5 | G8: 0 | H8: =TRUNC(G8*D8,1) -> 0 | I8: 0 | J8: =TRUNC(I8*D8,1) -> 0 | K8: =TRUNC(E8+G8+I8,1) -> 1460.5 | L8: =TRUNC(F8+H8+J8,1) -> 1460.5 | N8: 5F0DE4D349137D85CA31548175F9693D1F9CEBD5 | O8: 5903743FA914797AD03514258567001 | P8: F | Q8: F | R8: F | S8: 0 | T8: 0 | U8: 0.21 | AW8: 5F0DE4D349137D85CA31548175F9693D1F9CEBD55903743FA914797AD03514258567001
A9: [ 합 계 ] | F9: =TRUNC(SUMIF(N5:N8, N4, F5:F8),0) -> 8415 | H9: =TRUNC(SUMIF(N5:N8, N4, H5:H8),0) -> 58296 | J9: =TRUNC(SUMIF(N5:N8, N4, J5:J8),0) -> 13399 | L9: =F9+H9+J9 -> 80110 | N9: TOTAL | O9: TOTAL
A11: 굴삭기(무한궤도) 0.7㎥ HR 토목 11-3.4 ( 호표 2 ) | N11: 5F0DE4D349137D85CA31548175FC3D9BB8A49863
A12: 굴삭기(유압식백호) | B12: 0.7 M3 | C12: 대 | D12: 0.2085 | E12: =단가대비표!O6 -> 0 | F12: =TRUNC(E12*D12,1) -> 0 | G12: =단가대비표!P6 -> 0 | H12: =TRUNC(G12*D12,1) -> 0 | I12: =단가대비표!V6 -> 115116 | J12: =TRUNC(I12*D12,1) -> 24001.6 | K12: =TRUNC(E12+G12+I12,1) -> 115116 | L12: =TRUNC(F12+H12+J12,1) -> 24001.6 | M12: 천원 | N12: 5F0DE4D349137D85CA31548175FC3D9BB8A49863 | O12: 5F0DE4D349137D85CA31548175FC3D9BB8A498 | P12: F | Q12: F | R12: T | AW12: 5F0DE4D349137D85CA31548175FC3D9BB8A498635F0DE4D349137D85CA31548175FC3D9BB8A498
A13: 건설기계운전사 | B13: 일반공사직종 | C13: 인 | D13: 1 | E13: =TRUNC(단가대비표!O120*1/8*16/12*25/20, 1) -> 0 | F13: =TRUNC(E13*D13,1) -> 0 | G13: =TRUNC(단가대비표!P120*1/8*16/12*25/20, 1) -> 58296.6 | H13: =TRUNC(G13*D13,1) -> 58296.6 | I13: =TRUNC(단가대비표!V120*1/8*16/12*25/20, 1) -> 0 | J13: =TRUNC(I13*D13,1) -> 0 | K13: =TRUNC(E13+G13+I13,1) -> 58296.6 | L13: =TRUNC(F13+H13+J13,1) -> 58296.6 | N13: 5F0DE4D349137D85CA31548175FC3D9BB8A49863 | O13: 58CFC4C31996CDE96A31A4F8553087A8AC2A62 | P13: F | Q13: F | R13: T | AW13: 5F0DE4D349137D85CA31548175FC3D9BB8A4986358CFC4C31996CDE96A31A4F8553087A8AC2A62 | AX13: T
A14: 경유 | B14: 저유황 | C14: L | D14: 11.6 | E14: =단가대비표!O13 -> 1391 | F14: =TRUNC(E14*D14,1) -> 16135.6 | G14: =단가대비표!P13 -> 0 | H14: =TRUNC(G14*D14,1) -> 0 | I14: =단가대비표!V13 -> 0 | J14: =TRUNC(I14*D14,1) -> 0 | K14: =TRUNC(E14+G14+I14,1) -> 1391 | L14: =TRUNC(F14+H14+J14,1) -> 16135.6 | N14: 5F0DE4D349137D85CA31548175FC3D9BB8A49863 | O14: 5F1E04427980CC3C2E3CE483657E72D54ABA49 | P14: F | Q14: F | R14: T | V14: 1 | AW14: 5F0DE4D349137D85CA31548175FC3D9BB8A498635F1E04427980CC3C2E3CE483657E72D54ABA49
A15: 잡재료 | B15: 주연료비의 22% | C15: 식 | D15: 1 | E15: =TRUNC(SUMIF(V12:V15, RIGHTB(O15, 1), F12:F15)*U15, 2) -> 3549.83 | F15: =TRUNC(E15*D15,1) -> 3549.8 | G15: 0 | H15: =TRUNC(G15*D15,1) -> 0 | I15: 0 | J15: =TRUNC(I15*D15,1) -> 0 | K15: =TRUNC(E15+G15+I15,1) -> 3549.8 | L15: =TRUNC(F15+H15+J15,1) -> 3549.8 | N15: 5F0DE4D349137D85CA31548175FC3D9BB8A49863 | O15: 5903743FA914797AD03514258567001 | P15: F | Q15: F | R15: F | S15: 0 | T15: 0 | U15: 0.22 | AW15: 5F0DE4D349137D85CA31548175FC3D9BB8A498635903743FA914797AD03514258567001
A16: [ 합 계 ] | F16: =TRUNC(SUMIF(N12:N15, N11, F12:F15),0) -> 19685 | H16: =TRUNC(SUMIF(N12:N15, N11, H12:H15),0) -> 58296 | J16: =TRUNC(SUMIF(N12:N15, N11, J12:J15),0) -> 24001 | L16: =F16+H16+J16 -> 101982 | N16: TOTAL | O16: TOTAL
A18: 굴삭기(타이어) 0.18㎥ HR 공통 8-3,4(0211) ( 호표 3 ) | N18: 5F0DE4D349137D85D436145935DA6475B51D0C46
A19: 굴삭기(타이어) | B19: 0.18㎥ | C19: 대 | D19: 0.2279 | E19: =단가대비표!O7 -> 0 | F19: =TRUNC(E19*D19,1) -> 0 | G19: =단가대비표!P7 -> 0 | H19: =TRUNC(G19*D19,1) -> 0 | I19: =단가대비표!V7 -> 68088 | J19: =TRUNC(I19*D19,1) -> 15517.2 | K19: =TRUNC(E19+G19+I19,1) -> 68088 | L19: =TRUNC(F19+H19+J19,1) -> 15517.2 | M19: 천원 | N19: 5F0DE4D349137D85D436145935DA6475B51D0C46 | O19: 5F0DE4D349137D85D436145935DA6475B51D0C | P19: F | Q19: F | R19: T | AW19: 5F0DE4D349137D85D436145935DA6475B51D0C465F0DE4D349137D85D436145935DA6475B51D0C
A20: 경유 | B20: 저유황 | C20: L | D20: 5.6 | E20: =단가대비표!O13 -> 1391 | F20: =TRUNC(E20*D20,1) -> 7789.6 | G20: =단가대비표!P13 -> 0 | H20: =TRUNC(G20*D20,1) -> 0 | I20: =단가대비표!V13 -> 0 | J20: =TRUNC(I20*D20,1) -> 0 | K20: =TRUNC(E20+G20+I20,1) -> 1391 | L20: =TRUNC(F20+H20+J20,1) -> 7789.6 | N20: 5F0DE4D349137D85D436145935DA6475B51D0C46 | O20: 5F1E04427980CC3C2E3CE483657E72D54ABA49 | P20: F | Q20: F | R20: T | V20: 1 | AW20: 5F0DE4D349137D85D436145935DA6475B51D0C465F1E04427980CC3C2E3CE483657E72D54ABA49
A21: 건설기계운전사 | B21: 일반공사직종 | C21: 인 | D21: 1 | E21: =TRUNC(단가대비표!O120*1/8*16/12*25/20, 1) -> 0 | F21: =TRUNC(E21*D21,1) -> 0 | G21: =TRUNC(단가대비표!P120*1/8*16/12*25/20, 1) -> 58296.6 | H21: =TRUNC(G21*D21,1) -> 58296.6 | I21: =TRUNC(단가대비표!V120*1/8*16/12*25/20, 1) -> 0 | J21: =TRUNC(I21*D21,1) -> 0 | K21: =TRUNC(E21+G21+I21,1) -> 58296.6 | L21: =TRUNC(F21+H21+J21,1) -> 58296.6 | N21: 5F0DE4D349137D85D436145935DA6475B51D0C46 | O21: 58CFC4C31996CDE96A31A4F8553087A8AC2A62 | P21: F | Q21: F | R21: T | AW21: 5F0DE4D349137D85D436145935DA6475B51D0C4658CFC4C31996CDE96A31A4F8553087A8AC2A62 | AX21: T
A22: 잡재료 | B22: 주연료비의 24% | C22: 식 | D22: 1 | E22: =TRUNC(SUMIF(V19:V22, RIGHTB(O22, 1), F19:F22)*U22, 2) -> 1869.5 | F22: =TRUNC(E22*D22,1) -> 1869.5 | G22: 0 | H22: =TRUNC(G22*D22,1) -> 0 | I22: 0 | J22: =TRUNC(I22*D22,1) -> 0 | K22: =TRUNC(E22+G22+I22,1) -> 1869.5 | L22: =TRUNC(F22+H22+J22,1) -> 1869.5 | N22: 5F0DE4D349137D85D436145935DA6475B51D0C46 | O22: 5903743FA914797AD03514258567001 | P22: F | Q22: F | R22: F | S22: 0 | T22: 0 | U22: 0.24 | AW22: 5F0DE4D349137D85D436145935DA6475B51D0C465903743FA914797AD03514258567001
A23: [ 합 계 ] | F23: =TRUNC(SUMIF(N19:N22, N18, F19:F22),0) -> 9659 | H23: =TRUNC(SUMIF(N19:N22, N18, H19:H22),0) -> 58296 | J23: =TRUNC(SUMIF(N19:N22, N18, J19:J22),0) -> 15517 | L23: =F23+H23+J23 -> 83472 | N23: TOTAL | O23: TOTAL
A25: 진동 롤러(핸드가이드식) 0.7ton HR 토목 11-9.4 ( 호표 4 ) | N25: 5F0DE4D349136300CF3ED45CD5AE840C2CCC73DC
A26: 진동 롤러(핸드가이드식) | B26: 0.7톤 | C26: 대 | D26: 0.2825 | E26: =단가대비표!O8 -> 0 | F26: =TRUNC(E26*D26,1) -> 0 | G26: =단가대비표!P8 -> 0 | H26: =TRUNC(G26*D26,1) -> 0 | I26: =단가대비표!V8 -> 6733 | J26: =TRUNC(I26*D26,1) -> 1902 | K26: =TRUNC(E26+G26+I26,1) -> 6733 | L26: =TRUNC(F26+H26+J26,1) -> 1902 | M26: 천원 | N26: 5F0DE4D349136300CF3ED45CD5AE840C2CCC73DC | O26: 5F0DE4D349136300CF3ED45CD5AE840C2CCC73 | P26: F | Q26: F | R26: T | AW26: 5F0DE4D349136300CF3ED45CD5AE840C2CCC73DC5F0DE4D349136300CF3ED45CD5AE840C2CCC73
A27: 일반기계운전사 | B27: 일반공사직종 | C27: 인 | D27: 1 | E27: =TRUNC(단가대비표!O121*1/8*16/12*25/20, 1) -> 0 | F27: =TRUNC(E27*D27,1) -> 0 | G27: =TRUNC(단가대비표!P121*1/8*16/12*25/20, 1) -> 35913.9 | H27: =TRUNC(G27*D27,1) -> 35913.9 | I27: =TRUNC(단가대비표!V121*1/8*16/12*25/20, 1) -> 0 | J27: =TRUNC(I27*D27,1) -> 0 | K27: =TRUNC(E27+G27+I27,1) -> 35913.9 | L27: =TRUNC(F27+H27+J27,1) -> 35913.9 | N27: 5F0DE4D349136300CF3ED45CD5AE840C2CCC73DC | O27: 58CFC4C31996CDE96A31A4F8553087A8AC2B71 | P27: F | Q27: F | R27: T | AW27: 5F0DE4D349136300CF3ED45CD5AE840C2CCC73DC58CFC4C31996CDE96A31A4F8553087A8AC2B71 | AX27: T
A28: 경유 | B28: 저유황 | C28: L | D28: 2.2 | E28: =단가대비표!O13 -> 1391 | F28: =TRUNC(E28*D28,1) -> 3060.2 | G28: =단가대비표!P13 -> 0 | H28: =TRUNC(G28*D28,1) -> 0 | I28: =단가대비표!V13 -> 0 | J28: =TRUNC(I28*D28,1) -> 0 | K28: =TRUNC(E28+G28+I28,1) -> 1391 | L28: =TRUNC(F28+H28+J28,1) -> 3060.2 | N28: 5F0DE4D349136300CF3ED45CD5AE840C2CCC73DC | O28: 5F1E04427980CC3C2E3CE483657E72D54ABA49 | P28: F | Q28: F | R28: T | V28: 1 | AW28: 5F0DE4D349136300CF3ED45CD5AE840C2CCC73DC5F1E04427980CC3C2E3CE483657E72D54ABA49
A29: 잡재료 | B29: 주연료비의 13% | C29: 식 | D29: 1 | E29: =TRUNC(SUMIF(V26:V29, RIGHTB(O29, 1), F26:F29)*U29, 2) -> 397.82 | F29: =TRUNC(E29*D29,1) -> 397.8 | G29: 0 | H29: =TRUNC(G29*D29,1) -> 0 | I29: 0 | J29: =TRUNC(I29*D29,1) -> 0 | K29: =TRUNC(E29+G29+I29,1) -> 397.8 | L29: =TRUNC(F29+H29+J29,1) -> 397.8 | N29: 5F0DE4D349136300CF3ED45CD5AE840C2CCC73DC | O29: 5903743FA914797AD03514258567001 | P29: F | Q29: F | R29: F | S29: 0 | T29: 0 | U29: 0.13 | AW29: 5F0DE4D349136300CF3ED45CD5AE840C2CCC73DC5903743FA914797AD03514258567001
A30: [ 합 계 ] | F30: =TRUNC(SUMIF(N26:N29, N25, F26:F29),0) -> 3458 | H30: =TRUNC(SUMIF(N26:N29, N25, H26:H29),0) -> 35913 | J30: =TRUNC(SUMIF(N26:N29, N25, J26:J29),0) -> 1902 | L30: =F30+H30+J30 -> 41273 | N30: TOTAL | O30: TOTAL
A32: 래머 80kg HR 공통 8-3,4(1630) ( 호표 5 ) | N32: 5F0DE4D349136358DE3EA42EA5546B8677A52E2B
A33: 래머 | B33: 80kg | C33: 대 | D33: 0.3708 | E33: =단가대비표!O9 -> 0 | F33: =TRUNC(E33*D33,1) -> 0 | G33: =단가대비표!P9 -> 0 | H33: =TRUNC(G33*D33,1) -> 0 | I33: =단가대비표!V9 -> 1370 | J33: =TRUNC(I33*D33,1) -> 507.9 | K33: =TRUNC(E33+G33+I33,1) -> 1370 | L33: =TRUNC(F33+H33+J33,1) -> 507.9 | M33: 천원 | N33: 5F0DE4D349136358DE3EA42EA5546B8677A52E2B | O33: 5F0DE4D349136358DE3EA42EA5546B8677A52E | P33: F | Q33: F | R33: T | AW33: 5F0DE4D349136358DE3EA42EA5546B8677A52E2B5F0DE4D349136358DE3EA42EA5546B8677A52E
A34: 휘발유 | B34: 무연 | C34: L | D34: 0.7 | E34: =단가대비표!O14 -> 1509 | F34: =TRUNC(E34*D34,1) -> 1056.3 | G34: =단가대비표!P14 -> 0 | H34: =TRUNC(G34*D34,1) -> 0 | I34: =단가대비표!V14 -> 0 | J34: =TRUNC(I34*D34,1) -> 0 | K34: =TRUNC(E34+G34+I34,1) -> 1509 | L34: =TRUNC(F34+H34+J34,1) -> 1056.3 | N34: 5F0DE4D349136358DE3EA42EA5546B8677A52E2B | O34: 5F1E04427980CC3C2E3FB4C955BE842FCFE447 | P34: F | Q34: F | R34: T | V34: 1 | AW34: 5F0DE4D349136358DE3EA42EA5546B8677A52E2B5F1E04427980CC3C2E3FB4C955BE842FCFE447
A35: 일반기계운전사 | B35: 일반공사직종 | C35: 인 | D35: 1 | E35: =TRUNC(단가대비표!O121*1/8*16/12*25/20, 1) -> 0 | F35: =TRUNC(E35*D35,1) -> 0 | G35: =TRUNC(단가대비표!P121*1/8*16/12*25/20, 1) -> 35913.9 | H35: =TRUNC(G35*D35,1) -> 35913.9 | I35: =TRUNC(단가대비표!V121*1/8*16/12*25/20, 1) -> 0 | J35: =TRUNC(I35*D35,1) -> 0 | K35: =TRUNC(E35+G35+I35,1) -> 35913.9 | L35: =TRUNC(F35+H35+J35,1) -> 35913.9 | N35: 5F0DE4D349136358DE3EA42EA5546B8677A52E2B | O35: 58CFC4C31996CDE96A31A4F8553087A8AC2B71 | P35: F | Q35: F | R35: T | AW35: 5F0DE4D349136358DE3EA42EA5546B8677A52E2B58CFC4C31996CDE96A31A4F8553087A8AC2B71 | AX35: T
A36: 잡재료 | B36: 주연료비의 10% | C36: 식 | D36: 1 | E36: =TRUNC(SUMIF(V33:V36, RIGHTB(O36, 1), F33:F36)*U36, 2) -> 105.63 | F36: =TRUNC(E36*D36,1) -> 105.6 | G36: 0 | H36: =TRUNC(G36*D36,1) -> 0 | I36: 0 | J36: =TRUNC(I36*D36,1) -> 0 | K36: =TRUNC(E36+G36+I36,1) -> 105.6 | L36: =TRUNC(F36+H36+J36,1) -> 105.6 | N36: 5F0DE4D349136358DE3EA42EA5546B8677A52E2B | O36: 5903743FA914797AD03514258567001 | P36: F | Q36: F | R36: F | S36: 0 | T36: 0 | U36: 0.1 | AW36: 5F0DE4D349136358DE3EA42EA5546B8677A52E2B5903743FA914797AD03514258567001
A37: [ 합 계 ] | F37: =TRUNC(SUMIF(N33:N36, N32, F33:F36),0) -> 1161 | H37: =TRUNC(SUMIF(N33:N36, N32, H33:H36),0) -> 35913 | J37: =TRUNC(SUMIF(N33:N36, N32, J33:J36),0) -> 507 | L37: =F37+H37+J37 -> 37581 | N37: TOTAL | O37: TOTAL
A39: 크레인(타이어) 10톤 HR 공통 8-3,4(2104) ( 호표 6 ) | N39: 5F0DE4D3491352CEF63CD4FD15B662FFEEC1AD5B
A40: 크레인(타이어) | B40: 10톤 | C40: 대 | D40: 0.2298 | E40: =단가대비표!O15 -> 0 | F40: =TRUNC(E40*D40,1) -> 0 | G40: =단가대비표!P15 -> 0 | H40: =TRUNC(G40*D40,1) -> 0 | I40: =단가대비표!V15 -> 134000 | J40: =TRUNC(I40*D40,1) -> 30793.2 | K40: =TRUNC(E40+G40+I40,1) -> 134000 | L40: =TRUNC(F40+H40+J40,1) -> 30793.2 | M40: 천원 | N40: 5F0DE4D3491352CEF63CD4FD15B662FFEEC1AD5B | O40: 5F2894FA39C79A2D963FF476656146E7E28E8E | P40: F | Q40: F | R40: T | AW40: 5F0DE4D3491352CEF63CD4FD15B662FFEEC1AD5B5F2894FA39C79A2D963FF476656146E7E28E8E
A41: 경유 | B41: 저유황 | C41: L | D41: 3.8 | E41: =단가대비표!O13 -> 1391 | F41: =TRUNC(E41*D41,1) -> 5285.8 | G41: =단가대비표!P13 -> 0 | H41: =TRUNC(G41*D41,1) -> 0 | I41: =단가대비표!V13 -> 0 | J41: =TRUNC(I41*D41,1) -> 0 | K41: =TRUNC(E41+G41+I41,1) -> 1391 | L41: =TRUNC(F41+H41+J41,1) -> 5285.8 | N41: 5F0DE4D3491352CEF63CD4FD15B662FFEEC1AD5B | O41: 5F1E04427980CC3C2E3CE483657E72D54ABA49 | P41: F | Q41: F | R41: T | V41: 1 | AW41: 5F0DE4D3491352CEF63CD4FD15B662FFEEC1AD5B5F1E04427980CC3C2E3CE483657E72D54ABA49
A42: 건설기계운전사 | B42: 일반공사직종 | C42: 인 | D42: 1 | E42: =TRUNC(단가대비표!O120*1/8*16/12*25/20, 1) -> 0 | F42: =TRUNC(E42*D42,1) -> 0 | G42: =TRUNC(단가대비표!P120*1/8*16/12*25/20, 1) -> 58296.6 | H42: =TRUNC(G42*D42,1) -> 58296.6 | I42: =TRUNC(단가대비표!V120*1/8*16/12*25/20, 1) -> 0 | J42: =TRUNC(I42*D42,1) -> 0 | K42: =TRUNC(E42+G42+I42,1) -> 58296.6 | L42: =TRUNC(F42+H42+J42,1) -> 58296.6 | N42: 5F0DE4D3491352CEF63CD4FD15B662FFEEC1AD5B | O42: 58CFC4C31996CDE96A31A4F8553087A8AC2A62 | P42: F | Q42: F | R42: T | AW42: 5F0DE4D3491352CEF63CD4FD15B662FFEEC1AD5B58CFC4C31996CDE96A31A4F8553087A8AC2A62 | AX42: T
A43: 잡재료 | B43: 주연료비의 39% | C43: 식 | D43: 1 | E43: =TRUNC(SUMIF(V40:V43, RIGHTB(O43, 1), F40:F43)*U43, 2) -> 2061.46 | F43: =TRUNC(E43*D43,1) -> 2061.4 | G43: 0 | H43: =TRUNC(G43*D43,1) -> 0 | I43: 0 | J43: =TRUNC(I43*D43,1) -> 0 | K43: =TRUNC(E43+G43+I43,1) -> 2061.4 | L43: =TRUNC(F43+H43+J43,1) -> 2061.4 | N43: 5F0DE4D3491352CEF63CD4FD15B662FFEEC1AD5B | O43: 5903743FA914797AD03514258567001 | P43: F | Q43: F | R43: F | S43: 0 | T43: 0 | U43: 0.39 | AW43: 5F0DE4D3491352CEF63CD4FD15B662FFEEC1AD5B5903743FA914797AD03514258567001
A44: [ 합 계 ] | F44: =TRUNC(SUMIF(N40:N43, N39, F40:F43),0) -> 7347 | H44: =TRUNC(SUMIF(N40:N43, N39, H40:H43),0) -> 58296 | J44: =TRUNC(SUMIF(N40:N43, N39, J40:J43),0) -> 30793 | L44: =F44+H44+J44 -> 96436 | N44: TOTAL | O44: TOTAL
A46: 외등기초(4M이하) 400*600*600 개소 전기 5-27-1 ( 호표 7 ) | N46: 5F546497C900DCEBAE3B548495A4A1
A47: 콘크리트 기초 | B47: 400*600*600 | C47: EA | D47: 1 | E47: =단가대비표!O111 -> 84000 | F47: =TRUNC(E47*D47,1) -> 84000 | G47: =단가대비표!P111 -> 0 | H47: =TRUNC(G47*D47,1) -> 0 | I47: =단가대비표!V111 -> 0 | J47: =TRUNC(I47*D47,1) -> 0 | K47: =TRUNC(E47+G47+I47,1) -> 84000 | L47: =TRUNC(F47+H47+J47,1) -> 84000 | M47: ... | N47: 5F546497C900DCEBAE3B548495A4A1 | O47: 5F66545309CAD3E64B37148905B7AD7534100E | P47: F | Q47: F | R47: T | AW47: 5F546497C900DCEBAE3B548495A4A15F66545309CAD3E64B37148905B7AD7534100E
A48: 접지봉 | B48: 14Φ×1000 mm | C48: 개 | D48: 1 | E48: =일위대가목록!E66 -> 4073 | F48: =TRUNC(E48*D48,1) -> 4073 | G48: =일위대가목록!F66 -> 37750 | H48: =TRUNC(G48*D48,1) -> 37750 | I48: =일위대가목록!G66 -> 0 | J48: =TRUNC(I48*D48,1) -> 0 | K48: =TRUNC(E48+G48+I48,1) -> 41823 | L48: =TRUNC(F48+H48+J48,1) -> 41823 | M48: 호표 63 | N48: 5F546497C900DCEBAE3B548495A4A1 | O48: 5853949F59ACA06A753834F285D7FF | P48: T | Q48: F | R48: F | AW48: 5F546497C900DCEBAE3B548495A4A15853949F59ACA06A753834F285D7FF
A49: 난연성 비닐절연 접지용전선 | B49: 0.6/1kV F-GV 6㎟ | C49: M | D49: 2 | E49: =일위대가목록!E51 -> 1464 | F49: =TRUNC(E49*D49,1) -> 2928 | G49: =일위대가목록!F51 -> 2461 | H49: =TRUNC(G49*D49,1) -> 4922 | I49: =일위대가목록!G51 -> 0 | J49: =TRUNC(I49*D49,1) -> 0 | K49: =TRUNC(E49+G49+I49,1) -> 3925 | L49: =TRUNC(F49+H49+J49,1) -> 7850 | M49: 호표 48 | N49: 5F546497C900DCEBAE3B548495A4A1 | O49: 5853949F59D9EE50673F64F0852D52 | P49: T | Q49: F | R49: F | AW49: 5F546497C900DCEBAE3B548495A4A15853949F59D9EE50673F64F0852D52
A50: 볼트형콘넥터 | B50: U 볼트형, Φ16 | C50: 개 | D50: 1 | E50: =단가대비표!O59 -> 5250 | F50: =TRUNC(E50*D50,1) -> 5250 | G50: =단가대비표!P59 -> 0 | H50: =TRUNC(G50*D50,1) -> 0 | I50: =단가대비표!V59 -> 0 | J50: =TRUNC(I50*D50,1) -> 0 | K50: =TRUNC(E50+G50+I50,1) -> 5250 | L50: =TRUNC(F50+H50+J50,1) -> 5250 | N50: 5F546497C900DCEBAE3B548495A4A1 | O50: 5F39B4F619096CFAFF3F74BF657CED5422F7D8 | P50: F | Q50: F | R50: T | AW50: 5F546497C900DCEBAE3B548495A4A15F39B4F619096CFAFF3F74BF657CED5422F7D8
A51: 굴삭기(타이어) | B51: 0.18㎥ | C51: HR | D51: 0.43 | E51: =일위대가목록!E6 -> 9659 | F51: =TRUNC(E51*D51,1) -> 4153.3 | G51: =일위대가목록!F6 -> 58296 | H51: =TRUNC(G51*D51,1) -> 25067.2 | I51: =일위대가목록!G6 -> 15517 | J51: =TRUNC(I51*D51,1) -> 6672.3 | K51: =TRUNC(E51+G51+I51,1) -> 83472 | L51: =TRUNC(F51+H51+J51,1) -> 35892.8 | M51: 호표 3 | N51: 5F546497C900DCEBAE3B548495A4A1 | O51: 5F0DE4D349137D85D436145935DA6475B51D0C46 | P51: T | Q51: F | R51: F | AW51: 5F546497C900DCEBAE3B548495A4A15F0DE4D349137D85D436145935DA6475B51D0C46
A52: 래머 | B52: 80kg | C52: HR | D52: 0.1032 | E52: =일위대가목록!E8 -> 1161 | F52: =TRUNC(E52*D52,1) -> 119.8 | G52: =일위대가목록!F8 -> 35913 | H52: =TRUNC(G52*D52,1) -> 3706.2 | I52: =일위대가목록!G8 -> 507 | J52: =TRUNC(I52*D52,1) -> 52.3 | K52: =TRUNC(E52+G52+I52,1) -> 37581 | L52: =TRUNC(F52+H52+J52,1) -> 3878.3 | M52: 호표 5 | N52: 5F546497C900DCEBAE3B548495A4A1 | O52: 5F0DE4D349136358DE3EA42EA5546B8677A52E2B | P52: T | Q52: F | R52: F | AW52: 5F546497C900DCEBAE3B548495A4A15F0DE4D349136358DE3EA42EA5546B8677A52E2B
A53: 보통인부 | B53: 일반공사직종 | C53: 인 | D53: 0.19 | E53: =단가대비표!O114 -> 0 | F53: =TRUNC(E53*D53,1) -> 0 | G53: =단가대비표!P114 -> 95767 | H53: =TRUNC(G53*D53,1) -> 18195.7 | I53: =단가대비표!V114 -> 0 | J53: =TRUNC(I53*D53,1) -> 0 | K53: =TRUNC(E53+G53+I53,1) -> 95767 | L53: =TRUNC(F53+H53+J53,1) -> 18195.7 | N53: 5F546497C900DCEBAE3B548495A4A1 | O53: 58CFC4C31996CDE96A31A4F8553087A8AC2EC7 | P53: F | Q53: F | R53: T | V53: 1 | AW53: 5F546497C900DCEBAE3B548495A4A158CFC4C31996CDE96A31A4F8553087A8AC2EC7
A54: 내선전공 | B54: 일반공사직종 | C54: 인 | D54: 0.08 | E54: =단가대비표!O122 -> 0 | F54: =TRUNC(E54*D54,1) -> 0 | G54: =단가대비표!P122 -> 273539 | H54: =TRUNC(G54*D54,1) -> 21883.1 | I54: =단가대비표!V122 -> 0 | J54: =TRUNC(I54*D54,1) -> 0 | K54: =TRUNC(E54+G54+I54,1) -> 273539 | L54: =TRUNC(F54+H54+J54,1) -> 21883.1 | N54: 5F546497C900DCEBAE3B548495A4A1 | O54: 58CFC4C31996CDE96A31A4F8553087A8AC2946 | P54: F | Q54: F | R54: T | V54: 1 | AW54: 5F546497C900DCEBAE3B548495A4A158CFC4C31996CDE96A31A4F8553087A8AC2946
A55: 공구손료 | B55: 인력품의 2% | C55: 식 | D55: 1 | E55: =ROUND(0.02*SUM(H53:H54),2) -> 801.58 | F55: =TRUNC(E55*D55,1) -> 801.5 | G55: 0 | H55: =TRUNC(G55*D55,1) -> 0 | I55: 0 | J55: =TRUNC(I55*D55,1) -> 0 | K55: =TRUNC(E55+G55+I55,1) -> 801.5 | L55: =TRUNC(F55+H55+J55,1) -> 801.5 | N55: 5F546497C900DCEBAE3B548495A4A1 | O55: 5903743FA914797AD03514258567001 | P55: F | Q55: F | R55: F | S55: 1 | T55: 0 | U55: 0.03 | AW55: 5F546497C900DCEBAE3B548495A4A15903743FA914797AD03514258567001
A56: [ 합 계 ] | F56: =TRUNC(SUMIF(N47:N55, N46, F47:F55),0) -> 101325 | H56: =TRUNC(SUMIF(N47:N55, N46, H47:H55),0) -> 111524 | J56: =TRUNC(SUMIF(N47:N55, N46, J47:J55),0) -> 6724 | L56: =F56+H56+J56 -> 219573 | N56: TOTAL | O56: TOTAL
A58: 수.배전반 PAD 800x2200x100 개소 ( 호표 8 ) | N58: 5F546497C900DCEBAE3B54848599DD
A59: 합판거푸집(보통) | B59: 4회 | C59: ㎡ | D59: 0.6 | E59: =일위대가목록!E34 -> 13811 | F59: =TRUNC(E59*D59,1) -> 8286.6 | G59: =일위대가목록!F34 -> 30099 | H59: =TRUNC(G59*D59,1) -> 18059.4 | I59: =일위대가목록!G34 -> 300 | J59: =TRUNC(I59*D59,1) -> 180 | K59: =TRUNC(E59+G59+I59,1) -> 44210 | L59: =TRUNC(F59+H59+J59,1) -> 26526 | M59: 호표 31 | N59: 5F546497C900DCEBAE3B54848599DD | O59: 581A546C496D8504673174AF9539AB | P59: T | Q59: F | R59: F | AW59: 5F546497C900DCEBAE3B54848599DD581A546C496D8504673174AF9539AB
A60: 잡석깔기지정 | C60: ㎥ | D60: 0.352 | E60: =일위대가목록!E33 -> 29886 | F60: =TRUNC(E60*D60,1) -> 10519.8 | G60: =일위대가목록!F33 -> 8892 | H60: =TRUNC(G60*D60,1) -> 3129.9 | I60: =일위대가목록!G33 -> 1101 | J60: =TRUNC(I60*D60,1) -> 387.5 | K60: =TRUNC(E60+G60+I60,1) -> 39879 | L60: =TRUNC(F60+H60+J60,1) -> 14037.2 | M60: 호표 30 | N60: 5F546497C900DCEBAE3B54848599DD | O60: 581A24390965D8B0C430C457B5B8C4 | P60: T | Q60: F | R60: F | AW60: 5F546497C900DCEBAE3B54848599DD581A24390965D8B0C430C457B5B8C4
A61: 와이어메시바닥깔기 | B61: #10-150*150 | C61: ㎡ | D61: 1.76 | E61: =일위대가목록!E35 -> 596 | F61: =TRUNC(E61*D61,1) -> 1048.9 | G61: =일위대가목록!F35 -> 1346 | H61: =TRUNC(G61*D61,1) -> 2368.9 | I61: =일위대가목록!G35 -> 0 | J61: =TRUNC(I61*D61,1) -> 0 | K61: =TRUNC(E61+G61+I61,1) -> 1942 | L61: =TRUNC(F61+H61+J61,1) -> 3417.8 | M61: 호표 32 | N61: 5F546497C900DCEBAE3B54848599DD | O61: 581A546F19C679BE1534741BB59DE3 | P61: T | Q61: F | R61: F | AW61: 5F546497C900DCEBAE3B54848599DD581A546F19C679BE1534741BB59DE3
A62: 콘크리트인력비빔타설 | B62: 배합비1:2 | C62: ㎥ | D62: 0.176 | E62: =일위대가목록!E36 -> 146800 | F62: =TRUNC(E62*D62,1) -> 25836.8 | G62: =일위대가목록!F36 -> 308933 | H62: =TRUNC(G62*D62,1) -> 54372.2 | I62: =일위대가목록!G36 -> 0 | J62: =TRUNC(I62*D62,1) -> 0 | K62: =TRUNC(E62+G62+I62,1) -> 455733 | L62: =TRUNC(F62+H62+J62,1) -> 80209 | M62: 호표 33 | N62: 5F546497C900DCEBAE3B54848599DD | O62: 581A546BB9E61775C03384755505DB | P62: T | Q62: F | R62: F | AW62: 5F546497C900DCEBAE3B54848599DD581A546BB9E61775C03384755505DB
A63: 터파기(기계100%) | B63: 보통토사 | C63: ㎥ | D63: 0.72 | E63: =일위대가목록!E25 -> 245 | F63: =TRUNC(E63*D63,1) -> 176.4 | G63: =일위대가목록!F25 -> 755 | H63: =TRUNC(G63*D63,1) -> 543.6 | I63: =일위대가목록!G25 -> 304 | J63: =TRUNC(I63*D63,1) -> 218.8 | K63: =TRUNC(E63+G63+I63,1) -> 1304 | L63: =TRUNC(F63+H63+J63,1) -> 938.8 | M63: 호표 24 | N63: 5F546497C900DCEBAE3B54848599DD | O63: 581A341D89B3D0A0343B04ACB53195 | P63: T | Q63: F | R63: F | AW63: 5F546497C900DCEBAE3B54848599DD581A341D89B3D0A0343B04ACB53195
A64: 되메우기(기계100%) | B64: 보통토사 | C64: ㎥ | D64: 0.544 | E64: =일위대가목록!E26 -> 677 | F64: =TRUNC(E64*D64,1) -> 368.2 | G64: =일위대가목록!F26 -> 10574 | H64: =TRUNC(G64*D64,1) -> 5752.2 | I64: =일위대가목록!G26 -> 576 | J64: =TRUNC(I64*D64,1) -> 313.3 | K64: =TRUNC(E64+G64+I64,1) -> 11827 | L64: =TRUNC(F64+H64+J64,1) -> 6433.7 | M64: 호표 25 | N64: 5F546497C900DCEBAE3B54848599DD | O64: 581A341D89B3D0A0343B04ACA52AA3 | P64: T | Q64: F | R64: F | AW64: 5F546497C900DCEBAE3B54848599DD581A341D89B3D0A0343B04ACA52AA3
A65: 현장내잔토처리 | B65: 소운반.고르기 | C65: ㎥ | D65: 1 | E65: =일위대가목록!E31 -> 0 | F65: =TRUNC(E65*D65,1) -> 0 | G65: =일위대가목록!F31 -> 19153 | H65: =TRUNC(G65*D65,1) -> 19153 | I65: =일위대가목록!G31 -> 0 | J65: =TRUNC(I65*D65,1) -> 0 | K65: =TRUNC(E65+G65+I65,1) -> 19153 | L65: =TRUNC(F65+H65+J65,1) -> 19153 | M65: 호표 28 | N65: 5F546497C900DCEBAE3B54848599DD | O65: 581A341BD9CBA591C93ED48B955BBC | P65: T | Q65: F | R65: F | AW65: 5F546497C900DCEBAE3B54848599DD581A341BD9CBA591C93ED48B955BBC
A66: [ 합 계 ] | F66: =TRUNC(SUMIF(N59:N65, N58, F59:F65),0) -> 46236 | H66: =TRUNC(SUMIF(N59:N65, N58, H59:H65),0) -> 103379 | J66: =TRUNC(SUMIF(N59:N65, N58, J59:J65),0) -> 1099 | L66: =F66+H66+J66 -> 150714 | N66: TOTAL | O66: TOTAL
A68: 분전반 PAD 1000x400x300 개소 ( 호표 9 ) | N68: 5F546497C900DCEBAE3B5484859831
A69: 합판거푸집(보통) | B69: 4회 | C69: ㎡ | D69: 0.84 | E69: =일위대가목록!E34 -> 13811 | F69: =TRUNC(E69*D69,1) -> 11601.2 | G69: =일위대가목록!F34 -> 30099 | H69: =TRUNC(G69*D69,1) -> 25283.1 | I69: =일위대가목록!G34 -> 300 | J69: =TRUNC(I69*D69,1) -> 252 | K69: =TRUNC(E69+G69+I69,1) -> 44210 | L69: =TRUNC(F69+H69+J69,1) -> 37136.3 | M69: 호표 31 | N69: 5F546497C900DCEBAE3B5484859831 | O69: 581A546C496D8504673174AF9539AB | P69: T | Q69: F | R69: F | AW69: 5F546497C900DCEBAE3B5484859831581A546C496D8504673174AF9539AB
A70: 잡석깔기지정 | C70: ㎥ | D70: 0.08 | E70: =일위대가목록!E33 -> 29886 | F70: =TRUNC(E70*D70,1) -> 2390.8 | G70: =일위대가목록!F33 -> 8892 | H70: =TRUNC(G70*D70,1) -> 711.3 | I70: =일위대가목록!G33 -> 1101 | J70: =TRUNC(I70*D70,1) -> 88 | K70: =TRUNC(E70+G70+I70,1) -> 39879 | L70: =TRUNC(F70+H70+J70,1) -> 3190.1 | M70: 호표 30 | N70: 5F546497C900DCEBAE3B5484859831 | O70: 581A24390965D8B0C430C457B5B8C4 | P70: T | Q70: F | R70: F | AW70: 5F546497C900DCEBAE3B5484859831581A24390965D8B0C430C457B5B8C4
A71: 와이어메시바닥깔기 | B71: #10-150*150 | C71: ㎡ | D71: 0.4 | E71: =일위대가목록!E35 -> 596 | F71: =TRUNC(E71*D71,1) -> 238.4 | G71: =일위대가목록!F35 -> 1346 | H71: =TRUNC(G71*D71,1) -> 538.4 | I71: =일위대가목록!G35 -> 0 | J71: =TRUNC(I71*D71,1) -> 0 | K71: =TRUNC(E71+G71+I71,1) -> 1942 | L71: =TRUNC(F71+H71+J71,1) -> 776.8 | M71: 호표 32 | N71: 5F546497C900DCEBAE3B5484859831 | O71: 581A546F19C679BE1534741BB59DE3 | P71: T | Q71: F | R71: F | AW71: 5F546497C900DCEBAE3B5484859831581A546F19C679BE1534741BB59DE3
A72: 콘크리트인력비빔타설 | B72: 배합비1:2 | C72: ㎥ | D72: 0.12 | E72: =일위대가목록!E36 -> 146800 | F72: =TRUNC(E72*D72,1) -> 17616 | G72: =일위대가목록!F36 -> 308933 | H72: =TRUNC(G72*D72,1) -> 37071.9 | I72: =일위대가목록!G36 -> 0 | J72: =TRUNC(I72*D72,1) -> 0 | K72: =TRUNC(E72+G72+I72,1) -> 455733 | L72: =TRUNC(F72+H72+J72,1) -> 54687.9 | M72: 호표 33 | N72: 5F546497C900DCEBAE3B5484859831 | O72: 581A546BB9E61775C03384755505DB | P72: T | Q72: F | R72: F | AW72: 5F546497C900DCEBAE3B5484859831581A546BB9E61775C03384755505DB
A73: 터파기(기계100%) | B73: 보통토사 | C73: ㎥ | D73: 0.36 | E73: =일위대가목록!E25 -> 245 | F73: =TRUNC(E73*D73,1) -> 88.2 | G73: =일위대가목록!F25 -> 755 | H73: =TRUNC(G73*D73,1) -> 271.8 | I73: =일위대가목록!G25 -> 304 | J73: =TRUNC(I73*D73,1) -> 109.4 | K73: =TRUNC(E73+G73+I73,1) -> 1304 | L73: =TRUNC(F73+H73+J73,1) -> 469.4 | M73: 호표 24 | N73: 5F546497C900DCEBAE3B5484859831 | O73: 581A341D89B3D0A0343B04ACB53195 | P73: T | Q73: F | R73: F | AW73: 5F546497C900DCEBAE3B5484859831581A341D89B3D0A0343B04ACB53195
A74: 되메우기(기계100%) | B74: 보통토사 | C74: ㎥ | D74: 0.24 | E74: =일위대가목록!E26 -> 677 | F74: =TRUNC(E74*D74,1) -> 162.4 | G74: =일위대가목록!F26 -> 10574 | H74: =TRUNC(G74*D74,1) -> 2537.7 | I74: =일위대가목록!G26 -> 576 | J74: =TRUNC(I74*D74,1) -> 138.2 | K74: =TRUNC(E74+G74+I74,1) -> 11827 | L74: =TRUNC(F74+H74+J74,1) -> 2838.3 | M74: 호표 25 | N74: 5F546497C900DCEBAE3B5484859831 | O74: 581A341D89B3D0A0343B04ACA52AA3 | P74: T | Q74: F | R74: F | AW74: 5F546497C900DCEBAE3B5484859831581A341D89B3D0A0343B04ACA52AA3
A75: 현장내잔토처리 | B75: 소운반.고르기 | C75: ㎥ | D75: 1 | E75: =일위대가목록!E31 -> 0 | F75: =TRUNC(E75*D75,1) -> 0 | G75: =일위대가목록!F31 -> 19153 | H75: =TRUNC(G75*D75,1) -> 19153 | I75: =일위대가목록!G31 -> 0 | J75: =TRUNC(I75*D75,1) -> 0 | K75: =TRUNC(E75+G75+I75,1) -> 19153 | L75: =TRUNC(F75+H75+J75,1) -> 19153 | M75: 호표 28 | N75: 5F546497C900DCEBAE3B5484859831 | O75: 581A341BD9CBA591C93ED48B955BBC | P75: T | Q75: F | R75: F | AW75: 5F546497C900DCEBAE3B5484859831581A341BD9CBA591C93ED48B955BBC
A76: [ 합 계 ] | F76: =TRUNC(SUMIF(N69:N75, N68, F69:F75),0) -> 32097 | H76: =TRUNC(SUMIF(N69:N75, N68, H69:H75),0) -> 85567 | J76: =TRUNC(SUMIF(N69:N75, N68, J69:J75),0) -> 587 | L76: =F76+H76+J76 -> 118251 | N76: TOTAL | O76: TOTAL
A78: 6/10kV고압가교폴리에틸렌(F-CV) 1C 50㎟(3열) M 전기 4-34 ( 호표 10 ) | N78: 5F546497C900DCEBF63AC47A857676
A79: 6/10kV고압가교폴리에틸렌(F-CV) | B79: 1C 50㎟ | C79: m | D79: 1 | E79: =단가대비표!O28 -> 11932 | F79: =TRUNC(E79*D79,1) -> 11932 | G79: =단가대비표!P28 -> 0 | H79: =TRUNC(G79*D79,1) -> 0 | I79: =단가대비표!V28 -> 0 | J79: =TRUNC(I79*D79,1) -> 0 | K79: =TRUNC(E79+G79+I79,1) -> 11932 | L79: =TRUNC(F79+H79+J79,1) -> 11932 | N79: 5F546497C900DCEBF63AC47A857676 | O79: 5F28A480E95DEFCA5331B49995A7F9F1234DA9 | P79: F | Q79: F | R79: T | V79: 1 | AW79: 5F546497C900DCEBF63AC47A8576765F28A480E95DEFCA5331B49995A7F9F1234DA9
A80: 6/10kV고압가교폴리에틸렌(F-CV) | B80: 1C 50㎟ | C80: m | D80: 0.05 | E80: =단가대비표!O28 -> 11932 | F80: =TRUNC(E80*D80,1) -> 596.6 | G80: =단가대비표!P28 -> 0 | H80: =TRUNC(G80*D80,1) -> 0 | I80: =단가대비표!V28 -> 0 | J80: =TRUNC(I80*D80,1) -> 0 | K80: =TRUNC(E80+G80+I80,1) -> 11932 | L80: =TRUNC(F80+H80+J80,1) -> 596.6 | N80: 5F546497C900DCEBF63AC47A857676 | O80: 5F28A480E95DEFCA5331B49995A7F9F1234DA9 | P80: F | Q80: F | R80: T | AW80: 5F546497C900DCEBF63AC47A8576765F28A480E95DEFCA5331B49995A7F9F1234DA9
A81: 잡재료비 | B81: 배관배선의 2% | C81: 식 | D81: 1 | E81: =TRUNC(SUMIF(V79:V84, RIGHTB(O81, 1), F79:F84)*U81, 2) -> 238.64 | F81: =TRUNC(E81*D81,1) -> 238.6 | G81: 0 | H81: =TRUNC(G81*D81,1) -> 0 | I81: 0 | J81: =TRUNC(I81*D81,1) -> 0 | K81: =TRUNC(E81+G81+I81,1) -> 238.6 | L81: =TRUNC(F81+H81+J81,1) -> 238.6 | N81: 5F546497C900DCEBF63AC47A857676 | O81: 5903743FA914797AD03514258567001 | P81: F | Q81: F | R81: F | S81: 0 | T81: 0 | U81: 0.02 | AW81: 5F546497C900DCEBF63AC47A8576765903743FA914797AD03514258567001
A82: 보통인부 | B82: 일반공사직종 | C82: 인 | D82: 0.0073 | E82: =단가대비표!O114 -> 0 | F82: =TRUNC(E82*D82,1) -> 0 | G82: =단가대비표!P114 -> 95767 | H82: =TRUNC(G82*D82,1) -> 699 | I82: =단가대비표!V114 -> 0 | J82: =TRUNC(I82*D82,1) -> 0 | K82: =TRUNC(E82+G82+I82,1) -> 95767 | L82: =TRUNC(F82+H82+J82,1) -> 699 | N82: 5F546497C900DCEBF63AC47A857676 | O82: 58CFC4C31996CDE96A31A4F8553087A8AC2EC7 | P82: F | Q82: F | R82: T | W82: 2 | AW82: 5F546497C900DCEBF63AC47A85767658CFC4C31996CDE96A31A4F8553087A8AC2EC7
A83: 고압케이블전공 | B83: 일반공사직종 | C83: 인 | D83: 0.0073 | E83: =단가대비표!O123 -> 0 | F83: =TRUNC(E83*D83,1) -> 0 | G83: =단가대비표!P123 -> 372997 | H83: =TRUNC(G83*D83,1) -> 2722.8 | I83: =단가대비표!V123 -> 0 | J83: =TRUNC(I83*D83,1) -> 0 | K83: =TRUNC(E83+G83+I83,1) -> 372997 | L83: =TRUNC(F83+H83+J83,1) -> 2722.8 | N83: 5F546497C900DCEBF63AC47A857676 | O83: 58CFC4C31996CDE96A31A4F8553087A8AC2944 | P83: F | Q83: F | R83: T | W83: 2 | AW83: 5F546497C900DCEBF63AC47A85767658CFC4C31996CDE96A31A4F8553087A8AC2944
A84: 공구손료 | B84: 인력품의 2% | C84: 식 | D84: 1 | E84: =ROUND(0.02*H85,2) -> 68.42 | F84: =TRUNC(E84*D84,1) -> 68.4 | G84: 0 | H84: =TRUNC(G84*D84,1) -> 0 | I84: 0 | J84: =TRUNC(I84*D84,1) -> 0 | K84: =TRUNC(E84+G84+I84,1) -> 68.4 | L84: =TRUNC(F84+H84+J84,1) -> 68.4 | N84: 5F546497C900DCEBF63AC47A857676 | O84: 5903743FA914797AD03514258564002 | P84: F | Q84: F | R84: F | S84: 1 | T84: 0 | U84: 0.03 | AW84: 5F546497C900DCEBF63AC47A8576765903743FA914797AD03514258564002
A85: [ 합 계 ] | F85: =TRUNC(SUMIF(N79:N84, N78, F79:F84),0) -> 12835 | H85: =TRUNC(SUMIF(N79:N84, N78, H79:H84),0) -> 3421 | J85: =TRUNC(SUMIF(N79:N84, N78, J79:J84),0) -> 0 | L85: =F85+H85+J85 -> 16256 | N85: TOTAL | O85: TOTAL
A87: 6/10kV고압가교폴리에틸렌(F-CV) 3C 25㎟ M 전기 4-34 ( 호표 11 ) | N87: 5F546497C900DCEBF63AC468250D8F
A88: 6/10kV고압가교폴리에틸렌(F-CV) | B88: 3C 25㎟ | C88: m | D88: 1 | E88: =단가대비표!O29 -> 24083 | F88: =TRUNC(E88*D88,1) -> 24083 | G88: =단가대비표!P29 -> 0 | H88: =TRUNC(G88*D88,1) -> 0 | I88: =단가대비표!V29 -> 0 | J88: =TRUNC(I88*D88,1) -> 0 | K88: =TRUNC(E88+G88+I88,1) -> 24083 | L88: =TRUNC(F88+H88+J88,1) -> 24083 | N88: 5F546497C900DCEBF63AC468250D8F | O88: 5F28A480E95DEFCA5331B49995A7F9F1234C80 | P88: F | Q88: F | R88: T | V88: 1 | AW88: 5F546497C900DCEBF63AC468250D8F5F28A480E95DEFCA5331B49995A7F9F1234C80
A89: 6/10kV고압가교폴리에틸렌(F-CV) | B89: 3C 25㎟ | C89: m | D89: 0.05 | E89: =단가대비표!O29 -> 24083 | F89: =TRUNC(E89*D89,1) -> 1204.1 | G89: =단가대비표!P29 -> 0 | H89: =TRUNC(G89*D89,1) -> 0 | I89: =단가대비표!V29 -> 0 | J89: =TRUNC(I89*D89,1) -> 0 | K89: =TRUNC(E89+G89+I89,1) -> 24083 | L89: =TRUNC(F89+H89+J89,1) -> 1204.1 | M89: ... | N89: 5F546497C900DCEBF63AC468250D8F | O89: 5F28A480E95DEFCA5331B49995A7F9F1234C80 | P89: F | Q89: F | R89: T | AW89: 5F546497C900DCEBF63AC468250D8F5F28A480E95DEFCA5331B49995A7F9F1234C80
A90: 잡재료비 | B90: 배관배선의 2% | C90: 식 | D90: 1 | E90: =TRUNC(SUMIF(V88:V93, RIGHTB(O90, 1), F88:F93)*U90, 2) -> 481.66 | F90: =TRUNC(E90*D90,1) -> 481.6 | G90: 0 | H90: =TRUNC(G90*D90,1) -> 0 | I90: 0 | J90: =TRUNC(I90*D90,1) -> 0 | K90: =TRUNC(E90+G90+I90,1) -> 481.6 | L90: =TRUNC(F90+H90+J90,1) -> 481.6 | N90: 5F546497C900DCEBF63AC468250D8F | O90: 5903743FA914797AD03514258567001 | P90: F | Q90: F | R90: F | S90: 0 | T90: 0 | U90: 0.02 | AW90: 5F546497C900DCEBF63AC468250D8F5903743FA914797AD03514258567001
A91: 고압케이블전공 | B91: 일반공사직종 | C91: 인 | D91: 0.014 | E91: =단가대비표!O123 -> 0 | F91: =TRUNC(E91*D91,1) -> 0 | G91: =단가대비표!P123 -> 372997 | H91: =TRUNC(G91*D91,1) -> 5221.9 | I91: =단가대비표!V123 -> 0 | J91: =TRUNC(I91*D91,1) -> 0 | K91: =TRUNC(E91+G91+I91,1) -> 372997 | L91: =TRUNC(F91+H91+J91,1) -> 5221.9 | N91: 5F546497C900DCEBF63AC468250D8F | O91: 58CFC4C31996CDE96A31A4F8553087A8AC2944 | P91: F | Q91: F | R91: T | W91: 2 | AW91: 5F546497C900DCEBF63AC468250D8F58CFC4C31996CDE96A31A4F8553087A8AC2944
A92: 보통인부 | B92: 일반공사직종 | C92: 인 | D92: 0.014 | E92: =단가대비표!O114 -> 0 | F92: =TRUNC(E92*D92,1) -> 0 | G92: =단가대비표!P114 -> 95767 | H92: =TRUNC(G92*D92,1) -> 1340.7 | I92: =단가대비표!V114 -> 0 | J92: =TRUNC(I92*D92,1) -> 0 | K92: =TRUNC(E92+G92+I92,1) -> 95767 | L92: =TRUNC(F92+H92+J92,1) -> 1340.7 | N92: 5F546497C900DCEBF63AC468250D8F | O92: 58CFC4C31996CDE96A31A4F8553087A8AC2EC7 | P92: F | Q92: F | R92: T | W92: 2 | AW92: 5F546497C900DCEBF63AC468250D8F58CFC4C31996CDE96A31A4F8553087A8AC2EC7
A93: 공구손료 | B93: 인력품의 2% | C93: 식 | D93: 1 | E93: =ROUND(0.02*H94,2) -> 131.24 | F93: =TRUNC(E93*D93,1) -> 131.2 | G93: 0 | H93: =TRUNC(G93*D93,1) -> 0 | I93: 0 | J93: =TRUNC(I93*D93,1) -> 0 | K93: =TRUNC(E93+G93+I93,1) -> 131.2 | L93: =TRUNC(F93+H93+J93,1) -> 131.2 | N93: 5F546497C900DCEBF63AC468250D8F | O93: 5903743FA914797AD03514258564002 | P93: F | Q93: F | R93: F | S93: 1 | T93: 0 | U93: 0.03 | AW93: 5F546497C900DCEBF63AC468250D8F5903743FA914797AD03514258564002
A94: [ 합 계 ] | F94: =TRUNC(SUMIF(N88:N93, N87, F88:F93),0) -> 25899 | H94: =TRUNC(SUMIF(N88:N93, N87, H88:H93),0) -> 6562 | J94: =TRUNC(SUMIF(N88:N93, N87, J88:J93),0) -> 0 | L94: =F94+H94+J94 -> 32461 | N94: TOTAL | O94: TOTAL
A96: 0.6/1kV제어용난연(F-CVV-SB) 2C 1.5㎟ M 전기 5-13 ( 호표 12 ) | N96: 5F546497C900DCEBDB3D0496E547FD
A97: 0.6/1kV제어용난연(F-CVV-SB) | B97: 2C 1.5㎟ | C97: m | D97: 1 | E97: =단가대비표!O21 -> 1992 | F97: =TRUNC(E97*D97,1) -> 1992 | G97: =단가대비표!P21 -> 0 | H97: =TRUNC(G97*D97,1) -> 0 | I97: =단가대비표!V21 -> 0 | J97: =TRUNC(I97*D97,1) -> 0 | K97: =TRUNC(E97+G97+I97,1) -> 1992 | L97: =TRUNC(F97+H97+J97,1) -> 1992 | N97: 5F546497C900DCEBDB3D0496E547FD | O97: 5F28A480E95DEFCA7E36047F658794907B9449 | P97: F | Q97: F | R97: T | V97: 1 | AW97: 5F546497C900DCEBDB3D0496E547FD5F28A480E95DEFCA7E36047F658794907B9449
A98: 0.6/1kV제어용난연(F-CVV-SB) | B98: 2C 1.5㎟ | C98: m | D98: 0.05 | E98: =단가대비표!O21 -> 1992 | F98: =TRUNC(E98*D98,1) -> 99.6 | G98: =단가대비표!P21 -> 0 | H98: =TRUNC(G98*D98,1) -> 0 | I98: =단가대비표!V21 -> 0 | J98: =TRUNC(I98*D98,1) -> 0 | K98: =TRUNC(E98+G98+I98,1) -> 1992 | L98: =TRUNC(F98+H98+J98,1) -> 99.6 | N98: 5F546497C900DCEBDB3D0496E547FD | O98: 5F28A480E95DEFCA7E36047F658794907B9449 | P98: F | Q98: F | R98: T | AW98: 5F546497C900DCEBDB3D0496E547FD5F28A480E95DEFCA7E36047F658794907B9449
A99: 잡재료비 | B99: 배관배선의 2% | C99: 식 | D99: 1 | E99: =TRUNC(SUMIF(V97:V101, RIGHTB(O99, 1), F97:F101)*U99, 2) -> 39.84 | F99: =TRUNC(E99*D99,1) -> 39.8 | G99: 0 | H99: =TRUNC(G99*D99,1) -> 0 | I99: 0 | J99: =TRUNC(I99*D99,1) -> 0 | K99: =TRUNC(E99+G99+I99,1) -> 39.8 | L99: =TRUNC(F99+H99+J99,1) -> 39.8 | N99: 5F546497C900DCEBDB3D0496E547FD | O99: 5903743FA914797AD03514258567001 | P99: F | Q99: F | R99: F | S99: 0 | T99: 0 | U99: 0.02 | AW99: 5F546497C900DCEBDB3D0496E547FD5903743FA914797AD03514258567001
A100: 저압케이블전공 | B100: 일반공사직종 | C100: 인 | D100: 0.0168 | E100: =단가대비표!O124 -> 0 | F100: =TRUNC(E100*D100,1) -> 0 | G100: =단가대비표!P124 -> 303632 | H100: =TRUNC(G100*D100,1) -> 5101 | I100: =단가대비표!V124 -> 0 | J100: =TRUNC(I100*D100,1) -> 0 | K100: =TRUNC(E100+G100+I100,1) -> 303632 | L100: =TRUNC(F100+H100+J100,1) -> 5101 | N100: 5F546497C900DCEBDB3D0496E547FD | O100: 58CFC4C31996CDE96A31A4F8553087A8AC294B | P100: F | Q100: F | R100: T | W100: 2 | AW100: 5F546497C900DCEBDB3D0496E547FD58CFC4C31996CDE96A31A4F8553087A8AC294B
A101: 공구손료 | B101: 인력품의 2% | C101: 식 | D101: 1 | E101: =ROUND(0.02*H102,2) -> 102.02 | F101: =TRUNC(E101*D101,1) -> 102 | G101: 0 | H101: =TRUNC(G101*D101,1) -> 0 | I101: 0 | J101: =TRUNC(I101*D101,1) -> 0 | K101: =TRUNC(E101+G101+I101,1) -> 102 | L101: =TRUNC(F101+H101+J101,1) -> 102 | N101: 5F546497C900DCEBDB3D0496E547FD | O101: 5903743FA914797AD03514258564002 | P101: F | Q101: F | R101: F | S101: 1 | T101: 0 | U101: 0.03 | AW101: 5F546497C900DCEBDB3D0496E547FD5903743FA914797AD03514258564002
A102: [ 합 계 ] | F102: =TRUNC(SUMIF(N97:N101, N96, F97:F101),0) -> 2233 | H102: =TRUNC(SUMIF(N97:N101, N96, H97:H101),0) -> 5101 | J102: =TRUNC(SUMIF(N97:N101, N96, J97:J101),0) -> 0 | L102: =F102+H102+J102 -> 7334 | N102: TOTAL | O102: TOTAL
A104: 0.6/1kV제어용난연(F-CVV-SB) 20C 1.5㎟ M 전기 5-13 ( 호표 13 ) | N104: 5F546497C900DCEBDB3D0496650F0F
A105: 0.6/1kV제어용난연(F-CVV-SB) | B105: 20C 1.5㎟ | C105: m | D105: 1 | E105: =단가대비표!O22 -> 8627 | F105: =TRUNC(E105*D105,1) -> 8627 | G105: =단가대비표!P22 -> 0 | H105: =TRUNC(G105*D105,1) -> 0 | I105: =단가대비표!V22 -> 0 | J105: =TRUNC(I105*D105,1) -> 0 | K105: =TRUNC(E105+G105+I105,1) -> 8627 | L105: =TRUNC(F105+H105+J105,1) -> 8627 | N105: 5F546497C900DCEBDB3D0496650F0F | O105: 5F28A480E95DEFCA7E36047F658794907A8C4D | P105: F | Q105: F | R105: T | V105: 1 | AW105: 5F546497C900DCEBDB3D0496650F0F5F28A480E95DEFCA7E36047F658794907A8C4D
A106: 0.6/1kV제어용난연(F-CVV-SB) | B106: 20C 1.5㎟ | C106: m | D106: 0.05 | E106: =단가대비표!O22 -> 8627 | F106: =TRUNC(E106*D106,1) -> 431.3 | G106: =단가대비표!P22 -> 0 | H106: =TRUNC(G106*D106,1) -> 0 | I106: =단가대비표!V22 -> 0 | J106: =TRUNC(I106*D106,1) -> 0 | K106: =TRUNC(E106+G106+I106,1) -> 8627 | L106: =TRUNC(F106+H106+J106,1) -> 431.3 | N106: 5F546497C900DCEBDB3D0496650F0F | O106: 5F28A480E95DEFCA7E36047F658794907A8C4D | P106: F | Q106: F | R106: T | AW106: 5F546497C900DCEBDB3D0496650F0F5F28A480E95DEFCA7E36047F658794907A8C4D
A107: 잡재료비 | B107: 배관배선의 2% | C107: 식 | D107: 1 | E107: =TRUNC(SUMIF(V105:V109, RIGHTB(O107, 1), F105:F109)*U107, 2) -> 172.54 | F107: =TRUNC(E107*D107,1) -> 172.5 | G107: 0 | H107: =TRUNC(G107*D107,1) -> 0 | I107: 0 | J107: =TRUNC(I107*D107,1) -> 0 | K107: =TRUNC(E107+G107+I107,1) -> 172.5 | L107: =TRUNC(F107+H107+J107,1) -> 172.5 | N107: 5F546497C900DCEBDB3D0496650F0F | O107: 5903743FA914797AD03514258567001 | P107: F | Q107: F | R107: F | S107: 0 | T107: 0 | U107: 0.02 | AW107: 5F546497C900DCEBDB3D0496650F0F5903743FA914797AD03514258567001
A108: 저압케이블전공 | B108: 일반공사직종 | C108: 인 | D108: 0.0888 | E108: =단가대비표!O124 -> 0 | F108: =TRUNC(E108*D108,1) -> 0 | G108: =단가대비표!P124 -> 303632 | H108: =TRUNC(G108*D108,1) -> 26962.5 | I108: =단가대비표!V124 -> 0 | J108: =TRUNC(I108*D108,1) -> 0 | K108: =TRUNC(E108+G108+I108,1) -> 303632 | L108: =TRUNC(F108+H108+J108,1) -> 26962.5 | N108: 5F546497C900DCEBDB3D0496650F0F | O108: 58CFC4C31996CDE96A31A4F8553087A8AC294B | P108: F | Q108: F | R108: T | W108: 2 | AW108: 5F546497C900DCEBDB3D0496650F0F58CFC4C31996CDE96A31A4F8553087A8AC294B
A109: 공구손료 | B109: 인력품의 2% | C109: 식 | D109: 1 | E109: =ROUND(0.02*H110,2) -> 539.24 | F109: =TRUNC(E109*D109,1) -> 539.2 | G109: 0 | H109: =TRUNC(G109*D109,1) -> 0 | I109: 0 | J109: =TRUNC(I109*D109,1) -> 0 | K109: =TRUNC(E109+G109+I109,1) -> 539.2 | L109: =TRUNC(F109+H109+J109,1) -> 539.2 | N109: 5F546497C900DCEBDB3D0496650F0F | O109: 5903743FA914797AD03514258564002 | P109: F | Q109: F | R109: F | S109: 1 | T109: 0 | U109: 0.03 | AW109: 5F546497C900DCEBDB3D0496650F0F5903743FA914797AD03514258564002
A110: [ 합 계 ] | F110: =TRUNC(SUMIF(N105:N109, N104, F105:F109),0) -> 9770 | H110: =TRUNC(SUMIF(N105:N109, N104, H105:H109),0) -> 26962 | J110: =TRUNC(SUMIF(N105:N109, N104, J105:J109),0) -> 0 | L110: =F110+H110+J110 -> 36732 | N110: TOTAL | O110: TOTAL
A112: 케이블 단말접속자재 자기수축,6.9kV 1Cx60 ㎟ KIT 전기 4-37 ( 호표 14 ) | N112: 5F546497C900DCEB3B3AD4C2B595A3
A113: 케이블 단말접속자재 | B113: 자기수축,6.9kV 1Cx60 ㎟ | C113: KIT | D113: 1 | E113: =단가대비표!O58 -> 56367 | F113: =TRUNC(E113*D113,1) -> 56367 | G113: =단가대비표!P58 -> 0 | H113: =TRUNC(G113*D113,1) -> 0 | I113: =단가대비표!V58 -> 0 | J113: =TRUNC(I113*D113,1) -> 0 | K113: =TRUNC(E113+G113+I113,1) -> 56367 | L113: =TRUNC(F113+H113+J113,1) -> 56367 | N113: 5F546497C900DCEB3B3AD4C2B595A3 | O113: 5F39B4F619096CFAED3CC49485504FFFE323E9 | P113: F | Q113: F | R113: T | AW113: 5F546497C900DCEB3B3AD4C2B595A35F39B4F619096CFAED3CC49485504FFFE323E9
...

Sheet 예비품
A1: [ 확장양수장 신설사업 전기공사 ]
A2: 품 명 | B2: 규 격 | C2: 단위 | D2: 수량 | E2: 재 료 비 | G2: 노 무 비 | I2: 경 비 | K2: 합 계 | M2: 비 고 | N2: 품목코드 | O2: 변수 | P2: 설정 | Q2: 공종코드 | R2: 일위 | S2: 단산 | T2: 자재 | U2: 손료적용 | V2: 손료저장 | W2: 적용율 | X2: JUK1 | Y2: JUK2 | Z2: JUK3 | AA2: JUK4 | AB2: JUK5 | AC2: JUK6 | AD2: JUK7 | AE2: JUK8 | AF2: JUK9 | AG2: JUK10 | AH2: JUK11 | AI2: JUK12 | AJ2: JUK13 | AK2: JUK14 | AL2: JUK15 | AM2: JUK16 | AN2: JUK17 | AO2: JUK18 | AP2: JUK19 | AQ2: JUK20 | AR2: 자재구분 | AS2: 공종구분 | AT2: 공종레벨 | AU2: 공종+자재 | AV2: 고유번호
E3: 단 가 | F3: 금 액 | G3: 단 가 | H3: 금 액 | I3: 단 가 | J3: 금 액 | K3: 단 가 | L3: 금 액
A4: 010101 옥외전기설비공사 | B4: 전기공사 | Q4: 010101
A5: 1종금속제가요전선관 | B5: 비닐피복, 28 mm 방수 | C5: M | D5: 6 | E5: =TRUNC(일위대가목록!E41,0) -> 2656 | F5: =TRUNC(E5*D5, 0) -> 15936 | G5: =TRUNC(일위대가목록!F41,0) -> 23633 | H5: =TRUNC(G5*D5, 0) -> 141798 | I5: =TRUNC(일위대가목록!G41,0) -> 0 | J5: =TRUNC(I5*D5, 0) -> 0 | K5: =TRUNC(E5+G5+I5, 0) -> 26289 | L5: =TRUNC(F5+H5+J5, 0) -> 157734 | M5: 호표 38 | N5: 5853949F59EA5DD658398434652D23 | Q5: 010101 | R5: T | S5: F | T5: F | AU5: 0101015853949F59EA5DD658398434652D23 | AV5: 4
A6: 1종금속제가요전선관 | B6: 비닐피복, 54 mm 방수 | C6: M | D6: 6 | E6: =TRUNC(일위대가목록!E42,0) -> 6302 | F6: =TRUNC(E6*D6, 0) -> 37812 | G6: =TRUNC(일위대가목록!F42,0) -> 44641 | H6: =TRUNC(G6*D6, 0) -> 267846 | I6: =TRUNC(일위대가목록!G42,0) -> 0 | J6: =TRUNC(I6*D6, 0) -> 0 | K6: =TRUNC(E6+G6+I6, 0) -> 50943 | L6: =TRUNC(F6+H6+J6, 0) -> 305658 | M6: 호표 39 | N6: 5853949F59EA5DD6583984346528A1 | Q6: 010101 | R6: T | S6: F | T6: F | AU6: 0101015853949F59EA5DD6583984346528A1 | AV6: 5
A7: 파상형 경질폴리에틸렌 전선관 | B7: 30㎜ | C7: M | D7: 16 | E7: =TRUNC(일위대가목록!E43,0) -> 454 | F7: =TRUNC(E7*D7, 0) -> 7264 | G7: =TRUNC(일위대가목록!F43,0) -> 3819 | H7: =TRUNC(G7*D7, 0) -> 61104 | I7: =TRUNC(일위대가목록!G43,0) -> 0 | J7: =TRUNC(I7*D7, 0) -> 0 | K7: =TRUNC(E7+G7+I7, 0) -> 4273 | L7: =TRUNC(F7+H7+J7, 0) -> 68368 | M7: 호표 40 | N7: 5853949F59EA5DF13638840EE550A2 | Q7: 010101 | R7: T | S7: F | T7: F | AU7: 0101015853949F59EA5DF13638840EE550A2 | AV7: 6
A8: 파상형 경질폴리에틸렌 전선관 | B8: 40㎜ | C8: M | D8: 87 | E8: =TRUNC(일위대가목록!E44,0) -> 669 | F8: =TRUNC(E8*D8, 0) -> 58203 | G8: =TRUNC(일위대가목록!F44,0) -> 4616 | H8: =TRUNC(G8*D8, 0) -> 401592 | I8: =TRUNC(일위대가목록!G44,0) -> 0 | J8: =TRUNC(I8*D8, 0) -> 0 | K8: =TRUNC(E8+G8+I8, 0) -> 5285 | L8: =TRUNC(F8+H8+J8, 0) -> 459795 | M8: 호표 41 | N8: 5853949F59EA5DF13638840EE55376 | Q8: 010101 | R8: T | S8: F | T8: F | AU8: 0101015853949F59EA5DF13638840EE55376 | AV8: 7
A9: 파상형 경질폴리에틸렌 전선관 | B9: 50㎜ | C9: M | D9: 49 | E9: =TRUNC(일위대가목록!E45,0) -> 858 | F9: =TRUNC(E9*D9, 0) -> 42042 | G9: =TRUNC(일위대가목록!F45,0) -> 4616 | H9: =TRUNC(G9*D9, 0) -> 226184 | I9: =TRUNC(일위대가목록!G45,0) -> 0 | J9: =TRUNC(I9*D9, 0) -> 0 | K9: =TRUNC(E9+G9+I9, 0) -> 5474 | L9: =TRUNC(F9+H9+J9, 0) -> 268226 | M9: 호표 42 | N9: 5853949F59EA5DF13638840EE5526F | Q9: 010101 | R9: T | S9: F | T9: F | AU9: 0101015853949F59EA5DF13638840EE5526F | AV9: 8
A10: 파상형 경질폴리에틸렌 전선관 | B10: 65㎜ | C10: M | D10: 107 | E10: =TRUNC(일위대가목록!E46,0) -> 1261 | F10: =TRUNC(E10*D10, 0) -> 134927 | G10: =TRUNC(일위대가목록!F46,0) -> 5825 | H10: =TRUNC(G10*D10, 0) -> 623275 | I10: =TRUNC(일위대가목록!G46,0) -> 0 | J10: =TRUNC(I10*D10, 0) -> 0 | K10: =TRUNC(E10+G10+I10, 0) -> 7086 | L10: =TRUNC(F10+H10+J10, 0) -> 758202 | M10: 호표 43 | N10: 5853949F59EA5DF13638840EE55524 | Q10: 010101 | R10: T | S10: F | T10: F | AU10: 0101015853949F59EA5DF13638840EE55524 | AV10: 9
A11: 파상형 경질폴리에틸렌 전선관 | B11: 80㎜ | C11: M | D11: 67 | E11: =TRUNC(일위대가목록!E47,0) -> 1639 | F11: =TRUNC(E11*D11, 0) -> 109813 | G11: =TRUNC(일위대가목록!F47,0) -> 5825 | H11: =TRUNC(G11*D11, 0) -> 390275 | I11: =TRUNC(일위대가목록!G47,0) -> 0 | J11: =TRUNC(I11*D11, 0) -> 0 | K11: =TRUNC(E11+G11+I11, 0) -> 7464 | L11: =TRUNC(F11+H11+J11, 0) -> 500088 | M11: 호표 44 | N11: 5853949F59EA5DF13638840EE5541D | Q11: 010101 | R11: T | S11: F | T11: F | AU11: 0101015853949F59EA5DF13638840EE5541D | AV11: 10
A12: 난연성 비닐절연 접지용전선 | B12: 0.6/1kV F-GV 4㎟ | C12: M | D12: 60 | E12: =TRUNC(일위대가목록!E50,0) -> 1293 | F12: =TRUNC(E12*D12, 0) -> 77580 | G12: =TRUNC(일위대가목록!F50,0) -> 2461 | H12: =TRUNC(G12*D12, 0) -> 147660 | I12: =TRUNC(일위대가목록!G50,0) -> 0 | J12: =TRUNC(I12*D12, 0) -> 0 | K12: =TRUNC(E12+G12+I12, 0) -> 3754 | L12: =TRUNC(F12+H12+J12, 0) -> 225240 | M12: 호표 47 | N12: 5853949F59D9EE50673F64F0852C4C | Q12: 010101 | R12: T | S12: F | T12: F | AU12: 0101015853949F59D9EE50673F64F0852C4C | AV12: 11
A13: 난연성 비닐절연 접지용전선 | B13: 0.6/1kV F-GV 6㎟ | C13: M | D13: 34 | E13: =TRUNC(일위대가목록!E51,0) -> 1464 | F13: =TRUNC(E13*D13, 0) -> 49776 | G13: =TRUNC(일위대가목록!F51,0) -> 2461 | H13: =TRUNC(G13*D13, 0) -> 83674 | I13: =TRUNC(일위대가목록!G51,0) -> 0 | J13: =TRUNC(I13*D13, 0) -> 0 | K13: =TRUNC(E13+G13+I13, 0) -> 3925 | L13: =TRUNC(F13+H13+J13, 0) -> 133450 | M13: 호표 48 | N13: 5853949F59D9EE50673F64F0852D52 | Q13: 010101 | R13: T | S13: F | T13: F | AU13: 0101015853949F59D9EE50673F64F0852D52 | AV13: 12
A14: 난연성 비닐절연 접지용전선 | B14: 0.6/1kV F-GV 16㎟ | C14: M | D14: 55 | E14: =TRUNC(일위대가목록!E52,0) -> 3315 | F14: =TRUNC(E14*D14, 0) -> 182325 | G14: =TRUNC(일위대가목록!F52,0) -> 2872 | H14: =TRUNC(G14*D14, 0) -> 157960 | I14: =TRUNC(일위대가목록!G52,0) -> 0 | J14: =TRUNC(I14*D14, 0) -> 0 | K14: =TRUNC(E14+G14+I14, 0) -> 6187 | L14: =TRUNC(F14+H14+J14, 0) -> 340285 | M14: 호표 49 | N14: 5853949F59D9EE50673F64F0852BA5 | Q14: 010101 | R14: T | S14: F | T14: F | AU14: 0101015853949F59D9EE50673F64F0852BA5 | AV14: 13
A15: 6/10kV고압가교폴리에틸렌(F-CV) | B15: 1C 50㎟(3열) | C15: M | D15: 99 | E15: =TRUNC(일위대가목록!E13,0) -> 12835 | F15: =TRUNC(E15*D15, 0) -> 1270665 | G15: =TRUNC(일위대가목록!F13,0) -> 3421 | H15: =TRUNC(G15*D15, 0) -> 338679 | I15: =TRUNC(일위대가목록!G13,0) -> 0 | J15: =TRUNC(I15*D15, 0) -> 0 | K15: =TRUNC(E15+G15+I15, 0) -> 16256 | L15: =TRUNC(F15+H15+J15, 0) -> 1609344 | M15: 호표 10 | N15: 5F546497C900DCEBF63AC47A857676 | Q15: 010101 | R15: T | S15: F | T15: F | AU15: 0101015F546497C900DCEBF63AC47A857676 | AV15: 14
A16: 6/10kV고압가교폴리에틸렌(F-CV) | B16: 3C 25㎟ | C16: M | D16: 55 | E16: =TRUNC(일위대가목록!E14,0) -> 25899 | F16: =TRUNC(E16*D16, 0) -> 1424445 | G16: =TRUNC(일위대가목록!F14,0) -> 6562 | H16: =TRUNC(G16*D16, 0) -> 360910 | I16: =TRUNC(일위대가목록!G14,0) -> 0 | J16: =TRUNC(I16*D16, 0) -> 0 | K16: =TRUNC(E16+G16+I16, 0) -> 32461 | L16: =TRUNC(F16+H16+J16, 0) -> 1785355 | M16: 호표 11 | N16: 5F546497C900DCEBF63AC468250D8F | Q16: 010101 | R16: T | S16: F | T16: F | AU16: 0101015F546497C900DCEBF63AC468250D8F | AV16: 15
A17: 0.6/1kV가교폴리에틸렌(F-CV) 옥외 | B17: 3C 4㎟ | C17: M | D17: 60 | E17: =TRUNC(일위대가목록!E55,0) -> 3045 | F17: =TRUNC(E17*D17, 0) -> 182700 | G17: =TRUNC(일위대가목록!F55,0) -> 3674 | H17: =TRUNC(G17*D17, 0) -> 220440 | I17: =TRUNC(일위대가목록!G55,0) -> 0 | J17: =TRUNC(I17*D17, 0) -> 0 | K17: =TRUNC(E17+G17+I17, 0) -> 6719 | L17: =TRUNC(F17+H17+J17, 0) -> 403140 | M17: 호표 52 | N17: 5853949F59CF77FD0A36D4AAE57E14 | Q17: 010101 | R17: T | S17: F | T17: F | AU17: 0101015853949F59CF77FD0A36D4AAE57E14 | AV17: 16
A18: 0.6/1kV가교폴리에틸렌(F-CV) 옥외 | B18: 4C 6㎟ | C18: M | D18: 34 | E18: =TRUNC(일위대가목록!E56,0) -> 5378 | F18: =TRUNC(E18*D18, 0) -> 182852 | G18: =TRUNC(일위대가목록!F56,0) -> 4792 | H18: =TRUNC(G18*D18, 0) -> 162928 | I18: =TRUNC(일위대가목록!G56,0) -> 0 | J18: =TRUNC(I18*D18, 0) -> 0 | K18: =TRUNC(E18+G18+I18, 0) -> 10170 | L18: =TRUNC(F18+H18+J18, 0) -> 345780 | M18: 호표 53 | N18: 5853949F59CF77FD0A36D4AAC54B97 | Q18: 010101 | R18: T | S18: F | T18: F | AU18: 0101015853949F59CF77FD0A36D4AAC54B97 | AV18: 17
A19: 0.6/1kV가교폴리에틸렌(F-CV) 옥외 | B19: 4C 35㎟ | C19: M | D19: 33 | E19: =TRUNC(일위대가목록!E57,0) -> 27936 | F19: =TRUNC(E19*D19, 0) -> 921888 | G19: =TRUNC(일위대가목록!F57,0) -> 6829 | H19: =TRUNC(G19*D19, 0) -> 225357 | I19: =TRUNC(일위대가목록!G57,0) -> 0 | J19: =TRUNC(I19*D19, 0) -> 0 | K19: =TRUNC(E19+G19+I19, 0) -> 34765 | L19: =TRUNC(F19+H19+J19, 0) -> 1147245 | M19: 호표 54 | N19: 5853949F59CF77FD0A36D4AAC5473C | Q19: 010101 | R19: T | S19: F | T19: F | AU19: 0101015853949F59CF77FD0A36D4AAC5473C | AV19: 18
A20: 0.6/1kV제어용난연(F-CVV-SB) | B20: 2C 1.5㎟ | C20: M | D20: 60 | E20: =TRUNC(일위대가목록!E15,0) -> 2233 | F20: =TRUNC(E20*D20, 0) -> 133980 | G20: =TRUNC(일위대가목록!F15,0) -> 5101 | H20: =TRUNC(G20*D20, 0) -> 306060 | I20: =TRUNC(일위대가목록!G15,0) -> 0 | J20: =TRUNC(I20*D20, 0) -> 0 | K20: =TRUNC(E20+G20+I20, 0) -> 7334 | L20: =TRUNC(F20+H20+J20, 0) -> 440040 | M20: 호표 12 | N20: 5F546497C900DCEBDB3D0496E547FD | Q20: 010101 | R20: T | S20: F | T20: F | AU20: 0101015F546497C900DCEBDB3D0496E547FD | AV20: 19
A21: 0.6/1kV제어용난연(F-CVV-SB) | B21: 20C 1.5㎟ | C21: M | D21: 240 | E21: =TRUNC(일위대가목록!E16,0) -> 9770 | F21: =TRUNC(E21*D21, 0) -> 2344800 | G21: =TRUNC(일위대가목록!F16,0) -> 26962 | H21: =TRUNC(G21*D21, 0) -> 6470880 | I21: =TRUNC(일위대가목록!G16,0) -> 0 | J21: =TRUNC(I21*D21, 0) -> 0 | K21: =TRUNC(E21+G21+I21, 0) -> 36732 | L21: =TRUNC(F21+H21+J21, 0) -> 8815680 | M21: 호표 13 | N21: 5F546497C900DCEBDB3D0496650F0F | Q21: 010101 | R21: T | S21: F | T21: F | AU21: 0101015F546497C900DCEBDB3D0496650F0F | AV21: 20
A22: 풀박스 | B22: 200x200x200 | C22: 개 | D22: 8 | E22: =TRUNC(일위대가목록!E81,0) -> 8303 | F22: =TRUNC(E22*D22, 0) -> 66424 | G22: =TRUNC(일위대가목록!F81,0) -> 60178 | H22: =TRUNC(G22*D22, 0) -> 481424 | I22: =TRUNC(일위대가목록!G81,0) -> 0 | J22: =TRUNC(I22*D22, 0) -> 0 | K22: =TRUNC(E22+G22+I22, 0) -> 68481 | L22: =TRUNC(F22+H22+J22, 0) -> 547848 | M22: 호표 78 | N22: 5853949F5966F16FE53514AEC5F595 | Q22: 010101 | R22: T | S22: F | T22: F | AU22: 0101015853949F5966F16FE53514AEC5F595 | AV22: 21
A23: 전기맨홀 | B23: 1000x1000x1000 | C23: 개소 | D23: 2 | E23: =TRUNC(일위대가목록!E67,0) -> 629088 | F23: =TRUNC(E23*D23, 0) -> 1258176 | G23: =TRUNC(일위대가목록!F67,0) -> 784111 | H23: =TRUNC(G23*D23, 0) -> 1568222 | I23: =TRUNC(일위대가목록!G67,0) -> 72657 | J23: =TRUNC(I23*D23, 0) -> 145314 | K23: =TRUNC(E23+G23+I23, 0) -> 1485856 | L23: =TRUNC(F23+H23+J23, 0) -> 2971712 | M23: 호표 64 | N23: 5853949F59ACA058043E546E051B5B | Q23: 010101 | R23: T | S23: F | T23: F | AU23: 0101015853949F59ACA058043E546E051B5B | AV23: 22
A24: 관로구방수 | B24: D 50 | C24: 개소 | D24: 24 | E24: =TRUNC(일위대가목록!E69,0) -> 40411 | F24: =TRUNC(E24*D24, 0) -> 969864 | G24: =TRUNC(일위대가목록!F69,0) -> 52720 | H24: =TRUNC(G24*D24, 0) -> 1265280 | I24: =TRUNC(일위대가목록!G69,0) -> 0 | J24: =TRUNC(I24*D24, 0) -> 0 | K24: =TRUNC(E24+G24+I24, 0) -> 93131 | L24: =TRUNC(F24+H24+J24, 0) -> 2235144 | M24: 호표 66 | N24: 5853949F59ACA02CC83B2431455110 | Q24: 010101 | R24: T | S24: F | T24: F | AU24: 0101015853949F59ACA02CC83B2431455110 | AV24: 23
A25: 관로구방수 | B25: D 65 | C25: 개소 | D25: 18 | E25: =TRUNC(일위대가목록!E70,0) -> 44041 | F25: =TRUNC(E25*D25, 0) -> 792738 | G25: =TRUNC(일위대가목록!F70,0) -> 52720 | H25: =TRUNC(G25*D25, 0) -> 948960 | I25: =TRUNC(일위대가목록!G70,0) -> 0 | J25: =TRUNC(I25*D25, 0) -> 0 | K25: =TRUNC(E25+G25+I25, 0) -> 96761 | L25: =TRUNC(F25+H25+J25, 0) -> 1741698 | M25: 호표 67 | N25: 5853949F59ACA02CC83B2431455009 | Q25: 010101 | R25: T | S25: F | T25: F | AU25: 0101015853949F59ACA02CC83B2431455009 | AV25: 24
A26: 관로구방수 | B26: D 80 | C26: 개소 | D26: 9 | E26: =TRUNC(일위대가목록!E71,0) -> 45961 | F26: =TRUNC(E26*D26, 0) -> 413649 | G26: =TRUNC(일위대가목록!F71,0) -> 52720 | H26: =TRUNC(G26*D26, 0) -> 474480 | I26: =TRUNC(일위대가목록!G71,0) -> 0 | J26: =TRUNC(I26*D26, 0) -> 0 | K26: =TRUNC(E26+G26+I26, 0) -> 98681 | L26: =TRUNC(F26+H26+J26, 0) -> 888129 | M26: 호표 68 | N26: 5853949F59ACA02CC83B24314557B8 | Q26: 010101 | R26: T | S26: F | T26: F | AU26: 0101015853949F59ACA02CC83B24314557B8 | AV26: 25
A27: 경고 테이프(저압용) | B27: 200*250 | C27: M | D27: 112 | E27: =TRUNC(일위대가목록!E72,0) -> 206 | F27: =TRUNC(E27*D27, 0) -> 23072 | G27: =TRUNC(일위대가목록!F72,0) -> 247 | H27: =TRUNC(G27*D27, 0) -> 27664 | I27: =TRUNC(일위대가목록!G72,0) -> 0 | J27: =TRUNC(I27*D27, 0) -> 0 | K27: =TRUNC(E27+G27+I27, 0) -> 453 | L27: =TRUNC(F27+H27+J27, 0) -> 50736 | M27: 호표 69 | N27: 5853949F59ACA02CC83A14C235A3BC | Q27: 010101 | R27: T | S27: F | T27: F | AU27: 0101015853949F59ACA02CC83A14C235A3BC | AV27: 26
A28: 경고 테이프(고압용) | B28: 200*250 | C28: M | D28: 33 | E28: =TRUNC(일위대가목록!E73,0) -> 207 | F28: =TRUNC(E28*D28, 0) -> 6831 | G28: =TRUNC(일위대가목록!F73,0) -> 282 | H28: =TRUNC(G28*D28, 0) -> 9306 | I28: =TRUNC(일위대가목록!G73,0) -> 0 | J28: =TRUNC(I28*D28, 0) -> 0 | K28: =TRUNC(E28+G28+I28, 0) -> 489 | L28: =TRUNC(F28+H28+J28, 0) -> 16137 | M28: 호표 70 | N28: 5853949F59ACA02CC83A14C235A0E8 | Q28: 010101 | R28: T | S28: F | T28: F | AU28: 0101015853949F59ACA02CC83A14C235A0E8 | AV28: 27
A29: 지중선용 가선철물 | B29: 지중선로표시기, 전규격 | C29: EA | D29: 3 | E29: =TRUNC(일위대가목록!E74,0) -> 5943 | F29: =TRUNC(E29*D29, 0) -> 17829 | G29: =TRUNC(일위대가목록!F74,0) -> 27194 | H29: =TRUNC(G29*D29, 0) -> 81582 | I29: =TRUNC(일위대가목록!G74,0) -> 0 | J29: =TRUNC(I29*D29, 0) -> 0 | K29: =TRUNC(E29+G29+I29, 0) -> 33137 | L29: =TRUNC(F29+H29+J29, 0) -> 99411 | M29: 호표 71 | N29: 5853949F59ACA02CC83A14C205EFF5 | Q29: 010101 | R29: T | S29: F | T29: F | AU29: 0101015853949F59ACA02CC83A14C205EFF5 | AV29: 28
A30: 분전반 PAD | B30: 1000x400x300 | C30: 개소 | D30: 3 | E30: =TRUNC(일위대가목록!E12,0) -> 32097 | F30: =TRUNC(E30*D30, 0) -> 96291 | G30: =TRUNC(일위대가목록!F12,0) -> 85567 | H30: =TRUNC(G30*D30, 0) -> 256701 | I30: =TRUNC(일위대가목록!G12,0) -> 587 | J30: =TRUNC(I30*D30, 0) -> 1761 | K30: =TRUNC(E30+G30+I30, 0) -> 118251 | L30: =TRUNC(F30+H30+J30, 0) -> 354753 | M30: 호표 9 | N30: 5F546497C900DCEBAE3B5484859831 | Q30: 010101 | R30: T | S30: F | T30: F | AU30: 0101015F546497C900DCEBAE3B5484859831 | AV30: 30
A31: 분전반 | B31: 양수장현장조작반 제작 | C31: 면 | D31: 1 | E31: =TRUNC(일위대가목록!E107,0) -> 4796479 | F31: =TRUNC(E31*D31, 0) -> 4796479 | G31: =TRUNC(일위대가목록!F107,0) -> 0 | H31: =TRUNC(G31*D31, 0) -> 0 | I31: =TRUNC(일위대가목록!G107,0) -> 0 | J31: =TRUNC(I31*D31, 0) -> 0 | K31: =TRUNC(E31+G31+I31, 0) -> 4796479 | L31: =TRUNC(F31+H31+J31, 0) -> 4796479 | M31: 관급자재 | N31: 594334EB990E66AB71315404058B98 | R31: T | S31: F | T31: F | AR31: 관급자재 | AU31: 010101594334EB990E66AB71315404058B98 | AV31: 31
A32: 분전반 | B32: 유입수문현장조작반 제작 (수문#1,2) | C32: 면 | D32: 2 | E32: =TRUNC(일위대가목록!E109,0) -> 5848217 | F32: =TRUNC(E32*D32, 0) -> 11696434 | G32: =TRUNC(일위대가목록!F109,0) -> 0 | H32: =TRUNC(G32*D32, 0) -> 0 | I32: =TRUNC(일위대가목록!G109,0) -> 0 | J32: =TRUNC(I32*D32, 0) -> 0 | K32: =TRUNC(E32+G32+I32, 0) -> 5848217 | L32: =TRUNC(F32+H32+J32, 0) -> 11696434 | M32: 관급자재 | N32: 594334EB990E66AB71315404058AF1 | R32: T | S32: F | T32: F | AR32: 관급자재 | AU32: 010101594334EB990E66AB71315404058AF1 | AV32: 32
A33: 자립형 분전반설치비 | C33: 면 | D33: 3 | E33: =TRUNC(일위대가목록!E24,0) -> 30328 | F33: =TRUNC(E33*D33, 0) -> 90984 | G33: =TRUNC(일위대가목록!F24,0) -> 1516415 | H33: =TRUNC(G33*D33, 0) -> 4549245 | I33: =TRUNC(일위대가목록!G24,0) -> 0 | J33: =TRUNC(I33*D33, 0) -> 0 | K33: =TRUNC(E33+G33+I33, 0) -> 1546743 | L33: =TRUNC(F33+H33+J33, 0) -> 4640229 | M33: 관급자재 | N33: 5F546497C900DCD94E36344E458D91 | R33: T | S33: F | T33: F | AR33: 관급자재 | AU33: 0101015F546497C900DCD94E36344E458D91 | AV33: 29
A34: 터파기(기계100%) | B34: 보통토사 | C34: ㎥ | D34: 136 | E34: =TRUNC(일위대가목록!E25,0) -> 245 | F34: =TRUNC(E34*D34, 0) -> 33320 | G34: =TRUNC(일위대가목록!F25,0) -> 755 | H34: =TRUNC(G34*D34, 0) -> 102680 | I34: =TRUNC(일위대가목록!G25,0) -> 304 | J34: =TRUNC(I34*D34, 0) -> 41344 | K34: =TRUNC(E34+G34+I34, 0) -> 1304 | L34: =TRUNC(F34+H34+J34, 0) -> 177344 | M34: 호표 22 | N34: 581A341D89B3D0DD7E38E4D8252150 | Q34: 010101 | R34: T | S34: F | T34: F | AU34: 010101581A341D89B3D0DD7E38E4D8252150 | AV34: 33
A35: 되메우기(기계100%) | B35: 보통토사 | C35: ㎥ | D35: 136 | E35: =TRUNC(일위대가목록!E26,0) -> 677 | F35: =TRUNC(E35*D35, 0) -> 92072 | G35: =TRUNC(일위대가목록!F26,0) -> 10574 | H35: =TRUNC(G35*D35, 0) -> 1438064 | I35: =TRUNC(일위대가목록!G26,0) -> 576 | J35: =TRUNC(I35*D35, 0) -> 78336 | K35: =TRUNC(E35+G35+I35, 0) -> 11827 | L35: =TRUNC(F35+H35+J35, 0) -> 1608472 | M35: 호표 23 | N35: 581A341D89B3D0DD7E38E4D835C899 | Q35: 010101 | R35: T | S35: F | T35: F | AU35: 010101581A341D89B3D0DD7E38E4D835C899 | AV35: 34
A36: 1종금속제가요전선관 | B36: 박스커넥터-비닐, 28mm 방수 | C36: 개 | D36: 12 | E36: =TRUNC(단가대비표!O87,0) -> 1500 | F36: =TRUNC(E36*D36, 0) -> 18000 | G36: =TRUNC(단가대비표!P87,0) -> 0 | H36: =TRUNC(G36*D36, 0) -> 0 | I36: =TRUNC(단가대비표!V87,0) -> 0 | J36: =TRUNC(I36*D36, 0) -> 0 | K36: =TRUNC(E36+G36+I36, 0) -> 1500 | L36: =TRUNC(F36+H36+J36, 0) -> 18000 | N36: 5F39B4F6191BCC929E3D7455358B9DD8B10D1E | Q36: 010101 | R36: F | S36: F | T36: T | AU36: 0101015F39B4F6191BCC929E3D7455358B9DD8B10D1E | AV36: 35
A37: 1종금속제가요전선관 | B37: 박스커넥터-비닐, 54mm 방수 | C37: 개 | D37: 12 | E37: =TRUNC(단가대비표!O88,0) -> 3740 | F37: =TRUNC(E37*D37, 0) -> 44880 | G37: =TRUNC(단가대비표!P88,0) -> 0 | H37: =TRUNC(G37*D37, 0) -> 0 | I37: =TRUNC(단가대비표!V88,0) -> 0 | J37: =TRUNC(I37*D37, 0) -> 0 | K37: =TRUNC(E37+G37+I37, 0) -> 3740 | L37: =TRUNC(F37+H37+J37, 0) -> 44880 | N37: 5F39B4F6191BCC929E3D7455358B9DD8B10C0E | Q37: 010101 | R37: F | S37: F | T37: T | AU37: 0101015F39B4F6191BCC929E3D7455358B9DD8B10C0E | AV37: 36
A51: [ 합 계 ] | F51: =SUM(F5:F50) -F33-F31-F32 -> 11010154 | H51: =SUM(H5:H50) -H33-H31-H32 -> 17240985 | J51: =SUM(J5:J50) -J33-J31-J32 -> 266755 | L51: =SUM(L5:L50) -L33-L31-L32 -> 28517894 | N51: TOTAL
A52: 010102 옥외보안등설비공사 | B52: 전기공사 | Q52: 010102
A53: 파상형 경질폴리에틸렌 전선관 | B53: 30㎜ | C53: M | D53: 40 | E53: =TRUNC(일위대가목록!E43,0) -> 454 | F53: =TRUNC(E53*D53, 0) -> 18160 | G53: =TRUNC(일위대가목록!F43,0) -> 3819 | H53: =TRUNC(G53*D53, 0) -> 152760 | I53: =TRUNC(일위대가목록!G43,0) -> 0 | J53: =TRUNC(I53*D53, 0) -> 0 | K53: =TRUNC(E53+G53+I53, 0) -> 4273 | L53: =TRUNC(F53+H53+J53, 0) -> 170920 | M53: 호표 40 | N53: 5853949F59EA5DF13638840EE550A2 | Q53: 010102 | R53: T | S53: F | T53: F | AU53: 0101025853949F59EA5DF13638840EE550A2 | AV53: 38
A54: 난연성 비닐절연 접지용전선 | B54: 0.6/1kV F-GV 6㎟ | C54: M | D54: 40 | E54: =TRUNC(일위대가목록!E51,0) -> 1464 | F54: =TRUNC(E54*D54, 0) -> 58560 | G54: =TRUNC(일위대가목록!F51,0) -> 2461 | H54: =TRUNC(G54*D54, 0) -> 98440 | I54: =TRUNC(일위대가목록!G51,0) -> 0 | J54: =TRUNC(I54*D54, 0) -> 0 | K54: =TRUNC(E54+G54+I54, 0) -> 3925 | L54: =TRUNC(F54+H54+J54, 0) -> 157000 | M54: 호표 48 | N54: 5853949F59D9EE50673F64F0852D52 | Q54: 010102 | R54: T | S54: F | T54: F | AU54: 0101025853949F59D9EE50673F64F0852D52 | AV54: 39
A55: 0.6/1kV가교폴리에틸렌(F-CV) 옥외 | B55: 2C 6㎟ | C55: M | D55: 40 | E55: =TRUNC(일위대가목록!E54,0) -> 3087 | F55: =TRUNC(E55*D55, 0) -> 123480 | G55: =TRUNC(일위대가목록!F54,0) -> 2556 | H55: =TRUNC(G55*D55, 0) -> 102240 | I55: =TRUNC(일위대가목록!G54,0) -> 0 | J55: =TRUNC(I55*D55, 0) -> 0 | K55: =TRUNC(E55+G55+I55, 0) -> 5643 | L55: =TRUNC(F55+H55+J55, 0) -> 225720 | M55: 호표 51 | N55: 5853949F59CF77FD0A36D4AA85D04E | Q55: 010102 | R55: T | S55: F | T55: F | AU55: 0101025853949F59CF77FD0A36D4AA85D04E | AV55: 40
A56: 0.6/1kV가교폴리에틸렌(F-CV) 옥내 | B56: 2C 6㎟ | C56: M | D56: 5 | E56: =TRUNC(일위대가목록!E59,0) -> 3203 | F56: =TRUNC(E56*D56, 0) -> 16015 | G56: =TRUNC(일위대가목록!F59,0) -> 5465 | H56: =TRUNC(G56*D56, 0) -> 27325 | I56: =TRUNC(일위대가목록!G59,0) -> 0 | J56: =TRUNC(I56*D56, 0) -> 0 | K56: =TRUNC(E56+G56+I56, 0) -> 8668 | L56: =TRUNC(F56+H56+J56, 0) -> 43340 | M56: 호표 56 | N56: 5853949F59CF77FD0A3424D165E6CD | Q56: 010102 | R56: T | S56: F | T56: F | AU56: 0101025853949F59CF77FD0A3424D165E6CD | AV56: 41
A57: 관로구방수 | B57: D 30 | C57: 개소 | D57: 3 | E57: =TRUNC(일위대가목록!E68,0) -> 36611 | F57: =TRUNC(E57*D57, 0) -> 109833 | G57: =TRUNC(일위대가목록!F68,0) -> 52720 | H57: =TRUNC(G57*D57, 0) -> 158160 | I57: =TRUNC(일위대가목록!G68,0) -> 0 | J57: =TRUNC(I57*D57, 0) -> 0 | K57: =TRUNC(E57+G57+I57, 0) -> 89331 | L57: =TRUNC(F57+H57+J57, 0) -> 267993 | M57: 호표 65 | N57: 5853949F59ACA02CC83B2431455237 | Q57: 010102 | R57: T | S57: F | T57: F | AU57: 0101025853949F59ACA02CC83B2431455237 | AV57: 42
A58: 경고 테이프(저압용) | B58: 200*250 | C58: M | D58: 35 | E58: =TRUNC(일위대가목록!E72,0) -> 206 | F58: =TRUNC(E58*D58, 0) -> 7210 | G58: =TRUNC(일위대가목록!F72,0) -> 247 | H58: =TRUNC(G58*D58, 0) -> 8645 | I58: =TRUNC(일위대가목록!G72,0) -> 0 | J58: =TRUNC(I58*D58, 0) -> 0 | K58: =TRUNC(E58+G58+I58, 0) -> 453 | L58: =TRUNC(F58+H58+J58, 0) -> 15855 | M58: 호표 69 | N58: 5853949F59ACA02CC83A14C235A3BC | Q58: 010102 | R58: T | S58: F | T58: F | AU58: 0101025853949F59ACA02CC83A14C235A3BC | AV58: 43
A59: 가로등 방수접속함 | B59: 누전차단기내장 | C59: 개 | D59: 3 | E59: =TRUNC(일위대가목록!E75,0) -> 45930 | F59: =TRUNC(E59*D59, 0) -> 137790 | G59: =TRUNC(일위대가목록!F75,0) -> 46501 | H59: =TRUNC(G59*D59, 0) -> 139503 | I59: =TRUNC(일위대가목록!G75,0) -> 0 | J59: =TRUNC(I59*D59, 0) -> 0 | K59: =TRUNC(E59+G59+I59, 0) -> 92431 | L59: =TRUNC(F59+H59+J59, 0) -> 277293 | M59: 호표 72 | N59: 5853949F59ACA02CC83DD40A85728A | Q59: 010102 | R59: T | S59: F | T59: F | AU59: 0101025853949F59ACA02CC83DD40A85728A | AV59: 44
A60: 외등기초(4M이하) | B60: 400*600*600 | C60: 개소 | D60: 3 | E60: =TRUNC(일위대가목록!E10,0) -> 101325 | F60: =TRUNC(E60*D60, 0) -> 303975 | G60: =TRUNC(일위대가목록!F10,0) -> 111524 | H60: =TRUNC(G60*D60, 0) -> 334572 | I60: =TRUNC(일위대가목록!G10,0) -> 6724 | J60: =TRUNC(I60*D60, 0) -> 20172 | K60: =TRUNC(E60+G60+I60, 0) -> 219573 | L60: =TRUNC(F60+H60+J60, 0) -> 658719 | M60: 호표 7 | N60: 5F546497C900DCEBAE3B548495A4A1 | Q60: 010102 | R60: T | S60: F | T60: F | AU60: 0101025F546497C900DCEBAE3B548495A4A1 | AV60: 45
A61: 조명기구 "옥외보안등" | B61: LED 60W/5M | C61: 조 | D61: 3 | E61: =TRUNC(일위대가목록!E92,0) -> 1561488 | F61: =TRUNC(E61*D61, 0) -> 4684464 | G61: =TRUNC(일위대가목록!F92,0) -> 574431 | H61: =TRUNC(G61*D61, 0) -> 1723293 | I61: =TRUNC(일위대가목록!G92,0) -> 0 | J61: =TRUNC(I61*D61, 0) -> 0 | K61: =TRUNC(E61+G61+I61, 0) -> 2135919 | L61: =TRUNC(F61+H61+J61, 0) -> 6407757 | M61: 호표 89 | N61: 594324C489723668933D541F853AC0 | Q61: 010102 | R61: T | S61: F | T61: F | AU61: 010102594324C489723668933D541F853AC0 | AV61: 46
A62: 터파기(기계100%) | B62: 보통토사 | C62: ㎥ | D62: 28 | E62: =TRUNC(일위대가목록!E25,0) -> 245 | F62: =TRUNC(E62*D62, 0) -> 6860 | G62: =TRUNC(일위대가목록!F25,0) -> 755 | H62: =TRUNC(G62*D62, 0) -> 21140 | I62: =TRUNC(일위대가목록!G25,0) -> 304 | J62: =TRUNC(I62*D62, 0) -> 8512 | K62: =TRUNC(E62+G62+I62, 0) -> 1304 | L62: =TRUNC(F62+H62+J62, 0) -> 36512 | M62: 호표 22 | N62: 581A341D89B3D0DD7E38E4D8252150 | Q62: 010102 | R62: T | S62: F | T62: F | AU62: 010102581A341D89B3D0DD7E38E4D8252150 | AV62: 47
A63: 되메우기(기계100%) | B63: 보통토사 | C63: ㎥ | D63: 28 | E63: =TRUNC(일위대가목록!E26,0) -> 677 | F63: =TRUNC(E63*D63, 0) -> 18956 | G63: =TRUNC(일위대가목록!F26,0) -> 10574 | H63: =TRUNC(G63*D63, 0) -> 296072 | I63: =TRUNC(일위대가목록!G26,0) -> 576 | J63: =TRUNC(I63*D63, 0) -> 16128 | K63: =TRUNC(E63+G63+I63, 0) -> 11827 | L63: =TRUNC(F63+H63+J63, 0) -> 331156 | M63: 호표 23 | N63: 581A341D89B3D0DD7E38E4D835C899 | Q63: 010102 | R63: T | S63: F | T63: F | AU63: 010102581A341D89B3D0DD7E38E4D835C899 | AV63: 48
A75: [ 합 계 ] | F75: =SUM(F53:F74) -> 5485303 | H75: =SUM(H53:H74) -> 3062150 | J75: =SUM(J53:J74) -> 44812 | L75: =SUM(L53:L74) -> 8592265 | N75: TOTAL
A76: 010103 수변전설비공사 | B76: 전기공사 | Q76: 010103
A77: 경질비닐전선관 | B77: HI 36 mm | C77: M | D77: 13 | E77: =TRUNC(일위대가목록!E37,0) -> 1970 | F77: =TRUNC(E77*D77, 0) -> 25610 | G77: =TRUNC(일위대가목록!F37,0) -> 27353 | H77: =TRUNC(G77*D77, 0) -> 355589 | I77: =TRUNC(일위대가목록!G37,0) -> 0 | J77: =TRUNC(I77*D77, 0) -> 0 | K77: =TRUNC(E77+G77+I77, 0) -> 29323 | L77: =TRUNC(F77+H77+J77, 0) -> 381199 | M77: 호표 34 | N77: 5853949F59EA5D98A33C6477251975 | Q77: 010103 | R77: T | S77: F | T77: F | AU77: 0101035853949F59EA5D98A33C6477251975 | AV77: 50
A78: 난연성 비닐절연 접지용전선 | B78: 0.6/1kV F-GV 6㎟ | C78: M | D78: 13 | E78: =TRUNC(일위대가목록!E51,0) -> 1464 | F78: =TRUNC(E78*D78, 0) -> 19032 | G78: =TRUNC(일위대가목록!F51,0) -> 2461 | H78: =TRUNC(G78*D78, 0) -> 31993 | I78: =TRUNC(일위대가목록!G51,0) -> 0 | J78: =TRUNC(I78*D78, 0) -> 0 | K78: =TRUNC(E78+G78+I78, 0) -> 3925 | L78: =TRUNC(F78+H78+J78, 0) -> 51025 | M78: 호표 48 | N78: 5853949F59D9EE50673F64F0852D52 | Q78: 010103 | R78: T | S78: F | T78: F | AU78: 0101035853949F59D9EE50673F64F0852D52 | AV78: 51
A79: 난연성 비닐절연 접지용전선 | B79: 0.6/1kV F-GV 50㎟ | C79: M | D79: 14 | E79: =TRUNC(일위대가목록!E53,0) -> 9671 | F79: =TRUNC(E79*D79, 0) -> 135394 | G79: =TRUNC(일위대가목록!F53,0) -> 3282 | H79: =TRUNC(G79*D79, 0) -> 45948 | I79: =TRUNC(일위대가목록!G53,0) -> 0 | J79: =TRUNC(I79*D79, 0) -> 0 | K79: =TRUNC(E79+G79+I79, 0) -> 12953 | L79: =TRUNC(F79+H79+J79, 0) -> 181342 | M79: 호표 50 | N79: 5853949F59D9EE50673F64F0852623 | Q79: 010103 | R79: T | S79: F | T79: F | AU79: 0101035853949F59D9EE50673F64F0852623 | AV79: 52
A80: 6/10kV고압가교폴리에틸렌(F-CV) | B80: 1C 50㎟(3열) | C80: M | D80: 93 | E80: =TRUNC(일위대가목록!E13,0) -> 12835 | F80: =TRUNC(E80*D80, 0) -> 1193655 | G80: =TRUNC(일위대가목록!F13,0) -> 3421 | H80: =TRUNC(G80*D80, 0) -> 318153 | I80: =TRUNC(일위대가목록!G13,0) -> 0 | J80: =TRUNC(I80*D80, 0) -> 0 | K80: =TRUNC(E80+G80+I80, 0) -> 16256 | L80: =TRUNC(F80+H80+J80, 0) -> 1511808 | M80: 호표 10 | N80: 5F546497C900DCEBF63AC47A857676 | Q80: 010103 | R80: T | S80: F | T80: F | AU80: 0101035F546497C900DCEBF63AC47A857676 | AV80: 53
A81: 6/10kV고압가교폴리에틸렌(F-CV) | B81: 3C 25㎟ | C81: M | D81: 10 | E81: =TRUNC(일위대가목록!E14,0) -> 25899 | F81: =TRUNC(E81*D81, 0) -> 258990 | G81: =TRUNC(일위대가목록!F14,0) -> 6562 | H81: =TRUNC(G81*D81, 0) -> 65620 | I81: =TRUNC(일위대가목록!G14,0) -> 0 | J81: =TRUNC(I81*D81, 0) -> 0 | K81: =TRUNC(E81+G81+I81, 0) -> 32461 | L81: =TRUNC(F81+H81+J81, 0) -> 324610 | M81: 호표 11 | N81: 5F546497C900DCEBF63AC468250D8F | Q81: 010103 | R81: T | S81: F | T81: F | AU81: 0101035F546497C900DCEBF63AC468250D8F | AV81: 54
A82: 0.6/1kV가교폴리에틸렌(F-CV) 옥내 | B82: 3C 4㎟ | C82: M | D82: 20 | E82: =TRUNC(일위대가목록!E60,0) -> 3162 | F82: =TRUNC(E82*D82, 0) -> 63240 | G82: =TRUNC(일위대가목록!F60,0) -> 6679 | H82: =TRUNC(G82*D82, 0) -> 133580 | I82: =TRUNC(일위대가목록!G60,0) -> 0 | J82: =TRUNC(I82*D82, 0) -> 0 | K82: =TRUNC(E82+G82+I82, 0) -> 9841 | L82: =TRUNC(F82+H82+J82, 0) -> 196820 | M82: 호표 57 | N82: 5853949F59CF77FD0A35344085BAA3 | Q82: 010103 | R82: T | S82: F | T82: F | AU82: 0101035853949F59CF77FD0A35344085BAA3 | AV82: 55
A83: 0.6/1kV가교폴리에틸렌(F-CV) 옥내 | B83: 4C 6㎟ | C83: M | D83: 23 | E83: =TRUNC(일위대가목록!E61,0) -> 5589 | F83: =TRUNC(E83*D83, 0) -> 128547 | G83: =TRUNC(일위대가목록!F61,0) -> 10323 | H83: =TRUNC(G83*D83, 0) -> 237429 | I83: =TRUNC(일위대가목록!G61,0) -> 0 | J83: =TRUNC(I83*D83, 0) -> 0 | K83: =TRUNC(E83+G83+I83, 0) -> 15912 | L83: =TRUNC(F83+H83+J83, 0) -> 365976 | M83: 호표 58 | N83: 5853949F59CF77FD0A3274FBA5DD7D | Q83: 010103 | R83: T | S83: F | T83: F | AU83: 0101035853949F59CF77FD0A3274FBA5DD7D | AV83: 56
A84: 0.6/1kV가교폴리에틸렌(F-CV) 옥내 | B84: 4C 35㎟ | C84: M | D84: 21 | E84: =TRUNC(일위대가목록!E62,0) -> 28897 | F84: =TRUNC(E84*D84, 0) -> 606837 | G84: =TRUNC(일위대가목록!F62,0) -> 28419 | H84: =TRUNC(G84*D84, 0) -> 596799 | I84: =TRUNC(일위대가목록!G62,0) -> 0 | J84: =TRUNC(I84*D84, 0) -> 0 | K84: =TRUNC(E84+G84+I84, 0) -> 57316 | L84: =TRUNC(F84+H84+J84, 0) -> 1203636 | M84: 호표 59 | N84: 5853949F59CF77FD0A3274FBA5D14C | Q84: 010103 | R84: T | S84: F | T84: F | AU84: 0101035853949F59CF77FD0A3274FBA5D14C | AV84: 57
A85: 0.6/1kV제어용난연(F-CVV-SB) | B85: 2C 1.5㎟ | C85: M | D85: 20 | E85: =TRUNC(일위대가목록!E15,0) -> 2233 | F85: =TRUNC(E85*D85, 0) -> 44660 | G85: =TRUNC(일위대가목록!F15,0) -> 5101 | H85: =TRUNC(G85*D85, 0) -> 102020 | I85: =TRUNC(일위대가목록!G15,0) -> 0 | J85: =TRUNC(I85*D85, 0) -> 0 | K85: =TRUNC(E85+G85+I85, 0) -> 7334 | L85: =TRUNC(F85+H85+J85, 0) -> 146680 | M85: 호표 12 | N85: 5F546497C900DCEBDB3D0496E547FD | Q85: 010103 | R85: T | S85: F | T85: F | AU85: 0101035F546497C900DCEBDB3D0496E547FD | AV85: 58
A86: 0.6/1kV제어용난연(F-CVV-SB) | B86: 20C 1.5㎟ | C86: M | D86: 60 | E86: =TRUNC(일위대가목록!E16,0) -> 9770 | F86: =TRUNC(E86*D86, 0) -> 586200 | G86: =TRUNC(일위대가목록!F16,0) -> 26962 | H86: =TRUNC(G86*D86, 0) -> 1617720 | I86: =TRUNC(일위대가목록!G16,0) -> 0 | J86: =TRUNC(I86*D86, 0) -> 0 | K86: =TRUNC(E86+G86+I86, 0) -> 36732 | L86: =TRUNC(F86+H86+J86, 0) -> 2203920 | M86: 호표 13 | N86: 5F546497C900DCEBDB3D0496650F0F | Q86: 010103 | R86: T | S86: F | T86: F | AU86: 0101035F546497C900DCEBDB3D0496650F0F | AV86: 59
A87: CABLE DUCT COVER(전기) - 철거후재사용 | B87: W800x100H | C87: M | D87: 8 | E87: =TRUNC(일위대가목록!E63,0) -> 945 | F87: =TRUNC(E87*D87, 0) -> 7560 | G87: =TRUNC(일위대가목록!F63,0) -> 47267 | H87: =TRUNC(G87*D87, 0) -> 378136 | I87: =TRUNC(일위대가목록!G63,0) -> 0 | J87: =TRUNC(I87*D87, 0) -> 0 | K87: =TRUNC(E87+G87+I87, 0) -> 48212 | L87: =TRUNC(F87+H87+J87, 0) -> 385696 | M87: 호표 60 | N87: 5853949F59BD053A1531C499353EA2 | Q87: 010103 | R87: T | S87: F | T87: F | AU87: 0101035853949F59BD053A1531C499353EA2 | AV87: 60
A88: 덕트형 케이블트레이 | B88: DUCT, W 300 | C88: M | D88: 14 | E88: =TRUNC(일위대가목록!E64,0) -> 35316 | F88: =TRUNC(E88*D88, 0) -> 494424 | G88: =TRUNC(일위대가목록!F64,0) -> 136769 | H88: =TRUNC(G88*D88, 0) -> 1914766 | I88: =TRUNC(일위대가목록!G64,0) -> 0 | J88: =TRUNC(I88*D88, 0) -> 0 | K88: =TRUNC(E88+G88+I88, 0) -> 172085 | L88: =TRUNC(F88+H88+J88, 0) -> 2409190 | M88: 호표 61 | N88: 5853949F59BD053A153494C6B5E579 | Q88: 010103 | R88: T | S88: F | T88: F | AU88: 0101035853949F59BD053A153494C6B5E579 | AV88: 61
A89: 덕트형 케이블트레이부속품 | B89: HOR. ELBOW, W 300 | C89: 개 | D89: 1 | E89: =TRUNC(일위대가목록!E65,0) -> 32965 | F89: =TRUNC(E89*D89, 0) -> 32965 | G89: =TRUNC(일위대가목록!F65,0) -> 136769 | H89: =TRUNC(G89*D89, 0) -> 136769 | I89: =TRUNC(일위대가목록!G65,0) -> 0 | J89: =TRUNC(I89*D89, 0) -> 0 | K89: =TRUNC(E89+G89+I89, 0) -> 169734 | L89: =TRUNC(F89+H89+J89, 0) -> 169734 | M89: 호표 62 | N89: 5853949F59BD053A153494C6A5DC5A | Q89: 010103 | R89: T | S89: F | T89: F | AU89: 0101035853949F59BD053A153494C6A5DC5A | AV89: 62
A90: 트레이,덕트지지대-벽체or바닥 | B90: W300 | C90: 개소 | D90: 9 | E90: =TRUNC(일위대가목록!E22,0) -> 4422 | F90: =TRUNC(E90*D90, 0) -> 39798 | G90: =TRUNC(일위대가목록!F22,0) -> 19694 | H90: =TRUNC(G90*D90, 0) -> 177246 | I90: =TRUNC(일위대가목록!G22,0) -> 0 | J90: =TRUNC(I90*D90, 0) -> 0 | K90: =TRUNC(E90+G90+I90, 0) -> 24116 | L90: =TRUNC(F90+H90+J90, 0) -> 217044 | M90: 호표 19 | N90: 5F546497C900DCF45136B4E585DA79 | Q90: 010103 | R90: T | S90: F | T90: F | AU90: 0101035F546497C900DCF45136B4E585DA79 | AV90: 63
A91: 케이블트레이부속품 | B91: SHANK BOLT & NUT, 아연도 | C91: 개 | D91: 93 | E91: =TRUNC(단가대비표!O73,0) -> 210 | F91: =TRUNC(E91*D91, 0) -> 19530 | G91: =TRUNC(단가대비표!P73,0) -> 0 | H91: =TRUNC(G91*D91, 0) -> 0 | I91: =TRUNC(단가대비표!V73,0) -> 0 | J91: =TRUNC(I91*D91, 0) -> 0 | K91: =TRUNC(E91+G91+I91, 0) -> 210 | L91: =TRUNC(F91+H91+J91, 0) -> 19530 | N91: 5F39B4F6191BCC929E3E14F91578CAF28D7CF3 | Q91: 010103 | R91: F | S91: F | T91: T | AU91: 0101035F39B4F6191BCC929E3E14F91578CAF28D7CF3 | AV91: 64
A92: 케이블트레이부속품 | B92: BONDING JUMPER, 38㎟ | C92: 개 | D92: 9 | E92: =TRUNC(단가대비표!O74,0) -> 4740 | F92: =TRUNC(E92*D92, 0) -> 42660 | G92: =TRUNC(단가대비표!P74,0) -> 0 | H92: =TRUNC(G92*D92, 0) -> 0 | I92: =TRUNC(단가대비표!V74,0) -> 0 | J92: =TRUNC(I92*D92, 0) -> 0 | K92: =TRUNC(E92+G92+I92, 0) -> 4740 | L92: =TRUNC(F92+H92+J92, 0) -> 42660 | N92: 5F39B4F6191BCC929E3E14F91578CAF28D7CF7 | Q92: 010103 | R92: F | S92: F | T92: T | AU92: 0101035F39B4F6191BCC929E3E14F91578CAF28D7CF7 | AV92: 65
A93: 덕트형 케이블트레이부속품 | B93: CONNECTOR, W 300 | C93: 개 | D93: 9 | E93: =TRUNC(단가대비표!O77,0) -> 6070 | F93: =TRUNC(E93*D93, 0) -> 54630 | G93: =TRUNC(단가대비표!P77,0) -> 0 | H93: =TRUNC(G93*D93, 0) -> 0 | I93: =TRUNC(단가대비표!V77,0) -> 0 | J93: =TRUNC(I93*D93, 0) -> 0 | K93: =TRUNC(E93+G93+I93, 0) -> 6070 | L93: =TRUNC(F93+H93+J93, 0) -> 54630 | N93: 5F39B4F6191BCC929E3E14F91578CAF288FB5E | Q93: 010103 | R93: F | S93: F | T93: T | AU93: 0101035F39B4F6191BCC929E3E14F91578CAF288FB5E | AV93: 66
A94: 러그단자(전력용)-1C | B94: 동관단자 2 HOLE 35 ㎟ | C94: 개 | D94: 8 | E94: =TRUNC(일위대가목록!E18,0) -> 1997 | F94: =TRUNC(E94*D94, 0) -> 15976 | G94: =TRUNC(일위대가목록!F18,0) -> 39350 | H94: =TRUNC(G94*D94, 0) -> 314800 | I94: =TRUNC(일위대가목록!G18,0) -> 0 | J94: =TRUNC(I94*D94, 0) -> 0 | K94: =TRUNC(E94+G94+I94, 0) -> 41347 | L94: =TRUNC(F94+H94+J94, 0) -> 330776 | M94: 호표 15 | N94: 5F546497C900DCEB3B3BE47F85F105 | Q94: 010103 | R94: T | S94: F | T94: F | AU94: 0101035F546497C900DCEB3B3BE47F85F105 | AV94: 68
A95: 압착단자(접지용) | B95: R형동선 나압착 16 ㎟ | C95: 개 | D95: 4 | E95: =TRUNC(일위대가목록!E19,0) -> 643 | F95: =TRUNC(E95*D95, 0) -> 2572 | G95: =TRUNC(일위대가목록!F19,0) -> 22156 | H95: =TRUNC(G95*D95, 0) -> 88624 | I95: =TRUNC(일위대가목록!G19,0) -> 0 | J95: =TRUNC(I95*D95, 0) -> 0 | K95: =TRUNC(E95+G95+I95, 0) -> 22799 | L95: =TRUNC(F95+H95+J95, 0) -> 91196 | M95: 호표 16 | N95: 5F546497C900DCEB3B3BE431D5687B | Q95: 010103 | R95: T | S95: F | T95: F | AU95: 0101035F546497C900DCEB3B3BE431D5687B | AV95: 69
A96: 압착단자(전력용)-1C | B96: R형동선 나압착 25 ㎟ | C96: 개 | D96: 12 | E96: =TRUNC(일위대가목록!E20,0) -> 981 | F96: =TRUNC(E96*D96, 0) -> 11772 | G96: =TRUNC(일위대가목록!F20,0) -> 36071 | H96: =TRUNC(G96*D96, 0) -> 432852 | I96: =TRUNC(일위대가목록!G20,0) -> 0 | J96: =TRUNC(I96*D96, 0) -> 0 | K96: =TRUNC(E96+G96+I96, 0) -> 37052 | L96: =TRUNC(F96+H96+J96, 0) -> 444624 | M96: 호표 17 | N96: 5F546497C900DCEB3B3BE431D56E9C | Q96: 010103 | R96: T | S96: F | T96: F | AU96: 0101035F546497C900DCEB3B3BE431D56E9C | AV96: 70
A97: 케이블 단말접속자재 | B97: 자기수축,6.9kV 1Cx60 ㎟ | C97: KIT | D97: 12 | E97: =TRUNC(일위대가목록!E17,0) -> 61663 | F97: =TRUNC(E97*D97, 0) -> 739956 | G97: =TRUNC(일위대가목록!F17,0) -> 264827 | H97: =TRUNC(G97*D97, 0) -> 3177924 | I97: =TRUNC(일위대가목록!G17,0) -> 0 | J97: =TRUNC(I97*D97, 0) -> 0 | K97: =TRUNC(E97+G97+I97, 0) -> 326490 | L97: =TRUNC(F97+H97+J97, 0) -> 3917880 | M97: 호표 14 | N97: 5F546497C900DCEB3B3AD4C2B595A3 | Q97: 010103 | R97: T | S97: F | T97: F | AU97: 0101035F546497C900DCEB3B3AD4C2B595A3 | AV97: 71
A98: 배선용 차단기 | B98: 4P 460V 125AF | C98: 대 | D98: 1 | E98: =TRUNC(일위대가목록!E82,0) -> 132642 | F98: =TRUNC(E98*D98, 0) -> 132642 | G98: =TRUNC(일위대가목록!F82,0) -> 167132 | H98: =TRUNC(G98*D98, 0) -> 167132 | I98: =TRUNC(일위대가목록!G82,0) -> 0 | J98: =TRUNC(I98*D98, 0) -> 0 | K98: =TRUNC(E98+G98+I98, 0) -> 299774 | L98: =TRUNC(F98+H98+J98, 0) -> 299774 | M98: 호표 79 | N98: 5853949F5966F15D743AA4AD555392 | Q98: 010103 | R98: T | S98: F | T98: F | AU98: 0101035853949F5966F15D743AA4AD555392 | AV98: 72
A99: 분전반설치비 | C99: 면 | D99: 1 | E99: =TRUNC(일위대가목록!E23,0) -> 6729 | F99: =TRUNC(E99*D99, 0) -> 6729 | G99: =TRUNC(일위대가목록!F23,0) -> 336452 | H99: =TRUNC(G99*D99, 0) -> 336452 | I99: =TRUNC(일위대가목록!G23,0) -> 0 | J99: =TRUNC(I99*D99, 0) -> 0 | K99: =TRUNC(E99+G99+I99, 0) -> 343181 | L99: =TRUNC(F99+H99+J99, 0) -> 343181 | M99: 호표 20 | N99: 5F546497C900DCD94E36344E458D92 | Q99: 010103 | R99: T | S99: F | T99: F | AU99: 0101035F546497C900DCD94E36344E458D92 | AV99: 73
A100: 수.배전반 PAD | B100: 800x2200x100 | C100: 개소 | D100: 1 | E100: =TRUNC(일위대가목록!E11,0) -> 46236 | F100: =TRUNC(E100*D100, 0) -> 46236 | G100: =TRUNC(일위대가목록!F11,0) -> 103379 | H100: =TRUNC(G100*D100, 0) -> 103379 | I100: =TRUNC(일위대가목록!G11,0) -> 1099 | J100: =TRUNC(I100*D100, 0) -> 1099 | K100: =TRUNC(E100+G100+I100, 0) -> 150714 | L100: =TRUNC(F100+H100+J100, 0) -> 150714 | M100: 호표 8 | N100: 5F546497C900DCEBAE3B54848599DD | Q100: 010103 | R100: T | S100: F | T100: F | AU100: 0101035F546497C900DCEBAE3B54848599DD | AV100: 74
A101: 현황판 철거 후 신설 | C101: EA | D101: 1 | E101: =TRUNC(일위대가목록!E93,0) -> 1575 | F101: =TRUNC(E101*D101, 0) -> 1575 | G101: =TRUNC(일위대가목록!F93,0) -> 78779 | H101: =TRUNC(G101*D101, 0) -> 78779 | I101: =TRUNC(일위대가목록!G93,0) -> 0 | J101: =TRUNC(I101*D101, 0) -> 0 | K101: =TRUNC(E101+G101+I101, 0) -> 80354 | L101: =TRUNC(F101+H101+J101, 0) -> 80354 | M101: 호표 90 | N101: 594334EB990E66AB7131540415AB72 | Q101: 010103 | R101: T | S101: F | T101: F | AU101: 010103594334EB990E66AB7131540415AB72 | AV101: 75
A102: 수배전반 [배수펌프장] | B102: HV-A6 제작 | C102: 면 | D102: 1 | E102: =TRUNC(일위대가목록!E94,0) -> 26503933 | F102: =TRUNC(E102*D102, 0) -> 26503933 | G102: =TRUNC(일위대가목록!F94,0) -> 0 | H102: =TRUNC(G102*D102, 0) -> 0 | I102: =TRUNC(일위대가목록!G94,0) -> 0 | J102: =TRUNC(I102*D102, 0) -> 0 | K102: =TRUNC(E102+G102+I102, 0) -> 26503933 | L102: =TRUNC(F102+H102+J102, 0) -> 26503933 | M102: 관급자재 | N102: 594334EB990E66AB713154040582BB | R102: T | S102: F | T102: F | AR102: 관급자재 | AU102: 010103594334EB990E66AB713154040582BB | AV102: 76
A103: 수배전반 [양수장] | B103: HV-D1 제작 | C103: 면 | D103: 1 | E103: =TRUNC(일위대가목록!E96,0) -> 26630422 | F103: =TRUNC(E103*D103, 0) -> 26630422 | G103: =TRUNC(일위대가목록!F96,0) -> 0 | H103: =TRUNC(G103*D103, 0) -> 0 | I103: =TRUNC(일위대가목록!G96,0) -> 0 | J103: =TRUNC(I103*D103, 0) -> 0 | K103: =TRUNC(E103+G103+I103, 0) -> 26630422 | L103: =TRUNC(F103+H103+J103, 0) -> 26630422 | M103: 관급자재 | N103: 594334EB990E66AB71315404058195 | R103: T | S103: F | T103: F | AR103: 관급자재 | AU103: 010103594334EB990E66AB71315404058195 | AV103: 77
A104: 수배전반 [양수장] | B104: HV-D2 제작 | C104: 면 | D104: 1 | E104: =TRUNC(일위대가목록!E98,0) -> 32763002 | F104: =TRUNC(E104*D104, 0) -> 32763002 | G104: =TRUNC(일위대가목록!F98,0) -> 0 | H104: =TRUNC(G104*D104, 0) -> 0 | I104: =TRUNC(일위대가목록!G98,0) -> 0 | J104: =TRUNC(I104*D104, 0) -> 0 | K104: =TRUNC(E104+G104+I104, 0) -> 32763002 | L104: =TRUNC(F104+H104+J104, 0) -> 32763002 | M104: 관급자재 | N104: 594334EB990E66AB7131540405808E | R104: T | S104: F | T104: F | AR104: 관급자재 | AU104: 010103594334EB990E66AB7131540405808E | AV104: 78
A105: 수배전반 [양수장] | B105: HV-D3 제작 | C105: 면 | D105: 1 | E105: =TRUNC(일위대가목록!E100,0) -> 32781056 | F105: =TRUNC(E105*D105, 0) -> 32781056 | G105: =TRUNC(일위대가목록!F100,0) -> 0 | H105: =TRUNC(G105*D105, 0) -> 0 | I105: =TRUNC(일위대가목록!G100,0) -> 0 | J105: =TRUNC(I105*D105, 0) -> 0 | K105: =TRUNC(E105+G105+I105, 0) -> 32781056 | L105: =TRUNC(F105+H105+J105, 0) -> 32781056 | M105: 관급자재 | N105: 594334EB990E66AB7131540405873D | R105: T | S105: F | T105: F | AR105: 관급자재 | AU105: 010103594334EB990E66AB7131540405873D | AV105: 79
A106: 수배전반 [양수장] | B106: HV-D4 제작 | C106: 면 | D106: 1 | E106: =TRUNC(일위대가목록!E102,0) -> 23775846 | F106: =TRUNC(E106*D106, 0) -> 23775846 | G106: =TRUNC(일위대가목록!F102,0) -> 0 | H106: =TRUNC(G106*D106, 0) -> 0 | I106: =TRUNC(일위대가목록!G102,0) -> 0 | J106: =TRUNC(I106*D106, 0) -> 0 | K106: =TRUNC(E106+G106+I106, 0) -> 23775846 | L106: =TRUNC(F106+H106+J106, 0) -> 23775846 | M106: 관급자재 | N106: 594334EB990E66AB71315404058616 | R106: T | S106: F | T106: F | AR106: 관급자재 | AU106: 010103594334EB990E66AB71315404058616 | AV106: 80
A107: 수배전반 [양수장] | B107: HV-D5 제작 | C107: 면 | D107: 1 | E107: =TRUNC(일위대가목록!E104,0) -> 16696967 | F107: =TRUNC(E107*D107, 0) -> 16696967 | G107: =TRUNC(일위대가목록!F104,0) -> 0 | H107: =TRUNC(G107*D107, 0) -> 0 | I107: =TRUNC(일위대가목록!G104,0) -> 0 | J107: =TRUNC(I107*D107, 0) -> 0 | K107: =TRUNC(E107+G107+I107, 0) -> 16696967 | L107: =TRUNC(F107+H107+J107, 0) -> 16696967 | M107: 관급자재 | N107: 594334EB990E66AB71315404058570 | R107: T | S107: F | T107: F | AR107: 관급자재 | AU107: 010103594334EB990E66AB71315404058570 | AV107: 81
A108: 배전반설치 | B108: W800*H2350*D2000 | C108: 면 | D108: 6 | E108: =TRUNC(일위대가목록!E106,0) -> 37617 | F108: =TRUNC(E108*D108, 0) -> 225702 | G108: =TRUNC(일위대가목록!F106,0) -> 1880899 | H108: =TRUNC(G108*D108, 0) -> 11285394 | I108: =TRUNC(일위대가목록!G106,0) -> 0 | J108: =TRUNC(I108*D108, 0) -> 0 | K108: =TRUNC(E108+G108+I108, 0) -> 1918516 | L108: =TRUNC(F108+H108+J108, 0) -> 11511096 | M108: 관급자재 | N108: 594334EB990E66AB71315404058469 | R108: T | S108: F | T108: F | AR108: 관급자재 | AU108: 010103594334EB990E66AB71315404058469 | AV108: 82
A109: 분전반 | B109: LP-1 제작 | C109: 면 | D109: 1 | E109: =TRUNC(일위대가목록!E111,0) -> 1110548 | F109: =TRUNC(E109*D109, 0) -> 1110548 | G109: =TRUNC(일위대가목록!F111,0) -> 0 | H109: =TRUNC(G109*D109, 0) -> 0 | I109: =TRUNC(일위대가목록!G111,0) -> 0 | J109: =TRUNC(I109*D109, 0) -> 0 | K109: =TRUNC(E109+G109+I109, 0) -> 1110548 | L109: =TRUNC(F109+H109+J109, 0) -> 1110548 | M109: 호표 108 | N109: 594334EB990E66AB713154043558C8 | Q109: 010103 | R109: T | S109: F | T109: F | AU109: 010103594334EB990E66AB713154043558C8 | AV109: 83
A110: 노말밴드 | B110: PVC 36 C | C110: 개 | D110: 3 | E110: =TRUNC(단가대비표!O96,0) -> 1200 | F110: =TRUNC(E110*D110, 0) -> 3600 | G110: =TRUNC(단가대비표!P96,0) -> 0 | H110: =TRUNC(G110*D110, 0) -> 0 | I110: =TRUNC(단가대비표!V96,0) -> 0 | J110: =TRUNC(I110*D110, 0) -> 0 | K110: =TRUNC(E110+G110+I110, 0) -> 1200 | L110: =TRUNC(F110+H110+J110, 0) -> 3600 | N110: 5F39B4F6191BCC929E337411F59EB6173E37BD | Q110: 010103 | R110: F | S110: F | T110: T | AU110: 0101035F39B4F6191BCC929E337411F59EB6173E37BD | AV110: 84
A123: [ 합 계 ] | F123: =SUM(F77:F122) -F102-F103-F104-F105-F106-F107-F108 -> 5825338 | H123: =SUM(H77:H122) -H102-H103-H104-H105-H106-H107-H108 -> 10811710 | J123: =SUM(J77:J122) -J102-J103-J104-J105-J106-J107-J108 -> 1099 | L123: =SUM(L77:L122) -L102-L103-L104-L105-L106-L107-L108 -> 16638147 | N123: TOTAL
A124: 010104 전열설비공사 | B124: 전기공사 | Q124: 010104
A125: 합성수지제 가요전선관 | B125: CD 난연성 16㎜ | C125: M | D125: 30 | E125: =TRUNC(일위대가목록!E38,0) -> 522 | F125: =TRUNC(E125*D125, 0) -> 15660 | G125: =TRUNC(일위대가목록!F38,0) -> 10941 | H125: =TRUNC(G125*D125, 0) -> 328230 | I125: =TRUNC(일위대가목록!G38,0) -> 0 | J125: =TRUNC(I125*D125, 0) -> 0 | K125: =TRUNC(E125+G125+I125, 0) -> 11463 | L125: =TRUNC(F125+H125+J125, 0) -> 343890 | M125: 호표 35 | N125: 5853949F59EA5DA9123FC45CE5A360 | Q125: 010104 | R125: T | S125: F | T125: F | AU125: 0101045853949F59EA5DA9123FC45CE5A360 | AV125: 87
A126: 합성수지제 가요전선관 | B126: CD 난연성 28㎜ | C126: M | D126: 8 | E126: =TRUNC(일위대가목록!E39,0) -> 973 | F126: =TRUNC(E126*D126, 0) -> 7784 | G126: =TRUNC(일위대가목록!F39,0) -> 17506 | H126: =TRUNC(G126*D126, 0) -> 140048 | I126: =TRUNC(일위대가목록!G39,0) -> 0 | J126: =TRUNC(I126*D126, 0) -> 0 | K126: =TRUNC(E126+G126+I126, 0) -> 18479 | L126: =TRUNC(F126+H126+J126, 0) -> 147832 | M126: 호표 36 | N126: 5853949F59EA5DA9123FC45CE5A1B3 | Q126: 010104 | R126: T | S126: F | T126: F | AU126: 0101045853949F59EA5DA9123FC45CE5A1B3 | AV126: 88
A127: 저독성폴리올레핀절연전선(HFIX) 바닥 | B127: 4㎟(2.25㎜) | C127: M | D127: 100 | E127: =TRUNC(일위대가목록!E48,0) -> 965 | F127: =TRUNC(E127*D127, 0) -> 96500 | G127: =TRUNC(일위대가목록!F48,0) -> 2188 | H127: =TRUNC(G127*D127, 0) -> 218800 | I127: =TRUNC(일위대가목록!G48,0) -> 0 | J127: =TRUNC(I127*D127, 0) -> 0 | K127: =TRUNC(E127+G127+I127, 0) -> 3153 | L127: =TRUNC(F127+H127+J127, 0) -> 315300 | M127: 호표 45 | N127: 5853949F59D9EE73243A240335A9A5 | Q127: 010104 | R127: T | S127: F | T127: F | AU127: 0101045853949F59D9EE73243A240335A9A5 | AV127: 89
A128: 난연성 비닐절연 접지용전선 | B128: 0.6/1kV F-GV 4㎟ | C128: M | D128: 9 | E128: =TRUNC(일위대가목록!E50,0) -> 1293 | F128: =TRUNC(E128*D128, 0) -> 11637 | G128: =TRUNC(일위대가목록!F50,0) -> 2461 | H128: =TRUNC(G128*D128, 0) -> 22149 | I128: =TRUNC(일위대가목록!G50,0) -> 0 | J128: =TRUNC(I128*D128, 0) -> 0 | K128: =TRUNC(E128+G128+I128, 0) -> 3754 | L128: =TRUNC(F128+H128+J128, 0) -> 33786 | M128: 호표 47 | N128: 5853949F59D9EE50673F64F0852C4C | Q128: 010104 | R128: T | S128: F | T128: F | AU128: 0101045853949F59D9EE50673F64F0852C4C | AV128: 90
A129: 0.6/1kV가교폴리에틸렌(F-CV) 옥내 | B129: 2C 4㎟ | C129: M | D129: 9 | E129: =TRUNC(일위대가목록!E58,0) -> 2384 | F129: =TRUNC(E129*D129, 0) -> 21456 | G129: =TRUNC(일위대가목록!F58,0) -> 4858 | H129: =TRUNC(G129*D129, 0) -> 43722 | I129: =TRUNC(일위대가목록!G58,0) -> 0 | J129: =TRUNC(I129*D129, 0) -> 0 | K129: =TRUNC(E129+G129+I129, 0) -> 7242 | L129: =TRUNC(F129+H129+J129, 0) -> 65178 | M129: 호표 55 | N129: 5853949F59CF77FD0A3424D165E14B | Q129: 010104 | R129: T | S129: F | T129: F | AU129: 0101045853949F59CF77FD0A3424D165E14B | AV129: 91
A130: 콘센트 | B130: 매입-접지형, 16A 250V 1구 | C130: 개 | D130: 1 | E130: =TRUNC(일위대가목록!E84,0) -> 2437 | F130: =TRUNC(E130*D130, 0) -> 2437 | G130: =TRUNC(일위대가목록!F84,0) -> 21883 | H130: =TRUNC(G130*D130, 0) -> 21883 | I130: =TRUNC(일위대가목록!G84,0) -> 0 | J130: =TRUNC(I130*D130, 0) -> 0 | K130: =TRUNC(E130+G130+I130, 0) -> 24320 | L130: =TRUNC(F130+H130+J130, 0) -> 24320 | M130: 호표 81 | N130: 5853949F5966F1430031D46B95CC84 | Q130: 010104 | R130: T | S130: F | T130: F | AU130: 0101045853949F5966F1430031D46B95CC84 | AV130: 92
A131: 콘센트 | B131: 매입-접지형, 16A 250V 2구 | C131: 개 | D131: 5 | E131: =TRUNC(일위대가목록!E85,0) -> 2637 | F131: =TRUNC(E131*D131, 0) -> 13185 | G131: =TRUNC(일위대가목록!F85,0) -> 21883 | H131: =TRUNC(G131*D131, 0) -> 109415 | I131: =TRUNC(일위대가목록!G85,0) -> 0 | J131: =TRUNC(I131*D131, 0) -> 0 | K131: =TRUNC(E131+G131+I131, 0) -> 24520 | L131: =TRUNC(F131+H131+J131, 0) -> 122600 | M131: 호표 82 | N131: 5853949F5966F1430031D46B95CF58 | Q131: 010104 | R131: T | S131: F | T131: F | AU131: 0101045853949F5966F1430031D46B95CF58 | AV131: 93
A132: 스위치박스 | B132: 1 개용 54 mm | C132: 개 | D132: 3 | E132: =TRUNC(일위대가목록!E78,0) -> 1744 | F132: =TRUNC(E132*D132, 0) -> 5232 | G132: =TRUNC(일위대가목록!F78,0) -> 54707 | H132: =TRUNC(G132*D132, 0) -> 164121 | I132: =TRUNC(일위대가목록!G78,0) -> 0 | J132: =TRUNC(I132*D132, 0) -> 0 | K132: =TRUNC(E132+G132+I132, 0) -> 56451 | L132: =TRUNC(F132+H132+J132, 0) -> 169353 | M132: 호표 75 | N132: 5853949F5966F16FE534744095BF09 | Q132: 010104 | R132: T | S132: F | T132: F | AU132: 0101045853949F5966F16FE534744095BF09 | AV132: 94
A133: 스위치박스 | B133: 2 개용 54 mm | C133: 개 | D133: 3 | E133: =TRUNC(일위대가목록!E79,0) -> 2014 | F133: =TRUNC(E133*D133, 0) -> 6042 | G133: =TRUNC(일위대가목록!F79,0) -> 54707 | H133: =TRUNC(G133*D133, 0) -> 164121 | I133: =TRUNC(일위대가목록!G79,0) -> 0 | J133: =TRUNC(I133*D133, 0) -> 0 | K133: =TRUNC(E133+G133+I133, 0) -> 56721 | L133: =TRUNC(F133+H133+J133, 0) -> 170163 | M133: 호표 76 | N133: 5853949F5966F16FE534744095BE62 | Q133: 010104 | R133: T | S133: F | T133: F | AU133: 0101045853949F5966F16FE534744095BE62 | AV133: 95
A134: 풀박스 | B134: 150x150x100 | C134: 개 | D134: 1 | E134: =TRUNC(일위대가목록!E80,0) -> 4563 | F134: =TRUNC(E134*D134, 0) -> 4563 | G134: =TRUNC(일위대가목록!F80,0) -> 60178 | H134: =TRUNC(G134*D134, 0) -> 60178 | I134: =TRUNC(일위대가목록!G80,0) -> 0 | J134: =TRUNC(I134*D134, 0) -> 0 | K134: =TRUNC(E134+G134+I134, 0) -> 64741 | L134: =TRUNC(F134+H134+J134, 0) -> 64741 | M134: 호표 77 | N134: 5853949F5966F16FE53514AEC5F970 | Q134: 010104 | R134: T | S134: F | T134: F | AU134: 0101045853949F5966F16FE53514AEC5F970 | AV134: 96
A135: 스위치박스 커버 | B135: 4각, 2개용 오목 | C135: 개 | D135: 3 | E135: =TRUNC(단가대비표!O53,0) -> 400 | F135: =TRUNC(E135*D135, 0) -> 1200 | G135: =TRUNC(단가대비표!P53,0) -> 0 | H135: =TRUNC(G135*D135, 0) -> 0 | I135: =TRUNC(단가대비표!V53,0) -> 0 | J135: =TRUNC(I135*D135, 0) -> 0 | K135: =TRUNC(E135+G135+I135, 0) -> 400 | L135: =TRUNC(F135+H135+J135, 0) -> 1200 | N135: 5F39B4F619096C87F03E44B08505CE8A24B4D1 | Q135: 010104 | R135: F | S135: F | T135: T | AU135: 0101045F39B4F619096C87F03E44B08505CE8A24B4D1 | AV135: 97
A147: [ 합 계 ] | F147: =SUM(F125:F146) -> 185696 | H147: =SUM(H125:H146) -> 1272667 | J147: =SUM(J125:J146) -> 0 | L147: =SUM(L125:L146) -> 1458363 | N147: TOTAL
...

Sheet 단가대비표
A1: 단 가 대 비 표
A2: [ 확장양수장 신설사업 전기공사 ]
A3: 코 드 | B3: 품 명 | C3: 규격 | D3: 단위 | E3: 재 료 비 | P3: 노 무 비 | Q3: 경 비 | W3: 번 호 | X3: 비 고 | Y3: 품목구분 | Z3: 노임구분 | AA3: 소수점처리 | AB3: 자재구분
E4: 농어촌단가 | F4: PAGE | G4: 물가자료 | H4: PAGE | I4: 유통물가 | J4: PAGE | K4: 거래가격 | L4: PAGE | M4: 조사가격 | N4: PAGE | O4: 적용단가 | Q4: 농어촌단가 | R4: 물가자료 | S4: 유통물가 | T4: 거래가격 | U4: 조사가격 | V4: 적용단가
A5: 5F0DE4D349137D85CA31548175F9693D1F9CEB | B5: 굴삭기(무한궤도) | C5: 0.2㎥ | D5: 대 | E5: 0 | G5: 0 | H5: -160 | I5: 0 | K5: 0 | M5: 0 | O5: 0 | P5: 0 | Q5: 0 | R5: 64267 | S5: 0 | T5: 0 | U5: 0 | V5: =SMALL(Q5:U5,COUNTIF(Q5:U5,0)+1) -> 64267 | W5: 자재 1 | X5: 천원
A6: 5F0DE4D349137D85CA31548175FC3D9BB8A498 | B6: 굴삭기(유압식백호) | C6: 0.7 M3 | D6: 대 | E6: 0 | G6: 0 | H6: -160 | I6: 0 | K6: 0 | M6: 0 | O6: 0 | P6: 0 | Q6: 0 | R6: 115116 | S6: 0 | T6: 0 | U6: 0 | V6: =SMALL(Q6:U6,COUNTIF(Q6:U6,0)+1) -> 115116 | W6: 자재 2 | X6: 천원
A7: 5F0DE4D349137D85D436145935DA6475B51D0C | B7: 굴삭기(타이어) | C7: 0.18㎥ | D7: 대 | E7: 0 | G7: 0 | H7: -160 | I7: 0 | K7: 0 | M7: 0 | O7: 0 | P7: 0 | Q7: 0 | R7: 68088 | S7: 0 | T7: 0 | U7: 0 | V7: =SMALL(Q7:U7,COUNTIF(Q7:U7,0)+1) -> 68088 | W7: 자재 3 | X7: 천원
A8: 5F0DE4D349136300CF3ED45CD5AE840C2CCC73 | B8: 진동 롤러(핸드가이드식) | C8: 0.7톤 | D8: 대 | E8: 0 | G8: 0 | H8: -161 | I8: 0 | K8: 0 | M8: 0 | O8: 0 | P8: 0 | Q8: 0 | R8: 6733 | S8: 0 | T8: 0 | U8: 0 | V8: =SMALL(Q8:U8,COUNTIF(Q8:U8,0)+1) -> 6733 | W8: 자재 4 | X8: 천원
A9: 5F0DE4D349136358DE3EA42EA5546B8677A52E | B9: 래머 | C9: 80kg | D9: 대 | E9: 0 | G9: 0 | H9: -161 | I9: 0 | K9: 0 | M9: 0 | O9: 0 | P9: 0 | Q9: 0 | R9: 1370 | S9: 0 | T9: 0 | U9: 0 | V9: =SMALL(Q9:U9,COUNTIF(Q9:U9,0)+1) -> 1370 | W9: 자재 5 | X9: 천원
A10: 5F1E443FA9FA85545C3C94B5D5C6774EFC8B91 | B10: 자갈 | C10: 도착도, #467 | D10: ㎥ | E10: 0 | G10: 30000 | H10: 62 | I10: 29000 | J10: 60 | K10: 0 | M10: 0 | O10: =SMALL(E10:M10,COUNTIF(E10:M10,0)+1) -> 29000 | P10: 0 | Q10: 0 | R10: 0 | S10: 0 | T10: 0 | U10: 0 | V10: 0 | W10: 자재 6
A11: 5F1E443FA9FA854BD535B4DD05C3827446B16E | B11: 모래 | C11: 도착도 | D11: ㎥ | E11: 0 | G11: 40000 | H11: 62 | I11: 37000 | J11: 61 | K11: 36000 | L11: 101 | M11: 0 | O11: =SMALL(E11:M11,COUNTIF(E11:M11,0)+1) -> 36000 | P11: 0 | Q11: 0 | R11: 0 | S11: 0 | T11: 0 | U11: 0 | V11: 0 | W11: 자재 7
A12: 5F1E443FA9CD7497CD3B749065A9D1A529CF03 | B12: 내수합판 | C12: 1급, 12×1220×2440mm(㎡) | D12: M2 | E12: 0 | G12: 11556 | H12: 670 | I12: 11556 | J12: 407 | K12: 11287 | L12: 667 | M12: 0 | O12: =SMALL(E12:M12,COUNTIF(E12:M12,0)+1) -> 11287 | P12: 0 | Q12: 0 | R12: 0 | S12: 0 | T12: 0 | U12: 0 | V12: 0 | W12: 자재 8
A13: 5F1E04427980CC3C2E3CE483657E72D54ABA49 | B13: 경유 | C13: 저유황 | D13: L | E13: 0 | G13: 1400 | H13: -32 | I13: 1391 | J13: 1189 | K13: 1625 | L13: 1451 | M13: 0 | O13: =SMALL(E13:M13,COUNTIF(E13:M13,0)+1) -> 1391 | P13: 0 | Q13: 0 | R13: 0 | S13: 0 | T13: 0 | U13: 0 | V13: 0 | W13: 자재 9
A14: 5F1E04427980CC3C2E3FB4C955BE842FCFE447 | B14: 휘발유 | C14: 무연 | D14: L | E14: 0 | G14: 1518 | H14: -32 | I14: 1509 | J14: 1189 | K14: 1699 | L14: 1451 | M14: 0 | O14: =SMALL(E14:M14,COUNTIF(E14:M14,0)+1) -> 1509 | P14: 0 | Q14: 0 | R14: 0 | S14: 0 | T14: 0 | U14: 0 | V14: 0 | W14: 자재 10
A15: 5F2894FA39C79A2D963FF476656146E7E28E8E | B15: 크레인(타이어) | C15: 10톤 | D15: 대 | E15: 0 | G15: 0 | H15: -161 | I15: 0 | K15: 0 | M15: 0 | O15: 0 | P15: 0 | Q15: 0 | R15: 134000 | S15: 0 | T15: 0 | U15: 0 | V15: =SMALL(Q15:U15,COUNTIF(Q15:U15,0)+1) -> 134000 | W15: 자재 11 | X15: 천원
A16: 5F28A480E95DEFF79932A4A5B598E8079A2076 | B16: 난연성 비닐절연 접지용전선 | C16: 0.6/1kV F-GV 4㎟ | D16: m | E16: 1111 | G16: 1172 | H16: 1075 | I16: 1238 | J16: 833 | K16: 1175 | L16: 994 | M16: 0 | O16: =SMALL(E16:M16,COUNTIF(E16:M16,0)+1) -> 1111 | P16: 0 | Q16: 0 | R16: 0 | S16: 0 | T16: 0 | U16: 0 | V16: 0 | W16: 자재 12
A17: 5F28A480E95DEFF79932A4A5B598E8079A2077 | B17: 난연성 비닐절연 접지용전선 | C17: 0.6/1kV F-GV 6㎟ | D17: m | E17: 1264 | G17: 1535 | H17: 1075 | I17: 1422 | J17: 833 | K17: 1385 | L17: 994 | M17: 0 | O17: =SMALL(E17:M17,COUNTIF(E17:M17,0)+1) -> 1264 | P17: 0 | Q17: 0 | R17: 0 | S17: 0 | T17: 0 | U17: 0 | V17: 0 | W17: 자재 13
A18: 5F28A480E95DEFF79932A4A5B598E8079A2079 | B18: 난연성 비닐절연 접지용전선 | C18: 0.6/1kV F-GV 16㎟ | D18: m | E18: 2909 | G18: 3274 | H18: 1075 | I18: 3269 | J18: 833 | K18: 3348 | L18: 994 | M18: 0 | O18: =SMALL(E18:M18,COUNTIF(E18:M18,0)+1) -> 2909 | P18: 0 | Q18: 0 | R18: 0 | S18: 0 | T18: 0 | U18: 0 | V18: 0 | W18: 자재 14
A19: 5F28A480E95DEFF79932A4A5B598E8079B305F | B19: 난연성 비닐절연 접지용전선 | C19: 0.6/1kV F-GV 35㎟ | D19: m | E19: 6310 | G19: 6905 | H19: 1075 | I19: 7111 | J19: 833 | K19: 6645 | L19: 994 | M19: 0 | O19: =SMALL(E19:M19,COUNTIF(E19:M19,0)+1) -> 6310 | P19: 0 | Q19: 0 | R19: 0 | S19: 0 | T19: 0 | U19: 0 | V19: 0 | W19: 자재 15
A20: 5F28A480E95DEFF79932A4A5B598E8079B305C | B20: 난연성 비닐절연 접지용전선 | C20: 0.6/1kV F-GV 50㎟ | D20: m | E20: 8577 | G20: 9307 | H20: 1075 | I20: 9679 | J20: 833 | K20: 9337 | L20: 994 | M20: 0 | O20: =SMALL(E20:M20,COUNTIF(E20:M20,0)+1) -> 8577 | P20: 0 | Q20: 0 | R20: 0 | S20: 0 | T20: 0 | U20: 0 | V20: 0 | W20: 자재 16
A21: 5F28A480E95DEFCA7E36047F658794907B9449 | B21: 0.6/1kV제어용난연(F-CVV-SB) | C21: 2C 1.5㎟ | D21: m | E21: 1992 | G21: 1992 | H21: 1076 | I21: 2599 | J21: 835 | K21: 2054 | L21: 995 | M21: 0 | O21: =SMALL(E21:M21,COUNTIF(E21:M21,0)+1) -> 1992 | P21: 0 | Q21: 0 | R21: 0 | S21: 0 | T21: 0 | U21: 0 | V21: 0 | W21: 자재 17
A22: 5F28A480E95DEFCA7E36047F658794907A8C4D | B22: 0.6/1kV제어용난연(F-CVV-SB) | C22: 20C 1.5㎟ | D22: m | E22: 8627 | G22: 9188 | H22: 1076 | I22: 11120 | J22: 835 | K22: 8706 | L22: 995 | M22: 0 | O22: =SMALL(E22:M22,COUNTIF(E22:M22,0)+1) -> 8627 | P22: 0 | Q22: 0 | R22: 0 | S22: 0 | T22: 0 | U22: 0 | V22: 0 | W22: 자재 18
A23: 5F28A480E95DEFCA5331B49995A7F9F1234BE3 | B23: 0.6/1kV가교폴리에틸렌(F-CV) | C23: 2C 4㎟ | D23: m | E23: 2138 | G23: 2238 | H23: 1075 | I23: 2270 | J23: 834 | K23: 2635 | L23: 993 | M23: 0 | O23: =SMALL(E23:M23,COUNTIF(E23:M23,0)+1) -> 2138 | P23: 0 | Q23: 0 | R23: 0 | S23: 0 | T23: 0 | U23: 0 | V23: 0 | W23: 자재 19
A24: 5F28A480E95DEFCA5331B49995A7F9F1234BE4 | B24: 0.6/1kV가교폴리에틸렌(F-CV) | C24: 2C 6㎟ | D24: m | E24: 2892 | G24: 3010 | H24: 1075 | I24: 3080 | J24: 834 | K24: 3564 | L24: 993 | M24: 0 | O24: =SMALL(E24:M24,COUNTIF(E24:M24,0)+1) -> 2892 | P24: 0 | Q24: 0 | R24: 0 | S24: 0 | T24: 0 | U24: 0 | V24: 0 | W24: 자재 20
A25: 5F28A480E95DEFCA5331B49995A7F9F1234930 | B25: 0.6/1kV가교폴리에틸렌(F-CV) | C25: 3C 4㎟ | D25: m | E25: 2831 | G25: 3072 | H25: 1075 | I25: 3002 | J25: 834 | K25: 3489 | L25: 993 | M25: 0 | O25: =SMALL(E25:M25,COUNTIF(E25:M25,0)+1) -> 2831 | P25: 0 | Q25: 0 | R25: 0 | S25: 0 | T25: 0 | U25: 0 | V25: 0 | W25: 자재 21
A26: 5F28A480E95DEFCA5331B49995A7F9F1234F5E | B26: 0.6/1kV가교폴리에틸렌(F-CV) | C26: 4C 6㎟ | D26: m | E26: 5031 | G26: 5418 | H26: 1075 | I26: 5372 | J26: 834 | K26: 6200 | L26: 993 | M26: 0 | O26: =SMALL(E26:M26,COUNTIF(E26:M26,0)+1) -> 5031 | P26: 0 | Q26: 0 | R26: 0 | S26: 0 | T26: 0 | U26: 0 | V26: 0 | W26: 자재 22
A27: 5F28A480E95DEFCA5331B49995A7F9F1234F52 | B27: 0.6/1kV가교폴리에틸렌(F-CV) | C27: 4C 35㎟ | D27: m | E27: 26476 | G27: 27625 | H27: 1075 | I27: 28886 | J27: 834 | K27: 30431 | L27: 993 | M27: 0 | O27: =SMALL(E27:M27,COUNTIF(E27:M27,0)+1) -> 26476 | P27: 0 | Q27: 0 | R27: 0 | S27: 0 | T27: 0 | U27: 0 | V27: 0 | W27: 자재 23
A28: 5F28A480E95DEFCA5331B49995A7F9F1234DA9 | B28: 6/10kV고압가교폴리에틸렌(F-CV) | C28: 1C 50㎟ | D28: m | E28: 11932 | G28: 12712 | H28: 1075 | I28: 12806 | J28: 834 | K28: 14253 | L28: 993 | M28: 0 | O28: =SMALL(E28:M28,COUNTIF(E28:M28,0)+1) -> 11932 | P28: 0 | Q28: 0 | R28: 0 | S28: 0 | T28: 0 | U28: 0 | V28: 0 | W28: 자재 24
A29: 5F28A480E95DEFCA5331B49995A7F9F1234C80 | B29: 6/10kV고압가교폴리에틸렌(F-CV) | C29: 3C 25㎟ | D29: m | E29: 24083 | G29: 0 | I29: 25847 | J29: 834 | K29: 0 | M29: 0 | O29: =SMALL(E29:M29,COUNTIF(E29:M29,0)+1) -> 24083 | P29: 0 | Q29: 0 | R29: 0 | S29: 0 | T29: 0 | U29: 0 | V29: 0 | W29: 자재 25
A30: 5F28A480E95DEFCA5331B499B56FFA13576CE3 | B30: 저독성폴리올레핀절연전선(HFIX) | C30: 2.5㎟(1.78㎜) | D30: m | E30: 515 | G30: 541 | H30: 1074 | I30: 742 | J30: 833 | K30: 559 | L30: 993 | M30: 0 | O30: =SMALL(E30:M30,COUNTIF(E30:M30,0)+1) -> 515 | P30: 0 | Q30: 0 | R30: 0 | S30: 0 | T30: 0 | U30: 0 | V30: 0 | W30: 자재 26
A31: 5F28A480E95DEFCA5331B499B56FFA13576CEC | B31: 저독성폴리올레핀절연전선(HFIX) | C31: 4㎟(2.25㎜) | D31: m | E31: 847 | G31: 823 | H31: 1074 | I31: 1165 | J31: 833 | K31: 846 | L31: 993 | M31: 0 | O31: =SMALL(E31:M31,COUNTIF(E31:M31,0)+1) -> 823 | P31: 0 | Q31: 0 | R31: 0 | S31: 0 | T31: 0 | U31: 0 | V31: 0 | W31: 자재 27
A32: 5F39249B7967E5F11E372443D5D05697B4D52A | B32: 각재(角材) | C32: 외송(㎥) | D32: M3 | E32: 0 | G32: 748503 | H32: 97 | I32: 571557 | J32: 73 | K32: 577844 | L32: 148 | M32: 0 | O32: =SMALL(E32:M32,COUNTIF(E32:M32,0)+1) -> 571557 | P32: 0 | Q32: 0 | R32: 0 | S32: 0 | T32: 0 | U32: 0 | V32: 0 | W32: 자재 28
A33: 5F39249B797052D1CA3174B6254EB28CC0E4EB | B33: 시멘트 | C33: 보통 | D33: KG | E33: 0 | G33: 164 | H33: 65 | I33: 164 | J33: 62 | K33: 189 | L33: 102 | M33: 0 | O33: =SMALL(E33:M33,COUNTIF(E33:M33,0)+1) -> 164 | P33: 0 | Q33: 0 | R33: 0 | S33: 0 | T33: 0 | U33: 0 | V33: 0 | W33: 자재 29
A34: 5F39249B797052319733543A25D794424C1F7C | B34: 용접철망 | C34: 와이어메쉬, #10-150×150 | D34: M2 | E34: 0 | G34: 1790 | H34: 56 | I34: 0 | K34: 1610 | L34: 99 | M34: 0 | O34: =SMALL(E34:M34,COUNTIF(E34:M34,0)+1) -> 1610 | P34: 0 | Q34: 0 | R34: 0 | S34: 0 | T34: 0 | U34: 0 | V34: 0 | W34: 자재 30
A35: 5F39249B7944E9602F3654E5A5DC1955CD7953 | B35: 맨홀 | C35: 1000x1000x1000 | D35: 조 | E35: 170000 | G35: 0 | I35: 0 | K35: 170000 | L35: 223 | M35: 230000 | N35: 물정214 | O35: =SMALL(E35:M35,COUNTIF(E35:M35,0)+1) -> 170000 | P35: 0 | Q35: 0 | R35: 0 | S35: 0 | T35: 0 | U35: 0 | V35: 0 | W35: 자재 31
A36: 5F39249B7944E9602F3654E5A5DC1955CD7A65 | B36: 맨홀카바(철개) | C36: 주철각형 K.S (1120x620x132) | D36: 조 | E36: 370000 | G36: 0 | I36: 0 | K36: 470000 | L36: 235 | M36: 0 | O36: =SMALL(E36:M36,COUNTIF(E36:M36,0)+1) -> 370000 | P36: 0 | Q36: 0 | R36: 0 | S36: 0 | T36: 0 | U36: 0 | V36: 0 | W36: 자재 32
A37: 5F3934A0B9C07065A53344A875BFCDB901C65B | B37: 앵커볼트 | C37: M16×L300 | D37: 개 | E37: 0 | G37: 0 | I37: 0 | K37: 1660 | L37: 93 | M37: 0 | O37: =SMALL(E37:M37,COUNTIF(E37:M37,0)+1) -> 1660 | P37: 0 | Q37: 0 | R37: 0 | S37: 0 | T37: 0 | U37: 0 | V37: 0 | W37: 자재 33
A38: 5F3934A0B9C07065323B24B745E567E704E334 | B38: 전산볼트 | C38: M10×1000㎜ | D38: 개 | E38: 0 | G38: 1409 | H38: 46 | I38: 1238 | J38: 51 | K38: 1170 | L38: 90 | M38: 0 | O38: =SMALL(E38:M38,COUNTIF(E38:M38,0)+1) -> 1170 | P38: 0 | Q38: 0 | R38: 0 | S38: 0 | T38: 0 | U38: 0 | V38: 0 | W38: 자재 34
A39: 5F3934A0B9C070763736E4E3D5E90ED7B4D110 | B39: 6각너트 | C39: M10 | D39: EA | E39: 0 | G39: 30.2 | H39: 51 | I39: 25.2 | J39: 56 | K39: 30 | L39: 96 | M39: 0 | O39: =SMALL(E39:M39,COUNTIF(E39:M39,0)+1) -> 25.2 | P39: 0 | Q39: 0 | R39: 0 | S39: 0 | T39: 0 | U39: 0 | V39: 0 | W39: 자재 35
A40: 5F3934A0B9C070809D3404EE85C9AA504CE11E | B40: 스프링 와샤 | C40: 10mm | D40: EA | E40: 0 | G40: 10.98 | H40: 48 | I40: 9.3 | J40: 56 | K40: 9.6 | L40: 93 | M40: 0 | O40: =SMALL(E40:M40,COUNTIF(E40:M40,0)+1) -> 9.3 | P40: 0 | Q40: 0 | R40: 0 | S40: 0 | T40: 0 | U40: 0 | V40: 0 | W40: 자재 36
A41: 5F3934A0B9C044D11439E4E89515B00552431A | B41: 셋트앵커 | C41: M10×L75mm | D41: 개 | E41: 0 | G41: 160 | H41: 52 | I41: 160 | J41: 53 | K41: 170 | L41: 93 | M41: 0 | O41: =SMALL(E41:M41,COUNTIF(E41:M41,0)+1) -> 160 | P41: 0 | Q41: 0 | R41: 0 | S41: 0 | T41: 0 | U41: 0 | V41: 0 | W41: 자재 37
A42: 5F3934A0B9C044D11439E4E89515B00552431D | B42: 현황판 철거 후 신설 | D42: EA | E42: 0 | G42: 0 | I42: 0 | O42: 0 | P42: 0 | Q42: 0 | R42: 0 | S42: 0 | T42: 0 | U42: 0 | V42: 0 | W42: 자재 38
A43: 5F3934A0B9C044D11439E4E89515B005524162 | B43: 스트롱앵커 | C43: M10×L50mm | D43: 개 | E43: 0 | G43: 120 | H43: 52 | I43: 0 | K43: 0 | M43: 0 | O43: =SMALL(E43:M43,COUNTIF(E43:M43,0)+1) -> 120 | P43: 0 | Q43: 0 | R43: 0 | S43: 0 | T43: 0 | U43: 0 | V43: 0 | W43: 자재 39
A44: 5F39B4F619096CA2CD3C141AE521F2F95464AF | B44: 가로등 방수접속함 | C44: 누전차단기내장 | D44: 개 | E44: 0 | G44: 45000 | H44: 1236 | I44: 45000 | J44: 959 | K44: 45000 | L44: 1124 | M44: 0 | O44: =SMALL(E44:M44,COUNTIF(E44:M44,0)+1) -> 45000 | P44: 0 | Q44: 0 | R44: 0 | S44: 0 | T44: 0 | U44: 0 | V44: 0 | W44: 자재 40
A45: 5F39B4F619096C87F03564C10566285C205E1C | B45: 풀박스 | C45: 150x150x100 | D45: 개 | E45: 3360 | G45: 3870 | H45: 1105 | I45: 3360 | J45: 873 | K45: 7510 | L45: 1028 | M45: 0 | O45: =SMALL(E45:M45,COUNTIF(E45:M45,0)+1) -> 3360 | P45: 0 | Q45: 0 | R45: 0 | S45: 0 | T45: 0 | U45: 0 | V45: 0 | W45: 자재 41
A46: 5F39B4F619096C87F03564C10566285C2FDD38 | B46: 풀박스 | C46: 200x200x200 | D46: 개 | E46: 0 | G46: 7920 | H46: 1105 | I46: 7100 | J46: 873 | K46: 14600 | L46: 1028 | M46: 0 | O46: =SMALL(E46:M46,COUNTIF(E46:M46,0)+1) -> 7100 | P46: 0 | Q46: 0 | R46: 0 | S46: 0 | T46: 0 | U46: 0 | V46: 0 | W46: 자재 42
A47: 5F39B4F619096C87F030E4AD55BE641978417A | B47: 스위치박스 | C47: 1 개용 54 mm | D47: 개 | E47: 0 | G47: 650 | H47: 1105 | I47: 700 | J47: 873 | K47: 650 | L47: 1028 | M47: 0 | O47: =SMALL(E47:M47,COUNTIF(E47:M47,0)+1) -> 650 | P47: 0 | Q47: 0 | R47: 0 | S47: 0 | T47: 0 | U47: 0 | V47: 0 | W47: 자재 43
A48: 5F39B4F619096C87F030E4AD55BE6419784ECB | B48: 스위치박스 | C48: 2 개용 54 mm | D48: 개 | E48: 0 | G48: 920 | H48: 1105 | I48: 973 | J48: 873 | K48: 1000 | L48: 1028 | M48: 0 | O48: =SMALL(E48:M48,COUNTIF(E48:M48,0)+1) -> 920 | P48: 0 | Q48: 0 | R48: 0 | S48: 0 | T48: 0 | U48: 0 | V48: 0 | W48: 자재 44
A49: 5F39B4F619096C87F03E448B353E0ADF9D4E75 | B49: 아우트렛박스 | C49: 8각 54㎜ | D49: 개 | E49: 704 | G49: 790 | H49: 1105 | I49: 845 | J49: 873 | K49: 627 | L49: 1020 | M49: 0 | O49: =SMALL(E49:M49,COUNTIF(E49:M49,0)+1) -> 627 | P49: 0 | Q49: 0 | R49: 0 | S49: 0 | T49: 0 | U49: 0 | V49: 0 | W49: 자재 45
A50: 5F39B4F619096C87F03E448B353E0ADF9D4E76 | B50: 아우트렛박스 | C50: 중형4각 54㎜ | D50: 개 | G50: 0 | I50: 0 | K50: 731 | L50: 1020 | M50: 0 | O50: =SMALL(E50:M50,COUNTIF(E50:M50,0)+1) -> 731 | P50: 0 | Q50: 0 | R50: 0 | S50: 0 | T50: 0 | U50: 0 | V50: 0 | W50: 자재 46
A51: 5F39B4F619096C87F03E44B08505CE8A24B4D9 | B51: 아우트렛박스 커버 | C51: 8각, 평 | D51: 개 | E51: 0 | G51: 290 | H51: 1105 | I51: 343 | J51: 873 | K51: 240 | L51: 1020 | M51: 0 | O51: =SMALL(E51:M51,COUNTIF(E51:M51,0)+1) -> 240 | P51: 0 | Q51: 0 | R51: 0 | S51: 0 | T51: 0 | U51: 0 | V51: 0 | W51: 자재 47
A52: 5F39B4F619096C87F03E44B08505CE8A24B4DA | B52: 아우트렛박스 커버 | C52: 4각, 평 | D52: 개 | E52: 0 | G52: 0 | I52: 0 | K52: 240 | L52: 1020 | M52: 0 | O52: =SMALL(E52:M52,COUNTIF(E52:M52,0)+1) -> 240 | P52: 0 | Q52: 0 | R52: 0 | S52: 0 | T52: 0 | U52: 0 | V52: 0 | W52: 자재 48
A53: 5F39B4F619096C87F03E44B08505CE8A24B4D1 | B53: 스위치박스 커버 | C53: 4각, 2개용 오목 | D53: 개 | E53: 0 | G53: 0 | I53: 452 | J53: 873 | K53: 400 | L53: 1028 | M53: 0 | O53: =SMALL(E53:M53,COUNTIF(E53:M53,0)+1) -> 400 | P53: 0 | Q53: 0 | R53: 0 | S53: 0 | T53: 0 | U53: 0 | V53: 0 | W53: 자재 49
A54: 5F39B4F619096C876233A43685306B86A0B68D | B54: 통신용 발포지수제 | C54: 발포지수재, D100 이하 | D54: 개 | E54: 0 | G54: 0 | I54: 0 | K54: 0 | M54: 21707 | N54: 조달 | O54: =SMALL(E54:M54,COUNTIF(E54:M54,0)+1) -> 21707 | P54: 0 | Q54: 0 | R54: 0 | S54: 0 | T54: 0 | U54: 0 | V54: 0 | W54: 자재 50
A55: 5F39B4F619096C876233A436853D21D84A2761 | B55: 통신용 발포지수제 | C55: 수밀보호테이프 | D55: 개 | E55: 0 | G55: 0 | I55: 0 | K55: 0 | M55: 2470 | N55: 조달 | O55: =SMALL(E55:M55,COUNTIF(E55:M55,0)+1) -> 2470 | P55: 0 | Q55: 0 | R55: 0 | S55: 0 | T55: 0 | U55: 0 | V55: 0 | W55: 자재 51
A56: 5F39B4F619096CFAED33E4C1E5C6A574243BA5 | B56: 콘센트 | C56: 매입-접지형, 16A 250V 1구 | D56: 개 | E56: 0 | G56: 2000 | H56: 1205 | I56: 2300 | J56: 930 | K56: 2300 | L56: 1099 | M56: 0 | O56: =SMALL(E56:M56,COUNTIF(E56:M56,0)+1) -> 2000 | P56: 0 | Q56: 0 | R56: 0 | S56: 0 | T56: 0 | U56: 0 | V56: 0 | W56: 자재 52
A57: 5F39B4F619096CFAED33E4C1E5C6A574243A85 | B57: 콘센트 | C57: 매입-접지형, 16A 250V 2구 | D57: 개 | E57: 2220 | G57: 2200 | H57: 1205 | I57: 2717 | J57: 930 | K57: 2717 | L57: 1099 | M57: 0 | O57: =SMALL(E57:M57,COUNTIF(E57:M57,0)+1) -> 2200 | P57: 0 | Q57: 0 | R57: 0 | S57: 0 | T57: 0 | U57: 0 | V57: 0 | W57: 자재 53
A58: 5F39B4F619096CFAED3CC49485504FFFE323E9 | B58: 케이블 단말접속자재 | C58: 자기수축,6.9kV 1Cx60 ㎟ | D58: KIT | G58: 56367 | H58: 1096 | I58: 56367 | J58: 855 | K58: 56367 | L58: 1021 | M58: 0 | O58: =SMALL(E58:M58,COUNTIF(E58:M58,0)+1) -> 56367 | P58: 0 | Q58: 0 | R58: 0 | S58: 0 | T58: 0 | U58: 0 | V58: 0 | W58: 자재 54
A59: 5F39B4F619096CFAFF3F74BF657CED5422F7D8 | B59: 볼트형콘넥터 | C59: U 볼트형, Φ16 | D59: 개 | E59: 7243 | G59: 6800 | H59: 1198 | I59: 5250 | J59: 925 | K59: 0 | M59: 0 | O59: =SMALL(E59:M59,COUNTIF(E59:M59,0)+1) -> 5250 | P59: 0 | Q59: 0 | R59: 0 | S59: 0 | T59: 0 | U59: 0 | V59: 0 | W59: 자재 55
A60: 5F39B4F619096CFADC3CF4D1A554F91E8B1538 | B60: 러그단자 | C60: 동관단자 2 HOLE 35 ㎟ | D60: EA | E60: 0 | G60: 1210 | H60: 1100 | I60: 1900 | J60: 858 | K60: 1368 | L60: 1019 | M60: 0 | O60: =SMALL(E60:M60,COUNTIF(E60:M60,0)+1) -> 1210 | P60: 0 | Q60: 0 | R60: 0 | S60: 0 | T60: 0 | U60: 0 | V60: 0 | W60: 자재 56
A61: 5F39B4F619096CFADC3CF4E205B9527284C78C | B61: 압착단자 | C61: R형동선 나압착 16 ㎟ | D61: EA | E61: 0 | G61: 258.7 | H61: 1100 | I61: 435 | J61: 858 | K61: 200 | L61: 1019 | M61: 0 | O61: =SMALL(E61:M61,COUNTIF(E61:M61,0)+1) -> 200 | P61: 0 | Q61: 0 | R61: 0 | S61: 0 | T61: 0 | U61: 0 | V61: 0 | W61: 자재 57
A62: 5F39B4F619096CFADC3CF4E205B9527284C78F | B62: 압착단자 | C62: R형동선 나압착 25 ㎟ | D62: EA | E62: 0 | G62: 329.2 | H62: 1100 | I62: 639 | J62: 858 | K62: 260 | L62: 1019 | M62: 0 | O62: =SMALL(E62:M62,COUNTIF(E62:M62,0)+1) -> 260 | P62: 0 | Q62: 0 | R62: 0 | S62: 0 | T62: 0 | U62: 0 | V62: 0 | W62: 자재 58
A63: 5F39B4F619096CDE0432141D75922031AB48B4 | B63: 접지봉 | C63: 14Φ×1000 mm | D63: 개 | E63: 3318 | G63: 5780 | H63: 1198 | I63: 3900 | J63: 925 | K63: 0 | M63: 0 | O63: =SMALL(E63:M63,COUNTIF(E63:M63,0)+1) -> 3318 | P63: 0 | Q63: 0 | R63: 0 | S63: 0 | T63: 0 | U63: 0 | V63: 0 | W63: 자재 59
A64: 5F39B4F619096CDE04379401D5BE6977E9E134 | B64: 배선용 차단기 | C64: 4P 460V 125AF | D64: 대 | G64: 129300 | H64: 1154 | I64: 129300 | J64: 895 | K64: 129300 | L64: 1069 | M64: 0 | O64: =SMALL(E64:M64,COUNTIF(E64:M64,0)+1) -> 129300 | P64: 0 | Q64: 0 | R64: 0 | S64: 0 | T64: 0 | U64: 0 | V64: 0 | W64: 자재 60
A65: 5F39B4F619096CCDA7376415950B43BA33AEAC | B65: 케이블걸이 | C65: 걸이쇠, 2조 | D65: EA | E65: 0 | G65: 0 | I65: 0 | K65: 2998 | L65: 1134 | M65: 0 | O65: =SMALL(E65:M65,COUNTIF(E65:M65,0)+1) -> 2998 | P65: 0 | Q65: 0 | R65: 0 | S65: 0 | T65: 0 | U65: 0 | V65: 0 | W65: 자재 61
A66: 5F39B4F619096CCDA7376415950B43BD8C2699 | B66: 케이블받침대 | C66: 75x40x5x750 | D66: EA | E66: 0 | G66: 0 | I66: 0 | K66: 16519 | L66: 1134 | M66: 0 | O66: =SMALL(E66:M66,COUNTIF(E66:M66,0)+1) -> 16519 | P66: 0 | Q66: 0 | R66: 0 | S66: 0 | T66: 0 | U66: 0 | V66: 0 | W66: 자재 62
A67: 5F39B4F6190952598D367463753609E4CCB308 | B67: 지중선용 가선철물 | C67: 지중선로표시기, 전규격 | D67: EA | E67: 0 | G67: 0 | I67: 5400 | J67: 905 | K67: 5400 | L67: 1082 | M67: 0 | O67: =SMALL(E67:M67,COUNTIF(E67:M67,0)+1) -> 5400 | P67: 0 | Q67: 0 | R67: 0 | S67: 0 | T67: 0 | U67: 0 | V67: 0 | W67: 자재 63
A68: 5F39B4F61909E086C630D4E315B20669F2F131 | B68: 단로 스위치 | C68: 2구 | D68: 개 | E68: 2820 | G68: 2820 | H68: 1204 | I68: 5934 | J68: 930 | K68: 4710 | L68: 1098 | M68: 0 | O68: =SMALL(E68:M68,COUNTIF(E68:M68,0)+1) -> 2820 | P68: 0 | Q68: 0 | R68: 0 | S68: 0 | T68: 0 | U68: 0 | V68: 0 | W68: 자재 64
A69: 5F39B4F61909E086D03744FB255EB0564F5DE0 | B69: 분전반설치비(재료비제외) | D69: 면 | E69: 0 | G69: 0 | I69: 0 | K69: 0 | M69: 0 | O69: 0 | P69: 0 | Q69: 0 | R69: 0 | S69: 0 | T69: 0 | U69: 0 | V69: 0 | W69: 자재 65
A70: 5F39B4F61909E086D03744FB255EB0564F5DE1 | B70: 자립형 분전반설치비(재료비제외) | D70: 면 | E70: 0 | G70: 0 | I70: 0 | K70: 0 | M70: 0 | O70: 0 | P70: 0 | Q70: 0 | R70: 0 | S70: 0 | T70: 0 | U70: 0 | V70: 0 | W70: 자재 66
A71: 5F39B4F6191BCC929E3F246835310AFB09831C | B71: CABLE DUCT COVER(전기) 철거or이설 | C71: W800x100H | D71: M | E71: 0 | G71: 0 | I71: 0 | K71: 0 | M71: 0 | O71: 0 | P71: 0 | Q71: 0 | R71: 0 | S71: 0 | T71: 0 | U71: 0 | V71: 0 | W71: 자재 67 | X71: ...
A72: 5F39B4F6191BCC929E3F246835310AFA6171FF | B72: 덕트형 케이블트레이 | C72: DUCT, W 300 | D72: M | E72: 0 | G72: 31030 | H72: 1115 | I72: 0 | K72: 0 | M72: 0 | O72: =SMALL(E72:M72,COUNTIF(E72:M72,0)+1) -> 31030 | P72: 0 | Q72: 0 | R72: 0 | S72: 0 | T72: 0 | U72: 0 | V72: 0 | W72: 자재 68
A73: 5F39B4F6191BCC929E3E14F91578CAF28D7CF3 | B73: 케이블트레이부속품 | C73: SHANK BOLT & NUT, 아연도 | D73: 개 | E73: 210 | G73: 210 | H73: 1114 | I73: 0 | K73: 210 | L73: 1037 | M73: 0 | O73: =SMALL(E73:M73,COUNTIF(E73:M73,0)+1) -> 210 | P73: 0 | Q73: 0 | R73: 0 | S73: 0 | T73: 0 | U73: 0 | V73: 0 | W73: 자재 69
A74: 5F39B4F6191BCC929E3E14F91578CAF28D7CF7 | B74: 케이블트레이부속품 | C74: BONDING JUMPER, 38㎟ | D74: 개 | G74: 0 | I74: 0 | K74: 0 | M74: 4740 | N74: 물정1215 | O74: =SMALL(E74:M74,COUNTIF(E74:M74,0)+1) -> 4740 | P74: 0 | Q74: 0 | R74: 0 | S74: 0 | T74: 0 | U74: 0 | V74: 0 | W74: 자재 70
A75: 5F39B4F6191BCC929E3E14F91578CAF28D7CFB | B75: 케이블트레이부속품 | C75: U CHANNEL, 41x41x2.6t | D75: M | E75: 9100 | G75: 9100 | H75: 1114 | I75: 0 | K75: 0 | M75: 0 | O75: =SMALL(E75:M75,COUNTIF(E75:M75,0)+1) -> 9100 | P75: 0 | Q75: 0 | R75: 0 | S75: 0 | T75: 0 | U75: 0 | V75: 0 | W75: 자재 71
A76: 5F39B4F6191BCC929E3E14F91578CAF288F888 | B76: 덕트형 케이블트레이부속품 | C76: HOR. ELBOW, W 300 | D76: 개 | G76: 30230 | H76: 1115 | I76: 0 | K76: 0 | M76: 0 | O76: =SMALL(E76:M76,COUNTIF(E76:M76,0)+1) -> 30230 | P76: 0 | Q76: 0 | R76: 0 | S76: 0 | T76: 0 | U76: 0 | V76: 0 | W76: 자재 72
A77: 5F39B4F6191BCC929E3E14F91578CAF288FB5E | B77: 덕트형 케이블트레이부속품 | C77: CONNECTOR, W 300 | D77: 개 | G77: 0 | I77: 7160 | J77: C사 | K77: 6980 | L77: B사 | M77: 6070 | N77: A사 | O77: =SMALL(E77:M77,COUNTIF(E77:M77,0)+1) -> 6070 | P77: 0 | Q77: 0 | R77: 0 | S77: 0 | T77: 0 | U77: 0 | V77: 0 | W77: 자재 73
A78: 5F39B4F6191BCC929E3D7467A593B5394147E4 | B78: 경질비닐전선관 | C78: HI 36 mm | D78: M | E78: 1121 | G78: 1440 | H78: 1107 | I78: 1373 | J78: 861 | K78: 1121 | L78: 1024 | M78: 0 | O78: =SMALL(E78:M78,COUNTIF(E78:M78,0)+1) -> 1121 | P78: 0 | Q78: 0 | R78: 0 | S78: 0 | T78: 0 | U78: 0 | V78: 0 | W78: 자재 74
A79: 5F39B4F6191BCC929E3D7467A593B538A7AC51 | B79: 파상형 경질폴리에틸렌 전선관 | C79: 30㎜ | D79: M | E79: 360 | G79: 360 | H79: 1106 | I79: 480 | J79: 861 | K79: 391 | L79: 1025 | M79: 0 | O79: =SMALL(E79:M79,COUNTIF(E79:M79,0)+1) -> 360 | P79: 0 | Q79: 0 | R79: 0 | S79: 0 | T79: 0 | U79: 0 | V79: 0 | W79: 자재 75
A80: 5F39B4F6191BCC929E3D7467A593B538A7AC52 | B80: 파상형 경질폴리에틸렌 전선관 | C80: 40㎜ | D80: M | E80: 550 | G80: 550 | H80: 1106 | I80: 607 | J80: 861 | K80: 563 | L80: 1025 | M80: 0 | O80: =SMALL(E80:M80,COUNTIF(E80:M80,0)+1) -> 550 | P80: 0 | Q80: 0 | R80: 0 | S80: 0 | T80: 0 | U80: 0 | V80: 0 | W80: 자재 76
A81: 5F39B4F6191BCC929E3D7467A593B538A7AC53 | B81: 파상형 경질폴리에틸렌 전선관 | C81: 50㎜ | D81: M | E81: 730 | G81: 730 | H81: 1106 | I81: 860 | J81: 861 | K81: 750 | L81: 1025 | M81: 0 | O81: =SMALL(E81:M81,COUNTIF(E81:M81,0)+1) -> 730 | P81: 0 | Q81: 0 | R81: 0 | S81: 0 | T81: 0 | U81: 0 | V81: 0 | W81: 자재 77
A82: 5F39B4F6191BCC929E3D7467A593B538A7AC54 | B82: 파상형 경질폴리에틸렌 전선관 | C82: 65㎜ | D82: M | E82: 1090 | G82: 1090 | H82: 1106 | I82: 1239 | J82: 861 | K82: 1250 | L82: 1025 | M82: 0 | O82: =SMALL(E82:M82,COUNTIF(E82:M82,0)+1) -> 1090 | P82: 0 | Q82: 0 | R82: 0 | S82: 0 | T82: 0 | U82: 0 | V82: 0 | W82: 자재 78
A83: 5F39B4F6191BCC929E3D7467A593B538A7AC55 | B83: 파상형 경질폴리에틸렌 전선관 | C83: 80㎜ | D83: M | E83: 1450 | G83: 1450 | H83: 1106 | I83: 1632 | J83: 861 | K83: 1719 | L83: 1025 | M83: 0 | O83: =SMALL(E83:M83,COUNTIF(E83:M83,0)+1) -> 1450 | P83: 0 | Q83: 0 | R83: 0 | S83: 0 | T83: 0 | U83: 0 | V83: 0 | W83: 자재 79
A84: 5F39B4F6191BCC929E3D7467A593B538A7A998 | B84: 합성수지제 가요전선관 | C84: CD 난연성 16㎜ | D84: M | E84: 0 | G84: 200 | H84: 1104 | I84: 305 | J84: 860 | K84: 305 | L84: 1025 | M84: 0 | O84: =SMALL(E84:M84,COUNTIF(E84:M84,0)+1) -> 200 | P84: 0 | Q84: 0 | R84: 0 | S84: 0 | T84: 0 | U84: 0 | V84: 0 | W84: 자재 80
A85: 5F39B4F6191BCC929E3D7467A593B538A7A99A | B85: 합성수지제 가요전선관 | C85: CD 난연성 28㎜ | D85: M | E85: 0 | G85: 410 | H85: 1104 | I85: 610 | J85: 860 | K85: 610 | L85: 1025 | M85: 0 | O85: =SMALL(E85:M85,COUNTIF(E85:M85,0)+1) -> 410 | P85: 0 | Q85: 0 | R85: 0 | S85: 0 | T85: 0 | U85: 0 | V85: 0 | W85: 자재 81
A86: 5F39B4F6191BCC929E3D7455358B9DD8B10A46 | B86: 1종금속제가요전선관 | C86: 박스커넥터, 16 mm 비방수 | D86: 개 | E86: 340 | G86: 340 | H86: 1101 | I86: 340 | J86: 860 | K86: 0 | M86: 0 | O86: =SMALL(E86:M86,COUNTIF(E86:M86,0)+1) -> 340 | P86: 0 | Q86: 0 | R86: 0 | S86: 0 | T86: 0 | U86: 0 | V86: 0 | W86: 자재 82
A87: 5F39B4F6191BCC929E3D7455358B9DD8B10D1E | B87: 1종금속제가요전선관 | C87: 박스커넥터-비닐, 28mm 방수 | D87: 개 | E87: 1500 | G87: 1500 | H87: 1101 | I87: 1500 | J87: 860 | K87: 0 | M87: 0 | O87: =SMALL(E87:M87,COUNTIF(E87:M87,0)+1) -> 1500 | P87: 0 | Q87: 0 | R87: 0 | S87: 0 | T87: 0 | U87: 0 | V87: 0 | W87: 자재 83
A88: 5F39B4F6191BCC929E3D7455358B9DD8B10C0E | B88: 1종금속제가요전선관 | C88: 박스커넥터-비닐, 54mm 방수 | D88: 개 | E88: 3740 | G88: 3740 | H88: 1101 | I88: 3740 | J88: 860 | K88: 0 | M88: 0 | O88: =SMALL(E88:M88,COUNTIF(E88:M88,0)+1) -> 3740 | P88: 0 | Q88: 0 | R88: 0 | S88: 0 | T88: 0 | U88: 0 | V88: 0 | W88: 자재 84
A89: 5F39B4F6191BCC929E3D7455358B9DD8B10E3F | B89: 1종금속제가요전선관 | C89: 비닐피복, 28 mm 방수 | D89: M | E89: 1950 | G89: 1950 | H89: 1101 | I89: 1950 | J89: 860 | K89: 0 | M89: 0 | O89: =SMALL(E89:M89,COUNTIF(E89:M89,0)+1) -> 1950 | P89: 0 | Q89: 0 | R89: 0 | S89: 0 | T89: 0 | U89: 0 | V89: 0 | W89: 자재 85
A90: 5F39B4F6191BCC929E3D7455358B9DD8B10E38 | B90: 1종금속제가요전선관 | C90: 비닐피복, 54 mm 방수 | D90: M | E90: 4830 | G90: 4830 | H90: 1101 | I90: 4830 | J90: 860 | K90: 0 | M90: 0 | O90: =SMALL(E90:M90,COUNTIF(E90:M90,0)+1) -> 4830 | P90: 0 | Q90: 0 | R90: 0 | S90: 0 | T90: 0 | U90: 0 | V90: 0 | W90: 자재 86
A91: 5F39B4F6191BCC929E3D7455358B9DD8B10E35 | B91: 1종금속제가요전선관 | C91: 16 mm 비방수 | D91: M | E91: 564 | G91: 720 | H91: 1101 | I91: 720 | J91: 860 | K91: 0 | M91: 0 | O91: =SMALL(E91:M91,COUNTIF(E91:M91,0)+1) -> 564 | P91: 0 | Q91: 0 | R91: 0 | S91: 0 | T91: 0 | U91: 0 | V91: 0 | W91: 자재 87
A92: 5F39B4F6191BCC929E337411F59678188B339E | B92: 관구밀폐기 | C92: 실링가스켓, D30 | D92: 개 | E92: 0 | G92: 9130 | H92: 1106 | I92: 0 | K92: 0 | M92: 0 | O92: =SMALL(E92:M92,COUNTIF(E92:M92,0)+1) -> 9130 | P92: 0 | Q92: 0 | R92: 0 | S92: 0 | T92: 0 | U92: 0 | V92: 0 | W92: 자재 88
A93: 5F39B4F6191BCC929E337411F59678188B339D | B93: 관구밀폐기 | C93: 실링가스켓, D50 | D93: 개 | E93: 0 | G93: 11880 | H93: 1106 | I93: 0 | K93: 0 | M93: 0 | O93: =SMALL(E93:M93,COUNTIF(E93:M93,0)+1) -> 11880 | P93: 0 | Q93: 0 | R93: 0 | S93: 0 | T93: 0 | U93: 0 | V93: 0 | W93: 자재 89
A94: 5F39B4F6191BCC929E337411F59678188B339C | B94: 관구밀폐기 | C94: 실링가스켓, D65 | D94: 개 | E94: 0 | G94: 13860 | H94: 1106 | I94: 0 | K94: 0 | M94: 0 | O94: =SMALL(E94:M94,COUNTIF(E94:M94,0)+1) -> 13860 | P94: 0 | Q94: 0 | R94: 0 | S94: 0 | T94: 0 | U94: 0 | V94: 0 | W94: 자재 90
A95: 5F39B4F6191BCC929E337411F59678188B3393 | B95: 관구밀폐기 | C95: 실링가스켓, D80 | D95: 개 | E95: 0 | G95: 15180 | H95: 1106 | I95: 0 | K95: 0 | M95: 0 | O95: =SMALL(E95:M95,COUNTIF(E95:M95,0)+1) -> 15180 | P95: 0 | Q95: 0 | R95: 0 | S95: 0 | T95: 0 | U95: 0 | V95: 0 | W95: 자재 91
A96: 5F39B4F6191BCC929E337411F59EB6173E37BD | B96: 노말밴드 | C96: PVC 36 C | D96: 개 | E96: 1200 | G96: 1220 | H96: 1107 | I96: 1360 | J96: 861 | K96: 1200 | L96: 1025 | M96: 0 | O96: =SMALL(E96:M96,COUNTIF(E96:M96,0)+1) -> 1200 | P96: 0 | Q96: 0 | R96: 0 | S96: 0 | T96: 0 | U96: 0 | V96: 0 | W96: 자재 92
A97: 5F39B4F6191BCC929E337411F59EB6173E323A | B97: 이종연결관 | C97: D30 | D97: 개 | E97: 0 | G97: 2250 | H97: 1229 | I97: 0 | K97: 0 | M97: 0 | O97: =SMALL(E97:M97,COUNTIF(E97:M97,0)+1) -> 2250 | P97: 0 | Q97: 0 | R97: 0 | S97: 0 | T97: 0 | U97: 0 | V97: 0 | W97: 자재 93
A98: 5F39B4F6191BCC929E337411F59EB6173E33DA | B98: 이종연결관 | C98: D50 | D98: 개 | E98: 0 | G98: 3300 | H98: 1229 | I98: 0 | K98: 0 | M98: 0 | O98: =SMALL(E98:M98,COUNTIF(E98:M98,0)+1) -> 3300 | P98: 0 | Q98: 0 | R98: 0 | S98: 0 | T98: 0 | U98: 0 | V98: 0 | W98: 자재 94
A99: 5F39B4F6191BCC929E337411F59EB6173E33DB | B99: 이종연결관 | C99: D65 | D99: 개 | E99: 0 | G99: 4950 | H99: 1229 | I99: 0 | K99: 0 | M99: 0 | O99: =SMALL(E99:M99,COUNTIF(E99:M99,0)+1) -> 4950 | P99: 0 | Q99: 0 | R99: 0 | S99: 0 | T99: 0 | U99: 0 | V99: 0 | W99: 자재 95
A100: 5F39B4F6191BCC929E337411F59EB6173E33D8 | B100: 이종연결관 | C100: D80 | D100: 개 | E100: 0 | G100: 5550 | H100: 1229 | I100: 0 | K100: 0 | M100: 0 | O100: =SMALL(E100:M100,COUNTIF(E100:M100,0)+1) -> 5550 | P100: 0 | Q100: 0 | R100: 0 | S100: 0 | T100: 0 | U100: 0 | V100: 0 | W100: 자재 96
...

Sheet  공사설정 
A1: 이 Sheet는 수정하지 마십시요
A2: 공사구분 | B2: D | C2: 타이틀
A3: 확정내역 | B3: 원내역
A4: 자재단가적용 | B4: 5
A5: 경비단가적용 | B5: 5
A6: 품목코드형식 | B6: XXXX-XXXX-XXXXXXXXX
A7: 내역금액소수점처리 | B7: C | C7: 1
A8: 일위대가내역소수점처리 | B8: C | C8: 2
A9: 단가명 | B9: 농어촌단가 | C9: 물가자료 | D9: 유통물가 | E9: 거래가격 | F9: 조사가격 | G9: TTTTT
A10: 환율 | B10: 1265 | C10: 0 | D10: 0
A11: 시간당작업량 | B11: R | C11: 3
A12: 1회 사이클시간 | B12: R | C12: 3
A13: 시간당 작업사이클 | B13: R | C13: 2
A14: 일반변수 | B14: C | C14: 5
A15: 시간당 노임산출 계수 | B15: A | C15: 1/8*16/12*25/20 | D15: 1/8*16/12*25/20 | E15: 1/8*16/12*25/20 | F15: 1
A16: 재료비 할증 계수 | B16: 11 | C16: 12
A17: 노무비 할증 계수 | B17: 0 | C17: 50 | D17: 16 | E17: 60 | F17: 60 | G17: 60 | H17: 94 | I17: 94 | J17: 94 | K17: 0 | L17: 0 | M17: 0
A18: 경비 할증 계수 | B18: 12.5 | C18: 7.1
A19: 내역,일위대가 품명,규격,단위 따로적용
A20: 내역단가 소수점처리 | B20: C | C20: 1
A21: 코드 | B21: 공종구분명 | C21: 원가비목코드
A22: 1 | B22: 작 업 부 산 물 | C22: A3
A23: 2 | B23: 운 반 비 | C23: C1
A24: 3 | B24: 관 급 자 재 비 | C24: DJ
A25: 4 | B25: 사 급 자 재 비 | C25: D3
A26: 5 | B26: 외 자 재
A27: 6 | B27: 안 전 공 사 비
A28: 7 | B28: ...
A29: 8 | B29: ...
A30: 9 | B30: ...

Sheet Sheet1
