Workbook
Name _1._PANEL_BD.__LP___1: #REF!
Name _1_3_0Crite: #REF!
Name _10D1_: #REF!
Name _12D2_: #REF!
Name _13FF1_: #REF!
Name _14G_0Extr: #REF!
Name _15G_0Extract: #REF!
Name _16G__Extr: #REF!
Name _17G__Extract: #REF!
Name _2_3_0Criteria: #REF!
Name _20Q1_: #REF!
Name _22Q2_: #REF!
Name _24Q3_: #REF!
Name _25단: #REF!
Name _3_1._총투자사업비: #REF!
Name _3_3__Crite: #REF!
Name _3_5: #REF!
Name _4_3._에너지절약을_위한_개선안: #REF!
Name _4_3__Criteria: #REF!
Name _6A1_: #REF!
Name _8b2_: #REF!
Name _9.: #REF!
Name _A01: #REF!
Name _A02: #REF!
Name _A03: #REF!
Name _A04: #REF!
Name _A05: #REF!
Name _B02: #REF!
Name _b03: #REF!
Name _b05: #REF!
Name _b06: #REF!
Name _b07: #REF!
Name _b08: #REF!
Name _B10: #REF!
Name _B11: #REF!
Name _b12: #REF!
Name _b13: #REF!
Name _B14: #REF!
Name _b15: #REF!
Name _b17: #REF!
Name _b18: #REF!
Name _b19: #REF!
Name _B20: #REF!
Name _B21: #REF!
Name _B23: #REF!
Name _B24: #REF!
Name _B25: #REF!
Name _B37: #REF!
Name _B38: #REF!
Name _C01: #REF!
Name _c02: #REF!
Name _D01: #REF!
Name _D02: #REF!
Name _DAN1: #REF!
Name _DAN10: #REF!
Name _DAN100: #REF!
Name _DAN101: #REF!
Name _DAN102: #REF!
Name _DAN103: #REF!
Name _DAN104: #REF!

Sheet 원가계산서
A1: 공 사 원 가 계 산 서
A3: 공사명 : 글라스큐브 치유센터 조성공사(전기)
A4: 비 목 | D4: 금 액 | E4: 구 성 비 | F4: 비 고
B5: 재 | C5: 직 접 재 료 비 | D5: =INT(집계표!E9) -> 0
B6: 료 | C6: 간 접 재 료 비
B7: 비 | C7: 소 계 | D7: =INT(D5+D6) -> 0
B8: 노 | C8: 직 접 노 무 비 | D8: =INT(집계표!G9) -> 0
B9: 무 | C9: 간 접 노 무 비 | D9: =INT(D8*0.175) -> 0 | E9: 직접노무비소계의 17.50%
A10: 순 | B10: 비 | C10: 소 계 | D10: =INT(D8+D9) -> 0
C11: 운 반 비
A12: 공 | C12: 기 계 경 비
C13: 산 재 보 험 료 | D13: =INT(D10*0.0356) -> 0 | E13: 노무비의 3.56%
A14: 사 | B14: 경 | C14: 고 용 보 험 료 | D14: =INT(D10*0.0101) -> 0 | E14: 노무비의 1.01%
C15: 국민건강보험료 | D15: =INT(D8*0.03595) -> 0 | E15: 직접노무비의 3.595% | H15: 총공사금액(도급금액+도급자관급금액) 2천만원 이상
A16: 원 | C16: 국민연금보험료 | D16: =INT(D8*0.0475) -> 0 | E16: 직접노무비의 4.75% | H16: 관급포함시 a,b중 작은금액적용
C17: 퇴직공제부금비 | D17: =INT(D8*0.023) -> 0 | E17: 직접노무비의 2.30% | H17: a | I17: =TRUNC((D7+D8+H29/1.1)*3.11%) -> 0 | J17: (재료+직노+관급/1.1) * 3.11 %
A18: 가 | C18: 산업안전보건관리비 | D18: =I18 -> 0 | E18: ( 재료비+직접노무비) * 3.11 % | H18: b | I18: =TRUNC((D7+D8)*3.11%*1.2) -> 0 | J18: (재료+직노) * 3.11 % * 1.2
C19: 노인장기요양보험료 | D19: =INT(D15*0.1314) -> 0 | E19: 국민건강보험료의 13.14% | H19: 관급미포함시
B20: 비 | C20: 기 타 경 비 | D20: =INT((D7+D10)*0.05) -> 0 | E20: ( 재료비+노무비) * 5.00% | H20: c | I20: =TRUNC((D7+D8)*3.11%) -> 0 | J20: (재료+직노) * 3.11 %
C21: 석 면 분 담 금 | D21: =INT(D10*0.006%) -> 0 | E21: 노무비의 0.006%
C22: 임 금 체 권 부 담 금 | D22: =INT(D10*0.09%) -> 0 | E22: 노무비의 0.09%
C23: 소 계 | D23: =INT(SUM(D11:D22)) -> 0
A24: 계 | D24: =INT(D7+D10+D23) -> 0
A25: 일 반 관 리 비 | D25: =INT((D24*0.065)) -> 0 | E25: 계의 6.50% | F25: 당초 8.00% / 5억이상 공사비 적용
A26: 이 윤 | E26: (노무비+경비+일반관리비)의 10.00%
A27: 공 급 가 액 | D27: =INT(D24+D25+D26) -> 0 | E27: 공급가액의 10.0%
A28: 부 가 가 치 세 | D28: =INT(D27*0.1) -> 0 | H28: 관급자재비
A29: 도 급 액 | D29: =INT(D27+D28) -> 0 | H29: =D29+D30 -> 0
A30: 도 급 자 관 급
A31: 총 공 사 비 | D31: =SUM(D29:D30) -> 0

Sheet 집계표
A1: [ 글라스큐브 뮤지엄 치유센터 전기공사 ]
A2: 공 종 명 | B2: 단위 | C2: 수량 | D2: 재 료 비 | F2: 노 무 비 | H2: 경 비 | J2: 계 | K2: 비 고
D3: 단 가 | E3: 금 액 | F3: 단 가 | G3: 금 액 | H3: 단 가 | I3: 금 액
A4: 01. 전기공사
A5: 0101. 전력간선설비공사 | B5: 식 | C5: 1 | E5: =내역서!F29 -> 0 | G5: =내역서!H29 -> 0 | I5: =내역서!J29 -> 0 | J5: =SUM(E5,G5,I5) -> 0
A6: 0102. 전등설비공사 | B6: 식 | C6: 1 | E6: =내역서!F60 -> 0 | G6: =내역서!H60 -> 0 | I6: =내역서!J60 -> 0 | J6: =SUM(E6,G6,I6) -> 0
A7: 0103. 전열설비공사 | B7: 식 | C7: 1 | E7: =내역서!F91 -> 0 | G7: =내역서!H91 -> 0 | I7: =내역서!J91 -> 0 | J7: =SUM(E7,G7,I7) -> 0
A8: 0104. 냉난방설비공사 | B8: 식 | C8: 1
A9: ( 합 계 )

Sheet 내역서
A1: =집계표!A1 -> [ 글라스큐브 뮤지엄 치유센터 전기공사 ]
A2: 품 명 | B2: 규 격 | C2: 단위 | D2: 수량 | E2: 재 료 비 | G2: 노 무 비 | I2: 경 비 | K2: 합 계 | M2: 비 고/ 일위대가
E3: 단 가 | F3: 금 액 | G3: 단 가 | H3: 금 액 | I3: 단 가 | J3: 금 액 | K3: 단 가 | L3: 금 액
A4: =집계표!A5 -> 0101. 전력간선설비공사
A5: 파상형 폴리에틸렌 전선관 | B5: 30㎜(가로등,신호,구내) | C5: M
A6: 1종금속제가요전선관 | B6: 22 mm 고장력-방수 | C6: M
A7: 1종금속제가요전선관 | B7: 28 mm 고장력-방수 | C7: M
A8: 1종금속제가요전선관 | B8: 커넥터, 22 mm 일반-방수 | C8: 개
A9: 1종금속제가요전선관 | B9: 커넥터, 28 mm 일반-방수 | C9: 개
A10: 접지용비닐절연전선(F-GV)-옥내 | B10: 4㎟ | C10: M
A11: 접지용비닐절연전선(F-GV)-옥내 | B11: 6㎟ | C11: M
A12: 폴리에틸렌 난연케이블 | B12: 0.6/1kv F-CV 2C×4㎟ | C12: M
A13: 폴리에틸렌 난연케이블 | B13: 0.6/1kv F-CV 2C×6㎟ | C13: M
A14: 누전차단기 철거 | B14: 2P 30AF 20AT | C14: EA | M14: 노임산출적용 / 삭제
A15: 배선용차단기 철거 | B15: 4P 100AF 50AT | C15: EA | M15: 노임산출적용
A16: 누전차단기(32KGRc) | B16: 2P 30AF 20AT | C16: EA
A17: 누전차단기(32KGRc) | B17: 2P 30AF 30AT | C17: EA
A18: 누전차단기(52Fb) | B18: 2P 50AF 40AT | C18: EA
A19: 누전차단기(54c) | B19: 4P 50AF 20AT | C19: EA
A20: 누전차단기(54c) | B20: 4P 50AF 50AT | C20: EA
A21: 누전차단기(104c) | B21: 4P 100AF 75AT | C21: EA
A22: 케이블표지시트 | B22: 0.15x150 | C22: M
A23: 타파기 & 되메우기 | B23: 인력20/기계80 | C23: ㎥ | M23: =#REF! -> #REF!
A24: [ 배관 부속재 ] | B24: 전선관의 15% | C24: 식
A25: [ 소모 잡자재 ] | B25: 배관,배선의 2% | C25: 식
A26: 노 무 비 | B26: 내선전공 | C26: 인
A27: 노 무 비 | B27: 저압케이블전공 | C27: 인
A28: [ 공 구 손 료 ] | B28: 노무비의 3% | C28: 식
A29: ( 합 계 )
A30: =집계표!A6 -> 0102. 전등설비공사
A31: 1종금속제가요전선관 | B31: 16 mm 고장력-비방수 | C31: M
A32: 1종금속제가요전선관 | B32: 22 mm 고장력-비방수 | C32: M
A33: 1종금속제가요전선관 | B33: 커넥터, 16 mm 일반-비방수 | C33: 개
A34: 1종금속제가요전선관 | B34: 커넥터, 22 mm 일반-비방수 | C34: 개
A35: 아우트렛박스 | B35: 8각 54㎜ | C35: 개
A36: 스위치박스 | B36: 1 개용 54 mm | C36: 개
A37: JOINT BOX | B37: 150×150×100 | C37: 개
A38: 트렉레일 | B38: 도면참조 | C38: M
A39: END CAP | B39: 도면참조 | C39: 개
A40: - 자연결 | B40: 도면참조 | C40: 개
A41: 450/750V 내열비닐절연전선 | B41: HFIX 2.5㎟ | C41: M
A42: 와이드 스위치 | B42: 90 WIDE, 250V 1로2구 | C42: 개
... A45: 와이드 스위치 | B45: 90 WIDE, 250V 1로6구 | C45: 개
A46: "A"TYPE LED 멀티매입 | B46: LED (15W+15W) | C46: 등 | M46: 관급자재
A47: "B"TYPE LED SPOT 라이트(이동식) | B47: LED 15W | C47: 등 | M47: 관급자재
A48: "C"TYPE LED 다운라이트 | B48: LED 15W | C48: 등 | M48: 관급자재
A49: "D"TYPE LED 라인조명 | B49: LED 20W | C49: 등 | M49: 관급자재
A50: "E"TYPE LED 펜던트 | B50: LED 15W | C50: 등 | M50: 관급자재
A51: 확산형 라인 LED 투광등 | B51: 104 X 3.7 X 3.5cm | C51: 등 | M51: 관급자재
A52: 라인LED라인 투광등 | B52: 104 X 3.7 X 3.5cm | C52: 등 | M52: 관급자재
A53: 태양광보안등 | B53: 170 X 110 X 400cm | C53: 등 | M53: 관급자재
A54: 시그니처경관조명 | B54: 21 X 23 X 85cm | C54: 개 | M54: 관급자재
A55: 장비(스카이) | B55: 외벽작업 | C55: 식 | M55: =#REF! -> #REF!
A56: [ 배관 부속재 ] | B56: 전선관의 15% | C56: 식
A57: [ 소모 잡자재 ] | B57: 배관,배선의 2% | C57: 식
A58: 노 무 비 | B58: 내선전공 | C58: 인
A59: [ 공 구 손 료 ] | B59: 노무비의 3% | C59: 식
A60: ( 합 계 )
A82: =집계표!A7 -> 0103. 전열설비공사
A83: 1종금속제가요전선관 | B83: 22 mm 고장력-비방수 | C83: M
A84: 아우트렛박스 | B84: 중형4각 54㎜ | C84: 개
A85: 450/750V 내열비닐절연전선 | B85: HFIX 4㎟ | C85: M
A86: 콘센트 | B86: 매입-접지형, 250V 2구 | C86: 개
A87: [ 배관 부속재 ] | B87: 전선관의 15% | C87: 식
A88: [ 소모 잡자재 ] | B88: 배관,배선의 2% | C88: 식
A89: 노 무 비 | B89: 내선전공 | C89: 인
A90: [ 공 구 손 료 ] | B90: 노무비의 3% | C90: 식
A91: ( 합 계 )
A108: =집계표!A8 -> 0104. 냉난방설비공사
A109: 파상형 폴리에틸렌 전선관 | B109: 30㎜(가로등,신호,구내) | C109: M
A110: 파상형 폴리에틸렌 전선관 | B110: 40㎜(가로등,신호,구내) | C110: M
A111: 1종금속제가요전선관 | B111: 16 mm 고장력-비방수 | C111: M
A112: 1종금속제가요전선관 | B112: 22 mm 고장력-비방수 | C112: M
A113: 1종금속제가요전선관 | B113: 커넥터, 16 mm 일반-비방수 | C113: 개 | D113: =#REF! -> #REF! | E113: =#REF! -> #REF! | F113: =INT(D113*E113) -> #REF! | L113: =SUM(F113,H113,J113) -> #REF!
A114: 1종금속제가요전선관 | B114: 커넥터, 22 mm 일반-비방수 | C114: 개 | D114: =#REF! -> #REF! | E114: =#REF! -> #REF! | F114: =INT(D114*E114) -> #REF! | L114: =SUM(F114,H114,J114) -> #REF!
A115: 아우트렛박스 | B115: 중형4각 54㎜ | C115: 개 | D115: =#REF! -> #REF! | E115: =#REF! -> #REF! | F115: =INT(D115*E115) -> #REF! | L115: =SUM(F115,H115,J115) -> #REF!
A116: 스위치박스 | B116: 1 개용 54 mm | C116: 개 | D116: =#REF! -> #REF! | E116: =#REF! -> #REF! | F116: =INT(D116*E116) -> #REF! | L116: =SUM(F116,H116,J116) -> #REF!
A117: 풀박스 | B117: 250×250×150 | C117: 개 | D117: =#REF! -> #REF! | E117: =#REF! -> #REF! | F117: =INT(D117*E117) -> #REF! | L117: =SUM(F117,H117,J117) -> #REF!
A118: 450/750V 내열비닐절연전선 | B118: HFIX 2.5㎟ | C118: M | D118: =#REF! -> #REF! | E118: =#REF! -> #REF! | F118: =INT(D118*E118) -> #REF! | L118: =SUM(F118,H118,J118) -> #REF!
A119: 접지용비닐절연전선(F-GV)-옥내 | B119: 4㎟ | C119: M | D119: =#REF! -> #REF! | E119: =#REF! -> #REF! | F119: =INT(D119*E119) -> #REF! | L119: =SUM(F119,H119,J119) -> #REF!
A120: 접지용비닐절연전선(F-GV)-옥내 | B120: 10㎟ | C120: M | D120: =#REF! -> #REF! | E120: =#REF! -> #REF! | F120: =INT(D120*E120) -> #REF! | L120: =SUM(F120,H120,J120) -> #REF!
A121: 접지용비닐절연전선(F-GV)-옥내 | B121: 16㎟ | C121: M | D121: =#REF! -> #REF! | E121: =#REF! -> #REF! | F121: =INT(D121*E121) -> #REF! | L121: =SUM(F121,H121,J121) -> #REF!
A122: 폴리에틸렌 난연케이블 | B122: 0.6/1kv F-CV 4C×4㎟ | C122: M | D122: =#REF! -> #REF! | E122: =#REF! -> #REF! | F122: =INT(D122*E122) -> #REF! | L122: =SUM(F122,H122,J122) -> #REF!
A123: 폴리에틸렌 난연케이블 | B123: 0.6/1kv F-CV 4C×10㎟ | C123: M | D123: =#REF! -> #REF! | E123: =#REF! -> #REF! | F123: =INT(D123*E123) -> #REF! | L123: =SUM(F123,H123,J123) -> #REF!
A124: 폴리에틸렌 난연케이블 | B124: 0.6/1kv F-CV 4C×16㎟ | C124: M | D124: =#REF! -> #REF! | E124: =#REF! -> #REF! | F124: =INT(D124*E124) -> #REF! | L124: =SUM(F124,H124,J124) -> #REF!
A125: 콘센트 | B125: 노출형, 250V 원형 | C125: 개 | D125: =#REF! -> #REF! | E125: =#REF! -> #REF! | F125: =INT(D125*E125) -> #REF! | L125: =SUM(F125,H125,J125) -> #REF!
A126: [ 배관 부속재 ] | B126: 전선관의 15% | C126: 식 | D126: 1 | F126: =INT(SUM(F109:F114)*15%) -> #REF! | L126: =SUM(F126,H126,J126) -> #REF!
A127: [ 소모 잡자재 ] | B127: 배관,배선의 2% | C127: 식 | D127: 1 | F127: =INT(SUM(F109:F114,F118:F122)*2%) -> #REF! | L127: =SUM(F127,H127,J127) -> #REF!
A128: 노 무 비 | B128: 내선전공 | C128: 인 | D128: =INT(#REF!) -> #REF! | G128: =#REF! -> #REF! | H128: =INT(D128*G128) -> #REF! | L128: =SUM(F128,H128,J128) -> #REF!
A129: 노 무 비 | B129: 저압케이블전공 | C129: 인 | D129: =INT(#REF!) -> #REF! | G129: =#REF! -> #REF! | H129: =INT(D129*G129) -> #REF! | L129: =SUM(F129,H129,J129) -> #REF!
A130: [ 공 구 손 료 ] | B130: 노무비의 3% | C130: 식 | D130: 1 | E130: =INT(H131*3%) -> #REF! | F130: =INT(D130*E130) -> #REF! | L130: =SUM(F130,H130,J130) -> #REF!
A131: ( 합 계 ) | F131: =SUM(F109:F130) -> #REF! | H131: =SUM(H109:H130) -> #REF! | L131: =SUM(F131,H131,J131) -> #REF!
