Workbook
Name _: [1]설계개요!#REF!
Name _.사급자재대: #REF!
Name ________p1: #REF!
Name _______H600000: #REF!
Name _______p1: #REF!
Name _______PVC100: #REF!
Name _______PVC125: #REF!
Name _______PVC150: #REF!
Name ______H600000: #REF!
Name ______p1: #REF!
Name ______PVC100: #REF!
Name ______PVC125: #REF!
Name ______PVC150: #REF!
Name _____A81620: [2]설계개요!#REF!
Name _____H600000: #REF!
Name _____p1: #REF!
Name _____PVC100: #REF!
Name _____PVC125: #REF!
Name _____PVC150: #REF!
Name ____A81620: [2]설계개요!#REF!
Name ____H600000: #REF!
Name ____PVC100: #REF!
Name ____PVC125: #REF!
Name ____PVC150: #REF!
Name ___A81620: [2]설계개요!#REF!
Name ___H600000: #REF!
Name ___p1: #REF!
Name ___PVC100: #REF!
Name ___PVC125: #REF!
Name ___PVC150: #REF!
Name __A81620: [2]설계개요!#REF!
Name __H600000: #REF!
Name __p1: #REF!
Name __PVC100: #REF!
Name __PVC125: #REF!
Name __PVC150: #REF!
Name _\D: #REF!
Name _\X: #REF!
Name _\Z: [4]결과조달!$GU$5658:$IV$7860
Name _1: [5]계화총괄!#REF!
Name _1._토______공: #REF!
Name _1.토___공: #REF!
Name _10: #N/A
Name _11: #N/A
Name _12: #N/A
Name _13: #N/A
Name _14: #N/A
Name _15: #N/A
Name _15A: [6]금액내역서!$D$3:$D$10
Name _16: #N/A
Name _17: #N/A
Name _18: #N/A
Name _19: #N/A
Name _1C_: #REF!
Name _1공장: #REF!
Name _2: #N/A
Name _2._교___량___공: #REF!
Name _2_10: #REF!
Name _20: #N/A
Name _21: #N/A

Sheet 표지
A8: 2026년도 거제시 집수정 펌프 신설공사
B25: 한국농어촌공사 고성통영거제지사

Sheet 개요
A1: 사 업 계 획 개 요
A2: 1. 사 업 명 : 2026년도 거제시 집수정 펌프 설치 공사
A3: 2. 위 치 : 경상남도 거제시 일원
A4: 3. 사업개요 : 거제시 주민요청에 의한 재해대비 보수공사
A5: 4. 사업목적 : 농업기반시설물의 기능을 보전하여 영농에 대비하고자 함
A6: 5. 총사업비 : | F6: =원가계산서!J28 -> 49610000
A7: 6. 공사개요 :
A8: 공종 / 구분 | C8: 단위 | D8: 수 량 | E8: 비 고 | F8: 공종 / 구분 | H8: 단위 | I8: 수 량 | J8: 비 고
A9: 기계 | B9: 통영시 | C9: 개소 | D9: 0 | F9: 기계
B11: 거제시 | C11: 개소 | D11: 2
B13: 고성군 | C13: 개소
B15: 합계 | C15: 개소 | D15: =SUM(D9:D14) -> 2
A17: 7. 공사기간 :

Sheet 원가계산서
A1: 총 괄 표
A3: =J28 -> 49610000
A4: 구 분 | G4: 순공사비 | H4: 지급자재 | I4: 소 계 | J4: 합 계
A6: 순 공 사 원 가 | B6: 재 료 비 | C6: 직접재료비 | G6: ='공사비 세부내역'!J23 -> 16721792 | I6: =H6+G6 -> 16721792 | J6: =I6 -> 16721792
C7: 간접재료비
C8: 작업설,부산물(△)
C9: [소계] | G9: =G6+G7+G8 -> 16721792 | H9: =H6+H7+H8 -> 0 | I9: =I6+I7+I8 -> 16721792 | J9: =J6+J7+J8 -> 16721792
B10: 노무비 | C10: 직접노무비 | G10: ='공사비 세부내역'!H23 -> 13172525 | I10: =H10+G10 -> 13172525 | J10: =I10 -> 13172525
C11: 간접노무비 | D11: ( | E11: 0.191 | F11: ) | G11: =INT(G10*$E$11) -> 2515952 | I11: =H11+G11 -> 2515952 | J11: =I11 -> 2515952
C12: [소계] | G12: =SUM(G10:G11) -> 15688477 | I12: =H12+G12 -> 15688477 | J12: =I12 -> 15688477
B13: 경 비 | C13: 경 비 | G13: ='공사비 세부내역'!$L$23 -> 459214.56 | I13: =H13+G13 -> 459214.56 | J13: =I13 -> 459214.56
C14: 산재보험료 | D14: ( | E14: 0.0356 | F14: ) | G14: =INT(G12*$E$14) -> 558509 | I14: =H14+G14 -> 558509 | J14: =I14 -> 558509
C15: 고용보험료 | D15: ( | E15: 0.0101 | F15: ) | G15: =INT(G12*$E$15) -> 158453 | I15: =H15+G15 -> 158453 | J15: =I15 -> 158453
C16: 산업안전보건관리비 | D16: ( | E16: 0.0311 | F16: ) | G16: =TRUNC(SUM(G6,G10,G13)*$E16) -> 943994 | I16: =H16+G16 -> 943994 | J16: =I16 -> 943994
C17: 건강보험료 | D17: ( | E17: 0.03545 | F17: ) | I17: =H17+G17 -> 0 | J17: =I17 -> 0
C18: 연금보험료 | D18: ( | E18: 0.045 | F18: ) | I18: =H18+G18 -> 0 | J18: =I18 -> 0
C19: 노인장기요양보험료 | D19: ( | E19: 0.1295 | F19: ) | I19: =H19+G19 -> 0 | J19: =I19 -> 0
C20: 기타 경비 | D20: ( | E20: 0.055 | F20: ) | G20: =INT((G6+G12)*$E$20) -> 1782564 | I20: =H20+G20 -> 1782564 | J20: =I20 -> 1782564
C21: [소계] | G21: =SUM(G13:G20) -> 3902734.6 | I21: =H21+G21 -> 3902734.6 | J21: =I21 -> 3902734.6
A22: 계 | G22: =G6+G12+G21 -> 36313004
A23: 일 반 관 리 비 | D23: ( | E23: 0.08 | F23: ) | G23: =INT((G6+G12+G21)*$E$23) -> 2905040 | I23: =H23+G23 -> 2905040 | J23: =I23 -> 2905040
A24: 합 계 | G24: =G6+G12+G21+G23 -> 39218044 | H24: =H6 -> 0 | I24: =H24+G24 -> 39218044 | J24: =I24 -> 39218044
A25: 이 윤 | D25: ( | E25: 0.15 | F25: ) | G25: =G24*0.15 -> 5882706.5 | I25: =H26+G26 -> 45100750 | J25: =I26 -> 45100750
A26: 공급가액 | G26: =(G25+G24) -> 45100750 | H26: =H24 -> 0 | I26: =H26+G26 -> 45100750 | J26: =I26 -> 45100750
A27: 부 가 가 치 세 | D27: ( | E27: 0.1 | F27: ) | G27: =G26*E27 -> 4510075 | I27: =H27+G27 -> 4510075 | J27: =I27 -> 4510075
A28: 총 계 | G28: =TRUNC(G26+G27, -3) -> 49610000 | H28: =H26+H27 -> 0 | I28: =H28+G28 -> 49610000 | J28: =I28 -> 49610000

Sheet 공사비내역
A1: 공 사 비 명 세 서
A2: 일 금 : | B2: =F19 -> #REF! | C2: 원
A3: 종 별 | B3: 재료 또는치수 | C3: 원수 | D3: 단위 | E3: 총 액 | G3: 노 무 비 | I3: 재 료 비 | K3: 경 비 | M3: 비 고
E4: 단가 | F4: 금 액 | G4: 단가 | H4: 금 액 | I4: 단가 | J4: 금 액 | K4: 단가 | L4: 금 액
A5: 2024년 수문보수공사
A6: 1. 공사비
A7: ='공사비 세부내역'!A4 -> 1) 거제시 동부면 산양리 1105 | C7: 1 | D7: 식 | F7: ='공사비 세부내역'!F5 -> 16719731 | G7: ='공사비 세부내역'!G5 -> 0 | H7: ='공사비 세부내역'!H5 -> 7534752 | I7: ='공사비 세부내역'!I5 -> 0 | J7: ='공사비 세부내역'!J5 -> 8878712 | K7: ='공사비 세부내역'!K5 -> 0 | L7: ='공사비 세부내역'!L5 -> 306266.56
A8: ='공사비 세부내역'!A20:B20 -> 0 | C8: 1 | D8: 식 | F8: =단가산출!#REF! -> #REF! | G8: =단가산출!#REF! -> #REF! | H8: =단가산출!#REF! -> #REF! | I8: =단가산출!#REF! -> #REF! | J8: =단가산출!#REF! -> #REF! | K8: =단가산출!#REF! -> #REF! | L8: =단가산출!#REF! -> #REF!
A9: ='공사비 세부내역'!A6:B6 -> 2) 거제시 동부면 산양리 1105 | C9: 1 | D9: 식 | F9: =단가산출!#REF! -> #REF! | G9: =단가산출!#REF! -> #REF! | H9: =단가산출!#REF! -> #REF! | I9: =단가산출!#REF! -> #REF! | J9: =단가산출!#REF! -> #REF! | K9: =단가산출!#REF! -> #REF! | L9: =단가산출!#REF! -> #REF!
A10: ='공사비 세부내역'!A8:B8 -> 0 | C10: 1 | D10: 식 | F10: =단가산출!#REF! -> #REF! | G10: =단가산출!#REF! -> #REF! | H10: =단가산출!#REF! -> #REF! | I10: =단가산출!#REF! -> #REF! | J10: =단가산출!#REF! -> #REF! | K10: =단가산출!#REF! -> #REF! | L10: =단가산출!#REF! -> #REF!
A11: 5) 고성군 거류면 가려리 984-9 | C11: 1 | D11: 식 | F11: =단가산출!#REF! -> #REF! | G11: =단가산출!#REF! -> #REF! | H11: =단가산출!#REF! -> #REF! | I11: =단가산출!#REF! -> #REF! | J11: =단가산출!#REF! -> #REF! | K11: =단가산출!#REF! -> #REF! | L11: =단가산출!#REF! -> #REF!
A12: 6) 고성군 거류면 가려리 1123-1 | C12: 1 | D12: 식 | F12: =단가산출!#REF! -> #REF! | G12: =단가산출!#REF! -> #REF! | H12: =단가산출!#REF! -> #REF! | I12: =단가산출!#REF! -> #REF! | J12: =단가산출!#REF! -> #REF! | K12: =단가산출!#REF! -> #REF! | L12: =단가산출!#REF! -> #REF!
A13: 7) 거제시 산촌리 373 | C13: 1 | D13: 식 | F13: =단가산출!#REF! -> #REF! | G13: =단가산출!#REF! -> #REF! | H13: =단가산출!#REF! -> #REF! | I13: =단가산출!#REF! -> #REF! | J13: =단가산출!#REF! -> #REF! | K13: =단가산출!#REF! -> #REF! | L13: =단가산출!#REF! -> #REF!
A14: 8) 거제시 산촌리 373 | C14: 1 | D14: 식 | F14: =단가산출!#REF! -> #REF! | G14: =단가산출!#REF! -> #REF! | H14: =단가산출!#REF! -> #REF! | I14: =단가산출!#REF! -> #REF! | J14: =단가산출!#REF! -> #REF! | K14: =단가산출!#REF! -> #REF! | L14: =단가산출!#REF! -> #REF!
A15: 9) 고성군 영오면 양산1길 61 | C15: 1 | D15: 식 | F15: =단가산출!#REF! -> #REF! | G15: =단가산출!#REF! -> #REF! | H15: =단가산출!#REF! -> #REF! | I15: =단가산출!#REF! -> #REF! | J15: =단가산출!#REF! -> #REF! | K15: =단가산출!#REF! -> #REF! | L15: =단가산출!#REF! -> #REF!
A16: 10) 고성군 마암면 두호리 1-66 | C16: 1 | D16: 식 | F16: =단가산출!#REF! -> #REF! | G16: =단가산출!#REF! -> #REF! | H16: =단가산출!#REF! -> #REF! | I16: =단가산출!#REF! -> #REF! | J16: =단가산출!#REF! -> #REF! | K16: =단가산출!#REF! -> #REF! | L16: =단가산출!#REF! -> #REF!
A19: 소 계 | F19: =H19+J19+L19 -> #REF! | H19: =SUM(H7:H16) -> #REF! | J19: =SUM(J7:J16) -> #REF! | L19: =SUM(L7:L16) -> #REF!

Sheet 공사비 세부내역
A1: 공사비 세부내역
A2: 종 별 | B2: 재료 또는치수 | C2: 원수 | D2: 단위 | E2: 총 액 | G2: 노 무 비 | I2: 재 료 비 | K2: 경 비 | M2: 비 고
E3: 단가 | F3: 금 액 | G3: 단가 | H3: 금 액 | I3: 단가 | J3: 금 액 | K3: 단가 | L3: 금 액
A4: =(수량산출근거!A4) -> 1) 거제시 동부면 산양리 1105
A5: =(수량산출근거!A5) -> 0 | B5: =(수량산출근거!B6) -> 150A | C5: 1 | D5: 식 | F5: =단가산출!F23 -> 16719731 | G5: =단가산출!G23 -> 0 | H5: =단가산출!H23 -> 7534752 | I5: =단가산출!I23 -> 0 | J5: =단가산출!J23 -> 8878712 | K5: =단가산출!K23 -> 0 | L5: =단가산출!L23 -> 306266.56
A6: =(수량산출근거!A6) -> 2) 거제시 동부면 산양리 1105
A7: =(수량산출근거!A7) -> 0 | B7: =$B$5 -> 150A | C7: 1 | D7: 식 | F7: =H7+J7 -> 13480853 | H7: =단가산출!$H$47 -> 5637773 | J7: =단가산출!$J$47 -> 7843080 | L7: =단가산출!$L$47 -> 152948
A23: 소 계 | F23: =H23+J23+L23 -> 30353532 | H23: =SUM(H5:H21) -> 13172525 | J23: =SUM(J5:J21) -> 16721792 | L23: =SUM(L5:L19) -> 459214.56

Sheet 수량산출근거
A1: 수량,공량 산출표
A2: 공 종 명 | B2: 규 격 | C2: 산 출 근 거 | D2: 수량 | E2: 할증 | F2: 단위 | G2: 비고
A4: 1) 거제시 동부면 산양리 1105 | B4: 150A | D4: 1 | F4: 식 | G4: 수중펌프 집수정 신설 공사
A6: 2) 거제시 동부면 산양리 1105 | B6: 150A | D6: 1 | F6: 식 | G6: 수중펌프 집수정 신설 공사

Sheet 단가산출
A2: 1. 수중펌프 집수정 신설 공사
A3: 일 금 : | B3: =F23 -> 16719731 | C3: 원
A4: 종 별 | B4: 재료 또는 치수 | C4: 원수 | D4: 단위 | E4: 총 액 | G4: 노 무 비 | I4: 재 료 비 | K4: 경 비 | M4: 비 고
E5: 단가 | F5: 금 액 | G5: 단가 | H5: 금 액 | I5: 단가 | J5: 금 액 | K5: 단가 | L5: 금 액
A6: =자재수량산출!$A$4 -> 수중펌프(150A*4500LPM*9M) | C6: =자재수량산출!AA4 -> 1 | D6: =자재수량산출!AB4 -> EA | E6: =(G6+I6) -> 4140000 | F6: =(E6*C6) -> 4140000 | I6: =단가조서!$I$5 -> 4140000 | J6: =I6*C6 -> 4140000
A7: =자재수량산출!$A$5 -> 파형강관 (D1500*2.7T, 3M, 타공 및 절단 포함) | C7: =자재수량산출!AA5 -> 1 | D7: =자재수량산출!AB5 -> EA | E7: =(G7+I7) -> 1300000 | F7: =H7+J7+L7 -> 1300000 | I7: =단가조서!$I$13 -> 1300000 | J7: =I7*C7 -> 1300000
A8: =자재수량산출!$A$6 -> PE이중벽관유공관(D1000*4M) | C8: 3 | D8: 본 | E8: =(G8+I8) -> 410000 | F8: =H8+J8+L8 -> 1230000 | I8: =단가조서!$I$14 -> 410000 | J8: =I8*C8 -> 1230000
A9: =자재수량산출!$A$7 -> 일반배관용탄소강관(150A) | C9: 20 | D9: =자재수량산출!AB7 -> M | E9: =G9+I9+K9 -> 41001 | F9: =H9+J9+L9 -> 820020 | I9: =단가조서!$I$8 -> 41001 | J9: =I9*C9 -> 820020
A10: =자재수량산출!A8 -> 90도 엘보 (D150, 용접식) | C10: =자재수량산출!AA8 -> 2 | D10: =자재수량산출!AB8 -> EA | E10: =G10+I10+K10 -> 42000 | F10: =H10+J10+L10 -> 84000 | I10: =단가조서!I16 -> 42000 | J10: =I10*C10 -> 84000
A11: =자재수량산출!$A$9 -> 45도 엘보 (D150, 용접식) | C11: =자재수량산출!AA9 -> 4 | D11: =자재수량산출!AB9 -> EA | E11: =G11+I11+K11 -> 26460 | F11: =H11+J11+L11 -> 105840 | I11: =단가조서!I17 -> 26460 | J11: =I11*C11 -> 105840
A12: =자재수량산출!$A$10 -> Flange(150A, 10K) | C12: 20 | D12: =자재수량산출!AB10 -> EA | E12: =G12+I12+K12 -> 17202 | F12: =H12+J12+L12 -> 344040 | I12: =단가조서!$I$18 -> 17202 | J12: =I12*C12 -> 344040
A13: =자재수량산출!$A$11 -> Gasket (150A) | C13: 10 | D13: =자재수량산출!AB11 -> EA | E13: =G13+I13+K13 -> 1370 | F13: =H13+J13+L13 -> 13700 | I13: =단가조서!$I$7 -> 1370 | J13: =I13*C13 -> 13700
A14: =단가조서!$A$19 -> 아연도금 육각볼트, 너트(M20*90L) | C14: =자재수량산출!AA12 -> 128 | D14: =자재수량산출!AB12 -> SET | E14: =G14+I14+K14 -> 1723 | F14: =H14+J14+L14 -> 220544 | I14: =단가조서!$I$19 -> 1723 | J14: =I14*C14 -> 220544
A15: 스윙체크밸브(150A) | C15: =자재수량산출!AA32 -> 1 | D15: =자재수량산출!AB32 -> EA | E15: =G15+I15+K15 -> 324480 | F15: =H15+J15+L15 -> 324480 | I15: =단가조서!$I$20 -> 324480 | J15: =I15*C15 -> 324480
A16: =자재수량산출!A16 -> 터파기 | C16: =자재수량산출!AA16 -> 0.32 | D16: =자재수량산출!AB16 -> m^3 | E16: =G16+I16+K16 -> 4021 | F16: =H16+J16+L16 -> 1286.72 | G16: ='26년 표준단가표'!$I$157 -> 2402 | H16: =G16*C16 -> 768.64 | I16: ='26년 표준단가표'!$G$157 -> 660 | J16: =I16*C16 -> 211.2 | K16: ='26년 표준단가표'!$K$157 -> 959 | L16: =K16*C16 -> 306.88
A17: =자재수량산출!$A$17 -> 되메우기 | C17: =자재수량산출!AA17 -> 0.32 | D17: =자재수량산출!AB17 -> m^3 | E17: =G17+I17+K17 -> 21039 | F17: =H17+J17+L17 -> 6732.48 | G17: ='26년 표준단가표'!$I$167 -> 20273 | H17: =G17*C17 -> 6487.36 | I17: ='26년 표준단가표'!$G$167 -> 567 | J17: =I17*C17 -> 181.44 | K17: ='26년 표준단가표'!$K$167 -> 199 | L17: =K17*C17 -> 63.68
A18: 카고크레인(5ton) | C18: 8 | D18: hr | E18: =G18+I18+K18 -> 71638 | F18: =H18+J18+L18 -> 573104 | G18: 49777 | H18: =G18*C18 -> 398216 | I18: 10744 | J18: =I18*C18 -> 85952 | K18: 11117 | L18: =K18*C18 -> 88936
A19: 굴삭기(0.6) | C19: 8 | D19: hr | E19: =G19+I19+K19 -> 111391 | F19: =H19+J19+L19 -> 891128 | G19: 59019 | H19: =G19*C19 -> 472152 | I19: 25252 | J19: =I19*C19 -> 202016 | K19: 27120 | L19: =K19*C19 -> 216960
A20: 플랜지 취부 | C20: 24 | D20: 개소 | E20: =G20+I20+K20 -> 130062 | F20: =H20+J20+L20 -> 3121488 | G20: 130062 | H20: =G20*C20 -> 3121488 | J20: =I20*C20 -> 0
A21: 플랜지 접합 | C21: 12 | D21: 개소 | E21: =G21+I21+K21 -> 32879 | F21: =H21+J21+L21 -> 394548 | G21: 32235 | H21: =G21*C21 -> 386820 | I21: 644 | J21: =I21*C21 -> 7728
A22: =자재수량산출!$A$14 -> 수중펌프 설치(15kw) | C22: =자재수량산출!AA14 -> 1 | D22: =자재수량산출!AB14 -> 식 | E22: =G22+I22+K22 -> 3148820 | F22: =H22+J22+L22 -> 3148820 | G22: 3148820 | H22: =G22*C22 -> 3148820 | J22: =I22*C22 -> 0
A23: 소 계 | F23: =SUM(F6:F22) -> 16719731 | H23: =SUM(H6:H22) -> 7534752 | J23: =INT(SUM(J6:J22)) -> 8878712 | L23: =SUM(L6:L20) -> 306266.56
A26: 2. 수중펌프 철거
A27: 일 금 : | B27: =(F47) -> 13633802 | C27: 원
A28: 종 별 | B28: 재료 또는 치수 | C28: 원수 | D28: 단위 | E28: 총 액 | G28: 노 무 비 | I28: 재 료 비 | K28: 경 비 | M28: 비 고
E29: 단가 | F29: 금 액 | G29: 단가 | H29: 금 액 | I29: 단가 | J29: 금 액 | K29: 단가 | L29: 금 액
A30: =자재수량산출!$A$23 -> 수중펌프(150A*4500LPM*9M) | C30: =자재수량산출!AA23 -> 1 | D30: =자재수량산출!AB23 -> EA | E30: =G30+I30+K30 -> 4140000 | F30: =H30+J30+L30 -> 4140000 | I30: =I6 -> 4140000 | J30: =I30*C30 -> 4140000
A31: =단가조서!$A$13 -> 파형강관 (D1500*2.7T, 3M, 타공 및 절단 포함) | C31: =자재수량산출!AA24 -> 1 | D31: =자재수량산출!AB24 -> EA | E31: =G31+I31+K31 -> 1300000 | F31: =H31+J31+L31 -> 1300000 | I31: =I7 -> 1300000 | J31: =I31*C31 -> 1300000
A32: =자재수량산출!$A$25 -> PE이중벽관유공관(D1000*4M) | C32: 3 | D32: 본 | E32: =G32+I32+K32 -> 410000 | F32: =H32+J32+L32 -> 1230000 | I32: =I8 -> 410000 | J32: =I32*C32 -> 1230000
A33: =자재수량산출!$A$26 -> 일반배관용탄소강관(150A) | C33: 10 | D33: =자재수량산출!AB26 -> M | E33: =G33+I33+K33 -> 41001 | F33: =H33+J33+L33 -> 410010 | I33: =I9 -> 41001 | J33: =I33*C33 -> 410010
A34: =자재수량산출!$A$27 -> 90도 엘보 (D150, 용접식) | C34: =자재수량산출!AA27 -> 1 | D34: =자재수량산출!AB27 -> EA | E34: =G34+I34+K34 -> 42000 | F34: =H34+J34+L34 -> 42000 | I34: =I10 -> 42000 | J34: =I34*C34 -> 42000
A35: =자재수량산출!$A$28 -> 45도 엘보 (D150, 용접식) | C35: =자재수량산출!AA28 -> 2 | D35: =자재수량산출!AB28 -> EA | E35: =G35+I35+K35 -> 26460 | F35: =H35+J35+L35 -> 52920 | I35: =I11 -> 26460 | J35: =I35*C35 -> 52920
A36: =자재수량산출!$A$29 -> Flange(150A, 10K) | C36: 8 | D36: =자재수량산출!AB29 -> EA | E36: =G36+I36+K36 -> 17202 | F36: =H36+J36+L36 -> 137616 | I36: =I12 -> 17202 | J36: =I36*C36 -> 137616
A37: =자재수량산출!A30 -> Gasket (150A) | C37: 4 | D37: =자재수량산출!AB30 -> EA | E37: =G37+I37+K37 -> 1370 | F37: =H37+J37+L37 -> 5480 | I37: =I13 -> 1370 | J37: =I37*C37 -> 5480
A38: =자재수량산출!$A$31 -> 아연도금 육각볼트, 너트(M20*90L) | C38: 30 | D38: =자재수량산출!AB31 -> SET | E38: =G38+I38+K38 -> 1723 | F38: =H38+J38+L38 -> 51690 | I38: =I14 -> 1723 | J38: =I38*C38 -> 51690
A39: 스윙체크밸브(150A) | C39: =자재수량산출!AA32 -> 1 | D39: =자재수량산출!AB32 -> EA | E39: =G39+I39+K39 -> 324480 | F39: =H39+J39+L39 -> 324480 | I39: =단가조서!$I$20 -> 324480 | J39: =I39*C39 -> 324480
A40: =A16 -> 터파기 | C40: =자재수량산출!AA34 -> 0.32 | D40: =D16 -> m^3 | E40: =G40+I40+K40 -> 4021 | F40: =H40+J40+L40 -> 979.84 | G40: =G16 -> 2402 | H40: =G40*C40 -> 768.64 | I40: =I16 -> 660 | J40: =I40*C40 -> 211.2 | K40: =K16 -> 959
A41: =자재수량산출!$A$35 -> 되메우기 | C41: =자재수량산출!AA35 -> 0.32 | D41: =D17 -> m^3 | E41: =G41+I41+K41 -> 21039 | F41: =H41+J41+L41 -> 6668.8 | G41: =G17 -> 20273 | H41: =G41*C41 -> 6487.36 | I41: =I17 -> 567 | J41: =I41*C41 -> 181.44 | K41: =K17 -> 199
A42: 카고크레인(5ton) | C42: 4 | D42: hr | E42: =G42+I42+K42 -> 71638 | F42: =H42+J42+L42 -> 286552 | G42: 49777 | H42: =G42*C42 -> 199108 | I42: 10744 | J42: =I42*C42 -> 42976 | K42: 11117 | L42: =K42*C42 -> 44468
A43: 굴삭기(0.6) | C43: 4 | D43: hr | E43: =G43+I43+K43 -> 111391 | F43: =H43+J43+L43 -> 445564 | G43: 59019 | H43: =G43*C43 -> 236076 | I43: 25252 | J43: =I43*C43 -> 101008 | K43: 27120 | L43: =K43*C43 -> 108480
A44: 플랜지 취부 | C44: =자재수량산출!$Y$29 -> 14 | D44: 개소 | E44: =G44+I44+K44 -> 130062 | F44: =H44+J44+L44 -> 1820868 | G44: 130062 | H44: =G44*C44 -> 1820868 | J44: =I44*C44 -> 0
A45: 플랜지 접합 | C45: =C44/2 -> 7 | D45: 개소 | E45: =G45+I45+K45 -> 32879 | F45: =H45+J45+L45 -> 230153 | G45: =$G$21 -> 32235 | H45: =G45*C45 -> 225645 | I45: =$I$21 -> 644 | J45: =I45*C45 -> 4508
A46: =A22 -> 수중펌프 설치(15kw) | C46: =C22 -> 1 | D46: =D22 -> 식 | E46: =E22 -> 3148820 | F46: =F22 -> 3148820 | G46: =G22 -> 3148820 | H46: =H22 -> 3148820 | BA46: =BA22 -> 0 | BB46: =BB22 -> 0 | BC46: =BC22 -> 0 | BD46: =BD22 -> 0 | BE46: =BE22 -> 0 | BF46: =BF22 -> 0 | BG46: =BG22 -> 0 | BH46: =BH22 -> 0 | ... XFD46: =XFD22 -> 0
A47: 소 계 | F47: =SUM(F30:F46) -> 13633802 | H47: =SUM(H30:H46) -> 5637773 | J47: =INT(SUM(J30:J46)) -> 7843080 | L47: =SUM(L30:L46) -> 152948

Sheet 일위대가
A1: 양,배수장 단위 가격 총괄
A2: 종 별 | B2: 재료또는 | C2: 원 수 | D2: 단위 | E2: 총 액 | G2: 노 무 비 | I2: 재 료 비 | K2: 경 비 | M2: 비 고
B3: 치 수 | E3: 단가 | F3: 금 액 | G3: 단가 | H3: 금 액 | I3: 단가 | J3: 금 액 | K3: 단가 | L3: 금 액
A4: ▣. 각종 잡철물 제작 설치(간단) | F4: *건설공사표준품셈(기계설비)Ⅱ-1-9 적용 | M4: 1호표
A5: 용접봉 | B5: 3.2mm | C5: 18.48 | D5: kg | I5: =자재단가!D16 -> 3112 | J5: =I5*C5 -> 57509.76
A6: 산소 | B6: 0.996 | C6: 6300 | D6: l | I6: =자재단가!G22 -> 1 | J6: =I6*C6 -> 6300
A7: 아세틸렌 | B7: 0.98 | C7: 2.8 | D7: kg | I7: =자재단가!D21 -> 16000 | J7: =I7*C7 -> 44800
A8: 철공 | C8: 27.65 | D8: 인 | G8: =노임!F4 -> 239808 | H8: =G8*C8 -> 6630691.2
A9: 보통인부 | C9: 0.66 | D9: 인 | G9: =노임!F6 -> 172068 | H9: =G9*C9 -> 113564.88
A10: 용접공 | C10: 2.6 | D10: 인 | G10: =노임!B9 -> 282536 | H10: =G10*C10 -> 734593.6
A11: 특별인부 | C11: 0.74 | D11: 인 | G11: =노임!D6 -> 226122 | H11: =G11*C11 -> 167330.28
A12: 용접기 | B12: 교류500AMP | C12: 20.83 | D12: HR | K12: 140 | L12: =K12*C12 -> 2916.2
A13: 전력 | C13: 126 | D13: KWH
A14: 계 | F14: =H14+J14+L14 -> 7757705.9 | H14: =SUM(H8:H13) -> 7646180 | J14: =SUM(J5:J13) -> 108609.76 | L14: =SUM(L12:L13) -> 2916.2
A16: ▣. 발전기 | B16: 25kw | C16: 시간당 | F16: ※ 적산 자료 P 795 | M16: 2호표
A17: 경 유 | B17: 저유황0.001% | C17: 4.3 | D17: L | F17: =H17+J17+L17 -> 6037.2 | I17: =자재단가!G25 -> 1404 | J17: =I17*C17 -> 6037.2
A18: 잡 품 | C18: 24 | D18: % | F18: =H18+J18+L18 -> 1448.928 | J18: =J17*24% -> 1448.928
A19: 일반기계운전사 | C19: 0.208 | D19: 인 | F19: =H19+J19+L19 -> 36190.96 | G19: =노임!B8 -> 173995 | H19: =G19*C19 -> 36190.96
A20: 발전기 | B20: 25kw | C20: 0.0002362 | D20: 대 | F20: =H20+J20+L20 -> 3045.0904 | K20: 12892000 | L20: =K20*C20 -> 3045.0904
A21: 발전기 | B21: 50kw | D21: 대
A22: 발전기 | B22: 100kw | D22: 대
A23: 소 계 | F23: =H23+J23+L23 -> 46722.178 | H23: =SUM(H17:H22) -> 36190.96 | J23: =SUM(J17:J22) -> 7486.128 | L23: =SUM(L20:L22) -> 3045.0904
A28: ▣.조합페인트칠(㎡당) | C28: 3회 | F28: *건설공사표준품셈(건축)11-2-4적용 | M28: 3호표
A29: 재 료 비
A30: 조합페인트칠 | B30: KSM6020 1급 백색 | C30: 0.246 | D30: L | F30: =H30+J30+L30 -> 1414.5 | I30: =자재단가!D18 -> 5750 | J30: =I30*C30 -> 1414.5
A31: 신너 | B31: 121 | C31: 0.012 | D31: L | F31: =H31+J31+L31 -> 33.924 | I31: =자재단가!D19 -> 2827 | J31: =I31*C31 -> 33.924
A32: 잡재료비 | B32: 재료비의4% | C32: 1 | D32: 식 | F32: =H32+J32+L32 -> 57.93696 | I32: =J30+J31 -> 1448.424 | J32: =I32*4% -> 57.93696
A33: 노 무 비
A34: 도장공 | C34: 0.02 | D34: 인 | F34: =H34+J34+L34 -> 5260.34 | G34: =노임!F5 -> 263017 | H34: =G34*C34 -> 5260.34
A35: 보통인부 | C35: 0.004 | D35: 인 | G35: =노임!F6 -> 172068 | H35: =G35*C35 -> 688.272
A36: 소 계 | F36: =H36+J36 -> 7454.973 | H36: =SUM(H34:H35) -> 5948.612 | J36: =SUM(J30:J32) -> 1506.361
A41: ▣.볼라드설치 (13개소)
A42: 특별인부 | C42: 2 | D42: 인 | F42: =H42+J42+L42 -> 452244 | G42: =노임!D6 -> 226122 | H42: =C42*G42 -> 452244
A43: 보통인부 | C43: 1 | D43: 인 | F43: =H43+J43+L43 -> 172068 | G43: =노임!F6 -> 172068 | H43: =C43*G43 -> 172068
A44: 공구손료 | B44: 인력품의5% | C44: 5 | D44: % | F44: =H44+J44+L44 -> 31215.6 | K44: =(H42+H43) -> 624312 | L44: =K44*C44/100 -> 31215.6
A45: 소 계 | F45: =H45+J45+L45 -> 655527.6 | H45: =SUM(H42:H44) -> 624312 | J45: =SUM(J42:J44) -> 0 | L45: =SUM(L42:L44) -> 31215.6
A46: 합 계(1개소당) | F46: =H46+J46+L46 -> 50425.2 | H46: =H45/13 -> 48024 | J46: =J45/13 -> 0 | L46: =L45/13 -> 2401.2

Sheet 자재단가
A1: 단 가 비 교 표 (2021년 5월)
A2: 종 별 | B2: 재료 및 치수 | C2: 단위 | D2: 적용단가 | E2: 거래가격 | G2: 물가자료(2021년) | I2: 거래가격 | K2: 시중가 | L2: 비고
E3: 금 액 | F3: 페이지 | G3: 금 액 | H3: 페이지 | I3: 금 액 | J3: 페이지 | K3: 금 액
A4: =자재수량산출!A23 -> 수중펌프(150A*4500LPM*9M) | B4: =자재수량산출!B23 -> 0 | C4: Kg | D4: =MIN(E4,G4,K4) -> 1030 | E4: 1139 | F4: 63 | G4: 1030 | H4: 53 | L4: 부산
A5: =자재수량산출!A24 -> 파형강관 (D1500*2.7T, 3M, 타공 및 절단 포함) | B5: =자재수량산출!B24 -> 0 | C5: Kg | D5: =MIN(E5,G5,K5) -> 850 | E5: 865 | F5: 55 | G5: 850 | H5: 45
A6: =자재수량산출!A25 -> PE이중벽관유공관(D1000*4M) | B6: =자재수량산출!B25 -> 0 | C6: Kg | D6: =MIN(E6,G6,K6) -> 850 | E6: 865 | F6: 51 | G6: 850 | H6: 45
A7: =자재수량산출!#REF! -> #REF! | B7: =자재수량산출!#REF! -> #REF! | C7: Kg | D7: =MIN(E7,G7,K7) -> 850 | E7: 865 | G7: 850 | H7: 45
A8: =자재수량산출!#REF! -> #REF! | B8: =자재수량산출!#REF! -> #REF! | C8: Kg | D8: =MIN(E8,G8,K8) -> 850 | E8: 865 | G8: 850 | H8: 45
A9: =자재수량산출!#REF! -> #REF! | B9: =자재수량산출!#REF! -> #REF! | C9: EA | D9: =MIN(E9,G9,K9) -> 1210 | E9: 1210 | F9: 99 | G9: 2180 | H9: 93
A10: 스핀들 권양기 | B10: 1-2호형 | C10: EA | D10: =MIN(E10,G10,K10) -> 280000 | G10: 280000 | H10: 255
A11: 랙크형권양기 | B11: 분수문용 | C11: m | D11: =MIN(E11,G11,K11) -> 700000 | G11: 700000 | H11: 249
A12: 스핀들 | B12: D 32 | C12: m | D12: =MIN(E12,G12,K12) -> 35000 | G12: 35000 | H12: 249
A13: 랙크바 | B13: 아연도금 | C13: Kg | D13: =MIN(E13,G13,K13) -> 52000 | G13: 52000 | H13: 249
A14: 환봉 | B14: D 16 | C14: Kg | D14: =MIN(E14,G14,K14) -> 850 | E14: 865 | F14: 50 | G14: 850 | H14: 44
A15: 앵글 | B15: 50*6T | C15: Kg | D15: =MIN(E15,G15,K15) -> 850 | E15: 870 | F15: 54 | G15: 850 | H15: 46
A16: 전기용접봉 | B16: KSE4301 3.2D | C16: kg | D16: =MIN(E16,G16,K16) -> 3112 | G16: 3112 | H16: 1411
A17: 방청페인트 | B17: KSM6030 1종 | C17: L | D17: =MIN(E17,G17,K17) -> 9750 | G17: 9750 | H17: 629 | M17: 4L=39000
A18: 조합페인트(철재) | B18: KSM6020 1종 | C18: L | D18: =MIN(E18,G18,K18) -> 5750 | G18: 5750 | H18: 629 | M18: 4L=23000
A19: 신너 | B19: 121 | C19: L | D19: =MIN(E19,G19,K19) -> 2827 | G19: 2827 | H19: 634 | M19: 4L=11310
A20: 퍼티 | B20: 도장용 | C20: ㎏ | D20: =MIN(E20,G20,K20) -> 1235 | G20: 1235 | H20: 639 | M20: 4L=4940
A21: 아세치렌 | B21: 3㎏ B급 | C21: ㎏ | D21: =MIN(E21,G21,K21) -> 16000 | G21: 16000 | H21: 하 33
A22: 산소 | B22: 0.996 | C22: L | D22: =MIN(E22,G22,K22) -> 1 | G22: 1 | H22: 하 33
A23: 전력 | C23: KWH | D23: =I23 -> 140 | I23: 140 | J23: 적산자료
A24: 휘발유 | B24: 무연 휘발유 | C24: L | D24: =MIN(E24,G24,K24) -> 1615 | G24: 1615 | H24: 하 32
A25: 저유황경유(0.001 %) | C25: L | D25: =MIN(E25,G25,K25) -> 1404 | G25: 1404 | H25: 하 32
A26: =자재수량산출!A10 -> Flange(150A, 10K) | B26: =자재수량산출!B10 -> 0 | C26: =자재수량산출!AB10 -> EA | D26: =MIN(E26,G26,K26) -> 35500 | J26: 인터넷 | K26: 35500
A27: =자재수량산출!A11 -> Gasket (150A) | B27: =자재수량산출!B11 -> 0 | C27: =자재수량산출!AB11 -> EA | D27: =MIN(E27,G27,K27) -> 3090 | G27: 3090 | H27: 75
A28: =자재수량산출!#REF! -> #REF! | B28: =자재수량산출!#REF! -> #REF! | C28: =자재수량산출!#REF! -> #REF! | D28: =MIN(E28,G28,K28) -> 412 | G28: 412 | H28: 88 | L28: 281+132
A29: 수문핸들 | C29: EA | D29: =MIN(E29,G29,K29) -> 45045 | K29: 45045 | M29: 50,050/0.9
A31: 고철 | B31: 중량A | C31: kg | D31: =MIN(E31,G31,K31) -> -395 | G31: -395 | H31: 하 47

Sheet 자재수량산출
A1: 수중펌프 집수정 신설 공사 자재 물량 산출서
A2: 종 별 | B2: 규 격 | C2: 물 량 산 출 기 초 | Y2: 계 | Z2: 할증 | AA2: 중량(kg)/수량 | AB2: 단위 | AC2: 비고
A3: 1. 거제시 동부면 산양리 1105
A4: =단가조서!$A$5 -> 수중펌프(150A*4500LPM*9M) | Y4: 1 | AA4: =Y4 -> 1 | AB4: EA
A5: =단가조서!$A$13 -> 파형강관 (D1500*2.7T, 3M, 타공 및 절단 포함) | Y5: 1 | AA5: =Y5 -> 1 | AB5: EA
A6: PE이중벽관유공관(D1000*4M) | D6: 4 | E6: * | F6: 3 | O6: = | P6: =D6*F6 -> 12 | V6: = | W6: =P6 -> 12 | X6: =$AB$6 -> M | Y6: =W6 -> 12 | Z6: =ROUNDDOWN(Y6*Z3,2) -> 0 | AA6: =SUM(Y6:Z6) -> 12 | AB6: M
A7: =단가조서!$A$8 -> 일반배관용탄소강관(150A) | D7: 9 | E7: + | F7: 45 | G7: + | H7: 12 | I7: + | J7: 3 | O7: = | P7: =D7+F7+H7+J7 -> 69 | V7: = | W7: =P7 -> 69 | X7: M | Y7: =W7 -> 69 | AA7: =Y7 -> 69 | AB7: M
A8: =단가조서!A16 -> 90도 엘보 (D150, 용접식) | Y8: 2 | AA8: =Y8 -> 2 | AB8: EA
A9: =단가조서!A17 -> 45도 엘보 (D150, 용접식) | Y9: 4 | AA9: =Y9 -> 4 | AB9: EA
A10: =단가조서!$A$18 -> Flange(150A, 10K) | D10: =$W$7 -> 69 | E10: / | F10: 6 | G10: * | H10: 2 | I10: + | J10: 9 | O10: = | P10: =D10/F10*H10+J10 -> 32 | V10: = | W10: =P10 -> 32 | X10: EA | Y10: =$W$10 -> 32 | Z10: =Y10*Z3 -> 0 | AA10: =Z10+Y10 -> 32 | AB10: EA
A11: =단가조서!$A$7 -> Gasket (150A) | D11: =$W$10 -> 32 | E11: / | F11: 2 | O11: = | P11: =D11/F11 -> 16 | V11: = | W11: =P11 -> 16 | X11: EA | Y11: =$W$11 -> 16 | Z11: =Y11*Z3 -> 0 | AA11: =Z11+Y11 -> 16 | AB11: EA
A12: =단가조서!$A$19 -> 아연도금 육각볼트, 너트(M20*90L) | D12: =$P$11 -> 16 | E12: * | F12: 8 | O12: = | P12: =F12*D12 -> 128 | V12: = | W12: =P12 -> 128 | X12: SET | Y12: =$W$12 -> 128 | Z12: =Y12*Z3 -> 0 | AA12: =Z12+Y12 -> 128 | AB12: SET
A13: =단가조서!$A$20 -> 스윙체크밸브 (150A) | Y13: 1 | AA13: =Y13 -> 1 | AB13: EA
A14: 수중펌프 설치(15kw) | Y14: 1 | AA14: 1 | AB14: 식
A16: 터파기 | D16: 0.4 | E16: * | F16: 0.4 | G16: * | H16: 2 | I16: = | J16: =F16*D16 -> 0.16 | K16: * | L16: =H16 -> 2 | O16: = | P16: =L16*J16 -> 0.32 | V16: = | W16: =P16 -> 0.32 | X16: m^3 | Y16: =W16 -> 0.32 | Z16: =Y16*Z3 -> 0 | AA16: =Z16+Y16 -> 0.32 | AB16: m^3
A17: 되메우기 | D17: 0.4 | E17: * | F17: 0.4 | G17: * | H17: 2 | I17: = | J17: =F17*D17 -> 0.16 | K17: * | L17: =H17 -> 2 | O17: = | P17: =L17*J17 -> 0.32 | V17: = | W17: =P17 -> 0.32 | X17: m^3 | Y17: =W17 -> 0.32 | Z17: =$Z$16 -> 0 | AA17: =Z17+Y17 -> 0.32 | AB17: m^3
Y18: =W18 -> 0 | AA18: =SUM(Y18:Z18) -> 0 | AB18: ㎡
Y19: =SUM(AA6:AA9)+Y12 -> 215 | AA19: =Y19/1000 -> 0.215 | AB19: ton
A20: 수중펌프 집수정 신설 공사 자재 물량 산출서
A21: 종 별 | B21: 규 격 | C21: 물 량 산 출 기 초 | Y21: 계 | Z21: 할증 | AA21: 중량(kg)/수량 | AB21: 단위 | AC21: 비고
A22: 2. 거제시 동부면 산양리 1105
A23: =단가조서!$A$5 -> 수중펌프(150A*4500LPM*9M) | Y23: 1 | AA23: =Y23 -> 1 | AB23: EA
A24: =단가조서!$A$13 -> 파형강관 (D1500*2.7T, 3M, 타공 및 절단 포함) | Y24: 1 | AA24: =Y24 -> 1 | AB24: EA
A25: =단가조서!A14 -> PE이중벽관유공관(D1000*4M) | D25: 4 | E25: * | F25: 3 | O25: = | P25: =D25*F25 -> 12 | V25: = | W25: =P25 -> 12 | X25: =$AB$25 -> M | Y25: =W25 -> 12 | Z25: =ROUNDDOWN(Y25*Z22,2) -> 0 | AA25: =SUM(Y25:Z25) -> 12 | AB25: M
A26: 일반배관용탄소강관(150A) | D26: 4 | E26: + | F26: 6 | G26: + | H26: 2 | I26: + | J26: 3 | O26: = | P26: =D26+F26+H26+J26 -> 15 | V26: = | W26: =P26 -> 15 | X26: M | Y26: =W26 -> 15 | AA26: =Y26 -> 15 | AB26: M
A27: =단가조서!A16 -> 90도 엘보 (D150, 용접식) | Y27: 1 | AA27: =Y27 -> 1 | AB27: EA
A28: =단가조서!A17 -> 45도 엘보 (D150, 용접식) | Y28: 2 | AA28: =Y28 -> 2 | AB28: EA
A29: =단가조서!$A$18 -> Flange(150A, 10K) | D29: =W26 -> 15 | E29: / | F29: 6 | G29: * | H29: 2 | I29: + | J29: 9 | O29: = | P29: =D29/F29*H29+J29 -> 14 | V29: = | W29: =P29 -> 14 | X29: EA | Y29: =$W$29 -> 14 | Z29: =Y29*Z22 -> 0 | AA29: =Z29+Y29 -> 14 | AB29: EA
A30: =단가조서!$A$7 -> Gasket (150A) | D30: =$W$29 -> 14 | E30: / | F30: 2 | O30: = | P30: =D30/F30 -> 7 | V30: = | W30: =P30 -> 7 | X30: EA | Y30: =$W$30 -> 7 | Z30: =Y30*Z22 -> 0 | AA30: =Z30+Y30 -> 7 | AB30: EA
A31: =단가조서!$A$19 -> 아연도금 육각볼트, 너트(M20*90L) | D31: =$W$30 -> 7 | E31: * | F31: 8 | O31: = | P31: =F31*D31 -> 56 | V31: = | W31: =P31 -> 56 | X31: SET | Y31: =$W$31 -> 56 | Z31: =Y31*Z22 -> 0 | AA31: =Z31+Y31 -> 56 | AB31: SET
A32: =단가조서!$A$20 -> 스윙체크밸브 (150A) | Y32: 1 | AA32: =Y32 -> 1 | AB32: EA
A33: 수중펌프 설치(15kw) | Y33: 1 | AA33: 1 | AB33: 식
A34: 터파기 | D34: 0.4 | E34: * | F34: 0.4 | G34: * | H34: 2 | I34: = | J34: =F34*D34 -> 0.16 | K34: * | L34: =H34 -> 2 | O34: = | P34: =L34*J34 -> 0.32 | V34: = | W34: =P34 -> 0.32 | X34: m^3 | Y34: =W34 -> 0.32 | Z34: =Y34*Z19 -> 0 | AA34: =Z34+Y34 -> 0.32 | AB34: m^3
A35: 되메우기 | D35: 0.4 | E35: * | F35: 0.4 | G35: * | H35: 2 | I35: = | J35: =F35*D35 -> 0.16 | K35: * | L35: =H35 -> 2 | O35: = | P35: =L35*J35 -> 0.32 | V35: = | W35: =P35 -> 0.32 | X35: m^3 | Y35: =W35 -> 0.32 | Z35: =Y35*Z20 -> 0 | AA35: =Z35+Y35 -> 0.32 | AB35: m^3
V39: 계 | W39: =SUM(W36:W38) -> 0 | X39: ㎡ | Y39: =W39 -> 0 | AA39: =SUM(Y39:Z39) -> 0 | AB39: ㎡
Y40: =SUM(Y25:Y28)+Y31 -> 86 | AA40: =Y40/1000 -> 0.086 | AB40: ton

Sheet 단가조서
A1: 단가 조사서 (2026년 기준)
A3: 규 격 품 명 | B3: 단위 | C3: 거래가격 | D3: page | E3: 26년 공사단가 | F3: page | G3: 나라장터 | H3: 물품식별번호 | I3: 적용단가 | J3: 비 고
A4: ='26년 공사단가'!$A$1080 -> 무수축시멘트 | B4: ='26년 공사단가'!$C$1080 -> ㎏ | C4: ='26년 공사단가'!$D$1080 -> 584 | I4: =MINA(C4,E4,G4) -> 584
A5: 수중펌프(150A*4500LPM*9M) | B5: EA | C5: 4140000 | I5: =MINA(C5,E5,G5) -> 4140000
A6: 수중펌프(80A*1500LPM*6M) | B6: EA | C6: 1380000 | I6: =MINA(C6,E6,G6) -> 1380000
A7: Gasket (150A) | B7: EA | C7: 1370 | I7: =MINA(C7,E7,G7) -> 1370
A8: 일반배관용탄소강관(150A) | B8: M | C8: 41001 | I8: =MINA(C8,E8,G8) -> 41001
A9: PE배관 보수용 밴드(300A) | B9: EA | C9: 253000 | I9: =MINA(C9,E9,G9) -> 253000
A10: 혼합골재 | B10: ㎥ | C10: 20000 | I10: =MINA(C10,E10,G10) -> 20000
A11: 석분 | B11: ㎥ | C11: 22000 | I11: =MINA(C11,E11,G11) -> 22000 | O11: 35.94 | P11: 114 | Q11: 29.8 | R11: =SUM(O11:Q11) -> 179.74
A12: 청호스(80A) | B12: M | C12: 9555 | I12: =MINA(C12,E12,G12) -> 9555
A13: 파형강관 (D1500*2.7T, 3M, 타공 및 절단 포함) | B13: RS | C13: 1300000 | I13: =INT(MINA(C13,E13,G13)) -> 1300000
A14: PE이중벽관유공관(D1000*4M) | B14: 본 | C14: 410000 | I14: =INT(MINA(C14,E14,G14)) -> 410000
A15: 수밀밴드 | B15: EA | C15: 39000 | I15: =INT(MINA(C15,E15,G15)) -> 39000
A16: 90도 엘보 (D150, 용접식) | B16: EA | C16: 42000 | I16: =MINA(C16,E16,G16) -> 42000
A17: 45도 엘보 (D150, 용접식) | B17: EA | C17: 26460 | I17: =MINA(C17,E17,G17) -> 26460
A18: Flange(150A, 10K) | B18: EA | C18: 17202 | F18: 670 | I18: =MINA(C18,E18,G18) -> 17202
A19: 아연도금 육각볼트, 너트(M20*90L) | B19: SET | C19: 1723 | F19: 45 | I19: =MINA(C19,E19,G19) -> 1723
A20: 스윙체크밸브 (150A) | B20: EA | C20: 324480 | F20: 763 | I20: =MINA(C20,E20,G20) -> 324480
I21: =MINA(C21,E21,G21) -> 0
I22: =MINA(C22,E22,G22) -> 0
I23: =MINA(C23,E23,G23) -> 0
I24: =MINA(C24,E24,G24) -> 0
I25: =MINA(C25,E25,G25) -> 0 | O25: 35.94 | P25: 114 | Q25: 29.8 | R25: =SUM(O25:Q25) -> 179.74
I26: =MINA(C26,E26,G26) -> 0
I27: =INT(MINA(C27,E27,G27)) -> 0
I28: =INT(MINA(C28,E28,G28)) -> 0
I29: =INT(MINA(C29,E29,G29)) -> 0
I30: =MINA(C30,E30,G30) -> 0
I31: =MINA(C31,E31,G31) -> 0

Sheet 26년 표준단가표
A1: 내역서
A2: 공 종 명 | B2: 규 격 | C2: 수량 | D2: 단위 | E2: 합 계 | G2: 재 료 비 | I2: 노 무 비 | K2: 경 비 | M2: 비 고
E3: 단 가 | F3: 금 액 | G3: 단 가 | H3: 금 액 | I3: 단 가 | J3: 금 액 | K3: 단 가 | L3: 금 액 | S3: 할 증 | T3: 화폐변환 | U3: OP값 | V3: EQ | W3: LA | X3: MA | Y3: 금액계상
A4: 2025년 표준단가표 | C4: 1 | D4: 식 | F4: =H4+J4+L4 -> 1786107929 | H4: =TRUNC(SUM(Z4:Z29),0) -> 301762441 | J4: =TRUNC(SUM(AA4:AA29),0) -> 1076190220 | L4: =TRUNC(SUM(AB4:AB29),0) -> 408155268 | O4: A00 | Z4: =H5+H6+H7+H8+H9+H10+H11+H12+H13+H14+H15+H16+H17+H18+H19+H20+H21+H22+H23+H24+H25+H26+H27+H28+H29+H30+H31+H32+H33+H34+H35+H36+H37+H38+H39+H40+H41+H42 -> 666138 | AA4: =J5+J6+J7+J8+J9+J10+J11+J12+J13+J14+J15+J16+J17+J18+J19+J20+J21+J22+J23+J24+J25+J26+J27+J28+J29+J30+J31+J32+J33+J34+J35+J36+J37+J38+J39+J40+J41+J42 -> 966568 | AB4: =L5+L6+L7+L8+L9+L10+L11+L12+L13+L14+L15+L16+L17+L18+L19+L20+L21+L22+L23+L24+L25+L26+L27+L28+L29+L30+L31+L32+L33+L34+L35+L36+L37+L38+L39+L40+L41+L42 -> 5306949
A5: 조립식가설사무실 | B5: 24개월 | C5: 1 | D5: ㎡ | E5: =G5+I5+K5 -> 153549 | F5: =H5+J5+L5 -> 153549 | G5: =[183]일위대가목록!F290 -> 0 | H5: =TRUNC(G5*C5,0) -> 0 | I5: =[183]일위대가목록!G290 -> 0 | J5: =TRUNC(I5*C5,0) -> 0 | K5: =[183]일위대가목록!H290 -> 153549 | L5: =TRUNC(K5*C5,0) -> 153549 | M5: 품셈(공통)2-2-3, 2-3-1 | P5: 10 | R5: IA150300 | T5: T | Z5: =H43+H44+H45+H46+H47+H48+H49+H50+H51+H52+H53+H54+H55+H56+H57+H58+H59+H60+H61+H62+H63+H64+H65+H66+H67+H68+H69+H70+H71+H72+H73+H74+H75+H76+H77+H78+H79 -> 18986091 | AA5: =J43+J44+J45+J46+J47+J48+J49+J50+J51+J52+J53+J54+J55+J56+J57+J58+J59+J60+J61+J62+J63+J64+J65+J66+J67+J68+J69+J70+J71+J72+J73+J74+J75+J76+J77+J78+J79 -> 3623091 | AB5: =L43+L44+L45+L46+L47+L48+L49+L50+L51+L52+L53+L54+L55+L56+L57+L58+L59+L60+L61+L62+L63+L64+L65+L66+L67+L68+L69+L70+L71+L72+L73+L74+L75+L76+L77+L78+L79 -> 7691398 | BI5: =HYPERLINK("#일위대가목록!A290","IA150300 →") -> IA150300 →
A6: 조립식가설사무실 | B6: 36개월 | C6: 1 | D6: ㎡ | E6: =G6+I6+K6 -> 164098 | F6: =H6+J6+L6 -> 164098 | G6: =[183]일위대가목록!F291 -> 0 | H6: =TRUNC(G6*C6,0) -> 0 | I6: =[183]일위대가목록!G291 -> 0 | J6: =TRUNC(I6*C6,0) -> 0 | K6: =[183]일위대가목록!H291 -> 164098 | L6: =TRUNC(K6*C6,0) -> 164098 | M6: 품셈(공통)2-2-3, 2-3-1 | P6: 20 | R6: IA150400 | T6: T | Z6: =H80+H81+H82+H83+H84+H85+H86+H87+H88+H89+H90+H91+H92+H93+H94+H95+H96+H97+H98+H99+H100+H101+H102+H103+H104+H105+H106+H107+H108+H109+H110+H111+H112+H113 -> 244555 | AA6: =J80+J81+J82+J83+J84+J85+J86+J87+J88+J89+J90+J91+J92+J93+J94+J95+J96+J97+J98+J99+J100+J101+J102+J103+J104+J105+J106+J107+J108+J109+J110+J111+J112+J113 -> 1282395 | AB6: =L80+L81+L82+L83+L84+L85+L86+L87+L88+L89+L90+L91+L92+L93+L94+L95+L96+L97+L98+L99+L100+L101+L102+L103+L104+L105+L106+L107+L108+L109+L110+L111+L112+L113 -> 119046463 | BI6: =HYPERLINK("#일위대가목록!A291","IA150400 →") -> IA150400 →
A7: 조립식가설사무실 | B7: 48개월 | C7: 1 | D7: ㎡ | E7: =G7+I7+K7 -> 175695 | F7: =H7+J7+L7 -> 175695 | G7: =[183]일위대가목록!F292 -> 0 | H7: =TRUNC(G7*C7,0) -> 0 | I7: =[183]일위대가목록!G292 -> 0 | J7: =TRUNC(I7*C7,0) -> 0 | K7: =[183]일위대가목록!H292 -> 175695 | L7: =TRUNC(K7*C7,0) -> 175695 | M7: 품셈(공통)2-2-3, 2-3-1 | P7: 30 | R7: IA150500 | T7: T | Z7: =H114+H115+H116+H117+H118+H119+H120+H121+H122+H123+H124+H125+H126+H127+H128+H129+H130+H131+H132+H133+H134+H135+H136+H137+H138+H139+H140+H141+H142+H143 -> 26309 | AA7: =J114+J115+J116+J117+J118+J119+J120+J121+J122+J123+J124+J125+J126+J127+J128+J129+J130+J131+J132+J133+J134+J135+J136+J137+J138+J139+J140+J141+J142+J143 -> 60300 | AB7: =L114+L115+L116+L117+L118+L119+L120+L121+L122+L123+L124+L125+L126+L127+L128+L129+L130+L131+L132+L133+L134+L135+L136+L137+L138+L139+L140+L141+L142+L143 -> 28555 | BI7: =HYPERLINK("#일위대가목록!A292","IA150500 →") -> IA150500 →
A8: 조립식가설창고 | B8: 24개월 | C8: 1 | D8: ㎡ | E8: =G8+I8+K8 -> 120630 | F8: =H8+J8+L8 -> 120630 | G8: =[183]일위대가목록!F293 -> 0 | H8: =TRUNC(G8*C8,0) -> 0 | I8: =[183]일위대가목록!G293 -> 0 | J8: =TRUNC(I8*C8,0) -> 0 | K8: =[183]일위대가목록!H293 -> 120630 | L8: =TRUNC(K8*C8,0) -> 120630 | M8: 품셈(공통)2-2-3, 2-3-1 | P8: 40 | R8: IA152300 | T8: T | Z8: =H144+H145+H146+H147+H148+H149+H150+H151+H152+H153+H154+H155+H156+H157+H158+H159+H160+H161+H162+H163+H164+H165+H166+H167+H168+H169+H170+H171+H172+H173 -> 18425 | AA8: =J144+J145+J146+J147+J148+J149+J150+J151+J152+J153+J154+J155+J156+J157+J158+J159+J160+J161+J162+J163+J164+J165+J166+J167+J168+J169+J170+J171+J172+J173 -> 276450 | AB8: =L144+L145+L146+L147+L148+L149+L150+L151+L152+L153+L154+L155+L156+L157+L158+L159+L160+L161+L162+L163+L164+L165+L166+L167+L168+L169+L170+L171+L172+L173 -> 15763 | BI8: =HYPERLINK("#일위대가목록!A293","IA152300 →") -> IA152300 →
A9: 조립식가설창고 | B9: 36개월 | C9: 1 | D9: ㎡ | E9: =G9+I9+K9 -> 127739 | F9: =H9+J9+L9 -> 127739 | G9: =[183]일위대가목록!F294 -> 0 | H9: =TRUNC(G9*C9,0) -> 0 | I9: =[183]일위대가목록!G294 -> 0 | J9: =TRUNC(I9*C9,0) -> 0 | K9: =[183]일위대가목록!H294 -> 127739 | L9: =TRUNC(K9*C9,0) -> 127739 | M9: 품셈(공통)2-2-3, 2-3-1 | P9: 50 | R9: IA152400 | T9: T | Z9: =H174+H175+H176+H177+H178+H179+H180+H181+H182+H183+H184+H185+H186+H187+H188+H189+H190+H191+H192+H193+H194+H195+H196+H197+H198+H199+H200+H201+H202+H203 -> 24694 | AA9: =J174+J175+J176+J177+J178+J179+J180+J181+J182+J183+J184+J185+J186+J187+J188+J189+J190+J191+J192+J193+J194+J195+J196+J197+J198+J199+J200+J201+J202+J203 -> 163924 | AB9: =L174+L175+L176+L177+L178+L179+L180+L181+L182+L183+L184+L185+L186+L187+L188+L189+L190+L191+L192+L193+L194+L195+L196+L197+L198+L199+L200+L201+L202+L203 -> 28933 | BI9: =HYPERLINK("#일위대가목록!A294","IA152400 →") -> IA152400 →
A10: 조립식가설창고 | B10: 48개월 | C10: 1 | D10: ㎡ | E10: =G10+I10+K10 -> 135747 | F10: =H10+J10+L10 -> 135747 | G10: =[183]일위대가목록!F295 -> 0 | H10: =TRUNC(G10*C10,0) -> 0 | I10: =[183]일위대가목록!G295 -> 0 | J10: =TRUNC(I10*C10,0) -> 0 | K10: =[183]일위대가목록!H295 -> 135747 | L10: =TRUNC(K10*C10,0) -> 135747 | M10: 품셈(공통)2-2-3, 2-3-1 | P10: 60 | R10: IA152500 | T10: T | Z10: =H204+H205+H206+H207+H208+H209+H210+H211+H212+H213+H214+H215+H216+H217+H218+H219+H220+H221+H222+H223+H224+H225+H226+H227+H228+H229+H230+H231+H232+H233 -> 413272 | AA10: =J204+J205+J206+J207+J208+J209+J210+J211+J212+J213+J214+J215+J216+J217+J218+J219+J220+J221+J222+J223+J224+J225+J226+J227+J228+J229+J230+J231+J232+J233 -> 5393767 | AB10: =L204+L205+L206+L207+L208+L209+L210+L211+L212+L213+L214+L215+L216+L217+L218+L219+L220+L221+L222+L223+L224+L225+L226+L227+L228+L229+L230+L231+L232+L233 -> 215024 | BI10: =HYPERLINK("#일위대가목록!A295","IA152500 →") -> IA152500 →
A11: 콘테이너형 가설사무실(3개월) | B11: 3m(W)×6m(L)×2.6m(H) | C11: 1 | D11: 동 | E11: =G11+I11+K11 -> 1251491 | F11: =H11+J11+L11 -> 1251491 | G11: =[183]일위대가목록!F296 -> 0 | H11: =TRUNC(G11*C11,0) -> 0 | I11: =[183]일위대가목록!G296 -> 0 | J11: =TRUNC(I11*C11,0) -> 0 | K11: =[183]일위대가목록!H296 -> 1251491 | L11: =TRUNC(K11*C11,0) -> 1251491 | M11: 품셈(공통)2-2-3, 2-3-2 | P11: 70 | R11: IA153100 | T11: T | Z11: =H234+H235+H236+H237+H238+H239+H240+H241+H242+H243+H244+H245+H246+H247+H248+H249+H250+H251+H252+H253+H254+H255+H256+H257+H258+H259+H260+H261+H262+H263 -> 435717 | AA11: =J234+J235+J236+J237+J238+J239+J240+J241+J242+J243+J244+J245+J246+J247+J248+J249+J250+J251+J252+J253+J254+J255+J256+J257+J258+J259+J260+J261+J262+J263 -> 1442632 | AB11: =L234+L235+L236+L237+L238+L239+L240+L241+L242+L243+L244+L245+L246+L247+L248+L249+L250+L251+L252+L253+L254+L255+L256+L257+L258+L259+L260+L261+L262+L263 -> 200784 | BI11: =HYPERLINK("#일위대가목록!A296","IA153100 →") -> IA153100 →
A12: 콘테이너형 가설사무실(6개월) | B12: 3m(W)×6m(L)×2.6m(H) | C12: 1 | D12: 동 | E12: =G12+I12+K12 -> 1408991 | F12: =H12+J12+L12 -> 1408991 | G12: =[183]일위대가목록!F297 -> 0 | H12: =TRUNC(G12*C12,0) -> 0 | I12: =[183]일위대가목록!G297 -> 0 | J12: =TRUNC(I12*C12,0) -> 0 | K12: =[183]일위대가목록!H297 -> 1408991 | L12: =TRUNC(K12*C12,0) -> 1408991 | M12: 품셈(공통)2-2-3, 2-3-2 | P12: 80 | R12: IA153200 | T12: T | Z12: =H264+H265+H266+H267+H268+H269+H270+H271+H272+H273+H274+H275+H276+H277+H278+H279+H280+H281+H282+H283+H284+H285+H286+H287+H288+H289+H290+H291+H292+H293 -> 265846 | AA12: =J264+J265+J266+J267+J268+J269+J270+J271+J272+J273+J274+J275+J276+J277+J278+J279+J280+J281+J282+J283+J284+J285+J286+J287+J288+J289+J290+J291+J292+J293 -> 2097483 | AB12: =L264+L265+L266+L267+L268+L269+L270+L271+L272+L273+L274+L275+L276+L277+L278+L279+L280+L281+L282+L283+L284+L285+L286+L287+L288+L289+L290+L291+L292+L293 -> 213895 | BI12: =HYPERLINK("#일위대가목록!A297","IA153200 →") -> IA153200 →
A13: 콘테이너형 가설사무실(12개월) | B13: 3m(W)×6m(L)×2.6m(H) | C13: 1 | D13: 동 | E13: =G13+I13+K13 -> 1755491 | F13: =H13+J13+L13 -> 1755491 | G13: =[183]일위대가목록!F298 -> 0 | H13: =TRUNC(G13*C13,0) -> 0 | I13: =[183]일위대가목록!G298 -> 0 | J13: =TRUNC(I13*C13,0) -> 0 | K13: =[183]일위대가목록!H298 -> 1755491 | L13: =TRUNC(K13*C13,0) -> 1755491 | M13: 품셈(공통)2-2-3, 2-3-2 | P13: 90 | R13: IA153300 | T13: T | Z13: =H294+H295+H296+H297+H298+H299+H300+H301+H302+H303+H304+H305+H306+H307+H308+H309+H310+H311+H312+H313+H314+H315+H316+H317+H318+H319+H320+H321+H322+H323 -> 2094109 | AA13: =J294+J295+J296+J297+J298+J299+J300+J301+J302+J303+J304+J305+J306+J307+J308+J309+J310+J311+J312+J313+J314+J315+J316+J317+J318+J319+J320+J321+J322+J323 -> 1266227 | AB13: =L294+L295+L296+L297+L298+L299+L300+L301+L302+L303+L304+L305+L306+L307+L308+L309+L310+L311+L312+L313+L314+L315+L316+L317+L318+L319+L320+L321+L322+L323 -> 74568 | BI13: =HYPERLINK("#일위대가목록!A298","IA153300 →") -> IA153300 →
A14: 비탈규준틀(H=0.5m) | B14: 목재 | C14: 1 | D14: 개 | E14: =G14+I14+K14 -> 80770 | F14: =H14+J14+L14 -> 80770 | G14: =[183]일위대가목록!F299 -> 11998 | H14: =TRUNC(G14*C14,0) -> 11998 | I14: =[183]일위대가목록!G299 -> 68235 | J14: =TRUNC(I14*C14,0) -> 68235 | K14: =[183]일위대가목록!H299 -> 537 | L14: =TRUNC(K14*C14,0) -> 537 | M14: 품셈(공통)2-2-7,2-5-1, 미정립 3.1 | P14: 100 | R14: IA200100 | T14: T | Z14: =H324+H325+H326+H327+H328+H329+H330+H331+H332+H333+H334+H335+H336+H337+H338+H339+H340+H341+H342+H343+H344+H345+H346+H347+H348+H349+H350+H351+H352+H353 -> 9707512 | AA14: =J324+J325+J326+J327+J328+J329+J330+J331+J332+J333+J334+J335+J336+J337+J338+J339+J340+J341+J342+J343+J344+J345+J346+J347+J348+J349+J350+J351+J352+J353 -> 9806217 | AB14: =L324+L325+L326+L327+L328+L329+L330+L331+L332+L333+L334+L335+L336+L337+L338+L339+L340+L341+L342+L343+L344+L345+L346+L347+L348+L349+L350+L351+L352+L353 -> 1473475 | BI14: =HYPERLINK("#일위대가목록!A299","IA200100 →") -> IA200100 →
A15: 수평규준틀(H=2.4m) | B15: 목재 | C15: 1 | D15: 개 | E15: =G15+I15+K15 -> 111343 | F15: =H15+J15+L15 -> 111343 | G15: =[183]일위대가목록!F300 -> 19794 | H15: =TRUNC(G15*C15,0) -> 19794 | I15: =[183]일위대가목록!G300 -> 90620 | J15: =TRUNC(I15*C15,0) -> 90620 | K15: =[183]일위대가목록!H300 -> 929 | L15: =TRUNC(K15*C15,0) -> 929 | M15: 품셈(공통)2-2-7,2-5-2, 미정립 3.2 | P15: 110 | R15: IA201100 | T15: T | Z15: =H354+H355+H356+H357+H358+H359+H360+H361+H362+H363+H364+H365+H366+H367+H368+H369+H370+H371+H372+H373+H374+H375+H376+H377+H378+H379+H380+H381+H382+H383 -> 25418042 | AA15: =J354+J355+J356+J357+J358+J359+J360+J361+J362+J363+J364+J365+J366+J367+J368+J369+J370+J371+J372+J373+J374+J375+J376+J377+J378+J379+J380+J381+J382+J383 -> 31723220 | AB15: =L354+L355+L356+L357+L358+L359+L360+L361+L362+L363+L364+L365+L366+L367+L368+L369+L370+L371+L372+L373+L374+L375+L376+L377+L378+L379+L380+L381+L382+L383 -> 4058030 | BI15: =HYPERLINK("#일위대가목록!A300","IA201100 →") -> IA201100 →
A16: 수평규준틀(H=4.8m) | B16: 철재(6개월) | C16: 1 | D16: 개 | E16: =G16+I16+K16 -> 144756 | F16: =H16+J16+L16 -> 144756 | G16: =[183]일위대가목록!F301 -> 83778 | H16: =TRUNC(G16*C16,0) -> 83778 | I16: =[183]일위대가목록!G301 -> 59281 | J16: =TRUNC(I16*C16,0) -> 59281 | K16: =[183]일위대가목록!H301 -> 1697 | L16: =TRUNC(K16*C16,0) -> 1697 | M16: 품셈(공통)2-2-2,2-2-7,2-5-3 | P16: 120 | R16: IA202100 | T16: T | Z16: =H384+H385+H386+H387+H388+H389+H390+H391+H392+H393+H394+H395+H396+H397+H398+H399+H400+H401+H402+H403+H404+H405+H406+H407+H408+H409+H410+H411+H412+H413 -> 4674150 | AA16: =J384+J385+J386+J387+J388+J389+J390+J391+J392+J393+J394+J395+J396+J397+J398+J399+J400+J401+J402+J403+J404+J405+J406+J407+J408+J409+J410+J411+J412+J413 -> 11035711 | AB16: =L384+L385+L386+L387+L388+L389+L390+L391+L392+L393+L394+L395+L396+L397+L398+L399+L400+L401+L402+L403+L404+L405+L406+L407+L408+L409+L410+L411+L412+L413 -> 1465159 | BI16: =HYPERLINK("#일위대가목록!A301","IA202100 →") -> IA202100 →
A17: 수평규준틀(H=4.8m) | B17: 철재(12개월) | C17: 1 | D17: 개 | E17: =G17+I17+K17 -> 174841 | F17: =H17+J17+L17 -> 174841 | G17: =[183]일위대가목록!F302 -> 102130 | H17: =TRUNC(G17*C17,0) -> 102130 | I17: =[183]일위대가목록!G302 -> 71014 | J17: =TRUNC(I17*C17,0) -> 71014 | K17: =[183]일위대가목록!H302 -> 1697 | L17: =TRUNC(K17*C17,0) -> 1697 | M17: 품셈(공통)2-2-2,2-2-7,2-5-3 | P17: 130 | R17: IA202110 | T17: T | Z17: =H414+H415+H416+H417+H418+H419+H420+H421+H422+H423+H424+H425+H426+H427+H428+H429+H430+H431+H432+H433+H434+H435+H436+H437+H438+H439+H440+H441+H442+H443 -> 2100548 | AA17: =J414+J415+J416+J417+J418+J419+J420+J421+J422+J423+J424+J425+J426+J427+J428+J429+J430+J431+J432+J433+J434+J435+J436+J437+J438+J439+J440+J441+J442+J443 -> 779523 | AB17: =L414+L415+L416+L417+L418+L419+L420+L421+L422+L423+L424+L425+L426+L427+L428+L429+L430+L431+L432+L433+L434+L435+L436+L437+L438+L439+L440+L441+L442+L443 -> 133242 | BI17: =HYPERLINK("#일위대가목록!A302","IA202110 →") -> IA202110 →
A18: 수평규준틀(H=5.4m) | B18: 철재(6개월) | C18: 1 | D18: 개 | E18: =G18+I18+K18 -> 166096 | F18: =H18+J18+L18 -> 166096 | G18: =[183]일위대가목록!F303 -> 93130 | H18: =TRUNC(G18*C18,0) -> 93130 | I18: =[183]일위대가목록!G303 -> 71014 | J18: =TRUNC(I18*C18,0) -> 71014 | K18: =[183]일위대가목록!H303 -> 1952 | L18: =TRUNC(K18*C18,0) -> 1952 | M18: 품셈(공통)2-2-2,2-2-7,2-5-3 | P18: 140 | R18: IA202200 | T18: T | Z18: =H444+H445+H446+H447+H448+H449+H450+H451+H452+H453+H454+H455+H456+H457+H458+H459+H460+H461+H462+H463+H464+H465+H466+H467+H468+H469+H470+H471+H472+H473 -> 2115179 | AA18: =J444+J445+J446+J447+J448+J449+J450+J451+J452+J453+J454+J455+J456+J457+J458+J459+J460+J461+J462+J463+J464+J465+J466+J467+J468+J469+J470+J471+J472+J473 -> 3502177 | AB18: =L444+L445+L446+L447+L448+L449+L450+L451+L452+L453+L454+L455+L456+L457+L458+L459+L460+L461+L462+L463+L464+L465+L466+L467+L468+L469+L470+L471+L472+L473 -> 1867142 | BI18: =HYPERLINK("#일위대가목록!A303","IA202200 →") -> IA202200 →
A19: 수평규준틀(H=5.4m) | B19: 철재(12개월) | C19: 1 | D19: 개 | E19: =G19+I19+K19 -> 187096 | F19: =H19+J19+L19 -> 187096 | G19: =[183]일위대가목록!F304 -> 114130 | H19: =TRUNC(G19*C19,0) -> 114130 | I19: =[183]일위대가목록!G304 -> 71014 | J19: =TRUNC(I19*C19,0) -> 71014 | K19: =[183]일위대가목록!H304 -> 1952 | L19: =TRUNC(K19*C19,0) -> 1952 | M19: 품셈(공통)2-2-2,2-2-7,2-5-3 | P19: 150 | R19: IA202210 | T19: T | Z19: =H474+H475+H476+H477+H478+H479+H480+H481+H482+H483+H484+H485+H486+H487+H488+H489+H490+H491+H492+H493+H494+H495+H496+H497+H498+H499+H500+H501+H502+H503 -> 1250926 | AA19: =J474+J475+J476+J477+J478+J479+J480+J481+J482+J483+J484+J485+J486+J487+J488+J489+J490+J491+J492+J493+J494+J495+J496+J497+J498+J499+J500+J501+J502+J503 -> 5949713 | AB19: =L474+L475+L476+L477+L478+L479+L480+L481+L482+L483+L484+L485+L486+L487+L488+L489+L490+L491+L492+L493+L494+L495+L496+L497+L498+L499+L500+L501+L502+L503 -> 640697 | BI19: =HYPERLINK("#일위대가목록!A304","IA202210 →") -> IA202210 →
A20: 수평규준틀(H=6.6m) | B20: 철재(6개월) | C20: 1 | D20: 개 | E20: =G20+I20+K20 -> 180021 | F20: =H20+J20+L20 -> 180021 | G20: =[183]일위대가목록!F305 -> 106630 | H20: =TRUNC(G20*C20,0) -> 106630 | I20: =[183]일위대가목록!G305 -> 71014 | J20: =TRUNC(I20*C20,0) -> 71014 | K20: =[183]일위대가목록!H305 -> 2377 | L20: =TRUNC(K20*C20,0) -> 2377 | M20: 품셈(공통)2-2-2,2-2-7,2-5-3 | P20: 160 | R20: IA202300 | T20: T | Z20: =H504+H505+H506+H507+H508+H509+H510+H511+H512+H513+H514+H515+H516+H517+H518+H519+H520+H521+H522+H523+H524+H525+H526+H527+H528+H529+H530+H531+H532+H533 -> 4762114 | AA20: =J504+J505+J506+J507+J508+J509+J510+J511+J512+J513+J514+J515+J516+J517+J518+J519+J520+J521+J522+J523+J524+J525+J526+J527+J528+J529+J530+J531+J532+J533 -> 8556112 | AB20: =L504+L505+L506+L507+L508+L509+L510+L511+L512+L513+L514+L515+L516+L517+L518+L519+L520+L521+L522+L523+L524+L525+L526+L527+L528+L529+L530+L531+L532+L533 -> 514151 | BI20: =HYPERLINK("#일위대가목록!A305","IA202300 →") -> IA202300 →
A21: 수평규준틀(H=6.6m) | B21: 철재(12개월) | C21: 1 | D21: 개 | E21: =G21+I21+K21 -> 205521 | F21: =H21+J21+L21 -> 205521 | G21: =[183]일위대가목록!F306 -> 132130 | H21: =TRUNC(G21*C21,0) -> 132130 | I21: =[183]일위대가목록!G306 -> 71014 | J21: =TRUNC(I21*C21,0) -> 71014 | K21: =[183]일위대가목록!H306 -> 2377 | L21: =TRUNC(K21*C21,0) -> 2377 | M21: 품셈(공통)2-2-2,2-2-7,2-5-3 | P21: 170 | R21: IA202310 | T21: T | Z21: =H534+H535+H536+H537+H538+H539+H540+H541+H542+H543+H544+H545+H546+H547+H548+H549+H550+H551+H552+H553+H554+H555+H556+H557+H558+H559+H560+H561+H562+H563 -> 1273267 | AA21: =J534+J535+J536+J537+J538+J539+J540+J541+J542+J543+J544+J545+J546+J547+J548+J549+J550+J551+J552+J553+J554+J555+J556+J557+J558+J559+J560+J561+J562+J563 -> 1166349 | AB21: =L534+L535+L536+L537+L538+L539+L540+L541+L542+L543+L544+L545+L546+L547+L548+L549+L550+L551+L552+L553+L554+L555+L556+L557+L558+L559+L560+L561+L562+L563 -> 10561 | BI21: =HYPERLINK("#일위대가목록!A306","IA202310 →") -> IA202310 →
A22: 강관비계(6개월) | B22: H=0-10m이하 | C22: 1 | D22: ㎡ | E22: =G22+I22+K22 -> 17714 | F22: =H22+J22+L22 -> 17714 | G22: =[183]일위대가목록!F307 -> 347 | H22: =TRUNC(G22*C22,0) -> 347 | I22: =[183]일위대가목록!G307 -> 17367 | J22: =TRUNC(I22*C22,0) -> 17367 | K22: =[183]일위대가목록!H307 -> 0 | L22: =TRUNC(K22*C22,0) -> 0 | M22: 품셈(공통)2-2-5, 2-7-1 | P22: 180 | R22: IA400100 | T22: T | Z22: =H564+H565+H566+H567+H568+H569+H570+H571+H572+H573+H574+H575+H576+H577+H578+H579+H580+H581+H582+H583+H584+H585+H586+H587+H588+H589+H590+H591+H592+H593 -> 1666659 | AA22: =J564+J565+J566+J567+J568+J569+J570+J571+J572+J573+J574+J575+J576+J577+J578+J579+J580+J581+J582+J583+J584+J585+J586+J587+J588+J589+J590+J591+J592+J593 -> 489998 | AB22: =L564+L565+L566+L567+L568+L569+L570+L571+L572+L573+L574+L575+L576+L577+L578+L579+L580+L581+L582+L583+L584+L585+L586+L587+L588+L589+L590+L591+L592+L593 -> 0 | BI22: =HYPERLINK("#일위대가목록!A307","IA400100 →") -> IA400100 →
A23: 강관비계(6개월) | B23: H=10-20m이하 | C23: 1 | D23: ㎡ | E23: =G23+I23+K23 -> 20564 | F23: =H23+J23+L23 -> 20564 | G23: =[183]일위대가목록!F308 -> 403 | H23: =TRUNC(G23*C23,0) -> 403 | I23: =[183]일위대가목록!G308 -> 20161 | J23: =TRUNC(I23*C23,0) -> 20161 | K23: =[183]일위대가목록!H308 -> 0 | L23: =TRUNC(K23*C23,0) -> 0 | M23: 품셈(공통)2-2-5, 2-7-1 | P23: 190 | R23: IA400110 | T23: T | Z23: =H594+H595+H596+H597+H598+H599+H600+H601+H602+H603+H604+H605+H606+H607+H608+H609+H610+H611+H612+H613+H614+H615+H616+H617+H618+H619+H620+H621+H622+H623 -> 44708000 | AA23: =J594+J595+J596+J597+J598+J599+J600+J601+J602+J603+J604+J605+J606+J607+J608+J609+J610+J611+J612+J613+J614+J615+J616+J617+J618+J619+J620+J621+J622+J623 -> 2235400 | AB23: =L594+L595+L596+L597+L598+L599+L600+L601+L602+L603+L604+L605+L606+L607+L608+L609+L610+L611+L612+L613+L614+L615+L616+L617+L618+L619+L620+L621+L622+L623 -> 0 | BI23: =HYPERLINK("#일위대가목록!A308","IA400110 →") -> IA400110 →
A24: 강관비계(6개월) | B24: H=20-30m이하 | C24: 1 | D24: ㎡ | E24: =G24+I24+K24 -> 23415 | F24: =H24+J24+L24 -> 23415 | G24: =[183]일위대가목록!F309 -> 459 | H24: =TRUNC(G24*C24,0) -> 459 | I24: =[183]일위대가목록!G309 -> 22956 | J24: =TRUNC(I24*C24,0) -> 22956 | K24: =[183]일위대가목록!H309 -> 0 | L24: =TRUNC(K24*C24,0) -> 0 | M24: 품셈(공통)2-2-5, 2-7-1 | P24: 200 | R24: IA400120 | T24: T | Z24: =H624+H625+H626+H627+H628+H629+H630+H631+H632+H633+H634+H635+H636+H637+H638+H639+H640+H641+H642+H643+H644+H645+H646+H647+H648+H649+H650+H651+H652+H653 -> 16995385 | AA24: =J624+J625+J626+J627+J628+J629+J630+J631+J632+J633+J634+J635+J636+J637+J638+J639+J640+J641+J642+J643+J644+J645+J646+J647+J648+J649+J650+J651+J652+J653 -> 47587199 | AB24: =L624+L625+L626+L627+L628+L629+L630+L631+L632+L633+L634+L635+L636+L637+L638+L639+L640+L641+L642+L643+L644+L645+L646+L647+L648+L649+L650+L651+L652+L653 -> 4866 | BI24: =HYPERLINK("#일위대가목록!A309","IA400120 →") -> IA400120 →
A25: 강관비계(12개월) | B25: H=0-10m이하 | C25: 1 | D25: ㎡ | E25: =G25+I25+K25 -> 17714 | F25: =H25+J25+L25 -> 17714 | G25: =[183]일위대가목록!F310 -> 347 | H25: =TRUNC(G25*C25,0) -> 347 | I25: =[183]일위대가목록!G310 -> 17367 | J25: =TRUNC(I25*C25,0) -> 17367 | K25: =[183]일위대가목록!H310 -> 0 | L25: =TRUNC(K25*C25,0) -> 0 | M25: 품셈(공통)2-2-5, 2-7-1 | P25: 210 | R25: IA400200 | T25: T | Z25: =H654+H655+H656+H657+H658+H659+H660+H661+H662+H663+H664+H665+H666+H667+H668+H669+H670+H671+H672+H673+H674+H675+H676+H677+H678+H679+H680+H681+H682+H683 -> 19293 | AA25: =J654+J655+J656+J657+J658+J659+J660+J661+J662+J663+J664+J665+J666+J667+J668+J669+J670+J671+J672+J673+J674+J675+J676+J677+J678+J679+J680+J681+J682+J683 -> 438655 | AB25: =L654+L655+L656+L657+L658+L659+L660+L661+L662+L663+L664+L665+L666+L667+L668+L669+L670+L671+L672+L673+L674+L675+L676+L677+L678+L679+L680+L681+L682+L683 -> 21818 | BI25: =HYPERLINK("#일위대가목록!A310","IA400200 →") -> IA400200 →
A26: 강관비계(12개월) | B26: H=10-20m이하 | C26: 1 | D26: ㎡ | E26: =G26+I26+K26 -> 20564 | F26: =H26+J26+L26 -> 20564 | G26: =[183]일위대가목록!F311 -> 403 | H26: =TRUNC(G26*C26,0) -> 403 | I26: =[183]일위대가목록!G311 -> 20161 | J26: =TRUNC(I26*C26,0) -> 20161 | K26: =[183]일위대가목록!H311 -> 0 | L26: =TRUNC(K26*C26,0) -> 0 | M26: 품셈(공통)2-2-5, 2-7-1 | P26: 220 | R26: IA400210 | T26: T | Z26: =H684+H685+H686+H687+H688+H689+H690+H691+H692+H693+H694+H695+H696+H697+H698+H699+H700+H701+H702+H703+H704+H705+H706+H707+H708+H709+H710+H711+H712+H713 -> 10237093 | AA26: =J684+J685+J686+J687+J688+J689+J690+J691+J692+J693+J694+J695+J696+J697+J698+J699+J700+J701+J702+J703+J704+J705+J706+J707+J708+J709+J710+J711+J712+J713 -> 4641641 | AB26: =L684+L685+L686+L687+L688+L689+L690+L691+L692+L693+L694+L695+L696+L697+L698+L699+L700+L701+L702+L703+L704+L705+L706+L707+L708+L709+L710+L711+L712+L713 -> 1078647 | BI26: =HYPERLINK("#일위대가목록!A311","IA400210 →") -> IA400210 →
A27: 강관비계(12개월) | B27: H=20-30m이하 | C27: 1 | D27: ㎡ | E27: =G27+I27+K27 -> 23415 | F27: =H27+J27+L27 -> 23415 | G27: =[183]일위대가목록!F312 -> 459 | H27: =TRUNC(G27*C27,0) -> 459 | I27: =[183]일위대가목록!G312 -> 22956 | J27: =TRUNC(I27*C27,0) -> 22956 | K27: =[183]일위대가목록!H312 -> 0 | L27: =TRUNC(K27*C27,0) -> 0 | M27: 품셈(공통)2-2-5, 2-7-1 | P27: 230 | R27: IA400220 | T27: T | Z27: =H714+H715+H716+H717+H718+H719+H720+H721+H722+H723+H724+H725+H726+H727+H728+H729+H730+H731+H732+H733+H734+H735+H736+H737+H738+H739+H740+H741+H742+H743 -> 19006295 | AA27: =J714+J715+J716+J717+J718+J719+J720+J721+J722+J723+J724+J725+J726+J727+J728+J729+J730+J731+J732+J733+J734+J735+J736+J737+J738+J739+J740+J741+J742+J743 -> 4758189 | AB27: =L714+L715+L716+L717+L718+L719+L720+L721+L722+L723+L724+L725+L726+L727+L728+L729+L730+L731+L732+L733+L734+L735+L736+L737+L738+L739+L740+L741+L742+L743 -> 437716 | BI27: =HYPERLINK("#일위대가목록!A312","IA400220 →") -> IA400220 →
A28: 시스템비계 설치 및 해체(6개월) | B28: H=10m이하 | C28: 1 | D28: ㎡ | E28: =G28+I28+K28 -> 12875 | F28: =H28+J28+L28 -> 12875 | G28: =[183]일위대가목록!F313 -> 0 | H28: =TRUNC(G28*C28,0) -> 0 | I28: =[183]일위대가목록!G313 -> 12875 | J28: =TRUNC(I28*C28,0) -> 12875 | K28: =[183]일위대가목록!H313 -> 0 | L28: =TRUNC(K28*C28,0) -> 0 | M28: 품셈(공통)2-7-2 | P28: 240 | R28: IA403200 | T28: T | Z28: =H744+H745+H746+H747+H748+H749+H750+H751+H752+H753+H754+H755+H756+H757+H758+H759+H760+H761+H762+H763+H764+H765+H766+H767+H768+H769+H770+H771+H772+H773 -> 904918 | AA28: =J744+J745+J746+J747+J748+J749+J750+J751+J752+J753+J754+J755+J756+J757+J758+J759+J760+J761+J762+J763+J764+J765+J766+J767+J768+J769+J770+J771+J772+J773 -> 821064 | AB28: =L744+L745+L746+L747+L748+L749+L750+L751+L752+L753+L754+L755+L756+L757+L758+L759+L760+L761+L762+L763+L764+L765+L766+L767+L768+L769+L770+L771+L772+L773 -> 103293 | BI28: =HYPERLINK("#일위대가목록!A313","IA403200 →") -> IA403200 →
A29: 시스템비계 설치 및 해체(12개월) | B29: H=10m이하 | C29: 1 | D29: ㎡ | E29: =G29+I29+K29 -> 12875 | F29: =H29+J29+L29 -> 12875 | G29: =[183]일위대가목록!F314 -> 0 | H29: =TRUNC(G29*C29,0) -> 0 | I29: =[183]일위대가목록!G314 -> 12875 | J29: =TRUNC(I29*C29,0) -> 12875 | K29: =[183]일위대가목록!H314 -> 0 | L29: =TRUNC(K29*C29,0) -> 0 | M29: 품셈(공통)2-7-2 | P29: 250 | R29: IA403400 | T29: T | Z29: =H774+H775+H776+H777+H778+H779+H780+H781+H782+H783+H784+H785+H786+H787+H788+H789+H790+H791+H792 -> 133747904 | AA29: =J774+J775+J776+J777+J778+J779+J780+J781+J782+J783+J784+J785+J786+J787+J788+J789+J790+J791+J792 -> 926126215 | AB29: =L774+L775+L776+L777+L778+L779+L780+L781+L782+L783+L784+L785+L786+L787+L788+L789+L790+L791+L792 -> 263524139 | BI29: =HYPERLINK("#일위대가목록!A314","IA403400 →") -> IA403400 →
A30: 시스템비계 설치 및 해체(6개월) | B30: H=10m~20m이하 | C30: 1 | D30: ㎡ | E30: =G30+I30+K30 -> 15669 | F30: =H30+J30+L30 -> 15669 | G30: =[183]일위대가목록!F315 -> 0 | H30: =TRUNC(G30*C30,0) -> 0 | I30: =[183]일위대가목록!G315 -> 15669 | J30: =TRUNC(I30*C30,0) -> 15669 | K30: =[183]일위대가목록!H315 -> 0 | L30: =TRUNC(K30*C30,0) -> 0 | M30: 품셈(공통)2-7-2 | P30: 260 | R30: IA403600 | T30: T | BI30: =HYPERLINK("#일위대가목록!A315","IA403600 →") -> IA403600 →
A31: 시스템비계 설치 및 해체(12개월) | B31: H=10m~20m이하 | C31: 1 | D31: ㎡ | E31: =G31+I31+K31 -> 15669 | F31: =H31+J31+L31 -> 15669 | G31: =[183]일위대가목록!F316 -> 0 | H31: =TRUNC(G31*C31,0) -> 0 | I31: =[183]일위대가목록!G316 -> 15669 | J31: =TRUNC(I31*C31,0) -> 15669 | K31: =[183]일위대가목록!H316 -> 0 | L31: =TRUNC(K31*C31,0) -> 0 | M31: 품셈(공통)2-7-2 | P31: 270 | R31: IA403800 | T31: T | BI31: =HYPERLINK("#일위대가목록!A316","IA403800 →") -> IA403800 →
A32: 시스템비계 설치 및 해체(6개월) | B32: H=20m~30m이하 | C32: 1 | D32: ㎡ | E32: =G32+I32+K32 -> 18463 | F32: =H32+J32+L32 -> 18463 | G32: =[183]일위대가목록!F317 -> 0 | H32: =TRUNC(G32*C32,0) -> 0 | I32: =[183]일위대가목록!G317 -> 18463 | J32: =TRUNC(I32*C32,0) -> 18463 | K32: =[183]일위대가목록!H317 -> 0 | L32: =TRUNC(K32*C32,0) -> 0 | M32: 품셈(공통)2-7-2 | P32: 280 | R32: IA404000 | T32: T | BI32: =HYPERLINK("#일위대가목록!A317","IA404000 →") -> IA404000 →
A33: 시스템비계 설치 및 해체(12개월) | B33: H=20m~30m이하 | C33: 1 | D33: ㎡ | E33: =G33+I33+K33 -> 18463 | F33: =H33+J33+L33 -> 18463 | G33: =[183]일위대가목록!F318 -> 0 | H33: =TRUNC(G33*C33,0) -> 0 | I33: =[183]일위대가목록!G318 -> 18463 | J33: =TRUNC(I33*C33,0) -> 18463 | K33: =[183]일위대가목록!H318 -> 0 | L33: =TRUNC(K33*C33,0) -> 0 | M33: 품셈(공통)2-7-2 | P33: 290 | R33: IA404200 | T33: T | BI33: =HYPERLINK("#일위대가목록!A318","IA404200 →") -> IA404200 →
A34: 강관동바리(3개월) | B34: H=0-2.5m이하 | C34: 1 | D34: 공㎥ | E34: =G34+I34+K34 -> 18298 | F34: =H34+J34+L34 -> 18298 | G34: =[183]일위대가목록!F319 -> 0 | H34: =TRUNC(G34*C34,0) -> 0 | I34: =[183]일위대가목록!G319 -> 18298 | J34: =TRUNC(I34*C34,0) -> 18298 | K34: =[183]일위대가목록!H319 -> 0 | L34: =TRUNC(K34*C34,0) -> 0 | M34: 품셈(공통)2-2-4, 2-6-1 | P34: 300 | R34: IA406000 | T34: T | BI34: =HYPERLINK("#일위대가목록!A319","IA406000 →") -> IA406000 →
A35: 강관동바리(3개월) | B35: H=2.5-3.5m이하 | C35: 1 | D35: 공㎥ | E35: =G35+I35+K35 -> 19729 | F35: =H35+J35+L35 -> 19729 | G35: =[183]일위대가목록!F320 -> 0 | H35: =TRUNC(G35*C35,0) -> 0 | I35: =[183]일위대가목록!G320 -> 19729 | J35: =TRUNC(I35*C35,0) -> 19729 | K35: =[183]일위대가목록!H320 -> 0 | L35: =TRUNC(K35*C35,0) -> 0 | M35: 품셈(공통)2-2-4, 2-6-1 | P35: 310 | R35: IA406010 | T35: T | BI35: =HYPERLINK("#일위대가목록!A320","IA406010 →") -> IA406010 →
A36: 강관동바리(3개월) | B36: H=3.5-4.2m이하 | C36: 1 | D36: 공㎥ | E36: =G36+I36+K36 -> 21433 | F36: =H36+J36+L36 -> 21433 | G36: =[183]일위대가목록!F321 -> 0 | H36: =TRUNC(G36*C36,0) -> 0 | I36: =[183]일위대가목록!G321 -> 21433 | J36: =TRUNC(I36*C36,0) -> 21433 | K36: =[183]일위대가목록!H321 -> 0 | L36: =TRUNC(K36*C36,0) -> 0 | M36: 품셈(공통)2-2-4, 2-6-1 | P36: 320 | R36: IA406020 | T36: T | BI36: =HYPERLINK("#일위대가목록!A321","IA406020 →") -> IA406020 →
A37: 강관동바리(6개월) | B37: H=0-2.5m이하 | C37: 1 | D37: 공㎥ | E37: =G37+I37+K37 -> 18298 | F37: =H37+J37+L37 -> 18298 | G37: =[183]일위대가목록!F322 -> 0 | H37: =TRUNC(G37*C37,0) -> 0 | I37: =[183]일위대가목록!G322 -> 18298 | J37: =TRUNC(I37*C37,0) -> 18298 | K37: =[183]일위대가목록!H322 -> 0 | L37: =TRUNC(K37*C37,0) -> 0 | M37: 품셈(공통)2-2-4, 2-6-1 | P37: 330 | R37: IA406100 | T37: T | BI37: =HYPERLINK("#일위대가목록!A322","IA406100 →") -> IA406100 →
A38: 강관동바리(6개월) | B38: H=2.5-3.5m이하 | C38: 1 | D38: 공㎥ | E38: =G38+I38+K38 -> 19729 | F38: =H38+J38+L38 -> 19729 | G38: =[183]일위대가목록!F323 -> 0 | H38: =TRUNC(G38*C38,0) -> 0 | I38: =[183]일위대가목록!G323 -> 19729 | J38: =TRUNC(I38*C38,0) -> 19729 | K38: =[183]일위대가목록!H323 -> 0 | L38: =TRUNC(K38*C38,0) -> 0 | M38: 품셈(공통)2-2-4, 2-6-1 | P38: 340 | R38: IA406110 | T38: T | BI38: =HYPERLINK("#일위대가목록!A323","IA406110 →") -> IA406110 →
A39: 강관동바리(6개월) | B39: H=3.5-4.2m이하 | C39: 1 | D39: 공㎥ | E39: =G39+I39+K39 -> 21433 | F39: =H39+J39+L39 -> 21433 | G39: =[183]일위대가목록!F324 -> 0 | H39: =TRUNC(G39*C39,0) -> 0 | I39: =[183]일위대가목록!G324 -> 21433 | J39: =TRUNC(I39*C39,0) -> 21433 | K39: =[183]일위대가목록!H324 -> 0 | L39: =TRUNC(K39*C39,0) -> 0 | M39: 품셈(공통)2-2-4, 2-6-1 | P39: 350 | R39: IA406120 | T39: T | BI39: =HYPERLINK("#일위대가목록!A324","IA406120 →") -> IA406120 →
A40: 강관동바리(12개월) | B40: H=0-2.5m이하 | C40: 1 | D40: 공㎥ | E40: =G40+I40+K40 -> 18298 | F40: =H40+J40+L40 -> 18298 | G40: =[183]일위대가목록!F325 -> 0 | H40: =TRUNC(G40*C40,0) -> 0 | I40: =[183]일위대가목록!G325 -> 18298 | J40: =TRUNC(I40*C40,0) -> 18298 | K40: =[183]일위대가목록!H325 -> 0 | L40: =TRUNC(K40*C40,0) -> 0 | M40: 품셈(공통)2-2-4, 2-6-1 | P40: 360 | R40: IA406200 | T40: T | BI40: =HYPERLINK("#일위대가목록!A325","IA406200 →") -> IA406200 →
A41: 강관동바리(12개월) | B41: H=2.5-3.5m이하 | C41: 1 | D41: 공㎥ | E41: =G41+I41+K41 -> 19729 | F41: =H41+J41+L41 -> 19729 | G41: =[183]일위대가목록!F326 -> 0 | H41: =TRUNC(G41*C41,0) -> 0 | I41: =[183]일위대가목록!G326 -> 19729 | J41: =TRUNC(I41*C41,0) -> 19729 | K41: =[183]일위대가목록!H326 -> 0 | L41: =TRUNC(K41*C41,0) -> 0 | M41: 품셈(공통)2-2-4, 2-6-1 | P41: 370 | R41: IA406210 | T41: T | BI41: =HYPERLINK("#일위대가목록!A326","IA406210 →") -> IA406210 →
A42: 강관동바리(12개월) | B42: H=3.5-4.2m이하 | C42: 1 | D42: 공㎥ | E42: =G42+I42+K42 -> 21433 | F42: =H42+J42+L42 -> 21433 | G42: =[183]일위대가목록!F327 -> 0 | H42: =TRUNC(G42*C42,0) -> 0 | I42: =[183]일위대가목록!G327 -> 21433 | J42: =TRUNC(I42*C42,0) -> 21433 | K42: =[183]일위대가목록!H327 -> 0 | L42: =TRUNC(K42*C42,0) -> 0 | M42: 품셈(공통)2-2-4, 2-6-1 | P42: 380 | R42: IA406220 | T42: T | BI42: =HYPERLINK("#일위대가목록!A327","IA406220 →") -> IA406220 →
A43: 강관동바리 수평연결재(3개월) | B43: 1단설치일때 | C43: 1 | D43: ㎡ | E43: =G43+I43+K43 -> 7154 | F43: =H43+J43+L43 -> 7154 | G43: =[183]일위대가목록!F328 -> 0 | H43: =TRUNC(G43*C43,0) -> 0 | I43: =[183]일위대가목록!G328 -> 7154 | J43: =TRUNC(I43*C43,0) -> 7154 | K43: =[183]일위대가목록!H328 -> 0 | L43: =TRUNC(K43*C43,0) -> 0 | M43: 품셈(공통)2-2-5, 2-6-1 | P43: 390 | R43: IA420100 | T43: T | BI43: =HYPERLINK("#일위대가목록!A328","IA420100 →") -> IA420100 →
A44: 강관동바리 수평연결재(6개월) | B44: 1단설치일때 | C44: 1 | D44: ㎡ | E44: =G44+I44+K44 -> 7154 | F44: =H44+J44+L44 -> 7154 | G44: =[183]일위대가목록!F329 -> 0 | H44: =TRUNC(G44*C44,0) -> 0 | I44: =[183]일위대가목록!G329 -> 7154 | J44: =TRUNC(I44*C44,0) -> 7154 | K44: =[183]일위대가목록!H329 -> 0 | L44: =TRUNC(K44*C44,0) -> 0 | M44: 품셈(공통)2-2-5, 2-6-1 | P44: 400 | R44: IA420200 | T44: T | BI44: =HYPERLINK("#일위대가목록!A329","IA420200 →") -> IA420200 →
A45: 강관동바리 수평연결재(12개월) | B45: 1단설치일때 | C45: 1 | D45: ㎡ | E45: =G45+I45+K45 -> 7154 | F45: =H45+J45+L45 -> 7154 | G45: =[183]일위대가목록!F330 -> 0 | H45: =TRUNC(G45*C45,0) -> 0 | I45: =[183]일위대가목록!G330 -> 7154 | J45: =TRUNC(I45*C45,0) -> 7154 | K45: =[183]일위대가목록!H330 -> 0 | L45: =TRUNC(K45*C45,0) -> 0 | M45: 품셈(공통)2-2-5, 2-6-1 | P45: 410 | R45: IA420300 | T45: T | BI45: =HYPERLINK("#일위대가목록!A330","IA420300 →") -> IA420300 →
A46: 중기운반(덤프) | B46: 10.5ton | C46: 1 | D46: 대 | E46: =G46+I46+K46 -> 230024 | F46: =H46+J46+L46 -> 230024 | G46: =[183]일위대가목록!F3 -> 0 | H46: =TRUNC(G46*C46,0) -> 0 | I46: =[183]일위대가목록!G3 -> 0 | J46: =TRUNC(I46*C46,0) -> 0 | K46: =[183]일위대가목록!H3 -> 230024 | L46: =TRUNC(K46*C46,0) -> 230024 | M46: 품셈(공통)8-1-3 운반 및 수송 | P46: 420 | R46: IA800200 | T46: F | BI46: =HYPERLINK("#일위대가목록!A3","IA800200 →") -> IA800200 →
A47: 중기운반(덤프) | B47: 15ton | C47: 1 | D47: 대 | E47: =G47+I47+K47 -> 281456 | F47: =H47+J47+L47 -> 281456 | G47: =[183]일위대가목록!F4 -> 0 | H47: =TRUNC(G47*C47,0) -> 0 | I47: =[183]일위대가목록!G4 -> 0 | J47: =TRUNC(I47*C47,0) -> 0 | K47: =[183]일위대가목록!H4 -> 281456 | L47: =TRUNC(K47*C47,0) -> 281456 | M47: 품셈(공통)8-1-3 운반 및 수송 | P47: 430 | R47: IA800300 | T47: F | BI47: =HYPERLINK("#일위대가목록!A4","IA800300 →") -> IA800300 →
A48: 중기운반(트럭트레일러) | B48: 20ton | C48: 1 | D48: 대 | E48: =G48+I48+K48 -> 608107 | F48: =H48+J48+L48 -> 608107 | G48: =[183]일위대가목록!F5 -> 0 | H48: =TRUNC(G48*C48,0) -> 0 | I48: =[183]일위대가목록!G5 -> 0 | J48: =TRUNC(I48*C48,0) -> 0 | K48: =[183]일위대가목록!H5 -> 608107 | L48: =TRUNC(K48*C48,0) -> 608107 | M48: 품셈(공통)8-1-3, 미정립 9.1 | P48: 440 | R48: IA810100 | T48: F | BI48: =HYPERLINK("#일위대가목록!A5","IA810100 →") -> IA810100 →
A49: 중기운반(콘크리트펌프카) | B49: 32m[80~95㎥/hr] | C49: 1 | D49: 대 | E49: =G49+I49+K49 -> 428337 | F49: =H49+J49+L49 -> 428337 | G49: =[183]일위대가목록!F6 -> 0 | H49: =TRUNC(G49*C49,0) -> 0 | I49: =[183]일위대가목록!G6 -> 0 | J49: =TRUNC(I49*C49,0) -> 0 | K49: =[183]일위대가목록!H6 -> 428337 | L49: =TRUNC(K49*C49,0) -> 428337 | M49: 품셈(공통)8-1-3 운반 및 수송 | P49: 450 | R49: IA870100 | T49: F | BI49: =HYPERLINK("#일위대가목록!A6","IA870100 →") -> IA870100 →
A50: 간이흙막이 설치및해체(박스형,15일) | B50: H=3.0m이하(H=2m, 3.0*3.0m) | C50: 1 | D50: 개소 | E50: =G50+I50+K50 -> 1412464 | F50: =H50+J50+L50 -> 1412464 | G50: =[183]일위대가목록!F331 -> 1227001 | H50: =TRUNC(G50*C50,0) -> 1227001 | I50: =[183]일위대가목록!G331 -> 62684 | J50: =TRUNC(I50*C50,0) -> 62684 | K50: =[183]일위대가목록!H331 -> 122779 | L50: =TRUNC(K50*C50,0) -> 122779 | M50: 품셈(공통)2-10-4 | P50: 460 | R50: IB122800 | T50: T | BI50: =HYPERLINK("#일위대가목록!A331","IB122800 →") -> IB122800 →
A51: 간이흙막이 설치및해체(박스형,1개월) | B51: H=3.0m이하(H=2m, 3.0*3.0m) | C51: 1 | D51: 개소 | E51: =G51+I51+K51 -> 2637184 | F51: =H51+J51+L51 -> 2637184 | G51: =[183]일위대가목록!F332 -> 2451721 | H51: =TRUNC(G51*C51,0) -> 2451721 | I51: =[183]일위대가목록!G332 -> 62684 | J51: =TRUNC(I51*C51,0) -> 62684 | K51: =[183]일위대가목록!H332 -> 122779 | L51: =TRUNC(K51*C51,0) -> 122779 | M51: 품셈(공통)2-10-4 | P51: 470 | R51: IB122810 | T51: T | BI51: =HYPERLINK("#일위대가목록!A332","IB122810 →") -> IB122810 →
A52: 간이흙막이 설치및해체(박스형,15일) | B52: H=3.0m이하(H=2m, 4.0*4.0m) | C52: 1 | D52: 개소 | E52: =G52+I52+K52 -> 1693971 | F52: =H52+J52+L52 -> 1693971 | G52: =[183]일위대가목록!F333 -> 1489441 | H52: =TRUNC(G52*C52,0) -> 1489441 | I52: =[183]일위대가목록!G333 -> 62684 | J52: =TRUNC(I52*C52,0) -> 62684 | K52: =[183]일위대가목록!H333 -> 141846 | L52: =TRUNC(K52*C52,0) -> 141846 | M52: 품셈(공통)2-10-4 | P52: 480 | R52: IB122900 | T52: T | BI52: =HYPERLINK("#일위대가목록!A333","IB122900 →") -> IB122900 →
A53: 간이흙막이 설치및해체(박스형,1개월) | B53: H=3.0m이하(H=2m, 4.0*4.0m) | C53: 1 | D53: 개소 | E53: =G53+I53+K53 -> 3181131 | F53: =H53+J53+L53 -> 3181131 | G53: =[183]일위대가목록!F334 -> 2976601 | H53: =TRUNC(G53*C53,0) -> 2976601 | I53: =[183]일위대가목록!G334 -> 62684 | J53: =TRUNC(I53*C53,0) -> 62684 | K53: =[183]일위대가목록!H334 -> 141846 | L53: =TRUNC(K53*C53,0) -> 141846 | M53: 품셈(공통)2-10-4 | P53: 490 | R53: IB122910 | T53: T | BI53: =HYPERLINK("#일위대가목록!A334","IB122910 →") -> IB122910 →
A54: 간이흙막이 설치 및 해체(박스형,15일) | B54: H=3.0초과~4.0m이하(H=4m, 3.0*3.0m) | C54: 1 | D54: 개소 | E54: =G54+I54+K54 -> 1805915 | F54: =H54+J54+L54 -> 1805915 | G54: =[183]일위대가목록!F335 -> 1549341 | H54: =TRUNC(G54*C54,0) -> 1549341 | I54: =[183]일위대가목록!G335 -> 93557 | J54: =TRUNC(I54*C54,0) -> 93557 | K54: =[183]일위대가목록!H335 -> 163017 | L54: =TRUNC(K54*C54,0) -> 163017 | M54: 품셈(공통)2-10-4 | P54: 500 | R54: IB123000 | T54: T | BI54: =HYPERLINK("#일위대가목록!A335","IB123000 →") -> IB123000 →
A55: 간이흙막이 설치 및 해체(박스형,1개월) | B55: H=3.0초과~4.0m이하(H=4m, 3.0*3.0m) | C55: 1 | D55: 개소 | E55: =G55+I55+K55 -> 3351395 | F55: =H55+J55+L55 -> 3351395 | G55: =[183]일위대가목록!F336 -> 3094821 | H55: =TRUNC(G55*C55,0) -> 3094821 | I55: =[183]일위대가목록!G336 -> 93557 | J55: =TRUNC(I55*C55,0) -> 93557 | K55: =[183]일위대가목록!H336 -> 163017 | L55: =TRUNC(K55*C55,0) -> 163017 | M55: 품셈(공통)2-10-4 | P55: 510 | R55: IB123010 | T55: T | BI55: =HYPERLINK("#일위대가목록!A336","IB123010 →") -> IB123010 →
A56: 간이흙막이 설치 및 해체(박스형,15일) | B56: H=3.0초과~4.0m이하(H=4m, 4.0*4.0m) | C56: 1 | D56: 개소 | E56: =G56+I56+K56 -> 2277079 | F56: =H56+J56+L56 -> 2277079 | G56: =[183]일위대가목록!F337 -> 1986741 | H56: =TRUNC(G56*C56,0) -> 1986741 | I56: =[183]일위대가목록!G337 -> 93557 | J56: =TRUNC(I56*C56,0) -> 93557 | K56: =[183]일위대가목록!H337 -> 196781 | L56: =TRUNC(K56*C56,0) -> 196781 | M56: 품셈(공통)2-10-4 | P56: 520 | R56: IB123100 | T56: T | BI56: =HYPERLINK("#일위대가목록!A337","IB123100 →") -> IB123100 →
A57: 간이흙막이 설치 및 해체(박스형,1개월) | B57: H=3.0초과~4.0m이하(H=4m, 4.0*4.0m) | C57: 1 | D57: 개소 | E57: =G57+I57+K57 -> 4259959 | F57: =H57+J57+L57 -> 4259959 | G57: =[183]일위대가목록!F338 -> 3969621 | H57: =TRUNC(G57*C57,0) -> 3969621 | I57: =[183]일위대가목록!G338 -> 93557 | J57: =TRUNC(I57*C57,0) -> 93557 | K57: =[183]일위대가목록!H338 -> 196781 | L57: =TRUNC(K57*C57,0) -> 196781 | M57: 품셈(공통)2-10-4 | P57: 530 | R57: IB123110 | T57: T | BI57: =HYPERLINK("#일위대가목록!A338","IB123110 →") -> IB123110 →
A58: 조립식 간이흙막이 설치 및 해체(1개월 임대) | B58: H=3.0m, B=2.5m, L=30(m/조) | C58: 1 | D58: m | E58: =G58+I58+K58 -> 363564 | F58: =H58+J58+L58 -> 363564 | G58: =[183]일위대가목록!F339 -> 4036 | H58: =TRUNC(G58*C58,0) -> 4036 | I58: =[183]일위대가목록!G339 -> 80227 | J58: =TRUNC(I58*C58,0) -> 80227 | K58: =[183]일위대가목록!H339 -> 279301 | L58: =TRUNC(K58*C58,0) -> 279301 | M58: 품셈(공통)2-10-5 | P58: 540 | R58: IB133100 | T58: T | BI58: =HYPERLINK("#일위대가목록!A339","IB133100 →") -> IB133100 →
A59: 조립식 간이흙막이 설치 및 해체(1개월 임대) | B59: H=3.5m, B=2.5m, L=30(m/조) | C59: 1 | D59: m | E59: =G59+I59+K59 -> 451064 | F59: =H59+J59+L59 -> 451064 | G59: =[183]일위대가목록!F340 -> 7898 | H59: =TRUNC(G59*C59,0) -> 7898 | I59: =[183]일위대가목록!G340 -> 130371 | J59: =TRUNC(I59*C59,0) -> 130371 | K59: =[183]일위대가목록!H340 -> 312795 | L59: =TRUNC(K59*C59,0) -> 312795 | M59: 품셈 2-8-24 | P59: 550 | R59: IB134100 | T59: T | BI59: =HYPERLINK("#일위대가목록!A340","IB134100 →") -> IB134100 →
A60: 조립식 간이흙막이 설치 및 해체(1개월 임대) | B60: H=4.0m, B=3.5, L=30(m/조) | C60: 1 | D60: m | E60: =G60+I60+K60 -> 507405 | F60: =H60+J60+L60 -> 507405 | G60: =[183]일위대가목록!F341 -> 7898 | H60: =TRUNC(G60*C60,0) -> 7898 | I60: =[183]일위대가목록!G341 -> 130371 | J60: =TRUNC(I60*C60,0) -> 130371 | K60: =[183]일위대가목록!H341 -> 369136 | L60: =TRUNC(K60*C60,0) -> 369136 | M60: 품셈 2-8-24 | P60: 560 | R60: IB135100 | T60: T | BI60: =HYPERLINK("#일위대가목록!A341","IB135100 →") -> IB135100 →
A61: 조립식 간이흙막이 설치 및 해체(1개월 임대) | B61: H=5.0m, B=3.5, L=30(m/조) | C61: 1 | D61: m | E61: =G61+I61+K61 -> 744859 | F61: =H61+J61+L61 -> 744859 | G61: =[183]일위대가목록!F342 -> 12988 | H61: =TRUNC(G61*C61,0) -> 12988 | I61: =[183]일위대가목록!G342 -> 198546 | J61: =TRUNC(I61*C61,0) -> 198546 | K61: =[183]일위대가목록!H342 -> 533325 | L61: =TRUNC(K61*C61,0) -> 533325 | M61: 품셈 2-8-24 | P61: 570 | R61: IB136100 | T61: T | BI61: =HYPERLINK("#일위대가목록!A342","IB136100 →") -> IB136100 →
A62: 조립식 간이흙막이 설치 및 해체(1개월 임대) | B62: H=6.0m, B=4.5, L=30(m/조) | C62: 1 | D62: m | E62: =G62+I62+K62 -> 939588 | F62: =H62+J62+L62 -> 939588 | G62: =[183]일위대가목록!F343 -> 19307 | H62: =TRUNC(G62*C62,0) -> 19307 | I62: =[183]일위대가목록!G343 -> 289184 | J62: =TRUNC(I62*C62,0) -> 289184 | K62: =[183]일위대가목록!H343 -> 631097 | L62: =TRUNC(K62*C62,0) -> 631097 | M62: 품셈 2-8-24 | P62: 580 | R62: IB137100 | T62: T | BI62: =HYPERLINK("#일위대가목록!A343","IB137100 →") -> IB137100 →
A63: 조립식 간이흙막이 설치및해체(15일, 구입) | B63: H=3.0m, B=2.5m, L=30(m/조) | C63: 1 | D63: m | E63: =G63+I63+K63 -> 243631 | F63: =H63+J63+L63 -> 243631 | G63: =[183]일위대가목록!F344 -> 4036 | H63: =TRUNC(G63*C63,0) -> 4036 | I63: =[183]일위대가목록!G344 -> 80227 | J63: =TRUNC(I63*C63,0) -> 80227 | K63: =[183]일위대가목록!H344 -> 159368 | L63: =TRUNC(K63*C63,0) -> 159368 | M63: 품셈(공통)2-10-5 | P63: 590 | R63: IB153100 | T63: T | BI63: =HYPERLINK("#일위대가목록!A344","IB153100 →") -> IB153100 →
A64: 조립식 간이흙막이 설치및해체(20일, 구입) | B64: H=3.0m, B=2.5m, L=30(m/조) | C64: 1 | D64: m | E64: =G64+I64+K64 -> 286975 | F64: =H64+J64+L64 -> 286975 | G64: =[183]일위대가목록!F345 -> 4036 | H64: =TRUNC(G64*C64,0) -> 4036 | I64: =[183]일위대가목록!G345 -> 80227 | J64: =TRUNC(I64*C64,0) -> 80227 | K64: =[183]일위대가목록!H345 -> 202712 | L64: =TRUNC(K64*C64,0) -> 202712 | M64: 품셈(공통)2-10-5 | P64: 600 | R64: IB153110 | T64: T | BI64: =HYPERLINK("#일위대가목록!A345","IB153110 →") -> IB153110 →
A65: 조립식 간이흙막이 설치및해체(15일, 구입) | B65: H=3.5m, B=2.5m, L=30(m/조) | C65: 1 | D65: m | E65: =G65+I65+K65 -> 319101 | F65: =H65+J65+L65 -> 319101 | G65: =[183]일위대가목록!F346 -> 7898 | H65: =TRUNC(G65*C65,0) -> 7898 | I65: =[183]일위대가목록!G346 -> 130371 | J65: =TRUNC(I65*C65,0) -> 130371 | K65: =[183]일위대가목록!H346 -> 180832 | L65: =TRUNC(K65*C65,0) -> 180832 | M65: 품셈(공통)2-10-5 | P65: 610 | R65: IB154100 | T65: T | BI65: =HYPERLINK("#일위대가목록!A346","IB154100 →") -> IB154100 →
A66: 조립식 간이흙막이 설치및해체(20일, 구입) | B66: H=3.5m, B=2.5m, L=30(m/조) | C66: 1 | D66: m | E66: =G66+I66+K66 -> 366621 | F66: =H66+J66+L66 -> 366621 | G66: =[183]일위대가목록!F347 -> 7898 | H66: =TRUNC(G66*C66,0) -> 7898 | I66: =[183]일위대가목록!G347 -> 130371 | J66: =TRUNC(I66*C66,0) -> 130371 | K66: =[183]일위대가목록!H347 -> 228352 | L66: =TRUNC(K66*C66,0) -> 228352 | M66: 품셈(공통)2-10-5 | P66: 620 | R66: IB154110 | T66: T | BI66: =HYPERLINK("#일위대가목록!A347","IB154110 →") -> IB154110 →
A67: 조립식 간이흙막이 설치및해체(15일, 구입) | B67: H=4.0m, B=3.5, L=30(m/조) | C67: 1 | D67: m | E67: =G67+I67+K67 -> 350847 | F67: =H67+J67+L67 -> 350847 | G67: =[183]일위대가목록!F348 -> 7898 | H67: =TRUNC(G67*C67,0) -> 7898 | I67: =[183]일위대가목록!G348 -> 130371 | J67: =TRUNC(I67*C67,0) -> 130371 | K67: =[183]일위대가목록!H348 -> 212578 | L67: =TRUNC(K67*C67,0) -> 212578 | M67: 품셈(공통)2-10-5 | P67: 630 | R67: IB155100 | T67: T | BI67: =HYPERLINK("#일위대가목록!A348","IB155100 →") -> IB155100 →
A68: 조립식 간이흙막이 설치및해체(20일, 구입) | B68: H=4.0m, B=3.5, L=30(m/조) | C68: 1 | D68: m | E68: =G68+I68+K68 -> 407475 | F68: =H68+J68+L68 -> 407475 | G68: =[183]일위대가목록!F349 -> 7898 | H68: =TRUNC(G68*C68,0) -> 7898 | I68: =[183]일위대가목록!G349 -> 130371 | J68: =TRUNC(I68*C68,0) -> 130371 | K68: =[183]일위대가목록!H349 -> 269206 | L68: =TRUNC(K68*C68,0) -> 269206 | M68: 품셈(공통)2-10-5 | P68: 640 | R68: IB155110 | T68: T | BI68: =HYPERLINK("#일위대가목록!A349","IB155110 →") -> IB155110 →
A69: 조립식 간이흙막이 설치및해체(15일, 구입) | B69: H=5.0m, B=3.5, L=30(m/조) | C69: 1 | D69: m | E69: =G69+I69+K69 -> 513565 | F69: =H69+J69+L69 -> 513565 | G69: =[183]일위대가목록!F350 -> 12988 | H69: =TRUNC(G69*C69,0) -> 12988 | I69: =[183]일위대가목록!G350 -> 198546 | J69: =TRUNC(I69*C69,0) -> 198546 | K69: =[183]일위대가목록!H350 -> 302031 | L69: =TRUNC(K69*C69,0) -> 302031 | M69: 품셈(공통)2-10-5 | P69: 650 | R69: IB156100 | T69: T | BI69: =HYPERLINK("#일위대가목록!A350","IB156100 →") -> IB156100 →
A70: 조립식 간이흙막이 설치및해체(20일, 구입) | B70: H=5.0m, B=3.5, L=30(m/조) | C70: 1 | D70: m | E70: =G70+I70+K70 -> 592801 | F70: =H70+J70+L70 -> 592801 | G70: =[183]일위대가목록!F351 -> 12988 | H70: =TRUNC(G70*C70,0) -> 12988 | I70: =[183]일위대가목록!G351 -> 198546 | J70: =TRUNC(I70*C70,0) -> 198546 | K70: =[183]일위대가목록!H351 -> 381267 | L70: =TRUNC(K70*C70,0) -> 381267 | M70: 품셈(공통)2-10-5 | P70: 660 | R70: IB156110 | T70: T | BI70: =HYPERLINK("#일위대가목록!A351","IB156110 →") -> IB156110 →
A71: 조립식 간이흙막이 설치및해체(15일, 구입) | B71: H=6.0m, B=4.5, L=30(m/조) | C71: 1 | D71: m | E71: =G71+I71+K71 -> 667958 | F71: =H71+J71+L71 -> 667958 | G71: =[183]일위대가목록!F352 -> 19307 | H71: =TRUNC(G71*C71,0) -> 19307 | I71: =[183]일위대가목록!G352 -> 289184 | J71: =TRUNC(I71*C71,0) -> 289184 | K71: =[183]일위대가목록!H352 -> 359467 | L71: =TRUNC(K71*C71,0) -> 359467 | M71: 품셈(공통)2-10-5 | P71: 670 | R71: IB157100 | T71: T | BI71: =HYPERLINK("#일위대가목록!A352","IB157100 →") -> IB157100 →
A72: 조립식 간이흙막이 설치및해체(20일, 구입) | B72: H=6.0m, B=4.5, L=30(m/조) | C72: 1 | D72: m | E72: =G72+I72+K72 -> 759650 | F72: =H72+J72+L72 -> 759650 | G72: =[183]일위대가목록!F353 -> 19307 | H72: =TRUNC(G72*C72,0) -> 19307 | I72: =[183]일위대가목록!G353 -> 289184 | J72: =TRUNC(I72*C72,0) -> 289184 | K72: =[183]일위대가목록!H353 -> 451159 | L72: =TRUNC(K72*C72,0) -> 451159 | M72: 품셈(공통)2-10-5 | P72: 680 | R72: IB157110 | T72: T | BI72: =HYPERLINK("#일위대가목록!A353","IB157110 →") -> IB157110 →
A73: 인력터파기 | B73: 토사, 0-1m | C73: 1 | D73: ㎥ | E73: =G73+I73+K73 -> 62021 | F73: =H73+J73+L73 -> 62021 | G73: =[183]일위대가목록!F354 -> 0 | H73: =TRUNC(G73*C73,0) -> 0 | I73: =[183]일위대가목록!G354 -> 62021 | J73: =TRUNC(I73*C73,0) -> 62021 | K73: =[183]일위대가목록!H354 -> 0 | L73: =TRUNC(K73*C73,0) -> 0 | M73: 품셈(공통)3-2-1 인력굴착(토사) | P73: 690 | R73: IC200100 | T73: T | BI73: =HYPERLINK("#일위대가목록!A354","IC200100 →") -> IC200100 →
A74: 인력터파기 | B74: 견질토사, 0-1m | C74: 1 | D74: ㎥ | E74: =G74+I74+K74 -> 81957 | F74: =H74+J74+L74 -> 81957 | G74: =[183]일위대가목록!F355 -> 0 | H74: =TRUNC(G74*C74,0) -> 0 | I74: =[183]일위대가목록!G355 -> 81957 | J74: =TRUNC(I74*C74,0) -> 81957 | K74: =[183]일위대가목록!H355 -> 0 | L74: =TRUNC(K74*C74,0) -> 0 | M74: 품셈(공통)3-2-1 인력굴착(토사) | P74: 700 | R74: IC201100 | T74: T | BI74: =HYPERLINK("#일위대가목록!A355","IC201100 →") -> IC201100 →
A75: 인력터파기 | B75: 호박돌섞인토사, 0-1m | C75: 1 | D75: ㎥ | E75: =G75+I75+K75 -> 183849 | F75: =H75+J75+L75 -> 183849 | G75: =[183]일위대가목록!F356 -> 0 | H75: =TRUNC(G75*C75,0) -> 0 | I75: =[183]일위대가목록!G356 -> 183849 | J75: =TRUNC(I75*C75,0) -> 183849 | K75: =[183]일위대가목록!H356 -> 0 | L75: =TRUNC(K75*C75,0) -> 0 | M75: 품셈(공통)3-2-1 인력굴착(토사) | P75: 710 | R75: IC203100 | T75: T | BI75: =HYPERLINK("#일위대가목록!A356","IC203100 →") -> IC203100 →
A76: 암파쇄(기계적파쇄) | B76: 유압식 할암공법 | C76: 1 | D76: ㎥ | E76: =G76+I76+K76 -> 176920 | F76: =H76+J76+L76 -> 176920 | G76: =[183]일위대가목록!F357 -> 56632 | H76: =TRUNC(G76*C76,0) -> 56632 | I76: =[183]일위대가목록!G357 -> 107306 | J76: =TRUNC(I76*C76,0) -> 107306 | K76: =[183]일위대가목록!H357 -> 12982 | L76: =TRUNC(K76*C76,0) -> 12982 | M76: 품셈(공통)3-3-8 암파쇄(할암공법) | P76: 720 | R76: IC300090 | T76: T | BI76: =HYPERLINK("#일위대가목록!A357","IC300090 →") -> IC300090 →
A77: 암발파(미진동파쇄) | B77: 미진동굴착공법(TYPE-Ⅰ) | C77: 1 | D77: ㎥ | E77: =G77+I77+K77 -> 43471 | F77: =H77+J77+L77 -> 43471 | G77: =[183]일위대가목록!F358 -> 10618 | H77: =TRUNC(G77*C77,0) -> 10618 | I77: =[183]일위대가목록!G358 -> 28528 | J77: =TRUNC(I77*C77,0) -> 28528 | K77: =[183]일위대가목록!H358 -> 4325 | L77: =TRUNC(K77*C77,0) -> 4325 | M77: 품셈(공통)3-3-1 암발파(TYPE-1) | P77: 730 | R77: IC300100 | T77: T | BI77: =HYPERLINK("#일위대가목록!A358","IC300100 →") -> IC300100 →
A78: 암발파 | B78: 정밀진동제어발파(TYPE-Ⅱ) | C78: 1 | D78: ㎥ | E78: =G78+I78+K78 -> 31230 | F78: =H78+J78+L78 -> 31230 | G78: =[183]일위대가목록!F359 -> 10725 | H78: =TRUNC(G78*C78,0) -> 10725 | I78: =[183]일위대가목록!G359 -> 17377 | J78: =TRUNC(I78*C78,0) -> 17377 | K78: =[183]일위대가목록!H359 -> 3128 | L78: =TRUNC(K78*C78,0) -> 3128 | M78: 품셈(공통)3-3-2 암발파(TYPE-2) | P78: 740 | R78: IC300200 | T78: T | BI78: =HYPERLINK("#일위대가목록!A359","IC300200 →") -> IC300200 →
A79: 암발파 | B79: 소규모진동제어발파(TYPE-Ⅲ) | C79: 1 | D79: ㎥ | E79: =G79+I79+K79 -> 17544 | F79: =H79+J79+L79 -> 17544 | G79: =[183]일위대가목록!F360 -> 6447 | H79: =TRUNC(G79*C79,0) -> 6447 | I79: =[183]일위대가목록!G360 -> 9530 | J79: =TRUNC(I79*C79,0) -> 9530 | K79: =[183]일위대가목록!H360 -> 1567 | L79: =TRUNC(K79*C79,0) -> 1567 | M79: 품셈(공통)3-3-3 암발파(TYPE-3) | P79: 750 | R79: IC300220 | T79: T | BI79: =HYPERLINK("#일위대가목록!A360","IC300220 →") -> IC300220 →
A80: 암발파 | B80: 중규모진동제어발파(TYPE-Ⅳ) | C80: 1 | D80: ㎥ | E80: =G80+I80+K80 -> 9531 | F80: =H80+J80+L80 -> 9531 | G80: =[183]일위대가목록!F361 -> 3710 | H80: =TRUNC(G80*C80,0) -> 3710 | I80: =[183]일위대가목록!G361 -> 5051 | J80: =TRUNC(I80*C80,0) -> 5051 | K80: =[183]일위대가목록!H361 -> 770 | L80: =TRUNC(K80*C80,0) -> 770 | M80: 품셈(공통)3-3-4 암발파(TYPE-4) | P80: 760 | R80: IC300240 | T80: T | BI80: =HYPERLINK("#일위대가목록!A361","IC300240 →") -> IC300240 →
A81: 암발파 | B81: 일반발파(TYPE-Ⅴ) | C81: 1 | D81: ㎥ | E81: =G81+I81+K81 -> 6806 | F81: =H81+J81+L81 -> 6806 | G81: =[183]일위대가목록!F362 -> 2926 | H81: =TRUNC(G81*C81,0) -> 2926 | I81: =[183]일위대가목록!G362 -> 3309 | J81: =TRUNC(I81*C81,0) -> 3309 | K81: =[183]일위대가목록!H362 -> 571 | L81: =TRUNC(K81*C81,0) -> 571 | M81: 품셈(공통)3-3-5 암발파(TYPE-5) | P81: 770 | R81: IC300260 | T81: T | BI81: =HYPERLINK("#일위대가목록!A362","IC300260 →") -> IC300260 →
A82: 암발파 | B82: 대규모발파(TYPE-Ⅵ) | C82: 1 | D82: ㎥ | E82: =G82+I82+K82 -> 4925 | F82: =H82+J82+L82 -> 4925 | G82: =[183]일위대가목록!F363 -> 2578 | H82: =TRUNC(G82*C82,0) -> 2578 | I82: =[183]일위대가목록!G363 -> 1940 | J82: =TRUNC(I82*C82,0) -> 1940 | K82: =[183]일위대가목록!H363 -> 407 | L82: =TRUNC(K82*C82,0) -> 407 | M82: 품셈(공통)3-3-6 암발파(TYPE-6) | P82: 780 | R82: IC300280 | T82: T | BI82: =HYPERLINK("#일위대가목록!A363","IC300280 →") -> IC300280 →
A83: 암발파(암석절취) | B83: 소형브레이카 | C83: 1 | D83: ㎥ | E83: =G83+I83+K83 -> 50364 | F83: =H83+J83+L83 -> 50364 | G83: =[183]일위대가목록!F364 -> 8427 | H83: =TRUNC(G83*C83,0) -> 8427 | I83: =[183]일위대가목록!G364 -> 41345 | J83: =TRUNC(I83*C83,0) -> 41345 | K83: =[183]일위대가목록!H364 -> 592 | L83: =TRUNC(K83*C83,0) -> 592 | M83: 품셈(공통)3-3-7 암발파(소형브레이커) | P83: 790 | R83: IC300300 | T83: T | BI83: =HYPERLINK("#일위대가목록!A364","IC300300 →") -> IC300300 →
A84: 암발파(암석터파기) | B84: 소형브레이카 | C84: 1 | D84: ㎥ | E84: =G84+I84+K84 -> 72103 | F84: =H84+J84+L84 -> 72103 | G84: =[183]일위대가목록!F365 -> 9196 | H84: =TRUNC(G84*C84,0) -> 9196 | I84: =[183]일위대가목록!G365 -> 62018 | J84: =TRUNC(I84*C84,0) -> 62018 | K84: =[183]일위대가목록!H365 -> 889 | L84: =TRUNC(K84*C84,0) -> 889 | M84: 품셈(공통)3-3-7 암발파(소형브레이커) | P84: 800 | R84: IC302000 | T84: T | BI84: =HYPERLINK("#일위대가목록!A365","IC302000 →") -> IC302000 →
A85: 시험발파비 | B85: 1가구1지점 | C85: 1 | D85: 식 | E85: =G85+I85+K85 -> 20036323 | F85: =H85+J85+L85 -> 20036323 | G85: =[183]일위대가목록!F366 -> 0 | H85: =TRUNC(G85*C85,0) -> 0 | I85: =[183]일위대가목록!G366 -> 0 | J85: =TRUNC(I85*C85,0) -> 0 | K85: =[183]일위대가목록!H366 -> 20036323 | L85: =TRUNC(K85*C85,0) -> 20036323 | M85: 엔지니어링 표준품셈 | P85: 830 | R85: IC303500 | T85: T | BI85: =HYPERLINK("#일위대가목록!A366","IC303500 →") -> IC303500 →
A86: 시험발파비 | B86: 3가구3지점 | C86: 1 | D86: 식 | E86: =G86+I86+K86 -> 21807198 | F86: =H86+J86+L86 -> 21807198 | G86: =[183]일위대가목록!F367 -> 0 | H86: =TRUNC(G86*C86,0) -> 0 | I86: =[183]일위대가목록!G367 -> 0 | J86: =TRUNC(I86*C86,0) -> 0 | K86: =[183]일위대가목록!H367 -> 21807198 | L86: =TRUNC(K86*C86,0) -> 21807198 | M86: 엔지니어링 표준품셈 | P86: 840 | R86: IC303600 | T86: T | BI86: =HYPERLINK("#일위대가목록!A367","IC303600 →") -> IC303600 →
A87: 시험발파비 | B87: 5가구5지점 | C87: 1 | D87: 식 | E87: =G87+I87+K87 -> 23578075 | F87: =H87+J87+L87 -> 23578075 | G87: =[183]일위대가목록!F368 -> 0 | H87: =TRUNC(G87*C87,0) -> 0 | I87: =[183]일위대가목록!G368 -> 0 | J87: =TRUNC(I87*C87,0) -> 0 | K87: =[183]일위대가목록!H368 -> 23578075 | L87: =TRUNC(K87*C87,0) -> 23578075 | M87: 엔지니어링 표준품셈 | P87: 850 | R87: IC303700 | T87: T | BI87: =HYPERLINK("#일위대가목록!A368","IC303700 →") -> IC303700 →
A88: 시험발파비 | B88: 7가구7지점 | C88: 1 | D88: 식 | E88: =G88+I88+K88 -> 25348947 | F88: =H88+J88+L88 -> 25348947 | G88: =[183]일위대가목록!F369 -> 0 | H88: =TRUNC(G88*C88,0) -> 0 | I88: =[183]일위대가목록!G369 -> 0 | J88: =TRUNC(I88*C88,0) -> 0 | K88: =[183]일위대가목록!H369 -> 25348947 | L88: =TRUNC(K88*C88,0) -> 25348947 | M88: 엔지니어링 표준품셈 | P88: 860 | R88: IC303800 | T88: T | BI88: =HYPERLINK("#일위대가목록!A369","IC303800 →") -> IC303800 →
A89: 시험발파비 | B89: 10가구10지점 | C89: 1 | D89: 식 | E89: =G89+I89+K89 -> 28005262 | F89: =H89+J89+L89 -> 28005262 | G89: =[183]일위대가목록!F370 -> 0 | H89: =TRUNC(G89*C89,0) -> 0 | I89: =[183]일위대가목록!G370 -> 0 | J89: =TRUNC(I89*C89,0) -> 0 | K89: =[183]일위대가목록!H370 -> 28005262 | L89: =TRUNC(K89*C89,0) -> 28005262 | M89: 엔지니어링 표준품셈 | P89: 870 | R89: IC303900 | T89: T | BI89: =HYPERLINK("#일위대가목록!A370","IC303900 →") -> IC303900 →
A90: 인력굴착(풍화암) | B90: 소형브레이커 | C90: 1 | D90: ㎥ | E90: =G90+I90+K90 -> 124019 | F90: =H90+J90+L90 -> 124019 | G90: =[183]일위대가목록!F371 -> 5386 | H90: =TRUNC(G90*C90,0) -> 5386 | I90: =[183]일위대가목록!G371 -> 116918 | J90: =TRUNC(I90*C90,0) -> 116918 | K90: =[183]일위대가목록!H371 -> 1715 | L90: =TRUNC(K90*C90,0) -> 1715 | M90: 품셈(공통)3-2-2 굴착(인력/암반) | P90: 880 | R90: IC401100 | T90: T | BI90: =HYPERLINK("#일위대가목록!A371","IC401100 →") -> IC401100 →
A91: 인력굴착(연암) | B91: 소형브레이커 | C91: 1 | D91: ㎥ | E91: =G91+I91+K91 -> 164127 | F91: =H91+J91+L91 -> 164127 | G91: =[183]일위대가목록!F372 -> 8279 | H91: =TRUNC(G91*C91,0) -> 8279 | I91: =[183]일위대가목록!G372 -> 153288 | J91: =TRUNC(I91*C91,0) -> 153288 | K91: =[183]일위대가목록!H372 -> 2560 | L91: =TRUNC(K91*C91,0) -> 2560 | M91: 품셈(공통)3-2-2 굴착(인력/암반) | P91: 890 | R91: IC401200 | T91: T | BI91: =HYPERLINK("#일위대가목록!A372","IC401200 →") -> IC401200 →
A92: 인력굴착(보통암) | B92: 소형브레이커 | C92: 1 | D92: ㎥ | E92: =G92+I92+K92 -> 225045 | F92: =H92+J92+L92 -> 225045 | G92: =[183]일위대가목록!F373 -> 10545 | H92: =TRUNC(G92*C92,0) -> 10545 | I92: =[183]일위대가목록!G373 -> 211136 | J92: =TRUNC(I92*C92,0) -> 211136 | K92: =[183]일위대가목록!H373 -> 3364 | L92: =TRUNC(K92*C92,0) -> 3364 | M92: 품셈(공통)3-2-2 굴착(인력/암반) | P92: 900 | R92: IC401300 | T92: T | BI92: =HYPERLINK("#일위대가목록!A373","IC401300 →") -> IC401300 →
A93: 인력굴착(경암) | B93: 소형브레이커 | C93: 1 | D93: ㎥ | E93: =G93+I93+K93 -> 365516 | F93: =H93+J93+L93 -> 365516 | G93: =[183]일위대가목록!F374 -> 16925 | H93: =TRUNC(G93*C93,0) -> 16925 | I93: =[183]일위대가목록!G374 -> 343175 | J93: =TRUNC(I93*C93,0) -> 343175 | K93: =[183]일위대가목록!H374 -> 5416 | L93: =TRUNC(K93*C93,0) -> 5416 | M93: 품셈(공통)3-2-2 굴착(인력/암반) | P93: 910 | R93: IC401400 | T93: T | BI93: =HYPERLINK("#일위대가목록!A374","IC401400 →") -> IC401400 →
A94: 대형브레이커 암파쇄(연 암) | B94: 굴착기(0.7㎥)+대형브레이커 | C94: 1 | D94: ㎥ | E94: =G94+I94+K94 -> 22092 | F94: =H94+J94+L94 -> 22092 | G94: =[183]일위대가목록!F7 -> 3657 | H94: =TRUNC(G94*C94,0) -> 3657 | I94: =[183]일위대가목록!G7 -> 11415 | J94: =TRUNC(I94*C94,0) -> 11415 | K94: =[183]일위대가목록!H7 -> 7020 | L94: =TRUNC(K94*C94,0) -> 7020 | M94: 품셈(공통)8-2-13 대형브레이커 | P94: 920 | R94: IC402200 | T94: F | BI94: =HYPERLINK("#일위대가목록!A7","IC402200 →") -> IC402200 →
A95: 대형브레이커 암파쇄(보통암) | B95: 굴착기(0.7㎥)+대형브레이커 | C95: 1 | D95: ㎥ | E95: =G95+I95+K95 -> 33395 | F95: =H95+J95+L95 -> 33395 | G95: =[183]일위대가목록!F8 -> 6284 | H95: =TRUNC(G95*C95,0) -> 6284 | I95: =[183]일위대가목록!G8 -> 16787 | J95: =TRUNC(I95*C95,0) -> 16787 | K95: =[183]일위대가목록!H8 -> 10324 | L95: =TRUNC(K95*C95,0) -> 10324 | M95: 품셈(공통)8-2-13 대형브레이커 | P95: 930 | R95: IC402300 | T95: F | BI95: =HYPERLINK("#일위대가목록!A8","IC402300 →") -> IC402300 →
A96: 대형브레이커 암파쇄(경 암) | B96: 굴착기(0.7㎥)+대형브레이커 | C96: 1 | D96: ㎥ | E96: =G96+I96+K96 -> 44516 | F96: =H96+J96+L96 -> 44516 | G96: =[183]일위대가목록!F9 -> 9064 | H96: =TRUNC(G96*C96,0) -> 9064 | I96: =[183]일위대가목록!G9 -> 21952 | J96: =TRUNC(I96*C96,0) -> 21952 | K96: =[183]일위대가목록!H9 -> 13500 | L96: =TRUNC(K96*C96,0) -> 13500 | M96: 품셈(공통)8-2-13 대형브레이커 | P96: 940 | R96: IC402400 | T96: F | BI96: =HYPERLINK("#일위대가목록!A9","IC402400 →") -> IC402400 →
A97: 암깍기(풍화암) | B97: 굴착기(1.0㎥)+대형브레이커+집토 | C97: 1 | D97: ㎥ | E97: =G97+I97+K97 -> 19415 | F97: =H97+J97+L97 -> 19415 | G97: =[183]일위대가목록!F10 -> 4650 | H97: =TRUNC(G97*C97,0) -> 4650 | I97: =[183]일위대가목록!G10 -> 8076 | J97: =TRUNC(I97*C97,0) -> 8076 | K97: =[183]일위대가목록!H10 -> 6689 | L97: =TRUNC(K97*C97,0) -> 6689 | M97: 품셈(공통)3-2-3 흙깎기(기계) | P97: 950 | R97: IC402500 | T97: F | BI97: =HYPERLINK("#일위대가목록!A10","IC402500 →") -> IC402500 →
A98: 암깍기(연암) | B98: 굴착기(1.0㎥)+대형브레이커+집토 | C98: 1 | D98: ㎥ | E98: =G98+I98+K98 -> 24173 | F98: =H98+J98+L98 -> 24173 | G98: =[183]일위대가목록!F11 -> 5867 | H98: =TRUNC(G98*C98,0) -> 5867 | I98: =[183]일위대가목록!G11 -> 10011 | J98: =TRUNC(I98*C98,0) -> 10011 | K98: =[183]일위대가목록!H11 -> 8295 | L98: =TRUNC(K98*C98,0) -> 8295 | M98: 품셈(공통)3-2-3 흙깎기(기계) | P98: 960 | R98: IC402600 | T98: F | BI98: =HYPERLINK("#일위대가목록!A11","IC402600 →") -> IC402600 →
A99: 암깍기(보통암) | B99: 굴착기(1.0㎥)+대형브레이커+집토 | C99: 1 | D99: ㎥ | E99: =G99+I99+K99 -> 39958 | F99: =H99+J99+L99 -> 39958 | G99: =[183]일위대가목록!F12 -> 10228 | H99: =TRUNC(G99*C99,0) -> 10228 | I99: =[183]일위대가목록!G12 -> 16255 | J99: =TRUNC(I99*C99,0) -> 16255 | K99: =[183]일위대가목록!H12 -> 13475 | L99: =TRUNC(K99*C99,0) -> 13475 | M99: 품셈(공통)3-2-3 흙깎기(기계) | P99: 970 | R99: IC402700 | T99: F | BI99: =HYPERLINK("#일위대가목록!A12","IC402700 →") -> IC402700 →
A100: 암깍기(경암) | B100: 굴착기(1.0㎥)+대형브레이커+집토 | C100: 1 | D100: ㎥ | E100: =G100+I100+K100 -> 48042 | F100: =H100+J100+L100 -> 48042 | G100: =[183]일위대가목록!F13 -> 12776 | H100: =TRUNC(G100*C100,0) -> 12776 | I100: =[183]일위대가목록!G13 -> 19280 | J100: =TRUNC(I100*C100,0) -> 19280 | K100: =[183]일위대가목록!H13 -> 15986 | L100: =TRUNC(K100*C100,0) -> 15986 | M100: 품셈(공통)3-2-3 흙깎기(기계) | P100: 980 | R100: IC402800 | T100: F | BI100: =HYPERLINK("#일위대가목록!A13","IC402800 →") -> IC402800 →
...

Sheet 노임
A1: 노 임(2026. 상반기 시중노임)
A2: 종 별 | B2: 단 가 | C2: 종 별 | D2: 단 가 | E2: 종 별 | F2: 단 가 | G2: 종 별 | H2: 단 가
A3: 내선전공 | B3: 273676 | C3: 미 장 공 | D3: 277276 | E3: 철 근 공 | F3: 268187 | G3: 화물차운전사 | H3: 238936
A4: 인력운반공 | B4: 180193 | C4: 비계공 | D4: 281939 | E4: 철공 | F4: 239808 | G4: 교통시설공(볼라드 설치) | H4: 47139
A5: 콘크리트공 | B5: 273540 | C5: 배 관 공 | D5: 247897 | E5: 도 장 공 | F5: 263017 | G5: 칠공사 | H5: 3127
A6: 계장공 | B6: 319449 | C6: 특별 인부 | D6: 226122 | E6: 보통 인부 | F6: 172068 | G6: 용접공 | H6: 282536
A7: 건설기계운전사 | B7: 283297 | C7: 플렌트제관공 | D7: 266029 | E7: 플렌트용접공 | F7: 292640 | G7: 계장공 | H7: 319449
A8: 일반기계운전사 | B8: 173995 | C8: 기계설비공 | D8: 241698 | E8: 배관공(수도) | F8: 262580
A9: 용접공 | B9: 282536 | C9: 할 석 공 | D9: 241932 | E9: 플랜트전공 | F9: 269759

Sheet 24년 공사단가
A1: 자재
A2: 명 칭 | B2: 규 격 | C2: 단 위 | D2: 단 가 | E2: 비 고
A3: 원목(미송) | B3: L=180-270㎝ | C3: ㎥ | D3: 241916 | E3: 2024년 설계단가 | G3: M010001
A4: 각재 | B4: 육송(90*90*3600㎜) | C4: ㎥ | D4: 618506 | E4: 2024년 설계단가 | G4: M010060
A5: 각재 | B5: 미송(45*45*3600㎜) | C5: ㎥ | D5: 669562 | E5: 2024년 설계단가 | G5: M010061
A6: 각재 | B6: 라왕(45*90*3600㎜) | C6: ㎥ | D6: 1769984 | E6: 2024년 설계단가 | G6: M010062
A7: 판재 | B7: 육송(30*300*3600㎜) | C7: ㎥ | D7: 688623 | E7: 2024년 설계단가 | G7: M010090
A8: 판재 | B8: 미송(30*300*3600) | C8: ㎥ | D8: 723653 | E8: 2024년 설계단가 | G8: M010091
A9: 판재 | B9: 라왕(30*300*3600) | C9: ㎥ | D9: 1799139 | E9: 2024년 설계단가 | G9: M010092
A10: 내부PANEL(목재문) | B10: 1200*2400㎜ | C10: 개 | D10: 98307 | E10: 2024년 설계단가 | G10: M010095
A11: 꼬치 | C11: 본 | D11: 24 | E11: 2024년 설계단가 | G11: M010143
A12: 합판(보통1급) | B12: 2.7*1220*2440㎜ | C12: ㎡ | D12: 3695 | E12: 2024년 설계단가 | G12: M010151
A13: 합판(내수급) | B13: 12*910*1820㎜ | C13: 매 | D13: 20720 | E13: 2024년 설계단가 | G13: M010180
A14: 합판(내수급) | B14: 12*1220*2440㎜ | C14: 매 | D14: 33376 | E14: 2024년 설계단가 | G14: M010182
A15: 합판(내수급) | B15: 12*1220*2440㎜ | C15: ㎡ | D15: 11212 | E15: 2024년 설계단가 | G15: M010185
A16: 천정판 | B16: 글라스울, 50㎜ | C16: 매 | D16: 14401 | E16: 2024년 설계단가 | G16: M010250
A17: 다이나마이트 | B17: 28㎜ 일반 (메가마이트) | C17: ㎏ | D17: 12712 | E17: 2024년 설계단가 | G17: M020001
A18: 다이나마이트 | B18: 32㎜ 일반 (메가맥스) | C18: ㎏ | D18: 5231 | E18: 2024년 설계단가 | G18: M020002
A19: 정밀폭약 | B19: D17㎜,뉴화이넥스 | C19: ㎏ | D19: 11747 | E19: 2024년 설계단가 | G19: M020004
A20: 함수폭약 | B20: D=50㎜(뉴벡스) | C20: ㎏ | D20: 6862 | E20: 2024년 설계단가 | G20: M020006
A21: 미진동파쇄기 | B21: Kinecker-Ⅱ | C21: kg | D21: 10750 | E21: 2024년 설계단가 | G21: M020007
A22: 전기뇌관 | B22: 1.5m(하이데토 플러스 ID) | C22: 개 | D22: 2886 | E22: 2024년 설계단가 | G22: M020010
A23: 전기뇌관 | B23: 3.5m(하이데토 플러스 ID) | C23: 개 | D23: 3600 | E23: 2024년 설계단가 | G23: M020013
... A36: 전기뇌관(6.0m) | B36: 하이데토 플러스LP/MS | C36: 개 | D36: 4100 | E36: 2024년 설계단가 | G36: M020029
A37: 아세틸렌 | C37: ㎏ | D37: 14724 | E37: 2024년 설계단가 | G37: M020030
A38: 비전기뇌관(7.2m) | B38: 코넬N-LP/MS | C38: 개 | D38: 4990 | E38: 2024년 설계단가 | G38: M020032
A39: 비전기뇌관(12m) | B39: 코넬N-Unidet | C39: 개 | D39: 6060 | E39: 2024년 설계단가 | G39: M020033
A40: 산소 | B40: 6000ℓ | C40: 병 | D40: 12000 | E40: 2024년 설계단가 | G40: M020036
A41: 카바이트 | B41: 225㎏ B급 | C41: ㎏ | D41: 1923 | E41: 2024년 설계단가 | G41: M020040
A42: 염산 | B42: 0.35 | C42: ㎏ | D42: 323 | E42: 2024년 설계단가 | G42: M020050
A43: 조합페인트 신너 | B43: KSM-6060, 2종 | C43: ℓ | D43: 2314 | E43: 2024년 설계단가 | G43: M020057
A44: EPOXY THINNER | C44: ㎏ | D44: 3740 | E44: 2024년 설계단가 | G44: M020061
A45: 조합페인트 1종 | B45: KSM-6020 백색1급 | C45: ℓ | D45: 5856 | E45: 2024년 설계단가 | G45: M020110
A46: 조합페인트 1종 | B46: KSM-6020 백색2급 | C46: ℓ | D46: 4211 | E46: 2024년 설계단가 | G46: M020111
A47: 광명단(방청페인트) | B47: KSM-6030 1종 2류 | C47: ℓ | D47: 6955 | E47: 2024년 설계단가 | G47: M020141
A48: PRIMER | B48: 철재용 | C48: ℓ | D48: 5233 | E48: 2024년 설계단가 | G48: M020143
A49: 수용성에폭시(하도) | B49: 2600WP | C49: ℓ | D49: 11250 | E49: 2024년 설계단가 | G49: M020144
A50: 프라이머 | B50: 강관외부도장 | C50: ㎏ | D50: 7500 | E50: 2024년 설계단가 | G50: M020145
A51: 수용성에폭시(상도) | B51: 2600WF | C51: ℓ | D51: 13125 | E51: 2024년 설계단가 | G51: M020146
A52: 실링제 | B52: 강관외부도장재 | C52: ㎏ | D52: 14692 | E52: 2024년 설계단가 | G52: M020147
A53: 테이프 | B53: 강관코팅용,0.762*100 | C53: ㎡ | D53: 10333 | E53: 2024년 설계단가 | G53: M020149
A54: 강관도장용 매스틱 | B54: 3t*50㎜*6m | C54: m | D54: 3500 | E54: 2024년 설계단가 | G54: M020150
A55: 강관도장용 안쪽층테이프 | B55: 0.508t*100㎜*30m | C55: ㎡ | D55: 7733 | E55: 2024년 설계단가 | G55: M020151
A56: 강관도장용 바깥층테이프 | B56: 0.381t*100㎜*30m | C56: ㎡ | D56: 7400 | E56: 2024년 설계단가 | G56: M020152
... A60: 표면양생제(유성) | B60: 포장용(6~9㎡/l) | C60: ℓ | D60: 2000 | E60: 2024년 설계단가 | G60: M020205
A61: 강관내부도장용에폭시 | C61: kg | D61: 5600 | E61: 2024년 설계단가 | G61: M020265
A62: 수성 페인트 | B62: KSM 6010(2급)외부, 백색 | C62: ℓ | D62: 2730 | E62: 2024년 설계단가 | G62: M020271
A63: 퍼티, PUTTY | B63: 친환경, 외부 | C63: ㎏ | D63: 1308 | E63: 2024년 설계단가 | G63: M020381
A64: 아스팔트 프라이머 | C64: ℓ | D64: 2000 | E64: 2024년 설계단가 | G64: M020400
A65: 네오프렌 베어링패드 | B65: 0.3*0.3*0.01 | C65: ㎥ | D65: 15740741 | E65: 2024년 설계단가 | G65: M020580
A66: 벤토나이트 | B66: 연속벽용(고급) | C66: ㎏ | D66: 750 | E66: 2024년 설계단가 | G66: M020600
A67: 벤토나이트 | B67: 그라우팅용,연속벽용(고급) | C67: ㎏ | D67: 300 | E67: 2024년 설계단가 | G67: M020601
A68: 기포제 | B68: DRILL FOAMER | C68: ℓ | D68: 7679 | E68: 2024년 설계단가 | G68: M020610
A69: 도로표지용페인트 | B69: 백색 KSM6080 (1종) | C69: ℓ | D69: 4450 | E69: 2024년 설계단가 | G69: M020710
A70: 도로표지용페인트 | B70: 황색 KSM6080 (1종) | C70: ℓ | D70: 5650 | E70: 2024년 설계단가 | G70: M020720
A71: 도로표지용페인트 | B71: 청색 KSM6080 (1종) | C71: ℓ | D71: 5700 | E71: 2024년 설계단가 | G71: M020730
A72: P.C 그라우트제 | C72: ㎏ | D72: 4764 | E72: 2024년 설계단가 | G72: M020900
A73: EPOXY 모르터결합제 | C73: ㎏ | D73: 7000 | E73: 2024년 설계단가 | G73: M020901
A74: 탄산칼슘 | B74: 0.97 | C74: ㎏ | D74: 102 | E74: 2024년 설계단가 | G74: M020902
A75: 규사 | B75: 4,7 호 | C75: ㎏ | D75: 70 | E75: 2024년 설계단가 | G75: M020903
A76: PVC지수판 | B76: K.S 5㎜*150㎜ | C76: m | D76: 2400 | E76: 2024년 설계단가 | G76: M030100
A77: PVC지수판 | B77: K.S 5㎜*230㎜ | C77: m | D77: 3600 | E77: 2024년 설계단가 | G77: M030101
A78: PVC지수판 | B78: K.S 9.5㎜*230㎜ | C78: m | D78: 6700 | E78: 2024년 설계단가 | G78: M030102
A79: PVC지수판 | B79: K.S 9㎜*300㎜ | C79: m | D79: 8000 | E79: 2024년 설계단가 | G79: M030103
A80: PVC지수판 | B80: K.S 5㎜*200㎜ | C80: m | D80: 2600 | E80: 2024년 설계단가 | G80: M030104
A81: 신축이음채움재(발포고무) | B81: t=20㎜ | C81: ㎡ | D81: 6500 | E81: 2024년 설계단가 | G81: M030105
A82: 수팽창고무지수판 | B82: FS-2010, 20*10, BOX연결부 | C82: m | D82: 1900 | E82: 2024년 설계단가 | G82: M030131
A83: 수팽창고무지수판 | B83: FS-2007, 20*7 | C83: m | D83: 1700 | E83: 2024년 설계단가 | G83: M030133
A84: PVC파이프(경질염화비닐관) | B84: D13㎜, VN SDR9 | C84: m | D84: 593 | E84: 2024년 설계단가 | G84: M030191
A85: PVC파이프(경질염화비닐관) | B85: D16㎜, VN SDR9 | C85: m | D85: 903 | E85: 2024년 설계단가 | G85: M030192
... A1079: 진동및전압철근콘크리트관(압력 4㎏f/㎠) | B1079: D1200㎜ | C1079: 본 | D1079: 946000 | E1079: 2024년 설계단가 | G1079: M046071
A1080: 무수축시멘트 | C1080: ㎏ | D1080: 580 | E1080: 2024년 설계단가 | G1080: M048001
A1081: 조립식낙차공(플륨용) | B1081: 1 호형 (H=0.5) | C1081: 조 | D1081: 377334 | E1081: 2024년 설계단가 | G1081: M049070
A1082: 조립식낙차공( 플륨용 ) | B1082: 2 호형 (H=0.7) | C1082: 조 | D1082: 419905 | E1082: 2024년 설계단가 | G1082: M049071
A1083: 조립식낙차공( 플륨용 ) | B1083: 3 호형 (H=1.0) | C1083: 조 | D1083: 462466 | E1083: 2024년 설계단가 | G1083: M049072
A1084: 조립식낙차공( 플륨용 ) | B1084: 4 호형 (H=1.2) | C1084: 조 | D1084: 505978 | E1084: 2024년 설계단가 | G1084: M049073
A1085: 조립식낙차공( 플륨용 ) | B1085: 5 호형 (H=1.5) | C1085: 조 | D1085: 547618 | E1085: 2024년 설계단가 | G1085: M049074
A1086: 철판 | B1086: t=1.6㎜ | C1086: ㎏ | D1086: 926 | E1086: 2024년 설계단가 | G1086: M050001
A1087: 철판. | B1087: t=2.3㎜ | C1087: ㎏ | D1087: 914 | E1087: 2024년 설계단가 | G1087: M050002
A1088: 철판 | B1088: t=3.2㎜ | C1088: ㎏ | D1088: 913 | E1088: 2024년 설계단가 | G1088: M050005
A1089: 철판 | B1089: t=4.5㎜ | C1089: ㎏ | D1089: 910 | E1089: 2024년 설계단가 | G1089: M050007
A1090: 철판 | B1090: t=6.0㎜ | C1090: ㎏ | D1090: 913 | E1090: 2024년 설계단가 | G1090: M050009
A1091: 철판 | B1091: t=9.0㎜ | C1091: ㎏ | D1091: 916 | E1091: 2024년 설계단가 | G1091: M050011
A1092: 철판 | B1092: t=12㎜ | C1092: ㎏ | D1092: 940 | E1092: 2024년 설계단가 | G1092: M050012
... A1259: 데드앤드크램프 | B1259: 95㎟ | C1259: 개 | D1259: 7082 | E1259: 2024년 설계단가 | G1259: M051642
A1260: 반경관 취부밴드 | C1260: 개 | D1260: 2640 | E1260: 2024년 설계단가 | G1260: M051657
A1261: 반경철관(반할강관) | B1261: 80mm*2mm*2400mm | C1261: 개 | D1261: 39856 | E1261: 2024년 설계단가 | G1261: M051658
A1262: 경고테이프 | B1262: 200*250 | C1262: m | D1262: 202 | E1262: 2024년 설계단가 | G1262: M051659
A1263: 전기맨홀 | B1263: 600*600*600mm 150T | C1263: m | D1263: 110000 | E1263: 2024년 설계단가 | G1263: M051680
A1264: 전기맨홀 | B1264: 800*800*1000mm 150T | C1264: m | D1264: 160000 | E1264: 2024년 설계단가 | G1264: M051681
A1265: 전기맨홀 | B1265: 1000*1000*1000mm 150T | C1265: m | D1265: 170000 | E1265: 2024년 설계단가 | G1265: M051682
A1266: 전기맨홀 | B1266: 수공2호 1700*800*1100mm 150T | C1266: m | D1266: 290000 | E1266: 2024년 설계단가 | G1266: M051683
A1267: 전기맨홀뚜껑 | B1267: 주철 φ600 | C1267: m | D1267: 105000 | E1267: 2024년 설계단가 | G1267: M051684
A1268: 전기맨홀뚜껑 | B1268: 주철 φ648 KS규격품 | C1268: m | D1268: 230000 | E1268: 2024년 설계단가 | G1268: M051685
A1269: 전기맨홀뚜껑 | B1269: 주철 φ766 KS규격품 | C1269: m | D1269: 610000 | E1269: 2024년 설계단가 | G1269: M051686
A1270: 전기맨홀뚜껑 | B1270: 주철 1120*620*132 KS규격품 | C1270: m | D1270: 370000 | E1270: 2024년 설계단가 | G1270: M051687
A1271: 강제전선관 | B1271: 아연도금 16mm(1.06kg) | C1271: m | D1271: 2550 | E1271: 2024년 설계단가 | G1271: M051719
A1272: 강제전선관 | B1272: 아연도금 22mm(1.37kg) | C1272: m | D1272: 3320 | E1272: 2024년 설계단가 | G1272: M051720
... A1963: 직교크램프(비계용) | B1963: 48.6㎜용 | C1963: 개 | D1963: 2020 | E1963: 2024년 설계단가 | G1963: M055102
A1964: 받침판(비계용) | C1964: 개 | D1964: 4000 | E1964: 2024년 설계단가 | G1964: M055103
...

Sheet 26년 공사단가
A1: 자재
A2: 명 칭 | B2: 규 격 | C2: 단 위 | D2: 단 가 | E2: 비 고
A3: 원목(미송) | B3: L=180-270㎝ | C3: ㎥ | D3: 224551 | E3: //2025년 설계단가(토목)
A4: 각재 | B4: 육송(90*90*3600㎜) | C4: ㎥ | D4: 620980 | E4: //2025년 설계단가(토목)
A5: 각재 | B5: 미송(45*45*3600㎜) | C5: ㎥ | D5: 754539 | E5: //2025년 설계단가(토목)
A6: 각재 | B6: 라왕(45*90*3600㎜) | C6: ㎥ | D6: 1560156 | E6: //2025년 설계단가(토목)
A7: 판재 | B7: 육송(30*300*3600㎜) | C7: ㎥ | D7: 757485 | E7: //2025년 설계단가(토목)
A8: 판재 | B8: 미송(30*300*3600㎜) | C8: ㎥ | D8: 859464 | E8: //2025년 설계단가(토목)
A9: 판재 | B9: 라왕(30*300*3600㎜) | C9: ㎥ | D9: 1819932 | E9: //2025년 설계단가(토목)
A10: 내부PANEL(목재문) | B10: 1200*2400㎜ | C10: 개 | D10: 98307 | E10: //2025년 설계단가(토목)
A11: 꼬치 | C11: 본 | D11: 24 | E11: //2025년 설계단가(토목)
A12: 합판(보통1급) | B12: 2.7*1220*2440㎜ | C12: ㎡ | D12: 3091 | E12: //2025년 설계단가(토목)
A13: 합판(내수급) | B13: 12*910*1820㎜ | C13: 매 | D13: 20065 | E13: //2025년 설계단가(토목)
A14: 합판(내수급) | B14: 12*1220*2440㎜ | C14: 매 | D14: 32550 | E14: //2025년 설계단가(토목)
A15: 합판(내수급) | B15: 12*1220*2440㎜ | C15: ㎡ | D15: 10934 | E15: //2025년 설계단가(토목)
A16: 천정판 | B16: 글라스울, 50㎜ | C16: 매 | D16: 12545 | E16: //2025년 설계단가(토목)
A17: 다이나마이트 | B17: 28㎜ 일반 (메가마이트) | C17: ㎏ | D17: 13055 | E17: //2025년 설계단가(토목)
A18: 다이나마이트 | B18: 32㎜ 일반 (메가맥스) | C18: ㎏ | D18: 5355 | E18: //2025년 설계단가(토목)
A19: 정밀폭약 | B19: D17㎜, 뉴화이넥스 | C19: ㎏ | D19: 11747 | E19: //2025년 설계단가(토목)
A20: 함수폭약 | B20: D=50㎜(뉴벡스) | C20: ㎏ | D20: 7163 | E20: //2025년 설계단가(토목)
A21: 미진동파쇄기 | B21: kinecker-Ⅱ | C21: kg | D21: 11200 | E21: //2025년 설계단가(토목)
A22: 전기뇌관 | B22: 1.5m(하이데토 플러스 ID) | C22: 개 | D22: 2886 | E22: //2025년 설계단가(토목)
A23: 전기뇌관 | B23: 3.5m(하이데토 플러스 ID) | C23: 개 | D23: 3600 | E23: //2025년 설계단가(토목)
... A36: 전기뇌관(6.0m) | B36: 하이데토 플러스LP/MS | C36: 개 | D36: 4100 | E36: //2025년 설계단가(토목)
A37: 아세틸렌 | C37: ㎏ | D37: 15133 | E37: //2025년 설계단가(토목)
A38: 비전기뇌관(7.2m) | B38: 코넬N-LP/MS | C38: 개 | D38: 5160 | E38: //2025년 설계단가(토목)
A39: 비전기뇌관(12m) | B39: 코넬N-Unidet | C39: 개 | D39: 6280 | E39: //2025년 설계단가(토목)
A40: 산소 | B40: 6000ℓ | C40: 병 | D40: 12000 | E40: //2025년 설계단가(토목)
A41: 카바이트 | B41: 225㎏ B급 | C41: ㎏ | D41: 1976 | E41: //2025년 설계단가(토목)
A42: 염산 | B42: 0.35 | C42: ㎏ | D42: 323 | E42: //2025년 설계단가(토목)
A43: 신너 | B43: KSM-6060, 2종 | C43: ℓ | D43: 2700 | E43: //2025년 설계단가(토목)
A44: EPOXY THINNER | C44: ㎏ | D44: 4167 | E44: //2025년 설계단가(토목)
A45: 조합페인트 | B45: KSM-6020 백색1급 | C45: ℓ | D45: 6067 | E45: //2025년 설계단가(토목)
A46: 조합페인트 | B46: KSM-6020 백색2급 | C46: ℓ | D46: 5117 | E46: //2025년 설계단가(토목)
A47: 광명단(방청페인트) | B47: KSM-6030 1종 2류 | C47: ℓ | D47: 8400 | E47: //2025년 설계단가(토목)
A48: PRIMER | B48: 철재용 | C48: ℓ | D48: 5233 | E48: //2025년 설계단가(토목)
A49: 수용성에폭시(하도) | B49: 2600WP | C49: ℓ | D49: 11250 | E49: //2025년 설계단가(토목)
A50: 프라이머 | B50: 강관외부도장 | C50: ㎏ | D50: 7500 | E50: //2025년 설계단가(토목)
A51: 수용성에폭시(상도) | B51: 2600WF | C51: ℓ | D51: 13125 | E51: //2025년 설계단가(토목)
A52: 실링제 | B52: 강관외부도장재 | C52: ㎏ | D52: 14692 | E52: //2025년 설계단가(토목)
A53: 테이프 | B53: 강관코팅용,0.762*100 | C53: ㎡ | D53: 10333 | E53: //2025년 설계단가(토목)
A54: 강관도장용 매스틱 | B54: 3t*50㎜*6m | C54: m | D54: 3500 | E54: //2025년 설계단가(토목)
A55: 강관도장용 안쪽층테이프 | B55: 0.508t*100㎜*30m | C55: ㎡ | D55: 7733 | E55: //2025년 설계단가(토목)
A56: 강관도장용 바깥층테이프 | B56: 0.381t*100㎜*30m | C56: ㎡ | D56: 7400 | E56: //2025년 설계단가(토목)
... A60: 표면양생제(유성) | B60: 포장용(6~9㎡/l) | C60: ℓ | D60: 2000 | E60: //2025년 설계단가(토목)
A61: 강관내부도장용에폭시 | C61: kg | D61: 5600 | E61: //2025년 설계단가(토목)
A62: 수성 페인트 | B62: KSM 6010(2급)외부, 백색 | C62: ℓ | D62: 3300 | E62: //2025년 설계단가(토목)
A63: 퍼티, PUTTY | B63: 친환경, 외부 | C63: ㎏ | D63: 1196 | E63: //2025년 설계단가(토목)
A64: 아스팔트 프라이머 | C64: ℓ | D64: 2000 | E64: //2025년 설계단가(토목)
A65: 네오프렌 베어링패드 | B65: 0.3*0.3*0.01 | C65: ㎥ | D65: 21604938 | E65: //2025년 설계단가(토목)
A66: 벤토나이트 | B66: 연속벽용(고급) | C66: ㎏ | D66: 750 | E66: //2025년 설계단가(토목)
A67: 벤토나이트 | B67: 그라우팅용(일반) | C67: ㎏ | D67: 300 | E67: //2025년 설계단가(지하수)
A68: 기포제 | B68: DRILL FOAMER | C68: ℓ | D68: 7944 | E68: //2025년 설계단가(지하수)
A69: 도로표지용페인트 | B69: 백색 KSM6080 (1종) | C69: ℓ | D69: 4450 | E69: //2025년 설계단가(토목)
A70: 도로표지용페인트 | B70: 황색 KSM6080 (1종) | C70: ℓ | D70: 5650 | E70: //2025년 설계단가(토목)
A71: 도로표지용페인트 | B71: 청색 KSM6080 (1종) | C71: ℓ | D71: 5700 | E71: //2025년 설계단가(토목)
A72: P.C 그라우트제 | C72: ㎏ | D72: 4764 | E72: //2025년 설계단가(토목)
A73: EPOXY 모르터결합제 | C73: ㎏ | D73: 7000 | E73: //2025년 설계단가(토목)
A74: 탄산칼슘 | B74: 0.97 | C74: ㎏ | D74: 102 | E74: //2025년 설계단가(토목)
A75: 규사 | B75: 4,7 호 | C75: ㎏ | D75: 70 | E75: //2025년 설계단가(토목)
A76: PVC지수판 | B76: K.S 5㎜*150㎜ | C76: m | D76: 2400 | E76: //2025년 설계단가(토목)
A77: PVC지수판 | B77: K.S 5㎜*230㎜ | C77: m | D77: 3600 | E77: //2025년 설계단가(토목)
A78: PVC지수판 | B78: K.S 9.5㎜*230㎜ | C78: m | D78: 6700 | E78: //2025년 설계단가(토목)
A79: PVC지수판 | B79: K.S 9㎜*300㎜ | C79: m | D79: 8000 | E79: //2025년 설계단가(토목)
A80: PVC지수판 | B80: K.S 5㎜*200㎜ | C80: m | D80: 2600 | E80: //2025년 설계단가(토목)
A81: 신축이음채움재(발포고무) | B81: t=20㎜ | C81: ㎡ | D81: 6500 | E81: //2025년 설계단가(토목)
A82: 수팽창고무지수판 | B82: FS-2010, 20*10, BOX연결부 | C82: m | D82: 1900 | E82: //2025년 설계단가(토목)
A83: 수팽창고무지수판 | B83: FS-2007, 20*7 | C83: m | D83: 1700 | E83: //2025년 설계단가(토목)
A84: PVC파이프(경질염화비닐관) | B84: D13㎜, VN SDR9 | C84: m | D84: 714 | E84: //2025년 설계단가(토목)
A85: PVC파이프(경질염화비닐관) | B85: D16㎜, VN SDR9 | C85: m | D85: 903 | E85: //2025년 설계단가(토목)
... A1079: 진동및전압철근콘크리트관(압력관 4㎏f/㎠) | B1079: D1200㎜ | C1079: 본 | D1079: 946000 | E1079: //2025년 설계단가(토목)
A1080: 무수축시멘트 | C1080: ㎏ | D1080: 584 | E1080: //2025년 설계단가(토목)
A1081: 조립식낙차공(플륨용) | B1081: 1 호형 (H=0.5) | C1081: 조 | D1081: 380684 | E1081: //2025년 설계단가(토목)
A1082: 조립식낙차공( 플륨용 ) | B1082: 2 호형 (H=0.7) | C1082: 조 | D1082: 423634 | E1082: //2025년 설계단가(토목)
A1083: 조립식낙차공( 플륨용 ) | B1083: 3 호형 (H=1.0) | C1083: 조 | D1083: 466572 | E1083: //2025년 설계단가(토목)
A1084: 조립식낙차공( 플륨용 ) | B1084: 4 호형 (H=1.2) | C1084: 조 | D1084: 510472 | E1084: //2025년 설계단가(토목)
A1085: 조립식낙차공( 플륨용 ) | B1085: 5 호형 (H=1.5) | C1085: 조 | D1085: 552481 | E1085: //2025년 설계단가(토목)
A1086: 철판 | B1086: t=1.6㎜ | C1086: ㎏ | D1086: 896 | E1086: //2025년 설계단가(토목)
A1087: 철판. | B1087: t=2.3㎜ | C1087: ㎏ | D1087: 884 | E1087: //2025년 설계단가(토목)
A1088: 철판 | B1088: t=3.2㎜ | C1088: ㎏ | D1088: 883 | E1088: //2025년 설계단가(토목)
A1089: 철판 | B1089: t=4.5㎜ | C1089: ㎏ | D1089: 880 | E1089: //2025년 설계단가(토목)
A1090: 철판 | B1090: t=6.0㎜ | C1090: ㎏ | D1090: 883 | E1090: //2025년 설계단가(토목)
A1091: 철판 | B1091: t=9.0㎜ | C1091: ㎏ | D1091: 886 | E1091: //2025년 설계단가(토목)
A1092: 철판 | B1092: t=12㎜ | C1092: ㎏ | D1092: 940 | E1092: //2025년 설계단가(토목)
... A1259: 데드엔드크램프 | B1259: 95㎟ | C1259: 개 | D1259: 7082 | E1259: //2025년 설계단가(전기)
A1260: 반경관 취부밴드 | C1260: 개 | D1260: 2704 | E1260: //2025년 설계단가(전기)
A1261: 전주용입상관 | B1261: D130x2m | C1261: 조 | D1261: 39856 | E1261: //2025년 설계단가(전기)
A1262: 경고테이프 | B1262: 200*250 | C1262: m | D1262: 202 | E1262: //2025년 설계단가(전기)
A1263: 전기맨홀 | B1263: 600*600*600mm 150T | C1263: m | D1263: 110000 | E1263: //2025년 설계단가(전기)
A1264: 전기맨홀 | B1264: 800*800*1000mm 150T | C1264: m | D1264: 160000 | E1264: //2025년 설계단가(전기)
A1265: 전기맨홀 | B1265: 1000*1000*1000mm 150T | C1265: m | D1265: 170000 | E1265: //2025년 설계단가(전기)
A1266: 전기맨홀 | B1266: 수공2호 1700*800*1100mm 150T | C1266: m | D1266: 290000 | E1266: //2025년 설계단가(전기)
A1267: 전기맨홀뚜껑 | B1267: 주철 φ600 | C1267: m | D1267: 110000 | E1267: //2025년 설계단가(전기)
A1268: 전기맨홀뚜껑 | B1268: 주철 φ648 KS규격품 | C1268: m | D1268: 170000 | E1268: //2025년 설계단가(전기)
A1269: 전기맨홀뚜껑 | B1269: 주철 φ766 KS규격품 | C1269: m | D1269: 620000 | E1269: //2025년 설계단가(전기)
A1270: 전기맨홀뚜껑 | B1270: 주철 1120*620*132 KS규격품 | C1270: m | D1270: 370000 | E1270: //2025년 설계단가(전기)
A1271: 강제전선관 | B1271: 아연도금 16mm(1.06kg) | C1271: m | D1271: 2880 | E1271: //2025년 설계단가(전기)
A1272: 강제전선관 | B1272: 아연도금 22mm(1.37kg) | C1272: m | D1272: 3730 | E1272: //2025년 설계단가(전기)
... A1963: 직교크램프(비계용) | B1963: 48㎜용 | C1963: 개 | D1963: 2020 | E1963: //2025년 설계단가(토목)
A1964: 받침판(비계용) | C1964: 개 | D1964: 4000 | E1964: //2025년 설계단가(토목)
...
