Workbook

Sheet 원가계산서(공사)
B1: 공 사 원 가 계 산 서
B2: 공사명 : 산양천 간이양수장 전기공사 | F2: 금액 : 원(￦0)
B3: 비 목 | E3: 금 액 | F3: 구 성 비 | G3: 비 고
A4: A1 | B4: 순 공 사 원 가 | C4: 재 료 비 | D4: 직 접 재 료 비 | E4: =TRUNC('공종별집계표(공사)'!F5, 0) -> 3102000
A5: A2 | D5: 간 접 재 료 비 | E5: 0
A6: A3 | D6: 작업설, 부산물(△) | E6: 0
A7: AS | D7: [ 소 계 ] | E7: =TRUNC(E4+E5-E6, 0) -> 3102000
A8: B1 | C8: 노 무 비 | D8: 직 접 노 무 비 | E8: =TRUNC('공종별집계표(공사)'!H5, 0) -> 8554951
A9: B2 | D9: 간 접 노 무 비 | E9: =TRUNC(E8*0.191, 0) -> 1633995 | F9: 직접노무비 * 19.1%
A10: BS | D10: [ 소 계 ] | E10: =TRUNC(E8+E9, 0) -> 10188946
A11: C2 | C11: 경 비 | D11: 경 비 | E11: =TRUNC('공종별집계표(공사)'!J5, 0) -> 1886728
A12: C4 | D12: 산 재 보 험 료 | E12: =TRUNC(E10*0.0356, 0) -> 362726 | F12: 노무비 * 3.56%
A13: C5 | D13: 고 용 보 험 료 | E13: =TRUNC(E10*0.0101, 0) -> 102908 | F13: 노무비 * 1.01%
A14: C6 | D14: 국민 건강 보험료 | F14: 직접노무비 * 3.595%
A15: C7 | D15: 국민 연금 보험료 | F15: 직접노무비 * 4.75%
A16: C8 | D16: 퇴직 공제 부금비 | F16: 직접노무비 * 2.3%
A17: CA | D17: 산업안전보건관리비 | E17: =TRUNC((E7+E8+(0/1.1))*0.0207, 0) -> 241298 | F17: (재료비+직노+관급자재비) * 2.07%
A18: CB | D18: 노인장기요양보험료 | E18: =TRUNC(E14*0.1314, 0) -> 0 | F18: 건강보험료 * 13.14%
A19: CD | D19: 석면분담금 | E19: =TRUNC(E10*0.00006, 0) -> 611 | F19: 노무비 * 0.006%
A20: CC | D20: 임금채권부담금 | E20: =TRUNC(E10*0.0009, 0) -> 9170 | F20: 노무비 * 0.09%
A21: CG | D21: 기 타 경 비 | E21: =TRUNC((E7+E10)*0.055, 0) -> 731002 | F21: (재료비+노무비) * 5.5%
A22: CS | D22: [ 소 계 ] | E22: =TRUNC(E11+E12+E13+E14+E15+E16+E17+E18+E20+E19+E21, 0) -> 3334443
A23: S1 | B23: 계 | E23: =TRUNC(E7+E10+E22, 0) -> 16625389
A24: D1 | B24: 일 반 관 리 비 | E24: =TRUNC(E23*0.08, 0) -> 1330031 | F24: 계 * 8%
A25: D2 | B25: 이 윤 | E25: =TRUNC((E10+E22+E24)*0.15, 0) -> 2228013 | F25: (노무비+경비+일반관리비) * 15%
A26: D3 | B26: 사 급 자 재 비 | E26: =TRUNC('공종별집계표(공사)'!T9, 0) -> 14600000
A27: D9 | B27: 공 급 가 액 | E27: =TRUNC(E23+E24+E25+E26, -4) -> 34780000
A28: DA | B28: 손해배상공제수수료 | E28: =TRUNC((E27+0)*0.0026477, -2) -> 92000
A29: DB | B29: 부 가 가 치 세 | E29: =TRUNC(E27*0.1, 0) -> 3478000 | F29: 공급가액 * 10%
A30: DH | B30: 도 급 액 | E30: =TRUNC(E27+E29, 0) -> 38258000
A31: S2 | B31: 총 공 사 비 | E31: =TRUNC(E30+0, 0) -> 38258000

Sheet 공종별집계표(공사)
A1: 공 종 별 집 계 표
A2: [ 산양천 간이양수장 전기공사 ]
A3: 품 명 | B3: 규 격 | C3: 단위 | D3: 수량 | E3: 재 료 비 | G3: 노 무 비 | I3: 경 비 | K3: 합 계 | M3: 비 고 | N3: 공종코드 | O3: 변수 | P3: 상위공종 | Q3: 공종구분 | R3: 공종레벨 | S3: 공종소계 | T3: 원가계산서 연결금액
E4: 단 가 | F4: 금 액 | G4: 단 가 | H4: 금 액 | I4: 단 가 | J4: 금 액 | K4: 단 가 | L4: 금 액
A5: 산양천 간이양수장 전기공사 | D5: 1 | E5: =F6+F7+F8 -> 3102000 | F5: =E5*D5 -> 3102000 | G5: =H6+H7+H8 -> 8554951 | H5: =G5*D5 -> 8554951 | I5: =J6+J7+J8 -> 1886728 | J5: =I5*D5 -> 1886728 | K5: =E5+G5+I5 -> 13543679 | L5: =F5+H5+J5 -> 13543679 | N5: 01 | R5: 1
A6: 산양천1 간이양수장 | D6: 1 | E6: ='공종별내역서(공사)'!F27 -> 1131687 | F6: =E6*D6 -> 1131687 | G6: ='공종별내역서(공사)'!H27 -> 2698626 | H6: =G6*D6 -> 2698626 | I6: ='공종별내역서(공사)'!J27 -> 786194 | J6: =I6*D6 -> 786194 | K6: =E6+G6+I6 -> 4616507 | L6: =F6+H6+J6 -> 4616507 | N6: 0101 | P6: 01 | R6: 2
A7: 산양천2 간이양수장 | D7: 1 | E7: ='공종별내역서(공사)'!F51 -> 1970313 | F7: =E7*D7 -> 1970313 | G7: ='공종별내역서(공사)'!H51 -> 5856325 | H7: =G7*D7 -> 5856325 | I7: ='공종별내역서(공사)'!J51 -> 1100534 | J7: =I7*D7 -> 1100534 | K7: =E7+G7+I7 -> 8927172 | L7: =F7+H7+J7 -> 8927172 | N7: 0102 | P7: 01 | R7: 2
A8: 산양천 간이양수장 분전반 | D8: 1 | E8: ='공종별내역서(공사)'!F75 -> 0 | F8: =E8*D8 -> 0 | G8: ='공종별내역서(공사)'!H75 -> 0 | H8: =G8*D8 -> 0 | I8: ='공종별내역서(공사)'!J75 -> 0 | J8: =I8*D8 -> 0 | K8: =E8+G8+I8 -> 0 | L8: =F8+H8+J8 -> 0 | N8: 0103 | P8: 01 | R8: 2
A9: 사급자재비 | D9: 1 | E9: ='공종별내역서(공사)'!F99 -> 14600000 | F9: =E9*D9 -> 14600000 | G9: ='공종별내역서(공사)'!H99 -> 0 | H9: =G9*D9 -> 0 | I9: ='공종별내역서(공사)'!J99 -> 0 | J9: =I9*D9 -> 0 | K9: =E9+G9+I9 -> 14600000 | L9: =F9+H9+J9 -> 14600000 | N9: 0104 | Q9: 4 | R9: 2 | T9: =L9*1 -> 14600000
A29: [ 합 계 ] | F29: =F5 -> 3102000 | H29: =H5 -> 8554951 | J29: =J5 -> 1886728 | L29: =L5 -> 13543679

Sheet 공종별내역서(공사)
A1: [ 산양천 간이양수장 전기공사 ]
A2: 품 명 | B2: 규 격 | C2: 단위 | D2: 수량 | E2: 재 료 비 | G2: 노 무 비 | I2: 경 비 | K2: 합 계 | M2: 비 고 | N2: 품목코드 | O2: 변수 | P2: 설정 | Q2: 공종코드 | R2: 일위 | S2: 단산 | T2: 자재 | U2: 손료적용 | V2: 손료저장 | W2: 적용율 | X2: JUK1 | Y2: JUK2 | Z2: JUK3 | AA2: JUK4 | AB2: JUK5 | AC2: JUK6 | AD2: JUK7 | AE2: JUK8 | AF2: JUK9 | AG2: JUK10 | AH2: JUK11 | AI2: JUK12 | AJ2: JUK13 | AK2: JUK14 | AL2: JUK15 | AM2: JUK16 | AN2: JUK17 | AO2: JUK18 | AP2: JUK19 | AQ2: JUK20 | AR2: 자재구분 | AS2: 공종구분 | AT2: 공종레벨 | AU2: 공종+자재 | AV2: 고유번호
E3: 단 가 | F3: 금 액 | G3: 단 가 | H3: 금 액 | I3: 단 가 | J3: 금 액 | K3: 단 가 | L3: 금 액
A4: 산양천1 간이양수장 | Q4: 0101
A5: (공동주택) 엔트런스캡(위샤캡) | B5: 철재 42㎜ | C5: 개 | D5: 1 | E5: =TRUNC('단가대비표(공사)'!O25,0) -> 4761 | F5: =TRUNC(E5*D5, 0) -> 4761 | G5: =TRUNC('단가대비표(공사)'!P25,0) -> 8020 | H5: =TRUNC(G5*D5, 0) -> 8020 | I5: =TRUNC('단가대비표(공사)'!V25,0) -> 0 | J5: =TRUNC(I5*D5, 0) -> 0 | K5: =TRUNC(E5+G5+I5, 0) -> 12781 | L5: =TRUNC(F5+H5+J5, 0) -> 12781 | M5: 노무비율 62.7% | N5: 474F8D637A6542AA2364FCA075F43 | Q5: 0101 | R5: F | S5: F | T5: T | AU5: 0101474F8D637A6542AA2364FCA075F43 | AV5: 38
A6: 강제전선관-노출 | B6: 아연도, 42mm | C6: M | D6: 10 | E6: =TRUNC('일위대가목록(공사)'!E4,0) -> 10054 | F6: =TRUNC(E6*D6, 0) -> 100540 | G6: =TRUNC('일위대가목록(공사)'!F4,0) -> 82102 | H6: =TRUNC(G6*D6, 0) -> 821020 | I6: =TRUNC('일위대가목록(공사)'!G4,0) -> 0 | J6: =TRUNC(I6*D6, 0) -> 0 | K6: =TRUNC(E6+G6+I6, 0) -> 92156 | L6: =TRUNC(F6+H6+J6, 0) -> 921560 | N6: 46578C3877754383236CEF918FA77 | Q6: 0101 | R6: T | S6: F | T6: F | AU6: 010146578C3877754383236CEF918FA77 | AV6: 3
A7: 합성수지 파형관(ELP)설치 -1열 | B7: 50mm 이하 | C7: M | D7: 5 | E7: =TRUNC('일위대가목록(공사)'!E5,0) -> 180 | F7: =TRUNC(E7*D7, 0) -> 900 | G7: =TRUNC('일위대가목록(공사)'!F5,0) -> 6001 | H7: =TRUNC(G7*D7, 0) -> 30005 | I7: =TRUNC('일위대가목록(공사)'!G5,0) -> 0 | J7: =TRUNC(I7*D7, 0) -> 0 | K7: =TRUNC(E7+G7+I7, 0) -> 6181 | L7: =TRUNC(F7+H7+J7, 0) -> 30905 | N7: 46578D6CD65C463720607380A4D68 | Q7: 0101 | R7: T | S7: F | T7: F | AU7: 010146578D6CD65C463720607380A4D68 | AV7: 5
A8: 파상형경질폴리에틸렌전선관 | B8: 파상형경질폴리에틸렌전선관, ELP, 40mm | C8: M | D8: 5 | E8: =TRUNC('단가대비표(공사)'!O14,0) -> 522 | F8: =TRUNC(E8*D8, 0) -> 2610 | G8: =TRUNC('단가대비표(공사)'!P14,0) -> 0 | H8: =TRUNC(G8*D8, 0) -> 0 | I8: =TRUNC('단가대비표(공사)'!V14,0) -> 0 | J8: =TRUNC(I8*D8, 0) -> 0 | K8: =TRUNC(E8+G8+I8, 0) -> 522 | L8: =TRUNC(F8+H8+J8, 0) -> 2610 | N8: 4136893A7BCB4835276694653EA8951E1407B | Q8: 0101 | R8: F | S8: F | T8: T | AU8: 01014136893A7BCB4835276694653EA8951E1407B | AV8: 22
A9: 0.6/1kv 난연 전력케이블(F-CV) | B9: 4C*16㎟ | C9: M | D9: 15 | E9: =TRUNC('일위대가목록(공사)'!E6,0) -> 16745 | F9: =TRUNC(E9*D9, 0) -> 251175 | G9: =TRUNC('일위대가목록(공사)'!F6,0) -> 18188 | H9: =TRUNC(G9*D9, 0) -> 272820 | I9: =TRUNC('일위대가목록(공사)'!G6,0) -> 0 | J9: =TRUNC(I9*D9, 0) -> 0 | K9: =TRUNC(E9+G9+I9, 0) -> 34933 | L9: =TRUNC(F9+H9+J9, 0) -> 523995 | N9: 46578C3875474220236804B86FFB9 | Q9: 0101 | R9: T | S9: F | T9: F | AU9: 010146578C3875474220236804B86FFB9 | AV9: 4
A10: 도로커팅 | B10: 깊이 10㎝ | C10: M | D10: 5 | E10: =TRUNC('일위대가목록(공사)'!E7,0) -> 1538 | F10: =TRUNC(E10*D10, 0) -> 7690 | G10: =TRUNC('일위대가목록(공사)'!F7,0) -> 51268 | H10: =TRUNC(G10*D10, 0) -> 256340 | I10: =TRUNC('일위대가목록(공사)'!G7,0) -> 0 | J10: =TRUNC(I10*D10, 0) -> 0 | K10: =TRUNC(E10+G10+I10, 0) -> 52806 | L10: =TRUNC(F10+H10+J10, 0) -> 264030 | N10: 474F8D1421254B162C6775FE6E2B3 | Q10: 0101 | R10: T | S10: F | T10: F | AU10: 0101474F8D1421254B162C6775FE6E2B3 | AV10: 6
A11: 콘크리트타설(인력) -가설 | B11: 무근, 25-180-8 | C11: M3 | D11: 5 | E11: =TRUNC('일위대가목록(공사)'!E8,0) -> 0 | F11: =TRUNC(E11*D11, 0) -> 0 | G11: =TRUNC('일위대가목록(공사)'!F8,0) -> 0 | H11: =TRUNC(G11*D11, 0) -> 0 | I11: =TRUNC('일위대가목록(공사)'!G8,0) -> 157170 | J11: =TRUNC(I11*D11, 0) -> 785850 | K11: =TRUNC(E11+G11+I11, 0) -> 157170 | L11: =TRUNC(F11+H11+J11, 0) -> 785850 | N11: 461D8A6F02244EFA246F4AC382798 | Q11: 0101 | R11: T | S11: F | T11: F | AU11: 0101461D8A6F02244EFA246F4AC382798 | AV11: 7
A12: 합판거푸집 설치 및 해체 | B12: 간단 6회, 수직고 7m까지 | C12: M2 | D12: 1 | E12: =TRUNC('일위대가목록(공사)'!E9,0) -> 12002 | F12: =TRUNC(E12*D12, 0) -> 12002 | G12: =TRUNC('일위대가목록(공사)'!F9,0) -> 34461 | H12: =TRUNC(G12*D12, 0) -> 34461 | I12: =TRUNC('일위대가목록(공사)'!G9,0) -> 344 | J12: =TRUNC(I12*D12, 0) -> 344 | K12: =TRUNC(E12+G12+I12, 0) -> 46807 | L12: =TRUNC(F12+H12+J12, 0) -> 46807 | N12: 461D8A68D5C244BD2B6BE417C9523 | Q12: 0101 | R12: T | S12: F | T12: F | AU12: 0101461D8A68D5C244BD2B6BE417C9523 | AV12: 9
A13: 전동기 설치 | B13: 15 kW 이하 | C13: 대 | D13: 1 | E13: =TRUNC('일위대가목록(공사)'!E10,0) -> 12462 | F13: =TRUNC(E13*D13, 0) -> 12462 | G13: =TRUNC('일위대가목록(공사)'!F10,0) -> 415428 | H13: =TRUNC(G13*D13, 0) -> 415428 | I13: =TRUNC('일위대가목록(공사)'!G10,0) -> 0 | J13: =TRUNC(I13*D13, 0) -> 0 | K13: =TRUNC(E13+G13+I13, 0) -> 427890 | L13: =TRUNC(F13+H13+J13, 0) -> 427890 | N13: 46578C4A494C44122064EBA1C59B2 | Q13: 0101 | R13: T | S13: F | T13: F | AU13: 010146578C4A494C44122064EBA1C59B2 | AV13: 8
A14: 난연 비닐절연접지용전선(F-GV)-직매 | B14: 0.6/1kv, 16㎟ | C14: M | D14: 2 | E14: =TRUNC('일위대가목록(공사)'!E11,0) -> 3314 | F14: =TRUNC(E14*D14, 0) -> 6628 | G14: =TRUNC('일위대가목록(공사)'!F11,0) -> 1915 | H14: =TRUNC(G14*D14, 0) -> 3830 | I14: =TRUNC('일위대가목록(공사)'!G11,0) -> 0 | J14: =TRUNC(I14*D14, 0) -> 0 | K14: =TRUNC(E14+G14+I14, 0) -> 5229 | L14: =TRUNC(F14+H14+J14, 0) -> 10458 | N14: 46578C3874A145E9256AE0FB2304E | Q14: 0101 | R14: T | S14: F | T14: F | AU14: 010146578C3874A145E9256AE0FB2304E | AV14: 10
A15: 접지봉(지하 0.75m 기준) | B15: 길이 1~2m * 3본 | C15: 개소 | D15: 1 | E15: =TRUNC('일위대가목록(공사)'!E12,0) -> 4020 | F15: =TRUNC(E15*D15, 0) -> 4020 | G15: =TRUNC('일위대가목록(공사)'!F12,0) -> 134005 | H15: =TRUNC(G15*D15, 0) -> 134005 | I15: =TRUNC('일위대가목록(공사)'!G12,0) -> 0 | J15: =TRUNC(I15*D15, 0) -> 0 | K15: =TRUNC(E15+G15+I15, 0) -> 138025 | L15: =TRUNC(F15+H15+J15, 0) -> 138025 | N15: 46578D6FAFBD41DB246A0F9A41BD9 | Q15: 0101 | R15: T | S15: F | T15: F | AU15: 010146578D6FAFBD41DB246A0F9A41BD9 | AV15: 11
A16: 접지봉 | B16: 접지봉, 14∮*1000mm | C16: 개 | D16: 3 | E16: =TRUNC('단가대비표(공사)'!O12,0) -> 3381 | F16: =TRUNC(E16*D16, 0) -> 10143 | G16: =TRUNC('단가대비표(공사)'!P12,0) -> 0 | H16: =TRUNC(G16*D16, 0) -> 0 | I16: =TRUNC('단가대비표(공사)'!V12,0) -> 0 | J16: =TRUNC(I16*D16, 0) -> 0 | K16: =TRUNC(E16+G16+I16, 0) -> 3381 | L16: =TRUNC(F16+H16+J16, 0) -> 10143 | N16: 4136893A7A224A8624693D1088DBE25582351 | Q16: 0101 | R16: F | S16: F | T16: T | AU16: 01014136893A7A224A8624693D1088DBE25582351 | AV16: 12
A17: 0.6/1kv 난연 전력케이블(F-CV) | B17: 3C*16㎟ | C17: M | D17: 14 | E17: =TRUNC('일위대가목록(공사)'!E13,0) -> 12671 | F17: =TRUNC(E17*D17, 0) -> 177394 | G17: =TRUNC('일위대가목록(공사)'!F13,0) -> 13991 | H17: =TRUNC(G17*D17, 0) -> 195874 | I17: =TRUNC('일위대가목록(공사)'!G13,0) -> 0 | J17: =TRUNC(I17*D17, 0) -> 0 | K17: =TRUNC(E17+G17+I17, 0) -> 26662 | L17: =TRUNC(F17+H17+J17, 0) -> 373268 | N17: 46578C387547422023687FB9A9381 | Q17: 0101 | R17: T | S17: F | T17: F | AU17: 010146578C387547422023687FB9A9381 | AV17: 18
A18: 1종금속제가요전선관-노출 | B18: 비닐피복, 54mm, 방수 | C18: M | D18: 7 | E18: =TRUNC('일위대가목록(공사)'!E14,0) -> 6254 | F18: =TRUNC(E18*D18, 0) -> 43778 | G18: =TRUNC('일위대가목록(공사)'!F14,0) -> 44609 | H18: =TRUNC(G18*D18, 0) -> 312263 | I18: =TRUNC('일위대가목록(공사)'!G14,0) -> 0 | J18: =TRUNC(I18*D18, 0) -> 0 | K18: =TRUNC(E18+G18+I18, 0) -> 50863 | L18: =TRUNC(F18+H18+J18, 0) -> 356041 | N18: 46578C387775439D2A6777486EB49 | Q18: 0101 | R18: T | S18: F | T18: F | AU18: 010146578C387775439D2A6777486EB49 | AV18: 13
A19: 1종금속제가요전선관-노출 | B19: 비닐피복, 10mm, 방수 | C19: M | D19: 7 | E19: =TRUNC('일위대가목록(공사)'!E15,0) -> 2020 | F19: =TRUNC(E19*D19, 0) -> 14140 | G19: =TRUNC('일위대가목록(공사)'!F15,0) -> 14231 | H19: =TRUNC(G19*D19, 0) -> 99617 | I19: =TRUNC('일위대가목록(공사)'!G15,0) -> 0 | J19: =TRUNC(I19*D19, 0) -> 0 | K19: =TRUNC(E19+G19+I19, 0) -> 16251 | L19: =TRUNC(F19+H19+J19, 0) -> 113757 | N19: 46578C387775439D2A6777486EC6F | Q19: 0101 | R19: T | S19: F | T19: F | AU19: 010146578C387775439D2A6777486EC6F | AV19: 14
A20: 풀박스(천장면)-노출 | B20: 300*300*150mm | C20: 개 | D20: 1 | E20: =TRUNC('일위대가목록(공사)'!E16,0) -> 13444 | F20: =TRUNC(E20*D20, 0) -> 13444 | G20: =TRUNC('일위대가목록(공사)'!F16,0) -> 114943 | H20: =TRUNC(G20*D20, 0) -> 114943 | I20: =TRUNC('일위대가목록(공사)'!G16,0) -> 0 | J20: =TRUNC(I20*D20, 0) -> 0 | K20: =TRUNC(E20+G20+I20, 0) -> 128387 | L20: =TRUNC(F20+H20+J20, 0) -> 128387 | N20: 46578C387F4B47462164D00E60608 | Q20: 0101 | R20: T | S20: F | T20: F | AU20: 010146578C387F4B47462164D00E60608 | AV20: 35
A21: 오뚜기식수위계 | B21: 4접점(HH,H,L,LL) | C21: SET | D21: 1 | E21: =TRUNC('단가대비표(공사)'!O26,0) -> 470000 | F21: =TRUNC(E21*D21, 0) -> 470000 | G21: =TRUNC('단가대비표(공사)'!P26,0) -> 0 | H21: =TRUNC(G21*D21, 0) -> 0 | I21: =TRUNC('단가대비표(공사)'!V26,0) -> 0 | J21: =TRUNC(I21*D21, 0) -> 0 | K21: =TRUNC(E21+G21+I21, 0) -> 470000 | L21: =TRUNC(F21+H21+J21, 0) -> 470000 | N21: 47A686A9F2F94C13216BEEC294D7B91CC4E6D | Q21: 0101 | R21: F | S21: F | T21: T | AU21: 010147A686A9F2F94C13216BEEC294D7B91CC4E6D | AV21: 19
Q22: 0101
Q23: 0101
Q24: 0101
Q25: 0101
Q26: 0101
A27: [ 합 계 ] | F27: =SUMIF(Q5:Q26,"0101",F5:F26) -> 1131687 | H27: =SUMIF(Q5:Q26,"0101",H5:H26) -> 2698626 | J27: =SUMIF(Q5:Q26,"0101",J5:J26) -> 786194 | L27: =SUMIF(Q5:Q26,"0101",L5:L26) -> 4616507 | N27: TOTAL
A28: 산양천2 간이양수장 | Q28: 0102
A29: (공동주택) 엔트런스캡(위샤캡) | B29: 철재 42㎜ | C29: 개 | D29: 1 | E29: =TRUNC('단가대비표(공사)'!O25,0) -> 4761 | F29: =TRUNC(E29*D29, 0) -> 4761 | G29: =TRUNC('단가대비표(공사)'!P25,0) -> 8020 | H29: =TRUNC(G29*D29, 0) -> 8020 | I29: =TRUNC('단가대비표(공사)'!V25,0) -> 0 | J29: =TRUNC(I29*D29, 0) -> 0 | K29: =TRUNC(E29+G29+I29, 0) -> 12781 | L29: =TRUNC(F29+H29+J29, 0) -> 12781 | M29: 노무비율 62.7% | N29: 474F8D637A6542AA2364FCA075F43 | Q29: 0102 | R29: F | S29: F | T29: T | AU29: 0102474F8D637A6542AA2364FCA075F43 | AV29: 39
A30: 강제전선관-노출 | B30: 아연도, 42mm | C30: M | D30: 40 | E30: =TRUNC('일위대가목록(공사)'!E4,0) -> 10054 | F30: =TRUNC(E30*D30, 0) -> 402160 | G30: =TRUNC('일위대가목록(공사)'!F4,0) -> 82102 | H30: =TRUNC(G30*D30, 0) -> 3284080 | I30: =TRUNC('일위대가목록(공사)'!G4,0) -> 0 | J30: =TRUNC(I30*D30, 0) -> 0 | K30: =TRUNC(E30+G30+I30, 0) -> 92156 | L30: =TRUNC(F30+H30+J30, 0) -> 3686240 | N30: 46578C3877754383236CEF918FA77 | Q30: 0102 | R30: T | S30: F | T30: F | AU30: 010246578C3877754383236CEF918FA77 | AV30: 17
A31: 합성수지 파형관(ELP)설치 -1열 | B31: 50mm 이하 | C31: M | D31: 7 | E31: =TRUNC('일위대가목록(공사)'!E5,0) -> 180 | F31: =TRUNC(E31*D31, 0) -> 1260 | G31: =TRUNC('일위대가목록(공사)'!F5,0) -> 6001 | H31: =TRUNC(G31*D31, 0) -> 42007 | I31: =TRUNC('일위대가목록(공사)'!G5,0) -> 0 | J31: =TRUNC(I31*D31, 0) -> 0 | K31: =TRUNC(E31+G31+I31, 0) -> 6181 | L31: =TRUNC(F31+H31+J31, 0) -> 43267 | N31: 46578D6CD65C463720607380A4D68 | Q31: 0102 | R31: T | S31: F | T31: F | AU31: 010246578D6CD65C463720607380A4D68 | AV31: 23
A32: 파상형경질폴리에틸렌전선관 | B32: 파상형경질폴리에틸렌전선관, ELP, 40mm | C32: M | D32: 7 | E32: =TRUNC('단가대비표(공사)'!O14,0) -> 522 | F32: =TRUNC(E32*D32, 0) -> 3654 | G32: =TRUNC('단가대비표(공사)'!P14,0) -> 0 | H32: =TRUNC(G32*D32, 0) -> 0 | I32: =TRUNC('단가대비표(공사)'!V14,0) -> 0 | J32: =TRUNC(I32*D32, 0) -> 0 | K32: =TRUNC(E32+G32+I32, 0) -> 522 | L32: =TRUNC(F32+H32+J32, 0) -> 3654 | N32: 4136893A7BCB4835276694653EA8951E1407B | Q32: 0102 | R32: F | S32: F | T32: T | AU32: 01024136893A7BCB4835276694653EA8951E1407B | AV32: 24
A33: 0.6/1kv 난연 전력케이블(F-CV) | B33: 4C*16㎟ | C33: M | D33: 47 | E33: =TRUNC('일위대가목록(공사)'!E6,0) -> 16745 | F33: =TRUNC(E33*D33, 0) -> 787015 | G33: =TRUNC('일위대가목록(공사)'!F6,0) -> 18188 | H33: =TRUNC(G33*D33, 0) -> 854836 | I33: =TRUNC('일위대가목록(공사)'!G6,0) -> 0 | J33: =TRUNC(I33*D33, 0) -> 0 | K33: =TRUNC(E33+G33+I33, 0) -> 34933 | L33: =TRUNC(F33+H33+J33, 0) -> 1641851 | N33: 46578C3875474220236804B86FFB9 | Q33: 0102 | R33: T | S33: F | T33: F | AU33: 010246578C3875474220236804B86FFB9 | AV33: 20
A34: 도로커팅 | B34: 깊이 10㎝ | C34: M | D34: 7 | E34: =TRUNC('일위대가목록(공사)'!E7,0) -> 1538 | F34: =TRUNC(E34*D34, 0) -> 10766 | G34: =TRUNC('일위대가목록(공사)'!F7,0) -> 51268 | H34: =TRUNC(G34*D34, 0) -> 358876 | I34: =TRUNC('일위대가목록(공사)'!G7,0) -> 0 | J34: =TRUNC(I34*D34, 0) -> 0 | K34: =TRUNC(E34+G34+I34, 0) -> 52806 | L34: =TRUNC(F34+H34+J34, 0) -> 369642 | N34: 474F8D1421254B162C6775FE6E2B3 | Q34: 0102 | R34: T | S34: F | T34: F | AU34: 0102474F8D1421254B162C6775FE6E2B3 | AV34: 25
A35: 콘크리트타설(인력) -가설 | B35: 무근, 25-180-8 | C35: M3 | D35: 7 | E35: =TRUNC('일위대가목록(공사)'!E8,0) -> 0 | F35: =TRUNC(E35*D35, 0) -> 0 | G35: =TRUNC('일위대가목록(공사)'!F8,0) -> 0 | H35: =TRUNC(G35*D35, 0) -> 0 | I35: =TRUNC('일위대가목록(공사)'!G8,0) -> 157170 | J35: =TRUNC(I35*D35, 0) -> 1100190 | K35: =TRUNC(E35+G35+I35, 0) -> 157170 | L35: =TRUNC(F35+H35+J35, 0) -> 1100190 | N35: 461D8A6F02244EFA246F4AC382798 | Q35: 0102 | R35: T | S35: F | T35: F | AU35: 0102461D8A6F02244EFA246F4AC382798 | AV35: 26
A36: 합판거푸집 설치 및 해체 | B36: 간단 6회, 수직고 7m까지 | C36: M2 | D36: 1 | E36: =TRUNC('일위대가목록(공사)'!E9,0) -> 12002 | F36: =TRUNC(E36*D36, 0) -> 12002 | G36: =TRUNC('일위대가목록(공사)'!F9,0) -> 34461 | H36: =TRUNC(G36*D36, 0) -> 34461 | I36: =TRUNC('일위대가목록(공사)'!G9,0) -> 344 | J36: =TRUNC(I36*D36, 0) -> 344 | K36: =TRUNC(E36+G36+I36, 0) -> 46807 | L36: =TRUNC(F36+H36+J36, 0) -> 46807 | N36: 461D8A68D5C244BD2B6BE417C9523 | Q36: 0102 | R36: T | S36: F | T36: F | AU36: 0102461D8A68D5C244BD2B6BE417C9523 | AV36: 28
A37: 전동기 설치 | B37: 15 kW 이하 | C37: 대 | D37: 1 | E37: =TRUNC('일위대가목록(공사)'!E10,0) -> 12462 | F37: =TRUNC(E37*D37, 0) -> 12462 | G37: =TRUNC('일위대가목록(공사)'!F10,0) -> 415428 | H37: =TRUNC(G37*D37, 0) -> 415428 | I37: =TRUNC('일위대가목록(공사)'!G10,0) -> 0 | J37: =TRUNC(I37*D37, 0) -> 0 | K37: =TRUNC(E37+G37+I37, 0) -> 427890 | L37: =TRUNC(F37+H37+J37, 0) -> 427890 | N37: 46578C4A494C44122064EBA1C59B2 | Q37: 0102 | R37: T | S37: F | T37: F | AU37: 010246578C4A494C44122064EBA1C59B2 | AV37: 27
A38: 난연 비닐절연접지용전선(F-GV)-직매 | B38: 0.6/1kv, 16㎟ | C38: M | D38: 1 | E38: =TRUNC('일위대가목록(공사)'!E11,0) -> 3314 | F38: =TRUNC(E38*D38, 0) -> 3314 | G38: =TRUNC('일위대가목록(공사)'!F11,0) -> 1915 | H38: =TRUNC(G38*D38, 0) -> 1915 | I38: =TRUNC('일위대가목록(공사)'!G11,0) -> 0 | J38: =TRUNC(I38*D38, 0) -> 0 | K38: =TRUNC(E38+G38+I38, 0) -> 5229 | L38: =TRUNC(F38+H38+J38, 0) -> 5229 | N38: 46578C3874A145E9256AE0FB2304E | Q38: 0102 | R38: T | S38: F | T38: F | AU38: 010246578C3874A145E9256AE0FB2304E | AV38: 29
A39: 접지봉(지하 0.75m 기준) | B39: 길이 1~2m * 3본 | C39: 개소 | D39: 1 | E39: =TRUNC('일위대가목록(공사)'!E12,0) -> 4020 | F39: =TRUNC(E39*D39, 0) -> 4020 | G39: =TRUNC('일위대가목록(공사)'!F12,0) -> 134005 | H39: =TRUNC(G39*D39, 0) -> 134005 | I39: =TRUNC('일위대가목록(공사)'!G12,0) -> 0 | J39: =TRUNC(I39*D39, 0) -> 0 | K39: =TRUNC(E39+G39+I39, 0) -> 138025 | L39: =TRUNC(F39+H39+J39, 0) -> 138025 | N39: 46578D6FAFBD41DB246A0F9A41BD9 | Q39: 0102 | R39: T | S39: F | T39: F | AU39: 010246578D6FAFBD41DB246A0F9A41BD9 | AV39: 30
A40: 접지봉 | B40: 접지봉, 14∮*1000mm | C40: 개 | D40: 3 | E40: =TRUNC('단가대비표(공사)'!O12,0) -> 3381 | F40: =TRUNC(E40*D40, 0) -> 10143 | G40: =TRUNC('단가대비표(공사)'!P12,0) -> 0 | H40: =TRUNC(G40*D40, 0) -> 0 | I40: =TRUNC('단가대비표(공사)'!V12,0) -> 0 | J40: =TRUNC(I40*D40, 0) -> 0 | K40: =TRUNC(E40+G40+I40, 0) -> 3381 | L40: =TRUNC(F40+H40+J40, 0) -> 10143 | N40: 4136893A7A224A8624693D1088DBE25582351 | Q40: 0102 | R40: F | S40: F | T40: T | AU40: 01024136893A7A224A8624693D1088DBE25582351 | AV40: 31
...

Sheet 일위대가목록(공사)
B1: 일 위 대 가 목 록
B2: [ 산양천 간이양수장 전기공사 ]
A3: 코 드 | B3: 품 명 | C3: 규 격 | D3: 단위 | E3: 재 료 비 | F3: 노 무 비 | G3: 경 비 | H3: 합 계 | I3: 번 호 | J3: 비 고 | K3: 노임계수 | L3: 할증 | M3: 품셈개요 | N3: 장비일위
A4: 46578C3877754383236CEF918FA77 | B4: 강제전선관-노출 | C4: 아연도, 42mm | D4: M | E4: ='일위대가(공사)'!F10 -> 10054 | F4: ='일위대가(공사)'!H10 -> 82102 | G4: ='일위대가(공사)'!J10 -> 0 | H4: =E4+F4+G4 -> 92156 | I4: 호표 1
A5: 46578D6CD65C463720607380A4D68 | B5: 합성수지 파형관(ELP)설치 -1열 | C5: 50mm 이하 | D5: M | E5: ='일위대가(공사)'!F16 -> 180 | F5: ='일위대가(공사)'!H16 -> 6001 | G5: ='일위대가(공사)'!J16 -> 0 | H5: =E5+F5+G5 -> 6181 | I5: 호표 2
A6: 46578C3875474220236804B86FFB9 | B6: 0.6/1kv 난연 전력케이블(F-CV) | C6: 4C*16㎟ | D6: M | E6: ='일위대가(공사)'!F23 -> 16745 | F6: ='일위대가(공사)'!H23 -> 18188 | G6: ='일위대가(공사)'!J23 -> 0 | H6: =E6+F6+G6 -> 34933 | I6: 호표 3
A7: 474F8D1421254B162C6775FE6E2B3 | B7: 도로커팅 | C7: 깊이 10㎝ | D7: M | E7: ='일위대가(공사)'!F29 -> 1538 | F7: ='일위대가(공사)'!H29 -> 51268 | G7: ='일위대가(공사)'!J29 -> 0 | H7: =E7+F7+G7 -> 52806 | I7: 호표 4
A8: 461D8A6F02244EFA246F4AC382798 | B8: 콘크리트타설(인력) -가설 | C8: 무근, 25-180-8 | D8: M3 | E8: ='일위대가(공사)'!F35 -> 0 | F8: ='일위대가(공사)'!H35 -> 0 | G8: ='일위대가(공사)'!J35 -> 157170 | H8: =E8+F8+G8 -> 157170 | I8: 호표 5
A9: 461D8A68D5C244BD2B6BE417C9523 | B9: 합판거푸집 설치 및 해체 | C9: 간단 6회, 수직고 7m까지 | D9: M2 | E9: ='일위대가(공사)'!F40 -> 12002 | F9: ='일위대가(공사)'!H40 -> 34461 | G9: ='일위대가(공사)'!J40 -> 344 | H9: =E9+F9+G9 -> 46807 | I9: 호표 6
A10: 46578C4A494C44122064EBA1C59B2 | B10: 전동기 설치 | C10: 15 kW 이하 | D10: 대 | E10: ='일위대가(공사)'!F45 -> 12462 | F10: ='일위대가(공사)'!H45 -> 415428 | G10: ='일위대가(공사)'!J45 -> 0 | H10: =E10+F10+G10 -> 427890 | I10: 호표 7
A11: 46578C3874A145E9256AE0FB2304E | B11: 난연 비닐절연접지용전선(F-GV)-직매 | C11: 0.6/1kv, 16㎟ | D11: M | E11: ='일위대가(공사)'!F52 -> 3314 | F11: ='일위대가(공사)'!H52 -> 1915 | G11: ='일위대가(공사)'!J52 -> 0 | H11: =E11+F11+G11 -> 5229 | I11: 호표 8
A12: 46578D6FAFBD41DB246A0F9A41BD9 | B12: 접지봉(지하 0.75m 기준) | C12: 길이 1~2m * 3본 | D12: 개소 | E12: ='일위대가(공사)'!F58 -> 4020 | F12: ='일위대가(공사)'!H58 -> 134005 | G12: ='일위대가(공사)'!J58 -> 0 | H12: =E12+F12+G12 -> 138025 | I12: 호표 9
A13: 46578C387547422023687FB9A9381 | B13: 0.6/1kv 난연 전력케이블(F-CV) | C13: 3C*16㎟ | D13: M | E13: ='일위대가(공사)'!F65 -> 12671 | F13: ='일위대가(공사)'!H65 -> 13991 | G13: ='일위대가(공사)'!J65 -> 0 | H13: =E13+F13+G13 -> 26662 | I13: 호표 10
A14: 46578C387775439D2A6777486EB49 | B14: 1종금속제가요전선관-노출 | C14: 비닐피복, 54mm, 방수 | D14: M | E14: ='일위대가(공사)'!F72 -> 6254 | F14: ='일위대가(공사)'!H72 -> 44609 | G14: ='일위대가(공사)'!J72 -> 0 | H14: =E14+F14+G14 -> 50863 | I14: 호표 11
A15: 46578C387775439D2A6777486EC6F | B15: 1종금속제가요전선관-노출 | C15: 비닐피복, 10mm, 방수 | D15: M | E15: ='일위대가(공사)'!F79 -> 2020 | F15: ='일위대가(공사)'!H79 -> 14231 | G15: ='일위대가(공사)'!J79 -> 0 | H15: =E15+F15+G15 -> 16251 | I15: 호표 12
A16: 46578C387F4B47462164D00E60608 | B16: 풀박스(천장면)-노출 | C16: 300*300*150mm | D16: 개 | E16: ='일위대가(공사)'!F85 -> 13444 | F16: ='일위대가(공사)'!H85 -> 114943 | G16: ='일위대가(공사)'!J85 -> 0 | H16: =E16+F16+G16 -> 128387 | I16: 호표 13
A17: 461D8A6F03CB417F2B6ADB586DD59 | B17: 레디믹스트콘크리트 인력운반 타설 | C17: 무근구조물 | D17: M3 | E17: ='일위대가(공사)'!F91 -> 0 | F17: ='일위대가(공사)'!H91 -> 57929 | G17: ='일위대가(공사)'!J91 -> 1158 | H17: =E17+F17+G17 -> 59087 | I17: 호표 14
A18: 461D8A68D5C244BD2A6985EBCC2AE | B18: 합판거푸집 - 자재비 | C18: 6회 | D18: M2 | E18: ='일위대가(공사)'!F98 -> 12002 | F18: ='일위대가(공사)'!H98 -> 0 | G18: ='일위대가(공사)'!J98 -> 0 | H18: =E18+F18+G18 -> 12002 | I18: 호표 15
A19: 461D8A68D5C244BD2A6985EBCC3B5 | B19: 합판거푸집 - 인력투입 | C19: 간단, 수직고 7m까지 | D19: M2 | E19: ='일위대가(공사)'!F104 -> 0 | F19: ='일위대가(공사)'!H104 -> 34461 | G19: ='일위대가(공사)'!J104 -> 344 | H19: =E19+F19+G19 -> 34805 | I19: 호표 16

Sheet 일위대가(공사)
A1: [ 산양천 간이양수장 전기공사 ]
A2: 품 명 | B2: 규 격 | C2: 단위 | D2: 수량 | E2: 재 료 비 | G2: 노 무 비 | I2: 경 비 | K2: 합 계 | M2: 비 고 | N2: 일위대가 | O2: 품목코드 | P2: 일위 | Q2: 단산 | R2: 자재 | S2: 손료적용 | T2: 손료저장 | U2: 적용율 | V2: JUK1 | W2: JUK2 | X2: JUK3 | Y2: JUK4 | Z2: JUK5 | AA2: JUK6 | AB2: JUK7 | AC2: JUK8 | AD2: JUK9 | AE2: JUK10 | AF2: JUK11 | AG2: JUK12 | AH2: JUK13 | AI2: JUK14 | AJ2: JUK15 | AK2: JUK16 | AL2: JUK17 | AM2: JUK18 | AN2: JUK19 | AO2: JUK20 | AP2: 할증적용 | AQ2: 할증저장 | AR2: 할증율 | AS2: HAL1 | AT2: HAL2 | AU2: HAL3 | AV2: 자재구분 | AW2: 일위대가+자재 | AX2: 장비일위 | AY2: 설정 | AZ2: 할증체크
E3: 단 가 | F3: 금 액 | G3: 단 가 | H3: 금 액 | I3: 단 가 | J3: 금 액 | K3: 단 가 | L3: 금 액
A4: 강제전선관-노출 아연도, 42mm M ( 호표 1 ) | N4: 46578C3877754383236CEF918FA77
A5: 강제전선관 | B5: 강제전선관, 후강전선관, 아연도, 42mm | C5: M | D5: 1.1 | E5: ='단가대비표(공사)'!O13 -> 5899 | F5: =TRUNC(E5*D5,1) -> 6488.9 | G5: ='단가대비표(공사)'!P13 -> 0 | H5: =TRUNC(G5*D5,1) -> 0 | I5: ='단가대비표(공사)'!V13 -> 0 | J5: =TRUNC(I5*D5,1) -> 0 | K5: =TRUNC(E5+G5+I5,1) -> 5899 | L5: =TRUNC(F5+H5+J5,1) -> 6488.9 | N5: 46578C3877754383236CEF918FA77 | O5: 4136893A7BCB4835276694653EA8950C81BDB | P5: F | Q5: F | R5: T | V5: 1 | W5: 2 | AW5: 46578C3877754383236CEF918FA774136893A7BCB4835276694653EA8950C81BDB
A6: 전선관부속품비 | B6: 전선관의 15% | C6: 식 | D6: 1 | E6: =TRUNC(SUMIF(V5:V9, RIGHTB(O6, 1), F5:F9)*U6, 2) -> 973.33 | F6: =TRUNC(E6*D6,1) -> 973.3 | G6: 0 | H6: =TRUNC(G6*D6,1) -> 0 | I6: 0 | J6: =TRUNC(I6*D6,1) -> 0 | K6: =TRUNC(E6+G6+I6,1) -> 973.3 | L6: =TRUNC(F6+H6+J6,1) -> 973.3 | N6: 46578C3877754383236CEF918FA77 | O6: 470783E4972C40062A67E23CED5001 | P6: F | Q6: F | R6: F | S6: 0 | T6: 0 | U6: 0.15 | AW6: 46578C3877754383236CEF918FA77470783E4972C40062A67E23CED5001
A7: 잡재료비 | B7: 배관배선의 2% | C7: 식 | D7: 1 | E7: =TRUNC(SUMIF(W5:W9, RIGHTB(O7, 1), F5:F9)*U7, 2) -> 129.77 | F7: =TRUNC(E7*D7,1) -> 129.7 | G7: 0 | H7: =TRUNC(G7*D7,1) -> 0 | I7: 0 | J7: =TRUNC(I7*D7,1) -> 0 | K7: =TRUNC(E7+G7+I7,1) -> 129.7 | L7: =TRUNC(F7+H7+J7,1) -> 129.7 | N7: 46578C3877754383236CEF918FA77 | O7: 470783E4972C40062A67E23CED6002 | P7: F | Q7: F | R7: F | S7: 0 | T7: 0 | U7: 0.02 | AW7: 46578C3877754383236CEF918FA77470783E4972C40062A67E23CED6002
A8: 내선전공 | B8: 일반공사 직종 | C8: 인 | D8: 0.3 | E8: ='단가대비표(공사)'!O21 -> 0 | F8: =TRUNC(E8*D8,1) -> 0 | G8: ='단가대비표(공사)'!P21 -> 273676 | H8: =TRUNC(G8*D8,1) -> 82102.8 | I8: ='단가대비표(공사)'!V21 -> 0 | J8: =TRUNC(I8*D8,1) -> 0 | K8: =TRUNC(E8+G8+I8,1) -> 273676 | L8: =TRUNC(F8+H8+J8,1) -> 82102.8 | N8: 46578C3877754383236CEF918FA77 | O8: 46CB88EFDC8A42922163D691D895637C736BC | P8: F | Q8: F | R8: T | X8: 3 | AW8: 46578C3877754383236CEF918FA7746CB88EFDC8A42922163D691D895637C736BC
A9: 공구손료 | B9: 인력품의 3% | C9: 식 | D9: 1 | E9: =TRUNC(SUMIF(X5:X9, RIGHTB(O9, 1), H5:H9)*U9, 2) -> 2463.08 | F9: =TRUNC(E9*D9,1) -> 2463 | G9: 0 | H9: =TRUNC(G9*D9,1) -> 0 | I9: 0 | J9: =TRUNC(I9*D9,1) -> 0 | K9: =TRUNC(E9+G9+I9,1) -> 2463 | L9: =TRUNC(F9+H9+J9,1) -> 2463 | N9: 46578C3877754383236CEF918FA77 | O9: 470783E4972C40062A67E23CED7003 | P9: F | Q9: F | R9: F | S9: 1 | T9: 0 | U9: 0.03 | AW9: 46578C3877754383236CEF918FA77470783E4972C40062A67E23CED7003
A10: [ 합 계 ] | F10: =TRUNC(SUMIF(N5:N9, N4, F5:F9),0) -> 10054 | H10: =TRUNC(SUMIF(N5:N9, N4, H5:H9),0) -> 82102 | J10: =TRUNC(SUMIF(N5:N9, N4, J5:J9),0) -> 0 | L10: =F10+H10+J10 -> 92156 | N10: TOTAL | O10: TOTAL
A12: 합성수지 파형관(ELP)설치 -1열 50mm 이하 M ( 호표 2 ) | N12: 46578D6CD65C463720607380A4D68
A13: 배전전공 | B13: 일반공사 직종 | C13: 인 | D13: 0.007 | E13: ='단가대비표(공사)'!O23 -> 0 | F13: =TRUNC(E13*D13,1) -> 0 | G13: ='단가대비표(공사)'!P23 -> 414968 | H13: =TRUNC(G13*D13,1) -> 2904.7 | I13: ='단가대비표(공사)'!V23 -> 0 | J13: =TRUNC(I13*D13,1) -> 0 | K13: =TRUNC(E13+G13+I13,1) -> 414968 | L13: =TRUNC(F13+H13+J13,1) -> 2904.7 | N13: 46578D6CD65C463720607380A4D68 | O13: 46CB88EFDC8A42922163D691D895637C7390F | P13: F | Q13: F | R13: T | V13: 1 | AW13: 46578D6CD65C463720607380A4D6846CB88EFDC8A42922163D691D895637C7390F
A14: 보통인부 | B14: 일반공사 직종 | C14: 인 | D14: 0.018 | E14: ='단가대비표(공사)'!O17 -> 0 | F14: =TRUNC(E14*D14,1) -> 0 | G14: ='단가대비표(공사)'!P17 -> 172068 | H14: =TRUNC(G14*D14,1) -> 3097.2 | I14: ='단가대비표(공사)'!V17 -> 0 | J14: =TRUNC(I14*D14,1) -> 0 | K14: =TRUNC(E14+G14+I14,1) -> 172068 | L14: =TRUNC(F14+H14+J14,1) -> 3097.2 | N14: 46578D6CD65C463720607380A4D68 | O14: 46CB88EFDC8A42922163D691D895637C7313A | P14: F | Q14: F | R14: T | V14: 1 | AW14: 46578D6CD65C463720607380A4D6846CB88EFDC8A42922163D691D895637C7313A
A15: 공구손료 | B15: 인력품의 3% | C15: 식 | D15: 1 | E15: =TRUNC(SUMIF(V13:V15, RIGHTB(O15, 1), H13:H15)*U15, 2) -> 180.05 | F15: =TRUNC(E15*D15,1) -> 180 | G15: 0 | H15: =TRUNC(G15*D15,1) -> 0 | I15: 0 | J15: =TRUNC(I15*D15,1) -> 0 | K15: =TRUNC(E15+G15+I15,1) -> 180 | L15: =TRUNC(F15+H15+J15,1) -> 180 | N15: 46578D6CD65C463720607380A4D68 | O15: 470783E4972C40062A67E23CED5001 | P15: F | Q15: F | R15: F | S15: 1 | T15: 0 | U15: 0.03 | AW15: 46578D6CD65C463720607380A4D68470783E4972C40062A67E23CED5001
A16: [ 합 계 ] | F16: =TRUNC(SUMIF(N13:N15, N12, F13:F15),0) -> 180 | H16: =TRUNC(SUMIF(N13:N15, N12, H13:H15),0) -> 6001 | J16: =TRUNC(SUMIF(N13:N15, N12, J13:J15),0) -> 0 | L16: =F16+H16+J16 -> 6181 | N16: TOTAL | O16: TOTAL
A18: 0.6/1kv 난연 전력케이블(F-CV) 4C*16㎟ M ( 호표 3 ) | N18: 46578C3875474220236804B86FFB9
A19: 600V폴리에틸렌케이블 | B19: 600V폴리에틸렌케이블, 0.6/1kv, F-CV, 4C*16㎟ | C19: M | D19: 1.05 | E19: ='단가대비표(공사)'!O8 -> 15126 | F19: =TRUNC(E19*D19,1) -> 15882.3 | G19: ='단가대비표(공사)'!P8 -> 0 | H19: =TRUNC(G19*D19,1) -> 0 | I19: ='단가대비표(공사)'!V8 -> 0 | J19: =TRUNC(I19*D19,1) -> 0 | K19: =TRUNC(E19+G19+I19,1) -> 15126 | L19: =TRUNC(F19+H19+J19,1) -> 15882.3 | N19: 46578C3875474220236804B86FFB9 | O19: 41258F74C07C47972E62B7BC0EAF151D2937A | P19: F | Q19: F | R19: T | V19: 1 | AW19: 46578C3875474220236804B86FFB941258F74C07C47972E62B7BC0EAF151D2937A
A20: 잡재료비 | B20: 배관배선의 2% | C20: 식 | D20: 1 | E20: =TRUNC(SUMIF(V19:V22, RIGHTB(O20, 1), F19:F22)*U20, 2) -> 317.64 | F20: =TRUNC(E20*D20,1) -> 317.6 | G20: 0 | H20: =TRUNC(G20*D20,1) -> 0 | I20: 0 | J20: =TRUNC(I20*D20,1) -> 0 | K20: =TRUNC(E20+G20+I20,1) -> 317.6 | L20: =TRUNC(F20+H20+J20,1) -> 317.6 | N20: 46578C3875474220236804B86FFB9 | O20: 470783E4972C40062A67E23CED5001 | P20: F | Q20: F | R20: F | S20: 0 | T20: 0 | U20: 0.02 | AW20: 46578C3875474220236804B86FFB9470783E4972C40062A67E23CED5001
A21: 저압케이블전공 | B21: 일반공사 직종 | C21: 인 | D21: 0.0598 | E21: ='단가대비표(공사)'!O22 -> 0 | F21: =TRUNC(E21*D21,1) -> 0 | G21: ='단가대비표(공사)'!P22 -> 304156 | H21: =TRUNC(G21*D21,1) -> 18188.5 | I21: ='단가대비표(공사)'!V22 -> 0 | J21: =TRUNC(I21*D21,1) -> 0 | K21: =TRUNC(E21+G21+I21,1) -> 304156 | L21: =TRUNC(F21+H21+J21,1) -> 18188.5 | N21: 46578C3875474220236804B86FFB9 | O21: 46CB88EFDC8A42922163D691D895637C736B1 | P21: F | Q21: F | R21: T | W21: 2 | AW21: 46578C3875474220236804B86FFB946CB88EFDC8A42922163D691D895637C736B1
A22: 공구손료 | B22: 인력품의 3% | C22: 식 | D22: 1 | E22: =TRUNC(SUMIF(W19:W22, RIGHTB(O22, 1), H19:H22)*U22, 2) -> 545.65 | F22: =TRUNC(E22*D22,1) -> 545.6 | G22: 0 | H22: =TRUNC(G22*D22,1) -> 0 | I22: 0 | J22: =TRUNC(I22*D22,1) -> 0 | K22: =TRUNC(E22+G22+I22,1) -> 545.6 | L22: =TRUNC(F22+H22+J22,1) -> 545.6 | N22: 46578C3875474220236804B86FFB9 | O22: 470783E4972C40062A67E23CED6002 | P22: F | Q22: F | R22: F | S22: 1 | T22: 0 | U22: 0.03 | AW22: 46578C3875474220236804B86FFB9470783E4972C40062A67E23CED6002
A23: [ 합 계 ] | F23: =TRUNC(SUMIF(N19:N22, N18, F19:F22),0) -> 16745 | H23: =TRUNC(SUMIF(N19:N22, N18, H19:H22),0) -> 18188 | J23: =TRUNC(SUMIF(N19:N22, N18, J19:J22),0) -> 0 | L23: =F23+H23+J23 -> 34933 | N23: TOTAL | O23: TOTAL
A25: 도로커팅 깊이 10㎝ M ( 호표 4 ) | N25: 474F8D1421254B162C6775FE6E2B3
A26: 보통인부 | B26: 일반공사 직종 | C26: 인 | D26: 0.13 | E26: ='단가대비표(공사)'!O17 -> 0 | F26: =TRUNC(E26*D26,1) -> 0 | G26: ='단가대비표(공사)'!P17 -> 172068 | H26: =TRUNC(G26*D26,1) -> 22368.8 | I26: ='단가대비표(공사)'!V17 -> 0 | J26: =TRUNC(I26*D26,1) -> 0 | K26: =TRUNC(E26+G26+I26,1) -> 172068 | L26: =TRUNC(F26+H26+J26,1) -> 22368.8 | N26: 474F8D1421254B162C6775FE6E2B3 | O26: 46CB88EFDC8A42922163D691D895637C7313A | P26: F | Q26: F | R26: T | V26: 1 | AW26: 474F8D1421254B162C6775FE6E2B346CB88EFDC8A42922163D691D895637C7313A
A27: 착암공 | B27: 일반공사 직종 | C27: 인 | D27: 0.13 | E27: ='단가대비표(공사)'!O20 -> 0 | F27: =TRUNC(E27*D27,1) -> 0 | G27: ='단가대비표(공사)'!P20 -> 222306 | H27: =TRUNC(G27*D27,1) -> 28899.7 | I27: ='단가대비표(공사)'!V20 -> 0 | J27: =TRUNC(I27*D27,1) -> 0 | K27: =TRUNC(E27+G27+I27,1) -> 222306 | L27: =TRUNC(F27+H27+J27,1) -> 28899.7 | N27: 474F8D1421254B162C6775FE6E2B3 | O27: 46CB88EFDC8A42922163D691D895637C73014 | P27: F | Q27: F | R27: T | V27: 1 | AW27: 474F8D1421254B162C6775FE6E2B346CB88EFDC8A42922163D691D895637C73014
A28: 공구손료 | B28: 인력품의 3% | C28: 식 | D28: 1 | E28: =TRUNC(SUMIF(V26:V28, RIGHTB(O28, 1), H26:H28)*U28, 2) -> 1538.05 | F28: =TRUNC(E28*D28,1) -> 1538 | G28: 0 | H28: =TRUNC(G28*D28,1) -> 0 | I28: 0 | J28: =TRUNC(I28*D28,1) -> 0 | K28: =TRUNC(E28+G28+I28,1) -> 1538 | L28: =TRUNC(F28+H28+J28,1) -> 1538 | N28: 474F8D1421254B162C6775FE6E2B3 | O28: 470783E4972C40062A67E23CED5001 | P28: F | Q28: F | R28: F | S28: 1 | T28: 0 | U28: 0.03 | AW28: 474F8D1421254B162C6775FE6E2B3470783E4972C40062A67E23CED5001
A29: [ 합 계 ] | F29: =TRUNC(SUMIF(N26:N28, N25, F26:F28),0) -> 1538 | H29: =TRUNC(SUMIF(N26:N28, N25, H26:H28),0) -> 51268 | J29: =TRUNC(SUMIF(N26:N28, N25, J26:J28),0) -> 0 | L29: =F29+H29+J29 -> 52806 | N29: TOTAL | O29: TOTAL
A31: 콘크리트타설(인력) -가설 무근, 25-180-8 M3 ( 호표 5 ) | N31: 461D8A6F02244EFA246F4AC382798
A32: 레미콘 - 서울 | B32: 25-18-08 | C32: M3 | D32: 1.02 | E32: ='단가대비표(공사)'!O10 -> 96160 | F32: =TRUNC(E32*D32,1) -> 98083.2 | G32: ='단가대비표(공사)'!P10 -> 0 | H32: =TRUNC(G32*D32,1) -> 0 | I32: ='단가대비표(공사)'!V10 -> 0 | J32: =TRUNC(I32*D32,1) -> 0 | K32: =TRUNC(E32+G32+I32,1) -> 96160 | L32: =TRUNC(F32+H32+J32,1) -> 98083.2 | M32: 금액제외 | O32: 413680DF1B984A962A6D7158B37169CC811A5 | P32: F | Q32: F | R32: T | V32: 1 | AW32: 461D8A6F02244EFA246F4AC382798413680DF1B984A962A6D7158B37169CC811A5 | AY32: -
A33: 레디믹스트콘크리트 인력운반 타설 | B33: 무근구조물 | C33: M3 | D33: 1 | E33: ='일위대가목록(공사)'!E17 -> 0 | F33: =TRUNC(E33*D33,1) -> 0 | G33: ='일위대가목록(공사)'!F17 -> 57929 | H33: =TRUNC(G33*D33,1) -> 57929 | I33: ='일위대가목록(공사)'!G17 -> 1158 | J33: =TRUNC(I33*D33,1) -> 1158 | K33: =TRUNC(E33+G33+I33,1) -> 59087 | L33: =TRUNC(F33+H33+J33,1) -> 59087 | M33: 금액제외 | O33: 461D8A6F03CB417F2B6ADB586DD59 | P33: T | Q33: F | R33: F | V33: 1 | AW33: 461D8A6F02244EFA246F4AC382798461D8A6F03CB417F2B6ADB586DD59 | AY33: -
A34: 경비로 적용 | B34: 합계의 100% | C34: 식 | D34: 1 | E34: 0 | F34: =TRUNC(E34*D34,1) -> 0 | G34: 0 | H34: =TRUNC(G34*D34,1) -> 0 | I34: =TRUNC(SUMIF(V32:V34, RIGHTB(O34, 1), L32:L34)*U34, 2) -> 157170.2 | J34: =TRUNC(I34*D34,1) -> 157170.2 | K34: =TRUNC(E34+G34+I34,1) -> 157170.2 | L34: =TRUNC(F34+H34+J34,1) -> 157170.2 | N34: 461D8A6F02244EFA246F4AC382798 | O34: 470783E4972C40062A67E23CED5001 | P34: F | Q34: F | R34: F | S34: 3 | T34: 2 | U34: 1 | AW34: 461D8A6F02244EFA246F4AC382798470783E4972C40062A67E23CED5001
A35: [ 합 계 ] | F35: =TRUNC(SUMIF(N32:N34, N31, F32:F34),0) -> 0 | H35: =TRUNC(SUMIF(N32:N34, N31, H32:H34),0) -> 0 | J35: =TRUNC(SUMIF(N32:N34, N31, J32:J34),0) -> 157170 | L35: =F35+H35+J35 -> 157170 | N35: TOTAL | O35: TOTAL
A37: 합판거푸집 설치 및 해체 간단 6회, 수직고 7m까지 M2 ( 호표 6 ) | N37: 461D8A68D5C244BD2B6BE417C9523
A38: 합판거푸집 - 자재비 | B38: 6회 | C38: M2 | D38: 1 | E38: ='일위대가목록(공사)'!E18 -> 12002 | F38: =TRUNC(E38*D38,1) -> 12002 | G38: ='일위대가목록(공사)'!F18 -> 0 | H38: =TRUNC(G38*D38,1) -> 0 | I38: ='일위대가목록(공사)'!G18 -> 0 | J38: =TRUNC(I38*D38,1) -> 0 | K38: =TRUNC(E38+G38+I38,1) -> 12002 | L38: =TRUNC(F38+H38+J38,1) -> 12002 | N38: 461D8A68D5C244BD2B6BE417C9523 | O38: 461D8A68D5C244BD2A6985EBCC2AE | P38: T | Q38: F | R38: F | AW38: 461D8A68D5C244BD2B6BE417C9523461D8A68D5C244BD2A6985EBCC2AE
A39: 합판거푸집 - 인력투입 | B39: 간단, 수직고 7m까지 | C39: M2 | D39: 1 | E39: ='일위대가목록(공사)'!E19 -> 0 | F39: =TRUNC(E39*D39,1) -> 0 | G39: ='일위대가목록(공사)'!F19 -> 34461 | H39: =TRUNC(G39*D39,1) -> 34461 | I39: ='일위대가목록(공사)'!G19 -> 344 | J39: =TRUNC(I39*D39,1) -> 344 | K39: =TRUNC(E39+G39+I39,1) -> 34805 | L39: =TRUNC(F39+H39+J39,1) -> 34805 | N39: 461D8A68D5C244BD2B6BE417C9523 | O39: 461D8A68D5C244BD2A6985EBCC3B5 | P39: T | Q39: F | R39: F | AW39: 461D8A68D5C244BD2B6BE417C9523461D8A68D5C244BD2A6985EBCC3B5
A40: [ 합 계 ] | F40: =TRUNC(SUMIF(N38:N39, N37, F38:F39),0) -> 12002 | H40: =TRUNC(SUMIF(N38:N39, N37, H38:H39),0) -> 34461 | J40: =TRUNC(SUMIF(N38:N39, N37, J38:J39),0) -> 344 | L40: =F40+H40+J40 -> 46807 | N40: TOTAL | O40: TOTAL
A42: 전동기 설치 15 kW 이하 대 ( 호표 7 ) | N42: 46578C4A494C44122064EBA1C59B2
A43: 플랜트전공 | B43: 일반공사 직종 | C43: 인 | D43: 1.54 | E43: ='단가대비표(공사)'!O24 -> 0 | F43: =TRUNC(E43*D43,1) -> 0 | G43: ='단가대비표(공사)'!P24 -> 269759 | H43: =TRUNC(G43*D43,1) -> 415428.8 | I43: ='단가대비표(공사)'!V24 -> 0 | J43: =TRUNC(I43*D43,1) -> 0 | K43: =TRUNC(E43+G43+I43,1) -> 269759 | L43: =TRUNC(F43+H43+J43,1) -> 415428.8 | N43: 46578C4A494C44122064EBA1C59B2 | O43: 46CB88EFDC8A42922163D691D895637C7390D | P43: F | Q43: F | R43: T | V43: 1 | AW43: 46578C4A494C44122064EBA1C59B246CB88EFDC8A42922163D691D895637C7390D
A44: 공구손료 | B44: 인력품의 3% | C44: 식 | D44: 1 | E44: =TRUNC(SUMIF(V43:V44, RIGHTB(O44, 1), H43:H44)*U44, 2) -> 12462.86 | F44: =TRUNC(E44*D44,1) -> 12462.8 | G44: 0 | H44: =TRUNC(G44*D44,1) -> 0 | I44: 0 | J44: =TRUNC(I44*D44,1) -> 0 | K44: =TRUNC(E44+G44+I44,1) -> 12462.8 | L44: =TRUNC(F44+H44+J44,1) -> 12462.8 | N44: 46578C4A494C44122064EBA1C59B2 | O44: 470783E4972C40062A67E23CED5001 | P44: F | Q44: F | R44: F | S44: 1 | T44: 0 | U44: 0.03 | AW44: 46578C4A494C44122064EBA1C59B2470783E4972C40062A67E23CED5001
A45: [ 합 계 ] | F45: =TRUNC(SUMIF(N43:N44, N42, F43:F44),0) -> 12462 | H45: =TRUNC(SUMIF(N43:N44, N42, H43:H44),0) -> 415428 | J45: =TRUNC(SUMIF(N43:N44, N42, J43:J44),0) -> 0 | L45: =F45+H45+J45 -> 427890 | N45: TOTAL | O45: TOTAL
A47: 난연 비닐절연접지용전선(F-GV)-직매 0.6/1kv, 16㎟ M ( 호표 8 ) | N47: 46578C3874A145E9256AE0FB2304E
...

Sheet 단가대비표(공사)
A1: 단 가 대 비 표
A2: [ 산양천 간이양수장 전기공사 ]
A3: 코 드 | B3: 품 명 | C3: 규격 | D3: 단위 | E3: 재 료 비 | P3: 노 무 비 | Q3: 경 비 | W3: 번 호 | X3: 비 고 | Y3: 품목구분 | Z3: 노임구분 | AA3: 소수점처리 | AB3: 자재구분
E4: 조달청가격 | F4: PAGE | G4: 거래가격 | H4: PAGE | I4: 유통물가 | J4: PAGE | K4: 조사가격1 | L4: PAGE | M4: 조사가격2 | N4: PAGE | O4: 적용단가 | Q4: 조달청가격 | R4: 거래가격 | S4: 유통물가 | T4: 조사가격1 | U4: 조사가격2 | V4: 적용단가
A5: 411B8308555E4C0928667DA6F4CCA339BF84E | B5: 내수합판 | C5: 내수합판, 1급, 12*1220*2440mm | D5: M2 | E5: 11018 | G5: 11354.47 | H5: 667 | I5: 11556.03 | J5: 407 | K5: 0 | M5: 0 | O5: =SMALL(E5:M5,COUNTIF(E5:M5,0)+1) -> 11018 | P5: 0 | Q5: 0 | R5: 0 | S5: 0 | T5: 0 | U5: 0 | V5: 0 | W5: 자재 1
A6: 41258F74C07C47A02161D842CF7038080F1D2 | B6: 접지용비닐절연전선 | C6: 접지용비닐절연전선, F-GV, 16㎟ | D6: M | E6: 3041 | G6: 4604 | H6: 994 | I6: 4388 | J6: 833 | K6: 0 | M6: 0 | O6: =SMALL(E6:M6,COUNTIF(E6:M6,0)+1) -> 3041 | P6: 0 | Q6: 0 | R6: 0 | S6: 0 | T6: 0 | U6: 0 | V6: 0 | W6: 자재 2
A7: 41258F74C07C47972E62B7BC0EAF151D2952F | B7: 600V폴리에틸렌케이블 | C7: 600V폴리에틸렌케이블, 0.6/1kv, F-CV, 3C*16㎟ | D7: M | E7: 11440 | G7: 13899 | H7: 993 | I7: 13415 | J7: 834 | K7: 0 | M7: 0 | O7: =SMALL(E7:M7,COUNTIF(E7:M7,0)+1) -> 11440 | P7: 0 | Q7: 0 | R7: 0 | S7: 0 | T7: 0 | U7: 0 | V7: 0 | W7: 자재 3
A8: 41258F74C07C47972E62B7BC0EAF151D2937A | B8: 600V폴리에틸렌케이블 | C8: 600V폴리에틸렌케이블, 0.6/1kv, F-CV, 4C*16㎟ | D8: M | E8: 15126 | G8: 18405 | H8: 993 | I8: 17737 | J8: 834 | K8: 0 | M8: 0 | O8: =SMALL(E8:M8,COUNTIF(E8:M8,0)+1) -> 15126 | P8: 0 | Q8: 0 | R8: 0 | S8: 0 | T8: 0 | U8: 0 | V8: 0 | W8: 자재 4
A9: 413680DF1AF142422A6E2E6B392E2CDCF5277 | B9: 각재 | C9: 각재, 외송 | D9: M3 | E9: 571556 | G9: 634730.53 | H9: 147 | I9: 571556.88 | J9: 73 | K9: 0 | M9: 0 | O9: =SMALL(E9:M9,COUNTIF(E9:M9,0)+1) -> 571556 | P9: 0 | Q9: 0 | R9: 0 | S9: 0 | T9: 0 | U9: 0 | V9: 0 | W9: 자재 5
A10: 413680DF1B984A962A6D7158B37169CC811A5 | B10: 레미콘 - 서울 | C10: 25-18-08 | D10: M3 | E10: 0 | G10: 98080 | H10: 108 | I10: 96160 | J10: 66 | K10: 0 | M10: 0 | O10: =SMALL(E10:M10,COUNTIF(E10:M10,0)+1) -> 96160 | P10: 0 | Q10: 0 | R10: 0 | S10: 0 | T10: 0 | U10: 0 | V10: 0 | W10: 자재 6
A11: 4136893A7A224ADE276B25C65560F82460118 | B11: 풀박스 | C11: 풀박스, 300*300*150mm | D11: 개 | E11: 9996 | G11: 22110 | H11: 1028 | I11: 11760 | J11: 873 | K11: 0 | M11: 0 | O11: =SMALL(E11:M11,COUNTIF(E11:M11,0)+1) -> 9996 | P11: 0 | Q11: 0 | R11: 0 | S11: 0 | T11: 0 | U11: 0 | V11: 0 | W11: 자재 7
A12: 4136893A7A224A8624693D1088DBE25582351 | B12: 접지봉 | C12: 접지봉, 14∮*1000mm | D12: 개 | E12: 3381 | G12: 0 | I12: 3900 | J12: 925 | K12: 0 | M12: 0 | O12: =SMALL(E12:M12,COUNTIF(E12:M12,0)+1) -> 3381 | P12: 0 | Q12: 0 | R12: 0 | S12: 0 | T12: 0 | U12: 0 | V12: 0 | W12: 자재 8
A13: 4136893A7BCB4835276694653EA8950C81BDB | B13: 강제전선관 | C13: 강제전선관, 후강전선관, 아연도, 42mm | D13: M | E13: 5899 | G13: 7350 | H13: 1029 | I13: 8486 | J13: 864 | K13: 0 | M13: 0 | O13: =SMALL(E13:M13,COUNTIF(E13:M13,0)+1) -> 5899 | P13: 0 | Q13: 0 | R13: 0 | S13: 0 | T13: 0 | U13: 0 | V13: 0 | W13: 자재 9
A14: 4136893A7BCB4835276694653EA8951E1407B | B14: 파상형경질폴리에틸렌전선관 | C14: 파상형경질폴리에틸렌전선관, ELP, 40mm | D14: M | E14: 522 | G14: 857 | H14: 1025 | I14: 607 | J14: 861 | K14: 0 | M14: 0 | O14: =SMALL(E14:M14,COUNTIF(E14:M14,0)+1) -> 522 | P14: 0 | Q14: 0 | R14: 0 | S14: 0 | T14: 0 | U14: 0 | V14: 0 | W14: 자재 10
A15: 4136893A7BCB483527669454CF9DDA9C2288A | B15: 1종금속제가요전선관 | C15: 1종금속제가요전선관, 비닐피복, 10mm, 방수 | D15: M | E15: 0 | G15: 1420 | H15: 1027 | I15: 0 | K15: 0 | M15: 0 | O15: =SMALL(E15:M15,COUNTIF(E15:M15,0)+1) -> 1420 | P15: 0 | Q15: 0 | R15: 0 | S15: 0 | T15: 0 | U15: 0 | V15: 0 | W15: 자재 11
A16: 4136893A7BCB483527669454CF9DDA9C2288D | B16: 1종금속제가요전선관 | C16: 1종금속제가요전선관, 비닐피복, 54mm, 방수 | D16: M | E16: 4382 | G16: 9180 | H16: 1027 | I16: 0 | K16: 0 | M16: 0 | O16: =SMALL(E16:M16,COUNTIF(E16:M16,0)+1) -> 4382 | P16: 0 | Q16: 0 | R16: 0 | S16: 0 | T16: 0 | U16: 0 | V16: 0 | W16: 자재 12
A17: 46CB88EFDC8A42922163D691D895637C7313A | B17: 보통인부 | C17: 일반공사 직종 | D17: 인 | E17: 0 | G17: 0 | I17: 0 | K17: 0 | M17: 0 | O17: 0 | P17: 172068 | Q17: 0 | R17: 0 | S17: 0 | T17: 0 | U17: 0 | V17: 0 | W17: 노임 1 | Y17: B
A18: 46CB88EFDC8A42922163D691D895637C7313F | B18: 형틀목공 | C18: 일반공사 직종 | D18: 인 | E18: 0 | G18: 0 | I18: 0 | K18: 0 | M18: 0 | O18: 0 | P18: 275790 | Q18: 0 | R18: 0 | S18: 0 | T18: 0 | U18: 0 | V18: 0 | W18: 노임 2 | Y18: B
A19: 46CB88EFDC8A42922163D691D895637C73012 | B19: 콘크리트공 | C19: 일반공사 직종 | D19: 인 | E19: 0 | G19: 0 | I19: 0 | K19: 0 | M19: 0 | O19: 0 | P19: 273540 | Q19: 0 | R19: 0 | S19: 0 | T19: 0 | U19: 0 | V19: 0 | W19: 노임 3 | Y19: B
A20: 46CB88EFDC8A42922163D691D895637C73014 | B20: 착암공 | C20: 일반공사 직종 | D20: 인 | E20: 0 | G20: 0 | I20: 0 | K20: 0 | M20: 0 | O20: 0 | P20: 222306 | Q20: 0 | R20: 0 | S20: 0 | T20: 0 | U20: 0 | V20: 0 | W20: 노임 4 | Y20: B
A21: 46CB88EFDC8A42922163D691D895637C736BC | B21: 내선전공 | C21: 일반공사 직종 | D21: 인 | E21: 0 | G21: 0 | I21: 0 | K21: 0 | M21: 0 | O21: 0 | P21: 273676 | Q21: 0 | R21: 0 | S21: 0 | T21: 0 | U21: 0 | V21: 0 | W21: 노임 5 | Y21: B
A22: 46CB88EFDC8A42922163D691D895637C736B1 | B22: 저압케이블전공 | C22: 일반공사 직종 | D22: 인 | E22: 0 | G22: 0 | I22: 0 | K22: 0 | M22: 0 | O22: 0 | P22: 304156 | Q22: 0 | R22: 0 | S22: 0 | T22: 0 | U22: 0 | V22: 0 | W22: 노임 6 | Y22: B
A23: 46CB88EFDC8A42922163D691D895637C7390F | B23: 배전전공 | C23: 일반공사 직종 | D23: 인 | E23: 0 | G23: 0 | I23: 0 | K23: 0 | M23: 0 | O23: 0 | P23: 414968 | Q23: 0 | R23: 0 | S23: 0 | T23: 0 | U23: 0 | V23: 0 | W23: 노임 7 | Y23: B
A24: 46CB88EFDC8A42922163D691D895637C7390D | B24: 플랜트전공 | C24: 일반공사 직종 | D24: 인 | E24: 0 | G24: 0 | I24: 0 | K24: 0 | M24: 0 | O24: 0 | P24: 269759 | Q24: 0 | R24: 0 | S24: 0 | T24: 0 | U24: 0 | V24: 0 | W24: 노임 8 | Y24: B
A25: 474F8D637A6542AA2364FCA075F43 | B25: (공동주택) 엔트런스캡(위샤캡) | C25: 철재 42㎜ | D25: 개 | E25: 4761 | G25: 0 | I25: 0 | K25: 0 | M25: 0 | O25: =SMALL(E25:M25,COUNTIF(E25:M25,0)+1) -> 4761 | P25: 8020 | Q25: 0 | R25: 0 | S25: 0 | T25: 0 | U25: 0 | V25: 0 | W25: 자재 13 | X25: 노무비율 62.7% | Y25: 1
A26: 47A686A9F2F94C13216BEEC294D7B91CC4E6D | B26: 오뚜기식수위계 | C26: 4접점(HH,H,L,LL) | D26: SET | E26: 0 | G26: 0 | I26: 0 | K26: 0 | M26: 470000 | N26: M085064 | O26: =SMALL(E26:M26,COUNTIF(E26:M26,0)+1) -> 470000 | P26: 0 | Q26: 0 | R26: 0 | S26: 0 | T26: 0 | U26: 0 | V26: 0 | W26: 자재 14
A27: 47A686A9F2F94C13216BEEC294D7B91CC4E6E | B27: 산양천1,2 간이양수장 분전반 | D27: 식 | E27: 0 | G27: 0 | I27: 0 | K27: 0 | M27: ='원가계산서(제조)'!E16 -> 14600000 | O27: =SMALL(E27:M27,COUNTIF(E27:M27,0)+1) -> 14600000 | P27: 0 | Q27: 0 | R27: 0 | S27: 0 | T27: 0 | U27: 0 | V27: 0 | W27: 자재 15

Sheet 자재소요량집계표(공사)
A1: 자 재 소 요 량 집 계 표
A2: [ 산양천 간이양수장 전기공사 ]
A3: 코 드 | B3: 품 명 | C3: 규 격 | D3: 단위 | E3: 수 량 | F3: 단 가 | G3: 금 액 | H3: 번 호 | I3: 비 고
A5: ZA00000000000001 | B5: 오뚜기식수위계 | C5: 4접점(HH,H,L,LL) | D5: SET | E5: 2 | F5: 470000 | G5: 940000 | H5: 자재 14
A6: ZA00000000000002 | B6: 산양천1,2 간이양수장 분전반 | D6: 식 | E6: 2 | F6: 16060000 | G6: 32120000 | H6: 자재 15
B7: 소 계 | G7: 33060000
A8: ☞ 육송(외송) -각재,판재
A9: 3010369820141038 | B9: 각재 | C9: 각재, 외송 | D9: M3 | E9: 0.076 | F9: 571556 | G9: 43438 | H9: 자재 5
B10: 소 계 | G10: 43438
A11: ☞ 내수합판
A12: 1112200120142458 | B12: 내수합판 | C12: 내수합판, 1급, 12*1220*2440mm | D12: M2 | E12: 2.06 | F12: 11018 | G12: 22697 | H12: 자재 1
B13: 소 계 | G13: 22697
A14: ☞ 서울
A15: 3011150510068418 | B15: 레미콘 - 서울 | C15: 25-18-08 | D15: M3 | E15: 12.24 | F15: 96160 | G15: 1176998 | H15: 자재 6
B16: 소 계 | G16: 1176998
A17: ☞ 0.6/1KV 트레이 접지용 F-GV
A18: 2612152420683699 | B18: 접지용비닐절연전선 | C18: 접지용비닐절연전선, F-GV, 16㎟ | D18: M | E18: 3.15 | F18: 3041 | G18: 9579 | H18: 자재 2
B19: 소 계 | G19: 9579
A20: ☞ 0.6/1KV 케이블(F-CV) -3C
A21: 2612162920683925 | B21: 600V폴리에틸렌케이블 | C21: 600V폴리에틸렌케이블, 0.6/1kv, F-CV, 3C*16㎟ | D21: M | E21: 29.4 | F21: 11440 | G21: 336336 | H21: 자재 3
B22: 소 계 | G22: 336336
A23: ☞ 0.6/1KV 케이블(F-CV) -4C
A24: 2612162920683947 | B24: 600V폴리에틸렌케이블 | C24: 600V폴리에틸렌케이블, 0.6/1kv, F-CV, 4C*16㎟ | D24: M | E24: 65.1 | F24: 15126 | G24: 984702 | H24: 자재 4
B25: 소 계 | G25: 984702
A26: 접지자재
A27: 3912161310034844 | B27: 접지봉 | C27: 접지봉, 14∮*1000mm | D27: 개 | E27: 6 | F27: 3381 | G27: 20286 | H27: 자재 8
B28: 소 계 | G28: 20286
A29: 강제전선관(STEEL)
A30: 3913170610034836 | B30: 강제전선관 | C30: 강제전선관, 후강전선관, 아연도, 42mm | D30: M | E30: 55 | F30: 5899 | G30: 324445 | H30: 자재 9
B31: 소 계 | G31: 324445
A32: 파상형 전선관(PE)
A33: 3913170610035632 | B33: 파상형경질폴리에틸렌전선관 | C33: 파상형경질폴리에틸렌전선관, ELP, 40mm | D33: M | E33: 12 | F33: 522 | G33: 6264 | H33: 자재 10
B34: 소 계 | G34: 6264
A35: ☞ 일반
A36: 3913170620174420 | B36: 1종금속제가요전선관 | C36: 1종금속제가요전선관, 비닐피복, 10mm, 방수 | D36: M | E36: 15.4 | F36: 1420 | G36: 21868 | H36: 자재 11
A37: 3913170620174427 | B37: 1종금속제가요전선관 | C37: 1종금속제가요전선관, 비닐피복, 54mm, 방수 | D37: M | E37: 15.4 | F37: 4382 | G37: 67482 | H37: 자재 12
B38: 소 계 | G38: 89350
A39: 풀박스
A40: 3912130320174766 | B40: 풀박스 | C40: 풀박스, 300*300*150mm | D40: 개 | E40: 2 | F40: 9996 | G40: 19992 | H40: 자재 7
B41: 소 계 | G41: 19992
...

Sheet 공량산출근거서(공사)
A1: 공 량 산 출 근 거 서
A2: [ 산양천 간이양수장 전기공사 ]
A3: 코 드 | B3: 품 명 | C3: 규 격 | D3: 단위 | E3: 품 셈 목 록 | F3: 수 량 | G3: 할증 | H3: 노임할증-1 | I3: 노임할증-2 | J3: 노임할증-3 | K3: 내역수량 | L3: 직 종 명 | M3: 공 량 | N3: 계 | O3: 번 호 | P3: 비 고 | T3: 공종+자재 | V3: 보통인부 | W3: 배전전공 | X3: 내선전공
B4: 산양천1 간이양수장
A5: 4136893A7BCB4835276694653EA8951E1407B | B5: 파상형경질폴리에틸렌전선관 | C5: 파상형경질폴리에틸렌전선관, ELP, 40mm | D5: M | E5: 전기품셈 4-31 | F5: 5 | G5: 3 | K5: 5 | L5: 보통인부 | M5: =0.018*(H5+100)/100*(I5+100)/100*(J5+100)/100 -> 0.018 | N5: =F5*M5 -> 0.09 | O5: 노임 1 | Q5: 0101 | R5: 46CB88EFDC8A42922163D691D895637C7313A | S5: 0.018 | T5: 01014136893A7BCB4835276694653EA8951E1407B | V5: =N5 -> 0.09
L6: 배전전공 | M6: =0.007*(H5+100)/100*(I5+100)/100*(J5+100)/100 -> 0.007 | N6: =F5*M6 -> 0.035 | O6: 노임 7 | Q6: 0101 | R6: 46CB88EFDC8A42922163D691D895637C7390F | S6: 0.007 | T6: 01014136893A7BCB4835276694653EA8951E1407B | W6: =N6 -> 0.035
A7: 4136893A7A224A8624693D1088DBE25582351 | B7: 접지봉 | C7: 접지봉, 14∮*1000mm | D7: 개 | E7: 전기품셈 3-38 | F7: 3 | G7: 0 | K7: 3 | L7: 보통인부 | M7: =0.08*(H7+100)/100*(I7+100)/100*(J7+100)/100 -> 0.08 | N7: =F7*M7 -> 0.24 | O7: 노임 1 | Q7: 0101 | R7: 46CB88EFDC8A42922163D691D895637C7313A | S7: 0.08 | T7: 01014136893A7A224A8624693D1088DBE25582351 | V7: =N7 -> 0.24
L8: 내선전공 | M8: =0.11*(H7+100)/100*(I7+100)/100*(J7+100)/100 -> 0.11 | N8: =F7*M8 -> 0.33 | O8: 노임 5 | Q8: 0101 | R8: 46CB88EFDC8A42922163D691D895637C736BC | S8: 0.11 | T8: 01014136893A7A224A8624693D1088DBE25582351 | X8: =N8 -> 0.33
A9: 46CB88EFDC8A42922163D691D895637C7313A | B9: 보통인부 | C9: 일반공사 직종 | D9: 인 | F9: 0.33 | Q9: 0101 | T9: 010146CB88EFDC8A42922163D691D895637C7313A
A10: 46CB88EFDC8A42922163D691D895637C736BC | B10: 내선전공 | C10: 일반공사 직종 | D10: 인 | F10: 0.33 | Q10: 0101 | T10: 010146CB88EFDC8A42922163D691D895637C736BC
A11: 46CB88EFDC8A42922163D691D895637C7390F | B11: 배전전공 | C11: 일반공사 직종 | D11: 인 | F11: 0.035 | Q11: 0101 | T11: 010146CB88EFDC8A42922163D691D895637C7390F
B12: 산양천2 간이양수장
A13: 4136893A7BCB4835276694653EA8951E1407B | B13: 파상형경질폴리에틸렌전선관 | C13: 파상형경질폴리에틸렌전선관, ELP, 40mm | D13: M | E13: 전기품셈 4-31 | F13: 7 | G13: 3 | K13: 7 | L13: 보통인부 | M13: =0.018*(H13+100)/100*(I13+100)/100*(J13+100)/100 -> 0.018 | N13: =F13*M13 -> 0.126 | O13: 노임 1 | Q13: 0102 | R13: 46CB88EFDC8A42922163D691D895637C7313A | S13: 0.018 | T13: 01024136893A7BCB4835276694653EA8951E1407B | V13: =N13 -> 0.126
L14: 배전전공 | M14: =0.007*(H13+100)/100*(I13+100)/100*(J13+100)/100 -> 0.007 | N14: =F13*M14 -> 0.049 | O14: 노임 7 | Q14: 0102 | R14: 46CB88EFDC8A42922163D691D895637C7390F | S14: 0.007 | T14: 01024136893A7BCB4835276694653EA8951E1407B | W14: =N14 -> 0.049
A15: 4136893A7A224A8624693D1088DBE25582351 | B15: 접지봉 | C15: 접지봉, 14∮*1000mm | D15: 개 | E15: 전기품셈 3-38 | F15: 3 | G15: 0 | K15: 3 | L15: 보통인부 | M15: =0.08*(H15+100)/100*(I15+100)/100*(J15+100)/100 -> 0.08 | N15: =F15*M15 -> 0.24 | O15: 노임 1 | Q15: 0102 | R15: 46CB88EFDC8A42922163D691D895637C7313A | S15: 0.08 | T15: 01024136893A7A224A8624693D1088DBE25582351 | V15: =N15 -> 0.24
L16: 내선전공 | M16: =0.11*(H15+100)/100*(I15+100)/100*(J15+100)/100 -> 0.11 | N16: =F15*M16 -> 0.33 | O16: 노임 5 | Q16: 0102 | R16: 46CB88EFDC8A42922163D691D895637C736BC | S16: 0.11 | T16: 01024136893A7A224A8624693D1088DBE25582351 | X16: =N16 -> 0.33
A17: 46CB88EFDC8A42922163D691D895637C7313A | B17: 보통인부 | C17: 일반공사 직종 | D17: 인 | F17: 0.366 | Q17: 0102 | T17: 010246CB88EFDC8A42922163D691D895637C7313A
A18: 46CB88EFDC8A42922163D691D895637C736BC | B18: 내선전공 | C18: 일반공사 직종 | D18: 인 | F18: 0.33 | Q18: 0102 | T18: 010246CB88EFDC8A42922163D691D895637C736BC
A19: 46CB88EFDC8A42922163D691D895637C7390F | B19: 배전전공 | C19: 일반공사 직종 | D19: 인 | F19: 0.049 | Q19: 0102 | T19: 010246CB88EFDC8A42922163D691D895637C7390F
B20: 산양천 간이양수장 분전반
B21: 사급자재비

Sheet 공량설정(공사)
A1: 공종명 | B1: 적용율(%) | C1: 소수점이하자릿수 | D1: 공종코드
A2: 0101 산양천1 간이양수장 | B2: 100 | D2: 0101
A3: 0102 산양천2 간이양수장 | B3: 100 | D3: 0102
A4: 0103 산양천 간이양수장 분전반 | B4: 100 | D4: 0103
A5: 0104 사급자재비 | B5: 100 | D5: 0104

Sheet  공사설정 (공사)
A1: 이 Sheet는 수정하지 마십시요
A2: 공사구분 | B2: A | C2: 타이틀
A3: 확정내역 | B3: 원내역
A4: 자재단가적용 | B4: 5
A5: 경비단가적용 | B5: 5
A6: 품목코드형식 | B6: XXXX-XXXXXXXXXXXXX
A7: 내역금액소수점처리 | B7: C | C7: 1
A8: 일위대가내역소수점처리 | B8: C | C8: 2
A9: 단가명 | B9: 조달청가격 | C9: 거래가격 | D9: 유통물가 | E9: 조사가격1 | F9: 조사가격2 | G9: TTTTT
A10: 환율 | B10: 0 | C10: 0 | D10: 0
A11: 시간당작업량 | B11: R | C11: 4
A12: 1회 사이클시간 | B12: R | C12: 4
A13: 시간당 작업사이클 | B13: R | C13: 3
A14: 일반변수 | B14: C | C14: 5
A15: 시간당 노임산출 계수 | B15: A | C15: 1/8*16/12*25/20 | D15: 1/8*16/12*25/20 | E15: 1/8*16/12*25/20 | F15: 1
A16: 재료비 할증 계수 | B16: 0 | C16: 0
A17: 노무비 할증 계수 | B17: 0 | C17: 0 | D17: 0 | E17: 0 | F17: 0 | G17: 0 | H17: 0 | I17: 0 | J17: 0 | K17: 0 | L17: 0 | M17: 0
A18: 경비 할증 계수 | B18: 0 | C18: 0
A19: 내역,일위대가 품명,규격,단위 따로적용
A20: 내역단가 소수점처리 | C20: 1
A21: 코드 | B21: 공종구분명 | C21: 원가비목코드
A22: 1 | B22: 작 업 부 산 물 | C22: A3
A23: 2 | B23: 운 반 비 | C23: C1
A24: 3 | B24: 관 급 자 재 비 | C24: DJ
A25: 4 | B25: 사 급 자 재 비 | C25: D3
A26: 5 | B26: 외 자 재
A27: 6 | B27: 폐기물처리비
A28: 7 | B28: ...
A29: 8 | B29: ...
A30: 9 | B30: ...
A31: A | B31: ....
A32: B | B32: .....
A33: C | B33: ....
A34: D | B34: ....
A35: E | B35: ....
A36: F | B36: ....
A37: G | B37: ....
A38: H | B38: ....
A39: I | B39: ....
A40: J | B40: ....
...

Sheet 원가계산서(제조)
B1: 제 조 원 가 계 산 서
B2: 공사명 : 산양천 간이양수장 분전반 | F2: 금액 : 일천육백육만원(￦16,060,000)
B3: 비 목 | E3: 금 액 | F3: 구 성 비 | G3: 비 고
A4: A1 | B4: 순 공 사 원 가 | C4: 재 료 비 | D4: 직 접 재 료 비 | E4: =TRUNC('공종별집계표(제조)'!F5, 0) -> 9520070 | F4: 산출재료비 * 100%
A5: A2 | D5: 간 접 재 료 비 | E5: =TRUNC(E4*0.0117, 0) -> 111384 | F5: 직접재료비 * 1.17%
A6: A3 | D6: 작업설, 부산물(△) | E6: 0
A7: AS | D7: [ 소 계 ] | E7: =TRUNC(E4+E5-E6, 0) -> 9631454
A8: B1 | C8: 노 무 비 | D8: 직 접 노 무 비 | E8: =TRUNC(([1]공종별집계표!H5)*1.2025, 0) -> 1699654 | F8: 산출노무비 * 120.25%
A9: B2 | D9: 간 접 노 무 비 | E9: =TRUNC(E8*0.303, 0) -> 514995 | F9: 직접노무비 * 30.3%
A10: BS | D10: [ 소 계 ] | E10: =TRUNC(E8+E9, 0) -> 2214649
A11: CG | D11: 경 비 | E11: =TRUNC(E7*0.0907, 0) -> 873572 | F11: 재료비 * 9.07%
A12: CS | D12: [ 소 계 ] | E12: =TRUNC(E11, 0) -> 873572
A13: S1 | B13: 계 | E13: =TRUNC(E7+E10+E12, 0) -> 12719675
A14: D1 | B14: 일 반 관 리 비 | E14: =TRUNC(E13*0.07, 0) -> 890377 | F14: 계 * 7%
A15: D2 | B15: 이 윤 | E15: =TRUNC((E10+E12+E14)*0.25, 0) -> 994649 | F15: (노무비+경비+일반관리비) * 25%
A16: D9 | B16: 공 급 가 액 | E16: =TRUNC(E13+E14+E15, -4) -> 14600000
A17: DB | B17: 부 가 가 치 세 | E17: =TRUNC(E16*0.1, 0) -> 1460000 | F17: 공급가액 * 10%
A18: DH | B18: 계 | E18: =TRUNC(E16+E17, 0) -> 16060000
A19: S2 | B19: 합 계 | E19: =TRUNC(E18+0, 0) -> 16060000

Sheet 공종별집계표(제조)
A1: 공 종 별 집 계 표
A2: [ 산양천 간이양수장 분전반 ]
A3: 품 명 | B3: 규 격 | C3: 단위 | D3: 수량 | E3: 재 료 비 | G3: 노 무 비 | I3: 경 비 | K3: 합 계 | M3: 비 고 | N3: 공종코드 | O3: 변수 | P3: 상위공종 | Q3: 공종구분 | R3: 공종레벨 | S3: 공종소계 | T3: 원가계산서 연결금액
E4: 단 가 | F4: 금 액 | G4: 단 가 | H4: 금 액 | I4: 단 가 | J4: 금 액 | K4: 단 가 | L4: 금 액
A5: 산양천 간이양수장 분전반 | D5: 1 | E5: =F6+F7 -> 9520070 | F5: =E5*D5 -> 9520070 | G5: =H6+H7 -> 2126240 | H5: =G5*D5 -> 2126240 | I5: =J6+J7 -> 0 | J5: =I5*D5 -> 0 | K5: =E5+G5+I5 -> 11646310 | L5: =F5+H5+J5 -> 11646310 | N5: 01 | R5: 1
A6: 산양천1 간이양수장 | D6: 1 | E6: ='공종별내역서(제조)'!F51 -> 4985035 | F6: =E6*D6 -> 4985035 | G6: ='공종별내역서(제조)'!H51 -> 1063120 | H6: =G6*D6 -> 1063120 | I6: ='공종별내역서(제조)'!J51 -> 0 | J6: =I6*D6 -> 0 | K6: =E6+G6+I6 -> 6048155 | L6: =F6+H6+J6 -> 6048155 | N6: 0101 | P6: 01 | R6: 2
A7: 산양천2 간이양수장 | D7: 1 | E7: ='공종별내역서(제조)'!F99 -> 4535035 | F7: =E7*D7 -> 4535035 | G7: ='공종별내역서(제조)'!H99 -> 1063120 | H7: =G7*D7 -> 1063120 | I7: ='공종별내역서(제조)'!J99 -> 0 | J7: =I7*D7 -> 0 | K7: =E7+G7+I7 -> 5598155 | L7: =F7+H7+J7 -> 5598155 | N7: 0102 | P7: 01 | R7: 2
A29: [ 합 계 ] | F29: =F5 -> 9520070 | H29: =H5 -> 2126240 | J29: =J5 -> 0 | L29: =L5 -> 11646310

Sheet 공종별내역서(제조)
A1: [ 산양천 간이양수장 분전반 ]
A2: 품 명 | B2: 규 격 | C2: 단위 | D2: 수량 | E2: 재 료 비 | G2: 노 무 비 | I2: 경 비 | K2: 합 계 | M2: 비 고 | N2: 품목코드 | O2: 변수 | P2: 설정 | Q2: 공종코드 | R2: 일위 | S2: 단산 | T2: 자재 | U2: 손료적용 | V2: 손료저장 | W2: 적용율 | X2: JUK1 | Y2: JUK2 | Z2: JUK3 | AA2: JUK4 | AB2: JUK5 | AC2: JUK6 | AD2: JUK7 | AE2: JUK8 | AF2: JUK9 | AG2: JUK10 | AH2: JUK11 | AI2: JUK12 | AJ2: JUK13 | AK2: JUK14 | AL2: JUK15 | AM2: JUK16 | AN2: JUK17 | AO2: JUK18 | AP2: JUK19 | AQ2: JUK20 | AR2: 자재구분 | AS2: 공종구분 | AT2: 공종레벨 | AU2: 공종+자재 | AV2: 고유번호
E3: 단 가 | F3: 금 액 | G3: 단 가 | H3: 금 액 | I3: 단 가 | J3: 금 액 | K3: 단 가 | L3: 금 액
A4: 산양천1 간이양수장 | Q4: 0101
A5: 계량기함 | B5: STS(방수형) | C5: 개 | D5: 1 | E5: =TRUNC('단가대비표(제조)'!O35,0) -> 450000 | F5: =TRUNC(E5*D5, 0) -> 450000 | G5: =TRUNC('단가대비표(제조)'!P35,0) -> 0 | H5: =TRUNC(G5*D5, 0) -> 0 | I5: =TRUNC('단가대비표(제조)'!V35,0) -> 0 | J5: =TRUNC(I5*D5, 0) -> 0 | K5: =TRUNC(E5+G5+I5, 0) -> 450000 | L5: =TRUNC(F5+H5+J5, 0) -> 450000 | N5: 574A8119B404B5FD5615521948837CA0C28C3F | Q5: 0101 | R5: F | S5: F | T5: T | AU5: 0101574A8119B404B5FD5615521948837CA0C28C3F | AV5: 3
A6: 동력분전반 외함 | B6: STS 0.8(W)x0.4(D)x1.2(H) | C6: 면 | D6: 1 | E6: =TRUNC('단가대비표(제조)'!O33,0) -> 1411700 | F6: =TRUNC(E6*D6, 0) -> 1411700 | G6: =TRUNC('단가대비표(제조)'!P33,0) -> 0 | H6: =TRUNC(G6*D6, 0) -> 0 | I6: =TRUNC('단가대비표(제조)'!V33,0) -> 0 | J6: =TRUNC(I6*D6, 0) -> 0 | K6: =TRUNC(E6+G6+I6, 0) -> 1411700 | L6: =TRUNC(F6+H6+J6, 0) -> 1411700 | N6: 574A8119B404B5FD5615521948837CA0C28C31 | Q6: 0101 | R6: F | S6: F | T6: T | AU6: 0101574A8119B404B5FD5615521948837CA0C28C31 | AV6: 4
A7: DOOR HANDLE (배전반용) | B7: W/KEY(M) | C7: 개 | D7: 1 | E7: =TRUNC('단가대비표(제조)'!O8,0) -> 4170 | F7: =TRUNC(E7*D7, 0) -> 4170 | G7: =TRUNC('단가대비표(제조)'!P8,0) -> 0 | H7: =TRUNC(G7*D7, 0) -> 0 | I7: =TRUNC('단가대비표(제조)'!V8,0) -> 0 | J7: =TRUNC(I7*D7, 0) -> 0 | K7: =TRUNC(E7+G7+I7, 0) -> 4170 | L7: =TRUNC(F7+H7+J7, 0) -> 4170 | N7: 574A8119B404B5FD5615521948837CA0C28F88 | Q7: 0101 | R7: F | S7: F | T7: T | AU7: 0101574A8119B404B5FD5615521948837CA0C28F88 | AV7: 5
A8: DOOR HANDLE (배전반용) | B8: PUSH TURN W/KEY(M) | C8: 개 | D8: 1 | E8: =TRUNC('단가대비표(제조)'!O9,0) -> 2830 | F8: =TRUNC(E8*D8, 0) -> 2830 | G8: =TRUNC('단가대비표(제조)'!P9,0) -> 0 | H8: =TRUNC(G8*D8, 0) -> 0 | I8: =TRUNC('단가대비표(제조)'!V9,0) -> 0 | J8: =TRUNC(I8*D8, 0) -> 0 | K8: =TRUNC(E8+G8+I8, 0) -> 2830 | L8: =TRUNC(F8+H8+J8, 0) -> 2830 | N8: 574A8119B404B5FD5615521948837CA0C28F8F | Q8: 0101 | R8: F | S8: F | T8: T | AU8: 0101574A8119B404B5FD5615521948837CA0C28F8F | AV8: 6
A9: DOOR STOPPER (배전반용) | B9: STS | C9: 개 | D9: 1 | E9: =TRUNC('단가대비표(제조)'!O10,0) -> 10000 | F9: =TRUNC(E9*D9, 0) -> 10000 | G9: =TRUNC('단가대비표(제조)'!P10,0) -> 0 | H9: =TRUNC(G9*D9, 0) -> 0 | I9: =TRUNC('단가대비표(제조)'!V10,0) -> 0 | J9: =TRUNC(I9*D9, 0) -> 0 | K9: =TRUNC(E9+G9+I9, 0) -> 10000 | L9: =TRUNC(F9+H9+J9, 0) -> 10000 | N9: 574A8119B404B5FD5615521948837CA0C28F8E | Q9: 0101 | R9: F | S9: F | T9: T | AU9: 0101574A8119B404B5FD5615521948837CA0C28F8E | AV9: 7
A10: 누전차단기(ELCB) | B10: 분전반용 220V 2P 30AF | C10: 대 | D10: 2 | E10: =TRUNC('단가대비표(제조)'!O11,0) -> 12000 | F10: =TRUNC(E10*D10, 0) -> 24000 | G10: =TRUNC('단가대비표(제조)'!P11,0) -> 0 | H10: =TRUNC(G10*D10, 0) -> 0 | I10: =TRUNC('단가대비표(제조)'!V11,0) -> 0 | J10: =TRUNC(I10*D10, 0) -> 0 | K10: =TRUNC(E10+G10+I10, 0) -> 12000 | L10: =TRUNC(F10+H10+J10, 0) -> 24000 | N10: 574A8119B404B5FD5615521948837CA0C28F82 | Q10: 0101 | R10: F | S10: F | T10: T | AU10: 0101574A8119B404B5FD5615521948837CA0C28F82 | AV10: 8
A11: 전자식과전류계전기(EOCR-단자형) | B11: 디지털표시부부착 | C11: 개 | D11: 1 | E11: =TRUNC('단가대비표(제조)'!O12,0) -> 125000 | F11: =TRUNC(E11*D11, 0) -> 125000 | G11: =TRUNC('단가대비표(제조)'!P12,0) -> 0 | H11: =TRUNC(G11*D11, 0) -> 0 | I11: =TRUNC('단가대비표(제조)'!V12,0) -> 0 | J11: =TRUNC(I11*D11, 0) -> 0 | K11: =TRUNC(E11+G11+I11, 0) -> 125000 | L11: =TRUNC(F11+H11+J11, 0) -> 125000 | N11: 574A8119B404B5FD5615521948837CA0C28EE5 | Q11: 0101 | R11: F | S11: F | T11: T | AU11: 0101574A8119B404B5FD5615521948837CA0C28EE5 | AV11: 9
A12: 디지털메터 | B12: 전압, 전류 등, 통신無 | C12: 개 | D12: 1 | E12: =TRUNC('단가대비표(제조)'!O13,0) -> 350000 | F12: =TRUNC(E12*D12, 0) -> 350000 | G12: =TRUNC('단가대비표(제조)'!P13,0) -> 0 | H12: =TRUNC(G12*D12, 0) -> 0 | I12: =TRUNC('단가대비표(제조)'!V13,0) -> 0 | J12: =TRUNC(I12*D12, 0) -> 0 | K12: =TRUNC(E12+G12+I12, 0) -> 350000 | L12: =TRUNC(F12+H12+J12, 0) -> 350000 | N12: 574A8119B404B5FD5615521948837CA0C28EE6 | Q12: 0101 | R12: F | S12: F | T12: T | AU12: 0101574A8119B404B5FD5615521948837CA0C28EE6 | AV12: 10
A13: 단자대 | B13: 10P 30A | C13: 개 | D13: 1 | E13: =TRUNC('단가대비표(제조)'!O14,0) -> 2500 | F13: =TRUNC(E13*D13, 0) -> 2500 | G13: =TRUNC('단가대비표(제조)'!P14,0) -> 0 | H13: =TRUNC(G13*D13, 0) -> 0 | I13: =TRUNC('단가대비표(제조)'!V14,0) -> 0 | J13: =TRUNC(I13*D13, 0) -> 0 | K13: =TRUNC(E13+G13+I13, 0) -> 2500 | L13: =TRUNC(F13+H13+J13, 0) -> 2500 | N13: 574A8119B404B5FD5615521948837CA0C28EE7 | Q13: 0101 | R13: F | S13: F | T13: T | AU13: 0101574A8119B404B5FD5615521948837CA0C28EE7 | AV13: 11
A14: 단자대 | B14: 4P, 30A, 고정식 | C14: 개 | D14: 1 | E14: =TRUNC('단가대비표(제조)'!O15,0) -> 1890 | F14: =TRUNC(E14*D14, 0) -> 1890 | G14: =TRUNC('단가대비표(제조)'!P15,0) -> 0 | H14: =TRUNC(G14*D14, 0) -> 0 | I14: =TRUNC('단가대비표(제조)'!V15,0) -> 0 | J14: =TRUNC(I14*D14, 0) -> 0 | K14: =TRUNC(E14+G14+I14, 0) -> 1890 | L14: =TRUNC(F14+H14+J14, 0) -> 1890 | N14: 574A8119B404B5FD5615521948837CA0C28EE0 | Q14: 0101 | R14: F | S14: F | T14: T | AU14: 0101574A8119B404B5FD5615521948837CA0C28EE0 | AV14: 12
A15: 보조릴레이 | B15: 2A,2B(AC용) | C15: 개 | D15: 5 | E15: =TRUNC('단가대비표(제조)'!O16,0) -> 13700 | F15: =TRUNC(E15*D15, 0) -> 68500 | G15: =TRUNC('단가대비표(제조)'!P16,0) -> 0 | H15: =TRUNC(G15*D15, 0) -> 0 | I15: =TRUNC('단가대비표(제조)'!V16,0) -> 0 | J15: =TRUNC(I15*D15, 0) -> 0 | K15: =TRUNC(E15+G15+I15, 0) -> 13700 | L15: =TRUNC(F15+H15+J15, 0) -> 68500 | N15: 574A8119B404B5FD5615521948837CA0C28EE1 | Q15: 0101 | R15: F | S15: F | T15: T | AU15: 0101574A8119B404B5FD5615521948837CA0C28EE1 | AV15: 13
A16: 푸쉬버튼 스위치 | B16: D25AC110V/220V(조광형) | C16: 개 | D16: 3 | E16: =TRUNC('단가대비표(제조)'!O17,0) -> 3100 | F16: =TRUNC(E16*D16, 0) -> 9300 | G16: =TRUNC('단가대비표(제조)'!P17,0) -> 0 | H16: =TRUNC(G16*D16, 0) -> 0 | I16: =TRUNC('단가대비표(제조)'!V17,0) -> 0 | J16: =TRUNC(I16*D16, 0) -> 0 | K16: =TRUNC(E16+G16+I16, 0) -> 3100 | L16: =TRUNC(F16+H16+J16, 0) -> 9300 | N16: 574A8119B404B5FD5615521948837CA0C28EE2 | Q16: 0101 | R16: F | S16: F | T16: T | AU16: 0101574A8119B404B5FD5615521948837CA0C28EE2 | AV16: 14
A17: 서지보호기(카운터)3상4선 | B17: 전원용 Class2, In 20kA이상, Imax 40kA이상,누설전류 검출 | C17: SET | D17: 1 | E17: =TRUNC('단가대비표(제조)'!O18,0) -> 1850000 | F17: =TRUNC(E17*D17, 0) -> 1850000 | G17: =TRUNC('단가대비표(제조)'!P18,0) -> 0 | H17: =TRUNC(G17*D17, 0) -> 0 | I17: =TRUNC('단가대비표(제조)'!V18,0) -> 0 | J17: =TRUNC(I17*D17, 0) -> 0 | K17: =TRUNC(E17+G17+I17, 0) -> 1850000 | L17: =TRUNC(F17+H17+J17, 0) -> 1850000 | N17: 574A8119B404B5FD5615521948837CA0C28EEC | Q17: 0101 | R17: F | S17: F | T17: T | AU17: 0101574A8119B404B5FD5615521948837CA0C28EEC | AV17: 15
