Workbook

Sheet 원가계산서(공사)
B1: 공 사 원 가 계 산 서
B2: 공사명 : 산양천 간이양수장 전기공사 | F2: 금액 : 원(￦0)
B3: 비 목 | E3: 금 액 | F3: 구 성 비 | G3: 비 고
A4: A1 | B4: 순 공 사 원 가 | C4: 재 료 비 | D4: 직 접 재 료 비 | E4: =TRUNC('공종별집계표(공사)'!F5, 0) -> 3102000
A5: A2 | D5: 간 접 재 료 비 | E5: 0
A6: A3 | D6: 작업설, 부산물(△) | E6: 0
A7: AS | D7: [ 소 계 ] | E7: =TRUNC(E4+E5-E6, 0) -> 3102000
A8: B1 | C8: 노 무 비 | D8: 직 접 노 무 비 | E8: =TRUNC('공종별집계표(공사)'!H5, 0) -> 8554951
A9: B2 | D9: 간 접 노 무 비 | E9: =TRUNC(E8*0.191, 0) -> 1633995 | F9: 직접노무비 * 19.1%
A10: BS | D10: [ 소 계 ] | E10: =TRUNC(E8+E9, 0) -> 10188946
A11: C2 | C11: 경 비 | D11: 경 비 | E11: =TRUNC('공종별집계표(공사)'!J5, 0) -> 1886728
A12: C4 | D12: 산 재 보 험 료 | E12: =TRUNC(E10*0.0356, 0) -> 362726 | F12: 노무비 * 3.56%
A13: C5 | D13: 고 용 보 험 료 | E13: =TRUNC(E10*0.0101, 0) -> 102908 | F13: 노무비 * 1.01%
A14: C6 | D14: 국민 건강 보험료 | F14: 직접노무비 * 3.595%
A15: C7 | D15: 국민 연금 보험료 | F15: 직접노무비 * 4.75%
A16: C8 | D16: 퇴직 공제 부금비 | F16: 직접노무비 * 2.3%
A17: CA | D17: 산업안전보건관리비 | E17: =TRUNC((E7+E8+(0/1.1))*0.0207, 0) -> 241298 | F17: (재료비+직노+관급자재비) * 2.07%
A18: CB | D18: 노인장기요양보험료 | E18: =TRUNC(E14*0.1314, 0) -> 0 | F18: 건강보험료 * 13.14%
A19: CD | D19: 석면분담금 | E19: =TRUNC(E10*0.00006, 0) -> 611 | F19: 노무비 * 0.006%
A20: CC | D20: 임금채권부담금 | E20: =TRUNC(E10*0.0009, 0) -> 9170 | F20: 노무비 * 0.09%
A21: CG | D21: 기 타 경 비 | E21: =TRUNC((E7+E10)*0.055, 0) -> 731002 | F21: (재료비+노무비) * 5.5%
A22: CS | D22: [ 소 계 ] | E22: =TRUNC(E11+E12+E13+E14+E15+E16+E17+E18+E20+E19+E21, 0) -> 3334443
A23: S1 | B23: 계 | E23: =TRUNC(E7+E10+E22, 0) -> 16625389
A24: D1 | B24: 일 반 관 리 비 | E24: =TRUNC(E23*0.08, 0) -> 1330031 | F24: 계 * 8%
A25: D2 | B25: 이 윤 | E25: =TRUNC((E10+E22+E24)*0.15, 0) -> 2228013 | F25: (노무비+경비+일반관리비) * 15%
A26: D3 | B26: 사 급 자 재 비 | E26: =TRUNC('공종별집계표(공사)'!T9, 0) -> 14600000
A27: D9 | B27: 공 급 가 액 | E27: =TRUNC(E23+E24+E25+E26, -4) -> 34780000
A28: DA | B28: 손해배상공제수수료 | E28: =TRUNC((E27+0)*0.0026477, -2) -> 92000
A29: DB | B29: 부 가 가 치 세 | E29: =TRUNC(E27*0.1, 0) -> 3478000 | F29: 공급가액 * 10%
A30: DH | B30: 도 급 액 | E30: =TRUNC(E27+E29, 0) -> 38258000
A31: S2 | B31: 총 공 사 비 | E31: =TRUNC(E30+0, 0) -> 38258000

Sheet 공종별집계표(공사)
A1: 공 종 별 집 계 표
A2: [ 산양천 간이양수장 전기공사 ]
A3: 품 명 | B3: 규 격 | C3: 단위 | D3: 수량 | E3: 재 료 비 | G3: 노 무 비 | I3: 경 비 | K3: 합 계 | M3: 비 고 | N3: 공종코드 | O3: 변수 | P3: 상위공종 | Q3: 공종구분 | R3: 공종레벨 | S3: 공종소계 | T3: 원가계산서 연결금액
E4: 단 가 | F4: 금 액 | G4: 단 가 | H4: 금 액 | I4: 단 가 | J4: 금 액 | K4: 단 가 | L4: 금 액
A5: 산양천 간이양수장 전기공사 | D5: 1 | E5: =F6+F7+F8 -> 3102000 | F5: =E5*D5 -> 3102000 | G5: =H6+H7+H8 -> 8554951 | H5: =G5*D5 -> 8554951 | I5: =J6+J7+J8 -> 1886728 | J5: =I5*D5 -> 1886728 | K5: =E5+G5+I5 -> 13543679 | L5: =F5+H5+J5 -> 13543679 | N5: 01 | R5: 1
A6: 산양천1 간이양수장 | D6: 1 | E6: ='공종별내역서(공사)'!F27 -> 1131687 | F6: =E6*D6 -> 1131687 | G6: ='공종별내역서(공사)'!H27 -> 2698626 | H6: =G6*D6 -> 2698626 | I6: ='공종별내역서(공사)'!J27 -> 786194 | J6: =I6*D6 -> 786194 | K6: =E6+G6+I6 -> 4616507 | L6: =F6+H6+J6 -> 4616507 | N6: 0101 | P6: 01 | R6: 2
A7: 산양천2 간이양수장 | D7: 1 | E7: ='공종별내역서(공사)'!F51 -> 1970313 | F7: =E7*D7 -> 1970313 | G7: ='공종별내역서(공사)'!H51 -> 5856325 | H7: =G7*D7 -> 5856325 | I7: ='공종별내역서(공사)'!J51 -> 1100534 | J7: =I7*D7 -> 1100534 | K7: =E7+G7+I7 -> 8927172 | L7: =F7+H7+J7 -> 8927172 | N7: 0102 | P7: 01 | R7: 2
A8: 산양천 간이양수장 분전반 | D8: 1 | E8: ='공종별내역서(공사)'!F75 -> 0 | F8: =E8*D8 -> 0 | G8: ='공종별내역서(공사)'!H75 -> 0 | H8: =G8*D8 -> 0 | I8: ='공종별내역서(공사)'!J75 -> 0 | J8: =I8*D8 -> 0 | K8: =E8+G8+I8 -> 0 | L8: =F8+H8+J8 -> 0 | N8: 0103 | P8: 01 | R8: 2
A9: 사급자재비 | D9: 1 | E9: ='공종별내역서(공사)'!F99 -> 14600000 | F9: =E9*D9 -> 14600000 | G9: ='공종별내역서(공사)'!H99 -> 0 | H9: =G9*D9 -> 0 | I9: ='공종별내역서(공사)'!J99 -> 0 | J9: =I9*D9 -> 0 | K9: =E9+G9+I9 -> 14600000 | L9: =F9+H9+J9 -> 14600000 | N9: 0104 | Q9: 4 | R9: 2 | T9: =L9*1 -> 14600000
A29: [ 합 계 ] | F29: =F5 -> 3102000 | H29: =H5 -> 8554951 | J29: =J5 -> 1886728 | L29: =L5 -> 13543679

Sheet 공종별내역서(공사)
A1: [ 산양천 간이양수장 전기공사 ]
A2: 품 명 | B2: 규 격 | C2: 단위 | D2: 수량 | E2: 재 료 비 | G2: 노 무 비 | I2: 경 비 | K2: 합 계 | M2: 비 고 | N2: 품목코드 | O2: 변수 | P2: 설정 | Q2: 공종코드 | R2: 일위 | S2: 단산 | T2: 자재 | U2: 손료적용 | V2: 손료저장 | W2: 적용율 | X2: JUK1 | Y2: JUK2 | Z2: JUK3 | AA2: JUK4 | AB2: JUK5 | AC2: JUK6 | AD2: JUK7 | AE2: JUK8 | AF2: JUK9 | AG2: JUK10 | AH2: JUK11 | AI2: JUK12 | AJ2: JUK13 | AK2: JUK14 | AL2: JUK15 | AM2: JUK16 | AN2: JUK17 | AO2: JUK18 | AP2: JUK19 | AQ2: JUK20 | AR2: 자재구분 | AS2: 공종구분 | AT2: 공종레벨 | AU2: 공종+자재 | AV2: 고유번호
E3: 단 가 | F3: 금 액 | G3: 단 가 | H3: 금 액 | I3: 단 가 | J3: 금 액 | K3: 단 가 | L3: 금 액
A4: 산양천1 간이양수장 | Q4: 0101
A5: (공동주택) 엔트런스캡(위샤캡) | B5: 철재 42㎜ | C5: 개 | D5: 1 | E5: =TRUNC('단가대비표(공사)'!O25,0) -> 4761 | F5: =TRUNC(E5*D5, 0) -> 4761 | G5: =TRUNC('단가대비표(공사)'!P25,0) -> 8020 | H5: =TRUNC(G5*D5, 0) -> 8020 | I5: =TRUNC('단가대비표(공사)'!V25,0) -> 0 | J5: =TRUNC(I5*D5, 0) -> 0 | K5: =TRUNC(E5+G5+I5, 0) -> 12781 | L5: =TRUNC(F5+H5+J5, 0) -> 12781 | M5: 노무비율 62.7% | N5: 474F8D637A6542AA2364FCA075F43 | Q5: 0101 | R5: F | S5: F | T5: T | AU5: 0101474F8D637A6542AA2364FCA075F43 | AV5: 38
A6: 강제전선관-노출 | B6: 아연도, 42mm | C6: M | D6: 10 | E6: =TRUNC('일위대가목록(공사)'!E4,0) -> 10054 | F6: =TRUNC(E6*D6, 0) -> 100540 | G6: =TRUNC('일위대가목록(공사)'!F4,0) -> 82102 | H6: =TRUNC(G6*D6, 0) -> 821020 | I6: =TRUNC('일위대가목록(공사)'!G4,0) -> 0 | J6: =TRUNC(I6*D6, 0) -> 0 | K6: =TRUNC(E6+G6+I6, 0) -> 92156 | L6: =TRUNC(F6+H6+J6, 0) -> 921560 | N6: 46578C3877754383236CEF918FA77 | Q6: 0101 | R6: T | S6: F | T6: F | AU6: 010146578C3877754383236CEF918FA77 | AV6: 3
A7: 합성수지 파형관(ELP)설치 -1열 | B7: 50mm 이하 | C7: M | D7: 5 | E7: =TRUNC('일위대가목록(공사)'!E5,0) -> 180 | F7: =TRUNC(E7*D7, 0) -> 900 | G7: =TRUNC('일위대가목록(공사)'!F5,0) -> 6001 | H7: =TRUNC(G7*D7, 0) -> 30005 | I7: =TRUNC('일위대가목록(공사)'!G5,0) -> 0 | J7: =TRUNC(I7*D7, 0) -> 0 | K7: =TRUNC(E7+G7+I7, 0) -> 6181 | L7: =TRUNC(F7+H7+J7, 0) -> 30905 | N7: 46578D6CD65C463720607380A4D68 | Q7: 0101 | R7: T | S7: F | T7: F | AU7: 010146578D6CD65C463720607380A4D68 | AV7: 5
A8: 파상형경질폴리에틸렌전선관 | B8: 파상형경질폴리에틸렌전선관, ELP, 40mm | C8: M | D8: 5 | E8: =TRUNC('단가대비표(공사)'!O14,0) -> 522 | F8: =TRUNC(E8*D8, 0) -> 2610 | G8: =TRUNC('단가대비표(공사)'!P14,0) -> 0 | H8: =TRUNC(G8*D8, 0) -> 0 | I8: =TRUNC('단가대비표(공사)'!V14,0) -> 0 | J8: =TRUNC(I8*D8, 0) -> 0 | K8: =TRUNC(E8+G8+I8, 0) -> 522 | L8: =TRUNC(F8+H8+J8, 0) -> 2610 | N8: 4136893A7BCB4835276694653EA8951E1407B | Q8: 0101 | R8: F | S8: F | T8: T | AU8: 01014136893A7BCB4835276694653EA8951E1407B | AV8: 22
A9: 0.6/1kv 난연 전력케이블(F-CV) | B9: 4C*16㎟ | C9: M | D9: 15 | E9: =TRUNC('일위대가목록(공사)'!E6,0) -> 16745 | F9: =TRUNC(E9*D9, 0) -> 251175 | G9: =TRUNC('일위대가목록(공사)'!F6,0) -> 18188 | H9: =TRUNC(G9*D9, 0) -> 272820 | I9: =TRUNC('일위대가목록(공사)'!G6,0) -> 0 | J9: =TRUNC(I9*D9, 0) -> 0 | K9: =TRUNC(E9+G9+I9, 0) -> 34933 | L9: =TRUNC(F9+H9+J9, 0) -> 523995 | N9: 46578C3875474220236804B86FFB9 | Q9: 0101 | R9: T | S9: F | T9: F | AU9: 010146578C3875474220236804B86FFB9 | AV9: 4
A10: 도로커팅 | B10: 깊이 10㎝ | C10: M | D10: 5 | E10: =TRUNC('일위대가목록(공사)'!E7,0) -> 1538 | F10: =TRUNC(E10*D10, 0) -> 7690 | G10: =TRUNC('일위대가목록(공사)'!F7,0) -> 51268 | H10: =TRUNC(G10*D10, 0) -> 256340 | I10: =TRUNC('일위대가목록(공사)'!G7,0) -> 0 | J10: =TRUNC(I10*D10, 0) -> 0 | K10: =TRUNC(E10+G10+I10, 0) -> 52806 | L10: =TRUNC(F10+H10+J10, 0) -> 264030 | N10: 474F8D1421254B162C6775FE6E2B3 | Q10: 0101 | R10: T | S10: F | T10: F | AU10: 0101474F8D1421254B162C6775FE6E2B3 | AV10: 6
A11: 콘크리트타설(인력) -가설 | B11: 무근, 25-180-8 | C11: M3 | D11: 5 | E11: =TRUNC('일위대가목록(공사)'!E8,0) -> 0 | F11: =TRUNC(E11*D11, 0) -> 0 | G11: =TRUNC('일위대가목록(공사)'!F8,0) -> 0 | H11: =TRUNC(G11*D11, 0) -> 0 | I11: =TRUNC('일위대가목록(공사)'!G8,0) -> 157170 | J11: =TRUNC(I11*D11, 0) -> 785850 | K11: =TRUNC(E11+G11+I11, 0) -> 157170 | L11: =TRUNC(F11+H11+J11, 0) -> 785850 | N11: 461D8A6F02244EFA246F4AC382798 | Q11: 0101 | R11: T | S11: F | T11: F | AU11: 0101461D8A6F02244EFA246F4AC382798 | AV11: 7
A12: 합판거푸집 설치 및 해체 | B12: 간단 6회, 수직고 7m까지 | C12: M2 | D12: 1 | E12: =TRUNC('일위대가목록(공사)'!E9,0) -> 12002 | F12: =TRUNC(E12*D12, 0) -> 12002 | G12: =TRUNC('일위대가목록(공사)'!F9,0) -> 34461 | H12: =TRUNC(G12*D12, 0) -> 34461 | I12: =TRUNC('일위대가목록(공사)'!G9,0) -> 344 | J12: =TRUNC(I12*D12, 0) -> 344 | K12: =TRUNC(E12+G12+I12, 0) -> 46807 | L12: =TRUNC(F12+H12+J12, 0) -> 46807 | N12: 461D8A68D5C244BD2B6BE417C9523 | Q12: 0101 | R12: T | S12: F | T12: F | AU12: 0101461D8A68D5C244BD2B6BE417C9523 | AV12: 9
A13: 전동기 설치 | B13: 15 kW 이하 | C13: 대 | D13: 1 | E13: =TRUNC('일위대가목록(공사)'!E10,0) -> 12462 | F13: =TRUNC(E13*D13, 0) -> 12462 | G13: =TRUNC('일위대가목록(공사)'!F10,0) -> 415428 | H13: =TRUNC(G13*D13, 0) -> 415428 | I13: =TRUNC('일위대가목록(공사)'!G10,0) -> 0 | J13: =TRUNC(I13*D13, 0) -> 0 | K13: =TRUNC(E13+G13+I13, 0) -> 427890 | L13: =TRUNC(F13+H13+J13, 0) -> 427890 | N13: 46578C4A494C44122064EBA1C59B2 | Q13: 0101 | R13: T | S13: F | T13: F | AU13: 010146578C4A494C44122064EBA1C59B2 | AV13: 8
A14: 난연 비닐절연접지용전선(F-GV)-직매 | B14: 0.6/1kv, 16㎟ | C14: M | D14: 2 | E14: =TRUNC('일위대가목록(공사)'!E11,0) -> 3314 | F14: =TRUNC(E14*D14, 0) -> 6628 | G14: =TRUNC('일위대가목록(공사)'!F11,0) -> 1915 | H14: =TRUNC(G14*D14, 0) -> 3830 | I14: =TRUNC('일위대가목록(공사)'!G11,0) -> 0 | J14: =TRUNC(I14*D14, 0) -> 0 | K14: =TRUNC(E14+G14+I14, 0) -> 5229 | L14: =TRUNC(F14+H14+J14, 0) -> 10458 | N14: 46578C3874A145E9256AE0FB2304E | Q14: 0101 | R14: T | S14: F | T14: F | AU14: 010146578C3874A145E9256AE0FB2304E | AV14: 10
A15: 접지봉(지하 0.75m 기준) | B15: 길이 1~2m * 3본 | C15: 개소 | D15: 1 | E15: =TRUNC('일위대가목록(공사)'!E12,0) -> 4020 | F15: =TRUNC(E15*D15, 0) -> 4020 | G15: =TRUNC('일위대가목록(공사)'!F12,0) -> 134005 | H15: =TRUNC(G15*D15, 0) -> 134005 | I15: =TRUNC('일위대가목록(공사)'!G12,0) -> 0 | J15: =TRUNC(I15*D15, 0) -> 0 | K15: =TRUNC(E15+G15+I15, 0) -> 138025 | L15: =TRUNC(F15+H15+J15, 0) -> 138025 | N15: 46578D6FAFBD41DB246A0F9A41BD9 | Q15: 0101 | R15: T | S15: F | T15: F | AU15: 010146578D6FAFBD41DB246A0F9A41BD9 | AV15: 11
A16: 접지봉 | B16: 접지봉, 14∮*1000mm | C16: 개 | D16: 3 | E16: =TRUNC('단가대비표(공사)'!O12,0) -> 3381 | F16: =TRUNC(E16*D16, 0) -> 10143 | G16: =TRUNC('단가대비표(공사)'!P12,0) -> 0 | H16: =TRUNC(G16*D16, 0) -> 0 | I16: =TRUNC('단가대비표(공사)'!V12,0) -> 0 | J16: =TRUNC(I16*D16, 0) -> 0 | K16: =TRUNC(E16+G16+I16, 0) -> 3381 | L16: =TRUNC(F16+H16+J16, 0) -> 10143 | N16: 4136893A7A224A8624693D1088DBE25582351 | Q16: 0101 | R16: F | S16: F | T16: T | AU16: 01014136893A7A224A8624693D1088DBE25582351 | AV16: 12
A17: 0.6/1kv 난연 전력케이블(F-CV) | B17: 3C*16㎟ | C17: M | D17: 14 | E17: =TRUNC('일위대가목록(공사)'!E13,0) -> 12671 | F17: =TRUNC(E17*D17, 0) -> 177394 | G17: =TRUNC('일위대가목록(공사)'!F13,0) -> 13991 | H17: =TRUNC(G17*D17, 0) -> 195874 | I17: =TRUNC('일위대가목록(공사)'!G13,0) -> 0 | J17: =TRUNC(I17*D17, 0) -> 0 | K17: =TRUNC(E17+G17+I17, 0) -> 26662 | L17: =TRUNC(F17+H17+J17, 0) -> 373268 | N17: 46578C387547422023687FB9A9381 | Q17: 0101 | R17: T | S17: F | T17: F | AU17: 010146578C387547422023687FB9A9381 | AV17: 18
A18: 1종금속제가요전선관-노출 | B18: 비닐피복, 54mm, 방수 | C18: M | D18: 7 | E18: =TRUNC('일위대가목록(공사)'!E14,0) -> 6254 | F18: =TRUNC(E18*D18, 0) -> 43778 | G18: =TRUNC('일위대가목록(공사)'!F14,0) -> 44609 | H18: =TRUNC(G18*D18, 0) -> 312263 | I18: =TRUNC('일위대가목록(공사)'!G14,0) -> 0 | J18: =TRUNC(I18*D18, 0) -> 0 | K18: =TRUNC(E18+G18+I18, 0) -> 50863 | L18: =TRUNC(F18+H18+J18, 0) -> 356041 | N18: 46578C387775439D2A6777486EB49 | Q18: 0101 | R18: T | S18: F | T18: F | AU18: 010146578C387775439D2A6777486EB49 | AV18: 13
A19: 1종금속제가요전선관-노출 | B19: 비닐피복, 10mm, 방수 | C19: M | D19: 7 | E19: =TRUNC('일위대가목록(공사)'!E15,0) -> 2020 | F19: =TRUNC(E19*D19, 0) -> 14140 | G19: =TRUNC('일위대가목록(공사)'!F15,0) -> 14231 | H19: =TRUNC(G19*D19, 0) -> 99617 | I19: =TRUNC('일위대가목록(공사)'!G15,0) -> 0 | J19: =TRUNC(I19*D19, 0) -> 0 | K19: =TRUNC(E19+G19+I19, 0) -> 16251 | L19: =TRUNC(F19+H19+J19, 0) -> 113757 | N19: 46578C387775439D2A6777486EC6F | Q19: 0101 | R19: T | S19: F | T19: F | AU19: 010146578C387775439D2A6777486EC6F | AV19: 14
A20: 풀박스(천장면)-노출 | B20: 300*300*150mm | C20: 개 | D20: 1 | E20: =TRUNC('일위대가목록(공사)'!E16,0) -> 13444 | F20: =TRUNC(E20*D20, 0) -> 13444 | G20: =TRUNC('일위대가목록(공사)'!F16,0) -> 114943 | H20: =TRUNC(G20*D20, 0) -> 114943 | I20: =TRUNC('일위대가목록(공사)'!G16,0) -> 0 | J20: =TRUNC(I20*D20, 0) -> 0 | K20: =TRUNC(E20+G20+I20, 0) -> 128387 | L20: =TRUNC(F20+H20+J20, 0) -> 128387 | N20: 46578C387F4B47462164D00E60608 | Q20: 0101 | R20: T | S20: F | T20: F | AU20: 010146578C387F4B47462164D00E60608 | AV20: 35
A21: 오뚜기식수위계 | B21: 4접점(HH,H,L,LL) | C21: SET | D21: 1 | E21: =TRUNC('단가대비표(공사)'!O26,0) -> 470000 | F21: =TRUNC(E21*D21, 0) -> 470000 | G21: =TRUNC('단가대비표(공사)'!P26,0) -> 0 | H21: =TRUNC(G21*D21, 0) -> 0 | I21: =TRUNC('단가대비표(공사)'!V26,0) -> 0 | J21: =TRUNC(I21*D21, 0) -> 0 | K21: =TRUNC(E21+G21+I21, 0) -> 470000 | L21: =TRUNC(F21+H21+J21, 0) -> 470000 | N21: 47A686A9F2F94C13216BEEC294D7B91CC4E6D | Q21: 0101 | R21: F | S21: F | T21: T | AU21: 010147A686A9F2F94C13216BEEC294D7B91CC4E6D | AV21: 19
Q22: 0101
Q23: 0101
Q24: 0101
Q25: 0101
Q26: 0101
A27: [ 합 계 ] | F27: =SUMIF(Q5:Q26,"0101",F5:F26) -> 1131687 | H27: =SUMIF(Q5:Q26,"0101",H5:H26) -> 2698626 | J27: =SUMIF(Q5:Q26,"0101",J5:J26) -> 786194 | L27: =SUMIF(Q5:Q26,"0101",L5:L26) -> 4616507 | N27: TOTAL
A28: 산양천2 간이양수장 | Q28: 0102
A29: (공동주택) 엔트런스캡(위샤캡) | B29: 철재 42㎜ | C29: 개 | D29: 1 | E29: =TRUNC('단가대비표(공사)'!O25,0) -> 4761 | F29: =TRUNC(E29*D29, 0) -> 4761 | G29: =TRUNC('단가대비표(공사)'!P25,0) -> 8020 | H29: =TRUNC(G29*D29, 0) -> 8020 | I29: =TRUNC('단가대비표(공사)'!V25,0) -> 0 | J29: =TRUNC(I29*D29, 0) -> 0 | K29: =TRUNC(E29+G29+I29, 0) -> 12781 | L29: =TRUNC(F29+H29+J29, 0) -> 12781 | M29: 노무비율 62.7% | N29: 474F8D637A6542AA2364FCA075F43 | Q29: 0102 | R29: F | S29: F | T29: T | AU29: 0102474F8D637A6542AA2364FCA075F43 | AV29: 39
A30: 강제전선관-노출 | B30: 아연도, 42mm | C30: M | D30: 40 | E30: =TRUNC('일위대가목록(공사)'!E4,0) -> 10054 | F30: =TRUNC(E30*D30, 0) -> 402160 | G30: =TRUNC('일위대가목록(공사)'!F4,0) -> 82102 | H30: =TRUNC(G30*D30, 0) -> 3284080 | I30: =TRUNC('일위대가목록(공사)'!G4,0) -> 0 | J30: =TRUNC(I30*D30, 0) -> 0 | K30: =TRUNC(E30+G30+I30, 0) -> 92156 | L30: =TRUNC(F30+H30+J30, 0) -> 3686240 | N30: 46578C3877754383236CEF918FA77 | Q30: 0102 | R30: T | S30: F | T30: F | AU30: 010246578C3877754383236CEF918FA77 | AV30: 17
A31: 합성수지 파형관(ELP)설치 -1열 | B31: 50mm 이하 | C31: M | D31: 7 | E31: =TRUNC('일위대가목록(공사)'!E5,0) -> 180 | F31: =TRUNC(E31*D31, 0) -> 1260 | G31: =TRUNC('일위대가목록(공사)'!F5,0) -> 6001 | H31: =TRUNC(G31*D31, 0) -> 42007 | I31: =TRUNC('일위대가목록(공사)'!G5,0) -> 0 | J31: =TRUNC(I31*D31, 0) -> 0 | K31: =TRUNC(E31+G31+I31, 0) -> 6181 | L31: =TRUNC(F31+H31+J31, 0) -> 43267 | N31: 46578D6CD65C463720607380A4D68 | Q31: 0102 | R31: T | S31: F | T31: F | AU31: 010246578D6CD65C463720607380A4D68 | AV31: 23
A32: 파상형경질폴리에틸렌전선관 | B32: 파상형경질폴리에틸렌전선관, ELP, 40mm | C32: M | D32: 7 | E32: =TRUNC('단가대비표(공사)'!O14,0) -> 522 | F32: =TRUNC(E32*D32, 0) -> 3654 | G32: =TRUNC('단가대비표(공사)'!P14,0) -> 0 | H32: =TRUNC(G32*D32, 0) -> 0 | I32: =TRUNC('단가대비표(공사)'!V14,0) -> 0 | J32: =TRUNC(I32*D32, 0) -> 0 | K32: =TRUNC(E32+G32+I32, 0) -> 522 | L32: =TRUNC(F32+H32+J32, 0) -> 3654 | N32: 4136893A7BCB4835276694653EA8951E1407B | Q32: 0102 | R32: F | S32: F | T32: T | AU32: 01024136893A7BCB4835276694653EA8951E1407B | AV32: 24
A33: 0.6/1kv 난연 전력케이블(F-CV) | B33: 4C*16㎟ | C33: M | D33: 47 | E33: =TRUNC('일위대가목록(공사)'!E6,0) -> 16745 | F33: =TRUNC(E33*D33, 0) -> 787015 | G33: =TRUNC('일위대가목록(공사)'!F6,0) -> 18188 | H33: =TRUNC(G33*D33, 0) -> 854836 | I33: =TRUNC('일위대가목록(공사)'!G6,0) -> 0 | J33: =TRUNC(I33*D33, 0) -> 0 | K33: =TRUNC(E33+G33+I33, 0) -> 34933 | L33: =TRUNC(F33+H33+J33, 0) -> 1641851 | N33: 46578C3875474220236804B86FFB9 | Q33: 0102 | R33: T | S33: F | T33: F | AU33: 010246578C3875474220236804B86FFB9 | AV33: 20
A34: 도로커팅 | B34: 깊이 10㎝ | C34: M | D34: 7 | E34: =TRUNC('일위대가목록(공사)'!E7,0) -> 1538 | F34: =TRUNC(E34*D34, 0) -> 10766 | G34: =TRUNC('일위대가목록(공사)'!F7,0) -> 51268 | H34: =TRUNC(G34*D34, 0) -> 358876 | I34: =TRUNC('일위대가목록(공사)'!G7,0) -> 0 | J34: =TRUNC(I34*D34, 0) -> 0 | K34: =TRUNC(E34+G34+I34, 0) -> 52806 | L34: =TRUNC(F34+H34+J34, 0) -> 369642 | N34: 474F8D1421254B162C6775FE6E2B3 | Q34: 0102 | R34: T | S34: F | T34: F | AU34: 0102474F8D1421254B162C6775FE6E2B3 | AV34: 25
A35: 콘크리트타설(인력) -가설 | B35: 무근, 25-180-8 | C35: M3 | D35: 7 | E35: =TRUNC('일위대가목록(공사)'!E8,0) -> 0 | F35: =TRUNC(E35*D35, 0) -> 0 | G35: =TRUNC('일위대가목록(공사)'!F8,0) -> 0 | H35: =TRUNC(G35*D35, 0) -> 0 | I35: =TRUNC('일위대가목록(공사)'!G8,0) -> 157170 | J35: =TRUNC(I35*D35, 0) -> 1100190 | K35: =TRUNC(E35+G35+I35, 0) -> 157170 | L35: =TRUNC(F35+H35+J35, 0) -> 1100190 | N35: 461D8A6F02244EFA246F4AC382798 | Q35: 0102 | R35: T | S35: F | T35: F | AU35: 0102461D8A6F02244EFA246F4AC382798 | AV35: 26
A36: 합판거푸집 설치 및 해체 | B36: 간단 6회, 수직고 7m까지 | C36: M2 | D36: 1 | E36: =TRUNC('일위대가목록(공사)'!E9,0) -> 12002 | F36: =TRUNC(E36*D36, 0) -> 12002 | G36: =TRUNC('일위대가목록(공사)'!F9,0) -> 34461 | H36: =TRUNC(G36*D36, 0) -> 34461 | I36: =TRUNC('일위대가목록(공사)'!G9,0) -> 344 | J36: =TRUNC(I36*D36, 0) -> 344 | K36: =TRUNC(E36+G36+I36, 0) -> 46807 | L36: =TRUNC(F36+H36+J36, 0) -> 46807 | N36: 461D8A68D5C244BD2B6BE417C9523 | Q36: 0102 | R36: T | S36: F | T36: F | AU36: 0102461D8A68D5C244BD2B6BE417C9523 | AV36: 28
A37: 전동기 설치 | B37: 15 kW 이하 | C37: 대 | D37: 1 | E37: =TRUNC('일위대가목록(공사)'!E10,0) -> 12462 | F37: =TRUNC(E37*D37, 0) -> 12462 | G37: =TRUNC('일위대가목록(공사)'!F10,0) -> 415428 | H37: =TRUNC(G37*D37, 0) -> 415428 | I37: =TRUNC('일위대가목록(공사)'!G10,0) -> 0 | J37: =TRUNC(I37*D37, 0) -> 0 | K37: =TRUNC(E37+G37+I37, 0) -> 427890 | L37: =TRUNC(F37+H37+J37, 0) -> 427890 | N37: 46578C4A494C44122064EBA1C59B2 | Q37: 0102 | R37: T | S37: F | T37: F | AU37: 010246578C4A494C44122064EBA1C59B2 | AV37: 27
A38: 난연 비닐절연접지용전선(F-GV)-직매 | B38: 0.6/1kv, 16㎟ | C38: M | D38: 1 | E38: =TRUNC('일위대가목록(공사)'!E11,0) -> 3314 | F38: =TRUNC(E38*D38, 0) -> 3314 | G38: =TRUNC('일위대가목록(공사)'!F11,0) -> 1915 | H38: =TRUNC(G38*D38, 0) -> 1915 | I38: =TRUNC('일위대가목록(공사)'!G11,0) -> 0 | J38: =TRUNC(I38*D38, 0) -> 0 | K38: =TRUNC(E38+G38+I38, 0) -> 5229 | L38: =TRUNC(F38+H38+J38, 0) -> 5229 | N38: 46578C3874A145E9256AE0FB2304E | Q38: 0102 | R38: T | S38: F | T38: F | AU38: 010246578C3874A145E9256AE0FB2304E | AV38: 29
A39: 접지봉(지하 0.75m 기준) | B39: 길이 1~2m * 3본 | C39: 개소 | D39: 1 | E39: =TRUNC('일위대가목록(공사)'!E12,0) -> 4020 | F39: =TRUNC(E39*D39, 0) -> 4020 | G39: =TRUNC('일위대가목록(공사)'!F12,0) -> 134005 | H39: =TRUNC(G39*D39, 0) -> 134005 | I39: =TRUNC('일위대가목록(공사)'!G12,0) -> 0 | J39: =TRUNC(I39*D39, 0) -> 0 | K39: =TRUNC(E39+G39+I39, 0) -> 138025 | L39: =TRUNC(F39+H39+J39, 0) -> 138025 | N39: 46578D6FAFBD41DB246A0F9A41BD9 | Q39: 0102 | R39: T | S39: F | T39: F | AU39: 010246578D6FAFBD41DB246A0F9A41BD9 | AV39: 30
A40: 접지봉 | B40: 접지봉, 14∮*1000mm | C40: 개 | D40: 3 | E40: =TRUNC('단가대비표(공사)'!O12,0) -> 3381 | F40: =TRUNC(E40*D40, 0) -> 10143 | G40: =TRUNC('단가대비표(공사)'!P12,0) -> 0 | H40: =TRUNC(G40*D40, 0) -> 0 | I40: =TRUNC('단가대비표(공사)'!V12,0) -> 0 | J40: =TRUNC(I40*D40, 0) -> 0 | K40: =TRUNC(E40+G40+I40, 0) -> 3381 | L40: =TRUNC(F40+H40+J40, 0) -> 10143 | N40: 4136893A7A224A8624693D1088DBE25582351 | Q40: 0102 | R40: F | S40: F | T40: T | AU40: 01024136893A7A224A8624693D1088DBE25582351 | AV40: 31
A41: 0.6/1kv 난연 전력케이블(F-CV) | B41: 3C*16㎟ | C41: M | D41: 14 | E41: =TRUNC('일위대가목록(공사)'!E13,0) -> 12671 | F41: =TRUNC(E41*D41, 0) -> 177394 | G41: =TRUNC('일위대가목록(공사)'!F13,0) -> 13991 | H41: =TRUNC(G41*D41, 0) -> 195874 | I41: =TRUNC('일위대가목록(공사)'!G13,0) -> 0 | J41: =TRUNC(I41*D41, 0) -> 0 | K41: =TRUNC(E41+G41+I41, 0) -> 26662 | L41: =TRUNC(F41+H41+J41, 0) -> 373268 | N41: 46578C387547422023687FB9A9381 | Q41: 0102 | R41: T | S41: F | T41: F | AU41: 010246578C387547422023687FB9A9381 | AV41: 21
A42: 1종금속제가요전선관-노출 | B42: 비닐피복, 54mm, 방수 | C42: M | D42: 7 | E42: =TRUNC('일위대가목록(공사)'!E14,0) -> 6254 | F42: =TRUNC(E42*D42, 0) -> 43778 | G42: =TRUNC('일위대가목록(공사)'!F14,0) -> 44609 | H42: =TRUNC(G42*D42, 0) -> 312263 | I42: =TRUNC('일위대가목록(공사)'!G14,0) -> 0 | J42: =TRUNC(I42*D42, 0) -> 0 | K42: =TRUNC(E42+G42+I42, 0) -> 50863 | L42: =TRUNC(F42+H42+J42, 0) -> 356041 | N42: 46578C387775439D2A6777486EB49 | Q42: 0102 | R42: T | S42: F | T42: F | AU42: 010246578C387775439D2A6777486EB49 | AV42: 32
A43: 1종금속제가요전선관-노출 | B43: 비닐피복, 10mm, 방수 | C43: M | D43: 7 | E43: =TRUNC('일위대가목록(공사)'!E15,0) -> 2020 | F43: =TRUNC(E43*D43, 0) -> 14140 | G43: =TRUNC('일위대가목록(공사)'!F15,0) -> 14231 | H43: =TRUNC(G43*D43, 0) -> 99617 | I43: =TRUNC('일위대가목록(공사)'!G15,0) -> 0 | J43: =TRUNC(I43*D43, 0) -> 0 | K43: =TRUNC(E43+G43+I43, 0) -> 16251 | L43: =TRUNC(F43+H43+J43, 0) -> 113757 | N43: 46578C387775439D2A6777486EC6F | Q43: 0102 | R43: T | S43: F | T43: F | AU43: 010246578C387775439D2A6777486EC6F | AV43: 33
A44: 풀박스(천장면)-노출 | B44: 300*300*150mm | C44: 개 | D44: 1 | E44: =TRUNC('일위대가목록(공사)'!E16,0) -> 13444 | F44: =TRUNC(E44*D44, 0) -> 13444 | G44: =TRUNC('일위대가목록(공사)'!F16,0) -> 114943 | H44: =TRUNC(G44*D44, 0) -> 114943 | I44: =TRUNC('일위대가목록(공사)'!G16,0) -> 0 | J44: =TRUNC(I44*D44, 0) -> 0 | K44: =TRUNC(E44+G44+I44, 0) -> 128387 | L44: =TRUNC(F44+H44+J44, 0) -> 128387 | N44: 46578C387F4B47462164D00E60608 | Q44: 0102 | R44: T | S44: F | T44: F | AU44: 010246578C387F4B47462164D00E60608 | AV44: 34
A45: 오뚜기식수위계 | B45: 4접점(HH,H,L,LL) | C45: SET | D45: 1 | E45: =TRUNC('단가대비표(공사)'!O26,0) -> 470000 | F45: =TRUNC(E45*D45, 0) -> 470000 | G45: =TRUNC('단가대비표(공사)'!P26,0) -> 0 | H45: =TRUNC(G45*D45, 0) -> 0 | I45: =TRUNC('단가대비표(공사)'!V26,0) -> 0 | J45: =TRUNC(I45*D45, 0) -> 0 | K45: =TRUNC(E45+G45+I45, 0) -> 470000 | L45: =TRUNC(F45+H45+J45, 0) -> 470000 | N45: 47A686A9F2F94C13216BEEC294D7B91CC4E6D | Q45: 0102 | R45: F | S45: F | T45: T | AU45: 010247A686A9F2F94C13216BEEC294D7B91CC4E6D | AV45: 36
Q46: 0102
Q47: 0102
Q48: 0102
Q49: 0102
Q50: 0102
A51: [ 합 계 ] | F51: =SUMIF(Q29:Q50,"0102",F29:F50) -> 1970313 | H51: =SUMIF(Q29:Q50,"0102",H29:H50) -> 5856325 | J51: =SUMIF(Q29:Q50,"0102",J29:J50) -> 1100534 | L51: =SUMIF(Q29:Q50,"0102",L29:L50) -> 8927172 | N51: TOTAL
A52: 산양천 간이양수장 분전반 | Q52: 0103
A53: 산양천1,2 간이양수장 분전반 | C53: 식 | D53: 1 | M53: 사급자재 | N53: 47A686A9F2F94C13216BEEC294D7B91CC4E6E | R53: F | S53: F | T53: T | AR53: 사급자재 | AU53: 010347A686A9F2F94C13216BEEC294D7B91CC4E6E | AV53: 41
Q54: 0103
Q55: 0103
Q56: 0103
Q57: 0103
Q58: 0103
Q59: 0103
Q60: 0103
Q61: 0103
Q62: 0103
Q63: 0103
Q64: 0103
Q65: 0103
... Q74: 0103
A75: [ 합 계 ] | F75: =SUMIF(Q53:Q74,"0103",F53:F74) -> 0 | H75: =SUMIF(Q53:Q74,"0103",H53:H74) -> 0 | J75: =SUMIF(Q53:Q74,"0103",J53:J74) -> 0 | L75: =SUMIF(Q53:Q74,"0103",L53:L74) -> 0 | N75: TOTAL
A76: 사급자재비 | Q76: 0104
A77: 산양천1,2 간이양수장 분전반 | C77: 식 | D77: 1 | E77: =TRUNC('단가대비표(공사)'!O27,0) -> 14600000 | F77: =TRUNC(E77*D77, 0) -> 14600000 | G77: =TRUNC('단가대비표(공사)'!P27,0) -> 0 | H77: =TRUNC(G77*D77, 0) -> 0 | I77: =TRUNC('단가대비표(공사)'!V27,0) -> 0 | J77: =TRUNC(I77*D77, 0) -> 0 | K77: =TRUNC(E77+G77+I77, 0) -> 14600000 | L77: =TRUNC(F77+H77+J77, 0) -> 14600000 | N77: 47A686A9F2F94C13216BEEC294D7B91CC4E6E | Q77: 0104 | R77: F | S77: F | T77: T | AU77: 010447A686A9F2F94C13216BEEC294D7B91CC4E6E | AV77: 43
Q78: 0104
Q79: 0104
Q80: 0104
Q81: 0104
Q82: 0104
Q83: 0104
Q84: 0104
Q85: 0104
Q86: 0104
Q87: 0104
Q88: 0104
Q89: 0104
... Q98: 0104
A99: [ 합 계 ] | F99: =SUMIF(Q77:Q98,"0104",F77:F98) -> 14600000 | H99: =SUMIF(Q77:Q98,"0104",H77:H98) -> 0 | J99: =SUMIF(Q77:Q98,"0104",J77:J98) -> 0 | L99: =SUMIF(Q77:Q98,"0104",L77:L98) -> 14600000 | N99: TOTAL

Sheet 일위대가목록(공사)
B1: 일 위 대 가 목 록
B2: [ 산양천 간이양수장 전기공사 ]
A3: 코 드 | B3: 품 명 | C3: 규 격 | D3: 단위 | E3: 재 료 비 | F3: 노 무 비 | G3: 경 비 | H3: 합 계 | I3: 번 호 | J3: 비 고 | K3: 노임계수 | L3: 할증 | M3: 품셈개요 | N3: 장비일위
A4: 46578C3877754383236CEF918FA77 | B4: 강제전선관-노출 | C4: 아연도, 42mm | D4: M | E4: ='일위대가(공사)'!F10 -> 10054 | F4: ='일위대가(공사)'!H10 -> 82102 | G4: ='일위대가(공사)'!J10 -> 0 | H4: =E4+F4+G4 -> 92156 | I4: 호표 1
A5: 46578D6CD65C463720607380A4D68 | B5: 합성수지 파형관(ELP)설치 -1열 | C5: 50mm 이하 | D5: M | E5: ='일위대가(공사)'!F16 -> 180 | F5: ='일위대가(공사)'!H16 -> 6001 | G5: ='일위대가(공사)'!J16 -> 0 | H5: =E5+F5+G5 -> 6181 | I5: 호표 2
A6: 46578C3875474220236804B86FFB9 | B6: 0.6/1kv 난연 전력케이블(F-CV) | C6: 4C*16㎟ | D6: M | E6: ='일위대가(공사)'!F23 -> 16745 | F6: ='일위대가(공사)'!H23 -> 18188 | G6: ='일위대가(공사)'!J23 -> 0 | H6: =E6+F6+G6 -> 34933 | I6: 호표 3
A7: 474F8D1421254B162C6775FE6E2B3 | B7: 도로커팅 | C7: 깊이 10㎝ | D7: M | E7: ='일위대가(공사)'!F29 -> 1538 | F7: ='일위대가(공사)'!H29 -> 51268 | G7: ='일위대가(공사)'!J29 -> 0 | H7: =E7+F7+G7 -> 52806 | I7: 호표 4
A8: 461D8A6F02244EFA246F4AC382798 | B8: 콘크리트타설(인력) -가설 | C8: 무근, 25-180-8 | D8: M3 | E8: ='일위대가(공사)'!F35 -> 0 | F8: ='일위대가(공사)'!H35 -> 0 | G8: ='일위대가(공사)'!J35 -> 157170 | H8: =E8+F8+G8 -> 157170 | I8: 호표 5
A9: 461D8A68D5C244BD2B6BE417C9523 | B9: 합판거푸집 설치 및 해체 | C9: 간단 6회, 수직고 7m까지 | D9: M2 | E9: ='일위대가(공사)'!F40 -> 12002 | F9: ='일위대가(공사)'!H40 -> 34461 | G9: ='일위대가(공사)'!J40 -> 344 | H9: =E9+F9+G9 -> 46807 | I9: 호표 6
A10: 46578C4A494C44122064EBA1C59B2 | B10: 전동기 설치 | C10: 15 kW 이하 | D10: 대 | E10: ='일위대가(공사)'!F45 -> 12462 | F10: ='일위대가(공사)'!H45 -> 415428 | G10: ='일위대가(공사)'!J45 -> 0 | H10: =E10+F10+G10 -> 427890 | I10: 호표 7
A11: 46578C3874A145E9256AE0FB2304E | B11: 난연 비닐절연접지용전선(F-GV)-직매 | C11: 0.6/1kv, 16㎟ | D11: M | E11: ='일위대가(공사)'!F52 -> 3314 | F11: ='일위대가(공사)'!H52 -> 1915 | G11: ='일위대가(공사)'!J52 -> 0 | H11: =E11+F11+G11 -> 5229 | I11: 호표 8
A12: 46578D6FAFBD41DB246A0F9A41BD9 | B12: 접지봉(지하 0.75m 기준) | C12: 길이 1~2m * 3본 | D12: 개소 | E12: ='일위대가(공사)'!F58 -> 4020 | F12: ='일위대가(공사)'!H58 -> 134005 | G12: ='일위대가(공사)'!J58 -> 0 | H12: =E12+F12+G12 -> 138025 | I12: 호표 9
A13: 46578C387547422023687FB9A9381 | B13: 0.6/1kv 난연 전력케이블(F-CV) | C13: 3C*16㎟ | D13: M | E13: ='일위대가(공사)'!F65 -> 12671 | F13: ='일위대가(공사)'!H65 -> 13991 | G13: ='일위대가(공사)'!J65 -> 0 | H13: =E13+F13+G13 -> 26662 | I13: 호표 10
A14: 46578C387775439D2A6777486EB49 | B14: 1종금속제가요전선관-노출 | C14: 비닐피복, 54mm, 방수 | D14: M | E14: ='일위대가(공사)'!F72 -> 6254 | F14: ='일위대가(공사)'!H72 -> 44609 | G14: ='일위대가(공사)'!J72 -> 0 | H14: =E14+F14+G14 -> 50863 | I14: 호표 11
A15: 46578C387775439D2A6777486EC6F | B15: 1종금속제가요전선관-노출 | C15: 비닐피복, 10mm, 방수 | D15: M | E15: ='일위대가(공사)'!F79 -> 2020 | F15: ='일위대가(공사)'!H79 -> 14231 | G15: ='일위대가(공사)'!J79 -> 0 | H15: =E15+F15+G15 -> 16251 | I15: 호표 12
A16: 46578C387F4B47462164D00E60608 | B16: 풀박스(천장면)-노출 | C16: 300*300*150mm | D16: 개 | E16: ='일위대가(공사)'!F85 -> 13444 | F16: ='일위대가(공사)'!H85 -> 114943 | G16: ='일위대가(공사)'!J85 -> 0 | H16: =E16+F16+G16 -> 128387 | I16: 호표 13
A17: 461D8A6F03CB417F2B6ADB586DD59 | B17: 레디믹스트콘크리트 인력운반 타설 | C17: 무근구조물 | D17: M3 | E17: ='일위대가(공사)'!F91 -> 0 | F17: ='일위대가(공사)'!H91 -> 57929 | G17: ='일위대가(공사)'!J91 -> 1158 | H17: =E17+F17+G17 -> 59087 | I17: 호표 14
A18: 461D8A68D5C244BD2A6985EBCC2AE | B18: 합판거푸집 - 자재비 | C18: 6회 | D18: M2 | E18: ='일위대가(공사)'!F98 -> 12002 | F18: ='일위대가(공사)'!H98 -> 0 | G18: ='일위대가(공사)'!J98 -> 0 | H18: =E18+F18+G18 -> 12002 | I18: 호표 15
A19: 461D8A68D5C244BD2A6985EBCC3B5 | B19: 합판거푸집 - 인력투입 | C19: 간단, 수직고 7m까지 | D19: M2 | E19: ='일위대가(공사)'!F104 -> 0 | F19: ='일위대가(공사)'!H104 -> 34461 | G19: ='일위대가(공사)'!J104 -> 344 | H19: =E19+F19+G19 -> 34805 | I19: 호표 16

Sheet 일위대가(공사)
A1: [ 산양천 간이양수장 전기공사 ]
A2: 품 명 | B2: 규 격 | C2: 단위 | D2: 수량 | E2: 재 료 비 | G2: 노 무 비 | I2: 경 비 | K2: 합 계 | M2: 비 고 | N2: 일위대가 | O2: 품목코드 | P2: 일위 | Q2: 단산 | R2: 자재 | S2: 손료적용 | T2: 손료저장 | U2: 적용율 | V2: JUK1 | W2: JUK2 | X2: JUK3 | Y2: JUK4 | Z2: JUK5 | AA2: JUK6 | AB2: JUK7 | AC2: JUK8 | AD2: JUK9 | AE2: JUK10 | AF2: JUK11 | AG2: JUK12 | AH2: JUK13 | AI2: JUK14 | AJ2: JUK15 | AK2: JUK16 | AL2: JUK17 | AM2: JUK18 | AN2: JUK19 | AO2: JUK20 | AP2: 할증적용 | AQ2: 할증저장 | AR2: 할증율 | AS2: HAL1 | AT2: HAL2 | AU2: HAL3 | AV2: 자재구분 | AW2: 일위대가+자재 | AX2: 장비일위 | AY2: 설정 | AZ2: 할증체크
E3: 단 가 | F3: 금 액 | G3: 단 가 | H3: 금 액 | I3: 단 가 | J3: 금 액 | K3: 단 가 | L3: 금 액
A4: 강제전선관-노출 아연도, 42mm M ( 호표 1 ) | N4: 46578C3877754383236CEF918FA77
A5: 강제전선관 | B5: 강제전선관, 후강전선관, 아연도, 42mm | C5: M | D5: 1.1 | E5: ='단가대비표(공사)'!O13 -> 5899 | F5: =TRUNC(E5*D5,1) -> 6488.9 | G5: ='단가대비표(공사)'!P13 -> 0 | H5: =TRUNC(G5*D5,1) -> 0 | I5: ='단가대비표(공사)'!V13 -> 0 | J5: =TRUNC(I5*D5,1) -> 0 | K5: =TRUNC(E5+G5+I5,1) -> 5899 | L5: =TRUNC(F5+H5+J5,1) -> 6488.9 | N5: 46578C3877754383236CEF918FA77 | O5: 4136893A7BCB4835276694653EA8950C81BDB | P5: F | Q5: F | R5: T | V5: 1 | W5: 2 | AW5: 46578C3877754383236CEF918FA774136893A7BCB4835276694653EA8950C81BDB
A6: 전선관부속품비 | B6: 전선관의 15% | C6: 식 | D6: 1 | E6: =TRUNC(SUMIF(V5:V9, RIGHTB(O6, 1), F5:F9)*U6, 2) -> 973.33 | F6: =TRUNC(E6*D6,1) -> 973.3 | G6: 0 | H6: =TRUNC(G6*D6,1) -> 0 | I6: 0 | J6: =TRUNC(I6*D6,1) -> 0 | K6: =TRUNC(E6+G6+I6,1) -> 973.3 | L6: =TRUNC(F6+H6+J6,1) -> 973.3 | N6: 46578C3877754383236CEF918FA77 | O6: 470783E4972C40062A67E23CED5001 | P6: F | Q6: F | R6: F | S6: 0 | T6: 0 | U6: 0.15 | AW6: 46578C3877754383236CEF918FA77470783E4972C40062A67E23CED5001
A7: 잡재료비 | B7: 배관배선의 2% | C7: 식 | D7: 1 | E7: =TRUNC(SUMIF(W5:W9, RIGHTB(O7, 1), F5:F9)*U7, 2) -> 129.77 | F7: =TRUNC(E7*D7,1) -> 129.7 | G7: 0 | H7: =TRUNC(G7*D7,1) -> 0 | I7: 0 | J7: =TRUNC(I7*D7,1) -> 0 | K7: =TRUNC(E7+G7+I7,1) -> 129.7 | L7: =TRUNC(F7+H7+J7,1) -> 129.7 | N7: 46578C3877754383236CEF918FA77 | O7: 470783E4972C40062A67E23CED6002 | P7: F | Q7: F | R7: F | S7: 0 | T7: 0 | U7: 0.02 | AW7: 46578C3877754383236CEF918FA77470783E4972C40062A67E23CED6002
A8: 내선전공 | B8: 일반공사 직종 | C8: 인 | D8: 0.3 | E8: ='단가대비표(공사)'!O21 -> 0 | F8: =TRUNC(E8*D8,1) -> 0 | G8: ='단가대비표(공사)'!P21 -> 273676 | H8: =TRUNC(G8*D8,1) -> 82102.8 | I8: ='단가대비표(공사)'!V21 -> 0 | J8: =TRUNC(I8*D8,1) -> 0 | K8: =TRUNC(E8+G8+I8,1) -> 273676 | L8: =TRUNC(F8+H8+J8,1) -> 82102.8 | N8: 46578C3877754383236CEF918FA77 | O8: 46CB88EFDC8A42922163D691D895637C736BC | P8: F | Q8: F | R8: T | X8: 3 | AW8: 46578C3877754383236CEF918FA7746CB88EFDC8A42922163D691D895637C736BC
A9: 공구손료 | B9: 인력품의 3% | C9: 식 | D9: 1 | E9: =TRUNC(SUMIF(X5:X9, RIGHTB(O9, 1), H5:H9)*U9, 2) -> 2463.08 | F9: =TRUNC(E9*D9,1) -> 2463 | G9: 0 | H9: =TRUNC(G9*D9,1) -> 0 | I9: 0 | J9: =TRUNC(I9*D9,1) -> 0 | K9: =TRUNC(E9+G9+I9,1) -> 2463 | L9: =TRUNC(F9+H9+J9,1) -> 2463 | N9: 46578C3877754383236CEF918FA77 | O9: 470783E4972C40062A67E23CED7003 | P9: F | Q9: F | R9: F | S9: 1 | T9: 0 | U9: 0.03 | AW9: 46578C3877754383236CEF918FA77470783E4972C40062A67E23CED7003
A10: [ 합 계 ] | F10: =TRUNC(SUMIF(N5:N9, N4, F5:F9),0) -> 10054 | H10: =TRUNC(SUMIF(N5:N9, N4, H5:H9),0) -> 82102 | J10: =TRUNC(SUMIF(N5:N9, N4, J5:J9),0) -> 0 | L10: =F10+H10+J10 -> 92156 | N10: TOTAL | O10: TOTAL
A12: 합성수지 파형관(ELP)설치 -1열 50mm 이하 M ( 호표 2 ) | N12: 46578D6CD65C463720607380A4D68
A13: 배전전공 | B13: 일반공사 직종 | C13: 인 | D13: 0.007 | E13: ='단가대비표(공사)'!O23 -> 0 | F13: =TRUNC(E13*D13,1) -> 0 | G13: ='단가대비표(공사)'!P23 -> 414968 | H13: =TRUNC(G13*D13,1) -> 2904.7 | I13: ='단가대비표(공사)'!V23 -> 0 | J13: =TRUNC(I13*D13,1) -> 0 | K13: =TRUNC(E13+G13+I13,1) -> 414968 | L13: =TRUNC(F13+H13+J13,1) -> 2904.7 | N13: 46578D6CD65C463720607380A4D68 | O13: 46CB88EFDC8A42922163D691D895637C7390F | P13: F | Q13: F | R13: T | V13: 1 | AW13: 46578D6CD65C463720607380A4D6846CB88EFDC8A42922163D691D895637C7390F
A14: 보통인부 | B14: 일반공사 직종 | C14: 인 | D14: 0.018 | E14: ='단가대비표(공사)'!O17 -> 0 | F14: =TRUNC(E14*D14,1) -> 0 | G14: ='단가대비표(공사)'!P17 -> 172068 | H14: =TRUNC(G14*D14,1) -> 3097.2 | I14: ='단가대비표(공사)'!V17 -> 0 | J14: =TRUNC(I14*D14,1) -> 0 | K14: =TRUNC(E14+G14+I14,1) -> 172068 | L14: =TRUNC(F14+H14+J14,1) -> 3097.2 | N14: 46578D6CD65C463720607380A4D68 | O14: 46CB88EFDC8A42922163D691D895637C7313A | P14: F | Q14: F | R14: T | V14: 1 | AW14: 46578D6CD65C463720607380A4D6846CB88EFDC8A42922163D691D895637C7313A
A15: 공구손료 | B15: 인력품의 3% | C15: 식 | D15: 1 | E15: =TRUNC(SUMIF(V13:V15, RIGHTB(O15, 1), H13:H15)*U15, 2) -> 180.05 | F15: =TRUNC(E15*D15,1) -> 180 | G15: 0 | H15: =TRUNC(G15*D15,1) -> 0 | I15: 0 | J15: =TRUNC(I15*D15,1) -> 0 | K15: =TRUNC(E15+G15+I15,1) -> 180 | L15: =TRUNC(F15+H15+J15,1) -> 180 | N15: 46578D6CD65C463720607380A4D68 | O15: 470783E4972C40062A67E23CED5001 | P15: F | Q15: F | R15: F | S15: 1 | T15: 0 | U15: 0.03 | AW15: 46578D6CD65C463720607380A4D68470783E4972C40062A67E23CED5001
A16: [ 합 계 ] | F16: =TRUNC(SUMIF(N13:N15, N12, F13:F15),0) -> 180 | H16: =TRUNC(SUMIF(N13:N15, N12, H13:H15),0) -> 6001 | J16: =TRUNC(SUMIF(N13:N15, N12, J13:J15),0) -> 0 | L16: =F16+H16+J16 -> 6181 | N16: TOTAL | O16: TOTAL
A18: 0.6/1kv 난연 전력케이블(F-CV) 4C*16㎟ M ( 호표 3 ) | N18: 46578C3875474220236804B86FFB9
A19: 600V폴리에틸렌케이블 | B19: 600V폴리에틸렌케이블, 0.6/1kv, F-CV, 4C*16㎟ | C19: M | D19: 1.05 | E19: ='단가대비표(공사)'!O8 -> 15126 | F19: =TRUNC(E19*D19,1) -> 15882.3 | G19: ='단가대비표(공사)'!P8 -> 0 | H19: =TRUNC(G19*D19,1) -> 0 | I19: ='단가대비표(공사)'!V8 -> 0 | J19: =TRUNC(I19*D19,1) -> 0 | K19: =TRUNC(E19+G19+I19,1) -> 15126 | L19: =TRUNC(F19+H19+J19,1) -> 15882.3 | N19: 46578C3875474220236804B86FFB9 | O19: 41258F74C07C47972E62B7BC0EAF151D2937A | P19: F | Q19: F | R19: T | V19: 1 | AW19: 46578C3875474220236804B86FFB941258F74C07C47972E62B7BC0EAF151D2937A
A20: 잡재료비 | B20: 배관배선의 2% | C20: 식 | D20: 1 | E20: =TRUNC(SUMIF(V19:V22, RIGHTB(O20, 1), F19:F22)*U20, 2) -> 317.64 | F20: =TRUNC(E20*D20,1) -> 317.6 | G20: 0 | H20: =TRUNC(G20*D20,1) -> 0 | I20: 0 | J20: =TRUNC(I20*D20,1) -> 0 | K20: =TRUNC(E20+G20+I20,1) -> 317.6 | L20: =TRUNC(F20+H20+J20,1) -> 317.6 | N20: 46578C3875474220236804B86FFB9 | O20: 470783E4972C40062A67E23CED5001 | P20: F | Q20: F | R20: F | S20: 0 | T20: 0 | U20: 0.02 | AW20: 46578C3875474220236804B86FFB9470783E4972C40062A67E23CED5001
A21: 저압케이블전공 | B21: 일반공사 직종 | C21: 인 | D21: 0.0598 | E21: ='단가대비표(공사)'!O22 -> 0 | F21: =TRUNC(E21*D21,1) -> 0 | G21: ='단가대비표(공사)'!P22 -> 304156 | H21: =TRUNC(G21*D21,1) -> 18188.5 | I21: ='단가대비표(공사)'!V22 -> 0 | J21: =TRUNC(I21*D21,1) -> 0 | K21: =TRUNC(E21+G21+I21,1) -> 304156 | L21: =TRUNC(F21+H21+J21,1) -> 18188.5 | N21: 46578C3875474220236804B86FFB9 | O21: 46CB88EFDC8A42922163D691D895637C736B1 | P21: F | Q21: F | R21: T | W21: 2 | AW21: 46578C3875474220236804B86FFB946CB88EFDC8A42922163D691D895637C736B1
A22: 공구손료 | B22: 인력품의 3% | C22: 식 | D22: 1 | E22: =TRUNC(SUMIF(W19:W22, RIGHTB(O22, 1), H19:H22)*U22, 2) -> 545.65 | F22: =TRUNC(E22*D22,1) -> 545.6 | G22: 0 | H22: =TRUNC(G22*D22,1) -> 0 | I22: 0 | J22: =TRUNC(I22*D22,1) -> 0 | K22: =TRUNC(E22+G22+I22,1) -> 545.6 | L22: =TRUNC(F22+H22+J22,1) -> 545.6 | N22: 46578C3875474220236804B86FFB9 | O22: 470783E4972C40062A67E23CED6002 | P22: F | Q22: F | R22: F | S22: 1 | T22: 0 | U22: 0.03 | AW22: 46578C3875474220236804B86FFB9470783E4972C40062A67E23CED6002
A23: [ 합 계 ] | F23: =TRUNC(SUMIF(N19:N22, N18, F19:F22),0) -> 16745 | H23: =TRUNC(SUMIF(N19:N22, N18, H19:H22),0) -> 18188 | J23: =TRUNC(SUMIF(N19:N22, N18, J19:J22),0) -> 0 | L23: =F23+H23+J23 -> 34933 | N23: TOTAL | O23: TOTAL
A25: 도로커팅 깊이 10㎝ M ( 호표 4 ) | N25: 474F8D1421254B162C6775FE6E2B3
A26: 보통인부 | B26: 일반공사 직종 | C26: 인 | D26: 0.13 | E26: ='단가대비표(공사)'!O17 -> 0 | F26: =TRUNC(E26*D26,1) -> 0 | G26: ='단가대비표(공사)'!P17 -> 172068 | H26: =TRUNC(G26*D26,1) -> 22368.8 | I26: ='단가대비표(공사)'!V17 -> 0 | J26: =TRUNC(I26*D26,1) -> 0 | K26: =TRUNC(E26+G26+I26,1) -> 172068 | L26: =TRUNC(F26+H26+J26,1) -> 22368.8 | N26: 474F8D1421254B162C6775FE6E2B3 | O26: 46CB88EFDC8A42922163D691D895637C7313A | P26: F | Q26: F | R26: T | V26: 1 | AW26: 474F8D1421254B162C6775FE6E2B346CB88EFDC8A42922163D691D895637C7313A
A27: 착암공 | B27: 일반공사 직종 | C27: 인 | D27: 0.13 | E27: ='단가대비표(공사)'!O20 -> 0 | F27: =TRUNC(E27*D27,1) -> 0 | G27: ='단가대비표(공사)'!P20 -> 222306 | H27: =TRUNC(G27*D27,1) -> 28899.7 | I27: ='단가대비표(공사)'!V20 -> 0 | J27: =TRUNC(I27*D27,1) -> 0 | K27: =TRUNC(E27+G27+I27,1) -> 222306 | L27: =TRUNC(F27+H27+J27,1) -> 28899.7 | N27: 474F8D1421254B162C6775FE6E2B3 | O27: 46CB88EFDC8A42922163D691D895637C73014 | P27: F | Q27: F | R27: T | V27: 1 | AW27: 474F8D1421254B162C6775FE6E2B346CB88EFDC8A42922163D691D895637C73014
A28: 공구손료 | B28: 인력품의 3% | C28: 식 | D28: 1 | E28: =TRUNC(SUMIF(V26:V28, RIGHTB(O28, 1), H26:H28)*U28, 2) -> 1538.05 | F28: =TRUNC(E28*D28,1) -> 1538 | G28: 0 | H28: =TRUNC(G28*D28,1) -> 0 | I28: 0 | J28: =TRUNC(I28*D28,1) -> 0 | K28: =TRUNC(E28+G28+I28,1) -> 1538 | L28: =TRUNC(F28+H28+J28,1) -> 1538 | N28: 474F8D1421254B162C6775FE6E2B3 | O28: 470783E4972C40062A67E23CED5001 | P28: F | Q28: F | R28: F | S28: 1 | T28: 0 | U28: 0.03 | AW28: 474F8D1421254B162C6775FE6E2B3470783E4972C40062A67E23CED5001
A29: [ 합 계 ] | F29: =TRUNC(SUMIF(N26:N28, N25, F26:F28),0) -> 1538 | H29: =TRUNC(SUMIF(N26:N28, N25, H26:H28),0) -> 51268 | J29: =TRUNC(SUMIF(N26:N28, N25, J26:J28),0) -> 0 | L29: =F29+H29+J29 -> 52806 | N29: TOTAL | O29: TOTAL
A31: 콘크리트타설(인력) -가설 무근, 25-180-8 M3 ( 호표 5 ) | N31: 461D8A6F02244EFA246F4AC382798
A32: 레미콘 - 서울 | B32: 25-18-08 | C32: M3 | D32: 1.02 | E32: ='단가대비표(공사)'!O10 -> 96160 | F32: =TRUNC(E32*D32,1) -> 98083.2 | G32: ='단가대비표(공사)'!P10 -> 0 | H32: =TRUNC(G32*D32,1) -> 0 | I32: ='단가대비표(공사)'!V10 -> 0 | J32: =TRUNC(I32*D32,1) -> 0 | K32: =TRUNC(E32+G32+I32,1) -> 96160 | L32: =TRUNC(F32+H32+J32,1) -> 98083.2 | M32: 금액제외 | O32: 413680DF1B984A962A6D7158B37169CC811A5 | P32: F | Q32: F | R32: T | V32: 1 | AW32: 461D8A6F02244EFA246F4AC382798413680DF1B984A962A6D7158B37169CC811A5 | AY32: -
A33: 레디믹스트콘크리트 인력운반 타설 | B33: 무근구조물 | C33: M3 | D33: 1 | E33: ='일위대가목록(공사)'!E17 -> 0 | F33: =TRUNC(E33*D33,1) -> 0 | G33: ='일위대가목록(공사)'!F17 -> 57929 | H33: =TRUNC(G33*D33,1) -> 57929 | I33: ='일위대가목록(공사)'!G17 -> 1158 | J33: =TRUNC(I33*D33,1) -> 1158 | K33: =TRUNC(E33+G33+I33,1) -> 59087 | L33: =TRUNC(F33+H33+J33,1) -> 59087 | M33: 금액제외 | O33: 461D8A6F03CB417F2B6ADB586DD59 | P33: T | Q33: F | R33: F | V33: 1 | AW33: 461D8A6F02244EFA246F4AC382798461D8A6F03CB417F2B6ADB586DD59 | AY33: -
A34: 경비로 적용 | B34: 합계의 100% | C34: 식 | D34: 1 | E34: 0 | F34: =TRUNC(E34*D34,1) -> 0 | G34: 0 | H34: =TRUNC(G34*D34,1) -> 0 | I34: =TRUNC(SUMIF(V32:V34, RIGHTB(O34, 1), L32:L34)*U34, 2) -> 157170.2 | J34: =TRUNC(I34*D34,1) -> 157170.2 | K34: =TRUNC(E34+G34+I34,1) -> 157170.2 | L34: =TRUNC(F34+H34+J34,1) -> 157170.2 | N34: 461D8A6F02244EFA246F4AC382798 | O34: 470783E4972C40062A67E23CED5001 | P34: F | Q34: F | R34: F | S34: 3 | T34: 2 | U34: 1 | AW34: 461D8A6F02244EFA246F4AC382798470783E4972C40062A67E23CED5001
A35: [ 합 계 ] | F35: =TRUNC(SUMIF(N32:N34, N31, F32:F34),0) -> 0 | H35: =TRUNC(SUMIF(N32:N34, N31, H32:H34),0) -> 0 | J35: =TRUNC(SUMIF(N32:N34, N31, J32:J34),0) -> 157170 | L35: =F35+H35+J35 -> 157170 | N35: TOTAL | O35: TOTAL
A37: 합판거푸집 설치 및 해체 간단 6회, 수직고 7m까지 M2 ( 호표 6 ) | N37: 461D8A68D5C244BD2B6BE417C9523
A38: 합판거푸집 - 자재비 | B38: 6회 | C38: M2 | D38: 1 | E38: ='일위대가목록(공사)'!E18 -> 12002 | F38: =TRUNC(E38*D38,1) -> 12002 | G38: ='일위대가목록(공사)'!F18 -> 0 | H38: =TRUNC(G38*D38,1) -> 0 | I38: ='일위대가목록(공사)'!G18 -> 0 | J38: =TRUNC(I38*D38,1) -> 0 | K38: =TRUNC(E38+G38+I38,1) -> 12002 | L38: =TRUNC(F38+H38+J38,1) -> 12002 | N38: 461D8A68D5C244BD2B6BE417C9523 | O38: 461D8A68D5C244BD2A6985EBCC2AE | P38: T | Q38: F | R38: F | AW38: 461D8A68D5C244BD2B6BE417C9523461D8A68D5C244BD2A6985EBCC2AE
A39: 합판거푸집 - 인력투입 | B39: 간단, 수직고 7m까지 | C39: M2 | D39: 1 | E39: ='일위대가목록(공사)'!E19 -> 0 | F39: =TRUNC(E39*D39,1) -> 0 | G39: ='일위대가목록(공사)'!F19 -> 34461 | H39: =TRUNC(G39*D39,1) -> 34461 | I39: ='일위대가목록(공사)'!G19 -> 344 | J39: =TRUNC(I39*D39,1) -> 344 | K39: =TRUNC(E39+G39+I39,1) -> 34805 | L39: =TRUNC(F39+H39+J39,1) -> 34805 | N39: 461D8A68D5C244BD2B6BE417C9523 | O39: 461D8A68D5C244BD2A6985EBCC3B5 | P39: T | Q39: F | R39: F | AW39: 461D8A68D5C244BD2B6BE417C9523461D8A68D5C244BD2A6985EBCC3B5
A40: [ 합 계 ] | F40: =TRUNC(SUMIF(N38:N39, N37, F38:F39),0) -> 12002 | H40: =TRUNC(SUMIF(N38:N39, N37, H38:H39),0) -> 34461 | J40: =TRUNC(SUMIF(N38:N39, N37, J38:J39),0) -> 344 | L40: =F40+H40+J40 -> 46807 | N40: TOTAL | O40: TOTAL
A42: 전동기 설치 15 kW 이하 대 ( 호표 7 ) | N42: 46578C4A494C44122064EBA1C59B2
A43: 플랜트전공 | B43: 일반공사 직종 | C43: 인 | D43: 1.54 | E43: ='단가대비표(공사)'!O24 -> 0 | F43: =TRUNC(E43*D43,1) -> 0 | G43: ='단가대비표(공사)'!P24 -> 269759 | H43: =TRUNC(G43*D43,1) -> 415428.8 | I43: ='단가대비표(공사)'!V24 -> 0 | J43: =TRUNC(I43*D43,1) -> 0 | K43: =TRUNC(E43+G43+I43,1) -> 269759 | L43: =TRUNC(F43+H43+J43,1) -> 415428.8 | N43: 46578C4A494C44122064EBA1C59B2 | O43: 46CB88EFDC8A42922163D691D895637C7390D | P43: F | Q43: F | R43: T | V43: 1 | AW43: 46578C4A494C44122064EBA1C59B246CB88EFDC8A42922163D691D895637C7390D
A44: 공구손료 | B44: 인력품의 3% | C44: 식 | D44: 1 | E44: =TRUNC(SUMIF(V43:V44, RIGHTB(O44, 1), H43:H44)*U44, 2) -> 12462.86 | F44: =TRUNC(E44*D44,1) -> 12462.8 | G44: 0 | H44: =TRUNC(G44*D44,1) -> 0 | I44: 0 | J44: =TRUNC(I44*D44,1) -> 0 | K44: =TRUNC(E44+G44+I44,1) -> 12462.8 | L44: =TRUNC(F44+H44+J44,1) -> 12462.8 | N44: 46578C4A494C44122064EBA1C59B2 | O44: 470783E4972C40062A67E23CED5001 | P44: F | Q44: F | R44: F | S44: 1 | T44: 0 | U44: 0.03 | AW44: 46578C4A494C44122064EBA1C59B2470783E4972C40062A67E23CED5001
A45: [ 합 계 ] | F45: =TRUNC(SUMIF(N43:N44, N42, F43:F44),0) -> 12462 | H45: =TRUNC(SUMIF(N43:N44, N42, H43:H44),0) -> 415428 | J45: =TRUNC(SUMIF(N43:N44, N42, J43:J44),0) -> 0 | L45: =F45+H45+J45 -> 427890 | N45: TOTAL | O45: TOTAL
A47: 난연 비닐절연접지용전선(F-GV)-직매 0.6/1kv, 16㎟ M ( 호표 8 ) | N47: 46578C3874A145E9256AE0FB2304E
A48: 접지용비닐절연전선 | B48: 접지용비닐절연전선, F-GV, 16㎟ | C48: M | D48: 1.05 | E48: ='단가대비표(공사)'!O6 -> 3041 | F48: =TRUNC(E48*D48,1) -> 3193 | G48: ='단가대비표(공사)'!P6 -> 0 | H48: =TRUNC(G48*D48,1) -> 0 | I48: ='단가대비표(공사)'!V6 -> 0 | J48: =TRUNC(I48*D48,1) -> 0 | K48: =TRUNC(E48+G48+I48,1) -> 3041 | L48: =TRUNC(F48+H48+J48,1) -> 3193 | N48: 46578C3874A145E9256AE0FB2304E | O48: 41258F74C07C47A02161D842CF7038080F1D2 | P48: F | Q48: F | R48: T | V48: 1 | AW48: 46578C3874A145E9256AE0FB2304E41258F74C07C47A02161D842CF7038080F1D2
A49: 잡재료비 | B49: 배관배선의 2% | C49: 식 | D49: 1 | E49: =TRUNC(SUMIF(V48:V51, RIGHTB(O49, 1), F48:F51)*U49, 2) -> 63.86 | F49: =TRUNC(E49*D49,1) -> 63.8 | G49: 0 | H49: =TRUNC(G49*D49,1) -> 0 | I49: 0 | J49: =TRUNC(I49*D49,1) -> 0 | K49: =TRUNC(E49+G49+I49,1) -> 63.8 | L49: =TRUNC(F49+H49+J49,1) -> 63.8 | N49: 46578C3874A145E9256AE0FB2304E | O49: 470783E4972C40062A67E23CED5001 | P49: F | Q49: F | R49: F | S49: 0 | T49: 0 | U49: 0.02 | AW49: 46578C3874A145E9256AE0FB2304E470783E4972C40062A67E23CED5001
A50: 내선전공 | B50: 일반공사 직종 | C50: 인 | D50: 0.007 | E50: ='단가대비표(공사)'!O21 -> 0 | F50: =TRUNC(E50*D50,1) -> 0 | G50: ='단가대비표(공사)'!P21 -> 273676 | H50: =TRUNC(G50*D50,1) -> 1915.7 | I50: ='단가대비표(공사)'!V21 -> 0 | J50: =TRUNC(I50*D50,1) -> 0 | K50: =TRUNC(E50+G50+I50,1) -> 273676 | L50: =TRUNC(F50+H50+J50,1) -> 1915.7 | N50: 46578C3874A145E9256AE0FB2304E | O50: 46CB88EFDC8A42922163D691D895637C736BC | P50: F | Q50: F | R50: T | W50: 2 | AW50: 46578C3874A145E9256AE0FB2304E46CB88EFDC8A42922163D691D895637C736BC
A51: 공구손료 | B51: 인력품의 3% | C51: 식 | D51: 1 | E51: =TRUNC(SUMIF(W48:W51, RIGHTB(O51, 1), H48:H51)*U51, 2) -> 57.47 | F51: =TRUNC(E51*D51,1) -> 57.4 | G51: 0 | H51: =TRUNC(G51*D51,1) -> 0 | I51: 0 | J51: =TRUNC(I51*D51,1) -> 0 | K51: =TRUNC(E51+G51+I51,1) -> 57.4 | L51: =TRUNC(F51+H51+J51,1) -> 57.4 | N51: 46578C3874A145E9256AE0FB2304E | O51: 470783E4972C40062A67E23CED6002 | P51: F | Q51: F | R51: F | S51: 1 | T51: 0 | U51: 0.03 | AW51: 46578C3874A145E9256AE0FB2304E470783E4972C40062A67E23CED6002
A52: [ 합 계 ] | F52: =TRUNC(SUMIF(N48:N51, N47, F48:F51),0) -> 3314 | H52: =TRUNC(SUMIF(N48:N51, N47, H48:H51),0) -> 1915 | J52: =TRUNC(SUMIF(N48:N51, N47, J48:J51),0) -> 0 | L52: =F52+H52+J52 -> 5229 | N52: TOTAL | O52: TOTAL
A54: 접지봉(지하 0.75m 기준) 길이 1~2m * 3본 개소 ( 호표 9 ) | N54: 46578D6FAFBD41DB246A0F9A41BD9
A55: 배전전공 | B55: 일반공사 직종 | C55: 인 | D55: 0.24 | E55: ='단가대비표(공사)'!O23 -> 0 | F55: =TRUNC(E55*D55,1) -> 0 | G55: ='단가대비표(공사)'!P23 -> 414968 | H55: =TRUNC(G55*D55,1) -> 99592.3 | I55: ='단가대비표(공사)'!V23 -> 0 | J55: =TRUNC(I55*D55,1) -> 0 | K55: =TRUNC(E55+G55+I55,1) -> 414968 | L55: =TRUNC(F55+H55+J55,1) -> 99592.3 | N55: 46578D6FAFBD41DB246A0F9A41BD9 | O55: 46CB88EFDC8A42922163D691D895637C7390F | P55: F | Q55: F | R55: T | V55: 1 | AW55: 46578D6FAFBD41DB246A0F9A41BD946CB88EFDC8A42922163D691D895637C7390F
A56: 보통인부 | B56: 일반공사 직종 | C56: 인 | D56: 0.2 | E56: ='단가대비표(공사)'!O17 -> 0 | F56: =TRUNC(E56*D56,1) -> 0 | G56: ='단가대비표(공사)'!P17 -> 172068 | H56: =TRUNC(G56*D56,1) -> 34413.6 | I56: ='단가대비표(공사)'!V17 -> 0 | J56: =TRUNC(I56*D56,1) -> 0 | K56: =TRUNC(E56+G56+I56,1) -> 172068 | L56: =TRUNC(F56+H56+J56,1) -> 34413.6 | N56: 46578D6FAFBD41DB246A0F9A41BD9 | O56: 46CB88EFDC8A42922163D691D895637C7313A | P56: F | Q56: F | R56: T | V56: 1 | AW56: 46578D6FAFBD41DB246A0F9A41BD946CB88EFDC8A42922163D691D895637C7313A
A57: 공구손료 | B57: 인력품의 3% | C57: 식 | D57: 1 | E57: =TRUNC(SUMIF(V55:V57, RIGHTB(O57, 1), H55:H57)*U57, 2) -> 4020.17 | F57: =TRUNC(E57*D57,1) -> 4020.1 | G57: 0 | H57: =TRUNC(G57*D57,1) -> 0 | I57: 0 | J57: =TRUNC(I57*D57,1) -> 0 | K57: =TRUNC(E57+G57+I57,1) -> 4020.1 | L57: =TRUNC(F57+H57+J57,1) -> 4020.1 | N57: 46578D6FAFBD41DB246A0F9A41BD9 | O57: 470783E4972C40062A67E23CED5001 | P57: F | Q57: F | R57: F | S57: 1 | T57: 0 | U57: 0.03 | AW57: 46578D6FAFBD41DB246A0F9A41BD9470783E4972C40062A67E23CED5001
A58: [ 합 계 ] | F58: =TRUNC(SUMIF(N55:N57, N54, F55:F57),0) -> 4020 | H58: =TRUNC(SUMIF(N55:N57, N54, H55:H57),0) -> 134005 | J58: =TRUNC(SUMIF(N55:N57, N54, J55:J57),0) -> 0 | L58: =F58+H58+J58 -> 138025 | N58: TOTAL | O58: TOTAL
A60: 0.6/1kv 난연 전력케이블(F-CV) 3C*16㎟ M ( 호표 10 ) | N60: 46578C387547422023687FB9A9381
A61: 600V폴리에틸렌케이블 | B61: 600V폴리에틸렌케이블, 0.6/1kv, F-CV, 3C*16㎟ | C61: M | D61: 1.05 | E61: ='단가대비표(공사)'!O7 -> 11440 | F61: =TRUNC(E61*D61,1) -> 12012 | G61: ='단가대비표(공사)'!P7 -> 0 | H61: =TRUNC(G61*D61,1) -> 0 | I61: ='단가대비표(공사)'!V7 -> 0 | J61: =TRUNC(I61*D61,1) -> 0 | K61: =TRUNC(E61+G61+I61,1) -> 11440 | L61: =TRUNC(F61+H61+J61,1) -> 12012 | N61: 46578C387547422023687FB9A9381 | O61: 41258F74C07C47972E62B7BC0EAF151D2952F | P61: F | Q61: F | R61: T | V61: 1 | AW61: 46578C387547422023687FB9A938141258F74C07C47972E62B7BC0EAF151D2952F
A62: 잡재료비 | B62: 배관배선의 2% | C62: 식 | D62: 1 | E62: =TRUNC(SUMIF(V61:V64, RIGHTB(O62, 1), F61:F64)*U62, 2) -> 240.24 | F62: =TRUNC(E62*D62,1) -> 240.2 | G62: 0 | H62: =TRUNC(G62*D62,1) -> 0 | I62: 0 | J62: =TRUNC(I62*D62,1) -> 0 | K62: =TRUNC(E62+G62+I62,1) -> 240.2 | L62: =TRUNC(F62+H62+J62,1) -> 240.2 | N62: 46578C387547422023687FB9A9381 | O62: 470783E4972C40062A67E23CED5001 | P62: F | Q62: F | R62: F | S62: 0 | T62: 0 | U62: 0.02 | AW62: 46578C387547422023687FB9A9381470783E4972C40062A67E23CED5001
A63: 저압케이블전공 | B63: 일반공사 직종 | C63: 인 | D63: 0.046 | E63: ='단가대비표(공사)'!O22 -> 0 | F63: =TRUNC(E63*D63,1) -> 0 | G63: ='단가대비표(공사)'!P22 -> 304156 | H63: =TRUNC(G63*D63,1) -> 13991.1 | I63: ='단가대비표(공사)'!V22 -> 0 | J63: =TRUNC(I63*D63,1) -> 0 | K63: =TRUNC(E63+G63+I63,1) -> 304156 | L63: =TRUNC(F63+H63+J63,1) -> 13991.1 | N63: 46578C387547422023687FB9A9381 | O63: 46CB88EFDC8A42922163D691D895637C736B1 | P63: F | Q63: F | R63: T | W63: 2 | AW63: 46578C387547422023687FB9A938146CB88EFDC8A42922163D691D895637C736B1
A64: 공구손료 | B64: 인력품의 3% | C64: 식 | D64: 1 | E64: =TRUNC(SUMIF(W61:W64, RIGHTB(O64, 1), H61:H64)*U64, 2) -> 419.73 | F64: =TRUNC(E64*D64,1) -> 419.7 | G64: 0 | H64: =TRUNC(G64*D64,1) -> 0 | I64: 0 | J64: =TRUNC(I64*D64,1) -> 0 | K64: =TRUNC(E64+G64+I64,1) -> 419.7 | L64: =TRUNC(F64+H64+J64,1) -> 419.7 | N64: 46578C387547422023687FB9A9381 | O64: 470783E4972C40062A67E23CED6002 | P64: F | Q64: F | R64: F | S64: 1 | T64: 0 | U64: 0.03 | AW64: 46578C387547422023687FB9A9381470783E4972C40062A67E23CED6002
A65: [ 합 계 ] | F65: =TRUNC(SUMIF(N61:N64, N60, F61:F64),0) -> 12671 | H65: =TRUNC(SUMIF(N61:N64, N60, H61:H64),0) -> 13991 | J65: =TRUNC(SUMIF(N61:N64, N60, J61:J64),0) -> 0 | L65: =F65+H65+J65 -> 26662 | N65: TOTAL | O65: TOTAL
A67: 1종금속제가요전선관-노출 비닐피복, 54mm, 방수 M ( 호표 11 ) | N67: 46578C387775439D2A6777486EB49
A68: 1종금속제가요전선관 | B68: 1종금속제가요전선관, 비닐피복, 54mm, 방수 | C68: M | D68: 1.1 | E68: ='단가대비표(공사)'!O16 -> 4382 | F68: =TRUNC(E68*D68,1) -> 4820.2 | G68: ='단가대비표(공사)'!P16 -> 0 | H68: =TRUNC(G68*D68,1) -> 0 | I68: ='단가대비표(공사)'!V16 -> 0 | J68: =TRUNC(I68*D68,1) -> 0 | K68: =TRUNC(E68+G68+I68,1) -> 4382 | L68: =TRUNC(F68+H68+J68,1) -> 4820.2 | N68: 46578C387775439D2A6777486EB49 | O68: 4136893A7BCB483527669454CF9DDA9C2288D | P68: F | Q68: F | R68: T | V68: 1 | AW68: 46578C387775439D2A6777486EB494136893A7BCB483527669454CF9DDA9C2288D
A69: 잡재료비 | B69: 배관배선의 2% | C69: 식 | D69: 1 | E69: =TRUNC(SUMIF(V68:V71, RIGHTB(O69, 1), F68:F71)*U69, 2) -> 96.4 | F69: =TRUNC(E69*D69,1) -> 96.4 | G69: 0 | H69: =TRUNC(G69*D69,1) -> 0 | I69: 0 | J69: =TRUNC(I69*D69,1) -> 0 | K69: =TRUNC(E69+G69+I69,1) -> 96.4 | L69: =TRUNC(F69+H69+J69,1) -> 96.4 | N69: 46578C387775439D2A6777486EB49 | O69: 470783E4972C40062A67E23CED5001 | P69: F | Q69: F | R69: F | S69: 0 | T69: 0 | U69: 0.02 | AW69: 46578C387775439D2A6777486EB49470783E4972C40062A67E23CED6002
A70: 내선전공 | B70: 일반공사 직종 | C70: 인 | D70: 0.163 | E70: ='단가대비표(공사)'!O21 -> 0 | F70: =TRUNC(E70*D70,1) -> 0 | G70: ='단가대비표(공사)'!P21 -> 273676 | H70: =TRUNC(G70*D70,1) -> 44609.1 | I70: ='단가대비표(공사)'!V21 -> 0 | J70: =TRUNC(I70*D70,1) -> 0 | K70: =TRUNC(E70+G70+I70,1) -> 273676 | L70: =TRUNC(F70+H70+J70,1) -> 44609.1 | N70: 46578C387775439D2A6777486EB49 | O70: 46CB88EFDC8A42922163D691D895637C736BC | P70: F | Q70: F | R70: T | W70: 2 | AW70: 46578C387775439D2A6777486EB4946CB88EFDC8A42922163D691D895637C736BC
A71: 공구손료 | B71: 인력품의 3% | C71: 식 | D71: 1 | E71: =TRUNC(SUMIF(W68:W71, RIGHTB(O71, 1), H68:H71)*U71, 2) -> 1338.27 | F71: =TRUNC(E71*D71,1) -> 1338.2 | G71: 0 | H71: =TRUNC(G71*D71,1) -> 0 | I71: 0 | J71: =TRUNC(I71*D71,1) -> 0 | K71: =TRUNC(E71+G71+I71,1) -> 1338.2 | L71: =TRUNC(F71+H71+J71,1) -> 1338.2 | N71: 46578C387775439D2A6777486EB49 | O71: 470783E4972C40062A67E23CED6002 | P71: F | Q71: F | R71: F | S71: 1 | T71: 0 | U71: 0.03 | AW71: 46578C387775439D2A6777486EB49470783E4972C40062A67E23CED7003
A72: [ 합 계 ] | F72: =TRUNC(SUMIF(N68:N71, N67, F68:F71),0) -> 6254 | H72: =TRUNC(SUMIF(N68:N71, N67, H68:H71),0) -> 44609 | J72: =TRUNC(SUMIF(N68:N71, N67, J68:J71),0) -> 0 | L72: =F72+H72+J72 -> 50863 | N72: TOTAL | O72: TOTAL
A74: 1종금속제가요전선관-노출 비닐피복, 10mm, 방수 M ( 호표 12 ) | N74: 46578C387775439D2A6777486EC6F
A75: 1종금속제가요전선관 | B75: 1종금속제가요전선관, 비닐피복, 10mm, 방수 | C75: M | D75: 1.1 | E75: ='단가대비표(공사)'!O15 -> 1420 | F75: =TRUNC(E75*D75,1) -> 1562 | G75: ='단가대비표(공사)'!P15 -> 0 | H75: =TRUNC(G75*D75,1) -> 0 | I75: ='단가대비표(공사)'!V15 -> 0 | J75: =TRUNC(I75*D75,1) -> 0 | K75: =TRUNC(E75+G75+I75,1) -> 1420 | L75: =TRUNC(F75+H75+J75,1) -> 1562 | N75: 46578C387775439D2A6777486EC6F | O75: 4136893A7BCB483527669454CF9DDA9C2288A | P75: F | Q75: F | R75: T | V75: 1 | AW75: 46578C387775439D2A6777486EC6F4136893A7BCB483527669454CF9DDA9C2288A
A76: 잡재료비 | B76: 배관배선의 2% | C76: 식 | D76: 1 | E76: =TRUNC(SUMIF(V75:V78, RIGHTB(O76, 1), F75:F78)*U76, 2) -> 31.24 | F76: =TRUNC(E76*D76,1) -> 31.2 | G76: 0 | H76: =TRUNC(G76*D76,1) -> 0 | I76: 0 | J76: =TRUNC(I76*D76,1) -> 0 | K76: =TRUNC(E76+G76+I76,1) -> 31.2 | L76: =TRUNC(F76+H76+J76,1) -> 31.2 | N76: 46578C387775439D2A6777486EC6F | O76: 470783E4972C40062A67E23CED5001 | P76: F | Q76: F | R76: F | S76: 0 | T76: 0 | U76: 0.02 | AW76: 46578C387775439D2A6777486EC6F470783E4972C40062A67E23CED6002
A77: 내선전공 | B77: 일반공사 직종 | C77: 인 | D77: 0.052 | E77: ='단가대비표(공사)'!O21 -> 0 | F77: =TRUNC(E77*D77,1) -> 0 | G77: ='단가대비표(공사)'!P21 -> 273676 | H77: =TRUNC(G77*D77,1) -> 14231.1 | I77: ='단가대비표(공사)'!V21 -> 0 | J77: =TRUNC(I77*D77,1) -> 0 | K77: =TRUNC(E77+G77+I77,1) -> 273676 | L77: =TRUNC(F77+H77+J77,1) -> 14231.1 | N77: 46578C387775439D2A6777486EC6F | O77: 46CB88EFDC8A42922163D691D895637C736BC | P77: F | Q77: F | R77: T | W77: 2 | AW77: 46578C387775439D2A6777486EC6F46CB88EFDC8A42922163D691D895637C736BC
A78: 공구손료 | B78: 인력품의 3% | C78: 식 | D78: 1 | E78: =TRUNC(SUMIF(W75:W78, RIGHTB(O78, 1), H75:H78)*U78, 2) -> 426.93 | F78: =TRUNC(E78*D78,1) -> 426.9 | G78: 0 | H78: =TRUNC(G78*D78,1) -> 0 | I78: 0 | J78: =TRUNC(I78*D78,1) -> 0 | K78: =TRUNC(E78+G78+I78,1) -> 426.9 | L78: =TRUNC(F78+H78+J78,1) -> 426.9 | N78: 46578C387775439D2A6777486EC6F | O78: 470783E4972C40062A67E23CED6002 | P78: F | Q78: F | R78: F | S78: 1 | T78: 0 | U78: 0.03 | AW78: 46578C387775439D2A6777486EC6F470783E4972C40062A67E23CED7003
A79: [ 합 계 ] | F79: =TRUNC(SUMIF(N75:N78, N74, F75:F78),0) -> 2020 | H79: =TRUNC(SUMIF(N75:N78, N74, H75:H78),0) -> 14231 | J79: =TRUNC(SUMIF(N75:N78, N74, J75:J78),0) -> 0 | L79: =F79+H79+J79 -> 16251 | N79: TOTAL | O79: TOTAL
A81: 풀박스(천장면)-노출 300*300*150mm 개 ( 호표 13 ) | N81: 46578C387F4B47462164D00E60608
A82: 풀박스 | B82: 풀박스, 300*300*150mm | C82: 개 | D82: 1 | E82: ='단가대비표(공사)'!O11 -> 9996 | F82: =TRUNC(E82*D82,1) -> 9996 | G82: ='단가대비표(공사)'!P11 -> 0 | H82: =TRUNC(G82*D82,1) -> 0 | I82: ='단가대비표(공사)'!V11 -> 0 | J82: =TRUNC(I82*D82,1) -> 0 | K82: =TRUNC(E82+G82+I82,1) -> 9996 | L82: =TRUNC(F82+H82+J82,1) -> 9996 | N82: 46578C387F4B47462164D00E60608 | O82: 4136893A7A224ADE276B25C65560F82460118 | P82: F | Q82: F | R82: T | AW82: 46578C387F4B47462164D00E606084136893A7A224ADE276B25C65560F82460118
A83: 내선전공 | B83: 일반공사 직종 | C83: 인 | D83: 0.42 | E83: ='단가대비표(공사)'!O21 -> 0 | F83: =TRUNC(E83*D83,1) -> 0 | G83: ='단가대비표(공사)'!P21 -> 273676 | H83: =TRUNC(G83*D83,1) -> 114943.9 | I83: ='단가대비표(공사)'!V21 -> 0 | J83: =TRUNC(I83*D83,1) -> 0 | K83: =TRUNC(E83+G83+I83,1) -> 273676 | L83: =TRUNC(F83+H83+J83,1) -> 114943.9 | N83: 46578C387F4B47462164D00E60608 | O83: 46CB88EFDC8A42922163D691D895637C736BC | P83: F | Q83: F | R83: T | V83: 1 | AW83: 46578C387F4B47462164D00E6060846CB88EFDC8A42922163D691D895637C736BC
A84: 공구손료 | B84: 인력품의 3% | C84: 식 | D84: 1 | E84: =TRUNC(SUMIF(V82:V84, RIGHTB(O84, 1), H82:H84)*U84, 2) -> 3448.31 | F84: =TRUNC(E84*D84,1) -> 3448.3 | G84: 0 | H84: =TRUNC(G84*D84,1) -> 0 | I84: 0 | J84: =TRUNC(I84*D84,1) -> 0 | K84: =TRUNC(E84+G84+I84,1) -> 3448.3 | L84: =TRUNC(F84+H84+J84,1) -> 3448.3 | N84: 46578C387F4B47462164D00E60608 | O84: 470783E4972C40062A67E23CED5001 | P84: F | Q84: F | R84: F | S84: 1 | T84: 0 | U84: 0.03 | AW84: 46578C387F4B47462164D00E60608470783E4972C40062A67E23CED5001
A85: [ 합 계 ] | F85: =TRUNC(SUMIF(N82:N84, N81, F82:F84),0) -> 13444 | H85: =TRUNC(SUMIF(N82:N84, N81, H82:H84),0) -> 114943 | J85: =TRUNC(SUMIF(N82:N84, N81, J82:J84),0) -> 0 | L85: =F85+H85+J85 -> 128387 | N85: TOTAL | O85: TOTAL
A87: 레디믹스트콘크리트 인력운반 타설 무근구조물 M3 ( 호표 14 ) | N87: 461D8A6F03CB417F2B6ADB586DD59
A88: 콘크리트공 | B88: 일반공사 직종 | C88: 인 | D88: 0.13 | E88: ='단가대비표(공사)'!O19 -> 0 | F88: =TRUNC(E88*D88,1) -> 0 | G88: ='단가대비표(공사)'!P19 -> 273540 | H88: =TRUNC(G88*D88,1) -> 35560.2 | I88: ='단가대비표(공사)'!V19 -> 0 | J88: =TRUNC(I88*D88,1) -> 0 | K88: =TRUNC(E88+G88+I88,1) -> 273540 | L88: =TRUNC(F88+H88+J88,1) -> 35560.2 | N88: 461D8A6F03CB417F2B6ADB586DD59 | O88: 46CB88EFDC8A42922163D691D895637C73012 | P88: F | Q88: F | R88: T | V88: 1 | AW88: 461D8A6F03CB417F2B6ADB586DD5946CB88EFDC8A42922163D691D895637C73012
A89: 보통인부 | B89: 일반공사 직종 | C89: 인 | D89: 0.13 | E89: ='단가대비표(공사)'!O17 -> 0 | F89: =TRUNC(E89*D89,1) -> 0 | G89: ='단가대비표(공사)'!P17 -> 172068 | H89: =TRUNC(G89*D89,1) -> 22368.8 | I89: ='단가대비표(공사)'!V17 -> 0 | J89: =TRUNC(I89*D89,1) -> 0 | K89: =TRUNC(E89+G89+I89,1) -> 172068 | L89: =TRUNC(F89+H89+J89,1) -> 22368.8 | N89: 461D8A6F03CB417F2B6ADB586DD59 | O89: 46CB88EFDC8A42922163D691D895637C7313A | P89: F | Q89: F | R89: T | V89: 1 | AW89: 461D8A6F03CB417F2B6ADB586DD5946CB88EFDC8A42922163D691D895637C7313A
A90: 공구손료 | B90: 인력품의 2% | C90: 식 | D90: 1 | E90: 0 | F90: =TRUNC(E90*D90,1) -> 0 | G90: 0 | H90: =TRUNC(G90*D90,1) -> 0 | I90: =TRUNC(SUMIF(V88:V90, RIGHTB(O90, 1), H88:H90)*U90, 2) -> 1158.58 | J90: =TRUNC(I90*D90,1) -> 1158.5 | K90: =TRUNC(E90+G90+I90,1) -> 1158.5 | L90: =TRUNC(F90+H90+J90,1) -> 1158.5 | N90: 461D8A6F03CB417F2B6ADB586DD59 | O90: 470783E4972C40062A67E23CED5001 | P90: F | Q90: F | R90: F | S90: 1 | T90: 2 | U90: 0.02 | AW90: 461D8A6F03CB417F2B6ADB586DD59470783E4972C40062A67E23CED5001
A91: [ 합 계 ] | F91: =TRUNC(SUMIF(N88:N90, N87, F88:F90),0) -> 0 | H91: =TRUNC(SUMIF(N88:N90, N87, H88:H90),0) -> 57929 | J91: =TRUNC(SUMIF(N88:N90, N87, J88:J90),0) -> 1158 | L91: =F91+H91+J91 -> 59087 | N91: TOTAL | O91: TOTAL
A93: 합판거푸집 - 자재비 6회 M2 ( 호표 15 ) | N93: 461D8A68D5C244BD2A6985EBCC2AE
A94: 내수합판 | B94: 내수합판, 1급, 12*1220*2440mm | C94: M2 | D94: 1.03 | E94: ='단가대비표(공사)'!O5 -> 11018 | F94: =TRUNC(E94*D94,1) -> 11348.5 | G94: ='단가대비표(공사)'!P5 -> 0 | H94: =TRUNC(G94*D94,1) -> 0 | I94: ='단가대비표(공사)'!V5 -> 0 | J94: =TRUNC(I94*D94,1) -> 0 | K94: =TRUNC(E94+G94+I94,1) -> 11018 | L94: =TRUNC(F94+H94+J94,1) -> 11348.5 | M94: 금액제외 | O94: 411B8308555E4C0928667DA6F4CCA339BF84E | P94: F | Q94: F | R94: T | V94: 1 | AW94: 461D8A68D5C244BD2A6985EBCC2AE411B8308555E4C0928667DA6F4CCA339BF84E | AY94: -
A95: 각재 | B95: 각재, 외송 | C95: M3 | D95: 0.038 | E95: ='단가대비표(공사)'!O9 -> 571556 | F95: =TRUNC(E95*D95,1) -> 21719.1 | G95: ='단가대비표(공사)'!P9 -> 0 | H95: =TRUNC(G95*D95,1) -> 0 | I95: ='단가대비표(공사)'!V9 -> 0 | J95: =TRUNC(I95*D95,1) -> 0 | K95: =TRUNC(E95+G95+I95,1) -> 571556 | L95: =TRUNC(F95+H95+J95,1) -> 21719.1 | M95: 금액제외 | O95: 413680DF1AF142422A6E2E6B392E2CDCF5277 | P95: F | Q95: F | R95: T | V95: 1 | AW95: 461D8A68D5C244BD2A6985EBCC2AE413680DF1AF142422A6E2E6B392E2CDCF5277 | AY95: -
A96: 적용비율 | B96: 주재료비의 32.7% | C96: 식 | D96: 1 | E96: =TRUNC(SUMIF(V94:V97, RIGHTB(O96, 1), F94:F97)*U96, 2) -> 10813.1 | F96: =TRUNC(E96*D96,1) -> 10813.1 | G96: 0 | H96: =TRUNC(G96*D96,1) -> 0 | I96: 0 | J96: =TRUNC(I96*D96,1) -> 0 | K96: =TRUNC(E96+G96+I96,1) -> 10813.1 | L96: =TRUNC(F96+H96+J96,1) -> 10813.1 | N96: 461D8A68D5C244BD2A6985EBCC2AE | O96: 470783E4972C40062A67E23CED5001 | P96: F | Q96: F | R96: F | S96: 0 | T96: 0 | U96: 0.327 | W96: 2 | AW96: 461D8A68D5C244BD2A6985EBCC2AE470783E4972C40062A67E23CED1005
A97: 소모자재(박리재 등) | B97: 주재료비의 11% | C97: 식 | D97: 1 | E97: =TRUNC(SUMIF(W94:W97, RIGHTB(O97, 1), F94:F97)*U97, 2) -> 1189.44 | F97: =TRUNC(E97*D97,1) -> 1189.4 | G97: 0 | H97: =TRUNC(G97*D97,1) -> 0 | I97: 0 | J97: =TRUNC(I97*D97,1) -> 0 | K97: =TRUNC(E97+G97+I97,1) -> 1189.4 | L97: =TRUNC(F97+H97+J97,1) -> 1189.4 | N97: 461D8A68D5C244BD2A6985EBCC2AE | O97: 470783E4972C40062A67E23CED6002 | P97: F | Q97: F | R97: F | S97: 0 | T97: 0 | U97: 0.11 | AW97: 461D8A68D5C244BD2A6985EBCC2AE470783E4972C40062A67E23CED7003
A98: [ 합 계 ] | F98: =TRUNC(SUMIF(N94:N97, N93, F94:F97),0) -> 12002 | H98: =TRUNC(SUMIF(N94:N97, N93, H94:H97),0) -> 0 | J98: =TRUNC(SUMIF(N94:N97, N93, J94:J97),0) -> 0 | L98: =F98+H98+J98 -> 12002 | N98: TOTAL | O98: TOTAL
A100: 합판거푸집 - 인력투입 간단, 수직고 7m까지 M2 ( 호표 16 ) | N100: 461D8A68D5C244BD2A6985EBCC3B5
A101: 형틀목공 | B101: 일반공사 직종 | C101: 인 | D101: 0.1 | E101: ='단가대비표(공사)'!O18 -> 0 | F101: =TRUNC(E101*D101,1) -> 0 | G101: ='단가대비표(공사)'!P18 -> 275790 | H101: =TRUNC(G101*D101,1) -> 27579 | I101: ='단가대비표(공사)'!V18 -> 0 | J101: =TRUNC(I101*D101,1) -> 0 | K101: =TRUNC(E101+G101+I101,1) -> 275790 | L101: =TRUNC(F101+H101+J101,1) -> 27579 | N101: 461D8A68D5C244BD2A6985EBCC3B5 | O101: 46CB88EFDC8A42922163D691D895637C7313F | P101: F | Q101: F | R101: T | V101: 1 | AW101: 461D8A68D5C244BD2A6985EBCC3B546CB88EFDC8A42922163D691D895637C7313F
A102: 보통인부 | B102: 일반공사 직종 | C102: 인 | D102: 0.04 | E102: ='단가대비표(공사)'!O17 -> 0 | F102: =TRUNC(E102*D102,1) -> 0 | G102: ='단가대비표(공사)'!P17 -> 172068 | H102: =TRUNC(G102*D102,1) -> 6882.7 | I102: ='단가대비표(공사)'!V17 -> 0 | J102: =TRUNC(I102*D102,1) -> 0 | K102: =TRUNC(E102+G102+I102,1) -> 172068 | L102: =TRUNC(F102+H102+J102,1) -> 6882.7 | N102: 461D8A68D5C244BD2A6985EBCC3B5 | O102: 46CB88EFDC8A42922163D691D895637C7313A | P102: F | Q102: F | R102: T | V102: 1 | AW102: 461D8A68D5C244BD2A6985EBCC3B546CB88EFDC8A42922163D691D895637C7313A
A103: 공구손료 | B103: 인력품의 1% | C103: 식 | D103: 1 | E103: 0 | F103: =TRUNC(E103*D103,1) -> 0 | G103: 0 | H103: =TRUNC(G103*D103,1) -> 0 | I103: =TRUNC(SUMIF(V101:V103, RIGHTB(O103, 1), H101:H103)*U103, 2) -> 344.61 | J103: =TRUNC(I103*D103,1) -> 344.6 | K103: =TRUNC(E103+G103+I103,1) -> 344.6 | L103: =TRUNC(F103+H103+J103,1) -> 344.6 | N103: 461D8A68D5C244BD2A6985EBCC3B5 | O103: 470783E4972C40062A67E23CED5001 | P103: F | Q103: F | R103: F | S103: 1 | T103: 2 | U103: 0.01 | AW103: 461D8A68D5C244BD2A6985EBCC3B5470783E4972C40062A67E23CED5001
A104: [ 합 계 ] | F104: =TRUNC(SUMIF(N101:N103, N100, F101:F103),0) -> 0 | H104: =TRUNC(SUMIF(N101:N103, N100, H101:H103),0) -> 34461 | J104: =TRUNC(SUMIF(N101:N103, N100, J101:J103),0) -> 344 | L104: =F104+H104+J104 -> 34805 | N104: TOTAL | O104: TOTAL

Sheet 단가대비표(공사)
A1: 단 가 대 비 표
A2: [ 산양천 간이양수장 전기공사 ]
A3: 코 드 | B3: 품 명 | C3: 규격 | D3: 단위 | E3: 재 료 비 | P3: 노 무 비 | Q3: 경 비 | W3: 번 호 | X3: 비 고 | Y3: 품목구분 | Z3: 노임구분 | AA3: 소수점처리 | AB3: 자재구분
E4: 조달청가격 | F4: PAGE | G4: 거래가격 | H4: PAGE | I4: 유통물가 | J4: PAGE | K4: 조사가격1 | L4: PAGE | M4: 조사가격2 | N4: PAGE | O4: 적용단가 | Q4: 조달청가격 | R4: 거래가격 | S4: 유통물가 | T4: 조사가격1 | U4: 조사가격2 | V4: 적용단가
A5: 411B8308555E4C0928667DA6F4CCA339BF84E | B5: 내수합판 | C5: 내수합판, 1급, 12*1220*2440mm | D5: M2 | E5: 11018 | G5: 11354.47 | H5: 667 | I5: 11556.03 | J5: 407 | K5: 0 | M5: 0 | O5: =SMALL(E5:M5,COUNTIF(E5:M5,0)+1) -> 11018 | P5: 0 | Q5: 0 | R5: 0 | S5: 0 | T5: 0 | U5: 0 | V5: 0 | W5: 자재 1
A6: 41258F74C07C47A02161D842CF7038080F1D2 | B6: 접지용비닐절연전선 | C6: 접지용비닐절연전선, F-GV, 16㎟ | D6: M | E6: 3041 | G6: 4604 | H6: 994 | I6: 4388 | J6: 833 | K6: 0 | M6: 0 | O6: =SMALL(E6:M6,COUNTIF(E6:M6,0)+1) -> 3041 | P6: 0 | Q6: 0 | R6: 0 | S6: 0 | T6: 0 | U6: 0 | V6: 0 | W6: 자재 2
A7: 41258F74C07C47972E62B7BC0EAF151D2952F | B7: 600V폴리에틸렌케이블 | C7: 600V폴리에틸렌케이블, 0.6/1kv, F-CV, 3C*16㎟ | D7: M | E7: 11440 | G7: 13899 | H7: 993 | I7: 13415 | J7: 834 | K7: 0 | M7: 0 | O7: =SMALL(E7:M7,COUNTIF(E7:M7,0)+1) -> 11440 | P7: 0 | Q7: 0 | R7: 0 | S7: 0 | T7: 0 | U7: 0 | V7: 0 | W7: 자재 3
A8: 41258F74C07C47972E62B7BC0EAF151D2937A | B8: 600V폴리에틸렌케이블 | C8: 600V폴리에틸렌케이블, 0.6/1kv, F-CV, 4C*16㎟ | D8: M | E8: 15126 | G8: 18405 | H8: 993 | I8: 17737 | J8: 834 | K8: 0 | M8: 0 | O8: =SMALL(E8:M8,COUNTIF(E8:M8,0)+1) -> 15126 | P8: 0 | Q8: 0 | R8: 0 | S8: 0 | T8: 0 | U8: 0 | V8: 0 | W8: 자재 4
A9: 413680DF1AF142422A6E2E6B392E2CDCF5277 | B9: 각재 | C9: 각재, 외송 | D9: M3 | E9: 571556 | G9: 634730.53 | H9: 147 | I9: 571556.88 | J9: 73 | K9: 0 | M9: 0 | O9: =SMALL(E9:M9,COUNTIF(E9:M9,0)+1) -> 571556 | P9: 0 | Q9: 0 | R9: 0 | S9: 0 | T9: 0 | U9: 0 | V9: 0 | W9: 자재 5
A10: 413680DF1B984A962A6D7158B37169CC811A5 | B10: 레미콘 - 서울 | C10: 25-18-08 | D10: M3 | E10: 0 | G10: 98080 | H10: 108 | I10: 96160 | J10: 66 | K10: 0 | M10: 0 | O10: =SMALL(E10:M10,COUNTIF(E10:M10,0)+1) -> 96160 | P10: 0 | Q10: 0 | R10: 0 | S10: 0 | T10: 0 | U10: 0 | V10: 0 | W10: 자재 6
A11: 4136893A7A224ADE276B25C65560F82460118 | B11: 풀박스 | C11: 풀박스, 300*300*150mm | D11: 개 | E11: 9996 | G11: 22110 | H11: 1028 | I11: 11760 | J11: 873 | K11: 0 | M11: 0 | O11: =SMALL(E11:M11,COUNTIF(E11:M11,0)+1) -> 9996 | P11: 0 | Q11: 0 | R11: 0 | S11: 0 | T11: 0 | U11: 0 | V11: 0 | W11: 자재 7
A12: 4136893A7A224A8624693D1088DBE25582351 | B12: 접지봉 | C12: 접지봉, 14∮*1000mm | D12: 개 | E12: 3381 | G12: 0 | I12: 3900 | J12: 925 | K12: 0 | M12: 0 | O12: =SMALL(E12:M12,COUNTIF(E12:M12,0)+1) -> 3381 | P12: 0 | Q12: 0 | R12: 0 | S12: 0 | T12: 0 | U12: 0 | V12: 0 | W12: 자재 8
A13: 4136893A7BCB4835276694653EA8950C81BDB | B13: 강제전선관 | C13: 강제전선관, 후강전선관, 아연도, 42mm | D13: M | E13: 5899 | G13: 7350 | H13: 1029 | I13: 8486 | J13: 864 | K13: 0 | M13: 0 | O13: =SMALL(E13:M13,COUNTIF(E13:M13,0)+1) -> 5899 | P13: 0 | Q13: 0 | R13: 0 | S13: 0 | T13: 0 | U13: 0 | V13: 0 | W13: 자재 9
A14: 4136893A7BCB4835276694653EA8951E1407B | B14: 파상형경질폴리에틸렌전선관 | C14: 파상형경질폴리에틸렌전선관, ELP, 40mm | D14: M | E14: 522 | G14: 857 | H14: 1025 | I14: 607 | J14: 861 | K14: 0 | M14: 0 | O14: =SMALL(E14:M14,COUNTIF(E14:M14,0)+1) -> 522 | P14: 0 | Q14: 0 | R14: 0 | S14: 0 | T14: 0 | U14: 0 | V14: 0 | W14: 자재 10
A15: 4136893A7BCB483527669454CF9DDA9C2288A | B15: 1종금속제가요전선관 | C15: 1종금속제가요전선관, 비닐피복, 10mm, 방수 | D15: M | E15: 0 | G15: 1420 | H15: 1027 | I15: 0 | K15: 0 | M15: 0 | O15: =SMALL(E15:M15,COUNTIF(E15:M15,0)+1) -> 1420 | P15: 0 | Q15: 0 | R15: 0 | S15: 0 | T15: 0 | U15: 0 | V15: 0 | W15: 자재 11
A16: 4136893A7BCB483527669454CF9DDA9C2288D | B16: 1종금속제가요전선관 | C16: 1종금속제가요전선관, 비닐피복, 54mm, 방수 | D16: M | E16: 4382 | G16: 9180 | H16: 1027 | I16: 0 | K16: 0 | M16: 0 | O16: =SMALL(E16:M16,COUNTIF(E16:M16,0)+1) -> 4382 | P16: 0 | Q16: 0 | R16: 0 | S16: 0 | T16: 0 | U16: 0 | V16: 0 | W16: 자재 12
A17: 46CB88EFDC8A42922163D691D895637C7313A | B17: 보통인부 | C17: 일반공사 직종 | D17: 인 | E17: 0 | G17: 0 | I17: 0 | K17: 0 | M17: 0 | O17: 0 | P17: 172068 | Q17: 0 | R17: 0 | S17: 0 | T17: 0 | U17: 0 | V17: 0 | W17: 노임 1 | Y17: B
A18: 46CB88EFDC8A42922163D691D895637C7313F | B18: 형틀목공 | C18: 일반공사 직종 | D18: 인 | E18: 0 | G18: 0 | I18: 0 | K18: 0 | M18: 0 | O18: 0 | P18: 275790 | Q18: 0 | R18: 0 | S18: 0 | T18: 0 | U18: 0 | V18: 0 | W18: 노임 2 | Y18: B
A19: 46CB88EFDC8A42922163D691D895637C73012 | B19: 콘크리트공 | C19: 일반공사 직종 | D19: 인 | E19: 0 | G19: 0 | I19: 0 | K19: 0 | M19: 0 | O19: 0 | P19: 273540 | Q19: 0 | R19: 0 | S19: 0 | T19: 0 | U19: 0 | V19: 0 | W19: 노임 3 | Y19: B
A20: 46CB88EFDC8A42922163D691D895637C73014 | B20: 착암공 | C20: 일반공사 직종 | D20: 인 | E20: 0 | G20: 0 | I20: 0 | K20: 0 | M20: 0 | O20: 0 | P20: 222306 | Q20: 0 | R20: 0 | S20: 0 | T20: 0 | U20: 0 | V20: 0 | W20: 노임 4 | Y20: B
A21: 46CB88EFDC8A42922163D691D895637C736BC | B21: 내선전공 | C21: 일반공사 직종 | D21: 인 | E21: 0 | G21: 0 | I21: 0 | K21: 0 | M21: 0 | O21: 0 | P21: 273676 | Q21: 0 | R21: 0 | S21: 0 | T21: 0 | U21: 0 | V21: 0 | W21: 노임 5 | Y21: B
A22: 46CB88EFDC8A42922163D691D895637C736B1 | B22: 저압케이블전공 | C22: 일반공사 직종 | D22: 인 | E22: 0 | G22: 0 | I22: 0 | K22: 0 | M22: 0 | O22: 0 | P22: 304156 | Q22: 0 | R22: 0 | S22: 0 | T22: 0 | U22: 0 | V22: 0 | W22: 노임 6 | Y22: B
A23: 46CB88EFDC8A42922163D691D895637C7390F | B23: 배전전공 | C23: 일반공사 직종 | D23: 인 | E23: 0 | G23: 0 | I23: 0 | K23: 0 | M23: 0 | O23: 0 | P23: 414968 | Q23: 0 | R23: 0 | S23: 0 | T23: 0 | U23: 0 | V23: 0 | W23: 노임 7 | Y23: B
A24: 46CB88EFDC8A42922163D691D895637C7390D | B24: 플랜트전공 | C24: 일반공사 직종 | D24: 인 | E24: 0 | G24: 0 | I24: 0 | K24: 0 | M24: 0 | O24: 0 | P24: 269759 | Q24: 0 | R24: 0 | S24: 0 | T24: 0 | U24: 0 | V24: 0 | W24: 노임 8 | Y24: B
A25: 474F8D637A6542AA2364FCA075F43 | B25: (공동주택) 엔트런스캡(위샤캡) | C25: 철재 42㎜ | D25: 개 | E25: 4761 | G25: 0 | I25: 0 | K25: 0 | M25: 0 | O25: =SMALL(E25:M25,COUNTIF(E25:M25,0)+1) -> 4761 | P25: 8020 | Q25: 0 | R25: 0 | S25: 0 | T25: 0 | U25: 0 | V25: 0 | W25: 자재 13 | X25: 노무비율 62.7% | Y25: 1
A26: 47A686A9F2F94C13216BEEC294D7B91CC4E6D | B26: 오뚜기식수위계 | C26: 4접점(HH,H,L,LL) | D26: SET | E26: 0 | G26: 0 | I26: 0 | K26: 0 | M26: 470000 | N26: M085064 | O26: =SMALL(E26:M26,COUNTIF(E26:M26,0)+1) -> 470000 | P26: 0 | Q26: 0 | R26: 0 | S26: 0 | T26: 0 | U26: 0 | V26: 0 | W26: 자재 14
A27: 47A686A9F2F94C13216BEEC294D7B91CC4E6E | B27: 산양천1,2 간이양수장 분전반 | D27: 식 | E27: 0 | G27: 0 | I27: 0 | K27: 0 | M27: ='원가계산서(제조)'!E16 -> 14600000 | O27: =SMALL(E27:M27,COUNTIF(E27:M27,0)+1) -> 14600000 | P27: 0 | Q27: 0 | R27: 0 | S27: 0 | T27: 0 | U27: 0 | V27: 0 | W27: 자재 15

Sheet 자재소요량집계표(공사)
A1: 자 재 소 요 량 집 계 표
A2: [ 산양천 간이양수장 전기공사 ]
A3: 코 드 | B3: 품 명 | C3: 규 격 | D3: 단위 | E3: 수 량 | F3: 단 가 | G3: 금 액 | H3: 번 호 | I3: 비 고
A5: ZA00000000000001 | B5: 오뚜기식수위계 | C5: 4접점(HH,H,L,LL) | D5: SET | E5: 2 | F5: 470000 | G5: 940000 | H5: 자재 14
A6: ZA00000000000002 | B6: 산양천1,2 간이양수장 분전반 | D6: 식 | E6: 2 | F6: 16060000 | G6: 32120000 | H6: 자재 15
B7: 소 계 | G7: 33060000
A8: ☞ 육송(외송) -각재,판재
A9: 3010369820141038 | B9: 각재 | C9: 각재, 외송 | D9: M3 | E9: 0.076 | F9: 571556 | G9: 43438 | H9: 자재 5
B10: 소 계 | G10: 43438
A11: ☞ 내수합판
A12: 1112200120142458 | B12: 내수합판 | C12: 내수합판, 1급, 12*1220*2440mm | D12: M2 | E12: 2.06 | F12: 11018 | G12: 22697 | H12: 자재 1
B13: 소 계 | G13: 22697
A14: ☞ 서울
A15: 3011150510068418 | B15: 레미콘 - 서울 | C15: 25-18-08 | D15: M3 | E15: 12.24 | F15: 96160 | G15: 1176998 | H15: 자재 6
B16: 소 계 | G16: 1176998
A17: ☞ 0.6/1KV 트레이 접지용 F-GV
A18: 2612152420683699 | B18: 접지용비닐절연전선 | C18: 접지용비닐절연전선, F-GV, 16㎟ | D18: M | E18: 3.15 | F18: 3041 | G18: 9579 | H18: 자재 2
B19: 소 계 | G19: 9579
A20: ☞ 0.6/1KV 케이블(F-CV) -3C
A21: 2612162920683925 | B21: 600V폴리에틸렌케이블 | C21: 600V폴리에틸렌케이블, 0.6/1kv, F-CV, 3C*16㎟ | D21: M | E21: 29.4 | F21: 11440 | G21: 336336 | H21: 자재 3
B22: 소 계 | G22: 336336
A23: ☞ 0.6/1KV 케이블(F-CV) -4C
A24: 2612162920683947 | B24: 600V폴리에틸렌케이블 | C24: 600V폴리에틸렌케이블, 0.6/1kv, F-CV, 4C*16㎟ | D24: M | E24: 65.1 | F24: 15126 | G24: 984702 | H24: 자재 4
B25: 소 계 | G25: 984702
A26: 접지자재
A27: 3912161310034844 | B27: 접지봉 | C27: 접지봉, 14∮*1000mm | D27: 개 | E27: 6 | F27: 3381 | G27: 20286 | H27: 자재 8
B28: 소 계 | G28: 20286
A29: 강제전선관(STEEL)
A30: 3913170610034836 | B30: 강제전선관 | C30: 강제전선관, 후강전선관, 아연도, 42mm | D30: M | E30: 55 | F30: 5899 | G30: 324445 | H30: 자재 9
B31: 소 계 | G31: 324445
A32: 파상형 전선관(PE)
A33: 3913170610035632 | B33: 파상형경질폴리에틸렌전선관 | C33: 파상형경질폴리에틸렌전선관, ELP, 40mm | D33: M | E33: 12 | F33: 522 | G33: 6264 | H33: 자재 10
B34: 소 계 | G34: 6264
A35: ☞ 일반
A36: 3913170620174420 | B36: 1종금속제가요전선관 | C36: 1종금속제가요전선관, 비닐피복, 10mm, 방수 | D36: M | E36: 15.4 | F36: 1420 | G36: 21868 | H36: 자재 11
A37: 3913170620174427 | B37: 1종금속제가요전선관 | C37: 1종금속제가요전선관, 비닐피복, 54mm, 방수 | D37: M | E37: 15.4 | F37: 4382 | G37: 67482 | H37: 자재 12
B38: 소 계 | G38: 89350
A39: 풀박스
A40: 3912130320174766 | B40: 풀박스 | C40: 풀박스, 300*300*150mm | D40: 개 | E40: 2 | F40: 9996 | G40: 19992 | H40: 자재 7
B41: 소 계 | G41: 19992
A42: 공동주택
A43: TCG114000100 | B43: (공동주택) 엔트런스캡(위샤캡) | C43: 철재 42㎜ | D43: 개 | E43: 2 | F43: 12781 | G43: 25562 | H43: 자재 13 | I43: 노무비율 62.7%
B44: 소 계 | G44: 25562
A45: 시중노임
A46: L001010101000002 | B46: 보통인부 | C46: 일반공사 직종 | D46: 인 | E46: 3.816 | F46: 172068 | G46: 656611 | H46: 노임 1
A47: L001010101000007 | B47: 형틀목공 | C47: 일반공사 직종 | D47: 인 | E47: 0.2 | F47: 275790 | G47: 55158 | H47: 노임 2
A48: L001010101000013 | B48: 콘크리트공 | C48: 일반공사 직종 | D48: 인 | E48: 1.56 | F48: 273540 | G48: 426722 | H48: 노임 3
A49: L001010101000015 | B49: 착암공 | C49: 일반공사 직종 | D49: 인 | E49: 1.56 | F49: 222306 | G49: 346797 | H49: 노임 4
A50: L001010101000075 | B50: 내선전공 | C50: 일반공사 직종 | D50: 인 | E50: 18.871 | F50: 273676 | G50: 5164539 | H50: 노임 5
A51: L001010101000078 | B51: 저압케이블전공 | C51: 일반공사 직종 | D51: 인 | E51: 4.9956 | F51: 304156 | G51: 1519441 | H51: 노임 6
A52: L001010101000081 | B52: 배전전공 | C52: 일반공사 직종 | D52: 인 | E52: 0.564 | F52: 414968 | G52: 234041 | H52: 노임 7
A53: L001010101000083 | B53: 플랜트전공 | C53: 일반공사 직종 | D53: 인 | E53: 3.08 | F53: 269759 | G53: 830857 | H53: 노임 8
B54: 소 계 | G54: 9234166

Sheet 공량산출근거서(공사)
A1: 공 량 산 출 근 거 서
A2: [ 산양천 간이양수장 전기공사 ]
A3: 코 드 | B3: 품 명 | C3: 규 격 | D3: 단위 | E3: 품 셈 목 록 | F3: 수 량 | G3: 할증 | H3: 노임할증-1 | I3: 노임할증-2 | J3: 노임할증-3 | K3: 내역수량 | L3: 직 종 명 | M3: 공 량 | N3: 계 | O3: 번 호 | P3: 비 고 | T3: 공종+자재 | V3: 보통인부 | W3: 배전전공 | X3: 내선전공
B4: 산양천1 간이양수장
A5: 4136893A7BCB4835276694653EA8951E1407B | B5: 파상형경질폴리에틸렌전선관 | C5: 파상형경질폴리에틸렌전선관, ELP, 40mm | D5: M | E5: 전기품셈 4-31 | F5: 5 | G5: 3 | K5: 5 | L5: 보통인부 | M5: =0.018*(H5+100)/100*(I5+100)/100*(J5+100)/100 -> 0.018 | N5: =F5*M5 -> 0.09 | O5: 노임 1 | Q5: 0101 | R5: 46CB88EFDC8A42922163D691D895637C7313A | S5: 0.018 | T5: 01014136893A7BCB4835276694653EA8951E1407B | V5: =N5 -> 0.09
L6: 배전전공 | M6: =0.007*(H5+100)/100*(I5+100)/100*(J5+100)/100 -> 0.007 | N6: =F5*M6 -> 0.035 | O6: 노임 7 | Q6: 0101 | R6: 46CB88EFDC8A42922163D691D895637C7390F | S6: 0.007 | T6: 01014136893A7BCB4835276694653EA8951E1407B | W6: =N6 -> 0.035
A7: 4136893A7A224A8624693D1088DBE25582351 | B7: 접지봉 | C7: 접지봉, 14∮*1000mm | D7: 개 | E7: 전기품셈 3-38 | F7: 3 | G7: 0 | K7: 3 | L7: 보통인부 | M7: =0.08*(H7+100)/100*(I7+100)/100*(J7+100)/100 -> 0.08 | N7: =F7*M7 -> 0.24 | O7: 노임 1 | Q7: 0101 | R7: 46CB88EFDC8A42922163D691D895637C7313A | S7: 0.08 | T7: 01014136893A7A224A8624693D1088DBE25582351 | V7: =N7 -> 0.24
L8: 내선전공 | M8: =0.11*(H7+100)/100*(I7+100)/100*(J7+100)/100 -> 0.11 | N8: =F7*M8 -> 0.33 | O8: 노임 5 | Q8: 0101 | R8: 46CB88EFDC8A42922163D691D895637C736BC | S8: 0.11 | T8: 01014136893A7A224A8624693D1088DBE25582351 | X8: =N8 -> 0.33
A9: 46CB88EFDC8A42922163D691D895637C7313A | B9: 보통인부 | C9: 일반공사 직종 | D9: 인 | F9: 0.33 | Q9: 0101 | T9: 010146CB88EFDC8A42922163D691D895637C7313A
A10: 46CB88EFDC8A42922163D691D895637C736BC | B10: 내선전공 | C10: 일반공사 직종 | D10: 인 | F10: 0.33 | Q10: 0101 | T10: 010146CB88EFDC8A42922163D691D895637C736BC
A11: 46CB88EFDC8A42922163D691D895637C7390F | B11: 배전전공 | C11: 일반공사 직종 | D11: 인 | F11: 0.035 | Q11: 0101 | T11: 010146CB88EFDC8A42922163D691D895637C7390F
B12: 산양천2 간이양수장
A13: 4136893A7BCB4835276694653EA8951E1407B | B13: 파상형경질폴리에틸렌전선관 | C13: 파상형경질폴리에틸렌전선관, ELP, 40mm | D13: M | E13: 전기품셈 4-31 | F13: 7 | G13: 3 | K13: 7 | L13: 보통인부 | M13: =0.018*(H13+100)/100*(I13+100)/100*(J13+100)/100 -> 0.018 | N13: =F13*M13 -> 0.126 | O13: 노임 1 | Q13: 0102 | R13: 46CB88EFDC8A42922163D691D895637C7313A | S13: 0.018 | T13: 01024136893A7BCB4835276694653EA8951E1407B | V13: =N13 -> 0.126
L14: 배전전공 | M14: =0.007*(H13+100)/100*(I13+100)/100*(J13+100)/100 -> 0.007 | N14: =F13*M14 -> 0.049 | O14: 노임 7 | Q14: 0102 | R14: 46CB88EFDC8A42922163D691D895637C7390F | S14: 0.007 | T14: 01024136893A7BCB4835276694653EA8951E1407B | W14: =N14 -> 0.049
A15: 4136893A7A224A8624693D1088DBE25582351 | B15: 접지봉 | C15: 접지봉, 14∮*1000mm | D15: 개 | E15: 전기품셈 3-38 | F15: 3 | G15: 0 | K15: 3 | L15: 보통인부 | M15: =0.08*(H15+100)/100*(I15+100)/100*(J15+100)/100 -> 0.08 | N15: =F15*M15 -> 0.24 | O15: 노임 1 | Q15: 0102 | R15: 46CB88EFDC8A42922163D691D895637C7313A | S15: 0.08 | T15: 01024136893A7A224A8624693D1088DBE25582351 | V15: =N15 -> 0.24
L16: 내선전공 | M16: =0.11*(H15+100)/100*(I15+100)/100*(J15+100)/100 -> 0.11 | N16: =F15*M16 -> 0.33 | O16: 노임 5 | Q16: 0102 | R16: 46CB88EFDC8A42922163D691D895637C736BC | S16: 0.11 | T16: 01024136893A7A224A8624693D1088DBE25582351 | X16: =N16 -> 0.33
A17: 46CB88EFDC8A42922163D691D895637C7313A | B17: 보통인부 | C17: 일반공사 직종 | D17: 인 | F17: 0.366 | Q17: 0102 | T17: 010246CB88EFDC8A42922163D691D895637C7313A
A18: 46CB88EFDC8A42922163D691D895637C736BC | B18: 내선전공 | C18: 일반공사 직종 | D18: 인 | F18: 0.33 | Q18: 0102 | T18: 010246CB88EFDC8A42922163D691D895637C736BC
A19: 46CB88EFDC8A42922163D691D895637C7390F | B19: 배전전공 | C19: 일반공사 직종 | D19: 인 | F19: 0.049 | Q19: 0102 | T19: 010246CB88EFDC8A42922163D691D895637C7390F
B20: 산양천 간이양수장 분전반
B21: 사급자재비

Sheet 공량설정(공사)
A1: 공종명 | B1: 적용율(%) | C1: 소수점이하자릿수 | D1: 공종코드
A2: 0101 산양천1 간이양수장 | B2: 100 | D2: 0101
A3: 0102 산양천2 간이양수장 | B3: 100 | D3: 0102
A4: 0103 산양천 간이양수장 분전반 | B4: 100 | D4: 0103
A5: 0104 사급자재비 | B5: 100 | D5: 0104

Sheet  공사설정 (공사)
A1: 이 Sheet는 수정하지 마십시요
A2: 공사구분 | B2: A | C2: 타이틀
A3: 확정내역 | B3: 원내역
A4: 자재단가적용 | B4: 5
A5: 경비단가적용 | B5: 5
A6: 품목코드형식 | B6: XXXX-XXXXXXXXXXXXX
A7: 내역금액소수점처리 | B7: C | C7: 1
A8: 일위대가내역소수점처리 | B8: C | C8: 2
A9: 단가명 | B9: 조달청가격 | C9: 거래가격 | D9: 유통물가 | E9: 조사가격1 | F9: 조사가격2 | G9: TTTTT
A10: 환율 | B10: 0 | C10: 0 | D10: 0
A11: 시간당작업량 | B11: R | C11: 4
A12: 1회 사이클시간 | B12: R | C12: 4
A13: 시간당 작업사이클 | B13: R | C13: 3
A14: 일반변수 | B14: C | C14: 5
A15: 시간당 노임산출 계수 | B15: A | C15: 1/8*16/12*25/20 | D15: 1/8*16/12*25/20 | E15: 1/8*16/12*25/20 | F15: 1
A16: 재료비 할증 계수 | B16: 0 | C16: 0
A17: 노무비 할증 계수 | B17: 0 | C17: 0 | D17: 0 | E17: 0 | F17: 0 | G17: 0 | H17: 0 | I17: 0 | J17: 0 | K17: 0 | L17: 0 | M17: 0
A18: 경비 할증 계수 | B18: 0 | C18: 0
A19: 내역,일위대가 품명,규격,단위 따로적용
A20: 내역단가 소수점처리 | C20: 1
A21: 코드 | B21: 공종구분명 | C21: 원가비목코드
A22: 1 | B22: 작 업 부 산 물 | C22: A3
A23: 2 | B23: 운 반 비 | C23: C1
A24: 3 | B24: 관 급 자 재 비 | C24: DJ
A25: 4 | B25: 사 급 자 재 비 | C25: D3
A26: 5 | B26: 외 자 재
A27: 6 | B27: 폐기물처리비
A28: 7 | B28: ...
A29: 8 | B29: ...
A30: 9 | B30: ...
A31: A | B31: ....
A32: B | B32: .....
A33: C | B33: ....
A34: D | B34: ....
A35: E | B35: ....
A36: F | B36: ....
A37: G | B37: ....
A38: H | B38: ....
A39: I | B39: ....
A40: J | B40: ....
A43: 단가 순서 | B43: 1234

Sheet 원가계산서(제조)
B1: 제 조 원 가 계 산 서
B2: 공사명 : 산양천 간이양수장 분전반 | F2: 금액 : 일천육백육만원(￦16,060,000)
B3: 비 목 | E3: 금 액 | F3: 구 성 비 | G3: 비 고
A4: A1 | B4: 순 공 사 원 가 | C4: 재 료 비 | D4: 직 접 재 료 비 | E4: =TRUNC('공종별집계표(제조)'!F5, 0) -> 9520070 | F4: 산출재료비 * 100%
A5: A2 | D5: 간 접 재 료 비 | E5: =TRUNC(E4*0.0117, 0) -> 111384 | F5: 직접재료비 * 1.17%
A6: A3 | D6: 작업설, 부산물(△) | E6: 0
A7: AS | D7: [ 소 계 ] | E7: =TRUNC(E4+E5-E6, 0) -> 9631454
A8: B1 | C8: 노 무 비 | D8: 직 접 노 무 비 | E8: =TRUNC(([1]공종별집계표!H5)*1.2025, 0) -> 1699654 | F8: 산출노무비 * 120.25%
A9: B2 | D9: 간 접 노 무 비 | E9: =TRUNC(E8*0.303, 0) -> 514995 | F9: 직접노무비 * 30.3%
A10: BS | D10: [ 소 계 ] | E10: =TRUNC(E8+E9, 0) -> 2214649
A11: CG | D11: 경 비 | E11: =TRUNC(E7*0.0907, 0) -> 873572 | F11: 재료비 * 9.07%
A12: CS | D12: [ 소 계 ] | E12: =TRUNC(E11, 0) -> 873572
A13: S1 | B13: 계 | E13: =TRUNC(E7+E10+E12, 0) -> 12719675
A14: D1 | B14: 일 반 관 리 비 | E14: =TRUNC(E13*0.07, 0) -> 890377 | F14: 계 * 7%
A15: D2 | B15: 이 윤 | E15: =TRUNC((E10+E12+E14)*0.25, 0) -> 994649 | F15: (노무비+경비+일반관리비) * 25%
A16: D9 | B16: 공 급 가 액 | E16: =TRUNC(E13+E14+E15, -4) -> 14600000
A17: DB | B17: 부 가 가 치 세 | E17: =TRUNC(E16*0.1, 0) -> 1460000 | F17: 공급가액 * 10%
A18: DH | B18: 계 | E18: =TRUNC(E16+E17, 0) -> 16060000
A19: S2 | B19: 합 계 | E19: =TRUNC(E18+0, 0) -> 16060000

Sheet 공종별집계표(제조)
A1: 공 종 별 집 계 표
A2: [ 산양천 간이양수장 분전반 ]
A3: 품 명 | B3: 규 격 | C3: 단위 | D3: 수량 | E3: 재 료 비 | G3: 노 무 비 | I3: 경 비 | K3: 합 계 | M3: 비 고 | N3: 공종코드 | O3: 변수 | P3: 상위공종 | Q3: 공종구분 | R3: 공종레벨 | S3: 공종소계 | T3: 원가계산서 연결금액
E4: 단 가 | F4: 금 액 | G4: 단 가 | H4: 금 액 | I4: 단 가 | J4: 금 액 | K4: 단 가 | L4: 금 액
A5: 산양천 간이양수장 분전반 | D5: 1 | E5: =F6+F7 -> 9520070 | F5: =E5*D5 -> 9520070 | G5: =H6+H7 -> 2126240 | H5: =G5*D5 -> 2126240 | I5: =J6+J7 -> 0 | J5: =I5*D5 -> 0 | K5: =E5+G5+I5 -> 11646310 | L5: =F5+H5+J5 -> 11646310 | N5: 01 | R5: 1
A6: 산양천1 간이양수장 | D6: 1 | E6: ='공종별내역서(제조)'!F51 -> 4985035 | F6: =E6*D6 -> 4985035 | G6: ='공종별내역서(제조)'!H51 -> 1063120 | H6: =G6*D6 -> 1063120 | I6: ='공종별내역서(제조)'!J51 -> 0 | J6: =I6*D6 -> 0 | K6: =E6+G6+I6 -> 6048155 | L6: =F6+H6+J6 -> 6048155 | N6: 0101 | P6: 01 | R6: 2
A7: 산양천2 간이양수장 | D7: 1 | E7: ='공종별내역서(제조)'!F99 -> 4535035 | F7: =E7*D7 -> 4535035 | G7: ='공종별내역서(제조)'!H99 -> 1063120 | H7: =G7*D7 -> 1063120 | I7: ='공종별내역서(제조)'!J99 -> 0 | J7: =I7*D7 -> 0 | K7: =E7+G7+I7 -> 5598155 | L7: =F7+H7+J7 -> 5598155 | N7: 0102 | P7: 01 | R7: 2
A29: [ 합 계 ] | F29: =F5 -> 9520070 | H29: =H5 -> 2126240 | J29: =J5 -> 0 | L29: =L5 -> 11646310

Sheet 공종별내역서(제조)
A1: [ 산양천 간이양수장 분전반 ]
A2: 품 명 | B2: 규 격 | C2: 단위 | D2: 수량 | E2: 재 료 비 | G2: 노 무 비 | I2: 경 비 | K2: 합 계 | M2: 비 고 | N2: 품목코드 | O2: 변수 | P2: 설정 | Q2: 공종코드 | R2: 일위 | S2: 단산 | T2: 자재 | U2: 손료적용 | V2: 손료저장 | W2: 적용율 | X2: JUK1 | Y2: JUK2 | Z2: JUK3 | AA2: JUK4 | AB2: JUK5 | AC2: JUK6 | AD2: JUK7 | AE2: JUK8 | AF2: JUK9 | AG2: JUK10 | AH2: JUK11 | AI2: JUK12 | AJ2: JUK13 | AK2: JUK14 | AL2: JUK15 | AM2: JUK16 | AN2: JUK17 | AO2: JUK18 | AP2: JUK19 | AQ2: JUK20 | AR2: 자재구분 | AS2: 공종구분 | AT2: 공종레벨 | AU2: 공종+자재 | AV2: 고유번호
E3: 단 가 | F3: 금 액 | G3: 단 가 | H3: 금 액 | I3: 단 가 | J3: 금 액 | K3: 단 가 | L3: 금 액
A4: 산양천1 간이양수장 | Q4: 0101
A5: 계량기함 | B5: STS(방수형) | C5: 개 | D5: 1 | E5: =TRUNC('단가대비표(제조)'!O35,0) -> 450000 | F5: =TRUNC(E5*D5, 0) -> 450000 | G5: =TRUNC('단가대비표(제조)'!P35,0) -> 0 | H5: =TRUNC(G5*D5, 0) -> 0 | I5: =TRUNC('단가대비표(제조)'!V35,0) -> 0 | J5: =TRUNC(I5*D5, 0) -> 0 | K5: =TRUNC(E5+G5+I5, 0) -> 450000 | L5: =TRUNC(F5+H5+J5, 0) -> 450000 | N5: 574A8119B404B5FD5615521948837CA0C28C3F | Q5: 0101 | R5: F | S5: F | T5: T | AU5: 0101574A8119B404B5FD5615521948837CA0C28C3F | AV5: 3
A6: 동력분전반 외함 | B6: STS 0.8(W)x0.4(D)x1.2(H) | C6: 면 | D6: 1 | E6: =TRUNC('단가대비표(제조)'!O33,0) -> 1411700 | F6: =TRUNC(E6*D6, 0) -> 1411700 | G6: =TRUNC('단가대비표(제조)'!P33,0) -> 0 | H6: =TRUNC(G6*D6, 0) -> 0 | I6: =TRUNC('단가대비표(제조)'!V33,0) -> 0 | J6: =TRUNC(I6*D6, 0) -> 0 | K6: =TRUNC(E6+G6+I6, 0) -> 1411700 | L6: =TRUNC(F6+H6+J6, 0) -> 1411700 | N6: 574A8119B404B5FD5615521948837CA0C28C31 | Q6: 0101 | R6: F | S6: F | T6: T | AU6: 0101574A8119B404B5FD5615521948837CA0C28C31 | AV6: 4
A7: DOOR HANDLE (배전반용) | B7: W/KEY(M) | C7: 개 | D7: 1 | E7: =TRUNC('단가대비표(제조)'!O8,0) -> 4170 | F7: =TRUNC(E7*D7, 0) -> 4170 | G7: =TRUNC('단가대비표(제조)'!P8,0) -> 0 | H7: =TRUNC(G7*D7, 0) -> 0 | I7: =TRUNC('단가대비표(제조)'!V8,0) -> 0 | J7: =TRUNC(I7*D7, 0) -> 0 | K7: =TRUNC(E7+G7+I7, 0) -> 4170 | L7: =TRUNC(F7+H7+J7, 0) -> 4170 | N7: 574A8119B404B5FD5615521948837CA0C28F88 | Q7: 0101 | R7: F | S7: F | T7: T | AU7: 0101574A8119B404B5FD5615521948837CA0C28F88 | AV7: 5
A8: DOOR HANDLE (배전반용) | B8: PUSH TURN W/KEY(M) | C8: 개 | D8: 1 | E8: =TRUNC('단가대비표(제조)'!O9,0) -> 2830 | F8: =TRUNC(E8*D8, 0) -> 2830 | G8: =TRUNC('단가대비표(제조)'!P9,0) -> 0 | H8: =TRUNC(G8*D8, 0) -> 0 | I8: =TRUNC('단가대비표(제조)'!V9,0) -> 0 | J8: =TRUNC(I8*D8, 0) -> 0 | K8: =TRUNC(E8+G8+I8, 0) -> 2830 | L8: =TRUNC(F8+H8+J8, 0) -> 2830 | N8: 574A8119B404B5FD5615521948837CA0C28F8F | Q8: 0101 | R8: F | S8: F | T8: T | AU8: 0101574A8119B404B5FD5615521948837CA0C28F8F | AV8: 6
A9: DOOR STOPPER (배전반용) | B9: STS | C9: 개 | D9: 1 | E9: =TRUNC('단가대비표(제조)'!O10,0) -> 10000 | F9: =TRUNC(E9*D9, 0) -> 10000 | G9: =TRUNC('단가대비표(제조)'!P10,0) -> 0 | H9: =TRUNC(G9*D9, 0) -> 0 | I9: =TRUNC('단가대비표(제조)'!V10,0) -> 0 | J9: =TRUNC(I9*D9, 0) -> 0 | K9: =TRUNC(E9+G9+I9, 0) -> 10000 | L9: =TRUNC(F9+H9+J9, 0) -> 10000 | N9: 574A8119B404B5FD5615521948837CA0C28F8E | Q9: 0101 | R9: F | S9: F | T9: T | AU9: 0101574A8119B404B5FD5615521948837CA0C28F8E | AV9: 7
A10: 누전차단기(ELCB) | B10: 분전반용 220V 2P 30AF | C10: 대 | D10: 2 | E10: =TRUNC('단가대비표(제조)'!O11,0) -> 12000 | F10: =TRUNC(E10*D10, 0) -> 24000 | G10: =TRUNC('단가대비표(제조)'!P11,0) -> 0 | H10: =TRUNC(G10*D10, 0) -> 0 | I10: =TRUNC('단가대비표(제조)'!V11,0) -> 0 | J10: =TRUNC(I10*D10, 0) -> 0 | K10: =TRUNC(E10+G10+I10, 0) -> 12000 | L10: =TRUNC(F10+H10+J10, 0) -> 24000 | N10: 574A8119B404B5FD5615521948837CA0C28F82 | Q10: 0101 | R10: F | S10: F | T10: T | AU10: 0101574A8119B404B5FD5615521948837CA0C28F82 | AV10: 8
A11: 전자식과전류계전기(EOCR-단자형) | B11: 디지털표시부부착 | C11: 개 | D11: 1 | E11: =TRUNC('단가대비표(제조)'!O12,0) -> 125000 | F11: =TRUNC(E11*D11, 0) -> 125000 | G11: =TRUNC('단가대비표(제조)'!P12,0) -> 0 | H11: =TRUNC(G11*D11, 0) -> 0 | I11: =TRUNC('단가대비표(제조)'!V12,0) -> 0 | J11: =TRUNC(I11*D11, 0) -> 0 | K11: =TRUNC(E11+G11+I11, 0) -> 125000 | L11: =TRUNC(F11+H11+J11, 0) -> 125000 | N11: 574A8119B404B5FD5615521948837CA0C28EE5 | Q11: 0101 | R11: F | S11: F | T11: T | AU11: 0101574A8119B404B5FD5615521948837CA0C28EE5 | AV11: 9
A12: 디지털메터 | B12: 전압, 전류 등, 통신無 | C12: 개 | D12: 1 | E12: =TRUNC('단가대비표(제조)'!O13,0) -> 350000 | F12: =TRUNC(E12*D12, 0) -> 350000 | G12: =TRUNC('단가대비표(제조)'!P13,0) -> 0 | H12: =TRUNC(G12*D12, 0) -> 0 | I12: =TRUNC('단가대비표(제조)'!V13,0) -> 0 | J12: =TRUNC(I12*D12, 0) -> 0 | K12: =TRUNC(E12+G12+I12, 0) -> 350000 | L12: =TRUNC(F12+H12+J12, 0) -> 350000 | N12: 574A8119B404B5FD5615521948837CA0C28EE6 | Q12: 0101 | R12: F | S12: F | T12: T | AU12: 0101574A8119B404B5FD5615521948837CA0C28EE6 | AV12: 10
A13: 단자대 | B13: 10P 30A | C13: 개 | D13: 1 | E13: =TRUNC('단가대비표(제조)'!O14,0) -> 2500 | F13: =TRUNC(E13*D13, 0) -> 2500 | G13: =TRUNC('단가대비표(제조)'!P14,0) -> 0 | H13: =TRUNC(G13*D13, 0) -> 0 | I13: =TRUNC('단가대비표(제조)'!V14,0) -> 0 | J13: =TRUNC(I13*D13, 0) -> 0 | K13: =TRUNC(E13+G13+I13, 0) -> 2500 | L13: =TRUNC(F13+H13+J13, 0) -> 2500 | N13: 574A8119B404B5FD5615521948837CA0C28EE7 | Q13: 0101 | R13: F | S13: F | T13: T | AU13: 0101574A8119B404B5FD5615521948837CA0C28EE7 | AV13: 11
A14: 단자대 | B14: 4P, 30A, 고정식 | C14: 개 | D14: 1 | E14: =TRUNC('단가대비표(제조)'!O15,0) -> 1890 | F14: =TRUNC(E14*D14, 0) -> 1890 | G14: =TRUNC('단가대비표(제조)'!P15,0) -> 0 | H14: =TRUNC(G14*D14, 0) -> 0 | I14: =TRUNC('단가대비표(제조)'!V15,0) -> 0 | J14: =TRUNC(I14*D14, 0) -> 0 | K14: =TRUNC(E14+G14+I14, 0) -> 1890 | L14: =TRUNC(F14+H14+J14, 0) -> 1890 | N14: 574A8119B404B5FD5615521948837CA0C28EE0 | Q14: 0101 | R14: F | S14: F | T14: T | AU14: 0101574A8119B404B5FD5615521948837CA0C28EE0 | AV14: 12
A15: 보조릴레이 | B15: 2A,2B(AC용) | C15: 개 | D15: 5 | E15: =TRUNC('단가대비표(제조)'!O16,0) -> 13700 | F15: =TRUNC(E15*D15, 0) -> 68500 | G15: =TRUNC('단가대비표(제조)'!P16,0) -> 0 | H15: =TRUNC(G15*D15, 0) -> 0 | I15: =TRUNC('단가대비표(제조)'!V16,0) -> 0 | J15: =TRUNC(I15*D15, 0) -> 0 | K15: =TRUNC(E15+G15+I15, 0) -> 13700 | L15: =TRUNC(F15+H15+J15, 0) -> 68500 | N15: 574A8119B404B5FD5615521948837CA0C28EE1 | Q15: 0101 | R15: F | S15: F | T15: T | AU15: 0101574A8119B404B5FD5615521948837CA0C28EE1 | AV15: 13
A16: 푸쉬버튼 스위치 | B16: D25AC110V/220V(조광형) | C16: 개 | D16: 3 | E16: =TRUNC('단가대비표(제조)'!O17,0) -> 3100 | F16: =TRUNC(E16*D16, 0) -> 9300 | G16: =TRUNC('단가대비표(제조)'!P17,0) -> 0 | H16: =TRUNC(G16*D16, 0) -> 0 | I16: =TRUNC('단가대비표(제조)'!V17,0) -> 0 | J16: =TRUNC(I16*D16, 0) -> 0 | K16: =TRUNC(E16+G16+I16, 0) -> 3100 | L16: =TRUNC(F16+H16+J16, 0) -> 9300 | N16: 574A8119B404B5FD5615521948837CA0C28EE2 | Q16: 0101 | R16: F | S16: F | T16: T | AU16: 0101574A8119B404B5FD5615521948837CA0C28EE2 | AV16: 14
A17: 서지보호기(카운터)3상4선 | B17: 전원용 Class2, In 20kA이상, Imax 40kA이상,누설전류 검출 | C17: SET | D17: 1 | E17: =TRUNC('단가대비표(제조)'!O18,0) -> 1850000 | F17: =TRUNC(E17*D17, 0) -> 1850000 | G17: =TRUNC('단가대비표(제조)'!P18,0) -> 0 | H17: =TRUNC(G17*D17, 0) -> 0 | I17: =TRUNC('단가대비표(제조)'!V18,0) -> 0 | J17: =TRUNC(I17*D17, 0) -> 0 | K17: =TRUNC(E17+G17+I17, 0) -> 1850000 | L17: =TRUNC(F17+H17+J17, 0) -> 1850000 | N17: 574A8119B404B5FD5615521948837CA0C28EEC | Q17: 0101 | R17: F | S17: F | T17: T | AU17: 0101574A8119B404B5FD5615521948837CA0C28EEC | AV17: 15
A18: 기기용 비닐절연전선 | B18: 450/700V KIV 2.5㎟(0.04kg) | C18: M | D18: 50 | E18: =TRUNC('단가대비표(제조)'!O19,0) -> 524 | F18: =TRUNC(E18*D18, 0) -> 26200 | G18: =TRUNC('단가대비표(제조)'!P19,0) -> 0 | H18: =TRUNC(G18*D18, 0) -> 0 | I18: =TRUNC('단가대비표(제조)'!V19,0) -> 0 | J18: =TRUNC(I18*D18, 0) -> 0 | K18: =TRUNC(E18+G18+I18, 0) -> 524 | L18: =TRUNC(F18+H18+J18, 0) -> 26200 | N18: 574A8119B404B5FD5615521948837CA0C28EED | Q18: 0101 | R18: F | S18: F | T18: T | AU18: 0101574A8119B404B5FD5615521948837CA0C28EED | AV18: 16
... A24: 누전차단기(ELCB) | B24: 표준형 460V 3P 100AF | C24: 개 | D24: 1 | E24: =TRUNC('단가대비표(제조)'!O25,0) -> 101200 | F24: =TRUNC(E24*D24, 0) -> 101200 | G24: =TRUNC('단가대비표(제조)'!P25,0) -> 0 | H24: =TRUNC(G24*D24, 0) -> 0 | I24: =TRUNC('단가대비표(제조)'!V25,0) -> 0 | J24: =TRUNC(I24*D24, 0) -> 0 | K24: =TRUNC(E24+G24+I24, 0) -> 101200 | L24: =TRUNC(F24+H24+J24, 0) -> 101200 | N24: 574A8119B404B5FD5615521948837CA0C28DDB | Q24: 0101 | R24: F | S24: F | T24: T | AU24: 0101574A8119B404B5FD5615521948837CA0C28DDB | AV24: 22
A25: 전자접촉기(개방형) | B25: (220V/380V)7.5/15㎾ | C25: 개 | D25: 3 | E25: =TRUNC('단가대비표(제조)'!O34,0) -> 48030 | F25: =TRUNC(E25*D25, 0) -> 144090 | G25: =TRUNC('단가대비표(제조)'!P34,0) -> 0 | H25: =TRUNC(G25*D25, 0) -> 0 | I25: =TRUNC('단가대비표(제조)'!V34,0) -> 0 | J25: =TRUNC(I25*D25, 0) -> 0 | K25: =TRUNC(E25+G25+I25, 0) -> 48030 | L25: =TRUNC(F25+H25+J25, 0) -> 144090 | N25: 574A8119B404B5FD5615521948837CA0C28C30 | Q25: 0101 | R25: F | S25: F | T25: T | AU25: 0101574A8119B404B5FD5615521948837CA0C28C30 | AV25: 23
A26: 셀렉터 스위치(Selectors Switch) | C26: 개 | D26: 1 | E26: =TRUNC('단가대비표(제조)'!O26,0) -> 2100 | F26: =TRUNC(E26*D26, 0) -> 2100 | G26: =TRUNC('단가대비표(제조)'!P26,0) -> 0 | H26: =TRUNC(G26*D26, 0) -> 0 | I26: =TRUNC('단가대비표(제조)'!V26,0) -> 0 | J26: =TRUNC(I26*D26, 0) -> 0 | K26: =TRUNC(E26+G26+I26, 0) -> 2100 | L26: =TRUNC(F26+H26+J26, 0) -> 2100 | N26: 574A8119B404B5FD5615521948837CA0C28DD5 | Q26: 0101 | R26: F | S26: F | T26: T | AU26: 0101574A8119B404B5FD5615521948837CA0C28DD5 | AV26: 24
A27: 타이머 | B27: W/SOCKET, 1~60 sec | C27: 개 | D27: 1 | E27: =TRUNC('단가대비표(제조)'!O27,0) -> 27150 | F27: =TRUNC(E27*D27, 0) -> 27150 | G27: =TRUNC('단가대비표(제조)'!P27,0) -> 0 | H27: =TRUNC(G27*D27, 0) -> 0 | I27: =TRUNC('단가대비표(제조)'!V27,0) -> 0 | J27: =TRUNC(I27*D27, 0) -> 0 | K27: =TRUNC(E27+G27+I27, 0) -> 27150 | L27: =TRUNC(F27+H27+J27, 0) -> 27150 | N27: 574A8119B404B5FD5615521948837CA0C28DD4 | Q27: 0101 | R27: F | S27: F | T27: T | AU27: 0101574A8119B404B5FD5615521948837CA0C28DD4 | AV27: 25
A28: 계기용변류기(C.T)환형 | B28: 600V5VA 300/5A 1.0 15VA | C28: 대 | D28: 3 | E28: =TRUNC('단가대비표(제조)'!O28,0) -> 19000 | F28: =TRUNC(E28*D28, 0) -> 57000 | G28: =TRUNC('단가대비표(제조)'!P28,0) -> 0 | H28: =TRUNC(G28*D28, 0) -> 0 | I28: =TRUNC('단가대비표(제조)'!V28,0) -> 0 | J28: =TRUNC(I28*D28, 0) -> 0 | K28: =TRUNC(E28+G28+I28, 0) -> 19000 | L28: =TRUNC(F28+H28+J28, 0) -> 57000 | N28: 574A8119B404B5FD5615521948837CA0C28C37 | Q28: 0101 | R28: F | S28: F | T28: T | AU28: 0101574A8119B404B5FD5615521948837CA0C28C37 | AV28: 26
A29: 콘덴서 (저압) | B29: (3P 380V/440V) 100㎌ | C29: 대 | D29: 1 | E29: =TRUNC('단가대비표(제조)'!O29,0) -> 57500 | F29: =TRUNC(E29*D29, 0) -> 57500 | G29: =TRUNC('단가대비표(제조)'!P29,0) -> 0 | H29: =TRUNC(G29*D29, 0) -> 0 | I29: =TRUNC('단가대비표(제조)'!V29,0) -> 0 | J29: =TRUNC(I29*D29, 0) -> 0 | K29: =TRUNC(E29+G29+I29, 0) -> 57500 | L29: =TRUNC(F29+H29+J29, 0) -> 57500 | N29: 574A8119B404B5FD5615521948837CA0C28C36 | Q29: 0101 | R29: F | S29: F | T29: T | AU29: 0101574A8119B404B5FD5615521948837CA0C28C36 | AV29: 27
A30: DIAZED FUSE | B30: 25A W/HOLDER | C30: 개 | D30: 3 | E30: =TRUNC('단가대비표(제조)'!O30,0) -> 3000 | F30: =TRUNC(E30*D30, 0) -> 9000 | G30: =TRUNC('단가대비표(제조)'!P30,0) -> 0 | H30: =TRUNC(G30*D30, 0) -> 0 | I30: =TRUNC('단가대비표(제조)'!V30,0) -> 0 | J30: =TRUNC(I30*D30, 0) -> 0 | K30: =TRUNC(E30+G30+I30, 0) -> 3000 | L30: =TRUNC(F30+H30+J30, 0) -> 9000 | N30: 574A8119B404B5FD5615521948837CA0C28C35 | Q30: 0101 | R30: F | S30: F | T30: T | AU30: 0101574A8119B404B5FD5615521948837CA0C28C35 | AV30: 28
A31: 부저 | B31: D65 AC110V/220V | C31: 개 | D31: 1 | E31: =TRUNC('단가대비표(제조)'!O31,0) -> 3800 | F31: =TRUNC(E31*D31, 0) -> 3800 | G31: =TRUNC('단가대비표(제조)'!P31,0) -> 0 | H31: =TRUNC(G31*D31, 0) -> 0 | I31: =TRUNC('단가대비표(제조)'!V31,0) -> 0 | J31: =TRUNC(I31*D31, 0) -> 0 | K31: =TRUNC(E31+G31+I31, 0) -> 3800 | L31: =TRUNC(F31+H31+J31, 0) -> 3800 | N31: 574A8119B404B5FD5615521948837CA0C28C34 | Q31: 0101 | R31: F | S31: F | T31: T | AU31: 0101574A8119B404B5FD5615521948837CA0C28C34 | AV31: 29
A32: 통전표시기 | B32: 200V~22.9kV | C32: 개 | D32: 3 | E32: =TRUNC('단가대비표(제조)'!O32,0) -> 39500 | F32: =TRUNC(E32*D32, 0) -> 118500 | G32: =TRUNC('단가대비표(제조)'!P32,0) -> 0 | H32: =TRUNC(G32*D32, 0) -> 0 | I32: =TRUNC('단가대비표(제조)'!V32,0) -> 0 | J32: =TRUNC(I32*D32, 0) -> 0 | K32: =TRUNC(E32+G32+I32, 0) -> 39500 | L32: =TRUNC(F32+H32+J32, 0) -> 118500 | N32: 574A8119B404B5FD5615521948837CA0C28C32 | Q32: 0101 | R32: F | S32: F | T32: T | AU32: 0101574A8119B404B5FD5615521948837CA0C28C32 | AV32: 30
A33: 배선기구 설치 | B33: 푸시버튼 | C33: 개 | D33: 3 | E33: =TRUNC('일위대가목록(제조)'!E4,0) -> 555 | F33: =TRUNC(E33*D33, 0) -> 1665 | G33: =TRUNC('일위대가목록(제조)'!F4,0) -> 18517 | H33: =TRUNC(G33*D33, 0) -> 55551 | I33: =TRUNC('일위대가목록(제조)'!G4,0) -> 0 | J33: =TRUNC(I33*D33, 0) -> 0 | K33: =TRUNC(E33+G33+I33, 0) -> 19072 | L33: =TRUNC(F33+H33+J33, 0) -> 57216 | N33: 56B891198E7372615FCCF270DA44A5 | Q33: 0101 | R33: T | S33: F | T33: F | AU33: 010156B891198E7372615FCCF270DA44A5 | AV33: 31
A34: 전기기계조립원 | B34: 제조부문 | C34: 인 | D34: ='공량산출근거서(제조)'!K20 -> 5.45 | E34: =TRUNC('단가대비표(제조)'!O6,0) -> 0 | F34: =TRUNC(E34*D34, 0) -> 0 | G34: =TRUNC('단가대비표(제조)'!P6,0) -> 122522 | H34: =TRUNC(G34*D34, 0) -> 667744 | I34: =TRUNC('단가대비표(제조)'!V6,0) -> 0 | J34: =TRUNC(I34*D34, 0) -> 0 | K34: =TRUNC(E34+G34+I34, 0) -> 122522 | L34: =TRUNC(F34+H34+J34, 0) -> 667744 | M34: 중소기업중앙회 | N34: 56280119F984FE6B5ABA8273ECA1B5019503B1 | Q34: 0101 | R34: F | S34: F | T34: T | AU34: 010156280119F984FE6B5ABA8273ECA1B5019503B1 | AV34: 61
A35: 전선원 | B35: 제조부문 | C35: 인 | D35: ='공량산출근거서(제조)'!K21 -> 3.424 | E35: =TRUNC('단가대비표(제조)'!O7,0) -> 0 | F35: =TRUNC(E35*D35, 0) -> 0 | G35: =TRUNC('단가대비표(제조)'!P7,0) -> 99248 | H35: =TRUNC(G35*D35, 0) -> 339825 | I35: =TRUNC('단가대비표(제조)'!V7,0) -> 0 | J35: =TRUNC(I35*D35, 0) -> 0 | K35: =TRUNC(E35+G35+I35, 0) -> 99248 | L35: =TRUNC(F35+H35+J35, 0) -> 339825 | M35: 중소기업중앙회 | N35: 56280119F984FE6B5ABA8273ECA1B50195018A | Q35: 0101 | R35: F | S35: F | T35: T | AU35: 010156280119F984FE6B5ABA8273ECA1B50195018A | AV35: 62
Q36: 0101
Q37: 0101
Q38: 0101
Q39: 0101
Q40: 0101
Q41: 0101
Q42: 0101
Q43: 0101
Q44: 0101
Q45: 0101
Q46: 0101
Q47: 0101
... Q50: 0101
A51: [ 합 계 ] | F51: =SUMIF(Q5:Q50,"0101",F5:F50) -> 4985035 | H51: =SUMIF(Q5:Q50,"0101",H5:H50) -> 1063120 | J51: =SUMIF(Q5:Q50,"0101",J5:J50) -> 0 | L51: =SUMIF(Q5:Q50,"0101",L5:L50) -> 6048155 | N51: TOTAL
A52: 산양천2 간이양수장 | Q52: 0102
A53: 동력분전반 외함 | B53: STS 0.8(W)x0.4(D)x1.2(H) | C53: 면 | D53: 1 | E53: =TRUNC('단가대비표(제조)'!O33,0) -> 1411700 | F53: =TRUNC(E53*D53, 0) -> 1411700 | G53: =TRUNC('단가대비표(제조)'!P33,0) -> 0 | H53: =TRUNC(G53*D53, 0) -> 0 | I53: =TRUNC('단가대비표(제조)'!V33,0) -> 0 | J53: =TRUNC(I53*D53, 0) -> 0 | K53: =TRUNC(E53+G53+I53, 0) -> 1411700 | L53: =TRUNC(F53+H53+J53, 0) -> 1411700 | N53: 574A8119B404B5FD5615521948837CA0C28C31 | Q53: 0102 | R53: F | S53: F | T53: T | AU53: 0102574A8119B404B5FD5615521948837CA0C28C31 | AV53: 33
A54: DOOR HANDLE (배전반용) | B54: W/KEY(M) | C54: 개 | D54: 1 | E54: =TRUNC('단가대비표(제조)'!O8,0) -> 4170 | F54: =TRUNC(E54*D54, 0) -> 4170 | G54: =TRUNC('단가대비표(제조)'!P8,0) -> 0 | H54: =TRUNC(G54*D54, 0) -> 0 | I54: =TRUNC('단가대비표(제조)'!V8,0) -> 0 | J54: =TRUNC(I54*D54, 0) -> 0 | K54: =TRUNC(E54+G54+I54, 0) -> 4170 | L54: =TRUNC(F54+H54+J54, 0) -> 4170 | N54: 574A8119B404B5FD5615521948837CA0C28F88 | Q54: 0102 | R54: F | S54: F | T54: T | AU54: 0102574A8119B404B5FD5615521948837CA0C28F88 | AV54: 34
A55: DOOR HANDLE (배전반용) | B55: PUSH TURN W/KEY(M) | C55: 개 | D55: 1 | E55: =TRUNC('단가대비표(제조)'!O9,0) -> 2830 | F55: =TRUNC(E55*D55, 0) -> 2830 | G55: =TRUNC('단가대비표(제조)'!P9,0) -> 0 | H55: =TRUNC(G55*D55, 0) -> 0 | I55: =TRUNC('단가대비표(제조)'!V9,0) -> 0 | J55: =TRUNC(I55*D55, 0) -> 0 | K55: =TRUNC(E55+G55+I55, 0) -> 2830 | L55: =TRUNC(F55+H55+J55, 0) -> 2830 | N55: 574A8119B404B5FD5615521948837CA0C28F8F | Q55: 0102 | R55: F | S55: F | T55: T | AU55: 0102574A8119B404B5FD5615521948837CA0C28F8F | AV55: 35
A56: DOOR STOPPER (배전반용) | B56: STS | C56: 개 | D56: 1 | E56: =TRUNC('단가대비표(제조)'!O10,0) -> 10000 | F56: =TRUNC(E56*D56, 0) -> 10000 | G56: =TRUNC('단가대비표(제조)'!P10,0) -> 0 | H56: =TRUNC(G56*D56, 0) -> 0 | I56: =TRUNC('단가대비표(제조)'!V10,0) -> 0 | J56: =TRUNC(I56*D56, 0) -> 0 | K56: =TRUNC(E56+G56+I56, 0) -> 10000 | L56: =TRUNC(F56+H56+J56, 0) -> 10000 | N56: 574A8119B404B5FD5615521948837CA0C28F8E | Q56: 0102 | R56: F | S56: F | T56: T | AU56: 0102574A8119B404B5FD5615521948837CA0C28F8E | AV56: 36
A57: 누전차단기(ELCB) | B57: 분전반용 220V 2P 30AF | C57: 대 | D57: 2 | E57: =TRUNC('단가대비표(제조)'!O11,0) -> 12000 | F57: =TRUNC(E57*D57, 0) -> 24000 | G57: =TRUNC('단가대비표(제조)'!P11,0) -> 0 | H57: =TRUNC(G57*D57, 0) -> 0 | I57: =TRUNC('단가대비표(제조)'!V11,0) -> 0 | J57: =TRUNC(I57*D57, 0) -> 0 | K57: =TRUNC(E57+G57+I57, 0) -> 12000 | L57: =TRUNC(F57+H57+J57, 0) -> 24000 | N57: 574A8119B404B5FD5615521948837CA0C28F82 | Q57: 0102 | R57: F | S57: F | T57: T | AU57: 0102574A8119B404B5FD5615521948837CA0C28F82 | AV57: 37
A58: 전자식과전류계전기(EOCR-단자형) | B58: 디지털표시부부착 | C58: 개 | D58: 1 | E58: =TRUNC('단가대비표(제조)'!O12,0) -> 125000 | F58: =TRUNC(E58*D58, 0) -> 125000 | G58: =TRUNC('단가대비표(제조)'!P12,0) -> 0 | H58: =TRUNC(G58*D58, 0) -> 0 | I58: =TRUNC('단가대비표(제조)'!V12,0) -> 0 | J58: =TRUNC(I58*D58, 0) -> 0 | K58: =TRUNC(E58+G58+I58, 0) -> 125000 | L58: =TRUNC(F58+H58+J58, 0) -> 125000 | N58: 574A8119B404B5FD5615521948837CA0C28EE5 | Q58: 0102 | R58: F | S58: F | T58: T | AU58: 0102574A8119B404B5FD5615521948837CA0C28EE5 | AV58: 38
A59: 디지털메터 | B59: 전압, 전류 등, 통신無 | C59: 개 | D59: 1 | E59: =TRUNC('단가대비표(제조)'!O13,0) -> 350000 | F59: =TRUNC(E59*D59, 0) -> 350000 | G59: =TRUNC('단가대비표(제조)'!P13,0) -> 0 | H59: =TRUNC(G59*D59, 0) -> 0 | I59: =TRUNC('단가대비표(제조)'!V13,0) -> 0 | J59: =TRUNC(I59*D59, 0) -> 0 | K59: =TRUNC(E59+G59+I59, 0) -> 350000 | L59: =TRUNC(F59+H59+J59, 0) -> 350000 | N59: 574A8119B404B5FD5615521948837CA0C28EE6 | Q59: 0102 | R59: F | S59: F | T59: T | AU59: 0102574A8119B404B5FD5615521948837CA0C28EE6 | AV59: 39
A60: 단자대 | B60: 10P 30A | C60: 개 | D60: 1 | E60: =TRUNC('단가대비표(제조)'!O14,0) -> 2500 | F60: =TRUNC(E60*D60, 0) -> 2500 | G60: =TRUNC('단가대비표(제조)'!P14,0) -> 0 | H60: =TRUNC(G60*D60, 0) -> 0 | I60: =TRUNC('단가대비표(제조)'!V14,0) -> 0 | J60: =TRUNC(I60*D60, 0) -> 0 | K60: =TRUNC(E60+G60+I60, 0) -> 2500 | L60: =TRUNC(F60+H60+J60, 0) -> 2500 | N60: 574A8119B404B5FD5615521948837CA0C28EE7 | Q60: 0102 | R60: F | S60: F | T60: T | AU60: 0102574A8119B404B5FD5615521948837CA0C28EE7 | AV60: 40
A61: 단자대 | B61: 4P, 30A, 고정식 | C61: 개 | D61: 1 | E61: =TRUNC('단가대비표(제조)'!O15,0) -> 1890 | F61: =TRUNC(E61*D61, 0) -> 1890 | G61: =TRUNC('단가대비표(제조)'!P15,0) -> 0 | H61: =TRUNC(G61*D61, 0) -> 0 | I61: =TRUNC('단가대비표(제조)'!V15,0) -> 0 | J61: =TRUNC(I61*D61, 0) -> 0 | K61: =TRUNC(E61+G61+I61, 0) -> 1890 | L61: =TRUNC(F61+H61+J61, 0) -> 1890 | N61: 574A8119B404B5FD5615521948837CA0C28EE0 | Q61: 0102 | R61: F | S61: F | T61: T | AU61: 0102574A8119B404B5FD5615521948837CA0C28EE0 | AV61: 41
A62: 보조릴레이 | B62: 2A,2B(AC용) | C62: 개 | D62: 5 | E62: =TRUNC('단가대비표(제조)'!O16,0) -> 13700 | F62: =TRUNC(E62*D62, 0) -> 68500 | G62: =TRUNC('단가대비표(제조)'!P16,0) -> 0 | H62: =TRUNC(G62*D62, 0) -> 0 | I62: =TRUNC('단가대비표(제조)'!V16,0) -> 0 | J62: =TRUNC(I62*D62, 0) -> 0 | K62: =TRUNC(E62+G62+I62, 0) -> 13700 | L62: =TRUNC(F62+H62+J62, 0) -> 68500 | N62: 574A8119B404B5FD5615521948837CA0C28EE1 | Q62: 0102 | R62: F | S62: F | T62: T | AU62: 0102574A8119B404B5FD5615521948837CA0C28EE1 | AV62: 42
A63: 푸쉬버튼 스위치 | B63: D25AC110V/220V(조광형) | C63: 개 | D63: 3 | E63: =TRUNC('단가대비표(제조)'!O17,0) -> 3100 | F63: =TRUNC(E63*D63, 0) -> 9300 | G63: =TRUNC('단가대비표(제조)'!P17,0) -> 0 | H63: =TRUNC(G63*D63, 0) -> 0 | I63: =TRUNC('단가대비표(제조)'!V17,0) -> 0 | J63: =TRUNC(I63*D63, 0) -> 0 | K63: =TRUNC(E63+G63+I63, 0) -> 3100 | L63: =TRUNC(F63+H63+J63, 0) -> 9300 | N63: 574A8119B404B5FD5615521948837CA0C28EE2 | Q63: 0102 | R63: F | S63: F | T63: T | AU63: 0102574A8119B404B5FD5615521948837CA0C28EE2 | AV63: 43
A64: 서지보호기(카운터)3상4선 | B64: 전원용 Class2, In 20kA이상, Imax 40kA이상,누설전류 검출 | C64: SET | D64: 1 | E64: =TRUNC('단가대비표(제조)'!O18,0) -> 1850000 | F64: =TRUNC(E64*D64, 0) -> 1850000 | G64: =TRUNC('단가대비표(제조)'!P18,0) -> 0 | H64: =TRUNC(G64*D64, 0) -> 0 | I64: =TRUNC('단가대비표(제조)'!V18,0) -> 0 | J64: =TRUNC(I64*D64, 0) -> 0 | K64: =TRUNC(E64+G64+I64, 0) -> 1850000 | L64: =TRUNC(F64+H64+J64, 0) -> 1850000 | N64: 574A8119B404B5FD5615521948837CA0C28EEC | Q64: 0102 | R64: F | S64: F | T64: T | AU64: 0102574A8119B404B5FD5615521948837CA0C28EEC | AV64: 44
A65: 기기용 비닐절연전선 | B65: 450/700V KIV 2.5㎟(0.04kg) | C65: M | D65: 50 | E65: =TRUNC('단가대비표(제조)'!O19,0) -> 524 | F65: =TRUNC(E65*D65, 0) -> 26200 | G65: =TRUNC('단가대비표(제조)'!P19,0) -> 0 | H65: =TRUNC(G65*D65, 0) -> 0 | I65: =TRUNC('단가대비표(제조)'!V19,0) -> 0 | J65: =TRUNC(I65*D65, 0) -> 0 | K65: =TRUNC(E65+G65+I65, 0) -> 524 | L65: =TRUNC(F65+H65+J65, 0) -> 26200 | N65: 574A8119B404B5FD5615521948837CA0C28EED | Q65: 0102 | R65: F | S65: F | T65: T | AU65: 0102574A8119B404B5FD5615521948837CA0C28EED | AV65: 45
... A71: 누전차단기(ELCB) | B71: 표준형 460V 3P 100AF | C71: 개 | D71: 1 | E71: =TRUNC('단가대비표(제조)'!O25,0) -> 101200 | F71: =TRUNC(E71*D71, 0) -> 101200 | G71: =TRUNC('단가대비표(제조)'!P25,0) -> 0 | H71: =TRUNC(G71*D71, 0) -> 0 | I71: =TRUNC('단가대비표(제조)'!V25,0) -> 0 | J71: =TRUNC(I71*D71, 0) -> 0 | K71: =TRUNC(E71+G71+I71, 0) -> 101200 | L71: =TRUNC(F71+H71+J71, 0) -> 101200 | N71: 574A8119B404B5FD5615521948837CA0C28DDB | Q71: 0102 | R71: F | S71: F | T71: T | AU71: 0102574A8119B404B5FD5615521948837CA0C28DDB | AV71: 51
A72: 전자접촉기(개방형) | B72: (220V/380V)7.5/15㎾ | C72: 개 | D72: 3 | E72: =TRUNC('단가대비표(제조)'!O34,0) -> 48030 | F72: =TRUNC(E72*D72, 0) -> 144090 | G72: =TRUNC('단가대비표(제조)'!P34,0) -> 0 | H72: =TRUNC(G72*D72, 0) -> 0 | I72: =TRUNC('단가대비표(제조)'!V34,0) -> 0 | J72: =TRUNC(I72*D72, 0) -> 0 | K72: =TRUNC(E72+G72+I72, 0) -> 48030 | L72: =TRUNC(F72+H72+J72, 0) -> 144090 | N72: 574A8119B404B5FD5615521948837CA0C28C30 | Q72: 0102 | R72: F | S72: F | T72: T | AU72: 0102574A8119B404B5FD5615521948837CA0C28C30 | AV72: 52
A73: 셀렉터 스위치(Selectors Switch) | C73: 개 | D73: 1 | E73: =TRUNC('단가대비표(제조)'!O26,0) -> 2100 | F73: =TRUNC(E73*D73, 0) -> 2100 | G73: =TRUNC('단가대비표(제조)'!P26,0) -> 0 | H73: =TRUNC(G73*D73, 0) -> 0 | I73: =TRUNC('단가대비표(제조)'!V26,0) -> 0 | J73: =TRUNC(I73*D73, 0) -> 0 | K73: =TRUNC(E73+G73+I73, 0) -> 2100 | L73: =TRUNC(F73+H73+J73, 0) -> 2100 | N73: 574A8119B404B5FD5615521948837CA0C28DD5 | Q73: 0102 | R73: F | S73: F | T73: T | AU73: 0102574A8119B404B5FD5615521948837CA0C28DD5 | AV73: 53
A74: 타이머 | B74: W/SOCKET, 1~60 sec | C74: 개 | D74: 1 | E74: =TRUNC('단가대비표(제조)'!O27,0) -> 27150 | F74: =TRUNC(E74*D74, 0) -> 27150 | G74: =TRUNC('단가대비표(제조)'!P27,0) -> 0 | H74: =TRUNC(G74*D74, 0) -> 0 | I74: =TRUNC('단가대비표(제조)'!V27,0) -> 0 | J74: =TRUNC(I74*D74, 0) -> 0 | K74: =TRUNC(E74+G74+I74, 0) -> 27150 | L74: =TRUNC(F74+H74+J74, 0) -> 27150 | N74: 574A8119B404B5FD5615521948837CA0C28DD4 | Q74: 0102 | R74: F | S74: F | T74: T | AU74: 0102574A8119B404B5FD5615521948837CA0C28DD4 | AV74: 54
A75: 계기용변류기(C.T)환형 | B75: 600V5VA 300/5A 1.0 15VA | C75: 대 | D75: 3 | E75: =TRUNC('단가대비표(제조)'!O28,0) -> 19000 | F75: =TRUNC(E75*D75, 0) -> 57000 | G75: =TRUNC('단가대비표(제조)'!P28,0) -> 0 | H75: =TRUNC(G75*D75, 0) -> 0 | I75: =TRUNC('단가대비표(제조)'!V28,0) -> 0 | J75: =TRUNC(I75*D75, 0) -> 0 | K75: =TRUNC(E75+G75+I75, 0) -> 19000 | L75: =TRUNC(F75+H75+J75, 0) -> 57000 | N75: 574A8119B404B5FD5615521948837CA0C28C37 | Q75: 0102 | R75: F | S75: F | T75: T | AU75: 0102574A8119B404B5FD5615521948837CA0C28C37 | AV75: 55
A76: 콘덴서 (저압) | B76: (3P 380V/440V) 100㎌ | C76: 대 | D76: 1 | E76: =TRUNC('단가대비표(제조)'!O29,0) -> 57500 | F76: =TRUNC(E76*D76, 0) -> 57500 | G76: =TRUNC('단가대비표(제조)'!P29,0) -> 0 | H76: =TRUNC(G76*D76, 0) -> 0 | I76: =TRUNC('단가대비표(제조)'!V29,0) -> 0 | J76: =TRUNC(I76*D76, 0) -> 0 | K76: =TRUNC(E76+G76+I76, 0) -> 57500 | L76: =TRUNC(F76+H76+J76, 0) -> 57500 | N76: 574A8119B404B5FD5615521948837CA0C28C36 | Q76: 0102 | R76: F | S76: F | T76: T | AU76: 0102574A8119B404B5FD5615521948837CA0C28C36 | AV76: 56
A77: DIAZED FUSE | B77: 25A W/HOLDER | C77: 개 | D77: 3 | E77: =TRUNC('단가대비표(제조)'!O30,0) -> 3000 | F77: =TRUNC(E77*D77, 0) -> 9000 | G77: =TRUNC('단가대비표(제조)'!P30,0) -> 0 | H77: =TRUNC(G77*D77, 0) -> 0 | I77: =TRUNC('단가대비표(제조)'!V30,0) -> 0 | J77: =TRUNC(I77*D77, 0) -> 0 | K77: =TRUNC(E77+G77+I77, 0) -> 3000 | L77: =TRUNC(F77+H77+J77, 0) -> 9000 | N77: 574A8119B404B5FD5615521948837CA0C28C35 | Q77: 0102 | R77: F | S77: F | T77: T | AU77: 0102574A8119B404B5FD5615521948837CA0C28C35 | AV77: 57
A78: 부저 | B78: D65 AC110V/220V | C78: 개 | D78: 1 | E78: =TRUNC('단가대비표(제조)'!O31,0) -> 3800 | F78: =TRUNC(E78*D78, 0) -> 3800 | G78: =TRUNC('단가대비표(제조)'!P31,0) -> 0 | H78: =TRUNC(G78*D78, 0) -> 0 | I78: =TRUNC('단가대비표(제조)'!V31,0) -> 0 | J78: =TRUNC(I78*D78, 0) -> 0 | K78: =TRUNC(E78+G78+I78, 0) -> 3800 | L78: =TRUNC(F78+H78+J78, 0) -> 3800 | N78: 574A8119B404B5FD5615521948837CA0C28C34 | Q78: 0102 | R78: F | S78: F | T78: T | AU78: 0102574A8119B404B5FD5615521948837CA0C28C34 | AV78: 58
A79: 통전표시기 | B79: 200V~22.9kV | C79: 개 | D79: 3 | E79: =TRUNC('단가대비표(제조)'!O32,0) -> 39500 | F79: =TRUNC(E79*D79, 0) -> 118500 | G79: =TRUNC('단가대비표(제조)'!P32,0) -> 0 | H79: =TRUNC(G79*D79, 0) -> 0 | I79: =TRUNC('단가대비표(제조)'!V32,0) -> 0 | J79: =TRUNC(I79*D79, 0) -> 0 | K79: =TRUNC(E79+G79+I79, 0) -> 39500 | L79: =TRUNC(F79+H79+J79, 0) -> 118500 | N79: 574A8119B404B5FD5615521948837CA0C28C32 | Q79: 0102 | R79: F | S79: F | T79: T | AU79: 0102574A8119B404B5FD5615521948837CA0C28C32 | AV79: 59
A80: 배선기구 설치 | B80: 푸시버튼 | C80: 개 | D80: 3 | E80: =TRUNC('일위대가목록(제조)'!E4,0) -> 555 | F80: =TRUNC(E80*D80, 0) -> 1665 | G80: =TRUNC('일위대가목록(제조)'!F4,0) -> 18517 | H80: =TRUNC(G80*D80, 0) -> 55551 | I80: =TRUNC('일위대가목록(제조)'!G4,0) -> 0 | J80: =TRUNC(I80*D80, 0) -> 0 | K80: =TRUNC(E80+G80+I80, 0) -> 19072 | L80: =TRUNC(F80+H80+J80, 0) -> 57216 | N80: 56B891198E7372615FCCF270DA44A5 | Q80: 0102 | R80: T | S80: F | T80: F | AU80: 010256B891198E7372615FCCF270DA44A5 | AV80: 60
A81: 전기기계조립원 | B81: 제조부문 | C81: 인 | D81: ='공량산출근거서(제조)'!K38 -> 5.45 | E81: =TRUNC('단가대비표(제조)'!O6,0) -> 0 | F81: =TRUNC(E81*D81, 0) -> 0 | G81: =TRUNC('단가대비표(제조)'!P6,0) -> 122522 | H81: =TRUNC(G81*D81, 0) -> 667744 | I81: =TRUNC('단가대비표(제조)'!V6,0) -> 0 | J81: =TRUNC(I81*D81, 0) -> 0 | K81: =TRUNC(E81+G81+I81, 0) -> 122522 | L81: =TRUNC(F81+H81+J81, 0) -> 667744 | M81: 중소기업중앙회 | N81: 56280119F984FE6B5ABA8273ECA1B5019503B1 | Q81: 0102 | R81: F | S81: F | T81: T | AU81: 010256280119F984FE6B5ABA8273ECA1B5019503B1 | AV81: 63
A82: 전선원 | B82: 제조부문 | C82: 인 | D82: ='공량산출근거서(제조)'!K39 -> 3.424 | E82: =TRUNC('단가대비표(제조)'!O7,0) -> 0 | F82: =TRUNC(E82*D82, 0) -> 0 | G82: =TRUNC('단가대비표(제조)'!P7,0) -> 99248 | H82: =TRUNC(G82*D82, 0) -> 339825 | I82: =TRUNC('단가대비표(제조)'!V7,0) -> 0 | J82: =TRUNC(I82*D82, 0) -> 0 | K82: =TRUNC(E82+G82+I82, 0) -> 99248 | L82: =TRUNC(F82+H82+J82, 0) -> 339825 | M82: 중소기업중앙회 | N82: 56280119F984FE6B5ABA8273ECA1B50195018A | Q82: 0102 | R82: F | S82: F | T82: T | AU82: 010256280119F984FE6B5ABA8273ECA1B50195018A | AV82: 64
Q83: 0102
Q84: 0102
Q85: 0102
Q86: 0102
Q87: 0102
Q88: 0102
Q89: 0102
Q90: 0102
Q91: 0102
Q92: 0102
Q93: 0102
Q94: 0102
... Q98: 0102
A99: [ 합 계 ] | F99: =SUMIF(Q53:Q98,"0102",F53:F98) -> 4535035 | H99: =SUMIF(Q53:Q98,"0102",H53:H98) -> 1063120 | J99: =SUMIF(Q53:Q98,"0102",J53:J98) -> 0 | L99: =SUMIF(Q53:Q98,"0102",L53:L98) -> 5598155 | N99: TOTAL

Sheet 일위대가목록(제조)
A1: . | B1: 일 위 대 가 목 록
B2: [ 산양천 간이양수장 분전반 ]
A3: 코 드 | B3: 품 명 | C3: 규 격 | D3: 단위 | E3: 재 료 비 | F3: 노 무 비 | G3: 경 비 | H3: 합 계 | I3: 번 호 | J3: 비 고 | K3: 노임계수 | L3: 할증 | M3: 품셈개요 | N3: 장비일위
A4: 56B891198E7372615FCCF270DA44A5 | B4: 배선기구 설치 | C4: 푸시버튼 | D4: 개 | E4: ='일위대가(제조)'!F7 -> 555 | F4: ='일위대가(제조)'!H7 -> 18517 | G4: ='일위대가(제조)'!J7 -> 0 | H4: =E4+F4+G4 -> 19072 | I4: 호표 1

Sheet 일위대가(제조)
A1: [ 산양천 간이양수장 분전반 ]
A2: 품 명 | B2: 규 격 | C2: 단위 | D2: 수량 | E2: 재 료 비 | G2: 노 무 비 | I2: 경 비 | K2: 합 계 | M2: 비 고 | N2: 일위대가 | O2: 품목코드 | P2: 일위 | Q2: 단산 | R2: 자재 | S2: 손료적용 | T2: 손료저장 | U2: 적용율 | V2: JUK1 | W2: JUK2 | X2: JUK3 | Y2: JUK4 | Z2: JUK5 | AA2: JUK6 | AB2: JUK7 | AC2: JUK8 | AD2: JUK9 | AE2: JUK10 | AF2: JUK11 | AG2: JUK12 | AH2: JUK13 | AI2: JUK14 | AJ2: JUK15 | AK2: JUK16 | AL2: JUK17 | AM2: JUK18 | AN2: JUK19 | AO2: JUK20 | AP2: 할증적용 | AQ2: 할증저장 | AR2: 할증율 | AS2: HAL1 | AT2: HAL2 | AU2: HAL3 | AV2: 자재구분 | AW2: 일위대가+자재 | AX2: 장비일위 | AY2: 설정 | AZ2: 할증체크
E3: 단 가 | F3: 금 액 | G3: 단 가 | H3: 금 액 | I3: 단 가 | J3: 금 액 | K3: 단 가 | L3: 금 액
A4: 배선기구 설치 푸시버튼 개 ( 호표 1 ) | N4: 56B891198E7372615FCCF270DA44A5
A5: 통신내선공 | B5: 일반공사 직종 | C5: 인 | D5: 0.065 | E5: ='단가대비표(제조)'!O5 -> 0 | F5: =TRUNC(E5*D5,1) -> 0 | G5: ='단가대비표(제조)'!P5 -> 284880 | H5: =TRUNC(G5*D5,1) -> 18517.2 | I5: ='단가대비표(제조)'!V5 -> 0 | J5: =TRUNC(I5*D5,1) -> 0 | K5: =TRUNC(E5+G5+I5,1) -> 284880 | L5: =TRUNC(F5+H5+J5,1) -> 18517.2 | N5: 56B891198E7372615FCCF270DA44A5 | O5: 56280119F984FE695FDCE2F841456F91083490 | P5: F | Q5: F | R5: T | V5: 1 | AW5: 56B891198E7372615FCCF270DA44A556280119F984FE695FDCE2F841456F91083490
A6: 공구손료 | B6: 인력품의 3% | C6: 식 | D6: 1 | E6: =TRUNC(SUMIF(V5:V6, RIGHTB(O6, 1), H5:H6)*U6, 2) -> 555.51 | F6: =TRUNC(E6*D6,1) -> 555.5 | G6: 0 | H6: =TRUNC(G6*D6,1) -> 0 | I6: 0 | J6: =TRUNC(I6*D6,1) -> 0 | K6: =TRUNC(E6+G6+I6,1) -> 555.5 | L6: =TRUNC(F6+H6+J6,1) -> 555.5 | N6: 56B891198E7372615FCCF270DA44A5 | O6: 57EBC11977A562B35065F24325D2001 | P6: F | Q6: F | R6: F | S6: 1 | T6: 0 | U6: 0.03 | AW6: 56B891198E7372615FCCF270DA44A557EBC11977A562B35065F24325D2001
A7: [ 합 계 ] | F7: =TRUNC(SUMIF(N5:N6, N4, F5:F6),0) -> 555 | H7: =TRUNC(SUMIF(N5:N6, N4, H5:H6),0) -> 18517 | J7: =TRUNC(SUMIF(N5:N6, N4, J5:J6),0) -> 0 | L7: =F7+H7+J7 -> 19072 | N7: TOTAL | O7: TOTAL

Sheet 단가대비표(제조)
A1: 단 가 대 비 표
A2: [ 산양천 간이양수장 분전반 ]
A3: 코 드 | B3: 품 명 | C3: 규격 | D3: 단위 | E3: 재 료 비 | P3: 노 무 비 | Q3: 경 비 | W3: 번 호 | X3: 비 고 | Y3: 품목구분 | Z3: 노임구분 | AA3: 소수점처리 | AB3: 자재구분
E4: 조달청가격 | F4: PAGE | G4: 거래가격 | H4: PAGE | I4: 유통물가 | J4: PAGE | K4: 조사가격1 | L4: PAGE | M4: 조사가격2 | N4: PAGE | O4: 적용단가 | Q4: 조달청가격 | R4: 거래가격 | S4: 유통물가 | T4: 조사가격1 | U4: 조사가격2 | V4: 적용단가
A5: 56280119F984FE695FDCE2F841456F91083490 | B5: 통신내선공 | C5: 일반공사 직종 | D5: 인 | E5: 0 | G5: 0 | I5: 0 | K5: 0 | M5: 0 | O5: 0 | P5: 284880 | Q5: 0 | R5: 0 | S5: 0 | T5: 0 | U5: 0 | V5: 0 | W5: 노임 1 | Y5: B
A6: 56280119F984FE6B5ABA8273ECA1B5019503B1 | B6: 전기기계조립원 | C6: 제조부문 | D6: 인 | E6: 0 | G6: 0 | I6: 0 | K6: 0 | M6: 0 | O6: 0 | P6: 122522 | Q6: 0 | R6: 0 | S6: 0 | T6: 0 | U6: 0 | V6: 0 | W6: 노임 2 | X6: 중소기업중앙회 | Y6: B
A7: 56280119F984FE6B5ABA8273ECA1B50195018A | B7: 전선원 | C7: 제조부문 | D7: 인 | E7: 0 | G7: 0 | I7: 0 | K7: 0 | M7: 0 | O7: 0 | P7: 99248 | Q7: 0 | R7: 0 | S7: 0 | T7: 0 | U7: 0 | V7: 0 | W7: 노임 3 | X7: 중소기업중앙회 | Y7: B
A8: 574A8119B404B5FD5615521948837CA0C28F88 | B8: DOOR HANDLE (배전반용) | C8: W/KEY(M) | D8: 개 | E8: 0 | G8: 0 | I8: 0 | K8: 0 | M8: 4170 | N8: M079081 | O8: =SMALL(E8:M8,COUNTIF(E8:M8,0)+1) -> 4170 | P8: 0 | Q8: 0 | R8: 0 | S8: 0 | T8: 0 | U8: 0 | V8: 0 | W8: 자재 1
A9: 574A8119B404B5FD5615521948837CA0C28F8F | B9: DOOR HANDLE (배전반용) | C9: PUSH TURN W/KEY(M) | D9: 개 | E9: 0 | G9: 0 | I9: 0 | K9: 0 | M9: 2830 | N9: M079083 | O9: =SMALL(E9:M9,COUNTIF(E9:M9,0)+1) -> 2830 | P9: 0 | Q9: 0 | R9: 0 | S9: 0 | T9: 0 | U9: 0 | V9: 0 | W9: 자재 2
A10: 574A8119B404B5FD5615521948837CA0C28F8E | B10: DOOR STOPPER (배전반용) | C10: STS | D10: 개 | E10: 0 | G10: 0 | I10: 0 | K10: 0 | M10: 10000 | N10: M079085 | O10: =SMALL(E10:M10,COUNTIF(E10:M10,0)+1) -> 10000 | P10: 0 | Q10: 0 | R10: 0 | S10: 0 | T10: 0 | U10: 0 | V10: 0 | W10: 자재 3
A11: 574A8119B404B5FD5615521948837CA0C28F82 | B11: 누전차단기(ELCB) | C11: 분전반용 220V 2P 30AF | D11: 대 | E11: 0 | G11: 0 | I11: 0 | K11: 0 | M11: 12000 | N11: M081270 | O11: =SMALL(E11:M11,COUNTIF(E11:M11,0)+1) -> 12000 | P11: 0 | Q11: 0 | R11: 0 | S11: 0 | T11: 0 | U11: 0 | V11: 0 | W11: 자재 4
A12: 574A8119B404B5FD5615521948837CA0C28EE5 | B12: 전자식과전류계전기(EOCR-단자형) | C12: 디지털표시부부착 | D12: 개 | E12: 0 | G12: 0 | I12: 0 | K12: 0 | M12: 125000 | N12: M080281 | O12: =SMALL(E12:M12,COUNTIF(E12:M12,0)+1) -> 125000 | P12: 0 | Q12: 0 | R12: 0 | S12: 0 | T12: 0 | U12: 0 | V12: 0 | W12: 자재 5
A13: 574A8119B404B5FD5615521948837CA0C28EE6 | B13: 디지털메터 | C13: 전압, 전류 등, 통신無 | D13: 개 | E13: 0 | G13: 0 | I13: 0 | K13: 0 | M13: 350000 | N13: M080537 | O13: =SMALL(E13:M13,COUNTIF(E13:M13,0)+1) -> 350000 | P13: 0 | Q13: 0 | R13: 0 | S13: 0 | T13: 0 | U13: 0 | V13: 0 | W13: 자재 6
A14: 574A8119B404B5FD5615521948837CA0C28EE7 | B14: 단자대 | C14: 10P 30A | D14: 개 | E14: 0 | G14: 0 | I14: 0 | K14: 0 | M14: 2500 | N14: M079128 | O14: =SMALL(E14:M14,COUNTIF(E14:M14,0)+1) -> 2500 | P14: 0 | Q14: 0 | R14: 0 | S14: 0 | T14: 0 | U14: 0 | V14: 0 | W14: 자재 7
A15: 574A8119B404B5FD5615521948837CA0C28EE0 | B15: 단자대 | C15: 4P, 30A, 고정식 | D15: 개 | E15: 0 | G15: 0 | I15: 0 | K15: 0 | M15: 1890 | N15: M079130 | O15: =SMALL(E15:M15,COUNTIF(E15:M15,0)+1) -> 1890 | P15: 0 | Q15: 0 | R15: 0 | S15: 0 | T15: 0 | U15: 0 | V15: 0 | W15: 자재 8
A16: 574A8119B404B5FD5615521948837CA0C28EE1 | B16: 보조릴레이 | C16: 2A,2B(AC용) | D16: 개 | E16: 0 | G16: 0 | I16: 0 | K16: 0 | M16: 13700 | N16: M080500 | O16: =SMALL(E16:M16,COUNTIF(E16:M16,0)+1) -> 13700 | P16: 0 | Q16: 0 | R16: 0 | S16: 0 | T16: 0 | U16: 0 | V16: 0 | W16: 자재 9
A17: 574A8119B404B5FD5615521948837CA0C28EE2 | B17: 푸쉬버튼 스위치 | C17: D25AC110V/220V(조광형) | D17: 개 | E17: 0 | G17: 0 | I17: 0 | K17: 0 | M17: 3100 | N17: M080445 | O17: =SMALL(E17:M17,COUNTIF(E17:M17,0)+1) -> 3100 | P17: 0 | Q17: 0 | R17: 0 | S17: 0 | T17: 0 | U17: 0 | V17: 0 | W17: 자재 10
A18: 574A8119B404B5FD5615521948837CA0C28EEC | B18: 서지보호기(카운터)3상4선 | C18: 전원용 Class2, In 20kA이상, Imax 40kA이상,누설전류 검출 | D18: SET | E18: 0 | G18: 0 | I18: 0 | K18: 0 | M18: 1850000 | N18: M061231 | O18: =SMALL(E18:M18,COUNTIF(E18:M18,0)+1) -> 1850000 | P18: 0 | Q18: 0 | R18: 0 | S18: 0 | T18: 0 | U18: 0 | V18: 0 | W18: 자재 11
A19: 574A8119B404B5FD5615521948837CA0C28EED | B19: 기기용 비닐절연전선 | C19: 450/700V KIV 2.5㎟(0.04kg) | D19: M | E19: 0 | G19: 0 | I19: 0 | K19: 0 | M19: 524 | N19: M060707 | O19: =SMALL(E19:M19,COUNTIF(E19:M19,0)+1) -> 524 | P19: 0 | Q19: 0 | R19: 0 | S19: 0 | T19: 0 | U19: 0 | V19: 0 | W19: 자재 12
... A25: 574A8119B404B5FD5615521948837CA0C28DDB | B25: 누전차단기(ELCB) | C25: 표준형 460V 3P 100AF | D25: 개 | E25: 0 | G25: 0 | I25: 0 | K25: 0 | M25: 101200 | N25: M081274 | O25: =SMALL(E25:M25,COUNTIF(E25:M25,0)+1) -> 101200 | P25: 0 | Q25: 0 | R25: 0 | S25: 0 | T25: 0 | U25: 0 | V25: 0 | W25: 자재 18
A26: 574A8119B404B5FD5615521948837CA0C28DD5 | B26: 셀렉터 스위치(Selectors Switch) | D26: 개 | E26: 0 | G26: 0 | I26: 0 | K26: 0 | M26: 2100 | N26: M080545 | O26: =SMALL(E26:M26,COUNTIF(E26:M26,0)+1) -> 2100 | P26: 0 | Q26: 0 | R26: 0 | S26: 0 | T26: 0 | U26: 0 | V26: 0 | W26: 자재 19
A27: 574A8119B404B5FD5615521948837CA0C28DD4 | B27: 타이머 | C27: W/SOCKET, 1~60 sec | D27: 개 | E27: 0 | G27: 0 | I27: 0 | K27: 0 | M27: 27150 | N27: M079152 | O27: =SMALL(E27:M27,COUNTIF(E27:M27,0)+1) -> 27150 | P27: 0 | Q27: 0 | R27: 0 | S27: 0 | T27: 0 | U27: 0 | V27: 0 | W27: 자재 20
A28: 574A8119B404B5FD5615521948837CA0C28C37 | B28: 계기용변류기(C.T)환형 | C28: 600V5VA 300/5A 1.0 15VA | D28: 대 | E28: 0 | G28: 0 | I28: 0 | K28: 0 | M28: 19000 | N28: M080631 | O28: =SMALL(E28:M28,COUNTIF(E28:M28,0)+1) -> 19000 | P28: 0 | Q28: 0 | R28: 0 | S28: 0 | T28: 0 | U28: 0 | V28: 0 | W28: 자재 21
A29: 574A8119B404B5FD5615521948837CA0C28C36 | B29: 콘덴서 (저압) | C29: (3P 380V/440V) 100㎌ | D29: 대 | E29: 0 | G29: 0 | I29: 0 | K29: 0 | M29: 57500 | N29: M081054 | O29: =SMALL(E29:M29,COUNTIF(E29:M29,0)+1) -> 57500 | P29: 0 | Q29: 0 | R29: 0 | S29: 0 | T29: 0 | U29: 0 | V29: 0 | W29: 자재 22
A30: 574A8119B404B5FD5615521948837CA0C28C35 | B30: DIAZED FUSE | C30: 25A W/HOLDER | D30: 개 | E30: 0 | G30: 0 | I30: 0 | K30: 0 | M30: 3000 | N30: M079102 | O30: =SMALL(E30:M30,COUNTIF(E30:M30,0)+1) -> 3000 | P30: 0 | Q30: 0 | R30: 0 | S30: 0 | T30: 0 | U30: 0 | V30: 0 | W30: 자재 23
A31: 574A8119B404B5FD5615521948837CA0C28C34 | B31: 부저 | C31: D65 AC110V/220V | D31: 개 | E31: 0 | G31: 0 | I31: 0 | K31: 0 | M31: 3800 | N31: M080540 | O31: =SMALL(E31:M31,COUNTIF(E31:M31,0)+1) -> 3800 | P31: 0 | Q31: 0 | R31: 0 | S31: 0 | T31: 0 | U31: 0 | V31: 0 | W31: 자재 24
A32: 574A8119B404B5FD5615521948837CA0C28C32 | B32: 통전표시기 | C32: 200V~22.9kV | D32: 개 | E32: 0 | G32: 0 | I32: 0 | K32: 0 | M32: 39500 | N32: M080550 | O32: =SMALL(E32:M32,COUNTIF(E32:M32,0)+1) -> 39500 | P32: 0 | Q32: 0 | R32: 0 | S32: 0 | T32: 0 | U32: 0 | V32: 0 | W32: 자재 25
A33: 574A8119B404B5FD5615521948837CA0C28C31 | B33: 동력분전반 외함 | C33: STS 0.8(W)x0.4(D)x1.2(H) | D33: 면 | E33: 0 | G33: 0 | I33: 0 | K33: 0 | M33: 1411700 | N33: M079040 | O33: =SMALL(E33:M33,COUNTIF(E33:M33,0)+1) -> 1411700 | P33: 0 | Q33: 0 | R33: 0 | S33: 0 | T33: 0 | U33: 0 | V33: 0 | W33: 자재 26
A34: 574A8119B404B5FD5615521948837CA0C28C30 | B34: 전자접촉기(개방형) | C34: (220V/380V)7.5/15㎾ | D34: 개 | E34: 0 | G34: 0 | I34: 0 | K34: 0 | M34: 48030 | N34: M083003 | O34: =SMALL(E34:M34,COUNTIF(E34:M34,0)+1) -> 48030 | P34: 0 | Q34: 0 | R34: 0 | S34: 0 | T34: 0 | U34: 0 | V34: 0 | W34: 자재 27
A35: 574A8119B404B5FD5615521948837CA0C28C3F | B35: 계량기함 | C35: STS(방수형) | D35: 개 | E35: 0 | G35: 0 | I35: 0 | K35: 0 | M35: 450000 | N35: M079156 | O35: =SMALL(E35:M35,COUNTIF(E35:M35,0)+1) -> 450000 | P35: 0 | Q35: 0 | R35: 0 | S35: 0 | T35: 0 | U35: 0 | V35: 0 | W35: 자재 28

Sheet 자재소요량집계표(제조)
A1: 자 재 소 요 량 집 계 표
A2: [ 산양천 간이양수장 분전반 ]
A3: 코 드 | B3: 품 명 | C3: 규 격 | D3: 단위 | E3: 수 량 | F3: 단 가 | G3: 금 액 | H3: 번 호 | I3: 비 고
A5: ZA00000000000003 | B5: DOOR HANDLE (배전반용) | C5: W/KEY(M) | D5: 개 | E5: 2 | F5: 4170 | G5: 8340 | H5: 자재 1
A6: ZA00000000000004 | B6: DOOR HANDLE (배전반용) | C6: PUSH TURN W/KEY(M) | D6: 개 | E6: 2 | F6: 2830 | G6: 5660 | H6: 자재 2
A7: ZA00000000000005 | B7: DOOR STOPPER (배전반용) | C7: STS | D7: 개 | E7: 2 | F7: 10000 | G7: 20000 | H7: 자재 3
A8: ZA00000000000009 | B8: 누전차단기(ELCB) | C8: 분전반용 220V 2P 30AF | D8: 대 | E8: 4 | F8: 12000 | G8: 48000 | H8: 자재 4
A9: ZA00000000000011 | B9: 전자식과전류계전기(EOCR-단자형) | C9: 디지털표시부부착 | D9: 개 | E9: 2 | F9: 125000 | G9: 250000 | H9: 자재 5
A10: ZA00000000000012 | B10: 디지털메터 | C10: 전압, 전류 등, 통신無 | D10: 개 | E10: 2 | F10: 350000 | G10: 700000 | H10: 자재 6
A11: ZA00000000000013 | B11: 단자대 | C11: 10P 30A | D11: 개 | E11: 2 | F11: 2500 | G11: 5000 | H11: 자재 7
A12: ZA00000000000014 | B12: 단자대 | C12: 4P, 30A, 고정식 | D12: 개 | E12: 2 | F12: 1890 | G12: 3780 | H12: 자재 8
A13: ZA00000000000015 | B13: 보조릴레이 | C13: 2A,2B(AC용) | D13: 개 | E13: 10 | F13: 13700 | G13: 137000 | H13: 자재 9
A14: ZA00000000000016 | B14: 푸쉬버튼 스위치 | C14: D25AC110V/220V(조광형) | D14: 개 | E14: 6 | F14: 3100 | G14: 18600 | H14: 자재 10
A15: ZA00000000000018 | B15: 서지보호기(카운터)3상4선 | C15: 전원용 Class2, In 20kA이상, Imax 40kA이상,누설전류 검출 | D15: SET | E15: 2 | F15: 1850000 | G15: 3700000 | H15: 자재 11
A16: ZA00000000000019 | B16: 기기용 비닐절연전선 | C16: 450/700V KIV 2.5㎟(0.04kg) | D16: M | E16: 100 | F16: 524 | G16: 52400 | H16: 자재 12
... A22: ZA00000000000026 | B22: 누전차단기(ELCB) | C22: 표준형 460V 3P 100AF | D22: 개 | E22: 2 | F22: 101200 | G22: 202400 | H22: 자재 18
A23: ZA00000000000028 | B23: 셀렉터 스위치(Selectors Switch) | D23: 개 | E23: 2 | F23: 2100 | G23: 4200 | H23: 자재 19
A24: ZA00000000000029 | B24: 타이머 | C24: W/SOCKET, 1~60 sec | D24: 개 | E24: 2 | F24: 27150 | G24: 54300 | H24: 자재 20
A25: ZA00000000000030 | B25: 계기용변류기(C.T)환형 | C25: 600V5VA 300/5A 1.0 15VA | D25: 대 | E25: 6 | F25: 19000 | G25: 114000 | H25: 자재 21
A26: ZA00000000000031 | B26: 콘덴서 (저압) | C26: (3P 380V/440V) 100㎌ | D26: 대 | E26: 2 | F26: 57500 | G26: 115000 | H26: 자재 22
A27: ZA00000000000032 | B27: DIAZED FUSE | C27: 25A W/HOLDER | D27: 개 | E27: 6 | F27: 3000 | G27: 18000 | H27: 자재 23
A28: ZA00000000000033 | B28: 부저 | C28: D65 AC110V/220V | D28: 개 | E28: 2 | F28: 3800 | G28: 7600 | H28: 자재 24
A29: ZA00000000000035 | B29: 통전표시기 | C29: 200V~22.9kV | D29: 개 | E29: 6 | F29: 39500 | G29: 237000 | H29: 자재 25
A30: ZA00000000000036 | B30: 동력분전반 외함 | C30: STS 0.8(W)x0.4(D)x1.2(H) | D30: 면 | E30: 2 | F30: 1411700 | G30: 2823400 | H30: 자재 26
A31: ZA00000000000037 | B31: 전자접촉기(개방형) | C31: (220V/380V)7.5/15㎾ | D31: 개 | E31: 6 | F31: 48030 | G31: 288180 | H31: 자재 27
A32: ZA00000000000038 | B32: 계량기함 | C32: STS(방수형) | D32: 개 | E32: 1 | F32: 450000 | G32: 450000 | H32: 자재 28
B33: 소 계 | G33: 9516740
A34: 시중노임
A35: L001010101000086 | B35: 통신내선공 | C35: 일반공사 직종 | D35: 인 | E35: 0.39 | F35: 284880 | G35: 111103 | H35: 노임 1
B36: 소 계 | G36: 111103
A37: ☞ 금속가공
A38: L001030301000370 | B38: 전선원 | C38: 제조부문 | D38: 인 | E38: 6.848 | F38: 99248 | G38: 679650 | H38: 노임 3 | I38: 중소기업중앙회
B39: 소 계 | G39: 679650
A40: ☞ 조립작업
A41: L001030301000356 | B41: 전기기계조립원 | C41: 제조부문 | D41: 인 | E41: 10.9 | F41: 122522 | G41: 1335489 | H41: 노임 2 | I41: 중소기업중앙회
B42: 소 계 | G42: 1335489

Sheet 공량산출근거서(제조)
A1: 공 량 산 출 근 거 서
A2: [ 산양천 간이양수장 분전반 ]
A3: 코 드 | B3: 품 명 | C3: 규 격 | D3: 단위 | E3: 품 셈 목 록 | F3: 수 량 | G3: 할증 | H3: 노임할증-1 | I3: 노임할증-2 | J3: 노임할증-3 | K3: 내역수량 | L3: 직 종 명 | M3: 공 량 | N3: 계 | O3: 번 호 | P3: 비 고 | T3: 공종+자재 | V3: 전선원 | W3: 전기기계조립원
B4: 산양천1 간이양수장
A5: 574A8119B404B5FD5615521948837CA0C28F82 | B5: 누전차단기(ELCB) | C5: 분전반용 220V 2P 30AF | D5: 대 | E5: 전기 5-19 | F5: 2 | G5: 0 | K5: 2 | L5: 전선원 | M5: =0.133*(H5+100)/100*(I5+100)/100*(J5+100)/100 -> 0.133 | N5: =F5*M5 -> 0.266 | O5: 노임 3 | Q5: 0101 | R5: 56280119F984FE6B5ABA8273ECA1B50195018A | S5: 0.133 | T5: 0101574A8119B404B5FD5615521948837CA0C28F82 | V5: =N5 -> 0.266
A6: 574A8119B404B5FD5615521948837CA0C28EE5 | B6: 전자식과전류계전기(EOCR-단자형) | C6: 디지털표시부부착 | D6: 개 | E6: 전기 3-34 | F6: 1 | G6: 0 | K6: 1 | L6: 전기기계조립원 | M6: =0.27*(H6+100)/100*(I6+100)/100*(J6+100)/100 -> 0.27 | N6: =F6*M6 -> 0.27 | O6: 노임 2 | Q6: 0101 | R6: 56280119F984FE6B5ABA8273ECA1B5019503B1 | S6: 0.27 | T6: 0101574A8119B404B5FD5615521948837CA0C28EE5 | W6: =N6 -> 0.27
A7: 574A8119B404B5FD5615521948837CA0C28EE6 | B7: 디지털메터 | C7: 전압, 전류 등, 통신無 | D7: 개 | E7: 전기 3-34 | F7: 1 | G7: 0 | K7: 1 | L7: 전기기계조립원 | M7: =0.38*(H7+100)/100*(I7+100)/100*(J7+100)/100 -> 0.38 | N7: =F7*M7 -> 0.38 | O7: 노임 2 | Q7: 0101 | R7: 56280119F984FE6B5ABA8273ECA1B5019503B1 | S7: 0.38 | T7: 0101574A8119B404B5FD5615521948837CA0C28EE6 | W7: =N7 -> 0.38
A8: 574A8119B404B5FD5615521948837CA0C28EE1 | B8: 보조릴레이 | C8: 2A,2B(AC용) | D8: 개 | E8: 전기 3-34 | F8: 5 | G8: 0 | K8: 5 | L8: 전기기계조립원 | M8: =0.09*(H8+100)/100*(I8+100)/100*(J8+100)/100 -> 0.09 | N8: =F8*M8 -> 0.45 | O8: 노임 2 | Q8: 0101 | R8: 56280119F984FE6B5ABA8273ECA1B5019503B1 | S8: 0.09 | T8: 0101574A8119B404B5FD5615521948837CA0C28EE1 | W8: =N8 -> 0.45
A9: 574A8119B404B5FD5615521948837CA0C28EED | B9: 기기용 비닐절연전선 | C9: 450/700V KIV 2.5㎟(0.04kg) | D9: M | E9: 전기 3-34 | F9: 50 | G9: 0 | K9: 50 | L9: 전기기계조립원 | M9: =0.055*(H9+100)/100*(I9+100)/100*(J9+100)/100 -> 0.055 | N9: =F9*M9 -> 2.75 | O9: 노임 2 | Q9: 0101 | R9: 56280119F984FE6B5ABA8273ECA1B5019503B1 | S9: 0.055 | T9: 0101574A8119B404B5FD5615521948837CA0C28EED | W9: =N9 -> 2.75
A10: 574A8119B404B5FD5615521948837CA0C28DD8 | B10: 배선용차단기(MCCB) | C10: 표준형 460V 4P 100AF | D10: 개 | E10: 전기 5-19 | F10: 1 | G10: 0 | K10: 1 | L10: 전선원 | M10: =0.468*(H10+100)/100*(I10+100)/100*(J10+100)/100 -> 0.468 | N10: =F10*M10 -> 0.468 | O10: 노임 3 | Q10: 0101 | R10: 56280119F984FE6B5ABA8273ECA1B50195018A | S10: 0.468 | T10: 0101574A8119B404B5FD5615521948837CA0C28DD8 | V10: =N10 -> 0.468
A11: 574A8119B404B5FD5615521948837CA0C28DDB | B11: 누전차단기(ELCB) | C11: 표준형 460V 3P 100AF | D11: 개 | E11: 전기 5-19 | F11: 1 | G11: 0 | K11: 1 | L11: 전선원 | M11: =0.36*(H11+100)/100*(I11+100)/100*(J11+100)/100 -> 0.36 | N11: =F11*M11 -> 0.36 | O11: 노임 3 | Q11: 0101 | R11: 56280119F984FE6B5ABA8273ECA1B50195018A | S11: 0.36 | T11: 0101574A8119B404B5FD5615521948837CA0C28DDB | V11: =N11 -> 0.36
A12: 574A8119B404B5FD5615521948837CA0C28C30 | B12: 전자접촉기(개방형) | C12: (220V/380V)7.5/15㎾ | D12: 개 | E12: 전기 5-19 | F12: 3 | G12: 0 | K12: 3 | L12: 전선원 | M12: =0.3*(H12+100)/100*(I12+100)/100*(J12+100)/100 -> 0.3 | N12: =F12*M12 -> 0.9 | O12: 노임 3 | Q12: 0101 | R12: 56280119F984FE6B5ABA8273ECA1B50195018A | S12: 0.3 | T12: 0101574A8119B404B5FD5615521948837CA0C28C30 | V12: =N12 -> 0.9
A13: 574A8119B404B5FD5615521948837CA0C28DD5 | B13: 셀렉터 스위치(Selectors Switch) | D13: 개 | E13: 전기 5-23 | F13: 1 | G13: 0 | K13: 1 | L13: 전선원 | M13: =0.1*(H13+100)/100*(I13+100)/100*(J13+100)/100 -> 0.1 | N13: =F13*M13 -> 0.1 | O13: 노임 3 | Q13: 0101 | R13: 56280119F984FE6B5ABA8273ECA1B50195018A | S13: 0.1 | T13: 0101574A8119B404B5FD5615521948837CA0C28DD5 | V13: =N13 -> 0.1
A14: 574A8119B404B5FD5615521948837CA0C28DD4 | B14: 타이머 | C14: W/SOCKET, 1~60 sec | D14: 개 | E14: 전기 3-34 | F14: 1 | G14: 0 | K14: 1 | L14: 전기기계조립원 | M14: =0.2*(H14+100)/100*(I14+100)/100*(J14+100)/100 -> 0.2 | N14: =F14*M14 -> 0.2 | O14: 노임 2 | Q14: 0101 | R14: 56280119F984FE6B5ABA8273ECA1B5019503B1 | S14: 0.2 | T14: 0101574A8119B404B5FD5615521948837CA0C28DD4 | W14: =N14 -> 0.2
A15: 574A8119B404B5FD5615521948837CA0C28C37 | B15: 계기용변류기(C.T)환형 | C15: 600V5VA 300/5A 1.0 15VA | D15: 대 | E15: 전기 5-21 | F15: 3 | G15: 0 | K15: 3 | L15: 전선원 | M15: =0.4*(H15+100)/100*(I15+100)/100*(J15+100)/100 -> 0.4 | N15: =F15*M15 -> 1.2 | O15: 노임 3 | Q15: 0101 | R15: 56280119F984FE6B5ABA8273ECA1B50195018A | S15: 0.4 | T15: 0101574A8119B404B5FD5615521948837CA0C28C37 | V15: =N15 -> 1.2
A16: 574A8119B404B5FD5615521948837CA0C28C36 | B16: 콘덴서 (저압) | C16: (3P 380V/440V) 100㎌ | D16: 대 | E16: 전기 5-40 | F16: 1 | G16: 0 | K16: 1 | L16: 전선원 | M16: =0.13*(H16+100)/100*(I16+100)/100*(J16+100)/100 -> 0.13 | N16: =F16*M16 -> 0.13 | O16: 노임 3 | Q16: 0101 | R16: 56280119F984FE6B5ABA8273ECA1B50195018A | S16: 0.13 | T16: 0101574A8119B404B5FD5615521948837CA0C28C36 | V16: =N16 -> 0.13
A17: 574A8119B404B5FD5615521948837CA0C28C35 | B17: DIAZED FUSE | C17: 25A W/HOLDER | D17: 개 | E17: 전기 3-34 | F17: 3 | G17: 0 | K17: 3 | L17: 전기기계조립원 | M17: =0.2*(H17+100)/100*(I17+100)/100*(J17+100)/100 -> 0.2 | N17: =F17*M17 -> 0.6 | O17: 노임 2 | Q17: 0101 | R17: 56280119F984FE6B5ABA8273ECA1B5019503B1 | S17: 0.2 | T17: 0101574A8119B404B5FD5615521948837CA0C28C35 | W17: =N17 -> 0.6
A18: 574A8119B404B5FD5615521948837CA0C28C34 | B18: 부저 | C18: D65 AC110V/220V | D18: 개 | E18: 전기 3-34 | F18: 1 | G18: 0 | K18: 1 | L18: 전기기계조립원 | M18: =0.2*(H18+100)/100*(I18+100)/100*(J18+100)/100 -> 0.2 | N18: =F18*M18 -> 0.2 | O18: 노임 2 | Q18: 0101 | R18: 56280119F984FE6B5ABA8273ECA1B5019503B1 | S18: 0.2 | T18: 0101574A8119B404B5FD5615521948837CA0C28C34 | W18: =N18 -> 0.2
A19: 574A8119B404B5FD5615521948837CA0C28C32 | B19: 통전표시기 | C19: 200V~22.9kV | D19: 개 | E19: 전기 3-34 | F19: 3 | G19: 0 | K19: 3 | L19: 전기기계조립원 | M19: =0.2*(H19+100)/100*(I19+100)/100*(J19+100)/100 -> 0.2 | N19: =F19*M19 -> 0.6 | O19: 노임 2 | Q19: 0101 | R19: 56280119F984FE6B5ABA8273ECA1B5019503B1 | S19: 0.2 | T19: 0101574A8119B404B5FD5615521948837CA0C28C32 | W19: =N19 -> 0.6
A20: 56280119F984FE6B5ABA8273ECA1B5019503B1 | B20: 전기기계조립원 | C20: 제조부문 | D20: 인 | F20: =SUM(W5:W19) -> 5.45 | K20: =TRUNC(ROUNDDOWN(F20,'공량설정(제조)'!C3+1)*'공량설정(제조)'!B2/100, '공량설정(제조)'!C3) -> 5.45 | O20: 노임 2 | Q20: 0101 | T20: 010156280119F984FE6B5ABA8273ECA1B5019503B1
A21: 56280119F984FE6B5ABA8273ECA1B50195018A | B21: 전선원 | C21: 제조부문 | D21: 인 | F21: =SUM(V5:V19) -> 3.424 | K21: =TRUNC(ROUNDDOWN(F21,'공량설정(제조)'!C4+1)*'공량설정(제조)'!B2/100, '공량설정(제조)'!C4) -> 3.424 | O21: 노임 3 | Q21: 0101 | T21: 010156280119F984FE6B5ABA8273ECA1B50195018A
B22: 산양천2 간이양수장
A23: 574A8119B404B5FD5615521948837CA0C28F82 | B23: 누전차단기(ELCB) | C23: 분전반용 220V 2P 30AF | D23: 대 | E23: 전기 5-19 | F23: 2 | G23: 0 | K23: 2 | L23: 전선원 | M23: =0.133*(H23+100)/100*(I23+100)/100*(J23+100)/100 -> 0.133 | N23: =F23*M23 -> 0.266 | O23: 노임 3 | Q23: 0102 | R23: 56280119F984FE6B5ABA8273ECA1B50195018A | S23: 0.133 | T23: 0102574A8119B404B5FD5615521948837CA0C28F82 | V23: =N23 -> 0.266
A24: 574A8119B404B5FD5615521948837CA0C28EE5 | B24: 전자식과전류계전기(EOCR-단자형) | C24: 디지털표시부부착 | D24: 개 | E24: 전기 3-34 | F24: 1 | G24: 0 | K24: 1 | L24: 전기기계조립원 | M24: =0.27*(H24+100)/100*(I24+100)/100*(J24+100)/100 -> 0.27 | N24: =F24*M24 -> 0.27 | O24: 노임 2 | Q24: 0102 | R24: 56280119F984FE6B5ABA8273ECA1B5019503B1 | S24: 0.27 | T24: 0102574A8119B404B5FD5615521948837CA0C28EE5 | W24: =N24 -> 0.27
A25: 574A8119B404B5FD5615521948837CA0C28EE6 | B25: 디지털메터 | C25: 전압, 전류 등, 통신無 | D25: 개 | E25: 전기 3-34 | F25: 1 | G25: 0 | K25: 1 | L25: 전기기계조립원 | M25: =0.38*(H25+100)/100*(I25+100)/100*(J25+100)/100 -> 0.38 | N25: =F25*M25 -> 0.38 | O25: 노임 2 | Q25: 0102 | R25: 56280119F984FE6B5ABA8273ECA1B5019503B1 | S25: 0.38 | T25: 0102574A8119B404B5FD5615521948837CA0C28EE6 | W25: =N25 -> 0.38
A26: 574A8119B404B5FD5615521948837CA0C28EE1 | B26: 보조릴레이 | C26: 2A,2B(AC용) | D26: 개 | E26: 전기 3-34 | F26: 5 | G26: 0 | K26: 5 | L26: 전기기계조립원 | M26: =0.09*(H26+100)/100*(I26+100)/100*(J26+100)/100 -> 0.09 | N26: =F26*M26 -> 0.45 | O26: 노임 2 | Q26: 0102 | R26: 56280119F984FE6B5ABA8273ECA1B5019503B1 | S26: 0.09 | T26: 0102574A8119B404B5FD5615521948837CA0C28EE1 | W26: =N26 -> 0.45
A27: 574A8119B404B5FD5615521948837CA0C28EED | B27: 기기용 비닐절연전선 | C27: 450/700V KIV 2.5㎟(0.04kg) | D27: M | E27: 전기 3-34 | F27: 50 | G27: 0 | K27: 50 | L27: 전기기계조립원 | M27: =0.055*(H27+100)/100*(I27+100)/100*(J27+100)/100 -> 0.055 | N27: =F27*M27 -> 2.75 | O27: 노임 2 | Q27: 0102 | R27: 56280119F984FE6B5ABA8273ECA1B5019503B1 | S27: 0.055 | T27: 0102574A8119B404B5FD5615521948837CA0C28EED | W27: =N27 -> 2.75
A28: 574A8119B404B5FD5615521948837CA0C28DD8 | B28: 배선용차단기(MCCB) | C28: 표준형 460V 4P 100AF | D28: 개 | E28: 전기 5-19 | F28: 1 | G28: 0 | K28: 1 | L28: 전선원 | M28: =0.468*(H28+100)/100*(I28+100)/100*(J28+100)/100 -> 0.468 | N28: =F28*M28 -> 0.468 | O28: 노임 3 | Q28: 0102 | R28: 56280119F984FE6B5ABA8273ECA1B50195018A | S28: 0.468 | T28: 0102574A8119B404B5FD5615521948837CA0C28DD8 | V28: =N28 -> 0.468
A29: 574A8119B404B5FD5615521948837CA0C28DDB | B29: 누전차단기(ELCB) | C29: 표준형 460V 3P 100AF | D29: 개 | E29: 전기 5-19 | F29: 1 | G29: 0 | K29: 1 | L29: 전선원 | M29: =0.36*(H29+100)/100*(I29+100)/100*(J29+100)/100 -> 0.36 | N29: =F29*M29 -> 0.36 | O29: 노임 3 | Q29: 0102 | R29: 56280119F984FE6B5ABA8273ECA1B50195018A | S29: 0.36 | T29: 0102574A8119B404B5FD5615521948837CA0C28DDB | V29: =N29 -> 0.36
A30: 574A8119B404B5FD5615521948837CA0C28C30 | B30: 전자접촉기(개방형) | C30: (220V/380V)7.5/15㎾ | D30: 개 | E30: 전기 5-19 | F30: 3 | G30: 0 | K30: 3 | L30: 전선원 | M30: =0.3*(H30+100)/100*(I30+100)/100*(J30+100)/100 -> 0.3 | N30: =F30*M30 -> 0.9 | O30: 노임 3 | Q30: 0102 | R30: 56280119F984FE6B5ABA8273ECA1B50195018A | S30: 0.3 | T30: 0102574A8119B404B5FD5615521948837CA0C28C30 | V30: =N30 -> 0.9
A31: 574A8119B404B5FD5615521948837CA0C28DD5 | B31: 셀렉터 스위치(Selectors Switch) | D31: 개 | E31: 전기 5-23 | F31: 1 | G31: 0 | K31: 1 | L31: 전선원 | M31: =0.1*(H31+100)/100*(I31+100)/100*(J31+100)/100 -> 0.1 | N31: =F31*M31 -> 0.1 | O31: 노임 3 | Q31: 0102 | R31: 56280119F984FE6B5ABA8273ECA1B50195018A | S31: 0.1 | T31: 0102574A8119B404B5FD5615521948837CA0C28DD5 | V31: =N31 -> 0.1
A32: 574A8119B404B5FD5615521948837CA0C28DD4 | B32: 타이머 | C32: W/SOCKET, 1~60 sec | D32: 개 | E32: 전기 3-34 | F32: 1 | G32: 0 | K32: 1 | L32: 전기기계조립원 | M32: =0.2*(H32+100)/100*(I32+100)/100*(J32+100)/100 -> 0.2 | N32: =F32*M32 -> 0.2 | O32: 노임 2 | Q32: 0102 | R32: 56280119F984FE6B5ABA8273ECA1B5019503B1 | S32: 0.2 | T32: 0102574A8119B404B5FD5615521948837CA0C28DD4 | W32: =N32 -> 0.2
A33: 574A8119B404B5FD5615521948837CA0C28C37 | B33: 계기용변류기(C.T)환형 | C33: 600V5VA 300/5A 1.0 15VA | D33: 대 | E33: 전기 5-21 | F33: 3 | G33: 0 | K33: 3 | L33: 전선원 | M33: =0.4*(H33+100)/100*(I33+100)/100*(J33+100)/100 -> 0.4 | N33: =F33*M33 -> 1.2 | O33: 노임 3 | Q33: 0102 | R33: 56280119F984FE6B5ABA8273ECA1B50195018A | S33: 0.4 | T33: 0102574A8119B404B5FD5615521948837CA0C28C37 | V33: =N33 -> 1.2
A34: 574A8119B404B5FD5615521948837CA0C28C36 | B34: 콘덴서 (저압) | C34: (3P 380V/440V) 100㎌ | D34: 대 | E34: 전기 5-40 | F34: 1 | G34: 0 | K34: 1 | L34: 전선원 | M34: =0.13*(H34+100)/100*(I34+100)/100*(J34+100)/100 -> 0.13 | N34: =F34*M34 -> 0.13 | O34: 노임 3 | Q34: 0102 | R34: 56280119F984FE6B5ABA8273ECA1B50195018A | S34: 0.13 | T34: 0102574A8119B404B5FD5615521948837CA0C28C36 | V34: =N34 -> 0.13
A35: 574A8119B404B5FD5615521948837CA0C28C35 | B35: DIAZED FUSE | C35: 25A W/HOLDER | D35: 개 | E35: 전기 3-34 | F35: 3 | G35: 0 | K35: 3 | L35: 전기기계조립원 | M35: =0.2*(H35+100)/100*(I35+100)/100*(J35+100)/100 -> 0.2 | N35: =F35*M35 -> 0.6 | O35: 노임 2 | Q35: 0102 | R35: 56280119F984FE6B5ABA8273ECA1B5019503B1 | S35: 0.2 | T35: 0102574A8119B404B5FD5615521948837CA0C28C35 | W35: =N35 -> 0.6
A36: 574A8119B404B5FD5615521948837CA0C28C34 | B36: 부저 | C36: D65 AC110V/220V | D36: 개 | E36: 전기 3-34 | F36: 1 | G36: 0 | K36: 1 | L36: 전기기계조립원 | M36: =0.2*(H36+100)/100*(I36+100)/100*(J36+100)/100 -> 0.2 | N36: =F36*M36 -> 0.2 | O36: 노임 2 | Q36: 0102 | R36: 56280119F984FE6B5ABA8273ECA1B5019503B1 | S36: 0.2 | T36: 0102574A8119B404B5FD5615521948837CA0C28C34 | W36: =N36 -> 0.2
A37: 574A8119B404B5FD5615521948837CA0C28C32 | B37: 통전표시기 | C37: 200V~22.9kV | D37: 개 | E37: 전기 3-34 | F37: 3 | G37: 0 | K37: 3 | L37: 전기기계조립원 | M37: =0.2*(H37+100)/100*(I37+100)/100*(J37+100)/100 -> 0.2 | N37: =F37*M37 -> 0.6 | O37: 노임 2 | Q37: 0102 | R37: 56280119F984FE6B5ABA8273ECA1B5019503B1 | S37: 0.2 | T37: 0102574A8119B404B5FD5615521948837CA0C28C32 | W37: =N37 -> 0.6
A38: 56280119F984FE6B5ABA8273ECA1B5019503B1 | B38: 전기기계조립원 | C38: 제조부문 | D38: 인 | F38: =SUM(W23:W37) -> 5.45 | K38: =TRUNC(ROUNDDOWN(F38,'공량설정(제조)'!C6+1)*'공량설정(제조)'!B5/100, '공량설정(제조)'!C6) -> 5.45 | O38: 노임 2 | Q38: 0102 | T38: 010256280119F984FE6B5ABA8273ECA1B5019503B1
A39: 56280119F984FE6B5ABA8273ECA1B50195018A | B39: 전선원 | C39: 제조부문 | D39: 인 | F39: =SUM(V23:V37) -> 3.424 | K39: =TRUNC(ROUNDDOWN(F39,'공량설정(제조)'!C7+1)*'공량설정(제조)'!B5/100, '공량설정(제조)'!C7) -> 3.424 | O39: 노임 3 | Q39: 0102 | T39: 010256280119F984FE6B5ABA8273ECA1B50195018A

Sheet Sheet1

Sheet 공량설정(제조)
A1: 공종명 | B1: 적용율(%) | C1: 소수점이하자릿수 | D1: 공종코드
A2: 0101 산양천1 간이양수장 | B2: 100 | D2: 0101
A3: 전기기계조립원 | C3: 2 | D3: 010156280119F984FE6B5ABA8273ECA1B5019503B1
A4: 전선원 | C4: 3 | D4: 010156280119F984FE6B5ABA8273ECA1B50195018A
A5: 0102 산양천2 간이양수장 | B5: 100 | D5: 0102
A6: 전기기계조립원 | C6: 2 | D6: 010256280119F984FE6B5ABA8273ECA1B5019503B1
A7: 전선원 | C7: 3 | D7: 010256280119F984FE6B5ABA8273ECA1B50195018A

Sheet  공사설정 (제조)
A1: 이 Sheet는 수정하지 마십시요
A2: 공사구분 | B2: A | C2: 타이틀
A3: 확정내역 | B3: 원내역
A4: 자재단가적용 | B4: 5
A5: 경비단가적용 | B5: 5
A6: 품목코드형식 | B6: XXXX-XXXXXXXXXXXXX
A7: 내역금액소수점처리 | B7: C | C7: 1
A8: 일위대가내역소수점처리 | B8: C | C8: 2
A9: 단가명 | B9: 조달청가격 | C9: 거래가격 | D9: 유통물가 | E9: 조사가격1 | F9: 조사가격2 | G9: TTTTT
A10: 환율 | B10: 0 | C10: 0 | D10: 0
A11: 시간당작업량 | B11: R | C11: 3
A12: 1회 사이클시간 | B12: R | C12: 3
A13: 시간당 작업사이클 | B13: R | C13: 2
A14: 일반변수 | B14: C | C14: 5
A15: 시간당 노임산출 계수 | B15: A | C15: 1/8*16/12*25/20 | D15: 1/8*16/12*25/20 | E15: 1/8*16/12*25/20 | F15: 1
A16: 재료비 할증 계수 | B16: 0 | C16: 0
A17: 노무비 할증 계수 | B17: 0 | C17: 0 | D17: 0 | E17: 0 | F17: 0 | G17: 0 | H17: 0 | I17: 0 | J17: 0 | K17: 0 | L17: 0 | M17: 0
A18: 경비 할증 계수 | B18: 0 | C18: 0
A19: 내역,일위대가 품명,규격,단위 따로적용
A20: 내역단가 소수점처리 | C20: 1
A21: 코드 | B21: 공종구분명 | C21: 원가비목코드
A22: 1 | B22: 작 업 부 산 물 | C22: A3
A23: 2 | B23: 운 반 비 | C23: C1
A24: 3 | B24: 관 급 자 재 비 | C24: DJ
A25: 4 | B25: 사 급 자 재 비 | C25: D3
A26: 5 | B26: 외 자 재
A27: 6 | B27: 폐기물처리비
A28: 7 | B28: ...
A29: 8 | B29: ...
A30: 9 | B30: ...
A31: A | B31: ....
A32: B | B32: .....
A33: C | B33: ....
A34: D | B34: ....
A35: E | B35: ....
A36: F | B36: ....
A37: G | B37: ....
A38: H | B38: ....
A39: I | B39: ....
A40: J | B40: ....
A43: 단가 순서 | B43: 1234
