Workbook

Sheet 원가계산서
A1: 진도중학교 다목적강당 전면 보수 통신공사
A2: 공사원가계산서 | E2: [6개월 이하]
A3: 비 목 | C3: 구 분 | D3: 금 액 | E3: 비 고
A4: 순 공 사 원 가 | B4: 재 료 비 | C4: 직접재료비 | D4: =[1]총괄표2!I6 -> 0
C5: 간접재료비
C6: 소 계 | D6: =SUM(D4:D5) -> 0
B7: 노무비 | C7: 직접노무비 | D7: =[1]총괄표2!L6 -> 0
C8: 간접노무비 | D8: =INT(D7*H8) -> 0 | E8: =CONCATENATE("직노×",(H8*100),"%","") -> 직노×0%
C9: 소 계 | D9: =SUM(D7:D8) -> 0
B10: 경비 | C10: 기계경비 | D10: =[1]총괄표2!N6 -> 0
C11: 기타경비 | D11: =INT((D6+D9)*H11) -> 0 | E11: =CONCATENATE("(재＋노)×",(H11*100),"%") -> (재＋노)×0%
C12: 산재보험료 | D12: =INT(D9*H12) -> 0 | E12: =CONCATENATE("노무비×",(H12*100),"%") -> 노무비×0%
C13: 산업안전보건관리비 | E13: =CONCATENATE("(재＋직노+도급자관급자재)×",(H13*100),"%") -> (재＋직노+도급자관급자재)×0%
D14: =IF(I13<500000000,INT((D6+D7)*H13)*1.2,IF(I13<=5000000000,INT((D6+D7)*H13+4325000*1.2),INT((D6+D7)*H13)*1.2)) -> 0 | E14: =IF(I13<500000000,"(재료비+직노)×"&H13*100&"%×1.2",IF(I13<=500000000,"(재료+직노) × "&H13*100&"% +3,250천원 × 1.2","(재료비+직노)×"&H13*100&"%×1.2")) -> (재료비+직노)×0%×1.2
D15: =MIN(D13:D14) -> 0 | E15: (재료비+직노)×3.11%×1.2
C16: 고용보험료 | D16: =INT(D9*H16) -> 0 | E16: =CONCATENATE("노무비×",(H16*100),"%","") -> 노무비×0%
C17: 건강보험료 | D17: =INT(D7*H17) -> 0 | E17: =CONCATENATE("직노×",(H17*100),"%") -> 직노×0%
C18: 연금보험료 | D18: =INT(D7*H18) -> 0 | E18: =CONCATENATE("직노×",(H18*100),"%") -> 직노×0%
C19: 퇴직공제부금비 | D19: =INT(D7*H19)*0 -> 0 | E19: =CONCATENATE("직노×",(H19*100),"%") -> 직노×0%
C20: 수도광열비 | D20: =INT((D6+D9)*H20) -> 0 | E20: =CONCATENATE("(재＋노)×",(H20*100),"%") -> (재＋노)×0%
C21: 노인장기요양 보험료 | D21: =INT((D17)*H21) -> 0 | E21: =CONCATENATE("(건강보험료)×",(H21*100),"%") -> (건강보험료)×0%
C22: 석 면 분 담 금 | D22: =INT((D9)*H22) -> 0 | E22: =CONCATENATE("노무비×",(H22*100),"%") -> 노무비×0%
C23: 임금채권부담금 | D23: =INT((D9)*H23) -> 0 | E23: =CONCATENATE("노무비×",(H23*100),"%") -> 노무비×0%
C24: 소 계 | D24: =D10+D11+D12+D15+D16+D17+D18+D19+D20+D21+D22+D23 -> 0
A25: 계 | D25: =INT(D6+D9+D24) -> 0
A26: 일 반 관 리 비 | D26: =INT(D25*H26) -> 0 | E26: =CONCATENATE("(재＋노＋경)×",(H26*100),"%") -> (재＋노＋경)×0%
A27: 이 윤 | E27: =CONCATENATE("(노＋경＋일)×",(K27*100),"%") -> (노＋경＋일)×0%
A28: 공 사 비
A29: 부 가 가 치 세 | E29: =CONCATENATE("공사원가×",(H29*100),"%") -> 공사원가×0%
A30: 도 급 공 사 비
A34: 총 공 사 비 계 | D34: =SUM(D30:D33) -> 0

Sheet 총괄표
A1: [ 진도중학교 다목적강당 전면보수 통신공사 ]
A2: 공 종 명 | B2: 규격 | C2: 단위 | D2: 수량 | E2: 재료비 | G2: 노무비 | J2: 경비 | M2: 계 | N2: 비고
E3: 단가 | F3: 금액 | G3: 수량 | H3: 단가 | I3: 금액 | J3: 단가 | K3: 금액 | L3: 단가
A4: 진도중학교 다목적강당 전면보수 통신공사
A6: 1.통신공사 | C6: 식
A7: 1-1.통신설비공사 | C7: 식
A8: 1-2.철거공사 | C8: 식

Sheet 내역서
A1: [ 진도중학교 다목적강당 전면보수 통신공사 ]
A2: 명 칭 | B2: 규 격 | C2: 단위 | D2: 수량 | E2: 재료비 | G2: 노무비 | J2: 경비 | M2: 계 | N2: 비고
E3: 단가 | F3: 금액 | G3: 수량 | H3: 단가 | I3: 금액 | J3: 단가 | K3: 금액 | L3: 단가
A4: 1.통신공사::1-1.통신설비공사
A5: 합성수지제 가요전선관 | B5: CD-난연성 16㎜ | C5: m | D5: =[1]산출집계!E5 -> CD-난연성 16㎜
A6: [ 배관 부속재 ] | B6: CD 전선관의 40 % | C6: 식 | D6: 1
A7: 1종금속제가요전선관 | B7: 16 mm 일반-비방수 | C7: m | D7: =[1]산출집계!E6 -> 16 mm 일반-비방수
A8: 1종금속제가요전선관 | B8: 22 mm 일반-비방수 | C8: m | D8: =[1]산출집계!E7 -> 22 mm 일반-비방수
A9: 1종금속제가요전선관 | B9: 28 mm 일반-비방수 | C9: m | D9: =[1]산출집계!E8 -> 28 mm 일반-비방수
A10: 1종금속제가요전선관 | B10: 커넥터, 16 mm 일반-비방수 | C10: 개 | D10: =[1]산출집계!E9 -> 커넥터, 16 mm 일반-비방수
A11: 1종금속제가요전선관 | B11: 커넥터, 22 mm 일반-비방수 | C11: 개 | D11: =[1]산출집계!E10 -> 커넥터, 22 mm 일반-비방수
A12: 1종금속제가요전선관 | B12: 커넥터, 28 mm 일반-비방수 | C12: 개 | D12: =[1]산출집계!E11 -> 커넥터, 28 mm 일반-비방수
A13: 아우트렛박스 | B13: 중형4각 54㎜ | C13: 개 | D13: =[1]산출집계!E12 -> 중형4각 54㎜
A14: 스위치박스 | B14: 2 개용 54 mm | C14: 개 | D14: =[1]산출집계!E13 -> 2 개용 54 mm
A15: 아우트렛박스 커버 | B15: 커버, 4각, 평형 | C15: 개 | D15: =[1]산출집계!E14 -> 커버, 4각, 평형
A16: 아우트렛박스 커버 | B16: 콘카바 | C16: 개 | D16: =[1]산출집계!E15 -> 콘카바
A17: 합성수지 전기함(ABS BOX) | B17: 190*280*130 | C17: 개 | D17: =[1]산출집계!E16 -> 190*280*130
A18: 전선덕트 | B18: PVC 40x60x2000 mm | C18: 개 | D18: =[1]산출집계!E17 -> PVC 40x60x2000 mm
... A35: 광케이블 이설 | B35: SM 2C | C35: m | D35: =[1]산출집계!E34 -> SM 2C
A36: 무선벨 경광등 | C36: ea | D36: =[1]산출집계!E35 -> 0
A37: 무선벨 송신기 | C37: ea | D37: =[1]산출집계!E36 -> 0
A38: 무선벨 중계기 | C38: ea | D38: =[1]산출집계!E37 -> 0
A39: 무선 비상벨 수신기 | C39: ea | D39: =[1]산출집계!E42 -> 0
A40: 보드판 | B40: 경관등 안내보드판 | C40: ea | D40: =[1]산출집계!E43 -> 경관등 안내보드판
A41: 보드판 | B41: 비상벨 안내보드판 | C41: ea | D41: =[1]산출집계!E44 -> 비상벨 안내보드판
A42: 몰탈미장마감 | B42: M2 | C42: m2 | D42: =[1]산출집계!E45 -> M2
A43: [ 소모 잡자재 ] | B43: 전선, 전선관의 2 % | C43: 식 | D43: 1
A44: 노 무 비 | B44: 내선전공 | C44: 인 | D44: =[1]노임근거!D33 -> 노 무 비
A45: 노 무 비 | B45: 통신내선공 | C45: 인 | D45: =[1]노임근거!D34 -> 노 무 비
A46: 노 무 비 | B46: 통신케이블공 | C46: 인 | D46: =[1]노임근거!D35 -> 노 무 비
A47: 노 무 비 | B47: 통신설비공 | C47: 인 | D47: =[1]노임근거!D36 -> 노 무 비
A48: 노 무 비 | B48: 보통인부 | C48: 인 | D48: =[1]노임근거!D37 -> 노 무 비
A49: [ 공 구 손 료 ] | B49: 노무비의 3 % | C49: 식 | D49: 1
A55: ( 합 계 )
A56: 1.통신공사::1-2.철거공사
A57: CCTV 카메라 | B57: 철거 | C57: 개 | D57: =[1]산출집계!E79 -> 철거
A58: MIC JACK BOX(2CH) | B58: 철거 | C58: 개 | D58: =[1]산출집계!E80 -> 철거
A59: PC JACK PLATE | B59: 철거 | C59: 개 | D59: =[1]산출집계!E81 -> 철거
A60: PoE SW HUB 2SFP, 24PORT | B60: 철거 재설치 | C60: 개 | D60: =[1]산출집계!E82 -> 철거 재설치
A61: SW HUB 8PORT | B61: 철거 | C61: 개 | D61: =[1]산출집계!E83 -> 철거
A62: 광분배함 4 CORE | B62: 철거 재설치 | C62: 개 | D62: =[1]산출집계!E84 -> 이설
A63: 메인스피커 및 서버우퍼 | B63: 철거 재설치 | C63: 식 | D63: =[1]산출집계!E85 -> 철거 재설치
A64: 무선AP | B64: 철거 재설치 | C64: 개 | D64: =[1]산출집계!E86 -> 철거 재설치
A65: 방송 무선 안테나 | B65: 철거 재설치 | C65: 개 | D65: =[1]산출집계!E87 -> 철거 재설치
A66: 방송 앰프랙 | B66: 철거 재설치 | C66: 식 | D66: =[1]산출집계!E88 -> 철거 재설치
A67: 방송 콘솔 | B67: 철거 재설치 | C67: 개 | D67: =[1]산출집계!E89 -> 철거 재설치
A68: 배관, 배선 철거 및 정리 | C68: 식 | D68: =[1]산출집계!E90 -> 0
A69: 빔프로젝터 | B69: 철거 | C69: 개 | D69: =[1]산출집계!E91 -> 철거
A70: 스테이지 스피커 | B70: 철거 재설치 | C70: 개 | D70: =[1]산출집계!E92 -> 철거 재설치
A71: 전동스크린 | B71: 철거 | C71: 개 | D71: =[1]산출집계!E93 -> 철거
A72: 전화단자함 20P | B72: 철거 | C72: 면 | D72: =[1]산출집계!E94 -> 철거
A73: 노 무 비 | B73: 통신내선공 | C73: 인 | D73: =[1]노임근거!D91 -> 노 무 비
A74: 노 무 비 | B74: 통신케이블공 | C74: 인 | D74: =[1]노임근거!D92 -> 노 무 비
A75: 노 무 비 | B75: 통신설비공 | C75: 인 | D75: =[1]노임근거!D93 -> 노 무 비
A76: 노 무 비 | B76: 통신관련산업기사 | C76: 인 | D76: =[1]노임근거!D94 -> 노 무 비
A77: 노 무 비 | B77: 보통인부 | C77: 인 | D77: =[1]노임근거!D95 -> 노 무 비
A78: 노 무 비 | B78: 내장공 | C78: 인 | D78: =[1]노임근거!D96 -> 노 무 비
A79: [ 공 구 손 료 ] | B79: 노무비의 3 % | C79: 식 | D79: 1
A81: ( 합 계 )
