Workbook
Name _: #REF!
Name _: #REF!
Name __: #REF!
Name __: #REF!
Name ___: #REF!
Name ___: #REF!
Name ____: #REF!
Name ____: #REF!
Name _____: #REF!
Name _____: #REF!
Name ______: #REF!
Name ______: #REF!
Name _______: #REF!
Name _______: #REF!
Name __________: #REF!
Name __________: #REF!
Name _____________0: #REF!
Name _____________0: #REF!
Name _____________11: #REF!
Name _____________11: #REF!
Name _____________12: #REF!
Name _____________12: #REF!
Name __________0: #REF!
Name __________0: #REF!
Name __________11: #REF!
Name __________11: #REF!
Name __________12: #REF!
Name __________12: #REF!
Name _________0: #REF!
Name _________0: #REF!
Name _________10: #REF!
Name _________10: #REF!
Name _________11: #REF!
Name _________11: #REF!
Name _________12: #REF!
Name _________12: #REF!
Name ________0: #REF!
Name ________0: #REF!
Name ________10: #REF!
Name ________10: #REF!
Name ________11: #REF!
Name ________11: #REF!
Name ________12: #REF!
Name ________12: #REF!
Name _______0: #REF!
Name _______0: #REF!
Name ______0: #REF!
Name ______0: #REF!
Name ______11: #REF!
Name ______11: #REF!
Name ______12: #REF!
Name ______12: #REF!
Name _____0: #REF!
Name _____0: #REF!
Name _____10: #REF!
Name _____10: #REF!
Name _____11: #REF!
Name _____11: #REF!
Name _____12: #REF!
Name _____12: #REF!

Sheet 결재
A1: 설계자 | C1: 심사자 | E1: 팀장 | G1: 과장 | I1: 설 계 년월일 | J1: 2026년 01월
A3: 2026년
A4: 학생복지센터 냉난방 전력 간선 설비 공사
A5: ( 전 기 )
B15: 총 공 사 비 : | D15: ="일금 "&NUMBERSTRING(L15,1)&" 원정" -> 일금 영 원정 | G15: =L15 -> 0 | L15: =SUM(L16:L18) -> 0 | M15: 총공사비
B16: ○ 도 급 액 : | D16: ="일금 "&NUMBERSTRING(L16,1)&" 원정" -> 일금 영 원정 | G16: =L16 -> 0 | L16: =원가계산서!E23 -> 0 | M16: 도급공사비

Sheet 원가계산서
B1: 공 사 원 가 계 산 서
B2: 공사명 : 학생복지센터냉난방전력간선설비전기공사 | F2: 금액 : 일억팔천육백일십칠만오천원(￦186,175,000)
B3: 비 목 | E3: 금 액 | F3: 구 성 비 | G3: 비 고
A4: A1 | B4: 순 공 사 원 가 | C4: 재 료 비 | D4: 직 접 재 료 비 | E4: =TRUNC(공종별집계표!F5, 0) -> 0
A5: A2 | D5: 간 접 재 료 비 | E5: 0
A6: A3 | D6: 작업설, 부산물(△) | E6: 0
A7: AS | D7: [ 소 계 ] | E7: =TRUNC(E4+E5-E6, 0) -> 0
A8: B1 | C8: 노 무 비 | D8: 직 접 노 무 비 | E8: =TRUNC(공종별집계표!H5, 0) -> 0
A9: B2 | D9: 간 접 노 무 비 | E9: =TRUNC(E8*0.15, 0) -> 0 | F9: 직접노무비 * 15%
A10: BS | D10: [ 소 계 ] | E10: =TRUNC(E8+E9, 0) -> 0
A11: C2 | C11: 경 비 | D11: 경 비 | E11: =TRUNC(공종별집계표!J5, 0) -> 0
A12: C4 | D12: 산 재 보 험 료 | E12: =TRUNC(E10*0.0356, 0) -> 0 | F12: 노무비 * 3.56%
A13: C5 | D13: 고 용 보 험 료 | E13: =TRUNC(E10*0.0101, 0) -> 0 | F13: 노무비 * 1.01%
A14: C8 | D14: 퇴직 공제 부금비 | E14: =TRUNC(E8*0.023, 0) -> 0 | F14: 직접노무비 * 2.3%
A15: CA | D15: 산업안전보건관리비 | E15: =TRUNC((E7+E8+(0/1.1))*0.0311, 0) -> 0 | F15: (재료비+직노) * 3.11%
A16: CG | D16: 기 타 경 비 | E16: =TRUNC((E7+E10)*0.046, 0) -> 0 | F16: (재료비+노무비) * 4.6%
A17: CS | D17: [ 소 계 ] | E17: =TRUNC(E11+E12+E13+E14+E15+E16, 0) -> 0
A18: S1 | B18: 계 | E18: =TRUNC(E7+E10+E17, 0) -> 0
A19: D1 | B19: 일 반 관 리 비 | E19: =TRUNC(E18*0.06, 0) -> 0 | F19: 계 * 6%
A20: D2 | B20: 이 윤 | F20: (노무비+경비+일반관리비) * 15%
A21: D9 | B21: 공 급 가 액 | E21: =TRUNC(E18+E19+E20, 0) -> 0
A22: DB | B22: 부 가 가 치 세 | E22: =TRUNC(E21*0.1, 0) -> 0 | F22: 공급가액 * 10%
A23: DH | B23: 도 급 액 | E23: =TRUNC(E21+E22, 0) -> 0
A24: S2 | B24: 총 공 사 비 | E24: =TRUNC(E23+0, 0) -> 0

Sheet 공종별집계표
A1: 공 종 별 집 계 표
A2: [ 학생복지센터냉난방전력간선설비전기공사 ]
A3: 품 명 | B3: 규 격 | C3: 단위 | D3: 수량 | E3: 재 료 비 | G3: 노 무 비 | I3: 경 비 | K3: 합 계 | M3: 비 고 | N3: 공종코드 | O3: 변수 | P3: 상위공종 | Q3: 공종구분 | R3: 공종레벨 | S3: 공종소계 | T3: 원가계산서 연결금액
E4: 단 가 | F4: 금 액 | G4: 단 가 | H4: 금 액 | I4: 단 가 | J4: 금 액 | K4: 단 가 | L4: 금 액
A5: 학생복지센터냉난방전력간선설비전기공사 | D5: 1 | E5: =F6 -> 0 | F5: =E5*D5 -> 0 | G5: =H6 -> 0 | H5: =G5*D5 -> 0 | I5: =J6 -> 0 | J5: =I5*D5 -> 0 | K5: =E5+G5+I5 -> 0 | L5: =F5+H5+J5 -> 0 | N5: 01 | R5: 1
A6: 전기공사 | D6: 1 | E6: =F7 -> 0 | F6: =E6*D6 -> 0 | G6: =H7 -> 0 | H6: =G6*D6 -> 0 | I6: =J7 -> 0 | J6: =I6*D6 -> 0 | K6: =E6+G6+I6 -> 0 | L6: =F6+H6+J6 -> 0 | N6: 0101 | P6: 01 | R6: 2
A7: 냉난방전력간선설비공사 | D7: 1 | E7: =공종별내역서!F51 -> 0 | F7: =E7*D7 -> 0 | G7: =공종별내역서!H51 -> 0 | H7: =G7*D7 -> 0 | I7: =공종별내역서!J51 -> 0 | J7: =I7*D7 -> 0 | K7: =E7+G7+I7 -> 0 | L7: =F7+H7+J7 -> 0 | N7: 010101 | P7: 0101 | R7: 3
A27: [ 합 계 ] | F27: =F5 -> 0 | H27: =H5 -> 0 | J27: =J5 -> 0 | L27: =L5 -> 0

Sheet 공종별내역서
A1: [ 학생복지센터냉난방전력간선설비전기공사 ]
A2: 품 명 | B2: 규 격 | C2: 단위 | D2: 수량 | E2: 재 료 비 | G2: 노 무 비 | I2: 경 비 | K2: 합 계 | M2: 비 고 | N2: 품목코드 | O2: 변수 | P2: 설정 | Q2: 공종코드 | R2: 일위 | S2: 단산 | T2: 자재 | U2: 손료적용 | V2: 손료저장 | W2: 적용율 | X2: JUK1 | Y2: JUK2 | Z2: JUK3 | AA2: JUK4 | AB2: JUK5 | AC2: JUK6 | AD2: JUK7 | AE2: JUK8 | AF2: JUK9 | AG2: JUK10 | AH2: JUK11 | AI2: JUK12 | AJ2: JUK13 | AK2: JUK14 | AL2: JUK15 | AM2: JUK16 | AN2: JUK17 | AO2: JUK18 | AP2: JUK19 | AQ2: JUK20 | AR2: 자재구분 | AS2: 공종구분 | AT2: 공종레벨 | AU2: 공종+자재 | AV2: 고유번호
E3: 단 가 | F3: 금 액 | G3: 단 가 | H3: 금 액 | I3: 단 가 | J3: 금 액 | K3: 단 가 | L3: 금 액
A4: 냉난방전력간선설비공사 | Q4: 010101
A5: 접지용비닐절연전선 | B5: 접지용비닐절연전선, F-GV, 150㎟ | C5: M | D5: 226 | F5: =TRUNC(E5*D5, 0) -> 0 | H5: =TRUNC(G5*D5, 0) -> 0 | J5: =TRUNC(I5*D5, 0) -> 0 | K5: =TRUNC(E5+G5+I5, 0) -> 0 | L5: =TRUNC(F5+H5+J5, 0) -> 0 | N5: 5A6C53BC80C1E7341166A568BFA15F71E13699 | Q5: 010101 | R5: F | S5: F | T5: T | X5: 1 | AU5: 0101015A6C53BC80C1E7341166A568BFA15F71E13699 | AV5: 4
A6: 600V폴리에틸렌케이블 | B6: 600V폴리에틸렌케이블, 0.6/1kv, F-CV, 1C*300㎟ | C6: M | D6: 861 | F6: =TRUNC(E6*D6, 0) -> 0 | H6: =TRUNC(G6*D6, 0) -> 0 | J6: =TRUNC(I6*D6, 0) -> 0 | K6: =TRUNC(E6+G6+I6, 0) -> 0 | L6: =TRUNC(F6+H6+J6, 0) -> 0 | N6: 5A6C53BC80C1E70F11626B87CAE6537CF9EDBD | Q6: 010101 | R6: F | S6: F | T6: T | X6: 1 | AU6: 0101015A6C53BC80C1E70F11626B87CAE6537CF9EDBD | AV6: 5
A7: 잡재료비 | B7: 배관배선의 2% | C7: 식 | D7: 1 | F7: =TRUNC(E7*D7, 0) -> 0 | H7: =TRUNC(G7*D7, 0) -> 0 | J7: =TRUNC(I7*D7, 0) -> 0 | K7: =TRUNC(E7+G7+I7, 0) -> 0 | L7: =TRUNC(F7+H7+J7, 0) -> 0 | N7: 5C4AD3E58467D92F116EBA7B651D001 | Q7: 010101 | R7: F | S7: F | T7: F | U7: 0 | V7: 0 | W7: 0.02 | AU7: 0101015C4AD3E58467D92F116EBA7B651D001 | AV7: 29
A8: 분전반 | B8: PO-AC-M PNL | C8: 개 | D8: 1 | F8: =TRUNC(E8*D8, 0) -> 0 | H8: =TRUNC(G8*D8, 0) -> 0 | J8: =TRUNC(I8*D8, 0) -> 0 | K8: =TRUNC(E8+G8+I8, 0) -> 0 | L8: =TRUNC(F8+H8+J8, 0) -> 0 | N8: 5A7E336B83949E84116A6D861A2C9CC728E65C | Q8: 010101 | R8: F | S8: F | T8: T | AU8: 0101015A7E336B83949E84116A6D861A2C9CC728E65C | AV8: 6
A9: 분전반 | B9: PO-AC PNL | C9: 면 | D9: 1 | F9: =TRUNC(E9*D9, 0) -> 0 | H9: =TRUNC(G9*D9, 0) -> 0 | J9: =TRUNC(I9*D9, 0) -> 0 | K9: =TRUNC(E9+G9+I9, 0) -> 0 | L9: =TRUNC(F9+H9+J9, 0) -> 0 | N9: 5A7E336B83949E84116A6D861A2C9CC728E65E | Q9: 010101 | R9: F | S9: F | T9: T | AU9: 0101015A7E336B83949E84116A6D861A2C9CC728E65E | AV9: 7
A10: 분전반-철거 | B10: 700x700x400 이하 | C10: 면 | D10: 1 | F10: =TRUNC(E10*D10, 0) -> 0 | H10: =TRUNC(G10*D10, 0) -> 0 | J10: =TRUNC(I10*D10, 0) -> 0 | K10: =TRUNC(E10+G10+I10, 0) -> 0 | L10: =TRUNC(F10+H10+J10, 0) -> 0 | M10: 노무비적용 | N10: 5A7E336B83949E84116A6D861A2C9CC72F1E4E | Q10: 010101 | R10: F | S10: F | T10: T | AU10: 0101015A7E336B83949E84116A6D861A2C9CC72F1E4E | AV10: 8
A11: 러그단자 | B11: 러그단자, 동관단자, 1홀, 150㎟ | C11: 개 | D11: 4 | F11: =TRUNC(E11*D11, 0) -> 0 | H11: =TRUNC(G11*D11, 0) -> 0 | J11: =TRUNC(I11*D11, 0) -> 0 | K11: =TRUNC(E11+G11+I11, 0) -> 0 | L11: =TRUNC(F11+H11+J11, 0) -> 0 | N11: 5A7E336B83949EDC116F3BF61F9434E7AB5926 | Q11: 010101 | R11: F | S11: F | T11: T | AU11: 0101015A7E336B83949EDC116F3BF61F9434E7AB5926 | AV11: 9
A12: 러그단자 | B12: 러그단자, 동관단자, 1홀, 300㎟ | C12: 개 | D12: 16 | F12: =TRUNC(E12*D12, 0) -> 0 | H12: =TRUNC(G12*D12, 0) -> 0 | J12: =TRUNC(I12*D12, 0) -> 0 | K12: =TRUNC(E12+G12+I12, 0) -> 0 | L12: =TRUNC(F12+H12+J12, 0) -> 0 | N12: 5A7E336B83949EDC116F3BF61F9434E7AB5803 | Q12: 010101 | R12: F | S12: F | T12: T | AU12: 0101015A7E336B83949EDC116F3BF61F9434E7AB5803 | AV12: 10
A13: 케이블트레이 | B13: 케이블트레이, Straight, 스틸, 300*100*t2.3mm | C13: M | D13: 95 | F13: =TRUNC(E13*D13, 0) -> 0 | H13: =TRUNC(G13*D13, 0) -> 0 | J13: =TRUNC(I13*D13, 0) -> 0 | K13: =TRUNC(E13+G13+I13, 0) -> 0 | L13: =TRUNC(F13+H13+J13, 0) -> 0 | N13: 5A7E336B838A0B64116FB90D14E9AFEFD4AD48 | Q13: 010101 | R13: F | S13: F | T13: T | AU13: 0101015A7E336B838A0B64116FB90D14E9AFEFD4AD48 | AV13: 11
A14: 케이블트레이 | B14: 케이블트레이, Straight cover, 스틸, 300*100*t2.3mm | C14: M | D14: 3 | F14: =TRUNC(E14*D14, 0) -> 0 | H14: =TRUNC(G14*D14, 0) -> 0 | J14: =TRUNC(I14*D14, 0) -> 0 | K14: =TRUNC(E14+G14+I14, 0) -> 0 | L14: =TRUNC(F14+H14+J14, 0) -> 0 | N14: 5A7E336B838A0B64116FB90D14E9AFEFD4AF0C | Q14: 010101 | R14: F | S14: F | T14: T | AU14: 0101015A7E336B838A0B64116FB90D14E9AFEFD4AF0C | AV14: 12
A15: 케이블트레이부속품 | B15: 케이블트레이부속품, Horizontal elbow, 스틸, 300*100*t2.3mm | C15: 개 | D15: 4 | F15: =TRUNC(E15*D15, 0) -> 0 | H15: =TRUNC(G15*D15, 0) -> 0 | J15: =TRUNC(I15*D15, 0) -> 0 | K15: =TRUNC(E15+G15+I15, 0) -> 0 | L15: =TRUNC(F15+H15+J15, 0) -> 0 | N15: 5A7E336B838A0B64116FB86A05C65BC8F67C03 | Q15: 010101 | R15: F | S15: F | T15: T | AU15: 0101015A7E336B838A0B64116FB86A05C65BC8F67C03 | AV15: 13
A16: 케이블트레이부속품 | B16: 케이블트레이부속품, Vertical elbow, 스틸, 300*100*t2.3mm | C16: 개 | D16: 2 | F16: =TRUNC(E16*D16, 0) -> 0 | H16: =TRUNC(G16*D16, 0) -> 0 | J16: =TRUNC(I16*D16, 0) -> 0 | K16: =TRUNC(E16+G16+I16, 0) -> 0 | L16: =TRUNC(F16+H16+J16, 0) -> 0 | N16: 5A7E336B838A0B64116FB86A05C65BC8F67FD3 | Q16: 010101 | R16: F | S16: F | T16: T | AU16: 0101015A7E336B838A0B64116FB86A05C65BC8F67FD3 | AV16: 14
A17: 케이블트레이부속품 | B17: 케이블트레이부속품, Joint connector, 아연도, 100*t2.3mm | C17: M | D17: 90 | F17: =TRUNC(E17*D17, 0) -> 0 | H17: =TRUNC(G17*D17, 0) -> 0 | J17: =TRUNC(I17*D17, 0) -> 0 | K17: =TRUNC(E17+G17+I17, 0) -> 0 | L17: =TRUNC(F17+H17+J17, 0) -> 0 | N17: 5A7E336B838A0B64116FB86A05C65BC8F7012F | Q17: 010101 | R17: F | S17: F | T17: T | AU17: 0101015A7E336B838A0B64116FB86A05C65BC8F7012F | AV17: 15
A18: 케이블트레이부속품 | B18: 케이블트레이부속품, Shank bolt and nut, 아연도 | C18: M | D18: 720 | F18: =TRUNC(E18*D18, 0) -> 0 | H18: =TRUNC(G18*D18, 0) -> 0 | J18: =TRUNC(I18*D18, 0) -> 0 | K18: =TRUNC(E18+G18+I18, 0) -> 0 | L18: =TRUNC(F18+H18+J18, 0) -> 0 | N18: 5A7E336B838A0B64116FB86A05C65BC8F702CE | Q18: 010101 | R18: F | S18: F | T18: T | AU18: 0101015A7E336B838A0B64116FB86A05C65BC8F702CE | AV18: 16
A19: 케이블트레이부속품 | B19: 케이블트레이부속품, Bonding jumper, 38㎟ | C19: M | D19: 90 | F19: =TRUNC(E19*D19, 0) -> 0 | H19: =TRUNC(G19*D19, 0) -> 0 | J19: =TRUNC(I19*D19, 0) -> 0 | K19: =TRUNC(E19+G19+I19, 0) -> 0 | L19: =TRUNC(F19+H19+J19, 0) -> 0 | N19: 5A7E336B838A0B64116FB86A05C65BC8F702CA | Q19: 010101 | R19: F | S19: F | T19: T | AU19: 0101015A7E336B838A0B64116FB86A05C65BC8F702CA | AV19: 17
A20: 케이블트레이부속품 | B20: 케이블트레이부속품, Hold down clamp, 아연도 | C20: M | D20: 120 | F20: =TRUNC(E20*D20, 0) -> 0 | H20: =TRUNC(G20*D20, 0) -> 0 | J20: =TRUNC(I20*D20, 0) -> 0 | K20: =TRUNC(E20+G20+I20, 0) -> 0 | L20: =TRUNC(F20+H20+J20, 0) -> 0 | N20: 5A7E336B838A0B64116FB86A05C65BC8F702CB | Q20: 010101 | R20: F | S20: F | T20: T | AU20: 0101015A7E336B838A0B64116FB86A05C65BC8F702CB | AV20: 18
A21: 케이블트레이 커버 열고,닫기 | B21: 전규격 | C21: M | D21: 56 | F21: =TRUNC(E21*D21, 0) -> 0 | H21: =TRUNC(G21*D21, 0) -> 0 | J21: =TRUNC(I21*D21, 0) -> 0 | K21: =TRUNC(E21+G21+I21, 0) -> 0 | L21: =TRUNC(F21+H21+J21, 0) -> 0 | N21: 5A7E336B838A0B64116E9411AE7FF3A5B6D308 | Q21: 010101 | R21: F | S21: F | T21: T | AU21: 0101015A7E336B838A0B64116E9411AE7FF3A5B6D308 | AV21: 19
A22: 전선관지지행거(천장) | B22: W:300 | C22: 개소 | D22: 58 | F22: =TRUNC(E22*D22, 0) -> 0 | H22: =TRUNC(G22*D22, 0) -> 0 | J22: =TRUNC(I22*D22, 0) -> 0 | K22: =TRUNC(E22+G22+I22, 0) -> 0 | L22: =TRUNC(F22+H22+J22, 0) -> 0 | N22: 5D1F03BA8E26B07F116D78B0911337 | Q22: 010101 | R22: T | S22: F | T22: F | AU22: 0101015D1F03BA8E26B07F116D78B0911337 | AV22: 20
... A28: 냉난방 동력함 Con`C PAD | B28: 무근, 1100x400x200 | C28: 식 | D28: 1 | F28: =TRUNC(E28*D28, 0) -> 0 | H28: =TRUNC(G28*D28, 0) -> 0 | J28: =TRUNC(I28*D28, 0) -> 0 | K28: =TRUNC(E28+G28+I28, 0) -> 0 | L28: =TRUNC(F28+H28+J28, 0) -> 0 | N28: 5D1F03B883D2DC59116C4232100AFC | Q28: 010101 | R28: T | S28: F | T28: F | AU28: 0101015D1F03B883D2DC59116C4232100AFC | AV28: 26
A29: 내선전공 | B29: 일반공사 직종 | C29: 인 | F29: =TRUNC(E29*D29, 0) -> 0 | H29: =TRUNC(G29*D29, 0) -> 0 | J29: =TRUNC(I29*D29, 0) -> 0 | K29: =TRUNC(E29+G29+I29, 0) -> 0 | L29: =TRUNC(F29+H29+J29, 0) -> 0 | N29: 5D8343E88A1CD45D11639CE792131EF2A5747F | Q29: 010101 | R29: F | S29: F | T29: T | Y29: 2 | AU29: 0101015D8343E88A1CD45D11639CE792131EF2A5747F | AV29: 27
A30: 저압케이블전공 | B30: 일반공사 직종 | C30: 인 | F30: =TRUNC(E30*D30, 0) -> 0 | H30: =TRUNC(G30*D30, 0) -> 0 | J30: =TRUNC(I30*D30, 0) -> 0 | K30: =TRUNC(E30+G30+I30, 0) -> 0 | L30: =TRUNC(F30+H30+J30, 0) -> 0 | N30: 5D8343E88A1CD45D11639CE792131EF2A57472 | Q30: 010101 | R30: F | S30: F | T30: T | Y30: 2 | AU30: 0101015D8343E88A1CD45D11639CE792131EF2A57472 | AV30: 28
A31: 공구손료 | B31: 인력품의 3% | C31: 식 | D31: 1 | F31: =TRUNC(E31*D31, 0) -> 0 | H31: =TRUNC(G31*D31, 0) -> 0 | J31: =TRUNC(I31*D31, 0) -> 0 | K31: =TRUNC(E31+G31+I31, 0) -> 0 | L31: =TRUNC(F31+H31+J31, 0) -> 0 | N31: 5C4AD3E58467D92F116EBA7B651E002 | Q31: 010101 | R31: F | S31: F | T31: F | U31: 1 | V31: 0 | W31: 0.03 | AU31: 0101015C4AD3E58467D92F116EBA7B651E002 | AV31: 30
Q32: 010101
Q33: 010101
Q34: 010101
Q35: 010101
Q36: 010101
Q37: 010101
Q38: 010101
Q39: 010101
Q40: 010101
Q41: 010101
Q42: 010101
Q43: 010101
... Q50: 010101
A51: [ 합 계 ] | F51: =SUMIF(Q5:Q50,"010101",F5:F50) -> 0 | H51: =SUMIF(Q5:Q50,"010101",H5:H50) -> 0 | J51: =SUMIF(Q5:Q50,"010101",J5:J50) -> 0 | L51: =SUMIF(Q5:Q50,"010101",L5:L50) -> 0 | N51: TOTAL

Sheet 단가산출목록
B1: 단 가 산 출 목 록
B2: [ 학생복지센터냉난방전력간선설비전기공사 ]
A3: 코 드 | B3: 품 명 | C3: 규 격 | D3: 단위 | E3: 재 료 비 | F3: 노 무 비 | G3: 경 비 | H3: 합 계 | I3: 번 호 | J3: 비 고 | K3: START | L3: 품셈개요

Sheet 단가산출서
A1: 단 가 산 출 서
A2: [ 학생복지센터냉난방전력간선설비전기공사 ]
A3: 산 출 내 역 | B3: 재 료 비 | C3: 노 무 비 | D3: 경 비 | E3: 합 계 | F3: 비 고 | G3: START | H3: 코드 | I3: 품명 | J3: 규격 | K3: 단위 | L3: 수량 | M3: 변수 | N3: 값 | O3: 소계 | P3: 소계 | Q3: 소계 | R3: 소계 | S3: 소계 | T3: 총계
A4: ( )
A6: 총 계 | E6: 0

Sheet 공량설정
A1: 공종명 | B1: 적용율(%) | C1: 소수점이하자릿수 | D1: 공종코드
A2: 010101 냉난방전력간선설비공사 | B2: 100 | D2: 010101
A3: 내선전공 | C3: 0 | D3: 0101015D8343E88A1CD45D11639CE792131EF2A5747F
A4: 저압케이블전공 | C4: 0 | D4: 0101015D8343E88A1CD45D11639CE792131EF2A57472

Sheet 공량설정_일위대가
A1: 일위대가 | B1: 적용율(%) | C1: 소수점이하자릿수 | D1: 일위대가 코드
A2: 전선관지지행거(천장) W:300 (호표 1) | B2: 100 | D2: 5D1F03BA8E26B07F116D78B0911337
A3: 내선전공 | C3: 3 | D3: 5D1F03BA8E26B07F116D78B09113375D8343E88A1CD45D11639CE792131EF2A5747F
A4: 전선관지지대(벽체) W:300 (호표 2) | B4: 100 | D4: 5D1F03BA8E26B07F116D79571B053C
A5: 내선전공 | C5: 3 | D5: 5D1F03BA8E26B07F116D79571B053C5D8343E88A1CD45D11639CE792131EF2A5747F
A6: 부스바 가공 및 조립 전규격 (호표 3) | B6: 100 | D6: 5D1F03BA8E419E861166615FB9271B
A7: 보통인부 | C7: 2 | D7: 5D1F03BA8E419E861166615FB9271B5D8343E88A1CD45D11639CE792131EF2A57351
A8: 변전전공 | C8: 2 | D8: 5D1F03BA8E419E861166615FB9271B5D8343E88A1CD45D1163980C02D208A9010587
A9: 덕트설치용 구멍뚫기(손)-Con,c 두께 20cm 이하 0.1㎟ (호표 4) | B9: 100 | D9: 5D1F03BA8EAA1CCB1167D42E920C62
A10: 특별인부 | C10: 1 | D10: 5D1F03BA8EAA1CCB1167D42E920C625D8343E88A1CD45D11639CE792131EF2A57350
A11: 방화폼설치 방화실란트 마감(신설 트레이 관통부분) (호표 5) | B11: 100 | D11: 5D1F03B88317C3DD116BC8ADB1C62B
A12: 방수공 | C12: 3 | D12: 5D1F03B88317C3DD116BC8ADB1C62B5D8343E88A1CD45D11639CE792131EF2A571A0
A13: 방화폼설치 방화실란트 마감(기존 트레이 관통부분) (호표 6) | B13: 100 | D13: 5D1F03B88317C3DD116BC8ADB1C62A
A14: 방수공 | C14: 3 | D14: 5D1F03B88317C3DD116BC8ADB1C62A5D8343E88A1CD45D11639CE792131EF2A571A0
A15: 냉난방 동력함 Con`C PAD 무근, 1100x400x200 (호표 7) | B15: 100 | D15: 5D1F03B883D2DC59116C4232100AFC
A16: 합판거푸집 설치 및 해체 간단 6회, 수직고 7m까지 (호표 8) | B16: 100 | D16: 5D5143F98B7D555B1166615C9A520B
A17: 모르타프 인력운반 타설 무근구조물 (호표 9) | B17: 100 | D17: 5D5143FE83762A151163E2B41ABE12
A18: 콘크리트공 | C18: 2 | D18: 5D5143FE83762A151163E2B41ABE125D8343E88A1CD45D11639CE792131EF2A5724E
A19: 보통인부 | C19: 2 | D19: 5D5143FE83762A151163E2B41ABE125D8343E88A1CD45D11639CE792131EF2A57351
A20: 모르타르 배합(배합품 포함) 배합용적비 1:3, 시멘트, 모래 포함 (호표 10) | B20: 100 | D20: 5D51732C837E1ED5116AD4B8C6D8D2
A21: 보통인부 | C21: 2 | D21: 5D51732C837E1ED5116AD4B8C6D8D25D8343E88A1CD45D11639CE792131EF2A57351
A22: 합판거푸집 - 자재비 6회 (호표 11) | B22: 100 | D22: 5D5143F98B7D555B116708C6ABBA3A
A23: 합판거푸집 - 인력투입 간단, 수직고 7m까지 (호표 12) | B23: 100 | D23: 5D5143F98B7D555B116708C6ABBBC1
A24: 형틀목공 | C24: 1 | D24: 5D5143F98B7D555B116708C6ABBBC15D8343E88A1CD45D11639CE792131EF2A57354
A25: 보통인부 | C25: 2 | D25: 5D5143F98B7D555B116708C6ABBBC15D8343E88A1CD45D11639CE792131EF2A57351

Sheet  공사설정 
A1: 이 Sheet는 수정하지 마십시요
A2: 공사구분 | B2: D | C2: 타이틀
A3: 확정내역 | B3: 원내역
A4: 자재단가적용 | B4: 5
A5: 경비단가적용 | B5: 5
A6: 품목코드형식 | B6: XXXX-XXXX-XXXXXXXXX
A7: 내역금액소수점처리 | B7: C | C7: 1
A8: 일위대가내역소수점처리 | B8: C | C8: 2
A9: 단가명 | B9: 조달청가격 | C9: 거래가격 | D9: 유통물가 | E9: 조사가격1 | F9: 조사가격2 | G9: TTTTT
A10: 환율 | B10: 1472 | C10: 0 | D10: 0
A11: 시간당작업량 | B11: R | C11: 4
A12: 1회 사이클시간 | B12: R | C12: 4
A13: 시간당 작업사이클 | B13: R | C13: 3
A14: 일반변수 | B14: R | C14: 5
A15: 시간당 노임산출 계수 | B15: A | C15: 1/8*16/12*25/20 | D15: 1/8*16/12*25/20 | E15: 1/8*16/12*25/20 | F15: 1
A16: 재료비 할증 계수 | B16: 1.11 | C16: 1.12
A17: 노무비 할증 계수 | B17: 1 | C17: 1.5 | D17: 1.16 | E17: 1.6 | F17: 1.6 | G17: 1.6 | H17: 1.94 | I17: 1.94 | J17: 1.94 | K17: 1 | L17: 1 | M17: 1
A18: 경비 할증 계수 | B18: 1.25 | C18: 1.071
A19: 내역,일위대가 품명,규격,단위 따로적용
A20: 내역단가 소수점처리 | B20: C | C20: 1
A21: 코드 | B21: 공종구분명 | C21: 원가비목코드
A22: 1 | B22: 작 업 부 산 물 | C22: A3
A23: 2 | B23: 운 반 비 | C23: C1
A24: 3 | B24: 관 급 자 재 비 | C24: DJ
A25: 4 | B25: 사 급 자 재 비 | C25: D3
A26: 5 | B26: 외 자 재
A27: 6 | B27: 폐기물처리비
A28: 7 | B28: ...
A29: 8 | B29: ...
A30: 9 | B30: ...
A31: A | B31: ....
A32: B | B32: .....
A33: C | B33: ....
A34: D | B34: ....
A35: E | B35: ....
A36: F | B36: ....
A37: G | B37: ....
A38: H | B38: ....
A39: I | B39: ....
A40: J | B40: ....
A43: 단가 순서 | B43: 1234

Sheet Sheet1
