Workbook
Name _: #REF!
Name _?: #REF!
Name _??1????: #REF!
Name _??2????: #REF!
Name _??3????: #REF!
Name _??4????: #REF!
Name _??5????: #REF!
Name _??6????: #REF!
Name __: #REF!
Name __??1????: #REF!
Name __??2????: #REF!
Name __??3????: #REF!
Name __??4????: #REF!
Name __??5????: #REF!
Name __??6????: #REF!
Name ___: #REF!
Name _______: #REF!
Name ______A300.IV66000: #REF!
Name ______A60000.AZ80000: #REF!
Name ______A61000.AZ70000: #REF!
Name ______A65000.AZ68000: #REF!
Name ______b158.aaa174: #REF!
Name ______JJ21: [2]중기일위대가!$J$25
Name ______JK21: [2]중기일위대가!$K$25
Name ______JN21: [2]중기일위대가!$I$25
Name ______LP1: #REF!
Name ______LP2: #REF!
Name ______SUB1: #REF!
Name ______SUB2: #REF!
Name ______SUB3: #REF!
Name ______sub4: #REF!
Name ______sub5: #REF!
Name _____A300.IV66000: #REF!
Name _____A60000.AZ80000: #REF!
Name _____A61000.AZ70000: #REF!
Name _____A65000.AZ68000: #REF!
Name _____A70000: #REF!
Name _____b158.aaa174: #REF!
Name _____JJ21: [3]중기일위대가!$J$25
Name _____JK21: [3]중기일위대가!$K$25
Name _____JN21: [3]중기일위대가!$I$25
Name _____LP1: #REF!
Name _____LP2: #REF!
Name _____NMB96: #REF!
Name _____SUB1: #REF!
Name _____SUB2: #REF!
Name _____SUB3: #REF!
Name _____sub4: #REF!
Name _____sub5: #REF!
Name ____A1: #REF!
Name ____a1945.za1940: #REF!
Name ____A300.IV66000: #REF!
Name ____A60000.AZ80000: #REF!
Name ____A61000.AZ70000: #REF!
Name ____A65000.AZ68000: #REF!
Name ____A70000: #REF!
Name ____b158.aaa174: #REF!
Name ____D1: #REF!
Name ____D2: #REF!
Name ____DOG1: #REF!

Sheet 원가계산서
B1: 공 사 원 가 계 산 서
B2: 공사명 : 대벌경로당 그린리모델링 건축공사
B3: 비 목 | E3: 금 액 | F3: 구 성 비 | G3: 비 고
A4: A1 | B4: 순 공 사 원 가 | C4: 재 료 비 | D4: 직 접 재 료 비 | E4: =TRUNC('공종별집계표(건축)'!F5, 0) -> 0
A5: A2 | D5: 간 접 재 료 비 | E5: 0
A6: A3 | D6: 작업설, 부산물(△) | E6: 0
A7: AS | D7: [ 소 계 ] | E7: =TRUNC(E4+E5-E6, 0) -> 0
A8: B1 | C8: 노 무 비 | D8: 직 접 노 무 비 | E8: =TRUNC('공종별집계표(건축)'!H5, 0) -> 0
A9: DG | D9: 도 서 할 증 | E9: =TRUNC(E8*0.15 * 0, 0) -> 0 | F9: 도서산간15%
A10: B2 | D10: 간 접 노 무 비 | E10: =TRUNC((E8+E9)*0.175, 0) -> 0 | F10: 직접노무비 * 17.5%
A11: BS | C11: 경 비 | D11: [ 소 계 ] | E11: =TRUNC(E8+E9+E10, 0) -> 0
A12: C2 | D12: 경 비 | E12: =TRUNC('공종별집계표(건축)'!J5, 0) -> 0
A13: C4 | D13: 산 재 보 험 료 | E13: =TRUNC(E11*0.0356, 0) -> 0 | F13: 노무비 * 3.56% | G13: 모든 건설공사에 적용
A14: C5 | D14: 고 용 보 험 료 | E14: =TRUNC(E11*0.0101, 0) -> 0 | F14: 노무비 * 1.01% | G14: 모든 건설공사에 적용
A15: C6 | D15: 국민 건강 보험료 | E15: =TRUNC((E8+E9)*0.03595, 0) -> 0 | F15: 직접노무비 * 3.595% | G15: 공사기간 1개월이상일때 적용
A16: CB | D16: 노인장기요양보험료 | E16: =TRUNC(E15*0.1314, 0) -> 0 | F16: 건강보험료 * 13.14% | G16: 공사기간 1개월이상일때 적용
A17: C7 | D17: 국민 연금 보험료 | E17: =TRUNC((E8+E9)*0.0475, 0) -> 0 | F17: 직접노무비 * 4.75% | G17: 공사기간 1개월이상일때 적용
A18: C8 | D18: 퇴직 공제 부금비 | E18: =TRUNC((E8+E9)*0.023, 0) -> 0 | F18: 직접노무비 * 2.3% | G18: 추정금액 1억원이상일때 적용
A19: CC | D19: 석 면 분 담 금 | E19: =TRUNC(E11*0.00006, 0) -> 0 | F19: 노무비 * 0.006% | G19: 모든 건설공사에 적용
A20: DC | D20: 임금 체권 부담금 | E20: =TRUNC(E11*0.0009, 0) -> 0 | F20: 노무비 * 0.09% | G20: 모든 건설공사에 적용
A21: C9 | D21: 품 질 관 리 비 | E21: 0
A22: CA | D22: 산업안전보건관리비 | E22: =TRUNC((E7+E8+E9+(0/1.1))*0.0311, 0) -> 0 | F22: (재료비+직노+관급자재비) * 3.11% | G22: 도급액+도급자관급 2천만원이상일때 적용
A23: CG | D23: 기 타 경 비 | E23: =TRUNC((E7+E11)*0.05, 0) -> 0 | F23: (재료비+노무비) * 5%
A24: CH | D24: 환 경 보 전 비 | E24: =TRUNC((E7+E8+E9+E12)*0.005, 0) -> 0 | F24: (재료비+직노+경비) * 0.5%
A25: C3 | D25: 환경관리비(직접공사비) | E25: 0
A26: CK | D26: 하도급지급보증수수료 | E26: =TRUNC((E7+E8+E9+E12)*0.00081, 0) -> 0 | F26: (재료비+직노+경비) * 0.081% | G26: 종합건설업일때 적용
A27: CL | D27: 건설기계대여금지급보증서발급수수료 | E27: =TRUNC((E7+E8+E9+E12)*0.0007, 0) -> 0 | F27: (재료비+직노+경비) * 0.07%
A28: CS | D28: [ 소 계 ] | E28: =TRUNC(E12+E25+E13+E14+E15+E17+E18+E21+E22+E16+E19+E23+E24+E26+E27+E19+E20, 0) -> 0
A29: S1 | B29: 계 | E29: =TRUNC(E7+E11+E28, 0) -> 0
A30: D1 | B30: 일 반 관 리 비 | E30: =TRUNC(E29*0.08, 0) -> 0 | F30: 계 * 8%
A31: D2 | B31: 이 윤 | F31: (노무비+경비+일반관리비) * 15%
A32: D3 | B32: 작업부산물(해체) | E32: =TRUNC('공종별집계표(건축)'!T17, 0) -> 0
A33: D5 | B33: 폐 기 물 처 리 | E33: =TRUNC('공종별집계표(건축)'!T18, 0) -> 0
A34: D9 | B34: 공 급 가 액 | E34: =TRUNC(E29+E30+E31+E32+E33, 0) -> 0
A35: DB | B35: 부 가 가 치 세 | E35: =TRUNC(E34*0.1, 0) -> 0 | F35: 공급가액 * 10%
A36: DH | B36: 도 급 액 | E36: =TRUNC(E34+E35, 0) -> 0
A37: S2 | B37: 총 공 사 비 | E37: =TRUNC(E36+0, 0) -> 0

Sheet 공종별집계표(건축)
A1: 공 종 별 집 계 표
A2: [ 대벌경로당 그린리모델링 건축공사 ]
A3: 품 명 | B3: 규 격 | C3: 단위 | D3: 수량 | E3: 재 료 비 | G3: 노 무 비 | I3: 경 비 | K3: 합 계 | M3: 비 고 | N3: 공종코드 | O3: 변수 | P3: 상위공종 | Q3: 공종구분 | R3: 공종레벨 | S3: 공종소계 | T3: 원가계산서 연결금액
E4: 단 가 | F4: 금 액 | G4: 단 가 | H4: 금 액 | I4: 단 가 | J4: 금 액 | K4: 단 가 | L4: 금 액
A5: 01 대벌경로당 그린리모델링 | D5: 1 | E5: =F6+F19 -> 0 | F5: =E5*D5 -> 0 | G5: =H6+H19 -> 0 | H5: =G5*D5 -> 0 | I5: =J6+J19 -> 0 | J5: =I5*D5 -> 0 | K5: =E5+G5+I5 -> 0 | L5: =F5+H5+J5 -> 0 | N5: 01 | R5: 1
A6: 0101 ■■ 건 축 공 사 ■■ / 대벌경로당 | D6: 1 | E6: =F7+F8+F9+F10+F11+F12+F13+F14+F15+F16 -> 0 | F6: =E6*D6 -> 0 | G6: =H7+H8+H9+H10+H11+H12+H13+H14+H15+H16 -> 0 | H6: =G6*D6 -> 0 | I6: =J7+J8+J9+J10+J11+J12+J13+J14+J15+J16 -> 0 | J6: =I6*D6 -> 0 | K6: =E6+G6+I6 -> 0 | L6: =F6+H6+J6 -> 0 | N6: 0101 | P6: 01 | R6: 2
A7: 010101 가 설 공 사 | D7: 1 | E7: ='공종별내역서(건축)'!F26 -> 0 | F7: =E7*D7 -> 0 | G7: ='공종별내역서(건축)'!H26 -> 0 | H7: =G7*D7 -> 0 | I7: ='공종별내역서(건축)'!J26 -> 0 | J7: =I7*D7 -> 0 | K7: =E7+G7+I7 -> 0 | L7: =F7+H7+J7 -> 0 | N7: 010101 | P7: 0101 | R7: 3
A8: 010102 타 일 공 사 | D8: 1 | E8: ='공종별내역서(건축)'!F49 -> 0 | F8: =E8*D8 -> 0 | G8: ='공종별내역서(건축)'!H49 -> 0 | H8: =G8*D8 -> 0 | I8: ='공종별내역서(건축)'!J49 -> 0 | J8: =I8*D8 -> 0 | K8: =E8+G8+I8 -> 0 | L8: =F8+H8+J8 -> 0 | N8: 010102 | P8: 0101 | R8: 3
A9: 010103 목공사및수장공사 | D9: 1 | E9: ='공종별내역서(건축)'!F72 -> 0 | F9: =E9*D9 -> 0 | G9: ='공종별내역서(건축)'!H72 -> 0 | H9: =G9*D9 -> 0 | I9: ='공종별내역서(건축)'!J72 -> 0 | J9: =I9*D9 -> 0 | K9: =E9+G9+I9 -> 0 | L9: =F9+H9+J9 -> 0 | N9: 010103 | P9: 0101 | R9: 3
A10: 010104 금 속 공 사 | D10: 1 | E10: ='공종별내역서(건축)'!F95 -> 0 | F10: =E10*D10 -> 0 | G10: ='공종별내역서(건축)'!H95 -> 0 | H10: =G10*D10 -> 0 | I10: ='공종별내역서(건축)'!J95 -> 0 | J10: =I10*D10 -> 0 | K10: =E10+G10+I10 -> 0 | L10: =F10+H10+J10 -> 0 | N10: 010104 | P10: 0101 | R10: 3
A11: 010105 창 호 공 사 | D11: 1 | E11: ='공종별내역서(건축)'!F141 -> 0 | F11: =E11*D11 -> 0 | G11: ='공종별내역서(건축)'!H141 -> 0 | H11: =G11*D11 -> 0 | I11: ='공종별내역서(건축)'!J141 -> 0 | J11: =I11*D11 -> 0 | K11: =E11+G11+I11 -> 0 | L11: =F11+H11+J11 -> 0 | N11: 010105 | P11: 0101 | R11: 3
A12: 010106 유 리 공 사 | D12: 1 | E12: ='공종별내역서(건축)'!F164 -> 0 | F12: =E12*D12 -> 0 | G12: ='공종별내역서(건축)'!H164 -> 0 | H12: =G12*D12 -> 0 | I12: ='공종별내역서(건축)'!J164 -> 0 | J12: =I12*D12 -> 0 | K12: =E12+G12+I12 -> 0 | L12: =F12+H12+J12 -> 0 | N12: 010106 | P12: 0101 | R12: 3
A13: 010107 칠 공 사 | D13: 1 | E13: ='공종별내역서(건축)'!F187 -> 0 | F13: =E13*D13 -> 0 | G13: ='공종별내역서(건축)'!H187 -> 0 | H13: =G13*D13 -> 0 | I13: ='공종별내역서(건축)'!J187 -> 0 | J13: =I13*D13 -> 0 | K13: =E13+G13+I13 -> 0 | L13: =F13+H13+J13 -> 0 | N13: 010107 | P13: 0101 | R13: 3
A14: 010108 기 타 공 사 | D14: 1 | E14: ='공종별내역서(건축)'!F210 -> 0 | F14: =E14*D14 -> 0 | G14: ='공종별내역서(건축)'!H210 -> 0 | H14: =G14*D14 -> 0 | I14: ='공종별내역서(건축)'!J210 -> 0 | J14: =I14*D14 -> 0 | K14: =E14+G14+I14 -> 0 | L14: =F14+H14+J14 -> 0 | N14: 010108 | P14: 0101 | R14: 3
A15: 010109 골 재 비 | D15: 1 | E15: ='공종별내역서(건축)'!F233 -> 0 | F15: =E15*D15 -> 0 | G15: ='공종별내역서(건축)'!H233 -> 0 | H15: =G15*D15 -> 0 | I15: ='공종별내역서(건축)'!J233 -> 0 | J15: =I15*D15 -> 0 | K15: =E15+G15+I15 -> 0 | L15: =F15+H15+J15 -> 0 | N15: 010109 | P15: 0101 | R15: 3
A16: 010110 해 체 공 사 | D16: 1 | E16: ='공종별내역서(건축)'!F256 -> 0 | F16: =E16*D16 -> 0 | G16: ='공종별내역서(건축)'!H256 -> 0 | H16: =G16*D16 -> 0 | I16: ='공종별내역서(건축)'!J256 -> 0 | J16: =I16*D16 -> 0 | K16: =E16+G16+I16 -> 0 | L16: =F16+H16+J16 -> 0 | N16: 010110 | P16: 0101 | R16: 3
A17: 010111 작업부산물(해체) | D17: 1 | E17: ='공종별내역서(건축)'!F279 -> 0 | F17: =E17*D17 -> 0 | G17: ='공종별내역서(건축)'!H279 -> 0 | H17: =G17*D17 -> 0 | I17: ='공종별내역서(건축)'!J279 -> 0 | J17: =I17*D17 -> 0 | K17: =E17+G17+I17 -> 0 | L17: =F17+H17+J17 -> 0 | N17: 010111 | Q17: 4 | R17: 3 | T17: =L17*1 -> 0
A18: 010112 건설폐기물처리비 | D18: 1 | E18: ='공종별내역서(건축)'!F302 -> 0 | F18: =E18*D18 -> 0 | G18: ='공종별내역서(건축)'!H302 -> 0 | H18: =G18*D18 -> 0 | I18: ='공종별내역서(건축)'!J302 -> 0 | J18: =I18*D18 -> 0 | K18: =E18+G18+I18 -> 0 | L18: =F18+H18+J18 -> 0 | N18: 010112 | Q18: 9 | R18: 3 | T18: =L18*1 -> 0
A19: 0102 ■■ 기계 설비 공사 ■■ / 대벌경로당 | D19: 1 | E19: =F20 -> 0 | F19: =E19*D19 -> 0 | G19: =H20 -> 0 | H19: =G19*D19 -> 0 | I19: =J20 -> 0 | J19: =I19*D19 -> 0 | K19: =E19+G19+I19 -> 0 | L19: =F19+H19+J19 -> 0 | N19: 0102 | P19: 01 | R19: 2
A20: 010201 기계 설비 공사 | D20: 1 | E20: ='공종별내역서(건축)'!F325 -> 0 | F20: =E20*D20 -> 0 | G20: ='공종별내역서(건축)'!H325 -> 0 | H20: =G20*D20 -> 0 | I20: ='공종별내역서(건축)'!J325 -> 0 | J20: =I20*D20 -> 0 | K20: =E20+G20+I20 -> 0 | L20: =F20+H20+J20 -> 0 | N20: 010201 | P20: 0102 | R20: 3
A26: [ 합 계 ] | F26: =F5 -> 0 | H26: =H5 -> 0 | J26: =J5 -> 0 | L26: =L5 -> 0

Sheet 공종별내역서(건축)
A1: [ 대벌경로당 그린리모델링 건축공사 ]
A2: 품 명 | B2: 규 격 | C2: 단위 | D2: 수량 | E2: 재 료 비 | G2: 노 무 비 | I2: 경 비 | K2: 합 계 | M2: 비 고 | N2: 품목코드 | O2: 변수 | P2: 설정 | Q2: 공종코드 | R2: 일위 | S2: 단산 | T2: 자재 | U2: 손료적용 | V2: 손료저장 | W2: 적용율 | X2: JUK1 | Y2: JUK2 | Z2: JUK3 | AA2: JUK4 | AB2: JUK5 | AC2: JUK6 | AD2: JUK7 | AE2: JUK8 | AF2: JUK9 | AG2: JUK10 | AH2: JUK11 | AI2: JUK12 | AJ2: JUK13 | AK2: JUK14 | AL2: JUK15 | AM2: JUK16 | AN2: JUK17 | AO2: JUK18 | AP2: JUK19 | AQ2: JUK20 | AR2: 자재구분 | AS2: 공종구분 | AT2: 공종레벨 | AU2: 공종+자재 | AV2: 고유번호 | AY2: 필수공사 | BP2: 선택공사 | BY2: 추가지원 | CE2: 비고
E3: 단 가 | F3: 금 액 | G3: 단 가 | H3: 금 액 | I3: 단 가 | J3: 금 액 | K3: 단 가 | L3: 금 액 | AY3: 벽_외단열 | AZ3: 벽_내단열 | BA3: 지붕_외단열 | BB3: 지붕_내단열 | BC3: 바닥 | BD3: 창호 | BE3: 문 | BF3: 폐열회수 | BG3: 냉난방기 | BH3: 보일러 | BI3: LED | BJ3: 태양광 | BK3: BEMS | BL3: 원격검침 | BM3: 쿨루프 | BN3: 선도기술 (솔라, 풍력, ESS, 광덕트) | BO3: 건축가설(단열/창호 공사용) | BP3: 조경 | BQ3: 일사조절 | BR3: EPD_벽지 | BS3: EPD_천장재 | BT3: EPD_바닥재 | BU3: 창호기밀시공 | BV3: 순간온수기 | BW3: 세면기 | BX3: 변기 | BY3: 철거 및 폐기물 | BZ3: 구조안전보강 | CA3: 석면 | CB3: 건축 관련 | CC3: 기계 관련 | CD3: 전기 관련 | CF3: ='[119]공종별집계표(건축)'!L6+'[119]공종별집계표(건축)'!L16+'[119]공종별집계표(건축)'!L17 -> 70180397
A4: 010101 가 설 공 사 | Q4: 010101 | AY4: =SUMIFS($L$5:$L$479,AY$5:AY$479,"O",$AX$5:$AX$479,"도급")+SUMIFS($L$5:$L$479,AY$5:AY$479,"O",$AX$5:$AX$479,"관급")/1.1 -> 0 | AZ4: =SUMIFS($L$5:$L$479,AZ$5:AZ$479,"O",$AX$5:$AX$479,"도급")+SUMIFS($L$5:$L$479,AZ$5:AZ$479,"O",$AX$5:$AX$479,"관급")/1.1 -> 0 | BA4: =SUMIFS($L$5:$L$479,BA$5:BA$479,"O",$AX$5:$AX$479,"도급")+SUMIFS($L$5:$L$479,BA$5:BA$479,"O",$AX$5:$AX$479,"관급")/1.1 -> 0 | BB4: =SUMIFS($L$5:$L$479,BB$5:BB$479,"O",$AX$5:$AX$479,"도급")+SUMIFS($L$5:$L$479,BB$5:BB$479,"O",$AX$5:$AX$479,"관급")/1.1 -> 0 | BC4: =SUMIFS($L$5:$L$479,BC$5:BC$479,"O",$AX$5:$AX$479,"도급")+SUMIFS($L$5:$L$479,BC$5:BC$479,"O",$AX$5:$AX$479,"관급")/1.1 -> 0 | BD4: =SUMIFS($L$5:$L$479,BD$5:BD$479,"O",$AX$5:$AX$479,"도급")+SUMIFS($L$5:$L$479,BD$5:BD$479,"O",$AX$5:$AX$479,"관급")/1.1 -> 0 | BE4: =SUMIFS($L$5:$L$479,BE$5:BE$479,"O",$AX$5:$AX$479,"도급")+SUMIFS($L$5:$L$479,BE$5:BE$479,"O",$AX$5:$AX$479,"관급")/1.1 -> 0 | BF4: =SUMIFS($L$5:$L$479,BF$5:BF$479,"O",$AX$5:$AX$479,"도급")+SUMIFS($L$5:$L$479,BF$5:BF$479,"O",$AX$5:$AX$479,"관급")/1.1 -> 0 | ... CD4: =SUMIFS($L$5:$L$479,CD$5:CD$479,"O",$AX$5:$AX$479,"도급")+SUMIFS($L$5:$L$479,CD$5:CD$479,"O",$AX$5:$AX$479,"관급")/1.1 -> 0 | CF4: =SUM(AY4:CD4)-((L351+L352+L353+L354)/1.1+L355) -> 0 | CG4: =SUM(AY4:CD4) -> 0
A5: 강관 조립말비계(이동식)설치 및 해체 | B5: 높이 2m, 3개월 | C5: 대 | D5: 2 | M5: 호표 1 | N5: 5E5BC48DF2A07B1672A70AA187F6FD | Q5: 010101 | R5: T | S5: F | T5: F | AU5: 0101015E5BC48DF2A07B1672A70AA187F6FD | AV5: 201 | AX5: 도급 | BO5: o
A6: 건축물 현장정리 | B6: 리모델링(집기이전설치/준공청소포함) | C6: 인 | D6: 2 | M6: 호표 2 | N6: 5E5BC488726078F62887AE33BAB4E1 | Q6: 010101 | R6: T | S6: F | T6: F | AU6: 0101015E5BC488726078F62887AE33BAB4E1 | AV6: 203 | AX6: 도급 | CB6: o
A7: 건축물보양 - 타일면 | B7: 보양지 붙이기 | C7: M2 | D7: 11 | M7: 호표 3 | N7: 5E5BC48872507E2526C7E4132D7ACF | Q7: 010101 | R7: T | S7: F | T7: F | AU7: 0101015E5BC48872507E2526C7E4132D7ACF | AV7: 204 | AX7: 도급 | CB7: o
Q8: 010101
Q9: 010101
Q10: 010101
Q11: 010101
Q12: 010101
Q13: 010101
Q14: 010101
Q15: 010101
Q16: 010101
Q17: 010101
Q18: 010101
Q19: 010101
... Q25: 010101
A26: [ 합 계 ] | N26: TOTAL
A27: 010102 타 일 공 사 | Q27: 010102
A28: 자기질타일 | B28: 바닥, 300*300mm | C28: M2 | D28: 11 | M28: 자재 15 | N28: 5979F45422707B022C1791EF85DA3A522B8ADA | Q28: 010102 | R28: F | S28: F | T28: T | AU28: 0101025979F45422707B022C1791EF85DA3A522B8ADA | AV28: 206 | AX28: 도급 | CB28: o
A29: 타일 압착 붙이기(바탕 15mm+압 5mm) | B29: 바닥, 300*300(일반C, 백색줄눈) | C29: M2 | D29: 11 | M29: 호표 4 | N29: 5E5B04BA029077598F37B5D39D9F9D | Q29: 010102 | R29: T | S29: F | T29: F | AU29: 0101025E5B04BA029077598F37B5D39D9F9D | AV29: 209 | AX29: 도급 | CB29: o
A30: 도기질타일 | B30: 벽, 300*300 | C30: M2 | D30: 42 | M30: 자재 16 | N30: 5979F45422707B022C1791EF85DA3A522AE1A3 | Q30: 010102 | R30: F | S30: F | T30: T | AU30: 0101025979F45422707B022C1791EF85DA3A522AE1A3 | AV30: 207 | AX30: 도급 | CB30: o
A31: 타일 붙임 / 접착 붙이기 | B31: 벽, 타일 0.04∼0.10m2 이하, 25m2/일당 | C31: M2 | D31: 41 | M31: 호표 5 | N31: 5E5B04BA02B0720A2047E250AEAEC0 | Q31: 010102 | R31: T | S31: F | T31: F | AU31: 0101025E5B04BA02B0720A2047E250AEAEC0 | AV31: 208 | AX31: 도급 | CB31: o
Q32: 010102
Q33: 010102
Q34: 010102
Q35: 010102
Q36: 010102
Q37: 010102
Q38: 010102
Q39: 010102
Q40: 010102
Q41: 010102
Q42: 010102
Q43: 010102
... Q48: 010102
A49: [ 합 계 ] | N49: TOTAL
A50: 010103 목공사및수장공사 | Q50: 010103
A51: 비닐시트 깔기 - 전면접합(EPD) | B51: 비닐시트, 2.0t | C51: M2 | D51: 100 | M51: 호표 6 | N51: 5E5B2489A25079FF51071A811011FC | Q51: 010103 | R51: T | S51: F | T51: F | AU51: 0101035E5B2489A25079FF51071A811011FC | AV51: 211 | AX51: 도급 | BT51: o
A52: 도배바름(합판·석고보드면)(EPD) | B52: 벽, 비닐벽지, 실크형 | C52: M2 | D52: 191 | M52: 호표 7 | N52: 5E5B248A42A075A460A7B135A1DCC0 | Q52: 010103 | R52: T | S52: F | T52: F | AU52: 0101035E5B248A42A075A460A7B135A1DCC0 | AV52: 213 | AX52: 도급 | BR52: o
A53: 도배바름(합판·석고보드면)(EPD) | B53: 천장, 비닐벽지, 실크형 | C53: M2 | D53: 104 | M53: 호표 8 | N53: 5E5B248A42A075A40E2793CE95F98E | Q53: 010103 | R53: T | S53: F | T53: F | AU53: 0101035E5B248A42A075A40E2793CE95F98E | AV53: 214 | AX53: 도급 | BS53: o
A54: 열경화성수지천장판 설치 | B54: SMC, 1.2*600*600mm (틀 포함) | C54: M2 | D54: 4 | M54: 호표 9 | N54: 5E5B248B52307786A5171AB3B54611 | Q54: 010103 | R54: T | S54: F | T54: F | AU54: 0101035E5B248B52307786A5171AB3B54611 | AV54: 215 | AX54: 도급 | CB54: o
A55: 석고판 설치(접착제) | B55: 벽, 일반 GB9.5t 2겹 | C55: M2 | D55: 164 | M55: 호표 10 | N55: 5E5B248B52007A741287B5D99616AD | Q55: 010103 | R55: T | S55: F | T55: F | AU55: 0101035E5B248B52007A741287B5D99616AD | AV55: 216 | AX55: 도급 | AZ55: o
A56: 석고판 설치(접착제) | B56: 벽, 방수 GB9.5t 2겹 | C56: M2 | D56: 20 | M56: 호표 11 | N56: 5E5B248B52007A741287B5D99616A9 | Q56: 010103 | R56: T | S56: F | T56: F | AU56: 0101035E5B248B52007A741287B5D99616A9 | AV56: 217 | AX56: 도급 | AZ56: o
A57: 석고판 설치 | B57: 천장, 일반 GB9.5t 2겹 | C57: M2 | D57: 106 | M57: 호표 12 | N57: 5E5B248B52007A742CE7D8A9B067D9 | Q57: 010103 | R57: T | S57: F | T57: F | AU57: 0101035E5B248B52007A742CE7D8A9B067D9 | AV57: 218 | AX57: 도급 | BB57: o
A58: EPS단열재설치 | B58: 벽, 125mm(가등급/준불연) | C58: M2 | D58: 179 | M58: 호표 13 | N58: 5E5B248C72807578D0E71FC4DE9C77 | Q58: 010103 | R58: T | S58: F | T58: F | AU58: 0101035E5B248C72807578D0E71FC4DE9C77 | AV58: 221 | AX58: 도급 | AZ58: o
A59: EPS단열재설치 | B59: 천정, 180mm(가등급/준불연) | C59: M2 | D59: 122 | M59: 호표 14 | N59: 5E5B248C72807578D0E71FC4DE9B50 | Q59: 010103 | R59: T | S59: F | T59: F | AU59: 0101035E5B248C72807578D0E71FC4DE9B50 | AV59: 222 | AX59: 도급 | BB59: o
A60: 걸레받이 설치 - 중밀도섬유판 | B60: T=9, H=100(필름지/방염) | C60: M | D60: 66 | M60: 호표 15 | N60: 5E5B2489A21072070817F9253D43A7 | Q60: 010103 | R60: T | S60: F | T60: F | AU60: 0101035E5B2489A21072070817F9253D43A7 | AV60: 727 | AX60: 도급 | CB60: o
Q61: 010103
Q62: 010103
Q63: 010103
Q64: 010103
Q65: 010103
Q66: 010103
Q67: 010103
Q68: 010103
Q69: 010103
Q70: 010103
Q71: 010103
A72: [ 합 계 ] | N72: TOTAL
A73: 010104 금 속 공 사 | Q73: 010104
A74: 경량천장철골틀 설치 | B74: M-BAR | C74: M2 | D74: 106 | M74: 호표 16 | N74: 5E5B7403A2807986E4870E3038EBAA | Q74: 010104 | R74: T | S74: F | T74: F | AU74: 0101045E5B7403A2807986E4870E3038EBAA | AV74: 226 | AX74: 도급 | BB74: o
A75: AL몰딩 설치/마이너스몰딩 | B75: W형, 15*15*15*15*1.0mm | C75: M | D75: 130 | M75: 호표 17 | N75: 5E5B248162D0710037272C837973C3 | Q75: 010104 | R75: T | S75: F | T75: F | AU75: 0101045E5B248162D0710037272C837973C3 | AV75: 227 | AX75: 도급 | CB75: o
Q76: 010104
Q77: 010104
Q78: 010104
Q79: 010104
Q80: 010104
Q81: 010104
Q82: 010104
Q83: 010104
Q84: 010104
Q85: 010104
Q86: 010104
Q87: 010104
... Q94: 010104
A95: [ 합 계 ] | N95: TOTAL
A96: 010105 창 호 공 사 | Q96: 010105
A97: PW01 | B97: 0.500 x 1.200 = 0.600 | C97: EA | D97: 2 | M97: 호표 18 | N97: 5E5B14A372107BC21677EFA63B8494 | Q97: 010105 | R97: T | S97: F | T97: F | AU97: 0101055E5B14A372107BC21677EFA63B8494 | AV97: 720 | AX97: 도급 | BD97: o
A98: PW02 | B98: 1.500 x 1.500 = 2.250(방충망포함) | C98: EA | D98: 7 | M98: 호표 19 | N98: 5E5B14A372107BC21677EFA63B8495 | Q98: 010105 | R98: T | S98: F | T98: F | AU98: 0101055E5B14A372107BC21677EFA63B8495 | AV98: 721 | AX98: 도급 | BD98: o
A99: PW03 | B99: 1.200 x 1.500 = 1.800(방충망포함) | C99: EA | D99: 1 | M99: 호표 20 | N99: 5E5B14A372107BC21677EFA63B8492 | Q99: 010105 | R99: T | S99: F | T99: F | AU99: 0101055E5B14A372107BC21677EFA63B8492 | AV99: 722 | AX99: 도급 | BD99: o
A100: PW04 | B100: 1.000 x 1.000 = 1.000(방충망포함) | C100: EA | D100: 1 | M100: 호표 21 | N100: 5E5B14A372107BC21677EFA63B8493 | Q100: 010105 | R100: T | S100: F | T100: F | AU100: 0101055E5B14A372107BC21677EFA63B8493 | AV100: 723 | AX100: 도급 | BD100: o
A101: PW05 | B101: 0.550 x 0.550 = 0.302(방충망포함) | C101: EA | D101: 2 | M101: 호표 22 | N101: 5E5B14A372107BC21677EFA63B8490 | Q101: 010105 | R101: T | S101: F | T101: F | AU101: 0101055E5B14A372107BC21677EFA63B8490 | AV101: 724 | AX101: 도급 | BD101: o
A102: 창호기밀테이프 | C102: M | D102: 63 | M102: 호표 23 | N102: 5E5B14A372107BC21677EFA64A05A2 | Q102: 010105 | R102: T | S102: F | T102: F | AU102: 0101055E5B14A372107BC21677EFA64A05A2 | AV102: 729 | AX102: 도급 | BU102: o
A103: SD01 | B103: 1.200 x 2.500 = 3.000 | C103: EA | D103: 1 | M103: 호표 24 | N103: 5E5B14A372107BC21677EFA63B8646 | Q103: 010105 | R103: T | S103: F | T103: F | AU103: 0101055E5B14A372107BC21677EFA63B8646 | AV103: 730 | AX103: 도급 | BE103: o
A104: SD02 | B104: 0.800 x 2.000 = 1.600 | C104: EA | D104: 1 | M104: 호표 25 | N104: 5E5B14A372107BC21677EFA63B8644 | Q104: 010105 | R104: T | S104: F | T104: F | AU104: 0101055E5B14A372107BC21677EFA63B8644 | AV104: 242 | AX104: 도급 | BE104: o
A105: SD03 | B105: 1.200 x 2.500 = 3.000 | C105: EA | D105: 1 | M105: 호표 26 | N105: 5E5B14A372107BC21677EFA63B864A | Q105: 010105 | R105: T | S105: F | T105: F | AU105: 0101055E5B14A372107BC21677EFA63B864A | AV105: 243 | AX105: 도급 | BE105: o
A106: SD04 | B106: 1.800 x 2.500 = 4.500 | C106: EA | D106: 1 | M106: 호표 27 | N106: 5E5B14A372107BC21677EFA63B876B | Q106: 010105 | R106: T | S106: F | T106: F | AU106: 0101055E5B14A372107BC21677EFA63B876B | AV106: 244 | AX106: 도급 | BE106: o
A107: SD06 | B107: 0.900 x 2.000 = 1.800 | C107: EA | D107: 2 | M107: 호표 28 | N107: 5E5B14A372107BC21677EFA63B8768 | Q107: 010105 | R107: T | S107: F | T107: F | AU107: 0101055E5B14A372107BC21677EFA63B8768 | AV107: 679 | AX107: 도급 | BE107: o
A108: WD01 | B108: 1.800 x 2.000 = 3.600 | C108: EA | D108: 2 | M108: 호표 29 | N108: 5E5B14A372107BC21677EFA63B8769 | Q108: 010105 | R108: T | S108: F | T108: F | AU108: 0101055E5B14A372107BC21677EFA63B8769 | AV108: 690 | AX108: 도급 | BE108: o
A109: WD02 | B109: 3.000 x 2.000 = 6.000 | C109: EA | D109: 1 | M109: 호표 30 | N109: 5E5B14A372107BC21677EFA63B876E | Q109: 010105 | R109: T | S109: F | T109: F | AU109: 0101055E5B14A372107BC21677EFA63B876E | AV109: 691 | AX109: 도급 | BE109: o
A110: WD03 | B110: 0.900 x 2.000 = 1.800 | C110: EA | D110: 2 | M110: 호표 31 | N110: 5E5B14A372107BC21677EFA63B876F | Q110: 010105 | R110: T | S110: F | T110: F | AU110: 0101055E5B14A372107BC21677EFA63B876F | AV110: 692 | AX110: 도급 | BE110: o
A111: WD04 | B111: 0.800 x 2.000 = 1.600 | D111: 1 | M111: 호표 32 | N111: 5E5B14A372107BC21677EFA63B876C | Q111: 010105 | R111: T | S111: F | T111: F | AU111: 0101055E5B14A372107BC21677EFA63B876C | AV111: 693 | AX111: 도급 | BE111: o
A112: 금속레일 | B112: 금속레일, 황동, 압출, 180cm | C112: M | D112: 13 | M112: 자재 11 | N112: 5979F45422407FF330D76176E89E9CB07D8330 | Q112: 010105 | R112: F | S112: F | T112: T | AU112: 0101055979F45422407FF330D76176E89E9CB07D8330 | AV112: 694 | AX112: 도급 | BE112: o
A113: 도어클로저 | B113: 도어클로저, K-630, KS3호, 표준형, 40∼60kg | C113: 조 | D113: 6 | M113: 자재 37 | N113: 5979F45422307D7071D7D5A4BBE6FFB6DA0082 | Q113: 010105 | R113: F | S113: F | T113: T | AU113: 0101055979F45422307D7071D7D5A4BBE6FFB6DA0082 | AV113: 231 | AX113: 도급 | BE113: o
A114: 도어힌지 | B114: 히든경첩 | C114: 개 | D114: 27 | M114: 자재 49 | N114: 5979E44FE2607EA940475ACDA63DA6C939B678 | Q114: 010105 | R114: F | S114: F | T114: T | AU114: 0101055979E44FE2607EA940475ACDA63DA6C939B678 | AV114: 232 | AX114: 도급 | BE114: o
A115: 도어핸들 | B115: 도어핸들, 8300, 2CA, 스테인리스 | C115: 조 | D115: 9 | M115: 자재 50 | N115: 5979E44FE2607EA98FF780374FC8CF44578FF9 | Q115: 010105 | R115: F | S115: F | T115: T | AU115: 0101055979E44FE2607EA98FF780374FC8CF44578FF9 | AV115: 233 | AX115: 도급 | BE115: o
...

Sheet 공종별집계표(기계)
A1: 공 종 별 집 계 표
A2: [ 대벌경로당 그린리모델링 기계공사 ]
A3: 품 명 | B3: 규 격 | C3: 단위 | D3: 수량 | E3: 재 료 비 | G3: 노 무 비 | I3: 경 비 | K3: 합 계 | M3: 비 고 | N3: 공종코드 | O3: 변수 | P3: 상위공종 | Q3: 공종구분 | R3: 공종레벨 | S3: 공종소계 | T3: 원가계산서 연결금액
E4: 단 가 | F4: 금 액 | G4: 단 가 | H4: 금 액 | I4: 단 가 | J4: 금 액 | K4: 단 가 | L4: 금 액
A5: 01 신안군 그린리모델링 | D5: 1 | E5: =F6 -> 0 | F5: =E5*D5 -> 0 | G5: =H6 -> 0 | H5: =G5*D5 -> 0 | I5: =J6 -> 0 | J5: =I5*D5 -> 0 | K5: =E5+G5+I5 -> 0 | L5: =F5+H5+J5 -> 0 | N5: 01 | R5: 1
A6: 0101 대벌 경로당 그린리모델링 | D6: 1 | E6: =F7 -> 0 | F6: =E6*D6 -> 0 | G6: =H7 -> 0 | H6: =G6*D6 -> 0 | I6: =J7 -> 0 | J6: =I6*D6 -> 0 | K6: =E6+G6+I6 -> 0 | L6: =F6+H6+J6 -> 0 | N6: 0101 | P6: 01 | R6: 2
A7: 010101 기계설비공사 | D7: 1 | E7: =F8+F9+F10+F11 -> 0 | F7: =E7*D7 -> 0 | G7: =H8+H9+H10+H11 -> 0 | H7: =G7*D7 -> 0 | I7: =J8+J9+J10+J11 -> 0 | J7: =I7*D7 -> 0 | K7: =E7+G7+I7 -> 0 | L7: =F7+H7+J7 -> 0 | N7: 010101 | P7: 0101 | R7: 3
A8: 01010101 위생기구설치공사 | D8: 1 | E8: ='공종별내역서(기계)'!F27 -> 0 | F8: =E8*D8 -> 0 | G8: ='공종별내역서(기계)'!H27 -> 0 | H8: =G8*D8 -> 0 | I8: ='공종별내역서(기계)'!J27 -> 0 | J8: =I8*D8 -> 0 | K8: =E8+G8+I8 -> 0 | L8: =F8+H8+J8 -> 0 | N8: 01010101 | P8: 010101 | R8: 4
A9: 01010102 가스배관공사 | D9: 1 | E9: ='공종별내역서(기계)'!F51 -> 0 | F9: =E9*D9 -> 0 | G9: ='공종별내역서(기계)'!H51 -> 0 | H9: =G9*D9 -> 0 | I9: ='공종별내역서(기계)'!J51 -> 0 | J9: =I9*D9 -> 0 | K9: =E9+G9+I9 -> 0 | L9: =F9+H9+J9 -> 0 | N9: 01010102 | P9: 010101 | R9: 4
A10: 01010103 철거공사 | D10: 1 | E10: ='공종별내역서(기계)'!F75 -> 0 | F10: =E10*D10 -> 0 | G10: ='공종별내역서(기계)'!H75 -> 0 | H10: =G10*D10 -> 0 | I10: ='공종별내역서(기계)'!J75 -> 0 | J10: =I10*D10 -> 0 | K10: =E10+G10+I10 -> 0 | L10: =F10+H10+J10 -> 0 | N10: 01010103 | P10: 010101 | R10: 4
A11: 01010104 냉난방기설치공사 | D11: 1 | E11: ='공종별내역서(기계)'!F99 -> 0 | F11: =E11*D11 -> 0 | G11: ='공종별내역서(기계)'!H99 -> 0 | H11: =G11*D11 -> 0 | I11: ='공종별내역서(기계)'!J99 -> 0 | J11: =I11*D11 -> 0 | K11: =E11+G11+I11 -> 0 | L11: =F11+H11+J11 -> 0 | N11: 01010104 | P11: 010101 | R11: 4
A27: [ 합 계 ] | F27: =F5 -> 0 | H27: =H5 -> 0 | J27: =J5 -> 0 | L27: =L5 -> 0

Sheet 공종별내역서(기계)
A1: [ 대벌경로당 그린리모델링 기계공사 ]
A2: 품 명 | B2: 규 격 | C2: 단위 | D2: 수량 | E2: 재 료 비 | G2: 노 무 비 | I2: 경 비 | K2: 합 계 | M2: 비 고 | N2: 품목코드 | O2: 변수 | P2: 설정 | Q2: 공종코드 | R2: 일위 | S2: 단산 | T2: 자재 | U2: 손료적용 | V2: 손료저장 | W2: 적용율 | X2: JUK1 | Y2: JUK2 | Z2: JUK3 | AA2: JUK4 | AB2: JUK5 | AC2: JUK6 | AD2: JUK7 | AE2: JUK8 | AF2: JUK9 | AG2: JUK10 | AH2: JUK11 | AI2: JUK12 | AJ2: JUK13 | AK2: JUK14 | AL2: JUK15 | AM2: JUK16 | AN2: JUK17 | AO2: JUK18 | AP2: JUK19 | AQ2: JUK20 | AR2: 자재구분 | AS2: 공종구분 | AT2: 공종레벨 | AU2: 공종+자재 | AV2: 고유번호 | AY2: 필수공사 | BP2: 선택공사 | BY2: 추가지원 | CE2: 비고
E3: 단 가 | F3: 금 액 | G3: 단 가 | H3: 금 액 | I3: 단 가 | J3: 금 액 | K3: 단 가 | L3: 금 액 | AY3: 벽_외단열 | AZ3: 벽_내단열 | BA3: 지붕_외단열 | BB3: 지붕_내단열 | BC3: 바닥 | BD3: 창호 | BE3: 문 | BF3: 폐열회수 | BG3: 냉난방기 | BH3: 보일러 | BI3: LED | BJ3: 태양광 | BK3: BEMS | BL3: 원격검침 | BM3: 쿨루프 | BN3: 선도기술 (솔라, 풍력, ESS, 광덕트) | BO3: 건축가설(단열/창호 공사용) | BP3: 조경 | BQ3: 일사조절 | BR3: EPD_벽지 | BS3: EPD_천장재 | BT3: EPD_페인트 | BU3: 에어샤워 | BV3: 순간온수기 | BW3: 세면기 | BX3: 변기 | BY3: 철거 및 폐기물 | BZ3: 구조안전보강 | CA3: 석면 | CB3: 건축 관련 | CC3: 기계 관련 | CD3: 전기 관련 | CF3: ='공종별집계표(기계)'!L27 -> 0
A4: 01010101 위생기구설치공사 | Q4: 01010101 | AY4: =SUMIFS($L$5:$L$470,AY$5:AY$470,"O",$AX$5:$AX$470,"도급")+SUMIFS($L$5:$L$470,AY$5:AY$470,"O",$AX$5:$AX$470,"관급")/1.1 -> 0 | AZ4: =SUMIFS($L$5:$L$470,AZ$5:AZ$470,"O",$AX$5:$AX$470,"도급")+SUMIFS($L$5:$L$470,AZ$5:AZ$470,"O",$AX$5:$AX$470,"관급")/1.1 -> 0 | BA4: =SUMIFS($L$5:$L$470,BA$5:BA$470,"O",$AX$5:$AX$470,"도급")+SUMIFS($L$5:$L$470,BA$5:BA$470,"O",$AX$5:$AX$470,"관급")/1.1 -> 0 | BB4: =SUMIFS($L$5:$L$470,BB$5:BB$470,"O",$AX$5:$AX$470,"도급")+SUMIFS($L$5:$L$470,BB$5:BB$470,"O",$AX$5:$AX$470,"관급")/1.1 -> 0 | BC4: =SUMIFS($L$5:$L$470,BC$5:BC$470,"O",$AX$5:$AX$470,"도급")+SUMIFS($L$5:$L$470,BC$5:BC$470,"O",$AX$5:$AX$470,"관급")/1.1 -> 0 | BD4: =SUMIFS($L$5:$L$470,BD$5:BD$470,"O",$AX$5:$AX$470,"도급")+SUMIFS($L$5:$L$470,BD$5:BD$470,"O",$AX$5:$AX$470,"관급")/1.1 -> 0 | BE4: =SUMIFS($L$5:$L$470,BE$5:BE$470,"O",$AX$5:$AX$470,"도급")+SUMIFS($L$5:$L$470,BE$5:BE$470,"O",$AX$5:$AX$470,"관급")/1.1 -> 0 | BF4: =SUMIFS($L$5:$L$470,BF$5:BF$470,"O",$AX$5:$AX$470,"도급")+SUMIFS($L$5:$L$470,BF$5:BF$470,"O",$AX$5:$AX$470,"관급")/1.1 -> 0 | ... CD4: =SUMIFS($L$5:$L$470,CD$5:CD$470,"O",$AX$5:$AX$470,"도급")+SUMIFS($L$5:$L$470,CD$5:CD$470,"O",$AX$5:$AX$470,"관급")/1.1 -> 0 | CF4: =SUM(AY4:CD4)-((L342+L343+L344+L345)/1.1+L346) -> 0 | CG4: =SUM(AY4:CD4) -> 0
A5: 양변기 (로우탱크) | B5: KSVC 1210CR,절수형 | C5: SET | D5: 2 | N5: 522292989E9B94B539918011A8743B | Q5: 01010101 | R5: T | S5: F | T5: F | AU5: 01010101522292989E9B94B539918011A8743B | AV5: 5 | AX5: 도급 | BX5: o
A6: 소변기(전자감지식) | B6: KSVU-312,중형스톨,트랩내장 | C6: SET | D6: 1 | N6: 522292989E9B94B539918011BAE535 | Q6: 01010101 | R6: T | S6: F | T6: F | AU6: 01010101522292989E9B94B539918011BAE535 | AV6: 6 | AX6: 도급 | BX6: o
A7: 씽크수전(벽붙이) | B7: FS936C | C7: EA | D7: 2 | N7: 522292989E9B94B53991800720D63C | Q7: 01010101 | R7: T | S7: F | T7: F | AU7: 01010101522292989E9B94B53991800720D63C | AV7: 7 | AX7: 도급 | BW7: o
A8: 휴지걸이 | B8: STS제 | C8: 개 | D8: 2 | N8: 5222A2C8D4A8D935F2D089FE9FA630 | Q8: 01010101 | R8: T | S8: F | T8: F | AU8: 010101015222A2C8D4A8D935F2D089FE9FA630 | AV8: 8 | AX8: 도급 | CC8: o
Q9: 01010101
Q10: 01010101
Q11: 01010101
Q12: 01010101
Q13: 01010101
Q14: 01010101
Q15: 01010101
Q16: 01010101
Q17: 01010101
Q18: 01010101
Q19: 01010101
Q20: 01010101
... Q26: 01010101
A27: [ 합 계 ] | N27: TOTAL
A28: 01010102 가스배관공사 | Q28: 01010102
A29: 백엘보(나사) | B29: D20 | C29: 개 | D29: 8 | N29: 55BF3238BBAC58958E85815896B239CD9A66DB | Q29: 01010102 | R29: F | S29: F | T29: T | AU29: 0101010255BF3238BBAC58958E85815896B239CD9A66DB | AV29: 10 | AX29: 도급 | CC29: o
A30: 백티이(나사) | B30: D20 | C30: 개 | D30: 1 | N30: 55BF3238BBAC58958E85815896B239CD9A67E8 | Q30: 01010102 | R30: F | S30: F | T30: T | AU30: 0101010255BF3238BBAC58958E85815896B239CD9A67E8 | AV30: 11 | AX30: 도급 | CC30: o
A31: 백소켓(나사) | B31: D20 | C31: 개 | D31: 3 | N31: 55BF3238BBAC58958E85815896B239CD95FAB0 | Q31: 01010102 | R31: F | S31: F | T31: T | AU31: 0101010255BF3238BBAC58958E85815896B239CD95FAB0 | AV31: 12 | AX31: 도급 | CC31: o
A32: 가스미터 | B32: 2.5㎥/HR이하 | C32: 조 | D32: 1 | N32: 55BF22182E647165AF8A8C548F6C31C4039B35 | Q32: 01010102 | R32: F | S32: F | T32: T | AU32: 0101010255BF22182E647165AF8A8C548F6C31C4039B35 | AV32: 13 | AX32: 도급 | CC32: o
A33: 휴즈콕 | B33: D20×8 | C33: EA | D33: 2 | N33: 55DA0288E649DAE5CC978FBE04593E9767BD6B | Q33: 01010102 | R33: F | S33: F | T33: T | AU33: 0101010255DA0288E649DAE5CC978FBE04593E9767BD6B | AV33: 14 | AX33: 도급 | CC33: o
A34: 가스차단장치(SCREW) | B34: D20 3회로 | C34: SET | D34: 1 | N34: 55DA0288E649DAE5CC978FBE0459380F03C12C | Q34: 01010102 | R34: F | S34: F | T34: T | AU34: 0101010255DA0288E649DAE5CC978FBE0459380F03C12C | AV34: 15 | AX34: 도급 | CC34: o
A35: 가스메타기함(STS) | B35: 2.5등급 | C35: EA | D35: 1 | N35: 55DA0288E649DAE5CC978FBE0459380C4E7BC3 | Q35: 01010102 | R35: F | S35: F | T35: T | AU35: 0101010255DA0288E649DAE5CC978FBE0459380C4E7BC3 | AV35: 16 | AX35: 도급 | CC35: o
A36: 가스안전공사검사수수료 | C36: 식 | D36: 1 | N36: 55DA0288E649DAE5CC978FBE0459387BCFD78A | Q36: 01010102 | R36: F | S36: F | T36: T | AU36: 0101010255DA0288E649DAE5CC978FBE0459387BCFD78A | AV36: 17 | AX36: 도급 | CC36: o
A37: 볼밸브(황동) | B37: D20, 10K, 나사식 | C37: 개 | D37: 1 | N37: 522242687CC61425834981100C7737 | Q37: 01010102 | R37: T | S37: F | T37: F | AU37: 01010102522242687CC61425834981100C7737 | AV37: 18 | AX37: 도급 | CC37: o
A38: 녹막이페인트 칠 | B38: 2회.1종 | C38: ㎡ | D38: 2 | N38: 52E7D238C3F76A95D5128E5420A734 | Q38: 01010102 | R38: T | S38: F | T38: F | AU38: 0101010252E7D238C3F76A95D5128E5420A734 | AV38: 19 | AX38: 도급 | CC38: o
A39: 조합페인트(붓칠) | B39: 철재면2회.1급 | C39: ㎡ | D39: 2 | N39: 52E7D238FF2D45251A4388B1107D37 | Q39: 01010102 | R39: T | S39: F | T39: F | AU39: 0101010252E7D238FF2D45251A4388B1107D37 | AV39: 20 | AX39: 도급 | CC39: o
A40: 가스용백강관(옥내일반) | B40: 백관(SPPG), D20 | C40: M | D40: 19 | N40: 522202C8A07DB7B517388F6AD6633E | Q40: 01010102 | R40: T | S40: F | T40: F | AU40: 01010102522202C8A07DB7B517388F6AD6633E | AV40: 21 | AX40: 도급 | CC40: o
A41: 시험점화 | C41: 개소 | D41: 1 | N41: 522282886CB3B355484C8BE418AC33 | Q41: 01010102 | R41: T | S41: F | T41: F | AU41: 01010102522282886CB3B355484C8BE418AC33 | AV41: 22 | AX41: 도급 | CC41: o
A42: 가스메타설치 | C42: 개소 | D42: 1 | N42: 522322F848B28FA5323A836E9EC237 | Q42: 01010102 | R42: T | S42: F | T42: F | AU42: 01010102522322F848B28FA5323A836E9EC237 | AV42: 23 | AX42: 도급 | CC42: o
A43: 브라켓트설치 | B43: D20 | C43: 개소 | D43: 11 | N43: 522322F848A02F35FF2E8881068B31 | Q43: 01010102 | R43: T | S43: F | T43: F | AU43: 01010102522322F848A02F35FF2E8881068B31 | AV43: 24 | AX43: 도급 | CC43: o
Q44: 01010102
Q45: 01010102
Q46: 01010102
Q47: 01010102
Q48: 01010102
Q49: 01010102
Q50: 01010102
A51: [ 합 계 ] | N51: TOTAL
A52: 01010103 철거공사 | Q52: 01010103 | AX52: 도급
A53: 양변기철거 | C53: 대 | D53: 2 | N53: 522292989E9B94B53990879A1B7B39 | Q53: 01010103 | R53: T | S53: F | T53: F | AU53: 01010103522292989E9B94B53990879A1B7B39 | AV53: 26 | AX53: 도급 | BY53: o
A54: 에어컨 철거후 재설치 | C54: 대 | D54: 1 | N54: 522292989E9B94B53990879A1B7B3B | Q54: 01010103 | R54: T | S54: F | T54: F | AU54: 01010103522292989E9B94B53990879A1B7B3B | AV54: 27 | AX54: 도급 | BY54: o
A55: 소변기철거 | C55: 대 | D55: 1 | N55: 522292989E9B94B53990879A1B1131 | Q55: 01010103 | R55: T | S55: F | T55: F | AU55: 01010103522292989E9B94B53990879A1B1131 | AV55: 28 | AX55: 도급 | BY55: o
A56: 씽크수전철거 | C56: EA | D56: 2 | N56: 522292989E9B94B53990879A09253D | Q56: 01010103 | R56: T | S56: F | T56: F | AU56: 01010103522292989E9B94B53990879A09253D | AV56: 29 | AX56: 도급 | BY56: o
A57: 강관철거 | B57: D20 | C57: M | D57: 19 | N57: 522322F848A02F25D92E8E643AF735 | Q57: 01010103 | R57: T | S57: F | T57: F | AU57: 01010103522322F848A02F25D92E8E643AF735 | AV57: 30 | AX57: 도급 | BY57: o
Q58: 01010103
Q59: 01010103
Q60: 01010103
Q61: 01010103
Q62: 01010103
Q63: 01010103
Q64: 01010103
Q65: 01010103
Q66: 01010103
Q67: 01010103
Q68: 01010103
Q69: 01010103
... Q74: 01010103
A75: [ 합 계 ] | N75: TOTAL
A76: 01010104 냉난방기설치공사 | Q76: 01010104
A77: 냉난방공조공사 | B77: 싱글형실외기받침대 | C77: 개 | D77: 1 | N77: 55DA0288E649DAE5CC978FB952AC3F213A053F | Q77: 01010104 | R77: F | S77: F | T77: T | AU77: 0101010455DA0288E649DAE5CC978FB952AC3F213A053F | AV77: 32 | AX77: 도급 | BG77: o
A78: 냉난방기 | B78: 직립형용량가변형,5.2/6.0KW | C78: 대 | D78: 1 | N78: 55DA0288E649DAE5CC978FB952AC3F2134FEC0 | Q78: 01010104 | R78: F | S78: F | T78: T | AU78: 0101010455DA0288E649DAE5CC978FB952AC3F2134FEC0 | AV78: 33 | AX78: 도급 | BG78: o
Q79: 01010104
Q80: 01010104
Q81: 01010104
Q82: 01010104
Q83: 01010104
Q84: 01010104
Q85: 01010104
Q86: 01010104
Q87: 01010104
Q88: 01010104
Q89: 01010104
Q90: 01010104
... Q98: 01010104
A99: [ 합 계 ] | F99: =SUMIF(Q77:Q98,"01010104",F77:F98) -> 0 | H99: =SUMIF(Q77:Q98,"01010104",H77:H98) -> 0 | J99: =SUMIF(Q77:Q98,"01010104",J77:J98) -> 0 | L99: =SUMIF(Q77:Q98,"01010104",L77:L98) -> 0 | N99: TOTAL

Sheet  공사설정 
A1: 이 Sheet는 수정하지 마십시요
A2: 공사구분 | B2: A | C2: 타이틀
A3: 확정내역 | B3: 원내역
A4: 자재단가적용 | B4: 5
A5: 경비단가적용 | B5: 5
A6: 품목코드형식 | B6: XXXX-XXXX-XXXXXXXXX
A7: 내역금액소수점처리 | B7: C | C7: T
A8: 일위대가내역소수점처리 | B8: C | C8: 2
A9: 단가명 | B9: 조달청가격 | C9: 거래가격 | D9: 유통물가 | E9: 물가자료 | F9: 조사가격 | G9: TTTTT
A10: 환율 | B10: 1472 | C10: 0 | D10: 0
A11: 시간당작업량 | B11: R | C11: 4
A12: 1회 사이클시간 | B12: R | C12: 4
A13: 시간당 작업사이클 | B13: R | C13: 3
A14: 일반변수 | B14: R | C14: 5
A15: 시간당 노임산출 계수 | B15: A | C15: 1/8*16/12*25/20 | D15: 1/8*16/12*25/20 | E15: 1/8*16/12*25/20 | F15: 1
A16: 재료비 할증 계수 | B16: 1.11 | C16: 1.12
A17: 노무비 할증 계수 | B17: 1 | C17: 1.5 | D17: 1.16 | E17: 1.6 | F17: 1.6 | G17: 1.6 | H17: 1.94 | I17: 1.94 | J17: 1.94 | K17: 1 | L17: 1 | M17: 1
A18: 경비 할증 계수 | B18: 1.25 | C18: 1.071
A19: 내역,일위대가 품명,규격,단위 따로적용
A20: 내역단가 소수점처리 | B20: C | C20: 1
A21: 코드 | B21: 공종구분명 | C21: 원가비목코드
A22: 1 | B22: 작 업 부 산 물 | C22: A3
A23: 2 | B23: 운 반 비 | C23: C1
A24: 3 | B24: 도 급 자 관 급 | C24: DJ
A25: 4 | B25: 작업부산물(해체) | C25: D3
A26: 5 | B26: 품 질 관 리 비 | C26: C9
A27: 6 | B27: 안 전 관 리 비 | C27: CF
A28: 7 | B28: 관 급 자 관 급 | C28: DK
A29: 8 | B29: 폐 기 물 상 차 | C29: D4
A30: 9 | B30: 폐 기 물 처 리 | C30: D5
A31: A | B31: 지정폐기물상차 | C31: D6
A32: B | B32: 지정폐기물처리 | C32: D7
A33: C | B33: 환경관리비-직접 | C33: C3
A34: D | B34: ....
A35: E | B35: ....
A36: F | B36: ....
A37: G | B37: ....
A38: H | B38: ....
A39: I | B39: ....
A40: J | B40: ....
A43: 단가 순서 | B43: 1234

Sheet Sheet1
