Workbook

Sheet 원가계산서
A1: 공 사 원 가 계 산 서
A2: 공사명 : 북부운전면허시험장 측정실 보강공사
A3: 구 분 비 목 | D3: 구 성 비 | E3: 금 액 | F3: 비 고
A5: 순 공 사 원 가 | B5: 재료비 | C5: 직 접 재 료 비 | E5: =ROUNDDOWN(집계표!E20-집계표!AU20, 0) -> 0 | G5: A1 | H5: 0 | I5: =E5 -> 0
C6: 간 접 재 료 비 | E6: =ROUNDDOWN(E5*H6, 0) -> 0 | G6: A2 | H6: 0 | I6: =E6 -> 0
C7: 작업설.부산물 등(△) | E7: =집계표!S20 -> 0 | G7: A3 | H7: 0 | I7: =E7 -> 0
C8: 소 계 | E8: =SUM(E5:E6)-ABS(E7) -> 0 | G8: A | H8: 0 | I8: =E8 -> 0
B9: 노무비 | C9: 직 접 노 무 비 | E9: =ROUNDDOWN(집계표!G20, 0) -> 0 | G9: B1 | H9: 0 | I9: =E9 -> 0
C10: 간 접 노 무 비 | D10: ="직.노*"&H10*100&"%" -> 직.노*15% | E10: =ROUNDDOWN(E9*H10, 0) -> 0 | G10: B2 | H10: 0.15 | I10: =E10 -> 0
C11: 소 계 | E11: =SUM(E9:E10) -> 0 | G11: B | H11: 0 | I11: =E11 -> 0
B12: 경 비 | C12: 기 계 경 비 | E12: =ROUNDDOWN(집계표!I20, 0) -> 0 | G12: C4 | H12: 0 | I12: =E12 -> 0
C13: 산 재 보 험 료 | D13: ="(노)*"&H13*100&"%" -> (노)*3.56% | E13: =ROUNDDOWN((E11)*H13, 0) -> 0 | G13: C10 | H13: 0.0356 | I13: =E13 -> 0
C14: 고 용 보 험 료 | D14: ="(노)*"&H14*100&"%" -> (노)*1.01% | E14: =ROUNDDOWN((E11)*H14, 0) -> 0 | G14: C11 | H14: 0.0101 | I14: =E14 -> 0
C15: 건 강 보 험 료 | D15: ="(직.노)*"&H15*100&"%" -> (직.노)*3.595% | E15: =ROUNDDOWN((E9)*H15, 0) -> 0 | G15: C12 | H15: 0.03595 | I15: =E15 -> 0
C16: 연 금 보 험 료 | D16: ="(직.노)*"&H16*100&"%" -> (직.노)*4.75% | E16: =ROUNDDOWN((E9)*H16, 0) -> 0 | G16: C13 | H16: 0.0475 | I16: =E16 -> 0
C17: 노인 장기 요양보험료 | D17: ="(건강보험료)*"&H17*100&"%" -> (건강보험료)*13.14% | E17: =ROUNDDOWN((E15)*H17, 0) -> 0 | G17: C14 | H17: 0.1314 | I17: =E17 -> 0
C18: 퇴 직 공 제 부 금 비 | E18: =ROUNDDOWN((E9)*H18, 0) -> 0 | G18: C15 | H18: 0 | I18: =E18 -> 0
C19: 산업 안전 보건관리비 | D19: ="(재+직.노+(관급-0)/1.1)*"&H19*100&"%"&" < (재+직.노)*3.11%*1.2" -> (재+직.노+(관급-0)/1.1)*3.11% < (재+직.노)*3.11%*1.2 | E19: =ROUNDDOWN((E8+E9+(E38-0)/1.1)*H19, 0) -> 0 | G19: C16 | H19: 0.0311 | I19: =E19 -> 0
C20: 기 타 경 비 | D20: ="(재+노)*"&H20*100&"%" -> (재+노)*4.6% | E20: =ROUNDDOWN((E8+E11)*H20, 0) -> 0 | G20: C20 | H20: 0.046 | I20: =E20 -> 0
C21: 환 경 보 전 비 | D21: ="(재+직.노+기.경)*"&H21*100&"%" -> (재+직.노+기.경)*0.3% | E21: =ROUNDDOWN((E8+E9+E12)*H21, 0) -> 0 | G21: C25 | H21: 0.003 | I21: =E21 -> 0
C22: 건설하도급보증수수료 | D22: ="(재+직.노+기.경)*"&H22*100&"%" -> (재+직.노+기.경)*0.081% | E22: =ROUNDDOWN((E8+E9+E12)*H22, 0) -> 0 | G22: C30 | H22: 0.00081 | I22: =E22 -> 0
C23: 공사 이행 보증수수료 | E23: =ROUNDDOWN((E8+E9+E12)*H23*(6/12), 0) -> 0 | G23: C31 | H23: 0 | I23: =E23 -> 0
C24: 건설기계대여보증수수료 | D24: ="(재+직.노+기.경)*"&H24*100&"%" -> (재+직.노+기.경)*0.1% | E24: =ROUNDDOWN((E8+E9+E12)*H24, 0) -> 0 | G24: C32 | H24: 0.001 | I24: =E24 -> 0
C25: 안 전 관 리 비 | E25: =집계표!AD20 -> 0 | G25: C17 | H25: 0 | I25: =E25 -> 0
C26: 품 질 관 리 비 | E26: =집계표!AE20 -> 0 | G26: C18 | H26: 0 | I26: =E26 -> 0
C27: 석 면 분 담 금 | D27: ="노*"&H27*100&"%" -> 노*0.006% | E27: =ROUNDDOWN(E11*H27, 0) -> 0 | G27: C21 | H27: 6e-05 | I27: =E27 -> 0
C28: 임금 채권 부담금 | D28: ="노*"&H28*100&"%" -> 노*0.09% | E28: =ROUNDDOWN(E11*H28, 0) -> 0 | G28: C22 | H28: 0.0009 | I28: =E28 -> 0
C29: 소 계 | E29: =SUM(E12:E28) -> 0 | G29: C | H29: 0 | I29: =E29 -> 0
B30: 계 | E30: =E8+E11+E29 -> 0 | G30: X | H30: 0 | I30: =E30 -> 0
A31: 일 반 관 리 비 | D31: ="(재+노+경)*"&H31*100&"%" -> (재+노+경)*8% | E31: =ROUNDDOWN((E8+E11+E29)*H31, 0) -> 0 | G31: D | H31: 0.08 | I31: =E31 -> 0
A32: 이 윤 | D32: ="(노+경+일)*"&H32*100&"%" -> (노+경+일)*15% | E32: =E35-E34-E33-E31-E30 -> 0 | G32: E | H32: 0.15 | I32: =(I11+I29+I31)*H32 -> 0
A33: 작업설.부산물 등(△) | E33: =ROUNDDOWN(집계표!AF20, 0) -> 0 | G33: M2 | H33: 0 | I33: =E33 -> 0
A34: 폐 기 물 처 리 비 | E34: =ROUNDDOWN(집계표!W20, 0) -> 0 | G34: L | H34: 0 | I34: =E34 -> 0
A35: 총 원 가 | E35: =ROUNDDOWN(E37-E36, 0) -> 0 | G35: F | H35: 0 | I35: =SUM(I30:I34) -> 0
A36: 부 가 가 치 세 | D36: ="(총원가)*"&H36*100&"%" -> (총원가)*10% | E36: =ROUNDDOWN(((E37)/110)*10, 0) -> 0 | G36: H | H36: 0.1 | I36: =ROUNDDOWN((I35)*H36, 0) -> 0
A37: 도 급 금 액 | E37: =INT(I37/1000)*1000 -> 0 | G37: Y | H37: 0 | I37: =I35+I36 -> 0
A38: 도급자 관급 자 재 대 | E38: =집계표!AA20 -> 0 | G38: J | H38: 0 | I38: =E38 -> 0
A39: 관급자 관급 자 재 대 | E39: =집계표!AB20 -> 0 | G39: U1 | H39: 0 | I39: =E39 -> 0
A40: 총 공 사 금 액 | E40: =ROUNDDOWN(E37+0+E38+E39+0, 0) -> 0 | H40: 0 | I40: =I37+0+I38+I39+0 -> 0

Sheet 집계표
A1: 공 사 집 계 표
A2: 공사명 : 북부운전면허시험장 측정실 보강공사
A3: 품 명 | B3: 단위 | C3: 수량 | D3: 재 료 비 | F3: 노 무 비 | H3: 경 비 | J3: 합 계 | L3: 비고
D4: 단 가 | E4: 금 액 | F4: 단 가 | G4: 금 액 | H4: 단 가 | I4: 금 액 | J4: 단 가 | K4: 금 액 | M4: 손료요율 | N4: 손료구분 | O4: 적용구분 | P4: 합계구분 | Q4: 기계경비 | R4: 운반비 | S4: 작업부산물 | T4: 관급 | U4: 외주비 | V4: 장비비 | W4: 폐기물처리비 | X4: 가설비 | Y4: 잡비제외분 | Z4: 사급자재대 | AA4: 관급자재대 | AB4: 관급자 관급 자재대 | AC4: 사용자항목2 | AD4: 안전관리비 | AE4: 품질관리비 | AF4: 작업부산물(철거해체) | AG4: 사용자항목6 | AH4: 사용자항목7 | AI4: 사용자항목8 | AJ4: 사용자항목9 | AK4: 사용자항목10 | AL4: 사용자항목11 | AM4: 사용자항목12 | AN4: 사용자항목13 | AO4: 사용자항목14 | AP4: 사용자항목15 | AQ4: 사용자항목16 | AR4: 사용자항목17 | AS4: 사용자항목18 | AT4: 사용자항목19 | AU4: 간접재료비 | AV4: 품목구분 | AW4: 조달코드 | AX4: 구분
A5: 01. 건축공사 | B5: 식 | C5: 1 | D5: =E52 -> 0 | E5: =C5*D5 -> 0 | F5: =G52 -> 0 | G5: =C5*F5 -> 0 | H5: =I52 -> 0 | I5: =C5*H5 -> 0 | J5: =D5+F5+H5 -> 0 | K5: =E5+G5+I5 -> 0 | P5: 1 | Q5: =C5*Q52 -> 0 | R5: =C5*R52 -> 0 | S5: =C5*S52 -> 0 | T5: =C5*T52 -> 0 | U5: =C5*U52 -> 0 | V5: =C5*V52 -> 0 | W5: =C5*W52 -> 0 | X5: =C5*X52 -> 0 | Y5: =C5*Y52 -> 0 | Z5: =C5*Z52 -> 0 | AA5: =C5*AA52 -> 0 | AB5: =C5*AB52 -> 0 | AC5: =C5*AC52 -> 0 | AD5: =C5*AD52 -> 0 | AE5: =C5*AE52 -> 0 | AF5: =C5*AF52 -> 0 | AG5: =C5*AG52 -> 0 | AH5: =C5*AH52 -> 0 | AI5: =C5*AI52 -> 0 | AJ5: =C5*AJ52 -> 0 | AK5: =C5*AK52 -> 0 | AL5: =C5*AL52 -> 0 | AM5: =C5*AM52 -> 0 | AN5: =C5*AN52 -> 0 | AO5: =C5*AO52 -> 0 | AP5: =C5*AP52 -> 0 | AQ5: =C5*AQ52 -> 0 | AR5: =C5*AR52 -> 0 | AS5: =C5*AS52 -> 0 | AT5: =C5*AT52 -> 0 | AU5: =C5*AU52 -> 0
A20: 합 계 | E20: =SUMIF(P5:P5, "1", E5:E5) -> 0 | G20: =SUMIF(P5:P5, "1", G5:G5) -> 0 | I20: =SUMIF(P5:P5, "1", I5:I5) -> 0 | K20: =E20+G20+I20 -> 0 | Q20: =SUM(Q5:Q5) -> 0 | R20: =SUM(R5:R5) -> 0 | S20: =SUM(S5:S5) -> 0 | T20: =SUM(T5:T5) -> 0 | U20: =SUM(U5:U5) -> 0 | V20: =SUM(V5:V5) -> 0 | W20: =SUM(W5:W5) -> 0 | X20: =SUM(X5:X5) -> 0 | ... AX20: =SUM(AX5:AX5) -> 0
A21: 01. 건축공사
A22: 0101. 가설공사 | B22: 식 | C22: 1 | D22: =내역서!F20 -> 0 | E22: =C22*D22 -> 0 | F22: =내역서!H20 -> 0 | G22: =C22*F22 -> 0 | H22: =내역서!J20 -> 0 | I22: =C22*H22 -> 0 | J22: =D22+F22+H22 -> 0 | K22: =E22+G22+I22 -> 0 | P22: 1 | Q22: =C22*내역서!R20 -> 0 | R22: =C22*내역서!S20 -> 0 | S22: =C22*내역서!T20 -> 0 | T22: =C22*내역서!U20 -> 0 | U22: =C22*내역서!V20 -> 0 | V22: =C22*내역서!W20 -> 0 | W22: =C22*내역서!X20 -> 0 | X22: =C22*내역서!Y20 -> 0 | Y22: =C22*내역서!Z20 -> 0 | Z22: =C22*내역서!AA20 -> 0 | AA22: =C22*내역서!AB20 -> 0 | AB22: =C22*내역서!AC20 -> 0 | AC22: =C22*내역서!AD20 -> 0 | AD22: =C22*내역서!AE20 -> 0 | AE22: =C22*내역서!AF20 -> 0 | AF22: =C22*내역서!AG20 -> 0 | AG22: =C22*내역서!AH20 -> 0 | AH22: =C22*내역서!AI20 -> 0 | AI22: =C22*내역서!AJ20 -> 0 | AJ22: =C22*내역서!AK20 -> 0 | AK22: =C22*내역서!AL20 -> 0 | AL22: =C22*내역서!AM20 -> 0 | AM22: =C22*내역서!AN20 -> 0 | AN22: =C22*내역서!AO20 -> 0 | AO22: =C22*내역서!AP20 -> 0 | AP22: =C22*내역서!AQ20 -> 0 | AQ22: =C22*내역서!AR20 -> 0 | AR22: =C22*내역서!AS20 -> 0 | AS22: =C22*내역서!AT20 -> 0 | AT22: =C22*내역서!AU20 -> 0 | AU22: =C22*내역서!AV20 -> 0
A23: 0102. 토공사 | B23: 식 | C23: 1 | D23: =내역서!F36 -> 0 | E23: =C23*D23 -> 0 | F23: =내역서!H36 -> 0 | G23: =C23*F23 -> 0 | H23: =내역서!J36 -> 0 | I23: =C23*H23 -> 0 | J23: =D23+F23+H23 -> 0 | K23: =E23+G23+I23 -> 0 | P23: 1 | Q23: =C23*내역서!R36 -> 0 | R23: =C23*내역서!S36 -> 0 | S23: =C23*내역서!T36 -> 0 | T23: =C23*내역서!U36 -> 0 | U23: =C23*내역서!V36 -> 0 | V23: =C23*내역서!W36 -> 0 | W23: =C23*내역서!X36 -> 0 | X23: =C23*내역서!Y36 -> 0 | Y23: =C23*내역서!Z36 -> 0 | Z23: =C23*내역서!AA36 -> 0 | AA23: =C23*내역서!AB36 -> 0 | AB23: =C23*내역서!AC36 -> 0 | AC23: =C23*내역서!AD36 -> 0 | AD23: =C23*내역서!AE36 -> 0 | AE23: =C23*내역서!AF36 -> 0 | AF23: =C23*내역서!AG36 -> 0 | AG23: =C23*내역서!AH36 -> 0 | AH23: =C23*내역서!AI36 -> 0 | AI23: =C23*내역서!AJ36 -> 0 | AJ23: =C23*내역서!AK36 -> 0 | AK23: =C23*내역서!AL36 -> 0 | AL23: =C23*내역서!AM36 -> 0 | AM23: =C23*내역서!AN36 -> 0 | AN23: =C23*내역서!AO36 -> 0 | AO23: =C23*내역서!AP36 -> 0 | AP23: =C23*내역서!AQ36 -> 0 | AQ23: =C23*내역서!AR36 -> 0 | AR23: =C23*내역서!AS36 -> 0 | AS23: =C23*내역서!AT36 -> 0 | AT23: =C23*내역서!AU36 -> 0 | AU23: =C23*내역서!AV36 -> 0
A24: 0103. 철근콘크리트공사 | B24: 식 | C24: 1 | D24: =내역서!F52 -> 0 | E24: =C24*D24 -> 0 | F24: =내역서!H52 -> 0 | G24: =C24*F24 -> 0 | H24: =내역서!J52 -> 0 | I24: =C24*H24 -> 0 | J24: =D24+F24+H24 -> 0 | K24: =E24+G24+I24 -> 0 | P24: 1 | Q24: =C24*내역서!R52 -> 0 | R24: =C24*내역서!S52 -> 0 | S24: =C24*내역서!T52 -> 0 | T24: =C24*내역서!U52 -> 0 | U24: =C24*내역서!V52 -> 0 | V24: =C24*내역서!W52 -> 0 | W24: =C24*내역서!X52 -> 0 | X24: =C24*내역서!Y52 -> 0 | Y24: =C24*내역서!Z52 -> 0 | Z24: =C24*내역서!AA52 -> 0 | AA24: =C24*내역서!AB52 -> 0 | AB24: =C24*내역서!AC52 -> 0 | AC24: =C24*내역서!AD52 -> 0 | AD24: =C24*내역서!AE52 -> 0 | AE24: =C24*내역서!AF52 -> 0 | AF24: =C24*내역서!AG52 -> 0 | AG24: =C24*내역서!AH52 -> 0 | AH24: =C24*내역서!AI52 -> 0 | AI24: =C24*내역서!AJ52 -> 0 | AJ24: =C24*내역서!AK52 -> 0 | AK24: =C24*내역서!AL52 -> 0 | AL24: =C24*내역서!AM52 -> 0 | AM24: =C24*내역서!AN52 -> 0 | AN24: =C24*내역서!AO52 -> 0 | AO24: =C24*내역서!AP52 -> 0 | AP24: =C24*내역서!AQ52 -> 0 | AQ24: =C24*내역서!AR52 -> 0 | AR24: =C24*내역서!AS52 -> 0 | AS24: =C24*내역서!AT52 -> 0 | AT24: =C24*내역서!AU52 -> 0 | AU24: =C24*내역서!AV52 -> 0
A25: 0104. 탄소섬유보강공사 | B25: 식 | C25: 1 | D25: =내역서!F68 -> 0 | E25: =C25*D25 -> 0 | F25: =내역서!H68 -> 0 | G25: =C25*F25 -> 0 | H25: =내역서!J68 -> 0 | I25: =C25*H25 -> 0 | J25: =D25+F25+H25 -> 0 | K25: =E25+G25+I25 -> 0 | P25: 1 | Q25: =C25*내역서!R68 -> 0 | R25: =C25*내역서!S68 -> 0 | S25: =C25*내역서!T68 -> 0 | T25: =C25*내역서!U68 -> 0 | U25: =C25*내역서!V68 -> 0 | V25: =C25*내역서!W68 -> 0 | W25: =C25*내역서!X68 -> 0 | X25: =C25*내역서!Y68 -> 0 | Y25: =C25*내역서!Z68 -> 0 | Z25: =C25*내역서!AA68 -> 0 | AA25: =C25*내역서!AB68 -> 0 | AB25: =C25*내역서!AC68 -> 0 | AC25: =C25*내역서!AD68 -> 0 | AD25: =C25*내역서!AE68 -> 0 | AE25: =C25*내역서!AF68 -> 0 | AF25: =C25*내역서!AG68 -> 0 | AG25: =C25*내역서!AH68 -> 0 | AH25: =C25*내역서!AI68 -> 0 | AI25: =C25*내역서!AJ68 -> 0 | AJ25: =C25*내역서!AK68 -> 0 | AK25: =C25*내역서!AL68 -> 0 | AL25: =C25*내역서!AM68 -> 0 | AM25: =C25*내역서!AN68 -> 0 | AN25: =C25*내역서!AO68 -> 0 | AO25: =C25*내역서!AP68 -> 0 | AP25: =C25*내역서!AQ68 -> 0 | AQ25: =C25*내역서!AR68 -> 0 | AR25: =C25*내역서!AS68 -> 0 | AS25: =C25*내역서!AT68 -> 0 | AT25: =C25*내역서!AU68 -> 0 | AU25: =C25*내역서!AV68 -> 0
A26: 0105. 에폭시그라우팅공사 | B26: 식 | C26: 1 | D26: =내역서!F84 -> 0 | E26: =C26*D26 -> 0 | F26: =내역서!H84 -> 0 | G26: =C26*F26 -> 0 | H26: =내역서!J84 -> 0 | I26: =C26*H26 -> 0 | J26: =D26+F26+H26 -> 0 | K26: =E26+G26+I26 -> 0 | P26: 1 | Q26: =C26*내역서!R84 -> 0 | R26: =C26*내역서!S84 -> 0 | S26: =C26*내역서!T84 -> 0 | T26: =C26*내역서!U84 -> 0 | U26: =C26*내역서!V84 -> 0 | V26: =C26*내역서!W84 -> 0 | W26: =C26*내역서!X84 -> 0 | X26: =C26*내역서!Y84 -> 0 | Y26: =C26*내역서!Z84 -> 0 | Z26: =C26*내역서!AA84 -> 0 | AA26: =C26*내역서!AB84 -> 0 | AB26: =C26*내역서!AC84 -> 0 | AC26: =C26*내역서!AD84 -> 0 | AD26: =C26*내역서!AE84 -> 0 | AE26: =C26*내역서!AF84 -> 0 | AF26: =C26*내역서!AG84 -> 0 | AG26: =C26*내역서!AH84 -> 0 | AH26: =C26*내역서!AI84 -> 0 | AI26: =C26*내역서!AJ84 -> 0 | AJ26: =C26*내역서!AK84 -> 0 | AK26: =C26*내역서!AL84 -> 0 | AL26: =C26*내역서!AM84 -> 0 | AM26: =C26*내역서!AN84 -> 0 | AN26: =C26*내역서!AO84 -> 0 | AO26: =C26*내역서!AP84 -> 0 | AP26: =C26*내역서!AQ84 -> 0 | AQ26: =C26*내역서!AR84 -> 0 | AR26: =C26*내역서!AS84 -> 0 | AS26: =C26*내역서!AT84 -> 0 | AT26: =C26*내역서!AU84 -> 0 | AU26: =C26*내역서!AV84 -> 0
A27: 0106. 철판보강공사 | B27: 식 | C27: 1 | D27: =내역서!F100 -> 0 | E27: =C27*D27 -> 0 | F27: =내역서!H100 -> 0 | G27: =C27*F27 -> 0 | H27: =내역서!J100 -> 0 | I27: =C27*H27 -> 0 | J27: =D27+F27+H27 -> 0 | K27: =E27+G27+I27 -> 0 | P27: 1 | Q27: =C27*내역서!R100 -> 0 | R27: =C27*내역서!S100 -> 0 | S27: =C27*내역서!T100 -> 0 | T27: =C27*내역서!U100 -> 0 | U27: =C27*내역서!V100 -> 0 | V27: =C27*내역서!W100 -> 0 | W27: =C27*내역서!X100 -> 0 | X27: =C27*내역서!Y100 -> 0 | Y27: =C27*내역서!Z100 -> 0 | Z27: =C27*내역서!AA100 -> 0 | AA27: =C27*내역서!AB100 -> 0 | AB27: =C27*내역서!AC100 -> 0 | AC27: =C27*내역서!AD100 -> 0 | AD27: =C27*내역서!AE100 -> 0 | AE27: =C27*내역서!AF100 -> 0 | AF27: =C27*내역서!AG100 -> 0 | AG27: =C27*내역서!AH100 -> 0 | AH27: =C27*내역서!AI100 -> 0 | AI27: =C27*내역서!AJ100 -> 0 | AJ27: =C27*내역서!AK100 -> 0 | AK27: =C27*내역서!AL100 -> 0 | AL27: =C27*내역서!AM100 -> 0 | AM27: =C27*내역서!AN100 -> 0 | AN27: =C27*내역서!AO100 -> 0 | AO27: =C27*내역서!AP100 -> 0 | AP27: =C27*내역서!AQ100 -> 0 | AQ27: =C27*내역서!AR100 -> 0 | AR27: =C27*내역서!AS100 -> 0 | AS27: =C27*내역서!AT100 -> 0 | AT27: =C27*내역서!AU100 -> 0 | AU27: =C27*내역서!AV100 -> 0
A28: 0107. 단면복구공사 | B28: 식 | C28: 1 | D28: =내역서!F116 -> 0 | E28: =C28*D28 -> 0 | F28: =내역서!H116 -> 0 | G28: =C28*F28 -> 0 | H28: =내역서!J116 -> 0 | I28: =C28*H28 -> 0 | J28: =D28+F28+H28 -> 0 | K28: =E28+G28+I28 -> 0 | P28: 1 | Q28: =C28*내역서!R116 -> 0 | R28: =C28*내역서!S116 -> 0 | S28: =C28*내역서!T116 -> 0 | T28: =C28*내역서!U116 -> 0 | U28: =C28*내역서!V116 -> 0 | V28: =C28*내역서!W116 -> 0 | W28: =C28*내역서!X116 -> 0 | X28: =C28*내역서!Y116 -> 0 | Y28: =C28*내역서!Z116 -> 0 | Z28: =C28*내역서!AA116 -> 0 | AA28: =C28*내역서!AB116 -> 0 | AB28: =C28*내역서!AC116 -> 0 | AC28: =C28*내역서!AD116 -> 0 | AD28: =C28*내역서!AE116 -> 0 | AE28: =C28*내역서!AF116 -> 0 | AF28: =C28*내역서!AG116 -> 0 | AG28: =C28*내역서!AH116 -> 0 | AH28: =C28*내역서!AI116 -> 0 | AI28: =C28*내역서!AJ116 -> 0 | AJ28: =C28*내역서!AK116 -> 0 | AK28: =C28*내역서!AL116 -> 0 | AL28: =C28*내역서!AM116 -> 0 | AM28: =C28*내역서!AN116 -> 0 | AN28: =C28*내역서!AO116 -> 0 | AO28: =C28*내역서!AP116 -> 0 | AP28: =C28*내역서!AQ116 -> 0 | AQ28: =C28*내역서!AR116 -> 0 | AR28: =C28*내역서!AS116 -> 0 | AS28: =C28*내역서!AT116 -> 0 | AT28: =C28*내역서!AU116 -> 0 | AU28: =C28*내역서!AV116 -> 0
A29: 0108. 표면처리공사 | B29: 식 | C29: 1 | D29: =내역서!F132 -> 0 | E29: =C29*D29 -> 0 | F29: =내역서!H132 -> 0 | G29: =C29*F29 -> 0 | H29: =내역서!J132 -> 0 | I29: =C29*H29 -> 0 | J29: =D29+F29+H29 -> 0 | K29: =E29+G29+I29 -> 0 | P29: 1 | Q29: =C29*내역서!R132 -> 0 | R29: =C29*내역서!S132 -> 0 | S29: =C29*내역서!T132 -> 0 | T29: =C29*내역서!U132 -> 0 | U29: =C29*내역서!V132 -> 0 | V29: =C29*내역서!W132 -> 0 | W29: =C29*내역서!X132 -> 0 | X29: =C29*내역서!Y132 -> 0 | Y29: =C29*내역서!Z132 -> 0 | Z29: =C29*내역서!AA132 -> 0 | AA29: =C29*내역서!AB132 -> 0 | AB29: =C29*내역서!AC132 -> 0 | AC29: =C29*내역서!AD132 -> 0 | AD29: =C29*내역서!AE132 -> 0 | AE29: =C29*내역서!AF132 -> 0 | AF29: =C29*내역서!AG132 -> 0 | AG29: =C29*내역서!AH132 -> 0 | AH29: =C29*내역서!AI132 -> 0 | AI29: =C29*내역서!AJ132 -> 0 | AJ29: =C29*내역서!AK132 -> 0 | AK29: =C29*내역서!AL132 -> 0 | AL29: =C29*내역서!AM132 -> 0 | AM29: =C29*내역서!AN132 -> 0 | AN29: =C29*내역서!AO132 -> 0 | AO29: =C29*내역서!AP132 -> 0 | AP29: =C29*내역서!AQ132 -> 0 | AQ29: =C29*내역서!AR132 -> 0 | AR29: =C29*내역서!AS132 -> 0 | AS29: =C29*내역서!AT132 -> 0 | AT29: =C29*내역서!AU132 -> 0 | AU29: =C29*내역서!AV132 -> 0
A30: 0109. 철골공사 | B30: 식 | C30: 1 | D30: =내역서!F164 -> 0 | E30: =C30*D30 -> 0 | F30: =내역서!H164 -> 0 | G30: =C30*F30 -> 0 | H30: =내역서!J164 -> 0 | I30: =C30*H30 -> 0 | J30: =D30+F30+H30 -> 0 | K30: =E30+G30+I30 -> 0 | P30: 1 | Q30: =C30*내역서!R164 -> 0 | R30: =C30*내역서!S164 -> 0 | S30: =C30*내역서!T164 -> 0 | T30: =C30*내역서!U164 -> 0 | U30: =C30*내역서!V164 -> 0 | V30: =C30*내역서!W164 -> 0 | W30: =C30*내역서!X164 -> 0 | X30: =C30*내역서!Y164 -> 0 | Y30: =C30*내역서!Z164 -> 0 | Z30: =C30*내역서!AA164 -> 0 | AA30: =C30*내역서!AB164 -> 0 | AB30: =C30*내역서!AC164 -> 0 | AC30: =C30*내역서!AD164 -> 0 | AD30: =C30*내역서!AE164 -> 0 | AE30: =C30*내역서!AF164 -> 0 | AF30: =C30*내역서!AG164 -> 0 | AG30: =C30*내역서!AH164 -> 0 | AH30: =C30*내역서!AI164 -> 0 | AI30: =C30*내역서!AJ164 -> 0 | AJ30: =C30*내역서!AK164 -> 0 | AK30: =C30*내역서!AL164 -> 0 | AL30: =C30*내역서!AM164 -> 0 | AM30: =C30*내역서!AN164 -> 0 | AN30: =C30*내역서!AO164 -> 0 | AO30: =C30*내역서!AP164 -> 0 | AP30: =C30*내역서!AQ164 -> 0 | AQ30: =C30*내역서!AR164 -> 0 | AR30: =C30*내역서!AS164 -> 0 | AS30: =C30*내역서!AT164 -> 0 | AT30: =C30*내역서!AU164 -> 0 | AU30: =C30*내역서!AV164 -> 0
A31: 0110. 샌드위치패널공사 | B31: 식 | C31: 1 | D31: =내역서!F180 -> 0 | E31: =C31*D31 -> 0 | F31: =내역서!H180 -> 0 | G31: =C31*F31 -> 0 | H31: =내역서!J180 -> 0 | I31: =C31*H31 -> 0 | J31: =D31+F31+H31 -> 0 | K31: =E31+G31+I31 -> 0 | P31: 1 | Q31: =C31*내역서!R180 -> 0 | R31: =C31*내역서!S180 -> 0 | S31: =C31*내역서!T180 -> 0 | T31: =C31*내역서!U180 -> 0 | U31: =C31*내역서!V180 -> 0 | V31: =C31*내역서!W180 -> 0 | W31: =C31*내역서!X180 -> 0 | X31: =C31*내역서!Y180 -> 0 | Y31: =C31*내역서!Z180 -> 0 | Z31: =C31*내역서!AA180 -> 0 | AA31: =C31*내역서!AB180 -> 0 | AB31: =C31*내역서!AC180 -> 0 | AC31: =C31*내역서!AD180 -> 0 | AD31: =C31*내역서!AE180 -> 0 | AE31: =C31*내역서!AF180 -> 0 | AF31: =C31*내역서!AG180 -> 0 | AG31: =C31*내역서!AH180 -> 0 | AH31: =C31*내역서!AI180 -> 0 | AI31: =C31*내역서!AJ180 -> 0 | AJ31: =C31*내역서!AK180 -> 0 | AK31: =C31*내역서!AL180 -> 0 | AL31: =C31*내역서!AM180 -> 0 | AM31: =C31*내역서!AN180 -> 0 | AN31: =C31*내역서!AO180 -> 0 | AO31: =C31*내역서!AP180 -> 0 | AP31: =C31*내역서!AQ180 -> 0 | AQ31: =C31*내역서!AR180 -> 0 | AR31: =C31*내역서!AS180 -> 0 | AS31: =C31*내역서!AT180 -> 0 | AT31: =C31*내역서!AU180 -> 0 | AU31: =C31*내역서!AV180 -> 0
A32: 0111. 수장공사 | B32: 식 | C32: 1 | D32: =내역서!F196 -> 0 | E32: =C32*D32 -> 0 | F32: =내역서!H196 -> 0 | G32: =C32*F32 -> 0 | H32: =내역서!J196 -> 0 | I32: =C32*H32 -> 0 | J32: =D32+F32+H32 -> 0 | K32: =E32+G32+I32 -> 0 | P32: 1 | Q32: =C32*내역서!R196 -> 0 | R32: =C32*내역서!S196 -> 0 | S32: =C32*내역서!T196 -> 0 | T32: =C32*내역서!U196 -> 0 | U32: =C32*내역서!V196 -> 0 | V32: =C32*내역서!W196 -> 0 | W32: =C32*내역서!X196 -> 0 | X32: =C32*내역서!Y196 -> 0 | Y32: =C32*내역서!Z196 -> 0 | Z32: =C32*내역서!AA196 -> 0 | AA32: =C32*내역서!AB196 -> 0 | AB32: =C32*내역서!AC196 -> 0 | AC32: =C32*내역서!AD196 -> 0 | AD32: =C32*내역서!AE196 -> 0 | AE32: =C32*내역서!AF196 -> 0 | AF32: =C32*내역서!AG196 -> 0 | AG32: =C32*내역서!AH196 -> 0 | AH32: =C32*내역서!AI196 -> 0 | AI32: =C32*내역서!AJ196 -> 0 | AJ32: =C32*내역서!AK196 -> 0 | AK32: =C32*내역서!AL196 -> 0 | AL32: =C32*내역서!AM196 -> 0 | AM32: =C32*내역서!AN196 -> 0 | AN32: =C32*내역서!AO196 -> 0 | AO32: =C32*내역서!AP196 -> 0 | AP32: =C32*내역서!AQ196 -> 0 | AQ32: =C32*내역서!AR196 -> 0 | AR32: =C32*내역서!AS196 -> 0 | AS32: =C32*내역서!AT196 -> 0 | AT32: =C32*내역서!AU196 -> 0 | AU32: =C32*내역서!AV196 -> 0
A33: 0112. 목공사 | B33: 식 | C33: 1 | D33: =내역서!F212 -> 0 | E33: =C33*D33 -> 0 | F33: =내역서!H212 -> 0 | G33: =C33*F33 -> 0 | H33: =내역서!J212 -> 0 | I33: =C33*H33 -> 0 | J33: =D33+F33+H33 -> 0 | K33: =E33+G33+I33 -> 0 | P33: 1 | Q33: =C33*내역서!R212 -> 0 | R33: =C33*내역서!S212 -> 0 | S33: =C33*내역서!T212 -> 0 | T33: =C33*내역서!U212 -> 0 | U33: =C33*내역서!V212 -> 0 | V33: =C33*내역서!W212 -> 0 | W33: =C33*내역서!X212 -> 0 | X33: =C33*내역서!Y212 -> 0 | Y33: =C33*내역서!Z212 -> 0 | Z33: =C33*내역서!AA212 -> 0 | AA33: =C33*내역서!AB212 -> 0 | AB33: =C33*내역서!AC212 -> 0 | AC33: =C33*내역서!AD212 -> 0 | AD33: =C33*내역서!AE212 -> 0 | AE33: =C33*내역서!AF212 -> 0 | AF33: =C33*내역서!AG212 -> 0 | AG33: =C33*내역서!AH212 -> 0 | AH33: =C33*내역서!AI212 -> 0 | AI33: =C33*내역서!AJ212 -> 0 | AJ33: =C33*내역서!AK212 -> 0 | AK33: =C33*내역서!AL212 -> 0 | AL33: =C33*내역서!AM212 -> 0 | AM33: =C33*내역서!AN212 -> 0 | AN33: =C33*내역서!AO212 -> 0 | AO33: =C33*내역서!AP212 -> 0 | AP33: =C33*내역서!AQ212 -> 0 | AQ33: =C33*내역서!AR212 -> 0 | AR33: =C33*내역서!AS212 -> 0 | AS33: =C33*내역서!AT212 -> 0 | AT33: =C33*내역서!AU212 -> 0 | AU33: =C33*내역서!AV212 -> 0
A34: 0113. 금속공사 | B34: 식 | C34: 1 | D34: =내역서!F228 -> 0 | E34: =C34*D34 -> 0 | F34: =내역서!H228 -> 0 | G34: =C34*F34 -> 0 | H34: =내역서!J228 -> 0 | I34: =C34*H34 -> 0 | J34: =D34+F34+H34 -> 0 | K34: =E34+G34+I34 -> 0 | P34: 1 | Q34: =C34*내역서!R228 -> 0 | R34: =C34*내역서!S228 -> 0 | S34: =C34*내역서!T228 -> 0 | T34: =C34*내역서!U228 -> 0 | U34: =C34*내역서!V228 -> 0 | V34: =C34*내역서!W228 -> 0 | W34: =C34*내역서!X228 -> 0 | X34: =C34*내역서!Y228 -> 0 | Y34: =C34*내역서!Z228 -> 0 | Z34: =C34*내역서!AA228 -> 0 | AA34: =C34*내역서!AB228 -> 0 | AB34: =C34*내역서!AC228 -> 0 | AC34: =C34*내역서!AD228 -> 0 | AD34: =C34*내역서!AE228 -> 0 | AE34: =C34*내역서!AF228 -> 0 | AF34: =C34*내역서!AG228 -> 0 | AG34: =C34*내역서!AH228 -> 0 | AH34: =C34*내역서!AI228 -> 0 | AI34: =C34*내역서!AJ228 -> 0 | AJ34: =C34*내역서!AK228 -> 0 | AK34: =C34*내역서!AL228 -> 0 | AL34: =C34*내역서!AM228 -> 0 | AM34: =C34*내역서!AN228 -> 0 | AN34: =C34*내역서!AO228 -> 0 | AO34: =C34*내역서!AP228 -> 0 | AP34: =C34*내역서!AQ228 -> 0 | AQ34: =C34*내역서!AR228 -> 0 | AR34: =C34*내역서!AS228 -> 0 | AS34: =C34*내역서!AT228 -> 0 | AT34: =C34*내역서!AU228 -> 0 | AU34: =C34*내역서!AV228 -> 0
A35: 0114. 미장공사 | B35: 식 | C35: 1 | D35: =내역서!F244 -> 0 | E35: =C35*D35 -> 0 | F35: =내역서!H244 -> 0 | G35: =C35*F35 -> 0 | H35: =내역서!J244 -> 0 | I35: =C35*H35 -> 0 | J35: =D35+F35+H35 -> 0 | K35: =E35+G35+I35 -> 0 | P35: 1 | Q35: =C35*내역서!R244 -> 0 | R35: =C35*내역서!S244 -> 0 | S35: =C35*내역서!T244 -> 0 | T35: =C35*내역서!U244 -> 0 | U35: =C35*내역서!V244 -> 0 | V35: =C35*내역서!W244 -> 0 | W35: =C35*내역서!X244 -> 0 | X35: =C35*내역서!Y244 -> 0 | Y35: =C35*내역서!Z244 -> 0 | Z35: =C35*내역서!AA244 -> 0 | AA35: =C35*내역서!AB244 -> 0 | AB35: =C35*내역서!AC244 -> 0 | AC35: =C35*내역서!AD244 -> 0 | AD35: =C35*내역서!AE244 -> 0 | AE35: =C35*내역서!AF244 -> 0 | AF35: =C35*내역서!AG244 -> 0 | AG35: =C35*내역서!AH244 -> 0 | AH35: =C35*내역서!AI244 -> 0 | AI35: =C35*내역서!AJ244 -> 0 | AJ35: =C35*내역서!AK244 -> 0 | AK35: =C35*내역서!AL244 -> 0 | AL35: =C35*내역서!AM244 -> 0 | AM35: =C35*내역서!AN244 -> 0 | AN35: =C35*내역서!AO244 -> 0 | AO35: =C35*내역서!AP244 -> 0 | AP35: =C35*내역서!AQ244 -> 0 | AQ35: =C35*내역서!AR244 -> 0 | AR35: =C35*내역서!AS244 -> 0 | AS35: =C35*내역서!AT244 -> 0 | AT35: =C35*내역서!AU244 -> 0 | AU35: =C35*내역서!AV244 -> 0
A36: 0115. 창호공사 | B36: 식 | C36: 1 | D36: =내역서!F260 -> 0 | E36: =C36*D36 -> 0 | F36: =내역서!H260 -> 0 | G36: =C36*F36 -> 0 | H36: =내역서!J260 -> 0 | I36: =C36*H36 -> 0 | J36: =D36+F36+H36 -> 0 | K36: =E36+G36+I36 -> 0 | P36: 1 | Q36: =C36*내역서!R260 -> 0 | R36: =C36*내역서!S260 -> 0 | S36: =C36*내역서!T260 -> 0 | T36: =C36*내역서!U260 -> 0 | U36: =C36*내역서!V260 -> 0 | V36: =C36*내역서!W260 -> 0 | W36: =C36*내역서!X260 -> 0 | X36: =C36*내역서!Y260 -> 0 | Y36: =C36*내역서!Z260 -> 0 | Z36: =C36*내역서!AA260 -> 0 | AA36: =C36*내역서!AB260 -> 0 | AB36: =C36*내역서!AC260 -> 0 | AC36: =C36*내역서!AD260 -> 0 | AD36: =C36*내역서!AE260 -> 0 | AE36: =C36*내역서!AF260 -> 0 | AF36: =C36*내역서!AG260 -> 0 | AG36: =C36*내역서!AH260 -> 0 | AH36: =C36*내역서!AI260 -> 0 | AI36: =C36*내역서!AJ260 -> 0 | AJ36: =C36*내역서!AK260 -> 0 | AK36: =C36*내역서!AL260 -> 0 | AL36: =C36*내역서!AM260 -> 0 | AM36: =C36*내역서!AN260 -> 0 | AN36: =C36*내역서!AO260 -> 0 | AO36: =C36*내역서!AP260 -> 0 | AP36: =C36*내역서!AQ260 -> 0 | AQ36: =C36*내역서!AR260 -> 0 | AR36: =C36*내역서!AS260 -> 0 | AS36: =C36*내역서!AT260 -> 0 | AT36: =C36*내역서!AU260 -> 0 | AU36: =C36*내역서!AV260 -> 0
A37: 0116. 유리공사 | B37: 식 | C37: 1 | D37: =내역서!F276 -> 0 | E37: =C37*D37 -> 0 | F37: =내역서!H276 -> 0 | G37: =C37*F37 -> 0 | H37: =내역서!J276 -> 0 | I37: =C37*H37 -> 0 | J37: =D37+F37+H37 -> 0 | K37: =E37+G37+I37 -> 0 | P37: 1 | Q37: =C37*내역서!R276 -> 0 | R37: =C37*내역서!S276 -> 0 | S37: =C37*내역서!T276 -> 0 | T37: =C37*내역서!U276 -> 0 | U37: =C37*내역서!V276 -> 0 | V37: =C37*내역서!W276 -> 0 | W37: =C37*내역서!X276 -> 0 | X37: =C37*내역서!Y276 -> 0 | Y37: =C37*내역서!Z276 -> 0 | Z37: =C37*내역서!AA276 -> 0 | AA37: =C37*내역서!AB276 -> 0 | AB37: =C37*내역서!AC276 -> 0 | AC37: =C37*내역서!AD276 -> 0 | AD37: =C37*내역서!AE276 -> 0 | AE37: =C37*내역서!AF276 -> 0 | AF37: =C37*내역서!AG276 -> 0 | AG37: =C37*내역서!AH276 -> 0 | AH37: =C37*내역서!AI276 -> 0 | AI37: =C37*내역서!AJ276 -> 0 | AJ37: =C37*내역서!AK276 -> 0 | AK37: =C37*내역서!AL276 -> 0 | AL37: =C37*내역서!AM276 -> 0 | AM37: =C37*내역서!AN276 -> 0 | AN37: =C37*내역서!AO276 -> 0 | AO37: =C37*내역서!AP276 -> 0 | AP37: =C37*내역서!AQ276 -> 0 | AQ37: =C37*내역서!AR276 -> 0 | AR37: =C37*내역서!AS276 -> 0 | AS37: =C37*내역서!AT276 -> 0 | AT37: =C37*내역서!AU276 -> 0 | AU37: =C37*내역서!AV276 -> 0
A38: 0117. 도장공사 | B38: 식 | C38: 1 | D38: =내역서!F292 -> 0 | E38: =C38*D38 -> 0 | F38: =내역서!H292 -> 0 | G38: =C38*F38 -> 0 | H38: =내역서!J292 -> 0 | I38: =C38*H38 -> 0 | J38: =D38+F38+H38 -> 0 | K38: =E38+G38+I38 -> 0 | P38: 1 | Q38: =C38*내역서!R292 -> 0 | R38: =C38*내역서!S292 -> 0 | S38: =C38*내역서!T292 -> 0 | T38: =C38*내역서!U292 -> 0 | U38: =C38*내역서!V292 -> 0 | V38: =C38*내역서!W292 -> 0 | W38: =C38*내역서!X292 -> 0 | X38: =C38*내역서!Y292 -> 0 | Y38: =C38*내역서!Z292 -> 0 | Z38: =C38*내역서!AA292 -> 0 | AA38: =C38*내역서!AB292 -> 0 | AB38: =C38*내역서!AC292 -> 0 | AC38: =C38*내역서!AD292 -> 0 | AD38: =C38*내역서!AE292 -> 0 | AE38: =C38*내역서!AF292 -> 0 | AF38: =C38*내역서!AG292 -> 0 | AG38: =C38*내역서!AH292 -> 0 | AH38: =C38*내역서!AI292 -> 0 | AI38: =C38*내역서!AJ292 -> 0 | AJ38: =C38*내역서!AK292 -> 0 | AK38: =C38*내역서!AL292 -> 0 | AL38: =C38*내역서!AM292 -> 0 | AM38: =C38*내역서!AN292 -> 0 | AN38: =C38*내역서!AO292 -> 0 | AO38: =C38*내역서!AP292 -> 0 | AP38: =C38*내역서!AQ292 -> 0 | AQ38: =C38*내역서!AR292 -> 0 | AR38: =C38*내역서!AS292 -> 0 | AS38: =C38*내역서!AT292 -> 0 | AT38: =C38*내역서!AU292 -> 0 | AU38: =C38*내역서!AV292 -> 0
A39: 0118. 철거공사 | B39: 식 | C39: 1 | D39: =내역서!F308 -> 0 | E39: =C39*D39 -> 0 | F39: =내역서!H308 -> 0 | G39: =C39*F39 -> 0 | H39: =내역서!J308 -> 0 | I39: =C39*H39 -> 0 | J39: =D39+F39+H39 -> 0 | K39: =E39+G39+I39 -> 0 | P39: 1 | Q39: =C39*내역서!R308 -> 0 | R39: =C39*내역서!S308 -> 0 | S39: =C39*내역서!T308 -> 0 | T39: =C39*내역서!U308 -> 0 | U39: =C39*내역서!V308 -> 0 | V39: =C39*내역서!W308 -> 0 | W39: =C39*내역서!X308 -> 0 | X39: =C39*내역서!Y308 -> 0 | Y39: =C39*내역서!Z308 -> 0 | Z39: =C39*내역서!AA308 -> 0 | AA39: =C39*내역서!AB308 -> 0 | AB39: =C39*내역서!AC308 -> 0 | AC39: =C39*내역서!AD308 -> 0 | AD39: =C39*내역서!AE308 -> 0 | AE39: =C39*내역서!AF308 -> 0 | AF39: =C39*내역서!AG308 -> 0 | AG39: =C39*내역서!AH308 -> 0 | AH39: =C39*내역서!AI308 -> 0 | AI39: =C39*내역서!AJ308 -> 0 | AJ39: =C39*내역서!AK308 -> 0 | AK39: =C39*내역서!AL308 -> 0 | AL39: =C39*내역서!AM308 -> 0 | AM39: =C39*내역서!AN308 -> 0 | AN39: =C39*내역서!AO308 -> 0 | AO39: =C39*내역서!AP308 -> 0 | AP39: =C39*내역서!AQ308 -> 0 | AQ39: =C39*내역서!AR308 -> 0 | AR39: =C39*내역서!AS308 -> 0 | AS39: =C39*내역서!AT308 -> 0 | AT39: =C39*내역서!AU308 -> 0 | AU39: =C39*내역서!AV308 -> 0
A40: 0119. 폐기물처리비 | B40: 식 | C40: 1 | D40: =내역서!F324 -> 0 | E40: =C40*D40 -> 0 | F40: =내역서!H324 -> 0 | G40: =C40*F40 -> 0 | H40: =내역서!J324 -> 0 | I40: =C40*H40 -> 0 | J40: =D40+F40+H40 -> 0 | K40: =E40+G40+I40 -> 0 | L40: 합계제외 | Q40: =C40*내역서!R324 -> 0 | R40: =C40*내역서!S324 -> 0 | S40: =C40*내역서!T324 -> 0 | T40: =C40*내역서!U324 -> 0 | U40: =C40*내역서!V324 -> 0 | V40: =C40*내역서!W324 -> 0 | W40: =C40*내역서!X324 -> 0 | X40: =C40*내역서!Y324 -> 0 | Y40: =C40*내역서!Z324 -> 0 | Z40: =C40*내역서!AA324 -> 0 | AA40: =C40*내역서!AB324 -> 0 | AB40: =C40*내역서!AC324 -> 0 | AC40: =C40*내역서!AD324 -> 0 | AD40: =C40*내역서!AE324 -> 0 | AE40: =C40*내역서!AF324 -> 0 | AF40: =C40*내역서!AG324 -> 0 | AG40: =C40*내역서!AH324 -> 0 | AH40: =C40*내역서!AI324 -> 0 | AI40: =C40*내역서!AJ324 -> 0 | AJ40: =C40*내역서!AK324 -> 0 | AK40: =C40*내역서!AL324 -> 0 | AL40: =C40*내역서!AM324 -> 0 | AM40: =C40*내역서!AN324 -> 0 | AN40: =C40*내역서!AO324 -> 0 | AO40: =C40*내역서!AP324 -> 0 | AP40: =C40*내역서!AQ324 -> 0 | AQ40: =C40*내역서!AR324 -> 0 | AR40: =C40*내역서!AS324 -> 0 | AS40: =C40*내역서!AT324 -> 0 | AT40: =C40*내역서!AU324 -> 0 | AU40: =C40*내역서!AV324 -> 0
A41: 0120. 발생물처리비 | B41: 식 | C41: 1 | D41: =내역서!F340 -> 0 | E41: =C41*D41 -> 0 | F41: =내역서!H340 -> 0 | G41: =C41*F41 -> 0 | H41: =내역서!J340 -> 0 | I41: =C41*H41 -> 0 | J41: =D41+F41+H41 -> 0 | K41: =E41+G41+I41 -> 0 | L41: 합계제외 | Q41: =C41*내역서!R340 -> 0 | R41: =C41*내역서!S340 -> 0 | S41: =C41*내역서!T340 -> 0 | T41: =C41*내역서!U340 -> 0 | U41: =C41*내역서!V340 -> 0 | V41: =C41*내역서!W340 -> 0 | W41: =C41*내역서!X340 -> 0 | X41: =C41*내역서!Y340 -> 0 | Y41: =C41*내역서!Z340 -> 0 | Z41: =C41*내역서!AA340 -> 0 | AA41: =C41*내역서!AB340 -> 0 | AB41: =C41*내역서!AC340 -> 0 | AC41: =C41*내역서!AD340 -> 0 | AD41: =C41*내역서!AE340 -> 0 | AE41: =C41*내역서!AF340 -> 0 | AF41: =C41*내역서!AG340 -> 0 | AG41: =C41*내역서!AH340 -> 0 | AH41: =C41*내역서!AI340 -> 0 | AI41: =C41*내역서!AJ340 -> 0 | AJ41: =C41*내역서!AK340 -> 0 | AK41: =C41*내역서!AL340 -> 0 | AL41: =C41*내역서!AM340 -> 0 | AM41: =C41*내역서!AN340 -> 0 | AN41: =C41*내역서!AO340 -> 0 | AO41: =C41*내역서!AP340 -> 0 | AP41: =C41*내역서!AQ340 -> 0 | AQ41: =C41*내역서!AR340 -> 0 | AR41: =C41*내역서!AS340 -> 0 | AS41: =C41*내역서!AT340 -> 0 | AT41: =C41*내역서!AU340 -> 0 | AU41: =C41*내역서!AV340 -> 0
A52: 합 계 | E52: =SUMIF(P22:P41, "1", E22:E41) -> 0 | G52: =SUMIF(P22:P41, "1", G22:G41) -> 0 | I52: =SUMIF(P22:P41, "1", I22:I41) -> 0 | K52: =E52+G52+I52 -> 0 | Q52: =SUM(Q22:Q41) -> 0 | R52: =SUM(R22:R41) -> 0 | S52: =SUM(S22:S41) -> 0 | T52: =SUM(T22:T41) -> 0 | U52: =SUM(U22:U41) -> 0 | V52: =SUM(V22:V41) -> 0 | W52: =SUM(W22:W41) -> 0 | X52: =SUM(X22:X41) -> 0 | ... AX52: =SUM(AX22:AX41) -> 0

Sheet 내역서
A1: 공 사 내 역 서
A2: 공사명 : 북부운전면허시험장 측정실 보강공사
A3: 품 명 | B3: 규 격 | C3: 단위 | D3: 수 량 | E3: 재 료 비 | G3: 노 무 비 | I3: 경 비 | K3: 합 계 | M3: 비고
E4: 단 가 | F4: 금 액 | G4: 단 가 | H4: 금 액 | I4: 단 가 | J4: 금 액 | K4: 단 가 | L4: 금 액 | N4: 손료요율 | O4: 손료구분 | P4: 적용구분 | Q4: 합계구분 | R4: 기계경비 | S4: 운반비 | T4: 작업부산물 | U4: 관급 | V4: 외주비 | W4: 장비비 | X4: 폐기물처리비 | Y4: 가설비 | Z4: 잡비제외분 | AA4: 사급자재대 | AB4: 관급자재대 | AC4: 관급자 관급 자재대 | AD4: 사용자항목2 | AE4: 안전관리비 | AF4: 품질관리비 | AG4: 작업부산물(철거해체) | AH4: 사용자항목6 | AI4: 사용자항목7 | AJ4: 사용자항목8 | AK4: 사용자항목9 | AL4: 사용자항목10 | AM4: 사용자항목11 | AN4: 사용자항목12 | AO4: 사용자항목13 | AP4: 사용자항목14 | AQ4: 사용자항목15 | AR4: 사용자항목16 | AS4: 사용자항목17 | AT4: 사용자항목18 | AU4: 사용자항목19 | AV4: 간접재료비 | AW4: 품목구분 | AX4: 조달코드 | AY4: 구분
A5: 0101. 가설공사
A6: 가설샌드위치패널설치 | B6: "A"TYPE THK50MM EPS 준불연,2.5M*2.5M,쌍도어판넬 | C6: 개소당 | D6: 1 | F6: =ROUNDDOWN(D6*E6, 0) -> 0 | H6: =ROUNDDOWN(D6*G6, 0) -> 0 | J6: =ROUNDDOWN(D6*I6, 0) -> 0 | K6: =E6+G6+I6 -> 0 | L6: =F6+H6+J6 -> 0 | M6: 일위 1호 | O6: ="" | P6: 기계경비 | Q6: 1 | R6: =IF(P6="기계경비", J6, 0) -> 0 | S6: =IF(P6="운반비", L6, 0) -> 0 | T6: =IF(P6="작업부산물", F6, 0) -> 0 | U6: =IF(P6="관급", F6, 0) -> 0 | V6: =IF(P6="외주비", J6, 0) -> 0 | W6: =IF(P6="장비비", J6, 0) -> 0 | X6: =IF(P6="폐기물처리비", L6, 0) -> 0 | Y6: =IF(P6="가설비", J6, 0) -> 0 | Z6: =IF(P6="잡비제외분", F6, 0) -> 0 | AA6: =IF(P6="사급자재대", L6, 0) -> 0 | AB6: =IF(P6="관급자재대", L6, 0) -> 0 | AC6: =IF(P6="관급자 관급 자재대", L6, 0) -> 0 | AD6: =IF(P6="사용자항목2", L6, 0) -> 0 | AE6: =IF(P6="안전관리비", L6, 0) -> 0 | AF6: =IF(P6="품질관리비", L6, 0) -> 0 | AG6: =IF(P6="작업부산물(철거해체)", L6, 0) -> 0 | AH6: =IF(P6="사용자항목6", L6, 0) -> 0 | AI6: =IF(P6="사용자항목7", L6, 0) -> 0 | AJ6: =IF(P6="사용자항목8", L6, 0) -> 0 | AK6: =IF(P6="사용자항목9", L6, 0) -> 0 | AL6: =IF(P6="사용자항목10", L6, 0) -> 0 | AM6: =IF(P6="사용자항목11", L6, 0) -> 0 | AN6: =IF(P6="사용자항목12", L6, 0) -> 0 | AO6: =IF(P6="사용자항목13", L6, 0) -> 0 | AP6: =IF(P6="사용자항목14", L6, 0) -> 0 | AQ6: =IF(P6="사용자항목15", L6, 0) -> 0 | AR6: =IF(P6="사용자항목16", L6, 0) -> 0 | AS6: =IF(P6="사용자항목17", L6, 0) -> 0 | AT6: =IF(P6="사용자항목18", L6, 0) -> 0 | AU6: =IF(P6="사용자항목19", L6, 0) -> 0
A7: 가설샌드위치패널설치 | B7: "B"TYPE THK50MM EPS 준불연,2.5M*2.5M,외도어판넬 | C7: 개소당 | D7: 2 | F7: =ROUNDDOWN(D7*E7, 0) -> 0 | H7: =ROUNDDOWN(D7*G7, 0) -> 0 | J7: =ROUNDDOWN(D7*I7, 0) -> 0 | K7: =E7+G7+I7 -> 0 | L7: =F7+H7+J7 -> 0 | M7: 일위 2호 | O7: ="" | P7: 기계경비 | Q7: 1 | R7: =IF(P7="기계경비", J7, 0) -> 0 | S7: =IF(P7="운반비", L7, 0) -> 0 | T7: =IF(P7="작업부산물", F7, 0) -> 0 | U7: =IF(P7="관급", F7, 0) -> 0 | V7: =IF(P7="외주비", J7, 0) -> 0 | W7: =IF(P7="장비비", J7, 0) -> 0 | X7: =IF(P7="폐기물처리비", L7, 0) -> 0 | Y7: =IF(P7="가설비", J7, 0) -> 0 | Z7: =IF(P7="잡비제외분", F7, 0) -> 0 | AA7: =IF(P7="사급자재대", L7, 0) -> 0 | AB7: =IF(P7="관급자재대", L7, 0) -> 0 | AC7: =IF(P7="관급자 관급 자재대", L7, 0) -> 0 | AD7: =IF(P7="사용자항목2", L7, 0) -> 0 | AE7: =IF(P7="안전관리비", L7, 0) -> 0 | AF7: =IF(P7="품질관리비", L7, 0) -> 0 | AG7: =IF(P7="작업부산물(철거해체)", L7, 0) -> 0 | AH7: =IF(P7="사용자항목6", L7, 0) -> 0 | AI7: =IF(P7="사용자항목7", L7, 0) -> 0 | AJ7: =IF(P7="사용자항목8", L7, 0) -> 0 | AK7: =IF(P7="사용자항목9", L7, 0) -> 0 | AL7: =IF(P7="사용자항목10", L7, 0) -> 0 | AM7: =IF(P7="사용자항목11", L7, 0) -> 0 | AN7: =IF(P7="사용자항목12", L7, 0) -> 0 | AO7: =IF(P7="사용자항목13", L7, 0) -> 0 | AP7: =IF(P7="사용자항목14", L7, 0) -> 0 | AQ7: =IF(P7="사용자항목15", L7, 0) -> 0 | AR7: =IF(P7="사용자항목16", L7, 0) -> 0 | AS7: =IF(P7="사용자항목17", L7, 0) -> 0 | AT7: =IF(P7="사용자항목18", L7, 0) -> 0 | AU7: =IF(P7="사용자항목19", L7, 0) -> 0
A8: 가설샌드위치패널설치 | B8: "C"TYPE THK50MM EPS 준불연,6.9M*2.59M | C8: 개소당 | D8: 1 | F8: =ROUNDDOWN(D8*E8, 0) -> 0 | H8: =ROUNDDOWN(D8*G8, 0) -> 0 | J8: =ROUNDDOWN(D8*I8, 0) -> 0 | K8: =E8+G8+I8 -> 0 | L8: =F8+H8+J8 -> 0 | M8: 일위 3호 | O8: ="" | P8: 기계경비 | Q8: 1 | R8: =IF(P8="기계경비", J8, 0) -> 0 | S8: =IF(P8="운반비", L8, 0) -> 0 | T8: =IF(P8="작업부산물", F8, 0) -> 0 | U8: =IF(P8="관급", F8, 0) -> 0 | V8: =IF(P8="외주비", J8, 0) -> 0 | W8: =IF(P8="장비비", J8, 0) -> 0 | X8: =IF(P8="폐기물처리비", L8, 0) -> 0 | Y8: =IF(P8="가설비", J8, 0) -> 0 | Z8: =IF(P8="잡비제외분", F8, 0) -> 0 | AA8: =IF(P8="사급자재대", L8, 0) -> 0 | AB8: =IF(P8="관급자재대", L8, 0) -> 0 | AC8: =IF(P8="관급자 관급 자재대", L8, 0) -> 0 | AD8: =IF(P8="사용자항목2", L8, 0) -> 0 | AE8: =IF(P8="안전관리비", L8, 0) -> 0 | AF8: =IF(P8="품질관리비", L8, 0) -> 0 | AG8: =IF(P8="작업부산물(철거해체)", L8, 0) -> 0 | AH8: =IF(P8="사용자항목6", L8, 0) -> 0 | AI8: =IF(P8="사용자항목7", L8, 0) -> 0 | AJ8: =IF(P8="사용자항목8", L8, 0) -> 0 | AK8: =IF(P8="사용자항목9", L8, 0) -> 0 | AL8: =IF(P8="사용자항목10", L8, 0) -> 0 | AM8: =IF(P8="사용자항목11", L8, 0) -> 0 | AN8: =IF(P8="사용자항목12", L8, 0) -> 0 | AO8: =IF(P8="사용자항목13", L8, 0) -> 0 | AP8: =IF(P8="사용자항목14", L8, 0) -> 0 | AQ8: =IF(P8="사용자항목15", L8, 0) -> 0 | AR8: =IF(P8="사용자항목16", L8, 0) -> 0 | AS8: =IF(P8="사용자항목17", L8, 0) -> 0 | AT8: =IF(P8="사용자항목18", L8, 0) -> 0 | AU8: =IF(P8="사용자항목19", L8, 0) -> 0
A9: 조립말비계 | B9: 3개월,1단(2m) | C9: 대 | D9: 2 | F9: =ROUNDDOWN(D9*E9, 0) -> 0 | H9: =ROUNDDOWN(D9*G9, 0) -> 0 | J9: =ROUNDDOWN(D9*I9, 0) -> 0 | K9: =E9+G9+I9 -> 0 | L9: =F9+H9+J9 -> 0 | M9: 일위 4호 | O9: ="" | P9: 기계경비 | Q9: 1 | R9: =IF(P9="기계경비", J9, 0) -> 0 | S9: =IF(P9="운반비", L9, 0) -> 0 | T9: =IF(P9="작업부산물", F9, 0) -> 0 | U9: =IF(P9="관급", F9, 0) -> 0 | V9: =IF(P9="외주비", J9, 0) -> 0 | W9: =IF(P9="장비비", J9, 0) -> 0 | X9: =IF(P9="폐기물처리비", L9, 0) -> 0 | Y9: =IF(P9="가설비", J9, 0) -> 0 | Z9: =IF(P9="잡비제외분", F9, 0) -> 0 | AA9: =IF(P9="사급자재대", L9, 0) -> 0 | AB9: =IF(P9="관급자재대", L9, 0) -> 0 | AC9: =IF(P9="관급자 관급 자재대", L9, 0) -> 0 | AD9: =IF(P9="사용자항목2", L9, 0) -> 0 | AE9: =IF(P9="안전관리비", L9, 0) -> 0 | AF9: =IF(P9="품질관리비", L9, 0) -> 0 | AG9: =IF(P9="작업부산물(철거해체)", L9, 0) -> 0 | AH9: =IF(P9="사용자항목6", L9, 0) -> 0 | AI9: =IF(P9="사용자항목7", L9, 0) -> 0 | AJ9: =IF(P9="사용자항목8", L9, 0) -> 0 | AK9: =IF(P9="사용자항목9", L9, 0) -> 0 | AL9: =IF(P9="사용자항목10", L9, 0) -> 0 | AM9: =IF(P9="사용자항목11", L9, 0) -> 0 | AN9: =IF(P9="사용자항목12", L9, 0) -> 0 | AO9: =IF(P9="사용자항목13", L9, 0) -> 0 | AP9: =IF(P9="사용자항목14", L9, 0) -> 0 | AQ9: =IF(P9="사용자항목15", L9, 0) -> 0 | AR9: =IF(P9="사용자항목16", L9, 0) -> 0 | AS9: =IF(P9="사용자항목17", L9, 0) -> 0 | AT9: =IF(P9="사용자항목18", L9, 0) -> 0 | AU9: =IF(P9="사용자항목19", L9, 0) -> 0
A10: 건축물보양 | B10: 부직포 깔기 | C10: M2 | D10: 36.72 | F10: =ROUNDDOWN(D10*E10, 0) -> 0 | H10: =ROUNDDOWN(D10*G10, 0) -> 0 | J10: =ROUNDDOWN(D10*I10, 0) -> 0 | K10: =E10+G10+I10 -> 0 | L10: =F10+H10+J10 -> 0 | M10: 일위 5호 | O10: ="" | P10: 기계경비 | Q10: 1 | R10: =IF(P10="기계경비", J10, 0) -> 0 | S10: =IF(P10="운반비", L10, 0) -> 0 | T10: =IF(P10="작업부산물", F10, 0) -> 0 | U10: =IF(P10="관급", F10, 0) -> 0 | V10: =IF(P10="외주비", J10, 0) -> 0 | W10: =IF(P10="장비비", J10, 0) -> 0 | X10: =IF(P10="폐기물처리비", L10, 0) -> 0 | Y10: =IF(P10="가설비", J10, 0) -> 0 | Z10: =IF(P10="잡비제외분", F10, 0) -> 0 | AA10: =IF(P10="사급자재대", L10, 0) -> 0 | AB10: =IF(P10="관급자재대", L10, 0) -> 0 | AC10: =IF(P10="관급자 관급 자재대", L10, 0) -> 0 | AD10: =IF(P10="사용자항목2", L10, 0) -> 0 | AE10: =IF(P10="안전관리비", L10, 0) -> 0 | AF10: =IF(P10="품질관리비", L10, 0) -> 0 | AG10: =IF(P10="작업부산물(철거해체)", L10, 0) -> 0 | AH10: =IF(P10="사용자항목6", L10, 0) -> 0 | AI10: =IF(P10="사용자항목7", L10, 0) -> 0 | AJ10: =IF(P10="사용자항목8", L10, 0) -> 0 | AK10: =IF(P10="사용자항목9", L10, 0) -> 0 | AL10: =IF(P10="사용자항목10", L10, 0) -> 0 | AM10: =IF(P10="사용자항목11", L10, 0) -> 0 | AN10: =IF(P10="사용자항목12", L10, 0) -> 0 | AO10: =IF(P10="사용자항목13", L10, 0) -> 0 | AP10: =IF(P10="사용자항목14", L10, 0) -> 0 | AQ10: =IF(P10="사용자항목15", L10, 0) -> 0 | AR10: =IF(P10="사용자항목16", L10, 0) -> 0 | AS10: =IF(P10="사용자항목17", L10, 0) -> 0 | AT10: =IF(P10="사용자항목18", L10, 0) -> 0 | AU10: =IF(P10="사용자항목19", L10, 0) -> 0
A11: 건축물 현장정리 | B11: 개보수공사(기존 건물 사용 중 공사) | C11: m2 | D11: 36.72 | F11: =ROUNDDOWN(D11*E11, 0) -> 0 | H11: =ROUNDDOWN(D11*G11, 0) -> 0 | J11: =ROUNDDOWN(D11*I11, 0) -> 0 | K11: =E11+G11+I11 -> 0 | L11: =F11+H11+J11 -> 0 | M11: 일위 6호 | O11: ="" | P11: 기계경비 | Q11: 1 | R11: =IF(P11="기계경비", J11, 0) -> 0 | S11: =IF(P11="운반비", L11, 0) -> 0 | T11: =IF(P11="작업부산물", F11, 0) -> 0 | U11: =IF(P11="관급", F11, 0) -> 0 | V11: =IF(P11="외주비", J11, 0) -> 0 | W11: =IF(P11="장비비", J11, 0) -> 0 | X11: =IF(P11="폐기물처리비", L11, 0) -> 0 | Y11: =IF(P11="가설비", J11, 0) -> 0 | Z11: =IF(P11="잡비제외분", F11, 0) -> 0 | AA11: =IF(P11="사급자재대", L11, 0) -> 0 | AB11: =IF(P11="관급자재대", L11, 0) -> 0 | AC11: =IF(P11="관급자 관급 자재대", L11, 0) -> 0 | AD11: =IF(P11="사용자항목2", L11, 0) -> 0 | AE11: =IF(P11="안전관리비", L11, 0) -> 0 | AF11: =IF(P11="품질관리비", L11, 0) -> 0 | AG11: =IF(P11="작업부산물(철거해체)", L11, 0) -> 0 | AH11: =IF(P11="사용자항목6", L11, 0) -> 0 | AI11: =IF(P11="사용자항목7", L11, 0) -> 0 | AJ11: =IF(P11="사용자항목8", L11, 0) -> 0 | AK11: =IF(P11="사용자항목9", L11, 0) -> 0 | AL11: =IF(P11="사용자항목10", L11, 0) -> 0 | AM11: =IF(P11="사용자항목11", L11, 0) -> 0 | AN11: =IF(P11="사용자항목12", L11, 0) -> 0 | AO11: =IF(P11="사용자항목13", L11, 0) -> 0 | AP11: =IF(P11="사용자항목14", L11, 0) -> 0 | AQ11: =IF(P11="사용자항목15", L11, 0) -> 0 | AR11: =IF(P11="사용자항목16", L11, 0) -> 0 | AS11: =IF(P11="사용자항목17", L11, 0) -> 0 | AT11: =IF(P11="사용자항목18", L11, 0) -> 0 | AU11: =IF(P11="사용자항목19", L11, 0) -> 0 | AY11: 시장시공가격
A12: 자재 소운반(15층 이하 기준) | C12: M2 | D12: 36.72 | F12: =ROUNDDOWN(D12*E12, 0) -> 0 | H12: =ROUNDDOWN(D12*G12, 0) -> 0 | J12: =ROUNDDOWN(D12*I12, 0) -> 0 | K12: =E12+G12+I12 -> 0 | L12: =F12+H12+J12 -> 0 | M12: 일위 7호 | O12: ="" | P12: 기계경비 | Q12: 1 | R12: =IF(P12="기계경비", J12, 0) -> 0 | S12: =IF(P12="운반비", L12, 0) -> 0 | T12: =IF(P12="작업부산물", F12, 0) -> 0 | U12: =IF(P12="관급", F12, 0) -> 0 | V12: =IF(P12="외주비", J12, 0) -> 0 | W12: =IF(P12="장비비", J12, 0) -> 0 | X12: =IF(P12="폐기물처리비", L12, 0) -> 0 | Y12: =IF(P12="가설비", J12, 0) -> 0 | Z12: =IF(P12="잡비제외분", F12, 0) -> 0 | AA12: =IF(P12="사급자재대", L12, 0) -> 0 | AB12: =IF(P12="관급자재대", L12, 0) -> 0 | AC12: =IF(P12="관급자 관급 자재대", L12, 0) -> 0 | AD12: =IF(P12="사용자항목2", L12, 0) -> 0 | AE12: =IF(P12="안전관리비", L12, 0) -> 0 | AF12: =IF(P12="품질관리비", L12, 0) -> 0 | AG12: =IF(P12="작업부산물(철거해체)", L12, 0) -> 0 | AH12: =IF(P12="사용자항목6", L12, 0) -> 0 | AI12: =IF(P12="사용자항목7", L12, 0) -> 0 | AJ12: =IF(P12="사용자항목8", L12, 0) -> 0 | AK12: =IF(P12="사용자항목9", L12, 0) -> 0 | AL12: =IF(P12="사용자항목10", L12, 0) -> 0 | AM12: =IF(P12="사용자항목11", L12, 0) -> 0 | AN12: =IF(P12="사용자항목12", L12, 0) -> 0 | AO12: =IF(P12="사용자항목13", L12, 0) -> 0 | AP12: =IF(P12="사용자항목14", L12, 0) -> 0 | AQ12: =IF(P12="사용자항목15", L12, 0) -> 0 | AR12: =IF(P12="사용자항목16", L12, 0) -> 0 | AS12: =IF(P12="사용자항목17", L12, 0) -> 0 | AT12: =IF(P12="사용자항목18", L12, 0) -> 0 | AU12: =IF(P12="사용자항목19", L12, 0) -> 0 | AY12: 실내건축
A13: 자재 소운반(15층 이하 기준) | B13: 파렛트등잡자재 | C13: M2 | D13: 12.54 | F13: =ROUNDDOWN(D13*E13, 0) -> 0 | H13: =ROUNDDOWN(D13*G13, 0) -> 0 | J13: =ROUNDDOWN(D13*I13, 0) -> 0 | K13: =E13+G13+I13 -> 0 | L13: =F13+H13+J13 -> 0 | M13: 일위 8호 | O13: ="" | P13: 기계경비 | Q13: 1 | R13: =IF(P13="기계경비", J13, 0) -> 0 | S13: =IF(P13="운반비", L13, 0) -> 0 | T13: =IF(P13="작업부산물", F13, 0) -> 0 | U13: =IF(P13="관급", F13, 0) -> 0 | V13: =IF(P13="외주비", J13, 0) -> 0 | W13: =IF(P13="장비비", J13, 0) -> 0 | X13: =IF(P13="폐기물처리비", L13, 0) -> 0 | Y13: =IF(P13="가설비", J13, 0) -> 0 | Z13: =IF(P13="잡비제외분", F13, 0) -> 0 | AA13: =IF(P13="사급자재대", L13, 0) -> 0 | AB13: =IF(P13="관급자재대", L13, 0) -> 0 | AC13: =IF(P13="관급자 관급 자재대", L13, 0) -> 0 | AD13: =IF(P13="사용자항목2", L13, 0) -> 0 | AE13: =IF(P13="안전관리비", L13, 0) -> 0 | AF13: =IF(P13="품질관리비", L13, 0) -> 0 | AG13: =IF(P13="작업부산물(철거해체)", L13, 0) -> 0 | AH13: =IF(P13="사용자항목6", L13, 0) -> 0 | AI13: =IF(P13="사용자항목7", L13, 0) -> 0 | AJ13: =IF(P13="사용자항목8", L13, 0) -> 0 | AK13: =IF(P13="사용자항목9", L13, 0) -> 0 | AL13: =IF(P13="사용자항목10", L13, 0) -> 0 | AM13: =IF(P13="사용자항목11", L13, 0) -> 0 | AN13: =IF(P13="사용자항목12", L13, 0) -> 0 | AO13: =IF(P13="사용자항목13", L13, 0) -> 0 | AP13: =IF(P13="사용자항목14", L13, 0) -> 0 | AQ13: =IF(P13="사용자항목15", L13, 0) -> 0 | AR13: =IF(P13="사용자항목16", L13, 0) -> 0 | AS13: =IF(P13="사용자항목17", L13, 0) -> 0 | AT13: =IF(P13="사용자항목18", L13, 0) -> 0 | AU13: =IF(P13="사용자항목19", L13, 0) -> 0
A14: 준공청소 | C14: 연면적 ㎡ | D14: 36.72 | F14: =ROUNDDOWN(D14*E14, 0) -> 0 | H14: =ROUNDDOWN(D14*G14, 0) -> 0 | J14: =ROUNDDOWN(D14*I14, 0) -> 0 | K14: =E14+G14+I14 -> 0 | L14: =F14+H14+J14 -> 0 | M14: 일위 9호 | O14: ="" | P14: 기계경비 | Q14: 1 | R14: =IF(P14="기계경비", J14, 0) -> 0 | S14: =IF(P14="운반비", L14, 0) -> 0 | T14: =IF(P14="작업부산물", F14, 0) -> 0 | U14: =IF(P14="관급", F14, 0) -> 0 | V14: =IF(P14="외주비", J14, 0) -> 0 | W14: =IF(P14="장비비", J14, 0) -> 0 | X14: =IF(P14="폐기물처리비", L14, 0) -> 0 | Y14: =IF(P14="가설비", J14, 0) -> 0 | Z14: =IF(P14="잡비제외분", F14, 0) -> 0 | AA14: =IF(P14="사급자재대", L14, 0) -> 0 | AB14: =IF(P14="관급자재대", L14, 0) -> 0 | AC14: =IF(P14="관급자 관급 자재대", L14, 0) -> 0 | AD14: =IF(P14="사용자항목2", L14, 0) -> 0 | AE14: =IF(P14="안전관리비", L14, 0) -> 0 | AF14: =IF(P14="품질관리비", L14, 0) -> 0 | AG14: =IF(P14="작업부산물(철거해체)", L14, 0) -> 0 | AH14: =IF(P14="사용자항목6", L14, 0) -> 0 | AI14: =IF(P14="사용자항목7", L14, 0) -> 0 | AJ14: =IF(P14="사용자항목8", L14, 0) -> 0 | AK14: =IF(P14="사용자항목9", L14, 0) -> 0 | AL14: =IF(P14="사용자항목10", L14, 0) -> 0 | AM14: =IF(P14="사용자항목11", L14, 0) -> 0 | AN14: =IF(P14="사용자항목12", L14, 0) -> 0 | AO14: =IF(P14="사용자항목13", L14, 0) -> 0 | AP14: =IF(P14="사용자항목14", L14, 0) -> 0 | AQ14: =IF(P14="사용자항목15", L14, 0) -> 0 | AR14: =IF(P14="사용자항목16", L14, 0) -> 0 | AS14: =IF(P14="사용자항목17", L14, 0) -> 0 | AT14: =IF(P14="사용자항목18", L14, 0) -> 0 | AU14: =IF(P14="사용자항목19", L14, 0) -> 0 | AY14: AAD16000060S
A20: 합 계 | F20: =ROUNDDOWN(SUMIF(Q6:Q19, "1", F6:F19), 0) -> 0 | H20: =ROUNDDOWN(SUMIF(Q6:Q19, "1", H6:H19), 0) -> 0 | J20: =ROUNDDOWN(SUMIF(Q6:Q19, "1", J6:J19), 0) -> 0 | L20: =F20+H20+J20 -> 0 | R20: =ROUNDDOWN(SUM(R6:R14), 0) -> 0 | S20: =ROUNDDOWN(SUM(S6:S14), 0) -> 0 | T20: =ROUNDDOWN(SUM(T6:T14), 0) -> 0 | U20: =ROUNDDOWN(SUM(U6:U14), 0) -> 0 | V20: =ROUNDDOWN(SUM(V6:V14), 0) -> 0 | W20: =ROUNDDOWN(SUM(W6:W14), 0) -> 0 | X20: =ROUNDDOWN(SUM(X6:X14), 0) -> 0 | Y20: =ROUNDDOWN(SUM(Y6:Y14), 0) -> 0 | ... AY20: =ROUNDDOWN(SUM(AY6:AY14), 0) -> 0
A21: 0102. 토공사
A22: 굴착(인력/토사) | B22: 고사점토 및 자갈 섞인 토사 | C22: M3 | D22: 0.64 | F22: =ROUNDDOWN(D22*E22, 0) -> 0 | H22: =ROUNDDOWN(D22*G22, 0) -> 0 | J22: =ROUNDDOWN(D22*I22, 0) -> 0 | K22: =E22+G22+I22 -> 0 | L22: =F22+H22+J22 -> 0 | M22: 일위 10호 | O22: ="" | P22: 기계경비 | Q22: 1 | R22: =IF(P22="기계경비", J22, 0) -> 0 | S22: =IF(P22="운반비", L22, 0) -> 0 | T22: =IF(P22="작업부산물", F22, 0) -> 0 | U22: =IF(P22="관급", F22, 0) -> 0 | V22: =IF(P22="외주비", J22, 0) -> 0 | W22: =IF(P22="장비비", J22, 0) -> 0 | X22: =IF(P22="폐기물처리비", L22, 0) -> 0 | Y22: =IF(P22="가설비", J22, 0) -> 0 | Z22: =IF(P22="잡비제외분", F22, 0) -> 0 | AA22: =IF(P22="사급자재대", L22, 0) -> 0 | AB22: =IF(P22="관급자재대", L22, 0) -> 0 | AC22: =IF(P22="관급자 관급 자재대", L22, 0) -> 0 | AD22: =IF(P22="사용자항목2", L22, 0) -> 0 | AE22: =IF(P22="안전관리비", L22, 0) -> 0 | AF22: =IF(P22="품질관리비", L22, 0) -> 0 | AG22: =IF(P22="작업부산물(철거해체)", L22, 0) -> 0 | AH22: =IF(P22="사용자항목6", L22, 0) -> 0 | AI22: =IF(P22="사용자항목7", L22, 0) -> 0 | AJ22: =IF(P22="사용자항목8", L22, 0) -> 0 | AK22: =IF(P22="사용자항목9", L22, 0) -> 0 | AL22: =IF(P22="사용자항목10", L22, 0) -> 0 | AM22: =IF(P22="사용자항목11", L22, 0) -> 0 | AN22: =IF(P22="사용자항목12", L22, 0) -> 0 | AO22: =IF(P22="사용자항목13", L22, 0) -> 0 | AP22: =IF(P22="사용자항목14", L22, 0) -> 0 | AQ22: =IF(P22="사용자항목15", L22, 0) -> 0 | AR22: =IF(P22="사용자항목16", L22, 0) -> 0 | AS22: =IF(P22="사용자항목17", L22, 0) -> 0 | AT22: =IF(P22="사용자항목18", L22, 0) -> 0 | AU22: =IF(P22="사용자항목19", L22, 0) -> 0
A23: 굴착(인력/토사) - 현장내 잔토처리 | B23: 소운반. 깔고 고르기 | C23: M3 | D23: 0.64 | F23: =ROUNDDOWN(D23*E23, 0) -> 0 | H23: =ROUNDDOWN(D23*G23, 0) -> 0 | J23: =ROUNDDOWN(D23*I23, 0) -> 0 | K23: =E23+G23+I23 -> 0 | L23: =F23+H23+J23 -> 0 | M23: 일위 11호 | O23: ="" | P23: 기계경비 | Q23: 1 | R23: =IF(P23="기계경비", J23, 0) -> 0 | S23: =IF(P23="운반비", L23, 0) -> 0 | T23: =IF(P23="작업부산물", F23, 0) -> 0 | U23: =IF(P23="관급", F23, 0) -> 0 | V23: =IF(P23="외주비", J23, 0) -> 0 | W23: =IF(P23="장비비", J23, 0) -> 0 | X23: =IF(P23="폐기물처리비", L23, 0) -> 0 | Y23: =IF(P23="가설비", J23, 0) -> 0 | Z23: =IF(P23="잡비제외분", F23, 0) -> 0 | AA23: =IF(P23="사급자재대", L23, 0) -> 0 | AB23: =IF(P23="관급자재대", L23, 0) -> 0 | AC23: =IF(P23="관급자 관급 자재대", L23, 0) -> 0 | AD23: =IF(P23="사용자항목2", L23, 0) -> 0 | AE23: =IF(P23="안전관리비", L23, 0) -> 0 | AF23: =IF(P23="품질관리비", L23, 0) -> 0 | AG23: =IF(P23="작업부산물(철거해체)", L23, 0) -> 0 | AH23: =IF(P23="사용자항목6", L23, 0) -> 0 | AI23: =IF(P23="사용자항목7", L23, 0) -> 0 | AJ23: =IF(P23="사용자항목8", L23, 0) -> 0 | AK23: =IF(P23="사용자항목9", L23, 0) -> 0 | AL23: =IF(P23="사용자항목10", L23, 0) -> 0 | AM23: =IF(P23="사용자항목11", L23, 0) -> 0 | AN23: =IF(P23="사용자항목12", L23, 0) -> 0 | AO23: =IF(P23="사용자항목13", L23, 0) -> 0 | AP23: =IF(P23="사용자항목14", L23, 0) -> 0 | AQ23: =IF(P23="사용자항목15", L23, 0) -> 0 | AR23: =IF(P23="사용자항목16", L23, 0) -> 0 | AS23: =IF(P23="사용자항목17", L23, 0) -> 0 | AT23: =IF(P23="사용자항목18", L23, 0) -> 0 | AU23: =IF(P23="사용자항목19", L23, 0) -> 0 | AY23: ABB11100090S
A24: 잡석 | B24: 잡석 | C24: ㎥ | D24: 0.64 | F24: =ROUNDDOWN(D24*E24, 0) -> 0 | H24: =ROUNDDOWN(D24*G24, 0) -> 0 | J24: =ROUNDDOWN(D24*I24, 0) -> 0 | K24: =E24+G24+I24 -> 0 | L24: =F24+H24+J24 -> 0 | O24: ="01" -> 01 | P24: 기계경비 | Q24: 1 | R24: =IF(P24="기계경비", J24, 0) -> 0 | S24: =IF(P24="운반비", L24, 0) -> 0 | T24: =IF(P24="작업부산물", F24, 0) -> 0 | U24: =IF(P24="관급", F24, 0) -> 0 | V24: =IF(P24="외주비", J24, 0) -> 0 | W24: =IF(P24="장비비", J24, 0) -> 0 | X24: =IF(P24="폐기물처리비", L24, 0) -> 0 | Y24: =IF(P24="가설비", J24, 0) -> 0 | Z24: =IF(P24="잡비제외분", F24, 0) -> 0 | AA24: =IF(P24="사급자재대", L24, 0) -> 0 | AB24: =IF(P24="관급자재대", L24, 0) -> 0 | AC24: =IF(P24="관급자 관급 자재대", L24, 0) -> 0 | AD24: =IF(P24="사용자항목2", L24, 0) -> 0 | AE24: =IF(P24="안전관리비", L24, 0) -> 0 | AF24: =IF(P24="품질관리비", L24, 0) -> 0 | AG24: =IF(P24="작업부산물(철거해체)", L24, 0) -> 0 | AH24: =IF(P24="사용자항목6", L24, 0) -> 0 | AI24: =IF(P24="사용자항목7", L24, 0) -> 0 | AJ24: =IF(P24="사용자항목8", L24, 0) -> 0 | AK24: =IF(P24="사용자항목9", L24, 0) -> 0 | AL24: =IF(P24="사용자항목10", L24, 0) -> 0 | AM24: =IF(P24="사용자항목11", L24, 0) -> 0 | AN24: =IF(P24="사용자항목12", L24, 0) -> 0 | AO24: =IF(P24="사용자항목13", L24, 0) -> 0 | AP24: =IF(P24="사용자항목14", L24, 0) -> 0 | AQ24: =IF(P24="사용자항목15", L24, 0) -> 0 | AR24: =IF(P24="사용자항목16", L24, 0) -> 0 | AS24: =IF(P24="사용자항목17", L24, 0) -> 0 | AT24: =IF(P24="사용자항목18", L24, 0) -> 0 | AU24: =IF(P24="사용자항목19", L24, 0) -> 0
A25: 잡석(자갈)운반 | B25: 인력,지게운반, 50m(보통) | C25: M3 | D25: 0.64 | F25: =ROUNDDOWN(D25*E25, 0) -> 0 | H25: =ROUNDDOWN(D25*G25, 0) -> 0 | J25: =ROUNDDOWN(D25*I25, 0) -> 0 | K25: =E25+G25+I25 -> 0 | L25: =F25+H25+J25 -> 0 | M25: 단산 1호 | O25: ="" | P25: 기계경비 | Q25: 1 | R25: =IF(P25="기계경비", J25, 0) -> 0 | S25: =IF(P25="운반비", L25, 0) -> 0 | T25: =IF(P25="작업부산물", F25, 0) -> 0 | U25: =IF(P25="관급", F25, 0) -> 0 | V25: =IF(P25="외주비", J25, 0) -> 0 | W25: =IF(P25="장비비", J25, 0) -> 0 | X25: =IF(P25="폐기물처리비", L25, 0) -> 0 | Y25: =IF(P25="가설비", J25, 0) -> 0 | Z25: =IF(P25="잡비제외분", F25, 0) -> 0 | AA25: =IF(P25="사급자재대", L25, 0) -> 0 | AB25: =IF(P25="관급자재대", L25, 0) -> 0 | AC25: =IF(P25="관급자 관급 자재대", L25, 0) -> 0 | AD25: =IF(P25="사용자항목2", L25, 0) -> 0 | AE25: =IF(P25="안전관리비", L25, 0) -> 0 | AF25: =IF(P25="품질관리비", L25, 0) -> 0 | AG25: =IF(P25="작업부산물(철거해체)", L25, 0) -> 0 | AH25: =IF(P25="사용자항목6", L25, 0) -> 0 | AI25: =IF(P25="사용자항목7", L25, 0) -> 0 | AJ25: =IF(P25="사용자항목8", L25, 0) -> 0 | AK25: =IF(P25="사용자항목9", L25, 0) -> 0 | AL25: =IF(P25="사용자항목10", L25, 0) -> 0 | AM25: =IF(P25="사용자항목11", L25, 0) -> 0 | AN25: =IF(P25="사용자항목12", L25, 0) -> 0 | AO25: =IF(P25="사용자항목13", L25, 0) -> 0 | AP25: =IF(P25="사용자항목14", L25, 0) -> 0 | AQ25: =IF(P25="사용자항목15", L25, 0) -> 0 | AR25: =IF(P25="사용자항목16", L25, 0) -> 0 | AS25: =IF(P25="사용자항목17", L25, 0) -> 0 | AT25: =IF(P25="사용자항목18", L25, 0) -> 0 | AU25: =IF(P25="사용자항목19", L25, 0) -> 0
A26: 잡석지정 | B26: 손달고다지기 | C26: M3 | D26: 0.64 | F26: =ROUNDDOWN(D26*E26, 0) -> 0 | H26: =ROUNDDOWN(D26*G26, 0) -> 0 | J26: =ROUNDDOWN(D26*I26, 0) -> 0 | K26: =E26+G26+I26 -> 0 | L26: =F26+H26+J26 -> 0 | M26: 일위 12호 | O26: ="" | P26: 기계경비 | Q26: 1 | R26: =IF(P26="기계경비", J26, 0) -> 0 | S26: =IF(P26="운반비", L26, 0) -> 0 | T26: =IF(P26="작업부산물", F26, 0) -> 0 | U26: =IF(P26="관급", F26, 0) -> 0 | V26: =IF(P26="외주비", J26, 0) -> 0 | W26: =IF(P26="장비비", J26, 0) -> 0 | X26: =IF(P26="폐기물처리비", L26, 0) -> 0 | Y26: =IF(P26="가설비", J26, 0) -> 0 | Z26: =IF(P26="잡비제외분", F26, 0) -> 0 | AA26: =IF(P26="사급자재대", L26, 0) -> 0 | AB26: =IF(P26="관급자재대", L26, 0) -> 0 | AC26: =IF(P26="관급자 관급 자재대", L26, 0) -> 0 | AD26: =IF(P26="사용자항목2", L26, 0) -> 0 | AE26: =IF(P26="안전관리비", L26, 0) -> 0 | AF26: =IF(P26="품질관리비", L26, 0) -> 0 | AG26: =IF(P26="작업부산물(철거해체)", L26, 0) -> 0 | AH26: =IF(P26="사용자항목6", L26, 0) -> 0 | AI26: =IF(P26="사용자항목7", L26, 0) -> 0 | AJ26: =IF(P26="사용자항목8", L26, 0) -> 0 | AK26: =IF(P26="사용자항목9", L26, 0) -> 0 | AL26: =IF(P26="사용자항목10", L26, 0) -> 0 | AM26: =IF(P26="사용자항목11", L26, 0) -> 0 | AN26: =IF(P26="사용자항목12", L26, 0) -> 0 | AO26: =IF(P26="사용자항목13", L26, 0) -> 0 | AP26: =IF(P26="사용자항목14", L26, 0) -> 0 | AQ26: =IF(P26="사용자항목15", L26, 0) -> 0 | AR26: =IF(P26="사용자항목16", L26, 0) -> 0 | AS26: =IF(P26="사용자항목17", L26, 0) -> 0 | AT26: =IF(P26="사용자항목18", L26, 0) -> 0 | AU26: =IF(P26="사용자항목19", L26, 0) -> 0 | AY26: 문화재일위
A36: 합 계 | F36: =ROUNDDOWN(SUMIF(Q22:Q35, "1", F22:F35), 0) -> 0 | H36: =ROUNDDOWN(SUMIF(Q22:Q35, "1", H22:H35), 0) -> 0 | J36: =ROUNDDOWN(SUMIF(Q22:Q35, "1", J22:J35), 0) -> 0 | L36: =F36+H36+J36 -> 0 | R36: =ROUNDDOWN(SUM(R22:R26), 0) -> 0 | S36: =ROUNDDOWN(SUM(S22:S26), 0) -> 0 | T36: =ROUNDDOWN(SUM(T22:T26), 0) -> 0 | U36: =ROUNDDOWN(SUM(U22:U26), 0) -> 0 | V36: =ROUNDDOWN(SUM(V22:V26), 0) -> 0 | W36: =ROUNDDOWN(SUM(W22:W26), 0) -> 0 | X36: =ROUNDDOWN(SUM(X22:X26), 0) -> 0 | Y36: =ROUNDDOWN(SUM(Y22:Y26), 0) -> 0 | ... AY36: =ROUNDDOWN(SUM(AY22:AY26), 0) -> 0
A37: 0103. 철근콘크리트공사
A38: 레미콘 | B38: 레미콘, 부산, 25-18-08 | C38: ㎥ | D38: 0.17 | F38: =ROUNDDOWN(D38*E38, 0) -> 0 | H38: =ROUNDDOWN(D38*G38, 0) -> 0 | J38: =ROUNDDOWN(D38*I38, 0) -> 0 | K38: =E38+G38+I38 -> 0 | L38: =F38+H38+J38 -> 0 | O38: ="01" -> 01 | P38: 기계경비 | Q38: 1 | R38: =IF(P38="기계경비", J38, 0) -> 0 | S38: =IF(P38="운반비", L38, 0) -> 0 | T38: =IF(P38="작업부산물", F38, 0) -> 0 | U38: =IF(P38="관급", F38, 0) -> 0 | V38: =IF(P38="외주비", J38, 0) -> 0 | W38: =IF(P38="장비비", J38, 0) -> 0 | X38: =IF(P38="폐기물처리비", L38, 0) -> 0 | Y38: =IF(P38="가설비", J38, 0) -> 0 | Z38: =IF(P38="잡비제외분", F38, 0) -> 0 | AA38: =IF(P38="사급자재대", L38, 0) -> 0 | AB38: =IF(P38="관급자재대", L38, 0) -> 0 | AC38: =IF(P38="관급자 관급 자재대", L38, 0) -> 0 | AD38: =IF(P38="사용자항목2", L38, 0) -> 0 | AE38: =IF(P38="안전관리비", L38, 0) -> 0 | AF38: =IF(P38="품질관리비", L38, 0) -> 0 | AG38: =IF(P38="작업부산물(철거해체)", L38, 0) -> 0 | AH38: =IF(P38="사용자항목6", L38, 0) -> 0 | AI38: =IF(P38="사용자항목7", L38, 0) -> 0 | AJ38: =IF(P38="사용자항목8", L38, 0) -> 0 | AK38: =IF(P38="사용자항목9", L38, 0) -> 0 | AL38: =IF(P38="사용자항목10", L38, 0) -> 0 | AM38: =IF(P38="사용자항목11", L38, 0) -> 0 | AN38: =IF(P38="사용자항목12", L38, 0) -> 0 | AO38: =IF(P38="사용자항목13", L38, 0) -> 0 | AP38: =IF(P38="사용자항목14", L38, 0) -> 0 | AQ38: =IF(P38="사용자항목15", L38, 0) -> 0 | AR38: =IF(P38="사용자항목16", L38, 0) -> 0 | AS38: =IF(P38="사용자항목17", L38, 0) -> 0 | AT38: =IF(P38="사용자항목18", L38, 0) -> 0 | AU38: =IF(P38="사용자항목19", L38, 0) -> 0
A39: 레디믹스트콘크리트 타설 | B39: 인력운반타설, 무근구조물 | C39: M3 | D39: 0.16 | F39: =ROUNDDOWN(D39*E39, 0) -> 0 | H39: =ROUNDDOWN(D39*G39, 0) -> 0 | J39: =ROUNDDOWN(D39*I39, 0) -> 0 | K39: =E39+G39+I39 -> 0 | L39: =F39+H39+J39 -> 0 | M39: 일위 13호 | O39: ="" | P39: 기계경비 | Q39: 1 | R39: =IF(P39="기계경비", J39, 0) -> 0 | S39: =IF(P39="운반비", L39, 0) -> 0 | T39: =IF(P39="작업부산물", F39, 0) -> 0 | U39: =IF(P39="관급", F39, 0) -> 0 | V39: =IF(P39="외주비", J39, 0) -> 0 | W39: =IF(P39="장비비", J39, 0) -> 0 | X39: =IF(P39="폐기물처리비", L39, 0) -> 0 | Y39: =IF(P39="가설비", J39, 0) -> 0 | Z39: =IF(P39="잡비제외분", F39, 0) -> 0 | AA39: =IF(P39="사급자재대", L39, 0) -> 0 | AB39: =IF(P39="관급자재대", L39, 0) -> 0 | AC39: =IF(P39="관급자 관급 자재대", L39, 0) -> 0 | AD39: =IF(P39="사용자항목2", L39, 0) -> 0 | AE39: =IF(P39="안전관리비", L39, 0) -> 0 | AF39: =IF(P39="품질관리비", L39, 0) -> 0 | AG39: =IF(P39="작업부산물(철거해체)", L39, 0) -> 0 | AH39: =IF(P39="사용자항목6", L39, 0) -> 0 | AI39: =IF(P39="사용자항목7", L39, 0) -> 0 | AJ39: =IF(P39="사용자항목8", L39, 0) -> 0 | AK39: =IF(P39="사용자항목9", L39, 0) -> 0 | AL39: =IF(P39="사용자항목10", L39, 0) -> 0 | AM39: =IF(P39="사용자항목11", L39, 0) -> 0 | AN39: =IF(P39="사용자항목12", L39, 0) -> 0 | AO39: =IF(P39="사용자항목13", L39, 0) -> 0 | AP39: =IF(P39="사용자항목14", L39, 0) -> 0 | AQ39: =IF(P39="사용자항목15", L39, 0) -> 0 | AR39: =IF(P39="사용자항목16", L39, 0) -> 0 | AS39: =IF(P39="사용자항목17", L39, 0) -> 0 | AT39: =IF(P39="사용자항목18", L39, 0) -> 0 | AU39: =IF(P39="사용자항목19", L39, 0) -> 0
A40: 레미콘 | B40: 레미콘, 부산, 25-24-15 | C40: ㎥ | D40: 1.34 | F40: =ROUNDDOWN(D40*E40, 0) -> 0 | H40: =ROUNDDOWN(D40*G40, 0) -> 0 | J40: =ROUNDDOWN(D40*I40, 0) -> 0 | K40: =E40+G40+I40 -> 0 | L40: =F40+H40+J40 -> 0 | O40: ="01" -> 01 | P40: 기계경비 | Q40: 1 | R40: =IF(P40="기계경비", J40, 0) -> 0 | S40: =IF(P40="운반비", L40, 0) -> 0 | T40: =IF(P40="작업부산물", F40, 0) -> 0 | U40: =IF(P40="관급", F40, 0) -> 0 | V40: =IF(P40="외주비", J40, 0) -> 0 | W40: =IF(P40="장비비", J40, 0) -> 0 | X40: =IF(P40="폐기물처리비", L40, 0) -> 0 | Y40: =IF(P40="가설비", J40, 0) -> 0 | Z40: =IF(P40="잡비제외분", F40, 0) -> 0 | AA40: =IF(P40="사급자재대", L40, 0) -> 0 | AB40: =IF(P40="관급자재대", L40, 0) -> 0 | AC40: =IF(P40="관급자 관급 자재대", L40, 0) -> 0 | AD40: =IF(P40="사용자항목2", L40, 0) -> 0 | AE40: =IF(P40="안전관리비", L40, 0) -> 0 | AF40: =IF(P40="품질관리비", L40, 0) -> 0 | AG40: =IF(P40="작업부산물(철거해체)", L40, 0) -> 0 | AH40: =IF(P40="사용자항목6", L40, 0) -> 0 | AI40: =IF(P40="사용자항목7", L40, 0) -> 0 | AJ40: =IF(P40="사용자항목8", L40, 0) -> 0 | AK40: =IF(P40="사용자항목9", L40, 0) -> 0 | AL40: =IF(P40="사용자항목10", L40, 0) -> 0 | AM40: =IF(P40="사용자항목11", L40, 0) -> 0 | AN40: =IF(P40="사용자항목12", L40, 0) -> 0 | AO40: =IF(P40="사용자항목13", L40, 0) -> 0 | AP40: =IF(P40="사용자항목14", L40, 0) -> 0 | AQ40: =IF(P40="사용자항목15", L40, 0) -> 0 | AR40: =IF(P40="사용자항목16", L40, 0) -> 0 | AS40: =IF(P40="사용자항목17", L40, 0) -> 0 | AT40: =IF(P40="사용자항목18", L40, 0) -> 0 | AU40: =IF(P40="사용자항목19", L40, 0) -> 0
A41: 레디믹스트콘크리트 타설 | B41: 인력운반타설, 철근구조물 | C41: M3 | D41: 1.27 | F41: =ROUNDDOWN(D41*E41, 0) -> 0 | H41: =ROUNDDOWN(D41*G41, 0) -> 0 | J41: =ROUNDDOWN(D41*I41, 0) -> 0 | K41: =E41+G41+I41 -> 0 | L41: =F41+H41+J41 -> 0 | M41: 일위 14호 | O41: ="" | P41: 기계경비 | Q41: 1 | R41: =IF(P41="기계경비", J41, 0) -> 0 | S41: =IF(P41="운반비", L41, 0) -> 0 | T41: =IF(P41="작업부산물", F41, 0) -> 0 | U41: =IF(P41="관급", F41, 0) -> 0 | V41: =IF(P41="외주비", J41, 0) -> 0 | W41: =IF(P41="장비비", J41, 0) -> 0 | X41: =IF(P41="폐기물처리비", L41, 0) -> 0 | Y41: =IF(P41="가설비", J41, 0) -> 0 | Z41: =IF(P41="잡비제외분", F41, 0) -> 0 | AA41: =IF(P41="사급자재대", L41, 0) -> 0 | AB41: =IF(P41="관급자재대", L41, 0) -> 0 | AC41: =IF(P41="관급자 관급 자재대", L41, 0) -> 0 | AD41: =IF(P41="사용자항목2", L41, 0) -> 0 | AE41: =IF(P41="안전관리비", L41, 0) -> 0 | AF41: =IF(P41="품질관리비", L41, 0) -> 0 | AG41: =IF(P41="작업부산물(철거해체)", L41, 0) -> 0 | AH41: =IF(P41="사용자항목6", L41, 0) -> 0 | AI41: =IF(P41="사용자항목7", L41, 0) -> 0 | AJ41: =IF(P41="사용자항목8", L41, 0) -> 0 | AK41: =IF(P41="사용자항목9", L41, 0) -> 0 | AL41: =IF(P41="사용자항목10", L41, 0) -> 0 | AM41: =IF(P41="사용자항목11", L41, 0) -> 0 | AN41: =IF(P41="사용자항목12", L41, 0) -> 0 | AO41: =IF(P41="사용자항목13", L41, 0) -> 0 | AP41: =IF(P41="사용자항목14", L41, 0) -> 0 | AQ41: =IF(P41="사용자항목15", L41, 0) -> 0 | AR41: =IF(P41="사용자항목16", L41, 0) -> 0 | AS41: =IF(P41="사용자항목17", L41, 0) -> 0 | AT41: =IF(P41="사용자항목18", L41, 0) -> 0 | AU41: =IF(P41="사용자항목19", L41, 0) -> 0
A42: 철근콘크리트용봉강 | B42: 철근콘크리트용봉강, HD-16, SD350/400 | C42: 톤 | D42: 0.4644 | F42: =ROUNDDOWN(D42*E42, 0) -> 0 | H42: =ROUNDDOWN(D42*G42, 0) -> 0 | J42: =ROUNDDOWN(D42*I42, 0) -> 0 | K42: =E42+G42+I42 -> 0 | L42: =F42+H42+J42 -> 0 | M42: 고장력철근 | O42: ="01" -> 01 | P42: 기계경비 | Q42: 1 | R42: =IF(P42="기계경비", J42, 0) -> 0 | S42: =IF(P42="운반비", L42, 0) -> 0 | T42: =IF(P42="작업부산물", F42, 0) -> 0 | U42: =IF(P42="관급", F42, 0) -> 0 | V42: =IF(P42="외주비", J42, 0) -> 0 | W42: =IF(P42="장비비", J42, 0) -> 0 | X42: =IF(P42="폐기물처리비", L42, 0) -> 0 | Y42: =IF(P42="가설비", J42, 0) -> 0 | Z42: =IF(P42="잡비제외분", F42, 0) -> 0 | AA42: =IF(P42="사급자재대", L42, 0) -> 0 | AB42: =IF(P42="관급자재대", L42, 0) -> 0 | AC42: =IF(P42="관급자 관급 자재대", L42, 0) -> 0 | AD42: =IF(P42="사용자항목2", L42, 0) -> 0 | AE42: =IF(P42="안전관리비", L42, 0) -> 0 | AF42: =IF(P42="품질관리비", L42, 0) -> 0 | AG42: =IF(P42="작업부산물(철거해체)", L42, 0) -> 0 | AH42: =IF(P42="사용자항목6", L42, 0) -> 0 | AI42: =IF(P42="사용자항목7", L42, 0) -> 0 | AJ42: =IF(P42="사용자항목8", L42, 0) -> 0 | AK42: =IF(P42="사용자항목9", L42, 0) -> 0 | AL42: =IF(P42="사용자항목10", L42, 0) -> 0 | AM42: =IF(P42="사용자항목11", L42, 0) -> 0 | AN42: =IF(P42="사용자항목12", L42, 0) -> 0 | AO42: =IF(P42="사용자항목13", L42, 0) -> 0 | AP42: =IF(P42="사용자항목14", L42, 0) -> 0 | AQ42: =IF(P42="사용자항목15", L42, 0) -> 0 | AR42: =IF(P42="사용자항목16", L42, 0) -> 0 | AS42: =IF(P42="사용자항목17", L42, 0) -> 0 | AT42: =IF(P42="사용자항목18", L42, 0) -> 0 | AU42: =IF(P42="사용자항목19", L42, 0) -> 0
A43: 철근 현장가공 및 조립 | B43: 건축, Type-Ⅱ | C43: TON | D43: 0.43 | F43: =ROUNDDOWN(D43*E43, 0) -> 0 | H43: =ROUNDDOWN(D43*G43, 0) -> 0 | J43: =ROUNDDOWN(D43*I43, 0) -> 0 | K43: =E43+G43+I43 -> 0 | L43: =F43+H43+J43 -> 0 | M43: 일위 15호 | O43: ="" | P43: 기계경비 | Q43: 1 | R43: =IF(P43="기계경비", J43, 0) -> 0 | S43: =IF(P43="운반비", L43, 0) -> 0 | T43: =IF(P43="작업부산물", F43, 0) -> 0 | U43: =IF(P43="관급", F43, 0) -> 0 | V43: =IF(P43="외주비", J43, 0) -> 0 | W43: =IF(P43="장비비", J43, 0) -> 0 | X43: =IF(P43="폐기물처리비", L43, 0) -> 0 | Y43: =IF(P43="가설비", J43, 0) -> 0 | Z43: =IF(P43="잡비제외분", F43, 0) -> 0 | AA43: =IF(P43="사급자재대", L43, 0) -> 0 | AB43: =IF(P43="관급자재대", L43, 0) -> 0 | AC43: =IF(P43="관급자 관급 자재대", L43, 0) -> 0 | AD43: =IF(P43="사용자항목2", L43, 0) -> 0 | AE43: =IF(P43="안전관리비", L43, 0) -> 0 | AF43: =IF(P43="품질관리비", L43, 0) -> 0 | AG43: =IF(P43="작업부산물(철거해체)", L43, 0) -> 0 | AH43: =IF(P43="사용자항목6", L43, 0) -> 0 | AI43: =IF(P43="사용자항목7", L43, 0) -> 0 | AJ43: =IF(P43="사용자항목8", L43, 0) -> 0 | AK43: =IF(P43="사용자항목9", L43, 0) -> 0 | AL43: =IF(P43="사용자항목10", L43, 0) -> 0 | AM43: =IF(P43="사용자항목11", L43, 0) -> 0 | AN43: =IF(P43="사용자항목12", L43, 0) -> 0 | AO43: =IF(P43="사용자항목13", L43, 0) -> 0 | AP43: =IF(P43="사용자항목14", L43, 0) -> 0 | AQ43: =IF(P43="사용자항목15", L43, 0) -> 0 | AR43: =IF(P43="사용자항목16", L43, 0) -> 0 | AS43: =IF(P43="사용자항목17", L43, 0) -> 0 | AT43: =IF(P43="사용자항목18", L43, 0) -> 0 | AU43: =IF(P43="사용자항목19", L43, 0) -> 0
A44: 콘크리트 치핑 | B44: 소형치핑장비활용 | C44: M2 | D44: 3.44 | F44: =ROUNDDOWN(D44*E44, 0) -> 0 | H44: =ROUNDDOWN(D44*G44, 0) -> 0 | J44: =ROUNDDOWN(D44*I44, 0) -> 0 | K44: =E44+G44+I44 -> 0 | L44: =F44+H44+J44 -> 0 | M44: 일위 16호 | O44: ="" | P44: 기계경비 | Q44: 1 | R44: =IF(P44="기계경비", J44, 0) -> 0 | S44: =IF(P44="운반비", L44, 0) -> 0 | T44: =IF(P44="작업부산물", F44, 0) -> 0 | U44: =IF(P44="관급", F44, 0) -> 0 | V44: =IF(P44="외주비", J44, 0) -> 0 | W44: =IF(P44="장비비", J44, 0) -> 0 | X44: =IF(P44="폐기물처리비", L44, 0) -> 0 | Y44: =IF(P44="가설비", J44, 0) -> 0 | Z44: =IF(P44="잡비제외분", F44, 0) -> 0 | AA44: =IF(P44="사급자재대", L44, 0) -> 0 | AB44: =IF(P44="관급자재대", L44, 0) -> 0 | AC44: =IF(P44="관급자 관급 자재대", L44, 0) -> 0 | AD44: =IF(P44="사용자항목2", L44, 0) -> 0 | AE44: =IF(P44="안전관리비", L44, 0) -> 0 | AF44: =IF(P44="품질관리비", L44, 0) -> 0 | AG44: =IF(P44="작업부산물(철거해체)", L44, 0) -> 0 | AH44: =IF(P44="사용자항목6", L44, 0) -> 0 | AI44: =IF(P44="사용자항목7", L44, 0) -> 0 | AJ44: =IF(P44="사용자항목8", L44, 0) -> 0 | AK44: =IF(P44="사용자항목9", L44, 0) -> 0 | AL44: =IF(P44="사용자항목10", L44, 0) -> 0 | AM44: =IF(P44="사용자항목11", L44, 0) -> 0 | AN44: =IF(P44="사용자항목12", L44, 0) -> 0 | AO44: =IF(P44="사용자항목13", L44, 0) -> 0 | AP44: =IF(P44="사용자항목14", L44, 0) -> 0 | AQ44: =IF(P44="사용자항목15", L44, 0) -> 0 | AR44: =IF(P44="사용자항목16", L44, 0) -> 0 | AS44: =IF(P44="사용자항목17", L44, 0) -> 0 | AT44: =IF(P44="사용자항목18", L44, 0) -> 0 | AU44: =IF(P44="사용자항목19", L44, 0) -> 0 | AY44: CER42000000S
A45: 에폭시 콘크리트 접착체 바르기 | B45: 신구-콘크리트 접착제 바르기 | C45: M2 | D45: 3.44 | F45: =ROUNDDOWN(D45*E45, 0) -> 0 | H45: =ROUNDDOWN(D45*G45, 0) -> 0 | J45: =ROUNDDOWN(D45*I45, 0) -> 0 | K45: =E45+G45+I45 -> 0 | L45: =F45+H45+J45 -> 0 | M45: 일위 17호 | O45: ="" | P45: 기계경비 | Q45: 1 | R45: =IF(P45="기계경비", J45, 0) -> 0 | S45: =IF(P45="운반비", L45, 0) -> 0 | T45: =IF(P45="작업부산물", F45, 0) -> 0 | U45: =IF(P45="관급", F45, 0) -> 0 | V45: =IF(P45="외주비", J45, 0) -> 0 | W45: =IF(P45="장비비", J45, 0) -> 0 | X45: =IF(P45="폐기물처리비", L45, 0) -> 0 | Y45: =IF(P45="가설비", J45, 0) -> 0 | Z45: =IF(P45="잡비제외분", F45, 0) -> 0 | AA45: =IF(P45="사급자재대", L45, 0) -> 0 | AB45: =IF(P45="관급자재대", L45, 0) -> 0 | AC45: =IF(P45="관급자 관급 자재대", L45, 0) -> 0 | AD45: =IF(P45="사용자항목2", L45, 0) -> 0 | AE45: =IF(P45="안전관리비", L45, 0) -> 0 | AF45: =IF(P45="품질관리비", L45, 0) -> 0 | AG45: =IF(P45="작업부산물(철거해체)", L45, 0) -> 0 | AH45: =IF(P45="사용자항목6", L45, 0) -> 0 | AI45: =IF(P45="사용자항목7", L45, 0) -> 0 | AJ45: =IF(P45="사용자항목8", L45, 0) -> 0 | AK45: =IF(P45="사용자항목9", L45, 0) -> 0 | AL45: =IF(P45="사용자항목10", L45, 0) -> 0 | AM45: =IF(P45="사용자항목11", L45, 0) -> 0 | AN45: =IF(P45="사용자항목12", L45, 0) -> 0 | AO45: =IF(P45="사용자항목13", L45, 0) -> 0 | AP45: =IF(P45="사용자항목14", L45, 0) -> 0 | AQ45: =IF(P45="사용자항목15", L45, 0) -> 0 | AR45: =IF(P45="사용자항목16", L45, 0) -> 0 | AS45: =IF(P45="사용자항목17", L45, 0) -> 0 | AT45: =IF(P45="사용자항목18", L45, 0) -> 0 | AU45: =IF(P45="사용자항목19", L45, 0) -> 0 | AY45: CER41010000S
A46: 기존구조체연결 보강 D16. | B46: HY-200 | C46: 개소 | D46: 43 | F46: =ROUNDDOWN(D46*E46, 0) -> 0 | H46: =ROUNDDOWN(D46*G46, 0) -> 0 | J46: =ROUNDDOWN(D46*I46, 0) -> 0 | K46: =E46+G46+I46 -> 0 | L46: =F46+H46+J46 -> 0 | M46: 일위 18호 | O46: ="" | P46: 기계경비 | Q46: 1 | R46: =IF(P46="기계경비", J46, 0) -> 0 | S46: =IF(P46="운반비", L46, 0) -> 0 | T46: =IF(P46="작업부산물", F46, 0) -> 0 | U46: =IF(P46="관급", F46, 0) -> 0 | V46: =IF(P46="외주비", J46, 0) -> 0 | W46: =IF(P46="장비비", J46, 0) -> 0 | X46: =IF(P46="폐기물처리비", L46, 0) -> 0 | Y46: =IF(P46="가설비", J46, 0) -> 0 | Z46: =IF(P46="잡비제외분", F46, 0) -> 0 | AA46: =IF(P46="사급자재대", L46, 0) -> 0 | AB46: =IF(P46="관급자재대", L46, 0) -> 0 | AC46: =IF(P46="관급자 관급 자재대", L46, 0) -> 0 | AD46: =IF(P46="사용자항목2", L46, 0) -> 0 | AE46: =IF(P46="안전관리비", L46, 0) -> 0 | AF46: =IF(P46="품질관리비", L46, 0) -> 0 | AG46: =IF(P46="작업부산물(철거해체)", L46, 0) -> 0 | AH46: =IF(P46="사용자항목6", L46, 0) -> 0 | AI46: =IF(P46="사용자항목7", L46, 0) -> 0 | AJ46: =IF(P46="사용자항목8", L46, 0) -> 0 | AK46: =IF(P46="사용자항목9", L46, 0) -> 0 | AL46: =IF(P46="사용자항목10", L46, 0) -> 0 | AM46: =IF(P46="사용자항목11", L46, 0) -> 0 | AN46: =IF(P46="사용자항목12", L46, 0) -> 0 | AO46: =IF(P46="사용자항목13", L46, 0) -> 0 | AP46: =IF(P46="사용자항목14", L46, 0) -> 0 | AQ46: =IF(P46="사용자항목15", L46, 0) -> 0 | AR46: =IF(P46="사용자항목16", L46, 0) -> 0 | AS46: =IF(P46="사용자항목17", L46, 0) -> 0 | AT46: =IF(P46="사용자항목18", L46, 0) -> 0 | AU46: =IF(P46="사용자항목19", L46, 0) -> 0
A52: 합 계 | F52: =ROUNDDOWN(SUMIF(Q38:Q51, "1", F38:F51), 0) -> 0 | H52: =ROUNDDOWN(SUMIF(Q38:Q51, "1", H38:H51), 0) -> 0 | J52: =ROUNDDOWN(SUMIF(Q38:Q51, "1", J38:J51), 0) -> 0 | L52: =F52+H52+J52 -> 0 | R52: =ROUNDDOWN(SUM(R38:R46), 0) -> 0 | S52: =ROUNDDOWN(SUM(S38:S46), 0) -> 0 | T52: =ROUNDDOWN(SUM(T38:T46), 0) -> 0 | U52: =ROUNDDOWN(SUM(U38:U46), 0) -> 0 | V52: =ROUNDDOWN(SUM(V38:V46), 0) -> 0 | W52: =ROUNDDOWN(SUM(W38:W46), 0) -> 0 | X52: =ROUNDDOWN(SUM(X38:X46), 0) -> 0 | Y52: =ROUNDDOWN(SUM(Y38:Y46), 0) -> 0 | ... AY52: =ROUNDDOWN(SUM(AY38:AY46), 0) -> 0
A53: 0104. 탄소섬유보강공사
A54: 탄소섬유보강공사 | B54: 300g x 1ply | C54: M2당 | D54: 18.15 | F54: =ROUNDDOWN(D54*E54, 0) -> 0 | H54: =ROUNDDOWN(D54*G54, 0) -> 0 | J54: =ROUNDDOWN(D54*I54, 0) -> 0 | K54: =E54+G54+I54 -> 0 | L54: =F54+H54+J54 -> 0 | M54: 일위 19호 | O54: ="" | P54: 기계경비 | Q54: 1 | R54: =IF(P54="기계경비", J54, 0) -> 0 | S54: =IF(P54="운반비", L54, 0) -> 0 | T54: =IF(P54="작업부산물", F54, 0) -> 0 | U54: =IF(P54="관급", F54, 0) -> 0 | V54: =IF(P54="외주비", J54, 0) -> 0 | W54: =IF(P54="장비비", J54, 0) -> 0 | X54: =IF(P54="폐기물처리비", L54, 0) -> 0 | Y54: =IF(P54="가설비", J54, 0) -> 0 | Z54: =IF(P54="잡비제외분", F54, 0) -> 0 | AA54: =IF(P54="사급자재대", L54, 0) -> 0 | AB54: =IF(P54="관급자재대", L54, 0) -> 0 | AC54: =IF(P54="관급자 관급 자재대", L54, 0) -> 0 | AD54: =IF(P54="사용자항목2", L54, 0) -> 0 | AE54: =IF(P54="안전관리비", L54, 0) -> 0 | AF54: =IF(P54="품질관리비", L54, 0) -> 0 | AG54: =IF(P54="작업부산물(철거해체)", L54, 0) -> 0 | AH54: =IF(P54="사용자항목6", L54, 0) -> 0 | AI54: =IF(P54="사용자항목7", L54, 0) -> 0 | AJ54: =IF(P54="사용자항목8", L54, 0) -> 0 | AK54: =IF(P54="사용자항목9", L54, 0) -> 0 | AL54: =IF(P54="사용자항목10", L54, 0) -> 0 | AM54: =IF(P54="사용자항목11", L54, 0) -> 0 | AN54: =IF(P54="사용자항목12", L54, 0) -> 0 | AO54: =IF(P54="사용자항목13", L54, 0) -> 0 | AP54: =IF(P54="사용자항목14", L54, 0) -> 0 | AQ54: =IF(P54="사용자항목15", L54, 0) -> 0 | AR54: =IF(P54="사용자항목16", L54, 0) -> 0 | AS54: =IF(P54="사용자항목17", L54, 0) -> 0 | AT54: =IF(P54="사용자항목18", L54, 0) -> 0 | AU54: =IF(P54="사용자항목19", L54, 0) -> 0
A68: 합 계 | F68: =ROUNDDOWN(SUMIF(Q54:Q67, "1", F54:F67), 0) -> 0 | H68: =ROUNDDOWN(SUMIF(Q54:Q67, "1", H54:H67), 0) -> 0 | J68: =ROUNDDOWN(SUMIF(Q54:Q67, "1", J54:J67), 0) -> 0 | L68: =F68+H68+J68 -> 0 | R68: =ROUNDDOWN(SUM(R54:R54), 0) -> 0 | S68: =ROUNDDOWN(SUM(S54:S54), 0) -> 0 | T68: =ROUNDDOWN(SUM(T54:T54), 0) -> 0 | U68: =ROUNDDOWN(SUM(U54:U54), 0) -> 0 | V68: =ROUNDDOWN(SUM(V54:V54), 0) -> 0 | W68: =ROUNDDOWN(SUM(W54:W54), 0) -> 0 | X68: =ROUNDDOWN(SUM(X54:X54), 0) -> 0 | Y68: =ROUNDDOWN(SUM(Y54:Y54), 0) -> 0 | ... AY68: =ROUNDDOWN(SUM(AY54:AY54), 0) -> 0
A69: 0105. 에폭시그라우팅공사
A70: EPOXY GROUTING | B70: 에폭시 주입재,습식, MA그라우트 | C70: M3 | D70: 0.21 | F70: =ROUNDDOWN(D70*E70, 0) -> 0 | H70: =ROUNDDOWN(D70*G70, 0) -> 0 | J70: =ROUNDDOWN(D70*I70, 0) -> 0 | K70: =E70+G70+I70 -> 0 | L70: =F70+H70+J70 -> 0 | M70: 일위 20호 | O70: ="" | P70: 기계경비 | Q70: 1 | R70: =IF(P70="기계경비", J70, 0) -> 0 | S70: =IF(P70="운반비", L70, 0) -> 0 | T70: =IF(P70="작업부산물", F70, 0) -> 0 | U70: =IF(P70="관급", F70, 0) -> 0 | V70: =IF(P70="외주비", J70, 0) -> 0 | W70: =IF(P70="장비비", J70, 0) -> 0 | X70: =IF(P70="폐기물처리비", L70, 0) -> 0 | Y70: =IF(P70="가설비", J70, 0) -> 0 | Z70: =IF(P70="잡비제외분", F70, 0) -> 0 | AA70: =IF(P70="사급자재대", L70, 0) -> 0 | AB70: =IF(P70="관급자재대", L70, 0) -> 0 | AC70: =IF(P70="관급자 관급 자재대", L70, 0) -> 0 | AD70: =IF(P70="사용자항목2", L70, 0) -> 0 | AE70: =IF(P70="안전관리비", L70, 0) -> 0 | AF70: =IF(P70="품질관리비", L70, 0) -> 0 | AG70: =IF(P70="작업부산물(철거해체)", L70, 0) -> 0 | AH70: =IF(P70="사용자항목6", L70, 0) -> 0 | AI70: =IF(P70="사용자항목7", L70, 0) -> 0 | AJ70: =IF(P70="사용자항목8", L70, 0) -> 0 | AK70: =IF(P70="사용자항목9", L70, 0) -> 0 | AL70: =IF(P70="사용자항목10", L70, 0) -> 0 | AM70: =IF(P70="사용자항목11", L70, 0) -> 0 | AN70: =IF(P70="사용자항목12", L70, 0) -> 0 | AO70: =IF(P70="사용자항목13", L70, 0) -> 0 | AP70: =IF(P70="사용자항목14", L70, 0) -> 0 | AQ70: =IF(P70="사용자항목15", L70, 0) -> 0 | AR70: =IF(P70="사용자항목16", L70, 0) -> 0 | AS70: =IF(P70="사용자항목17", L70, 0) -> 0 | AT70: =IF(P70="사용자항목18", L70, 0) -> 0 | AU70: =IF(P70="사용자항목19", L70, 0) -> 0
A84: 합 계 | F84: =ROUNDDOWN(SUMIF(Q70:Q83, "1", F70:F83), 0) -> 0 | H84: =ROUNDDOWN(SUMIF(Q70:Q83, "1", H70:H83), 0) -> 0 | J84: =ROUNDDOWN(SUMIF(Q70:Q83, "1", J70:J83), 0) -> 0 | L84: =F84+H84+J84 -> 0 | R84: =ROUNDDOWN(SUM(R70:R70), 0) -> 0 | S84: =ROUNDDOWN(SUM(S70:S70), 0) -> 0 | T84: =ROUNDDOWN(SUM(T70:T70), 0) -> 0 | U84: =ROUNDDOWN(SUM(U70:U70), 0) -> 0 | V84: =ROUNDDOWN(SUM(V70:V70), 0) -> 0 | W84: =ROUNDDOWN(SUM(W70:W70), 0) -> 0 | X84: =ROUNDDOWN(SUM(X70:X70), 0) -> 0 | Y84: =ROUNDDOWN(SUM(Y70:Y70), 0) -> 0 | ... AY84: =ROUNDDOWN(SUM(AY70:AY70), 0) -> 0
A85: 0106. 철판보강공사
A86: 철판보강공사 | B86: 철판보강 6.0mm | C86: M2당 | D86: 16.52 | F86: =ROUNDDOWN(D86*E86, 0) -> 0 | H86: =ROUNDDOWN(D86*G86, 0) -> 0 | J86: =ROUNDDOWN(D86*I86, 0) -> 0 | K86: =E86+G86+I86 -> 0 | L86: =F86+H86+J86 -> 0 | M86: 일위 21호 | O86: ="" | P86: 기계경비 | Q86: 1 | R86: =IF(P86="기계경비", J86, 0) -> 0 | S86: =IF(P86="운반비", L86, 0) -> 0 | T86: =IF(P86="작업부산물", F86, 0) -> 0 | U86: =IF(P86="관급", F86, 0) -> 0 | V86: =IF(P86="외주비", J86, 0) -> 0 | W86: =IF(P86="장비비", J86, 0) -> 0 | X86: =IF(P86="폐기물처리비", L86, 0) -> 0 | Y86: =IF(P86="가설비", J86, 0) -> 0 | Z86: =IF(P86="잡비제외분", F86, 0) -> 0 | AA86: =IF(P86="사급자재대", L86, 0) -> 0 | AB86: =IF(P86="관급자재대", L86, 0) -> 0 | AC86: =IF(P86="관급자 관급 자재대", L86, 0) -> 0 | AD86: =IF(P86="사용자항목2", L86, 0) -> 0 | AE86: =IF(P86="안전관리비", L86, 0) -> 0 | AF86: =IF(P86="품질관리비", L86, 0) -> 0 | AG86: =IF(P86="작업부산물(철거해체)", L86, 0) -> 0 | AH86: =IF(P86="사용자항목6", L86, 0) -> 0 | AI86: =IF(P86="사용자항목7", L86, 0) -> 0 | AJ86: =IF(P86="사용자항목8", L86, 0) -> 0 | AK86: =IF(P86="사용자항목9", L86, 0) -> 0 | AL86: =IF(P86="사용자항목10", L86, 0) -> 0 | AM86: =IF(P86="사용자항목11", L86, 0) -> 0 | AN86: =IF(P86="사용자항목12", L86, 0) -> 0 | AO86: =IF(P86="사용자항목13", L86, 0) -> 0 | AP86: =IF(P86="사용자항목14", L86, 0) -> 0 | AQ86: =IF(P86="사용자항목15", L86, 0) -> 0 | AR86: =IF(P86="사용자항목16", L86, 0) -> 0 | AS86: =IF(P86="사용자항목17", L86, 0) -> 0 | AT86: =IF(P86="사용자항목18", L86, 0) -> 0 | AU86: =IF(P86="사용자항목19", L86, 0) -> 0
A100: 합 계 | F100: =ROUNDDOWN(SUMIF(Q86:Q99, "1", F86:F99), 0) -> 0 | H100: =ROUNDDOWN(SUMIF(Q86:Q99, "1", H86:H99), 0) -> 0 | J100: =ROUNDDOWN(SUMIF(Q86:Q99, "1", J86:J99), 0) -> 0 | L100: =F100+H100+J100 -> 0 | R100: =ROUNDDOWN(SUM(R86:R86), 0) -> 0 | S100: =ROUNDDOWN(SUM(S86:S86), 0) -> 0 | T100: =ROUNDDOWN(SUM(T86:T86), 0) -> 0 | U100: =ROUNDDOWN(SUM(U86:U86), 0) -> 0 | V100: =ROUNDDOWN(SUM(V86:V86), 0) -> 0 | W100: =ROUNDDOWN(SUM(W86:W86), 0) -> 0 | X100: =ROUNDDOWN(SUM(X86:X86), 0) -> 0 | Y100: =ROUNDDOWN(SUM(Y86:Y86), 0) -> 0 | ... AY100: =ROUNDDOWN(SUM(AY86:AY86), 0) -> 0
A101: 0107. 단면복구공사
A102: 철근부식 단면복구보수 | B102: t=30mm | C102: M2 | D102: 4.95 | F102: =ROUNDDOWN(D102*E102, 0) -> 0 | H102: =ROUNDDOWN(D102*G102, 0) -> 0 | J102: =ROUNDDOWN(D102*I102, 0) -> 0 | K102: =E102+G102+I102 -> 0 | L102: =F102+H102+J102 -> 0 | M102: 일위 22호 | O102: ="" | P102: 기계경비 | Q102: 1 | R102: =IF(P102="기계경비", J102, 0) -> 0 | S102: =IF(P102="운반비", L102, 0) -> 0 | T102: =IF(P102="작업부산물", F102, 0) -> 0 | U102: =IF(P102="관급", F102, 0) -> 0 | V102: =IF(P102="외주비", J102, 0) -> 0 | W102: =IF(P102="장비비", J102, 0) -> 0 | X102: =IF(P102="폐기물처리비", L102, 0) -> 0 | Y102: =IF(P102="가설비", J102, 0) -> 0 | Z102: =IF(P102="잡비제외분", F102, 0) -> 0 | AA102: =IF(P102="사급자재대", L102, 0) -> 0 | AB102: =IF(P102="관급자재대", L102, 0) -> 0 | AC102: =IF(P102="관급자 관급 자재대", L102, 0) -> 0 | AD102: =IF(P102="사용자항목2", L102, 0) -> 0 | AE102: =IF(P102="안전관리비", L102, 0) -> 0 | AF102: =IF(P102="품질관리비", L102, 0) -> 0 | AG102: =IF(P102="작업부산물(철거해체)", L102, 0) -> 0 | AH102: =IF(P102="사용자항목6", L102, 0) -> 0 | AI102: =IF(P102="사용자항목7", L102, 0) -> 0 | AJ102: =IF(P102="사용자항목8", L102, 0) -> 0 | AK102: =IF(P102="사용자항목9", L102, 0) -> 0 | AL102: =IF(P102="사용자항목10", L102, 0) -> 0 | AM102: =IF(P102="사용자항목11", L102, 0) -> 0 | AN102: =IF(P102="사용자항목12", L102, 0) -> 0 | AO102: =IF(P102="사용자항목13", L102, 0) -> 0 | AP102: =IF(P102="사용자항목14", L102, 0) -> 0 | AQ102: =IF(P102="사용자항목15", L102, 0) -> 0 | AR102: =IF(P102="사용자항목16", L102, 0) -> 0 | AS102: =IF(P102="사용자항목17", L102, 0) -> 0 | AT102: =IF(P102="사용자항목18", L102, 0) -> 0 | AU102: =IF(P102="사용자항목19", L102, 0) -> 0
A116: 합 계 | F116: =ROUNDDOWN(SUMIF(Q102:Q115, "1", F102:F115), 0) -> 0 | H116: =ROUNDDOWN(SUMIF(Q102:Q115, "1", H102:H115), 0) -> 0 | J116: =ROUNDDOWN(SUMIF(Q102:Q115, "1", J102:J115), 0) -> 0 | L116: =F116+H116+J116 -> 0 | R116: =ROUNDDOWN(SUM(R102:R102), 0) -> 0 | S116: =ROUNDDOWN(SUM(S102:S102), 0) -> 0 | T116: =ROUNDDOWN(SUM(T102:T102), 0) -> 0 | U116: =ROUNDDOWN(SUM(U102:U102), 0) -> 0 | V116: =ROUNDDOWN(SUM(V102:V102), 0) -> 0 | W116: =ROUNDDOWN(SUM(W102:W102), 0) -> 0 | X116: =ROUNDDOWN(SUM(X102:X102), 0) -> 0 | Y116: =ROUNDDOWN(SUM(Y102:Y102), 0) -> 0 | ... AY116: =ROUNDDOWN(SUM(AY102:AY102), 0) -> 0
A117: 0108. 표면처리공사
A118: 균열보수공사 | B118: 표면처리 | C118: M당 | D118: 16.5 | F118: =ROUNDDOWN(D118*E118, 0) -> 0 | H118: =ROUNDDOWN(D118*G118, 0) -> 0 | J118: =ROUNDDOWN(D118*I118, 0) -> 0 | K118: =E118+G118+I118 -> 0 | L118: =F118+H118+J118 -> 0 | M118: 일위 23호 | O118: ="" | P118: 기계경비 | Q118: 1 | R118: =IF(P118="기계경비", J118, 0) -> 0 | S118: =IF(P118="운반비", L118, 0) -> 0 | T118: =IF(P118="작업부산물", F118, 0) -> 0 | U118: =IF(P118="관급", F118, 0) -> 0 | V118: =IF(P118="외주비", J118, 0) -> 0 | W118: =IF(P118="장비비", J118, 0) -> 0 | X118: =IF(P118="폐기물처리비", L118, 0) -> 0 | Y118: =IF(P118="가설비", J118, 0) -> 0 | Z118: =IF(P118="잡비제외분", F118, 0) -> 0 | AA118: =IF(P118="사급자재대", L118, 0) -> 0 | AB118: =IF(P118="관급자재대", L118, 0) -> 0 | AC118: =IF(P118="관급자 관급 자재대", L118, 0) -> 0 | AD118: =IF(P118="사용자항목2", L118, 0) -> 0 | AE118: =IF(P118="안전관리비", L118, 0) -> 0 | AF118: =IF(P118="품질관리비", L118, 0) -> 0 | AG118: =IF(P118="작업부산물(철거해체)", L118, 0) -> 0 | AH118: =IF(P118="사용자항목6", L118, 0) -> 0 | AI118: =IF(P118="사용자항목7", L118, 0) -> 0 | AJ118: =IF(P118="사용자항목8", L118, 0) -> 0 | AK118: =IF(P118="사용자항목9", L118, 0) -> 0 | AL118: =IF(P118="사용자항목10", L118, 0) -> 0 | AM118: =IF(P118="사용자항목11", L118, 0) -> 0 | AN118: =IF(P118="사용자항목12", L118, 0) -> 0 | AO118: =IF(P118="사용자항목13", L118, 0) -> 0 | AP118: =IF(P118="사용자항목14", L118, 0) -> 0 | AQ118: =IF(P118="사용자항목15", L118, 0) -> 0 | AR118: =IF(P118="사용자항목16", L118, 0) -> 0 | AS118: =IF(P118="사용자항목17", L118, 0) -> 0 | AT118: =IF(P118="사용자항목18", L118, 0) -> 0 | AU118: =IF(P118="사용자항목19", L118, 0) -> 0
A132: 합 계 | F132: =ROUNDDOWN(SUMIF(Q118:Q131, "1", F118:F131), 0) -> 0 | H132: =ROUNDDOWN(SUMIF(Q118:Q131, "1", H118:H131), 0) -> 0 | J132: =ROUNDDOWN(SUMIF(Q118:Q131, "1", J118:J131), 0) -> 0 | L132: =F132+H132+J132 -> 0 | R132: =ROUNDDOWN(SUM(R118:R118), 0) -> 0 | S132: =ROUNDDOWN(SUM(S118:S118), 0) -> 0 | T132: =ROUNDDOWN(SUM(T118:T118), 0) -> 0 | U132: =ROUNDDOWN(SUM(U118:U118), 0) -> 0 | V132: =ROUNDDOWN(SUM(V118:V118), 0) -> 0 | W132: =ROUNDDOWN(SUM(W118:W118), 0) -> 0 | X132: =ROUNDDOWN(SUM(X118:X118), 0) -> 0 | Y132: =ROUNDDOWN(SUM(Y118:Y118), 0) -> 0 | ... AY132: =ROUNDDOWN(SUM(AY118:AY118), 0) -> 0
A133: 0109. 철골공사
A134: H형강(SHN275) | B134: 200*200*8*12mm | C134: TON | D134: 1.3978 | F134: =ROUNDDOWN(D134*E134, 0) -> 0 | H134: =ROUNDDOWN(D134*G134, 0) -> 0 | J134: =ROUNDDOWN(D134*I134, 0) -> 0 | K134: =E134+G134+I134 -> 0 | L134: =F134+H134+J134 -> 0 | O134: ="01" -> 01 | P134: 기계경비 | Q134: 1 | R134: =IF(P134="기계경비", J134, 0) -> 0 | S134: =IF(P134="운반비", L134, 0) -> 0 | T134: =IF(P134="작업부산물", F134, 0) -> 0 | U134: =IF(P134="관급", F134, 0) -> 0 | V134: =IF(P134="외주비", J134, 0) -> 0 | W134: =IF(P134="장비비", J134, 0) -> 0 | X134: =IF(P134="폐기물처리비", L134, 0) -> 0 | Y134: =IF(P134="가설비", J134, 0) -> 0 | Z134: =IF(P134="잡비제외분", F134, 0) -> 0 | AA134: =IF(P134="사급자재대", L134, 0) -> 0 | AB134: =IF(P134="관급자재대", L134, 0) -> 0 | AC134: =IF(P134="관급자 관급 자재대", L134, 0) -> 0 | AD134: =IF(P134="사용자항목2", L134, 0) -> 0 | AE134: =IF(P134="안전관리비", L134, 0) -> 0 | AF134: =IF(P134="품질관리비", L134, 0) -> 0 | AG134: =IF(P134="작업부산물(철거해체)", L134, 0) -> 0 | AH134: =IF(P134="사용자항목6", L134, 0) -> 0 | AI134: =IF(P134="사용자항목7", L134, 0) -> 0 | AJ134: =IF(P134="사용자항목8", L134, 0) -> 0 | AK134: =IF(P134="사용자항목9", L134, 0) -> 0 | AL134: =IF(P134="사용자항목10", L134, 0) -> 0 | AM134: =IF(P134="사용자항목11", L134, 0) -> 0 | AN134: =IF(P134="사용자항목12", L134, 0) -> 0 | AO134: =IF(P134="사용자항목13", L134, 0) -> 0 | AP134: =IF(P134="사용자항목14", L134, 0) -> 0 | AQ134: =IF(P134="사용자항목15", L134, 0) -> 0 | AR134: =IF(P134="사용자항목16", L134, 0) -> 0 | AS134: =IF(P134="사용자항목17", L134, 0) -> 0 | AT134: =IF(P134="사용자항목18", L134, 0) -> 0 | AU134: =IF(P134="사용자항목19", L134, 0) -> 0
A135: 일반구조용압연강판 | B135: 일반구조용압연강판, 12.0mm | C135: kg | D135: 33.1 | F135: =ROUNDDOWN(D135*E135, 0) -> 0 | H135: =ROUNDDOWN(D135*G135, 0) -> 0 | J135: =ROUNDDOWN(D135*I135, 0) -> 0 | K135: =E135+G135+I135 -> 0 | L135: =F135+H135+J135 -> 0 | M135: 열연(후판) | O135: ="01" -> 01 | P135: 기계경비 | Q135: 1 | R135: =IF(P135="기계경비", J135, 0) -> 0 | S135: =IF(P135="운반비", L135, 0) -> 0 | T135: =IF(P135="작업부산물", F135, 0) -> 0 | U135: =IF(P135="관급", F135, 0) -> 0 | V135: =IF(P135="외주비", J135, 0) -> 0 | W135: =IF(P135="장비비", J135, 0) -> 0 | X135: =IF(P135="폐기물처리비", L135, 0) -> 0 | Y135: =IF(P135="가설비", J135, 0) -> 0 | Z135: =IF(P135="잡비제외분", F135, 0) -> 0 | AA135: =IF(P135="사급자재대", L135, 0) -> 0 | AB135: =IF(P135="관급자재대", L135, 0) -> 0 | AC135: =IF(P135="관급자 관급 자재대", L135, 0) -> 0 | AD135: =IF(P135="사용자항목2", L135, 0) -> 0 | AE135: =IF(P135="안전관리비", L135, 0) -> 0 | AF135: =IF(P135="품질관리비", L135, 0) -> 0 | AG135: =IF(P135="작업부산물(철거해체)", L135, 0) -> 0 | AH135: =IF(P135="사용자항목6", L135, 0) -> 0 | AI135: =IF(P135="사용자항목7", L135, 0) -> 0 | AJ135: =IF(P135="사용자항목8", L135, 0) -> 0 | AK135: =IF(P135="사용자항목9", L135, 0) -> 0 | AL135: =IF(P135="사용자항목10", L135, 0) -> 0 | AM135: =IF(P135="사용자항목11", L135, 0) -> 0 | AN135: =IF(P135="사용자항목12", L135, 0) -> 0 | AO135: =IF(P135="사용자항목13", L135, 0) -> 0 | AP135: =IF(P135="사용자항목14", L135, 0) -> 0 | AQ135: =IF(P135="사용자항목15", L135, 0) -> 0 | AR135: =IF(P135="사용자항목16", L135, 0) -> 0 | AS135: =IF(P135="사용자항목17", L135, 0) -> 0 | AT135: =IF(P135="사용자항목18", L135, 0) -> 0 | AU135: =IF(P135="사용자항목19", L135, 0) -> 0
A136: 일반구조용압연강판 | B136: 일반구조용압연강판, 16mm | C136: 톤 | D136: 0.0525 | F136: =ROUNDDOWN(D136*E136, 0) -> 0 | H136: =ROUNDDOWN(D136*G136, 0) -> 0 | J136: =ROUNDDOWN(D136*I136, 0) -> 0 | K136: =E136+G136+I136 -> 0 | L136: =F136+H136+J136 -> 0 | M136: 열연(후판) | O136: ="01" -> 01 | P136: 기계경비 | Q136: 1 | R136: =IF(P136="기계경비", J136, 0) -> 0 | S136: =IF(P136="운반비", L136, 0) -> 0 | T136: =IF(P136="작업부산물", F136, 0) -> 0 | U136: =IF(P136="관급", F136, 0) -> 0 | V136: =IF(P136="외주비", J136, 0) -> 0 | W136: =IF(P136="장비비", J136, 0) -> 0 | X136: =IF(P136="폐기물처리비", L136, 0) -> 0 | Y136: =IF(P136="가설비", J136, 0) -> 0 | Z136: =IF(P136="잡비제외분", F136, 0) -> 0 | AA136: =IF(P136="사급자재대", L136, 0) -> 0 | AB136: =IF(P136="관급자재대", L136, 0) -> 0 | AC136: =IF(P136="관급자 관급 자재대", L136, 0) -> 0 | AD136: =IF(P136="사용자항목2", L136, 0) -> 0 | AE136: =IF(P136="안전관리비", L136, 0) -> 0 | AF136: =IF(P136="품질관리비", L136, 0) -> 0 | AG136: =IF(P136="작업부산물(철거해체)", L136, 0) -> 0 | AH136: =IF(P136="사용자항목6", L136, 0) -> 0 | AI136: =IF(P136="사용자항목7", L136, 0) -> 0 | AJ136: =IF(P136="사용자항목8", L136, 0) -> 0 | AK136: =IF(P136="사용자항목9", L136, 0) -> 0 | AL136: =IF(P136="사용자항목10", L136, 0) -> 0 | AM136: =IF(P136="사용자항목11", L136, 0) -> 0 | AN136: =IF(P136="사용자항목12", L136, 0) -> 0 | AO136: =IF(P136="사용자항목13", L136, 0) -> 0 | AP136: =IF(P136="사용자항목14", L136, 0) -> 0 | AQ136: =IF(P136="사용자항목15", L136, 0) -> 0 | AR136: =IF(P136="사용자항목16", L136, 0) -> 0 | AS136: =IF(P136="사용자항목17", L136, 0) -> 0 | AT136: =IF(P136="사용자항목18", L136, 0) -> 0 | AU136: =IF(P136="사용자항목19", L136, 0) -> 0
A137: 일반구조용압연강판 | B137: 일반구조용압연강판, 20mm | C137: 톤 | D137: 0.0431 | F137: =ROUNDDOWN(D137*E137, 0) -> 0 | H137: =ROUNDDOWN(D137*G137, 0) -> 0 | J137: =ROUNDDOWN(D137*I137, 0) -> 0 | K137: =E137+G137+I137 -> 0 | L137: =F137+H137+J137 -> 0 | M137: 열연(후판) | O137: ="01" -> 01 | P137: 기계경비 | Q137: 1 | R137: =IF(P137="기계경비", J137, 0) -> 0 | S137: =IF(P137="운반비", L137, 0) -> 0 | T137: =IF(P137="작업부산물", F137, 0) -> 0 | U137: =IF(P137="관급", F137, 0) -> 0 | V137: =IF(P137="외주비", J137, 0) -> 0 | W137: =IF(P137="장비비", J137, 0) -> 0 | X137: =IF(P137="폐기물처리비", L137, 0) -> 0 | Y137: =IF(P137="가설비", J137, 0) -> 0 | Z137: =IF(P137="잡비제외분", F137, 0) -> 0 | AA137: =IF(P137="사급자재대", L137, 0) -> 0 | AB137: =IF(P137="관급자재대", L137, 0) -> 0 | AC137: =IF(P137="관급자 관급 자재대", L137, 0) -> 0 | AD137: =IF(P137="사용자항목2", L137, 0) -> 0 | AE137: =IF(P137="안전관리비", L137, 0) -> 0 | AF137: =IF(P137="품질관리비", L137, 0) -> 0 | AG137: =IF(P137="작업부산물(철거해체)", L137, 0) -> 0 | AH137: =IF(P137="사용자항목6", L137, 0) -> 0 | AI137: =IF(P137="사용자항목7", L137, 0) -> 0 | AJ137: =IF(P137="사용자항목8", L137, 0) -> 0 | AK137: =IF(P137="사용자항목9", L137, 0) -> 0 | AL137: =IF(P137="사용자항목10", L137, 0) -> 0 | AM137: =IF(P137="사용자항목11", L137, 0) -> 0 | AN137: =IF(P137="사용자항목12", L137, 0) -> 0 | AO137: =IF(P137="사용자항목13", L137, 0) -> 0 | AP137: =IF(P137="사용자항목14", L137, 0) -> 0 | AQ137: =IF(P137="사용자항목15", L137, 0) -> 0 | AR137: =IF(P137="사용자항목16", L137, 0) -> 0 | AS137: =IF(P137="사용자항목17", L137, 0) -> 0 | AT137: =IF(P137="사용자항목18", L137, 0) -> 0 | AU137: =IF(P137="사용자항목19", L137, 0) -> 0
A138: 일반구조용압연강판 | B138: 일반구조용압연강판, 9.0mm | C138: 톤 | D138: 0.0093 | F138: =ROUNDDOWN(D138*E138, 0) -> 0 | H138: =ROUNDDOWN(D138*G138, 0) -> 0 | J138: =ROUNDDOWN(D138*I138, 0) -> 0 | K138: =E138+G138+I138 -> 0 | L138: =F138+H138+J138 -> 0 | M138: 열연(박판) | O138: ="01" -> 01 | P138: 기계경비 | Q138: 1 | R138: =IF(P138="기계경비", J138, 0) -> 0 | S138: =IF(P138="운반비", L138, 0) -> 0 | T138: =IF(P138="작업부산물", F138, 0) -> 0 | U138: =IF(P138="관급", F138, 0) -> 0 | V138: =IF(P138="외주비", J138, 0) -> 0 | W138: =IF(P138="장비비", J138, 0) -> 0 | X138: =IF(P138="폐기물처리비", L138, 0) -> 0 | Y138: =IF(P138="가설비", J138, 0) -> 0 | Z138: =IF(P138="잡비제외분", F138, 0) -> 0 | AA138: =IF(P138="사급자재대", L138, 0) -> 0 | AB138: =IF(P138="관급자재대", L138, 0) -> 0 | AC138: =IF(P138="관급자 관급 자재대", L138, 0) -> 0 | AD138: =IF(P138="사용자항목2", L138, 0) -> 0 | AE138: =IF(P138="안전관리비", L138, 0) -> 0 | AF138: =IF(P138="품질관리비", L138, 0) -> 0 | AG138: =IF(P138="작업부산물(철거해체)", L138, 0) -> 0 | AH138: =IF(P138="사용자항목6", L138, 0) -> 0 | AI138: =IF(P138="사용자항목7", L138, 0) -> 0 | AJ138: =IF(P138="사용자항목8", L138, 0) -> 0 | AK138: =IF(P138="사용자항목9", L138, 0) -> 0 | AL138: =IF(P138="사용자항목10", L138, 0) -> 0 | AM138: =IF(P138="사용자항목11", L138, 0) -> 0 | AN138: =IF(P138="사용자항목12", L138, 0) -> 0 | AO138: =IF(P138="사용자항목13", L138, 0) -> 0 | AP138: =IF(P138="사용자항목14", L138, 0) -> 0 | AQ138: =IF(P138="사용자항목15", L138, 0) -> 0 | AR138: =IF(P138="사용자항목16", L138, 0) -> 0 | AS138: =IF(P138="사용자항목17", L138, 0) -> 0 | AT138: =IF(P138="사용자항목18", L138, 0) -> 0 | AU138: =IF(P138="사용자항목19", L138, 0) -> 0
A139: 일반구조용압연강판 | B139: 일반구조용압연강판, 6.0mm | C139: 톤 | D139: 0.0617 | F139: =ROUNDDOWN(D139*E139, 0) -> 0 | H139: =ROUNDDOWN(D139*G139, 0) -> 0 | J139: =ROUNDDOWN(D139*I139, 0) -> 0 | K139: =E139+G139+I139 -> 0 | L139: =F139+H139+J139 -> 0 | M139: 열연(박판) | O139: ="01" -> 01 | P139: 기계경비 | Q139: 1 | R139: =IF(P139="기계경비", J139, 0) -> 0 | S139: =IF(P139="운반비", L139, 0) -> 0 | T139: =IF(P139="작업부산물", F139, 0) -> 0 | U139: =IF(P139="관급", F139, 0) -> 0 | V139: =IF(P139="외주비", J139, 0) -> 0 | W139: =IF(P139="장비비", J139, 0) -> 0 | X139: =IF(P139="폐기물처리비", L139, 0) -> 0 | Y139: =IF(P139="가설비", J139, 0) -> 0 | Z139: =IF(P139="잡비제외분", F139, 0) -> 0 | AA139: =IF(P139="사급자재대", L139, 0) -> 0 | AB139: =IF(P139="관급자재대", L139, 0) -> 0 | AC139: =IF(P139="관급자 관급 자재대", L139, 0) -> 0 | AD139: =IF(P139="사용자항목2", L139, 0) -> 0 | AE139: =IF(P139="안전관리비", L139, 0) -> 0 | AF139: =IF(P139="품질관리비", L139, 0) -> 0 | AG139: =IF(P139="작업부산물(철거해체)", L139, 0) -> 0 | AH139: =IF(P139="사용자항목6", L139, 0) -> 0 | AI139: =IF(P139="사용자항목7", L139, 0) -> 0 | AJ139: =IF(P139="사용자항목8", L139, 0) -> 0 | AK139: =IF(P139="사용자항목9", L139, 0) -> 0 | AL139: =IF(P139="사용자항목10", L139, 0) -> 0 | AM139: =IF(P139="사용자항목11", L139, 0) -> 0 | AN139: =IF(P139="사용자항목12", L139, 0) -> 0 | AO139: =IF(P139="사용자항목13", L139, 0) -> 0 | AP139: =IF(P139="사용자항목14", L139, 0) -> 0 | AQ139: =IF(P139="사용자항목15", L139, 0) -> 0 | AR139: =IF(P139="사용자항목16", L139, 0) -> 0 | AS139: =IF(P139="사용자항목17", L139, 0) -> 0 | AT139: =IF(P139="사용자항목18", L139, 0) -> 0 | AU139: =IF(P139="사용자항목19", L139, 0) -> 0
A140: 고장력볼트 | B140: 고장력볼트, F10T, M20×70mm | C140: 조 | D140: 32 | F140: =ROUNDDOWN(D140*E140, 0) -> 0 | H140: =ROUNDDOWN(D140*G140, 0) -> 0 | J140: =ROUNDDOWN(D140*I140, 0) -> 0 | K140: =E140+G140+I140 -> 0 | L140: =F140+H140+J140 -> 0 | O140: ="01" -> 01 | P140: 기계경비 | Q140: 1 | R140: =IF(P140="기계경비", J140, 0) -> 0 | S140: =IF(P140="운반비", L140, 0) -> 0 | T140: =IF(P140="작업부산물", F140, 0) -> 0 | U140: =IF(P140="관급", F140, 0) -> 0 | V140: =IF(P140="외주비", J140, 0) -> 0 | W140: =IF(P140="장비비", J140, 0) -> 0 | X140: =IF(P140="폐기물처리비", L140, 0) -> 0 | Y140: =IF(P140="가설비", J140, 0) -> 0 | Z140: =IF(P140="잡비제외분", F140, 0) -> 0 | AA140: =IF(P140="사급자재대", L140, 0) -> 0 | AB140: =IF(P140="관급자재대", L140, 0) -> 0 | AC140: =IF(P140="관급자 관급 자재대", L140, 0) -> 0 | AD140: =IF(P140="사용자항목2", L140, 0) -> 0 | AE140: =IF(P140="안전관리비", L140, 0) -> 0 | AF140: =IF(P140="품질관리비", L140, 0) -> 0 | AG140: =IF(P140="작업부산물(철거해체)", L140, 0) -> 0 | AH140: =IF(P140="사용자항목6", L140, 0) -> 0 | AI140: =IF(P140="사용자항목7", L140, 0) -> 0 | AJ140: =IF(P140="사용자항목8", L140, 0) -> 0 | AK140: =IF(P140="사용자항목9", L140, 0) -> 0 | AL140: =IF(P140="사용자항목10", L140, 0) -> 0 | AM140: =IF(P140="사용자항목11", L140, 0) -> 0 | AN140: =IF(P140="사용자항목12", L140, 0) -> 0 | AO140: =IF(P140="사용자항목13", L140, 0) -> 0 | AP140: =IF(P140="사용자항목14", L140, 0) -> 0 | AQ140: =IF(P140="사용자항목15", L140, 0) -> 0 | AR140: =IF(P140="사용자항목16", L140, 0) -> 0 | AS140: =IF(P140="사용자항목17", L140, 0) -> 0 | AT140: =IF(P140="사용자항목18", L140, 0) -> 0 | AU140: =IF(P140="사용자항목19", L140, 0) -> 0
A141: 기초앵커 | B141: L형앵커, M20×500 | C141: 개 | D141: 8 | F141: =ROUNDDOWN(D141*E141, 0) -> 0 | H141: =ROUNDDOWN(D141*G141, 0) -> 0 | J141: =ROUNDDOWN(D141*I141, 0) -> 0 | K141: =E141+G141+I141 -> 0 | L141: =F141+H141+J141 -> 0 | O141: ="01" -> 01 | P141: 기계경비 | Q141: 1 | R141: =IF(P141="기계경비", J141, 0) -> 0 | S141: =IF(P141="운반비", L141, 0) -> 0 | T141: =IF(P141="작업부산물", F141, 0) -> 0 | U141: =IF(P141="관급", F141, 0) -> 0 | V141: =IF(P141="외주비", J141, 0) -> 0 | W141: =IF(P141="장비비", J141, 0) -> 0 | X141: =IF(P141="폐기물처리비", L141, 0) -> 0 | Y141: =IF(P141="가설비", J141, 0) -> 0 | Z141: =IF(P141="잡비제외분", F141, 0) -> 0 | AA141: =IF(P141="사급자재대", L141, 0) -> 0 | AB141: =IF(P141="관급자재대", L141, 0) -> 0 | AC141: =IF(P141="관급자 관급 자재대", L141, 0) -> 0 | AD141: =IF(P141="사용자항목2", L141, 0) -> 0 | AE141: =IF(P141="안전관리비", L141, 0) -> 0 | AF141: =IF(P141="품질관리비", L141, 0) -> 0 | AG141: =IF(P141="작업부산물(철거해체)", L141, 0) -> 0 | AH141: =IF(P141="사용자항목6", L141, 0) -> 0 | AI141: =IF(P141="사용자항목7", L141, 0) -> 0 | AJ141: =IF(P141="사용자항목8", L141, 0) -> 0 | AK141: =IF(P141="사용자항목9", L141, 0) -> 0 | AL141: =IF(P141="사용자항목10", L141, 0) -> 0 | AM141: =IF(P141="사용자항목11", L141, 0) -> 0 | AN141: =IF(P141="사용자항목12", L141, 0) -> 0 | AO141: =IF(P141="사용자항목13", L141, 0) -> 0 | AP141: =IF(P141="사용자항목14", L141, 0) -> 0 | AQ141: =IF(P141="사용자항목15", L141, 0) -> 0 | AR141: =IF(P141="사용자항목16", L141, 0) -> 0 | AS141: =IF(P141="사용자항목17", L141, 0) -> 0 | AT141: =IF(P141="사용자항목18", L141, 0) -> 0 | AU141: =IF(P141="사용자항목19", L141, 0) -> 0
A142: 케미칼앵커롯드 | B142: HIT-C M20×240 | C142: 개 | D142: 8 | F142: =ROUNDDOWN(D142*E142, 0) -> 0 | H142: =ROUNDDOWN(D142*G142, 0) -> 0 | J142: =ROUNDDOWN(D142*I142, 0) -> 0 | K142: =E142+G142+I142 -> 0 | L142: =F142+H142+J142 -> 0 | O142: ="01" -> 01 | P142: 기계경비 | Q142: 1 | R142: =IF(P142="기계경비", J142, 0) -> 0 | S142: =IF(P142="운반비", L142, 0) -> 0 | T142: =IF(P142="작업부산물", F142, 0) -> 0 | U142: =IF(P142="관급", F142, 0) -> 0 | V142: =IF(P142="외주비", J142, 0) -> 0 | W142: =IF(P142="장비비", J142, 0) -> 0 | X142: =IF(P142="폐기물처리비", L142, 0) -> 0 | Y142: =IF(P142="가설비", J142, 0) -> 0 | Z142: =IF(P142="잡비제외분", F142, 0) -> 0 | AA142: =IF(P142="사급자재대", L142, 0) -> 0 | AB142: =IF(P142="관급자재대", L142, 0) -> 0 | AC142: =IF(P142="관급자 관급 자재대", L142, 0) -> 0 | AD142: =IF(P142="사용자항목2", L142, 0) -> 0 | AE142: =IF(P142="안전관리비", L142, 0) -> 0 | AF142: =IF(P142="품질관리비", L142, 0) -> 0 | AG142: =IF(P142="작업부산물(철거해체)", L142, 0) -> 0 | AH142: =IF(P142="사용자항목6", L142, 0) -> 0 | AI142: =IF(P142="사용자항목7", L142, 0) -> 0 | AJ142: =IF(P142="사용자항목8", L142, 0) -> 0 | AK142: =IF(P142="사용자항목9", L142, 0) -> 0 | AL142: =IF(P142="사용자항목10", L142, 0) -> 0 | AM142: =IF(P142="사용자항목11", L142, 0) -> 0 | AN142: =IF(P142="사용자항목12", L142, 0) -> 0 | AO142: =IF(P142="사용자항목13", L142, 0) -> 0 | AP142: =IF(P142="사용자항목14", L142, 0) -> 0 | AQ142: =IF(P142="사용자항목15", L142, 0) -> 0 | AR142: =IF(P142="사용자항목16", L142, 0) -> 0 | AS142: =IF(P142="사용자항목17", L142, 0) -> 0 | AT142: =IF(P142="사용자항목18", L142, 0) -> 0 | AU142: =IF(P142="사용자항목19", L142, 0) -> 0
A143: 기존구조체연결 보강 D22. | B143: HY-200 | C143: 개소 | D143: 8 | F143: =ROUNDDOWN(D143*E143, 0) -> 0 | H143: =ROUNDDOWN(D143*G143, 0) -> 0 | J143: =ROUNDDOWN(D143*I143, 0) -> 0 | K143: =E143+G143+I143 -> 0 | L143: =F143+H143+J143 -> 0 | M143: 일위 24호 | O143: ="" | P143: 기계경비 | Q143: 1 | R143: =IF(P143="기계경비", J143, 0) -> 0 | S143: =IF(P143="운반비", L143, 0) -> 0 | T143: =IF(P143="작업부산물", F143, 0) -> 0 | U143: =IF(P143="관급", F143, 0) -> 0 | V143: =IF(P143="외주비", J143, 0) -> 0 | W143: =IF(P143="장비비", J143, 0) -> 0 | X143: =IF(P143="폐기물처리비", L143, 0) -> 0 | Y143: =IF(P143="가설비", J143, 0) -> 0 | Z143: =IF(P143="잡비제외분", F143, 0) -> 0 | AA143: =IF(P143="사급자재대", L143, 0) -> 0 | AB143: =IF(P143="관급자재대", L143, 0) -> 0 | AC143: =IF(P143="관급자 관급 자재대", L143, 0) -> 0 | AD143: =IF(P143="사용자항목2", L143, 0) -> 0 | AE143: =IF(P143="안전관리비", L143, 0) -> 0 | AF143: =IF(P143="품질관리비", L143, 0) -> 0 | AG143: =IF(P143="작업부산물(철거해체)", L143, 0) -> 0 | AH143: =IF(P143="사용자항목6", L143, 0) -> 0 | AI143: =IF(P143="사용자항목7", L143, 0) -> 0 | AJ143: =IF(P143="사용자항목8", L143, 0) -> 0 | AK143: =IF(P143="사용자항목9", L143, 0) -> 0 | AL143: =IF(P143="사용자항목10", L143, 0) -> 0 | AM143: =IF(P143="사용자항목11", L143, 0) -> 0 | AN143: =IF(P143="사용자항목12", L143, 0) -> 0 | AO143: =IF(P143="사용자항목13", L143, 0) -> 0 | AP143: =IF(P143="사용자항목14", L143, 0) -> 0 | AQ143: =IF(P143="사용자항목15", L143, 0) -> 0 | AR143: =IF(P143="사용자항목16", L143, 0) -> 0 | AS143: =IF(P143="사용자항목17", L143, 0) -> 0 | AT143: =IF(P143="사용자항목18", L143, 0) -> 0 | AU143: =IF(P143="사용자항목19", L143, 0) -> 0
A144: 케미칼앵커롯드 | B144: HIT-C M12×160 | C144: 개 | D144: 86 | F144: =ROUNDDOWN(D144*E144, 0) -> 0 | H144: =ROUNDDOWN(D144*G144, 0) -> 0 | J144: =ROUNDDOWN(D144*I144, 0) -> 0 | K144: =E144+G144+I144 -> 0 | L144: =F144+H144+J144 -> 0 | O144: ="01" -> 01 | P144: 기계경비 | Q144: 1 | R144: =IF(P144="기계경비", J144, 0) -> 0 | S144: =IF(P144="운반비", L144, 0) -> 0 | T144: =IF(P144="작업부산물", F144, 0) -> 0 | U144: =IF(P144="관급", F144, 0) -> 0 | V144: =IF(P144="외주비", J144, 0) -> 0 | W144: =IF(P144="장비비", J144, 0) -> 0 | X144: =IF(P144="폐기물처리비", L144, 0) -> 0 | Y144: =IF(P144="가설비", J144, 0) -> 0 | Z144: =IF(P144="잡비제외분", F144, 0) -> 0 | AA144: =IF(P144="사급자재대", L144, 0) -> 0 | AB144: =IF(P144="관급자재대", L144, 0) -> 0 | AC144: =IF(P144="관급자 관급 자재대", L144, 0) -> 0 | AD144: =IF(P144="사용자항목2", L144, 0) -> 0 | AE144: =IF(P144="안전관리비", L144, 0) -> 0 | AF144: =IF(P144="품질관리비", L144, 0) -> 0 | AG144: =IF(P144="작업부산물(철거해체)", L144, 0) -> 0 | AH144: =IF(P144="사용자항목6", L144, 0) -> 0 | AI144: =IF(P144="사용자항목7", L144, 0) -> 0 | AJ144: =IF(P144="사용자항목8", L144, 0) -> 0 | AK144: =IF(P144="사용자항목9", L144, 0) -> 0 | AL144: =IF(P144="사용자항목10", L144, 0) -> 0 | AM144: =IF(P144="사용자항목11", L144, 0) -> 0 | AN144: =IF(P144="사용자항목12", L144, 0) -> 0 | AO144: =IF(P144="사용자항목13", L144, 0) -> 0 | AP144: =IF(P144="사용자항목14", L144, 0) -> 0 | AQ144: =IF(P144="사용자항목15", L144, 0) -> 0 | AR144: =IF(P144="사용자항목16", L144, 0) -> 0 | AS144: =IF(P144="사용자항목17", L144, 0) -> 0 | AT144: =IF(P144="사용자항목18", L144, 0) -> 0 | AU144: =IF(P144="사용자항목19", L144, 0) -> 0
A145: 기존구조체연결 보강 D13. | B145: HY-200 | C145: 개소 | D145: 86 | F145: =ROUNDDOWN(D145*E145, 0) -> 0 | H145: =ROUNDDOWN(D145*G145, 0) -> 0 | J145: =ROUNDDOWN(D145*I145, 0) -> 0 | K145: =E145+G145+I145 -> 0 | L145: =F145+H145+J145 -> 0 | M145: 일위 25호 | O145: ="" | P145: 기계경비 | Q145: 1 | R145: =IF(P145="기계경비", J145, 0) -> 0 | S145: =IF(P145="운반비", L145, 0) -> 0 | T145: =IF(P145="작업부산물", F145, 0) -> 0 | U145: =IF(P145="관급", F145, 0) -> 0 | V145: =IF(P145="외주비", J145, 0) -> 0 | W145: =IF(P145="장비비", J145, 0) -> 0 | X145: =IF(P145="폐기물처리비", L145, 0) -> 0 | Y145: =IF(P145="가설비", J145, 0) -> 0 | Z145: =IF(P145="잡비제외분", F145, 0) -> 0 | AA145: =IF(P145="사급자재대", L145, 0) -> 0 | AB145: =IF(P145="관급자재대", L145, 0) -> 0 | AC145: =IF(P145="관급자 관급 자재대", L145, 0) -> 0 | AD145: =IF(P145="사용자항목2", L145, 0) -> 0 | AE145: =IF(P145="안전관리비", L145, 0) -> 0 | AF145: =IF(P145="품질관리비", L145, 0) -> 0 | AG145: =IF(P145="작업부산물(철거해체)", L145, 0) -> 0 | AH145: =IF(P145="사용자항목6", L145, 0) -> 0 | AI145: =IF(P145="사용자항목7", L145, 0) -> 0 | AJ145: =IF(P145="사용자항목8", L145, 0) -> 0 | AK145: =IF(P145="사용자항목9", L145, 0) -> 0 | AL145: =IF(P145="사용자항목10", L145, 0) -> 0 | AM145: =IF(P145="사용자항목11", L145, 0) -> 0 | AN145: =IF(P145="사용자항목12", L145, 0) -> 0 | AO145: =IF(P145="사용자항목13", L145, 0) -> 0 | AP145: =IF(P145="사용자항목14", L145, 0) -> 0 | AQ145: =IF(P145="사용자항목15", L145, 0) -> 0 | AR145: =IF(P145="사용자항목16", L145, 0) -> 0 | AS145: =IF(P145="사용자항목17", L145, 0) -> 0 | AT145: =IF(P145="사용자항목18", L145, 0) -> 0 | AU145: =IF(P145="사용자항목19", L145, 0) -> 0
A146: 케미칼앵커롯드 | B146: HIT-C M16×190 | C146: 개 | D146: 53 | F146: =ROUNDDOWN(D146*E146, 0) -> 0 | H146: =ROUNDDOWN(D146*G146, 0) -> 0 | J146: =ROUNDDOWN(D146*I146, 0) -> 0 | K146: =E146+G146+I146 -> 0 | L146: =F146+H146+J146 -> 0 | O146: ="01" -> 01 | P146: 기계경비 | Q146: 1 | R146: =IF(P146="기계경비", J146, 0) -> 0 | S146: =IF(P146="운반비", L146, 0) -> 0 | T146: =IF(P146="작업부산물", F146, 0) -> 0 | U146: =IF(P146="관급", F146, 0) -> 0 | V146: =IF(P146="외주비", J146, 0) -> 0 | W146: =IF(P146="장비비", J146, 0) -> 0 | X146: =IF(P146="폐기물처리비", L146, 0) -> 0 | Y146: =IF(P146="가설비", J146, 0) -> 0 | Z146: =IF(P146="잡비제외분", F146, 0) -> 0 | AA146: =IF(P146="사급자재대", L146, 0) -> 0 | AB146: =IF(P146="관급자재대", L146, 0) -> 0 | AC146: =IF(P146="관급자 관급 자재대", L146, 0) -> 0 | AD146: =IF(P146="사용자항목2", L146, 0) -> 0 | AE146: =IF(P146="안전관리비", L146, 0) -> 0 | AF146: =IF(P146="품질관리비", L146, 0) -> 0 | AG146: =IF(P146="작업부산물(철거해체)", L146, 0) -> 0 | AH146: =IF(P146="사용자항목6", L146, 0) -> 0 | AI146: =IF(P146="사용자항목7", L146, 0) -> 0 | AJ146: =IF(P146="사용자항목8", L146, 0) -> 0 | AK146: =IF(P146="사용자항목9", L146, 0) -> 0 | AL146: =IF(P146="사용자항목10", L146, 0) -> 0 | AM146: =IF(P146="사용자항목11", L146, 0) -> 0 | AN146: =IF(P146="사용자항목12", L146, 0) -> 0 | AO146: =IF(P146="사용자항목13", L146, 0) -> 0 | AP146: =IF(P146="사용자항목14", L146, 0) -> 0 | AQ146: =IF(P146="사용자항목15", L146, 0) -> 0 | AR146: =IF(P146="사용자항목16", L146, 0) -> 0 | AS146: =IF(P146="사용자항목17", L146, 0) -> 0 | AT146: =IF(P146="사용자항목18", L146, 0) -> 0 | AU146: =IF(P146="사용자항목19", L146, 0) -> 0
A147: 기존구조체연결 보강 D16. | B147: HY-200 | C147: 개소 | D147: 53 | F147: =ROUNDDOWN(D147*E147, 0) -> 0 | H147: =ROUNDDOWN(D147*G147, 0) -> 0 | J147: =ROUNDDOWN(D147*I147, 0) -> 0 | K147: =E147+G147+I147 -> 0 | L147: =F147+H147+J147 -> 0 | M147: 일위 18호 | O147: ="" | P147: 기계경비 | Q147: 1 | R147: =IF(P147="기계경비", J147, 0) -> 0 | S147: =IF(P147="운반비", L147, 0) -> 0 | T147: =IF(P147="작업부산물", F147, 0) -> 0 | U147: =IF(P147="관급", F147, 0) -> 0 | V147: =IF(P147="외주비", J147, 0) -> 0 | W147: =IF(P147="장비비", J147, 0) -> 0 | X147: =IF(P147="폐기물처리비", L147, 0) -> 0 | Y147: =IF(P147="가설비", J147, 0) -> 0 | Z147: =IF(P147="잡비제외분", F147, 0) -> 0 | AA147: =IF(P147="사급자재대", L147, 0) -> 0 | AB147: =IF(P147="관급자재대", L147, 0) -> 0 | AC147: =IF(P147="관급자 관급 자재대", L147, 0) -> 0 | AD147: =IF(P147="사용자항목2", L147, 0) -> 0 | AE147: =IF(P147="안전관리비", L147, 0) -> 0 | AF147: =IF(P147="품질관리비", L147, 0) -> 0 | AG147: =IF(P147="작업부산물(철거해체)", L147, 0) -> 0 | AH147: =IF(P147="사용자항목6", L147, 0) -> 0 | AI147: =IF(P147="사용자항목7", L147, 0) -> 0 | AJ147: =IF(P147="사용자항목8", L147, 0) -> 0 | AK147: =IF(P147="사용자항목9", L147, 0) -> 0 | AL147: =IF(P147="사용자항목10", L147, 0) -> 0 | AM147: =IF(P147="사용자항목11", L147, 0) -> 0 | AN147: =IF(P147="사용자항목12", L147, 0) -> 0 | AO147: =IF(P147="사용자항목13", L147, 0) -> 0 | AP147: =IF(P147="사용자항목14", L147, 0) -> 0 | AQ147: =IF(P147="사용자항목15", L147, 0) -> 0 | AR147: =IF(P147="사용자항목16", L147, 0) -> 0 | AS147: =IF(P147="사용자항목17", L147, 0) -> 0 | AT147: =IF(P147="사용자항목18", L147, 0) -> 0 | AU147: =IF(P147="사용자항목19", L147, 0) -> 0
A148: 무수축몰탈 | C148: M3 | D148: 0.07 | F148: =ROUNDDOWN(D148*E148, 0) -> 0 | H148: =ROUNDDOWN(D148*G148, 0) -> 0 | J148: =ROUNDDOWN(D148*I148, 0) -> 0 | K148: =E148+G148+I148 -> 0 | L148: =F148+H148+J148 -> 0 | M148: 일위 26호 | O148: ="" | P148: 기계경비 | Q148: 1 | R148: =IF(P148="기계경비", J148, 0) -> 0 | S148: =IF(P148="운반비", L148, 0) -> 0 | T148: =IF(P148="작업부산물", F148, 0) -> 0 | U148: =IF(P148="관급", F148, 0) -> 0 | V148: =IF(P148="외주비", J148, 0) -> 0 | W148: =IF(P148="장비비", J148, 0) -> 0 | X148: =IF(P148="폐기물처리비", L148, 0) -> 0 | Y148: =IF(P148="가설비", J148, 0) -> 0 | Z148: =IF(P148="잡비제외분", F148, 0) -> 0 | AA148: =IF(P148="사급자재대", L148, 0) -> 0 | AB148: =IF(P148="관급자재대", L148, 0) -> 0 | AC148: =IF(P148="관급자 관급 자재대", L148, 0) -> 0 | AD148: =IF(P148="사용자항목2", L148, 0) -> 0 | AE148: =IF(P148="안전관리비", L148, 0) -> 0 | AF148: =IF(P148="품질관리비", L148, 0) -> 0 | AG148: =IF(P148="작업부산물(철거해체)", L148, 0) -> 0 | AH148: =IF(P148="사용자항목6", L148, 0) -> 0 | AI148: =IF(P148="사용자항목7", L148, 0) -> 0 | AJ148: =IF(P148="사용자항목8", L148, 0) -> 0 | AK148: =IF(P148="사용자항목9", L148, 0) -> 0 | AL148: =IF(P148="사용자항목10", L148, 0) -> 0 | AM148: =IF(P148="사용자항목11", L148, 0) -> 0 | AN148: =IF(P148="사용자항목12", L148, 0) -> 0 | AO148: =IF(P148="사용자항목13", L148, 0) -> 0 | AP148: =IF(P148="사용자항목14", L148, 0) -> 0 | AQ148: =IF(P148="사용자항목15", L148, 0) -> 0 | AR148: =IF(P148="사용자항목16", L148, 0) -> 0 | AS148: =IF(P148="사용자항목17", L148, 0) -> 0 | AT148: =IF(P148="사용자항목18", L148, 0) -> 0 | AU148: =IF(P148="사용자항목19", L148, 0) -> 0
A149: 철골 가공조립 | B149: 현장작업 | C149: TON | D149: 1.49 | F149: =ROUNDDOWN(D149*E149, 0) -> 0 | H149: =ROUNDDOWN(D149*G149, 0) -> 0 | J149: =ROUNDDOWN(D149*I149, 0) -> 0 | K149: =E149+G149+I149 -> 0 | L149: =F149+H149+J149 -> 0 | M149: 일위 27호 | O149: ="" | P149: 기계경비 | Q149: 1 | R149: =IF(P149="기계경비", J149, 0) -> 0 | S149: =IF(P149="운반비", L149, 0) -> 0 | T149: =IF(P149="작업부산물", F149, 0) -> 0 | U149: =IF(P149="관급", F149, 0) -> 0 | V149: =IF(P149="외주비", J149, 0) -> 0 | W149: =IF(P149="장비비", J149, 0) -> 0 | X149: =IF(P149="폐기물처리비", L149, 0) -> 0 | Y149: =IF(P149="가설비", J149, 0) -> 0 | Z149: =IF(P149="잡비제외분", F149, 0) -> 0 | AA149: =IF(P149="사급자재대", L149, 0) -> 0 | AB149: =IF(P149="관급자재대", L149, 0) -> 0 | AC149: =IF(P149="관급자 관급 자재대", L149, 0) -> 0 | AD149: =IF(P149="사용자항목2", L149, 0) -> 0 | AE149: =IF(P149="안전관리비", L149, 0) -> 0 | AF149: =IF(P149="품질관리비", L149, 0) -> 0 | AG149: =IF(P149="작업부산물(철거해체)", L149, 0) -> 0 | AH149: =IF(P149="사용자항목6", L149, 0) -> 0 | AI149: =IF(P149="사용자항목7", L149, 0) -> 0 | AJ149: =IF(P149="사용자항목8", L149, 0) -> 0 | AK149: =IF(P149="사용자항목9", L149, 0) -> 0 | AL149: =IF(P149="사용자항목10", L149, 0) -> 0 | AM149: =IF(P149="사용자항목11", L149, 0) -> 0 | AN149: =IF(P149="사용자항목12", L149, 0) -> 0 | AO149: =IF(P149="사용자항목13", L149, 0) -> 0 | AP149: =IF(P149="사용자항목14", L149, 0) -> 0 | AQ149: =IF(P149="사용자항목15", L149, 0) -> 0 | AR149: =IF(P149="사용자항목16", L149, 0) -> 0 | AS149: =IF(P149="사용자항목17", L149, 0) -> 0 | AT149: =IF(P149="사용자항목18", L149, 0) -> 0 | AU149: =IF(P149="사용자항목19", L149, 0) -> 0
A150: 철골세우기 | B150: 6층미만 | C150: TON | D150: 1.49 | F150: =ROUNDDOWN(D150*E150, 0) -> 0 | H150: =ROUNDDOWN(D150*G150, 0) -> 0 | J150: =ROUNDDOWN(D150*I150, 0) -> 0 | K150: =E150+G150+I150 -> 0 | L150: =F150+H150+J150 -> 0 | M150: 일위 28호 | O150: ="" | P150: 기계경비 | Q150: 1 | R150: =IF(P150="기계경비", J150, 0) -> 0 | S150: =IF(P150="운반비", L150, 0) -> 0 | T150: =IF(P150="작업부산물", F150, 0) -> 0 | U150: =IF(P150="관급", F150, 0) -> 0 | V150: =IF(P150="외주비", J150, 0) -> 0 | W150: =IF(P150="장비비", J150, 0) -> 0 | X150: =IF(P150="폐기물처리비", L150, 0) -> 0 | Y150: =IF(P150="가설비", J150, 0) -> 0 | Z150: =IF(P150="잡비제외분", F150, 0) -> 0 | AA150: =IF(P150="사급자재대", L150, 0) -> 0 | AB150: =IF(P150="관급자재대", L150, 0) -> 0 | AC150: =IF(P150="관급자 관급 자재대", L150, 0) -> 0 | AD150: =IF(P150="사용자항목2", L150, 0) -> 0 | AE150: =IF(P150="안전관리비", L150, 0) -> 0 | AF150: =IF(P150="품질관리비", L150, 0) -> 0 | AG150: =IF(P150="작업부산물(철거해체)", L150, 0) -> 0 | AH150: =IF(P150="사용자항목6", L150, 0) -> 0 | AI150: =IF(P150="사용자항목7", L150, 0) -> 0 | AJ150: =IF(P150="사용자항목8", L150, 0) -> 0 | AK150: =IF(P150="사용자항목9", L150, 0) -> 0 | AL150: =IF(P150="사용자항목10", L150, 0) -> 0 | AM150: =IF(P150="사용자항목11", L150, 0) -> 0 | AN150: =IF(P150="사용자항목12", L150, 0) -> 0 | AO150: =IF(P150="사용자항목13", L150, 0) -> 0 | AP150: =IF(P150="사용자항목14", L150, 0) -> 0 | AQ150: =IF(P150="사용자항목15", L150, 0) -> 0 | AR150: =IF(P150="사용자항목16", L150, 0) -> 0 | AS150: =IF(P150="사용자항목17", L150, 0) -> 0 | AT150: =IF(P150="사용자항목18", L150, 0) -> 0 | AU150: =IF(P150="사용자항목19", L150, 0) -> 0
A151: 철골운반 | B151: 구역화물(20km)+크레인하차 | C151: TON | D151: 1.49 | F151: =ROUNDDOWN(D151*E151, 0) -> 0 | H151: =ROUNDDOWN(D151*G151, 0) -> 0 | J151: =ROUNDDOWN(D151*I151, 0) -> 0 | K151: =E151+G151+I151 -> 0 | L151: =F151+H151+J151 -> 0 | M151: 단산 2호 | O151: ="" | P151: 기계경비 | Q151: 1 | R151: =IF(P151="기계경비", J151, 0) -> 0 | S151: =IF(P151="운반비", L151, 0) -> 0 | T151: =IF(P151="작업부산물", F151, 0) -> 0 | U151: =IF(P151="관급", F151, 0) -> 0 | V151: =IF(P151="외주비", J151, 0) -> 0 | W151: =IF(P151="장비비", J151, 0) -> 0 | X151: =IF(P151="폐기물처리비", L151, 0) -> 0 | Y151: =IF(P151="가설비", J151, 0) -> 0 | Z151: =IF(P151="잡비제외분", F151, 0) -> 0 | AA151: =IF(P151="사급자재대", L151, 0) -> 0 | AB151: =IF(P151="관급자재대", L151, 0) -> 0 | AC151: =IF(P151="관급자 관급 자재대", L151, 0) -> 0 | AD151: =IF(P151="사용자항목2", L151, 0) -> 0 | AE151: =IF(P151="안전관리비", L151, 0) -> 0 | AF151: =IF(P151="품질관리비", L151, 0) -> 0 | AG151: =IF(P151="작업부산물(철거해체)", L151, 0) -> 0 | AH151: =IF(P151="사용자항목6", L151, 0) -> 0 | AI151: =IF(P151="사용자항목7", L151, 0) -> 0 | AJ151: =IF(P151="사용자항목8", L151, 0) -> 0 | AK151: =IF(P151="사용자항목9", L151, 0) -> 0 | AL151: =IF(P151="사용자항목10", L151, 0) -> 0 | AM151: =IF(P151="사용자항목11", L151, 0) -> 0 | AN151: =IF(P151="사용자항목12", L151, 0) -> 0 | AO151: =IF(P151="사용자항목13", L151, 0) -> 0 | AP151: =IF(P151="사용자항목14", L151, 0) -> 0 | AQ151: =IF(P151="사용자항목15", L151, 0) -> 0 | AR151: =IF(P151="사용자항목16", L151, 0) -> 0 | AS151: =IF(P151="사용자항목17", L151, 0) -> 0 | AT151: =IF(P151="사용자항목18", L151, 0) -> 0 | AU151: =IF(P151="사용자항목19", L151, 0) -> 0
A164: 합 계 | F164: =ROUNDDOWN(SUMIF(Q134:Q163, "1", F134:F163), 0) -> 0 | H164: =ROUNDDOWN(SUMIF(Q134:Q163, "1", H134:H163), 0) -> 0 | J164: =ROUNDDOWN(SUMIF(Q134:Q163, "1", J134:J163), 0) -> 0 | L164: =F164+H164+J164 -> 0 | R164: =ROUNDDOWN(SUM(R134:R151), 0) -> 0 | S164: =ROUNDDOWN(SUM(S134:S151), 0) -> 0 | T164: =ROUNDDOWN(SUM(T134:T151), 0) -> 0 | U164: =ROUNDDOWN(SUM(U134:U151), 0) -> 0 | V164: =ROUNDDOWN(SUM(V134:V151), 0) -> 0 | W164: =ROUNDDOWN(SUM(W134:W151), 0) -> 0 | X164: =ROUNDDOWN(SUM(X134:X151), 0) -> 0 | Y164: =ROUNDDOWN(SUM(Y134:Y151), 0) -> 0 | ... AY164: =ROUNDDOWN(SUM(AY134:AY151), 0) -> 0
A165: 0110. 샌드위치패널공사
A166: 샌드위치(단열)패널설치(그라스울) | B166: 내벽, 그라스울(64K), 100mm | C166: M2 | D166: 5.46 | F166: =ROUNDDOWN(D166*E166, 0) -> 0 | H166: =ROUNDDOWN(D166*G166, 0) -> 0 | J166: =ROUNDDOWN(D166*I166, 0) -> 0 | K166: =E166+G166+I166 -> 0 | L166: =F166+H166+J166 -> 0 | M166: 일위 29호 | O166: ="" | P166: 기계경비 | Q166: 1 | R166: =IF(P166="기계경비", J166, 0) -> 0 | S166: =IF(P166="운반비", L166, 0) -> 0 | T166: =IF(P166="작업부산물", F166, 0) -> 0 | U166: =IF(P166="관급", F166, 0) -> 0 | V166: =IF(P166="외주비", J166, 0) -> 0 | W166: =IF(P166="장비비", J166, 0) -> 0 | X166: =IF(P166="폐기물처리비", L166, 0) -> 0 | Y166: =IF(P166="가설비", J166, 0) -> 0 | Z166: =IF(P166="잡비제외분", F166, 0) -> 0 | AA166: =IF(P166="사급자재대", L166, 0) -> 0 | AB166: =IF(P166="관급자재대", L166, 0) -> 0 | AC166: =IF(P166="관급자 관급 자재대", L166, 0) -> 0 | AD166: =IF(P166="사용자항목2", L166, 0) -> 0 | AE166: =IF(P166="안전관리비", L166, 0) -> 0 | AF166: =IF(P166="품질관리비", L166, 0) -> 0 | AG166: =IF(P166="작업부산물(철거해체)", L166, 0) -> 0 | AH166: =IF(P166="사용자항목6", L166, 0) -> 0 | AI166: =IF(P166="사용자항목7", L166, 0) -> 0 | AJ166: =IF(P166="사용자항목8", L166, 0) -> 0 | AK166: =IF(P166="사용자항목9", L166, 0) -> 0 | AL166: =IF(P166="사용자항목10", L166, 0) -> 0 | AM166: =IF(P166="사용자항목11", L166, 0) -> 0 | AN166: =IF(P166="사용자항목12", L166, 0) -> 0 | AO166: =IF(P166="사용자항목13", L166, 0) -> 0 | AP166: =IF(P166="사용자항목14", L166, 0) -> 0 | AQ166: =IF(P166="사용자항목15", L166, 0) -> 0 | AR166: =IF(P166="사용자항목16", L166, 0) -> 0 | AS166: =IF(P166="사용자항목17", L166, 0) -> 0 | AT166: =IF(P166="사용자항목18", L166, 0) -> 0 | AU166: =IF(P166="사용자항목19", L166, 0) -> 0
A167: 후레싱 | B167: 칼라강판, W:200, 0.5T | C167: M | D167: 9.4 | F167: =ROUNDDOWN(D167*E167, 0) -> 0 | H167: =ROUNDDOWN(D167*G167, 0) -> 0 | J167: =ROUNDDOWN(D167*I167, 0) -> 0 | K167: =E167+G167+I167 -> 0 | L167: =F167+H167+J167 -> 0 | M167: 일위 30호 | O167: ="" | P167: 기계경비 | Q167: 1 | R167: =IF(P167="기계경비", J167, 0) -> 0 | S167: =IF(P167="운반비", L167, 0) -> 0 | T167: =IF(P167="작업부산물", F167, 0) -> 0 | U167: =IF(P167="관급", F167, 0) -> 0 | V167: =IF(P167="외주비", J167, 0) -> 0 | W167: =IF(P167="장비비", J167, 0) -> 0 | X167: =IF(P167="폐기물처리비", L167, 0) -> 0 | Y167: =IF(P167="가설비", J167, 0) -> 0 | Z167: =IF(P167="잡비제외분", F167, 0) -> 0 | AA167: =IF(P167="사급자재대", L167, 0) -> 0 | AB167: =IF(P167="관급자재대", L167, 0) -> 0 | AC167: =IF(P167="관급자 관급 자재대", L167, 0) -> 0 | AD167: =IF(P167="사용자항목2", L167, 0) -> 0 | AE167: =IF(P167="안전관리비", L167, 0) -> 0 | AF167: =IF(P167="품질관리비", L167, 0) -> 0 | AG167: =IF(P167="작업부산물(철거해체)", L167, 0) -> 0 | AH167: =IF(P167="사용자항목6", L167, 0) -> 0 | AI167: =IF(P167="사용자항목7", L167, 0) -> 0 | AJ167: =IF(P167="사용자항목8", L167, 0) -> 0 | AK167: =IF(P167="사용자항목9", L167, 0) -> 0 | AL167: =IF(P167="사용자항목10", L167, 0) -> 0 | AM167: =IF(P167="사용자항목11", L167, 0) -> 0 | AN167: =IF(P167="사용자항목12", L167, 0) -> 0 | AO167: =IF(P167="사용자항목13", L167, 0) -> 0 | AP167: =IF(P167="사용자항목14", L167, 0) -> 0 | AQ167: =IF(P167="사용자항목15", L167, 0) -> 0 | AR167: =IF(P167="사용자항목16", L167, 0) -> 0 | AS167: =IF(P167="사용자항목17", L167, 0) -> 0 | AT167: =IF(P167="사용자항목18", L167, 0) -> 0 | AU167: =IF(P167="사용자항목19", L167, 0) -> 0
A180: 합 계 | F180: =ROUNDDOWN(SUMIF(Q166:Q179, "1", F166:F179), 0) -> 0 | H180: =ROUNDDOWN(SUMIF(Q166:Q179, "1", H166:H179), 0) -> 0 | J180: =ROUNDDOWN(SUMIF(Q166:Q179, "1", J166:J179), 0) -> 0 | L180: =F180+H180+J180 -> 0 | R180: =ROUNDDOWN(SUM(R166:R167), 0) -> 0 | S180: =ROUNDDOWN(SUM(S166:S167), 0) -> 0 | T180: =ROUNDDOWN(SUM(T166:T167), 0) -> 0 | U180: =ROUNDDOWN(SUM(U166:U167), 0) -> 0 | V180: =ROUNDDOWN(SUM(V166:V167), 0) -> 0 | W180: =ROUNDDOWN(SUM(W166:W167), 0) -> 0 | X180: =ROUNDDOWN(SUM(X166:X167), 0) -> 0 | Y180: =ROUNDDOWN(SUM(Y166:Y167), 0) -> 0 | ... AY180: =ROUNDDOWN(SUM(AY166:AY167), 0) -> 0
A181: 0111. 수장공사
A182: 이중바닥재 | B182: Access Floor(steel Con), 600×600×30T (현대전도성 3T 마감) | C182: M2 | D182: 13.79 | F182: =ROUNDDOWN(D182*E182, 0) -> 0 | H182: =ROUNDDOWN(D182*G182, 0) -> 0 | J182: =ROUNDDOWN(D182*I182, 0) -> 0 | K182: =E182+G182+I182 -> 0 | L182: =F182+H182+J182 -> 0 | O182: ="01" -> 01 | P182: 기계경비 | Q182: 1 | R182: =IF(P182="기계경비", J182, 0) -> 0 | S182: =IF(P182="운반비", L182, 0) -> 0 | T182: =IF(P182="작업부산물", F182, 0) -> 0 | U182: =IF(P182="관급", F182, 0) -> 0 | V182: =IF(P182="외주비", J182, 0) -> 0 | W182: =IF(P182="장비비", J182, 0) -> 0 | X182: =IF(P182="폐기물처리비", L182, 0) -> 0 | Y182: =IF(P182="가설비", J182, 0) -> 0 | Z182: =IF(P182="잡비제외분", F182, 0) -> 0 | AA182: =IF(P182="사급자재대", L182, 0) -> 0 | AB182: =IF(P182="관급자재대", L182, 0) -> 0 | AC182: =IF(P182="관급자 관급 자재대", L182, 0) -> 0 | AD182: =IF(P182="사용자항목2", L182, 0) -> 0 | AE182: =IF(P182="안전관리비", L182, 0) -> 0 | AF182: =IF(P182="품질관리비", L182, 0) -> 0 | AG182: =IF(P182="작업부산물(철거해체)", L182, 0) -> 0 | AH182: =IF(P182="사용자항목6", L182, 0) -> 0 | AI182: =IF(P182="사용자항목7", L182, 0) -> 0 | AJ182: =IF(P182="사용자항목8", L182, 0) -> 0 | AK182: =IF(P182="사용자항목9", L182, 0) -> 0 | AL182: =IF(P182="사용자항목10", L182, 0) -> 0 | AM182: =IF(P182="사용자항목11", L182, 0) -> 0 | AN182: =IF(P182="사용자항목12", L182, 0) -> 0 | AO182: =IF(P182="사용자항목13", L182, 0) -> 0 | AP182: =IF(P182="사용자항목14", L182, 0) -> 0 | AQ182: =IF(P182="사용자항목15", L182, 0) -> 0 | AR182: =IF(P182="사용자항목16", L182, 0) -> 0 | AS182: =IF(P182="사용자항목17", L182, 0) -> 0 | AT182: =IF(P182="사용자항목18", L182, 0) -> 0 | AU182: =IF(P182="사용자항목19", L182, 0) -> 0
A183: 이중바닥 설치 | B183: 독립지지 다리방식 | C183: m2 | D183: 12.54 | F183: =ROUNDDOWN(D183*E183, 0) -> 0 | H183: =ROUNDDOWN(D183*G183, 0) -> 0 | J183: =ROUNDDOWN(D183*I183, 0) -> 0 | K183: =E183+G183+I183 -> 0 | L183: =F183+H183+J183 -> 0 | M183: 일위 31호 | O183: ="" | P183: 기계경비 | Q183: 1 | R183: =IF(P183="기계경비", J183, 0) -> 0 | S183: =IF(P183="운반비", L183, 0) -> 0 | T183: =IF(P183="작업부산물", F183, 0) -> 0 | U183: =IF(P183="관급", F183, 0) -> 0 | V183: =IF(P183="외주비", J183, 0) -> 0 | W183: =IF(P183="장비비", J183, 0) -> 0 | X183: =IF(P183="폐기물처리비", L183, 0) -> 0 | Y183: =IF(P183="가설비", J183, 0) -> 0 | Z183: =IF(P183="잡비제외분", F183, 0) -> 0 | AA183: =IF(P183="사급자재대", L183, 0) -> 0 | AB183: =IF(P183="관급자재대", L183, 0) -> 0 | AC183: =IF(P183="관급자 관급 자재대", L183, 0) -> 0 | AD183: =IF(P183="사용자항목2", L183, 0) -> 0 | AE183: =IF(P183="안전관리비", L183, 0) -> 0 | AF183: =IF(P183="품질관리비", L183, 0) -> 0 | AG183: =IF(P183="작업부산물(철거해체)", L183, 0) -> 0 | AH183: =IF(P183="사용자항목6", L183, 0) -> 0 | AI183: =IF(P183="사용자항목7", L183, 0) -> 0 | AJ183: =IF(P183="사용자항목8", L183, 0) -> 0 | AK183: =IF(P183="사용자항목9", L183, 0) -> 0 | AL183: =IF(P183="사용자항목10", L183, 0) -> 0 | AM183: =IF(P183="사용자항목11", L183, 0) -> 0 | AN183: =IF(P183="사용자항목12", L183, 0) -> 0 | AO183: =IF(P183="사용자항목13", L183, 0) -> 0 | AP183: =IF(P183="사용자항목14", L183, 0) -> 0 | AQ183: =IF(P183="사용자항목15", L183, 0) -> 0 | AR183: =IF(P183="사용자항목16", L183, 0) -> 0 | AS183: =IF(P183="사용자항목17", L183, 0) -> 0 | AT183: =IF(P183="사용자항목18", L183, 0) -> 0 | AU183: =IF(P183="사용자항목19", L183, 0) -> 0 | AY183: AOA41000010S
A184: 데코타일붙임 | B184: 3T (왁스 무)데코타일,갤런트타일,네오비아 동등품 | C184: M2 | D184: 16.51 | F184: =ROUNDDOWN(D184*E184, 0) -> 0 | H184: =ROUNDDOWN(D184*G184, 0) -> 0 | J184: =ROUNDDOWN(D184*I184, 0) -> 0 | K184: =E184+G184+I184 -> 0 | L184: =F184+H184+J184 -> 0 | M184: 일위 32호 | O184: ="" | P184: 기계경비 | Q184: 1 | R184: =IF(P184="기계경비", J184, 0) -> 0 | S184: =IF(P184="운반비", L184, 0) -> 0 | T184: =IF(P184="작업부산물", F184, 0) -> 0 | U184: =IF(P184="관급", F184, 0) -> 0 | V184: =IF(P184="외주비", J184, 0) -> 0 | W184: =IF(P184="장비비", J184, 0) -> 0 | X184: =IF(P184="폐기물처리비", L184, 0) -> 0 | Y184: =IF(P184="가설비", J184, 0) -> 0 | Z184: =IF(P184="잡비제외분", F184, 0) -> 0 | AA184: =IF(P184="사급자재대", L184, 0) -> 0 | AB184: =IF(P184="관급자재대", L184, 0) -> 0 | AC184: =IF(P184="관급자 관급 자재대", L184, 0) -> 0 | AD184: =IF(P184="사용자항목2", L184, 0) -> 0 | AE184: =IF(P184="안전관리비", L184, 0) -> 0 | AF184: =IF(P184="품질관리비", L184, 0) -> 0 | AG184: =IF(P184="작업부산물(철거해체)", L184, 0) -> 0 | AH184: =IF(P184="사용자항목6", L184, 0) -> 0 | AI184: =IF(P184="사용자항목7", L184, 0) -> 0 | AJ184: =IF(P184="사용자항목8", L184, 0) -> 0 | AK184: =IF(P184="사용자항목9", L184, 0) -> 0 | AL184: =IF(P184="사용자항목10", L184, 0) -> 0 | AM184: =IF(P184="사용자항목11", L184, 0) -> 0 | AN184: =IF(P184="사용자항목12", L184, 0) -> 0 | AO184: =IF(P184="사용자항목13", L184, 0) -> 0 | AP184: =IF(P184="사용자항목14", L184, 0) -> 0 | AQ184: =IF(P184="사용자항목15", L184, 0) -> 0 | AR184: =IF(P184="사용자항목16", L184, 0) -> 0 | AS184: =IF(P184="사용자항목17", L184, 0) -> 0 | AT184: =IF(P184="사용자항목18", L184, 0) -> 0 | AU184: =IF(P184="사용자항목19", L184, 0) -> 0
A185: 암면텍스붙임 | B185: 불연천장재, 집텍스에코, 9.5×300×600mm | C185: M2 | D185: 3.62 | F185: =ROUNDDOWN(D185*E185, 0) -> 0 | H185: =ROUNDDOWN(D185*G185, 0) -> 0 | J185: =ROUNDDOWN(D185*I185, 0) -> 0 | K185: =E185+G185+I185 -> 0 | L185: =F185+H185+J185 -> 0 | M185: 일위 33호 | O185: ="" | P185: 기계경비 | Q185: 1 | R185: =IF(P185="기계경비", J185, 0) -> 0 | S185: =IF(P185="운반비", L185, 0) -> 0 | T185: =IF(P185="작업부산물", F185, 0) -> 0 | U185: =IF(P185="관급", F185, 0) -> 0 | V185: =IF(P185="외주비", J185, 0) -> 0 | W185: =IF(P185="장비비", J185, 0) -> 0 | X185: =IF(P185="폐기물처리비", L185, 0) -> 0 | Y185: =IF(P185="가설비", J185, 0) -> 0 | Z185: =IF(P185="잡비제외분", F185, 0) -> 0 | AA185: =IF(P185="사급자재대", L185, 0) -> 0 | AB185: =IF(P185="관급자재대", L185, 0) -> 0 | AC185: =IF(P185="관급자 관급 자재대", L185, 0) -> 0 | AD185: =IF(P185="사용자항목2", L185, 0) -> 0 | AE185: =IF(P185="안전관리비", L185, 0) -> 0 | AF185: =IF(P185="품질관리비", L185, 0) -> 0 | AG185: =IF(P185="작업부산물(철거해체)", L185, 0) -> 0 | AH185: =IF(P185="사용자항목6", L185, 0) -> 0 | AI185: =IF(P185="사용자항목7", L185, 0) -> 0 | AJ185: =IF(P185="사용자항목8", L185, 0) -> 0 | AK185: =IF(P185="사용자항목9", L185, 0) -> 0 | AL185: =IF(P185="사용자항목10", L185, 0) -> 0 | AM185: =IF(P185="사용자항목11", L185, 0) -> 0 | AN185: =IF(P185="사용자항목12", L185, 0) -> 0 | AO185: =IF(P185="사용자항목13", L185, 0) -> 0 | AP185: =IF(P185="사용자항목14", L185, 0) -> 0 | AQ185: =IF(P185="사용자항목15", L185, 0) -> 0 | AR185: =IF(P185="사용자항목16", L185, 0) -> 0 | AS185: =IF(P185="사용자항목17", L185, 0) -> 0 | AT185: =IF(P185="사용자항목18", L185, 0) -> 0 | AU185: =IF(P185="사용자항목19", L185, 0) -> 0
A186: 암면텍스붙임 | B186: 불연천장재, MT-200, T-Bar용, 15×603×603mm | C186: M2 | D186: 16.51 | F186: =ROUNDDOWN(D186*E186, 0) -> 0 | H186: =ROUNDDOWN(D186*G186, 0) -> 0 | J186: =ROUNDDOWN(D186*I186, 0) -> 0 | K186: =E186+G186+I186 -> 0 | L186: =F186+H186+J186 -> 0 | M186: 일위 34호 | O186: ="" | P186: 기계경비 | Q186: 1 | R186: =IF(P186="기계경비", J186, 0) -> 0 | S186: =IF(P186="운반비", L186, 0) -> 0 | T186: =IF(P186="작업부산물", F186, 0) -> 0 | U186: =IF(P186="관급", F186, 0) -> 0 | V186: =IF(P186="외주비", J186, 0) -> 0 | W186: =IF(P186="장비비", J186, 0) -> 0 | X186: =IF(P186="폐기물처리비", L186, 0) -> 0 | Y186: =IF(P186="가설비", J186, 0) -> 0 | Z186: =IF(P186="잡비제외분", F186, 0) -> 0 | AA186: =IF(P186="사급자재대", L186, 0) -> 0 | AB186: =IF(P186="관급자재대", L186, 0) -> 0 | AC186: =IF(P186="관급자 관급 자재대", L186, 0) -> 0 | AD186: =IF(P186="사용자항목2", L186, 0) -> 0 | AE186: =IF(P186="안전관리비", L186, 0) -> 0 | AF186: =IF(P186="품질관리비", L186, 0) -> 0 | AG186: =IF(P186="작업부산물(철거해체)", L186, 0) -> 0 | AH186: =IF(P186="사용자항목6", L186, 0) -> 0 | AI186: =IF(P186="사용자항목7", L186, 0) -> 0 | AJ186: =IF(P186="사용자항목8", L186, 0) -> 0 | AK186: =IF(P186="사용자항목9", L186, 0) -> 0 | AL186: =IF(P186="사용자항목10", L186, 0) -> 0 | AM186: =IF(P186="사용자항목11", L186, 0) -> 0 | AN186: =IF(P186="사용자항목12", L186, 0) -> 0 | AO186: =IF(P186="사용자항목13", L186, 0) -> 0 | AP186: =IF(P186="사용자항목14", L186, 0) -> 0 | AQ186: =IF(P186="사용자항목15", L186, 0) -> 0 | AR186: =IF(P186="사용자항목16", L186, 0) -> 0 | AS186: =IF(P186="사용자항목17", L186, 0) -> 0 | AT186: =IF(P186="사용자항목18", L186, 0) -> 0 | AU186: =IF(P186="사용자항목19", L186, 0) -> 0
A187: 암면텍스붙임 | B187: 주재료 별도 | C187: M2 | D187: 9.4 | F187: =ROUNDDOWN(D187*E187, 0) -> 0 | H187: =ROUNDDOWN(D187*G187, 0) -> 0 | J187: =ROUNDDOWN(D187*I187, 0) -> 0 | K187: =E187+G187+I187 -> 0 | L187: =F187+H187+J187 -> 0 | M187: 일위 35호 | O187: ="" | P187: 기계경비 | Q187: 1 | R187: =IF(P187="기계경비", J187, 0) -> 0 | S187: =IF(P187="운반비", L187, 0) -> 0 | T187: =IF(P187="작업부산물", F187, 0) -> 0 | U187: =IF(P187="관급", F187, 0) -> 0 | V187: =IF(P187="외주비", J187, 0) -> 0 | W187: =IF(P187="장비비", J187, 0) -> 0 | X187: =IF(P187="폐기물처리비", L187, 0) -> 0 | Y187: =IF(P187="가설비", J187, 0) -> 0 | Z187: =IF(P187="잡비제외분", F187, 0) -> 0 | AA187: =IF(P187="사급자재대", L187, 0) -> 0 | AB187: =IF(P187="관급자재대", L187, 0) -> 0 | AC187: =IF(P187="관급자 관급 자재대", L187, 0) -> 0 | AD187: =IF(P187="사용자항목2", L187, 0) -> 0 | AE187: =IF(P187="안전관리비", L187, 0) -> 0 | AF187: =IF(P187="품질관리비", L187, 0) -> 0 | AG187: =IF(P187="작업부산물(철거해체)", L187, 0) -> 0 | AH187: =IF(P187="사용자항목6", L187, 0) -> 0 | AI187: =IF(P187="사용자항목7", L187, 0) -> 0 | AJ187: =IF(P187="사용자항목8", L187, 0) -> 0 | AK187: =IF(P187="사용자항목9", L187, 0) -> 0 | AL187: =IF(P187="사용자항목10", L187, 0) -> 0 | AM187: =IF(P187="사용자항목11", L187, 0) -> 0 | AN187: =IF(P187="사용자항목12", L187, 0) -> 0 | AO187: =IF(P187="사용자항목13", L187, 0) -> 0 | AP187: =IF(P187="사용자항목14", L187, 0) -> 0 | AQ187: =IF(P187="사용자항목15", L187, 0) -> 0 | AR187: =IF(P187="사용자항목16", L187, 0) -> 0 | AS187: =IF(P187="사용자항목17", L187, 0) -> 0 | AT187: =IF(P187="사용자항목18", L187, 0) -> 0 | AU187: =IF(P187="사용자항목19", L187, 0) -> 0
A188: 걸레받이 붙임(중밀도섬유판) | B188: T=9, H=90,인테리어필름 | C188: M | D188: 22.35 | F188: =ROUNDDOWN(D188*E188, 0) -> 0 | H188: =ROUNDDOWN(D188*G188, 0) -> 0 | J188: =ROUNDDOWN(D188*I188, 0) -> 0 | K188: =E188+G188+I188 -> 0 | L188: =F188+H188+J188 -> 0 | M188: 일위 36호 | O188: ="" | P188: 기계경비 | Q188: 1 | R188: =IF(P188="기계경비", J188, 0) -> 0 | S188: =IF(P188="운반비", L188, 0) -> 0 | T188: =IF(P188="작업부산물", F188, 0) -> 0 | U188: =IF(P188="관급", F188, 0) -> 0 | V188: =IF(P188="외주비", J188, 0) -> 0 | W188: =IF(P188="장비비", J188, 0) -> 0 | X188: =IF(P188="폐기물처리비", L188, 0) -> 0 | Y188: =IF(P188="가설비", J188, 0) -> 0 | Z188: =IF(P188="잡비제외분", F188, 0) -> 0 | AA188: =IF(P188="사급자재대", L188, 0) -> 0 | AB188: =IF(P188="관급자재대", L188, 0) -> 0 | AC188: =IF(P188="관급자 관급 자재대", L188, 0) -> 0 | AD188: =IF(P188="사용자항목2", L188, 0) -> 0 | AE188: =IF(P188="안전관리비", L188, 0) -> 0 | AF188: =IF(P188="품질관리비", L188, 0) -> 0 | AG188: =IF(P188="작업부산물(철거해체)", L188, 0) -> 0 | AH188: =IF(P188="사용자항목6", L188, 0) -> 0 | AI188: =IF(P188="사용자항목7", L188, 0) -> 0 | AJ188: =IF(P188="사용자항목8", L188, 0) -> 0 | AK188: =IF(P188="사용자항목9", L188, 0) -> 0 | AL188: =IF(P188="사용자항목10", L188, 0) -> 0 | AM188: =IF(P188="사용자항목11", L188, 0) -> 0 | AN188: =IF(P188="사용자항목12", L188, 0) -> 0 | AO188: =IF(P188="사용자항목13", L188, 0) -> 0 | AP188: =IF(P188="사용자항목14", L188, 0) -> 0 | AQ188: =IF(P188="사용자항목15", L188, 0) -> 0 | AR188: =IF(P188="사용자항목16", L188, 0) -> 0 | AS188: =IF(P188="사용자항목17", L188, 0) -> 0 | AT188: =IF(P188="사용자항목18", L188, 0) -> 0 | AU188: =IF(P188="사용자항목19", L188, 0) -> 0
A196: 합 계 | F196: =ROUNDDOWN(SUMIF(Q182:Q195, "1", F182:F195), 0) -> 0 | H196: =ROUNDDOWN(SUMIF(Q182:Q195, "1", H182:H195), 0) -> 0 | J196: =ROUNDDOWN(SUMIF(Q182:Q195, "1", J182:J195), 0) -> 0 | L196: =F196+H196+J196 -> 0 | R196: =ROUNDDOWN(SUM(R182:R188), 0) -> 0 | S196: =ROUNDDOWN(SUM(S182:S188), 0) -> 0 | T196: =ROUNDDOWN(SUM(T182:T188), 0) -> 0 | U196: =ROUNDDOWN(SUM(U182:U188), 0) -> 0 | V196: =ROUNDDOWN(SUM(V182:V188), 0) -> 0 | W196: =ROUNDDOWN(SUM(W182:W188), 0) -> 0 | X196: =ROUNDDOWN(SUM(X182:X188), 0) -> 0 | Y196: =ROUNDDOWN(SUM(Y182:Y188), 0) -> 0 | ... AY196: =ROUNDDOWN(SUM(AY182:AY188), 0) -> 0
A197: 0112. 목공사
A198: "E"-TYPE 벽체설치 | B198: 벽체틀45*45*@300,석고판2P,실크벽지 | C198: M2 | D198: 6.69 | F198: =ROUNDDOWN(D198*E198, 0) -> 0 | H198: =ROUNDDOWN(D198*G198, 0) -> 0 | J198: =ROUNDDOWN(D198*I198, 0) -> 0 | K198: =E198+G198+I198 -> 0 | L198: =F198+H198+J198 -> 0 | M198: 일위 37호 | O198: ="" | P198: 기계경비 | Q198: 1 | R198: =IF(P198="기계경비", J198, 0) -> 0 | S198: =IF(P198="운반비", L198, 0) -> 0 | T198: =IF(P198="작업부산물", F198, 0) -> 0 | U198: =IF(P198="관급", F198, 0) -> 0 | V198: =IF(P198="외주비", J198, 0) -> 0 | W198: =IF(P198="장비비", J198, 0) -> 0 | X198: =IF(P198="폐기물처리비", L198, 0) -> 0 | Y198: =IF(P198="가설비", J198, 0) -> 0 | Z198: =IF(P198="잡비제외분", F198, 0) -> 0 | AA198: =IF(P198="사급자재대", L198, 0) -> 0 | AB198: =IF(P198="관급자재대", L198, 0) -> 0 | AC198: =IF(P198="관급자 관급 자재대", L198, 0) -> 0 | AD198: =IF(P198="사용자항목2", L198, 0) -> 0 | AE198: =IF(P198="안전관리비", L198, 0) -> 0 | AF198: =IF(P198="품질관리비", L198, 0) -> 0 | AG198: =IF(P198="작업부산물(철거해체)", L198, 0) -> 0 | AH198: =IF(P198="사용자항목6", L198, 0) -> 0 | AI198: =IF(P198="사용자항목7", L198, 0) -> 0 | AJ198: =IF(P198="사용자항목8", L198, 0) -> 0 | AK198: =IF(P198="사용자항목9", L198, 0) -> 0 | AL198: =IF(P198="사용자항목10", L198, 0) -> 0 | AM198: =IF(P198="사용자항목11", L198, 0) -> 0 | AN198: =IF(P198="사용자항목12", L198, 0) -> 0 | AO198: =IF(P198="사용자항목13", L198, 0) -> 0 | AP198: =IF(P198="사용자항목14", L198, 0) -> 0 | AQ198: =IF(P198="사용자항목15", L198, 0) -> 0 | AR198: =IF(P198="사용자항목16", L198, 0) -> 0 | AS198: =IF(P198="사용자항목17", L198, 0) -> 0 | AT198: =IF(P198="사용자항목18", L198, 0) -> 0 | AU198: =IF(P198="사용자항목19", L198, 0) -> 0
A212: 합 계 | F212: =ROUNDDOWN(SUMIF(Q198:Q211, "1", F198:F211), 0) -> 0 | H212: =ROUNDDOWN(SUMIF(Q198:Q211, "1", H198:H211), 0) -> 0 | J212: =ROUNDDOWN(SUMIF(Q198:Q211, "1", J198:J211), 0) -> 0 | L212: =F212+H212+J212 -> 0 | R212: =ROUNDDOWN(SUM(R198:R198), 0) -> 0 | S212: =ROUNDDOWN(SUM(S198:S198), 0) -> 0 | T212: =ROUNDDOWN(SUM(T198:T198), 0) -> 0 | U212: =ROUNDDOWN(SUM(U198:U198), 0) -> 0 | V212: =ROUNDDOWN(SUM(V198:V198), 0) -> 0 | W212: =ROUNDDOWN(SUM(W198:W198), 0) -> 0 | X212: =ROUNDDOWN(SUM(X198:X198), 0) -> 0 | Y212: =ROUNDDOWN(SUM(Y198:Y198), 0) -> 0 | ... AY212: =ROUNDDOWN(SUM(AY198:AY198), 0) -> 0
A213: 0113. 금속공사
A214: 경량벽체철골틀설치 | B214: 인테리어필름1면,실크벽지1면,석고2P1면,석고1P+MDF1P1면,경량철골부재, C-RUNNER, 67×40×0.8T, C-STUD, | C214: M2 | D214: 3.29 | F214: =ROUNDDOWN(D214*E214, 0) -> 0 | H214: =ROUNDDOWN(D214*G214, 0) -> 0 | J214: =ROUNDDOWN(D214*I214, 0) -> 0 | K214: =E214+G214+I214 -> 0 | L214: =F214+H214+J214 -> 0 | M214: 일위 38호 | O214: ="" | P214: 기계경비 | Q214: 1 | R214: =IF(P214="기계경비", J214, 0) -> 0 | S214: =IF(P214="운반비", L214, 0) -> 0 | T214: =IF(P214="작업부산물", F214, 0) -> 0 | U214: =IF(P214="관급", F214, 0) -> 0 | V214: =IF(P214="외주비", J214, 0) -> 0 | W214: =IF(P214="장비비", J214, 0) -> 0 | X214: =IF(P214="폐기물처리비", L214, 0) -> 0 | Y214: =IF(P214="가설비", J214, 0) -> 0 | Z214: =IF(P214="잡비제외분", F214, 0) -> 0 | AA214: =IF(P214="사급자재대", L214, 0) -> 0 | AB214: =IF(P214="관급자재대", L214, 0) -> 0 | AC214: =IF(P214="관급자 관급 자재대", L214, 0) -> 0 | AD214: =IF(P214="사용자항목2", L214, 0) -> 0 | AE214: =IF(P214="안전관리비", L214, 0) -> 0 | AF214: =IF(P214="품질관리비", L214, 0) -> 0 | AG214: =IF(P214="작업부산물(철거해체)", L214, 0) -> 0 | AH214: =IF(P214="사용자항목6", L214, 0) -> 0 | AI214: =IF(P214="사용자항목7", L214, 0) -> 0 | AJ214: =IF(P214="사용자항목8", L214, 0) -> 0 | AK214: =IF(P214="사용자항목9", L214, 0) -> 0 | AL214: =IF(P214="사용자항목10", L214, 0) -> 0 | AM214: =IF(P214="사용자항목11", L214, 0) -> 0 | AN214: =IF(P214="사용자항목12", L214, 0) -> 0 | AO214: =IF(P214="사용자항목13", L214, 0) -> 0 | AP214: =IF(P214="사용자항목14", L214, 0) -> 0 | AQ214: =IF(P214="사용자항목15", L214, 0) -> 0 | AR214: =IF(P214="사용자항목16", L214, 0) -> 0 | AS214: =IF(P214="사용자항목17", L214, 0) -> 0 | AT214: =IF(P214="사용자항목18", L214, 0) -> 0 | AU214: =IF(P214="사용자항목19", L214, 0) -> 0 | AY214: "A"TYPE
A215: 경량벽체철골틀설치 | B215: 실크벽지1면,석고2P1면,경량철골부재, C-RUNNER, 67×40×0.8T, C-STUD, | C215: M2 | D215: 16.86 | F215: =ROUNDDOWN(D215*E215, 0) -> 0 | H215: =ROUNDDOWN(D215*G215, 0) -> 0 | J215: =ROUNDDOWN(D215*I215, 0) -> 0 | K215: =E215+G215+I215 -> 0 | L215: =F215+H215+J215 -> 0 | M215: 일위 39호 | O215: ="" | P215: 기계경비 | Q215: 1 | R215: =IF(P215="기계경비", J215, 0) -> 0 | S215: =IF(P215="운반비", L215, 0) -> 0 | T215: =IF(P215="작업부산물", F215, 0) -> 0 | U215: =IF(P215="관급", F215, 0) -> 0 | V215: =IF(P215="외주비", J215, 0) -> 0 | W215: =IF(P215="장비비", J215, 0) -> 0 | X215: =IF(P215="폐기물처리비", L215, 0) -> 0 | Y215: =IF(P215="가설비", J215, 0) -> 0 | Z215: =IF(P215="잡비제외분", F215, 0) -> 0 | AA215: =IF(P215="사급자재대", L215, 0) -> 0 | AB215: =IF(P215="관급자재대", L215, 0) -> 0 | AC215: =IF(P215="관급자 관급 자재대", L215, 0) -> 0 | AD215: =IF(P215="사용자항목2", L215, 0) -> 0 | AE215: =IF(P215="안전관리비", L215, 0) -> 0 | AF215: =IF(P215="품질관리비", L215, 0) -> 0 | AG215: =IF(P215="작업부산물(철거해체)", L215, 0) -> 0 | AH215: =IF(P215="사용자항목6", L215, 0) -> 0 | AI215: =IF(P215="사용자항목7", L215, 0) -> 0 | AJ215: =IF(P215="사용자항목8", L215, 0) -> 0 | AK215: =IF(P215="사용자항목9", L215, 0) -> 0 | AL215: =IF(P215="사용자항목10", L215, 0) -> 0 | AM215: =IF(P215="사용자항목11", L215, 0) -> 0 | AN215: =IF(P215="사용자항목12", L215, 0) -> 0 | AO215: =IF(P215="사용자항목13", L215, 0) -> 0 | AP215: =IF(P215="사용자항목14", L215, 0) -> 0 | AQ215: =IF(P215="사용자항목15", L215, 0) -> 0 | AR215: =IF(P215="사용자항목16", L215, 0) -> 0 | AS215: =IF(P215="사용자항목17", L215, 0) -> 0 | AT215: =IF(P215="사용자항목18", L215, 0) -> 0 | AU215: =IF(P215="사용자항목19", L215, 0) -> 0 | AY215: "B"TYPE
A216: 경량벽체철골틀설치 | B216: 인테리어필름1면,석고1P+MDF1P1면,경량철골부재, C-RUNNER, 67×40×0.8T, C-STUD, | C216: M2 | D216: 21.06 | F216: =ROUNDDOWN(D216*E216, 0) -> 0 | H216: =ROUNDDOWN(D216*G216, 0) -> 0 | J216: =ROUNDDOWN(D216*I216, 0) -> 0 | K216: =E216+G216+I216 -> 0 | L216: =F216+H216+J216 -> 0 | M216: 일위 40호 | O216: ="" | P216: 기계경비 | Q216: 1 | R216: =IF(P216="기계경비", J216, 0) -> 0 | S216: =IF(P216="운반비", L216, 0) -> 0 | T216: =IF(P216="작업부산물", F216, 0) -> 0 | U216: =IF(P216="관급", F216, 0) -> 0 | V216: =IF(P216="외주비", J216, 0) -> 0 | W216: =IF(P216="장비비", J216, 0) -> 0 | X216: =IF(P216="폐기물처리비", L216, 0) -> 0 | Y216: =IF(P216="가설비", J216, 0) -> 0 | Z216: =IF(P216="잡비제외분", F216, 0) -> 0 | AA216: =IF(P216="사급자재대", L216, 0) -> 0 | AB216: =IF(P216="관급자재대", L216, 0) -> 0 | AC216: =IF(P216="관급자 관급 자재대", L216, 0) -> 0 | AD216: =IF(P216="사용자항목2", L216, 0) -> 0 | AE216: =IF(P216="안전관리비", L216, 0) -> 0 | AF216: =IF(P216="품질관리비", L216, 0) -> 0 | AG216: =IF(P216="작업부산물(철거해체)", L216, 0) -> 0 | AH216: =IF(P216="사용자항목6", L216, 0) -> 0 | AI216: =IF(P216="사용자항목7", L216, 0) -> 0 | AJ216: =IF(P216="사용자항목8", L216, 0) -> 0 | AK216: =IF(P216="사용자항목9", L216, 0) -> 0 | AL216: =IF(P216="사용자항목10", L216, 0) -> 0 | AM216: =IF(P216="사용자항목11", L216, 0) -> 0 | AN216: =IF(P216="사용자항목12", L216, 0) -> 0 | AO216: =IF(P216="사용자항목13", L216, 0) -> 0 | AP216: =IF(P216="사용자항목14", L216, 0) -> 0 | AQ216: =IF(P216="사용자항목15", L216, 0) -> 0 | AR216: =IF(P216="사용자항목16", L216, 0) -> 0 | AS216: =IF(P216="사용자항목17", L216, 0) -> 0 | AT216: =IF(P216="사용자항목18", L216, 0) -> 0 | AU216: =IF(P216="사용자항목19", L216, 0) -> 0 | AY216: "C"TYPE
A217: 경량벽체철골틀설치 | B217: 인테리어필름1면,실크벽지1면,석고2P1면,석고1P+MDF1P1면,경량철골부재, C-RUNNER, 67×40×0.8T, C-STUD, | C217: M2 | D217: 5.58 | F217: =ROUNDDOWN(D217*E217, 0) -> 0 | H217: =ROUNDDOWN(D217*G217, 0) -> 0 | J217: =ROUNDDOWN(D217*I217, 0) -> 0 | K217: =E217+G217+I217 -> 0 | L217: =F217+H217+J217 -> 0 | M217: 일위 41호 | O217: ="" | P217: 기계경비 | Q217: 1 | R217: =IF(P217="기계경비", J217, 0) -> 0 | S217: =IF(P217="운반비", L217, 0) -> 0 | T217: =IF(P217="작업부산물", F217, 0) -> 0 | U217: =IF(P217="관급", F217, 0) -> 0 | V217: =IF(P217="외주비", J217, 0) -> 0 | W217: =IF(P217="장비비", J217, 0) -> 0 | X217: =IF(P217="폐기물처리비", L217, 0) -> 0 | Y217: =IF(P217="가설비", J217, 0) -> 0 | Z217: =IF(P217="잡비제외분", F217, 0) -> 0 | AA217: =IF(P217="사급자재대", L217, 0) -> 0 | AB217: =IF(P217="관급자재대", L217, 0) -> 0 | AC217: =IF(P217="관급자 관급 자재대", L217, 0) -> 0 | AD217: =IF(P217="사용자항목2", L217, 0) -> 0 | AE217: =IF(P217="안전관리비", L217, 0) -> 0 | AF217: =IF(P217="품질관리비", L217, 0) -> 0 | AG217: =IF(P217="작업부산물(철거해체)", L217, 0) -> 0 | AH217: =IF(P217="사용자항목6", L217, 0) -> 0 | AI217: =IF(P217="사용자항목7", L217, 0) -> 0 | AJ217: =IF(P217="사용자항목8", L217, 0) -> 0 | AK217: =IF(P217="사용자항목9", L217, 0) -> 0 | AL217: =IF(P217="사용자항목10", L217, 0) -> 0 | AM217: =IF(P217="사용자항목11", L217, 0) -> 0 | AN217: =IF(P217="사용자항목12", L217, 0) -> 0 | AO217: =IF(P217="사용자항목13", L217, 0) -> 0 | AP217: =IF(P217="사용자항목14", L217, 0) -> 0 | AQ217: =IF(P217="사용자항목15", L217, 0) -> 0 | AR217: =IF(P217="사용자항목16", L217, 0) -> 0 | AS217: =IF(P217="사용자항목17", L217, 0) -> 0 | AT217: =IF(P217="사용자항목18", L217, 0) -> 0 | AU217: =IF(P217="사용자항목19", L217, 0) -> 0 | AY217: "D"TYPE
A218: 경량천장철골틀 설치 | B218: TH-BAR H:1m미만.인써트유 | C218: M2 | D218: 16.51 | F218: =ROUNDDOWN(D218*E218, 0) -> 0 | H218: =ROUNDDOWN(D218*G218, 0) -> 0 | J218: =ROUNDDOWN(D218*I218, 0) -> 0 | K218: =E218+G218+I218 -> 0 | L218: =F218+H218+J218 -> 0 | M218: 일위 42호 | O218: ="" | P218: 기계경비 | Q218: 1 | R218: =IF(P218="기계경비", J218, 0) -> 0 | S218: =IF(P218="운반비", L218, 0) -> 0 | T218: =IF(P218="작업부산물", F218, 0) -> 0 | U218: =IF(P218="관급", F218, 0) -> 0 | V218: =IF(P218="외주비", J218, 0) -> 0 | W218: =IF(P218="장비비", J218, 0) -> 0 | X218: =IF(P218="폐기물처리비", L218, 0) -> 0 | Y218: =IF(P218="가설비", J218, 0) -> 0 | Z218: =IF(P218="잡비제외분", F218, 0) -> 0 | AA218: =IF(P218="사급자재대", L218, 0) -> 0 | AB218: =IF(P218="관급자재대", L218, 0) -> 0 | AC218: =IF(P218="관급자 관급 자재대", L218, 0) -> 0 | AD218: =IF(P218="사용자항목2", L218, 0) -> 0 | AE218: =IF(P218="안전관리비", L218, 0) -> 0 | AF218: =IF(P218="품질관리비", L218, 0) -> 0 | AG218: =IF(P218="작업부산물(철거해체)", L218, 0) -> 0 | AH218: =IF(P218="사용자항목6", L218, 0) -> 0 | AI218: =IF(P218="사용자항목7", L218, 0) -> 0 | AJ218: =IF(P218="사용자항목8", L218, 0) -> 0 | AK218: =IF(P218="사용자항목9", L218, 0) -> 0 | AL218: =IF(P218="사용자항목10", L218, 0) -> 0 | AM218: =IF(P218="사용자항목11", L218, 0) -> 0 | AN218: =IF(P218="사용자항목12", L218, 0) -> 0 | AO218: =IF(P218="사용자항목13", L218, 0) -> 0 | AP218: =IF(P218="사용자항목14", L218, 0) -> 0 | AQ218: =IF(P218="사용자항목15", L218, 0) -> 0 | AR218: =IF(P218="사용자항목16", L218, 0) -> 0 | AS218: =IF(P218="사용자항목17", L218, 0) -> 0 | AT218: =IF(P218="사용자항목18", L218, 0) -> 0 | AU218: =IF(P218="사용자항목19", L218, 0) -> 0
A219: AL몰딩설치 | B219: ㄷ형, 15*30*15*1.0mm | C219: M | D219: 23.36 | F219: =ROUNDDOWN(D219*E219, 0) -> 0 | H219: =ROUNDDOWN(D219*G219, 0) -> 0 | J219: =ROUNDDOWN(D219*I219, 0) -> 0 | K219: =E219+G219+I219 -> 0 | L219: =F219+H219+J219 -> 0 | M219: 일위 43호 | O219: ="" | P219: 기계경비 | Q219: 1 | R219: =IF(P219="기계경비", J219, 0) -> 0 | S219: =IF(P219="운반비", L219, 0) -> 0 | T219: =IF(P219="작업부산물", F219, 0) -> 0 | U219: =IF(P219="관급", F219, 0) -> 0 | V219: =IF(P219="외주비", J219, 0) -> 0 | W219: =IF(P219="장비비", J219, 0) -> 0 | X219: =IF(P219="폐기물처리비", L219, 0) -> 0 | Y219: =IF(P219="가설비", J219, 0) -> 0 | Z219: =IF(P219="잡비제외분", F219, 0) -> 0 | AA219: =IF(P219="사급자재대", L219, 0) -> 0 | AB219: =IF(P219="관급자재대", L219, 0) -> 0 | AC219: =IF(P219="관급자 관급 자재대", L219, 0) -> 0 | AD219: =IF(P219="사용자항목2", L219, 0) -> 0 | AE219: =IF(P219="안전관리비", L219, 0) -> 0 | AF219: =IF(P219="품질관리비", L219, 0) -> 0 | AG219: =IF(P219="작업부산물(철거해체)", L219, 0) -> 0 | AH219: =IF(P219="사용자항목6", L219, 0) -> 0 | AI219: =IF(P219="사용자항목7", L219, 0) -> 0 | AJ219: =IF(P219="사용자항목8", L219, 0) -> 0 | AK219: =IF(P219="사용자항목9", L219, 0) -> 0 | AL219: =IF(P219="사용자항목10", L219, 0) -> 0 | AM219: =IF(P219="사용자항목11", L219, 0) -> 0 | AN219: =IF(P219="사용자항목12", L219, 0) -> 0 | AO219: =IF(P219="사용자항목13", L219, 0) -> 0 | AP219: =IF(P219="사용자항목14", L219, 0) -> 0 | AQ219: =IF(P219="사용자항목15", L219, 0) -> 0 | AR219: =IF(P219="사용자항목16", L219, 0) -> 0 | AS219: =IF(P219="사용자항목17", L219, 0) -> 0 | AT219: =IF(P219="사용자항목18", L219, 0) -> 0 | AU219: =IF(P219="사용자항목19", L219, 0) -> 0
A220: AL몰딩설치 | B220: W형, 15*15*15*15*1.0mm | C220: M | D220: 4.7 | F220: =ROUNDDOWN(D220*E220, 0) -> 0 | H220: =ROUNDDOWN(D220*G220, 0) -> 0 | J220: =ROUNDDOWN(D220*I220, 0) -> 0 | K220: =E220+G220+I220 -> 0 | L220: =F220+H220+J220 -> 0 | M220: 일위 44호 | O220: ="" | P220: 기계경비 | Q220: 1 | R220: =IF(P220="기계경비", J220, 0) -> 0 | S220: =IF(P220="운반비", L220, 0) -> 0 | T220: =IF(P220="작업부산물", F220, 0) -> 0 | U220: =IF(P220="관급", F220, 0) -> 0 | V220: =IF(P220="외주비", J220, 0) -> 0 | W220: =IF(P220="장비비", J220, 0) -> 0 | X220: =IF(P220="폐기물처리비", L220, 0) -> 0 | Y220: =IF(P220="가설비", J220, 0) -> 0 | Z220: =IF(P220="잡비제외분", F220, 0) -> 0 | AA220: =IF(P220="사급자재대", L220, 0) -> 0 | AB220: =IF(P220="관급자재대", L220, 0) -> 0 | AC220: =IF(P220="관급자 관급 자재대", L220, 0) -> 0 | AD220: =IF(P220="사용자항목2", L220, 0) -> 0 | AE220: =IF(P220="안전관리비", L220, 0) -> 0 | AF220: =IF(P220="품질관리비", L220, 0) -> 0 | AG220: =IF(P220="작업부산물(철거해체)", L220, 0) -> 0 | AH220: =IF(P220="사용자항목6", L220, 0) -> 0 | AI220: =IF(P220="사용자항목7", L220, 0) -> 0 | AJ220: =IF(P220="사용자항목8", L220, 0) -> 0 | AK220: =IF(P220="사용자항목9", L220, 0) -> 0 | AL220: =IF(P220="사용자항목10", L220, 0) -> 0 | AM220: =IF(P220="사용자항목11", L220, 0) -> 0 | AN220: =IF(P220="사용자항목12", L220, 0) -> 0 | AO220: =IF(P220="사용자항목13", L220, 0) -> 0 | AP220: =IF(P220="사용자항목14", L220, 0) -> 0 | AQ220: =IF(P220="사용자항목15", L220, 0) -> 0 | AR220: =IF(P220="사용자항목16", L220, 0) -> 0 | AS220: =IF(P220="사용자항목17", L220, 0) -> 0 | AT220: =IF(P220="사용자항목18", L220, 0) -> 0 | AU220: =IF(P220="사용자항목19", L220, 0) -> 0
A221: 스텐재료분리대설치 | B221: 23*50,스텐강판 1.2T | C221: M당 | D221: 1.8 | F221: =ROUNDDOWN(D221*E221, 0) -> 0 | H221: =ROUNDDOWN(D221*G221, 0) -> 0 | J221: =ROUNDDOWN(D221*I221, 0) -> 0 | K221: =E221+G221+I221 -> 0 | L221: =F221+H221+J221 -> 0 | M221: 일위 45호 | O221: ="" | P221: 기계경비 | Q221: 1 | R221: =IF(P221="기계경비", J221, 0) -> 0 | S221: =IF(P221="운반비", L221, 0) -> 0 | T221: =IF(P221="작업부산물", F221, 0) -> 0 | U221: =IF(P221="관급", F221, 0) -> 0 | V221: =IF(P221="외주비", J221, 0) -> 0 | W221: =IF(P221="장비비", J221, 0) -> 0 | X221: =IF(P221="폐기물처리비", L221, 0) -> 0 | Y221: =IF(P221="가설비", J221, 0) -> 0 | Z221: =IF(P221="잡비제외분", F221, 0) -> 0 | AA221: =IF(P221="사급자재대", L221, 0) -> 0 | AB221: =IF(P221="관급자재대", L221, 0) -> 0 | AC221: =IF(P221="관급자 관급 자재대", L221, 0) -> 0 | AD221: =IF(P221="사용자항목2", L221, 0) -> 0 | AE221: =IF(P221="안전관리비", L221, 0) -> 0 | AF221: =IF(P221="품질관리비", L221, 0) -> 0 | AG221: =IF(P221="작업부산물(철거해체)", L221, 0) -> 0 | AH221: =IF(P221="사용자항목6", L221, 0) -> 0 | AI221: =IF(P221="사용자항목7", L221, 0) -> 0 | AJ221: =IF(P221="사용자항목8", L221, 0) -> 0 | AK221: =IF(P221="사용자항목9", L221, 0) -> 0 | AL221: =IF(P221="사용자항목10", L221, 0) -> 0 | AM221: =IF(P221="사용자항목11", L221, 0) -> 0 | AN221: =IF(P221="사용자항목12", L221, 0) -> 0 | AO221: =IF(P221="사용자항목13", L221, 0) -> 0 | AP221: =IF(P221="사용자항목14", L221, 0) -> 0 | AQ221: =IF(P221="사용자항목15", L221, 0) -> 0 | AR221: =IF(P221="사용자항목16", L221, 0) -> 0 | AS221: =IF(P221="사용자항목17", L221, 0) -> 0 | AT221: =IF(P221="사용자항목18", L221, 0) -> 0 | AU221: =IF(P221="사용자항목19", L221, 0) -> 0
A228: 합 계 | F228: =ROUNDDOWN(SUMIF(Q214:Q227, "1", F214:F227), 0) -> 0 | H228: =ROUNDDOWN(SUMIF(Q214:Q227, "1", H214:H227), 0) -> 0 | J228: =ROUNDDOWN(SUMIF(Q214:Q227, "1", J214:J227), 0) -> 0 | L228: =F228+H228+J228 -> 0 | R228: =ROUNDDOWN(SUM(R214:R221), 0) -> 0 | S228: =ROUNDDOWN(SUM(S214:S221), 0) -> 0 | T228: =ROUNDDOWN(SUM(T214:T221), 0) -> 0 | U228: =ROUNDDOWN(SUM(U214:U221), 0) -> 0 | V228: =ROUNDDOWN(SUM(V214:V221), 0) -> 0 | W228: =ROUNDDOWN(SUM(W214:W221), 0) -> 0 | X228: =ROUNDDOWN(SUM(X214:X221), 0) -> 0 | Y228: =ROUNDDOWN(SUM(Y214:Y221), 0) -> 0 | ... AY228: =ROUNDDOWN(SUM(AY214:AY221), 0) -> 0
A229: 0114. 미장공사
A230: 모르타르바름(바닥) | B230: T:24mm,인력마감, 재료포함 | C230: M2 | D230: 3.19 | F230: =ROUNDDOWN(D230*E230, 0) -> 0 | H230: =ROUNDDOWN(D230*G230, 0) -> 0 | J230: =ROUNDDOWN(D230*I230, 0) -> 0 | K230: =E230+G230+I230 -> 0 | L230: =F230+H230+J230 -> 0 | M230: 일위 46호 | O230: ="" | P230: 기계경비 | Q230: 1 | R230: =IF(P230="기계경비", J230, 0) -> 0 | S230: =IF(P230="운반비", L230, 0) -> 0 | T230: =IF(P230="작업부산물", F230, 0) -> 0 | U230: =IF(P230="관급", F230, 0) -> 0 | V230: =IF(P230="외주비", J230, 0) -> 0 | W230: =IF(P230="장비비", J230, 0) -> 0 | X230: =IF(P230="폐기물처리비", L230, 0) -> 0 | Y230: =IF(P230="가설비", J230, 0) -> 0 | Z230: =IF(P230="잡비제외분", F230, 0) -> 0 | AA230: =IF(P230="사급자재대", L230, 0) -> 0 | AB230: =IF(P230="관급자재대", L230, 0) -> 0 | AC230: =IF(P230="관급자 관급 자재대", L230, 0) -> 0 | AD230: =IF(P230="사용자항목2", L230, 0) -> 0 | AE230: =IF(P230="안전관리비", L230, 0) -> 0 | AF230: =IF(P230="품질관리비", L230, 0) -> 0 | AG230: =IF(P230="작업부산물(철거해체)", L230, 0) -> 0 | AH230: =IF(P230="사용자항목6", L230, 0) -> 0 | AI230: =IF(P230="사용자항목7", L230, 0) -> 0 | AJ230: =IF(P230="사용자항목8", L230, 0) -> 0 | AK230: =IF(P230="사용자항목9", L230, 0) -> 0 | AL230: =IF(P230="사용자항목10", L230, 0) -> 0 | AM230: =IF(P230="사용자항목11", L230, 0) -> 0 | AN230: =IF(P230="사용자항목12", L230, 0) -> 0 | AO230: =IF(P230="사용자항목13", L230, 0) -> 0 | AP230: =IF(P230="사용자항목14", L230, 0) -> 0 | AQ230: =IF(P230="사용자항목15", L230, 0) -> 0 | AR230: =IF(P230="사용자항목16", L230, 0) -> 0 | AS230: =IF(P230="사용자항목17", L230, 0) -> 0 | AT230: =IF(P230="사용자항목18", L230, 0) -> 0 | AU230: =IF(P230="사용자항목19", L230, 0) -> 0
A244: 합 계 | F244: =ROUNDDOWN(SUMIF(Q230:Q243, "1", F230:F243), 0) -> 0 | H244: =ROUNDDOWN(SUMIF(Q230:Q243, "1", H230:H243), 0) -> 0 | J244: =ROUNDDOWN(SUMIF(Q230:Q243, "1", J230:J243), 0) -> 0 | L244: =F244+H244+J244 -> 0 | R244: =ROUNDDOWN(SUM(R230:R230), 0) -> 0 | S244: =ROUNDDOWN(SUM(S230:S230), 0) -> 0 | T244: =ROUNDDOWN(SUM(T230:T230), 0) -> 0 | U244: =ROUNDDOWN(SUM(U230:U230), 0) -> 0 | V244: =ROUNDDOWN(SUM(V230:V230), 0) -> 0 | W244: =ROUNDDOWN(SUM(W230:W230), 0) -> 0 | X244: =ROUNDDOWN(SUM(X230:X230), 0) -> 0 | Y244: =ROUNDDOWN(SUM(Y230:Y230), 0) -> 0 | ... AY244: =ROUNDDOWN(SUM(AY230:AY230), 0) -> 0
A245: 0115. 창호공사
A246: PD01 | B246: 900*2100 | C246: 개소 | D246: 2 | F246: =ROUNDDOWN(D246*E246, 0) -> 0 | H246: =ROUNDDOWN(D246*G246, 0) -> 0 | J246: =ROUNDDOWN(D246*I246, 0) -> 0 | K246: =E246+G246+I246 -> 0 | L246: =F246+H246+J246 -> 0 | M246: 일위 47호 | O246: ="" | P246: 기계경비 | Q246: 1 | R246: =IF(P246="기계경비", J246, 0) -> 0 | S246: =IF(P246="운반비", L246, 0) -> 0 | T246: =IF(P246="작업부산물", F246, 0) -> 0 | U246: =IF(P246="관급", F246, 0) -> 0 | V246: =IF(P246="외주비", J246, 0) -> 0 | W246: =IF(P246="장비비", J246, 0) -> 0 | X246: =IF(P246="폐기물처리비", L246, 0) -> 0 | Y246: =IF(P246="가설비", J246, 0) -> 0 | Z246: =IF(P246="잡비제외분", F246, 0) -> 0 | AA246: =IF(P246="사급자재대", L246, 0) -> 0 | AB246: =IF(P246="관급자재대", L246, 0) -> 0 | AC246: =IF(P246="관급자 관급 자재대", L246, 0) -> 0 | AD246: =IF(P246="사용자항목2", L246, 0) -> 0 | AE246: =IF(P246="안전관리비", L246, 0) -> 0 | AF246: =IF(P246="품질관리비", L246, 0) -> 0 | AG246: =IF(P246="작업부산물(철거해체)", L246, 0) -> 0 | AH246: =IF(P246="사용자항목6", L246, 0) -> 0 | AI246: =IF(P246="사용자항목7", L246, 0) -> 0 | AJ246: =IF(P246="사용자항목8", L246, 0) -> 0 | AK246: =IF(P246="사용자항목9", L246, 0) -> 0 | AL246: =IF(P246="사용자항목10", L246, 0) -> 0 | AM246: =IF(P246="사용자항목11", L246, 0) -> 0 | AN246: =IF(P246="사용자항목12", L246, 0) -> 0 | AO246: =IF(P246="사용자항목13", L246, 0) -> 0 | AP246: =IF(P246="사용자항목14", L246, 0) -> 0 | AQ246: =IF(P246="사용자항목15", L246, 0) -> 0 | AR246: =IF(P246="사용자항목16", L246, 0) -> 0 | AS246: =IF(P246="사용자항목17", L246, 0) -> 0 | AT246: =IF(P246="사용자항목18", L246, 0) -> 0 | AU246: =IF(P246="사용자항목19", L246, 0) -> 0
A247: HW01 | B247: 3100*600 | C247: 개소 | D247: 1 | F247: =ROUNDDOWN(D247*E247, 0) -> 0 | H247: =ROUNDDOWN(D247*G247, 0) -> 0 | J247: =ROUNDDOWN(D247*I247, 0) -> 0 | K247: =E247+G247+I247 -> 0 | L247: =F247+H247+J247 -> 0 | M247: 일위 48호 | O247: ="" | P247: 기계경비 | Q247: 1 | R247: =IF(P247="기계경비", J247, 0) -> 0 | S247: =IF(P247="운반비", L247, 0) -> 0 | T247: =IF(P247="작업부산물", F247, 0) -> 0 | U247: =IF(P247="관급", F247, 0) -> 0 | V247: =IF(P247="외주비", J247, 0) -> 0 | W247: =IF(P247="장비비", J247, 0) -> 0 | X247: =IF(P247="폐기물처리비", L247, 0) -> 0 | Y247: =IF(P247="가설비", J247, 0) -> 0 | Z247: =IF(P247="잡비제외분", F247, 0) -> 0 | AA247: =IF(P247="사급자재대", L247, 0) -> 0 | AB247: =IF(P247="관급자재대", L247, 0) -> 0 | AC247: =IF(P247="관급자 관급 자재대", L247, 0) -> 0 | AD247: =IF(P247="사용자항목2", L247, 0) -> 0 | AE247: =IF(P247="안전관리비", L247, 0) -> 0 | AF247: =IF(P247="품질관리비", L247, 0) -> 0 | AG247: =IF(P247="작업부산물(철거해체)", L247, 0) -> 0 | AH247: =IF(P247="사용자항목6", L247, 0) -> 0 | AI247: =IF(P247="사용자항목7", L247, 0) -> 0 | AJ247: =IF(P247="사용자항목8", L247, 0) -> 0 | AK247: =IF(P247="사용자항목9", L247, 0) -> 0 | AL247: =IF(P247="사용자항목10", L247, 0) -> 0 | AM247: =IF(P247="사용자항목11", L247, 0) -> 0 | AN247: =IF(P247="사용자항목12", L247, 0) -> 0 | AO247: =IF(P247="사용자항목13", L247, 0) -> 0 | AP247: =IF(P247="사용자항목14", L247, 0) -> 0 | AQ247: =IF(P247="사용자항목15", L247, 0) -> 0 | AR247: =IF(P247="사용자항목16", L247, 0) -> 0 | AS247: =IF(P247="사용자항목17", L247, 0) -> 0 | AT247: =IF(P247="사용자항목18", L247, 0) -> 0 | AU247: =IF(P247="사용자항목19", L247, 0) -> 0
...

Sheet Sheet1
