Workbook

Sheet 〓 목 차 〓
D1: =IF('〓 INITIAL 〓'!C4,"※※ 기본정보의 일부가 삭제되어 Stmate로 변환할 수 없습니다 ※※","")
B2: 목 차 | D2: ※ 본 엑셀자료는 【STmate w26.07】버전 이상에서 STmate 자료로 다시 등록할 수 있습니다.
D3: 단, 임의로 수정한 내용(Sheet삭제, 산근내용변경, 기타계산식변경..)은 반영되지 않을 수 있습니다.
B4: 1. ※※안내※※ | D4: =HYPERLINK("#'※※안내※※'!A1","※※안내※※ →") -> ※※안내※※ →
B5: 2. 공사원가계산서 | D5: =HYPERLINK("#"&공사원가계산서!G2&"!A1","공사원가계산서 →") -> 공사원가계산서 →
B6: 3. 총괄내역서 | D6: =HYPERLINK("#"&총괄내역서!H2&"!A1","총괄내역서 →") -> 총괄내역서 →
B7: 4. 설계내역서 | D7: =HYPERLINK("#"&설계내역서!O2&"!A1","설계내역서 →") -> 설계내역서 →
B8: 5. 일위대가목록표 | D8: =HYPERLINK("#"&일위대가목록표!J2&"!A1","일위대가목록표 →") -> 일위대가목록표 →
B9: 6. 일위대가표 | D9: =HYPERLINK("#"&일위대가표!N2&"!A1","일위대가표 →") -> 일위대가표 →
B10: 7. 일위대가수량금액집계표 | D10: =HYPERLINK("#"&일위대가수량금액집계표!K2&"!A1","일위대가수량금액집계표 →") -> 일위대가수량금액집계표 →
B11: 8. 단가산출근거목록표 | D11: =HYPERLINK("#"&단가산출근거목록표!J2&"!A1","단가산출근거목록표 →") -> 단가산출근거목록표 →
B12: 9. 단가산출근거 | D12: =HYPERLINK("#"&단가산출근거!G2&"!A1","단가산출근거 →") -> 단가산출근거 →
B13: 10. 단가산출근거수량금액집계표 | D13: =HYPERLINK("#"&단가산출근거수량금액집계표!K2&"!A1","단가산출근거수량금액집계표 →") -> 단가산출근거수량금액집계표 →
B14: 11. 환율및기초자료 | D14: =HYPERLINK("#"&환율및기초자료!I2&"!A1","환율및기초자료 →") -> 환율및기초자료 →
B15: 12. 중기목록표 | D15: =HYPERLINK("#"&중기목록표!J2&"!A1","중기목록표 →") -> 중기목록표 →
B16: 13. 중기사용료 | D16: =HYPERLINK("#"&중기사용료!N2&"!A1","중기사용료 →") -> 중기사용료 →
B17: 14. 재료비목록표 | D17: =HYPERLINK("#"&재료비목록표!G2&"!A1","재료비목록표 →") -> 재료비목록표 →
B18: 15. 노무비목록표 | D18: =HYPERLINK("#"&노무비목록표!G2&"!A1","노무비목록표 →") -> 노무비목록표 →
B19: 16. 경비목록표 | D19: =HYPERLINK("#"&경비목록표!G2&"!A1","경비목록표 →") -> 경비목록표 →
B20: 17. 자재단가대비표 | D20: =HYPERLINK("#"&자재단가대비표!R2&"!A1","자재단가대비표 →") -> 자재단가대비표 →
B21: 18. 재료비수량금액집계표 | D21: =HYPERLINK("#"&재료비수량금액집계표!I2&"!A1","재료비수량금액집계표 →") -> 재료비수량금액집계표 →
B22: 19. 노무비수량금액집계표 | D22: =HYPERLINK("#"&노무비수량금액집계표!I2&"!A1","노무비수량금액집계표 →") -> 노무비수량금액집계표 →
B23: 20. 중기시간금액집계표 | D23: =HYPERLINK("#"&중기시간금액집계표!K2&"!A1","중기시간금액집계표 →") -> 중기시간금액집계표 →

Sheet ※※안내※※
A2: =HYPERLINK("#'〓 목 차 〓'!B2","목차 →") -> 목차 → | B2: === 엑셀파일에 작성에 대한 안내문(반드시 읽어보세요) ===
B4: 엑셀파일 수정후 계산식 반영이 안될경우 :【 Ctrl+Alt(+Shift)+F9 】
B6: ◈ 엑셀파일내의 산식은 기초단가, 복합단가, 내역서 및 총괄내역서까지 연결됩니다.
B7: (모든산식은 단가만을 불러오며, 명칭, 규격, 단위, 비고.. 등은 TEXT로 입력됩니다)
B8: ◈ 각 Sheet우측에는 해당 항목을 찾아가는 위치이동(→) 링크가 있으며, 클릭하면 이동됩니다.
B9: (Alt + ← 키를 이용하여 찾아갔던 항목을 되돌아 올 수 있습니다.)
B10: ◈ 자재단가 대비표의 적용단가는 수식이 적용되지 않았으나, 우측에 최소단가 수식을 입력하였습니다.
B11: ◈ 일위대가표 및 중기사용료 및 총괄내역서의 양식은 일반양식을 적용합니다.
B12: =HYPERLINK("#"&단가산출근거!G2&"!Y3","◈ 단가산출근거의 수량부분은 산출근거 우측 연두색 부분에서 수정합니다. →") -> ◈ 단가산출근거의 수량부분은 산출근거 우측 연두색 부분에서 수정합니다. →
B13: ◈ [목차] 및 [안내] Sheet의 이름을 변경하지 마시고, Sheet이름을 변경할때 공백문자 및 특수문자를 사용하지 마십시요.
B15: ※※※ 아래의 내용(안내 및 오류)을 확인/검토 하세요 ※※※
B16: =HYPERLINK("#"&총괄내역서!H2&"!I"&ROW(총괄내역서!I33)," → ") -> → | C16: 【총괄내역서】33번째줄의 I열 이윤보정액은 총공사비 금액이 다를경우 임의조정(±α) 하십시요.
B17: =HYPERLINK("#"&총괄내역서!H2&"!D"&ROW(총괄내역서!D38)," → ") -> → | C17: 【총괄내역서】38번째줄의 D열에 계산된 총공사비 금액을 확인하십시요.

Sheet 공사원가계산서
A1: 공 사 원 가 계 산 서 | G1: STmate | H1: STmate
A2: 공사명 : 2026년 임도재해예방사업(오목) | F2: 공사기간: 201x년xx월 ~ 201x년xx월 | G2: =MID(CELL("filename",$A$1),FIND("]",CELL("filename",$A$1))+1,LEN(CELL("filename",$A$1))) -> 공사원가계산서
A3: 구 분 | D3: 금 액 | E3: 구 성 비 | F3: 비 고
A4: 비 목 | H4: =HYPERLINK("#'〓 목 차 〓'!B2","목차 →") -> 목차 →
A5: 순 공 사 원 가 | B5: 재 료 비 | C5: 직 접 재 료 비 | D5: =총괄내역서!F20-D6+D7 -> 11885922 | E5: =D5/D28*100 -> 16.247142 | H5: =HYPERLINK("#"&총괄내역서!H2&"!F"&ROW(총괄내역서!F20),"총괄표 →") -> 총괄표 →
C6: 간 접 재 료 비 | D6: 0 | E6: =D6/D28*100 -> 0
C7: 작업설,부산물등(△) | D7: 0 | E7: =D7/D28*100 -> 0
C8: 소 계 | D8: =+D5+D6-D7 -> 11885922 | E8: =D8/D28*100 -> 16.247142
B9: 노 무 비 | C9: 직 접 노 무 비 | D9: =총괄내역서!E20 -> 19476252 | E9: =D9/D28*100 -> 26.622541 | H9: =HYPERLINK("#"&총괄내역서!H2&"!E"&ROW(총괄내역서!E20),"총괄표 →") -> 총괄표 →
C10: 간 접 노 무 비 | D10: =총괄내역서!D21 -> 3719964 | E10: =D10/D28*100 -> 5.0849051 | F10: =총괄내역서!E21 -> 직접노무비 x 19.1% | H10: =HYPERLINK("#"&총괄내역서!H2&"!D"&ROW(총괄내역서!D21),"총괄표 →") -> 총괄표 →
C11: 소 계 | D11: =+D9+D10 -> 23196216 | E11: =D11/D28*100 -> 31.707446
B12: 경 비 | C12: 산 출 경 비 | D12: =총괄내역서!G20 -> 14156555 | E12: =D12/D28*100 -> 19.350923 | H12: =HYPERLINK("#"&총괄내역서!H2&"!G"&ROW(총괄내역서!G20),"총괄표 →") -> 총괄표 →
C13: 산 재 보 험 료 | D13: =총괄내역서!D22 -> 825785 | E13: =D13/D28*100 -> 1.1287847 | F13: =총괄내역서!E22 -> (직접노무비+간접노무비) x 3.56% | H13: =HYPERLINK("#"&총괄내역서!H2&"!D"&ROW(총괄내역서!D22),"총괄표 →") -> 총괄표 →
C14: 고 용 보 험 료 | D14: =총괄내역서!D23 -> 234281 | E14: =D14/D28*100 -> 0.32024413 | F14: =총괄내역서!E23 -> (직접노무비+간접노무비) x 1.01% | H14: =HYPERLINK("#"&총괄내역서!H2&"!D"&ROW(총괄내역서!D23),"총괄표 →") -> 총괄표 →
C15: 산업안전보건관리비 | D15: =총괄내역서!D24 -> 1032811 | E15: =D15/D28*100 -> 1.4117733 | F15: =총괄내역서!E24 -> A）(직노+직재+간재+관급재/1.1) x 3.15% = 1,032,811 B）<(직노+직재+간재) x 3.15%>의 1.2배 = 1,185,489 | H15: =HYPERLINK("#"&총괄내역서!H2&"!D"&ROW(총괄내역서!D24),"총괄표 →") -> 총괄표 →
C16: 기 타 경 비 | D16: =총괄내역서!D25 -> 1929517 | E16: =D16/D28*100 -> 2.6375015 | F16: =총괄내역서!E25 -> (직접노무비+간접노무비+재료비) x 5.5% | H16: =HYPERLINK("#"&총괄내역서!H2&"!D"&ROW(총괄내역서!D25),"총괄표 →") -> 총괄표 →
C17: 환 경 보 전 비 | D17: =총괄내역서!D26 -> 364149 | E17: =D17/D28*100 -> 0.49776371 | F17: =총괄내역서!E26 -> (재료비 + 직접노무비 + 산출경비) x 0.8% | H17: =HYPERLINK("#"&총괄내역서!H2&"!D"&ROW(총괄내역서!D26),"총괄표 →") -> 총괄표 →
C18: 건설기계대여금지급보증서수수료 | D18: =총괄내역서!D27 -> 182074 | E18: =D18/D28*100 -> 0.24888117 | F18: =총괄내역서!E27 -> (재료비 + 직접노무비 + 산출경비) x 0.4% | H18: =HYPERLINK("#"&총괄내역서!H2&"!D"&ROW(총괄내역서!D27),"총괄표 →") -> 총괄표 →
C19: 석면피해구제분담금 | D19: =총괄내역서!D28 -> 1391 | E19: =D19/D28*100 -> 0.0019013902 | F19: =총괄내역서!E28 -> (직접노무비+간접노무비) x 0.006% | H19: =HYPERLINK("#"&총괄내역서!H2&"!D"&ROW(총괄내역서!D28),"총괄표 →") -> 총괄표 →
C20: 임 금 채 권 부 담 금 | D20: =총괄내역서!D29 -> 20876 | E20: =D20/D28*100 -> 0.028535889 | F20: =총괄내역서!E29 -> (직접노무비+간접노무비) x 0.09% | H20: =HYPERLINK("#"&총괄내역서!H2&"!D"&ROW(총괄내역서!D29),"총괄표 →") -> 총괄표 →
C21: 소 계 | D21: =+D12+D13+D14+D15+D16+D17+D18+D19+D20 -> 18747439 | E21: =D21/D28*100 -> 25.626309
A22: 일 반 관 리 비 | D22: =총괄내역서!D31 -> 4306366 | E22: =D22/D28*100 -> 5.8864716 | F22: ="순공사원가 x "&ROUND(총괄내역서!M31,5)&"%" -> 순공사원가 x 8% | H22: =HYPERLINK("#"&총괄내역서!H2&"!D"&ROW(총괄내역서!D31),"총괄표 →") -> 총괄표 →
A23: 이 윤 | D23: =총괄내역서!D33 -> 6936785 | E23: =D23/D28*100 -> 9.4820523 | F23: ="(노무비+경비+일반관리비) x "&ROUND(총괄내역서!M33,5)&"%" -> (노무비+경비+일반관리비) x 15% | H23: =HYPERLINK("#"&총괄내역서!H2&"!D"&ROW(총괄내역서!D33),"총괄표 →") -> 총괄표 →
A24: 총 원 가 | D24: =총괄내역서!D34 -> 65072728 | E24: =D24/D28*100 -> 88.949421 | H24: =HYPERLINK("#"&총괄내역서!H2&"!D"&ROW(총괄내역서!D34),"총괄표 →") -> 총괄표 →
A25: 부 가 가 치 세 | D25: =총괄내역서!D35 -> 6507272 | E25: =D25/D28*100 -> 8.894941 | F25: ="총 원 가 x "&ROUND(총괄내역서!M35,5)&"%" -> 총 원 가 x 10% | H25: =HYPERLINK("#"&총괄내역서!H2&"!D"&ROW(총괄내역서!D35),"총괄표 →") -> 총괄표 →
A26: 도 급 공 사 비 | D26: =총괄내역서!D36 -> 71580000 | E26: =D26/D28*100 -> 97.844362 | H26: =HYPERLINK("#"&총괄내역서!H2&"!D"&ROW(총괄내역서!D36),"총괄표 →") -> 총괄표 →
A27: 관급자재대(도급자설치) | D27: =총괄내역서!D37 -> 1577000 | E27: =D27/D28*100 -> 2.1556379 | F27: =총괄내역서!E37 -> 원자재대: 1,576,507 (조달수수료: 8,467 포함) | H27: =HYPERLINK("#"&총괄내역서!H2&"!D"&ROW(총괄내역서!D37),"총괄표 →") -> 총괄표 →
A28: 총 공 사 비 | D28: =총괄내역서!D38 -> 73157000 | E28: 100 | H28: =HYPERLINK("#"&총괄내역서!H2&"!D"&ROW(총괄내역서!D38),"총괄표 →") -> 총괄표 →

Sheet 총괄내역서
A1: 총 괄 내 역 서 | H1: STmate | Q1: STmate
A2: 공사명 : 2026년 임도재해예방사업(오목) | H2: =MID(CELL("filename",$A$1),FIND("]",CELL("filename",$A$1))+1,LEN(CELL("filename",$A$1))) -> 총괄내역서
A3: 공 종 | B3: 명 칭 | C3: 규 격 | D3: 합 계 | E3: 노 무 비 | F3: 재 료 비 | G3: 경 비 | H3: _x0007_`JTYP|0_x0005_`ACTL|F_x0005_` | I3: 수정은 아래의 연두색 부분에 | Q3: =HYPERLINK("#'〓 목 차 〓'!B2","목차 →") -> 목차 →
A4: □ | B4: 2026년 재해복구사업 | D4: =설계내역서!G5 -> 45518729 | E4: =설계내역서!I5 -> 19476252 | F4: =설계내역서!K5 -> 11885922 | G4: =설계내역서!M5 -> 14156555 | Q4: =HYPERLINK("#"&설계내역서!O2&"!A"&ROW(설계내역서!A5),"내역 →") -> 내역 →
A5: 1 | B5: 토 공 | D5: =설계내역서!G6 -> 39134441 | E5: =설계내역서!I6 -> 16848329 | F5: =설계내역서!K6 -> 10786657 | G5: =설계내역서!M6 -> 11499455 | Q5: =HYPERLINK("#"&설계내역서!O2&"!A"&ROW(설계내역서!A6),"내역 →") -> 내역 →
A6: 1.1 | B6: 절토 | D6: =설계내역서!G7 -> 25471581 | E6: =설계내역서!I7 -> 10539937 | F6: =설계내역서!K7 -> 6829434 | G6: =설계내역서!M7 -> 8102210 | Q6: =HYPERLINK("#"&설계내역서!O2&"!A"&ROW(설계내역서!A7),"내역 →") -> 내역 →
A7: 1.2 | B7: 측구터파기 | D7: =설계내역서!G10 -> 4400072 | E7: =설계내역서!I10 -> 1743473 | F7: =설계내역서!K10 -> 1113559 | G7: =설계내역서!M10 -> 1543040 | Q7: =HYPERLINK("#"&설계내역서!O2&"!A"&ROW(설계내역서!A10),"내역 →") -> 내역 →
A8: 1.2 | B8: 지장목제거 | D8: =설계내역서!G16 -> 128714 | E8: =설계내역서!I16 -> 109671 | F8: =설계내역서!K16 -> 3753 | G8: =설계내역서!M16 -> 15290 | Q8: =HYPERLINK("#"&설계내역서!O2&"!A"&ROW(설계내역서!A16),"내역 →") -> 내역 →
A9: 2 | B9: 구조물공 | D9: =설계내역서!G19 -> 3636948 | E9: =설계내역서!I19 -> 2627923 | F9: =설계내역서!K19 -> 479265 | G9: =설계내역서!M19 -> 529760 | Q9: =HYPERLINK("#"&설계내역서!O2&"!A"&ROW(설계내역서!A19),"내역 →") -> 내역 →
A10: 2.1 | B10: 구조물토공 | D10: =설계내역서!G20 -> 526750 | E10: =설계내역서!I20 -> 288315 | F10: =설계내역서!K20 -> 112295 | G10: =설계내역서!M20 -> 126140 | Q10: =HYPERLINK("#"&설계내역서!O2&"!A"&ROW(설계내역서!A20),"내역 →") -> 내역 →
A11: 2.2 | B11: 배수공 | D11: =설계내역서!G24 -> 483288 | E11: =설계내역서!I24 -> 348652 | F11: =설계내역서!K24 -> 72500 | G11: =설계내역서!M24 -> 62136 | Q11: =HYPERLINK("#"&설계내역서!O2&"!A"&ROW(설계내역서!A24),"내역 →") -> 내역 →
A12: 2.2.1 | B12: 배수관매설 | D12: =설계내역서!G25 -> 483288 | E12: =설계내역서!I25 -> 348652 | F12: =설계내역서!K25 -> 72500 | G12: =설계내역서!M25 -> 62136 | Q12: =HYPERLINK("#"&설계내역서!O2&"!A"&ROW(설계내역서!A25),"내역 →") -> 내역 →
A13: 2.3 | B13: 큰돌공 | D13: =설계내역서!G28 -> 2626910 | E13: =설계내역서!I28 -> 1990956 | F13: =설계내역서!K28 -> 294470 | G13: =설계내역서!M28 -> 341484 | Q13: =HYPERLINK("#"&설계내역서!O2&"!A"&ROW(설계내역서!A28),"내역 →") -> 내역 →
A14: 2.3.1 | B14: 큰돌쌓기 | D14: =설계내역서!G29 -> 2626910 | E14: =설계내역서!I29 -> 1990956 | F14: =설계내역서!K29 -> 294470 | G14: =설계내역서!M29 -> 341484 | Q14: =HYPERLINK("#"&설계내역서!O2&"!A"&ROW(설계내역서!A29),"내역 →") -> 내역 →
A15: 3 | B15: 운반 및 기타부대공 | D15: =설계내역서!G32 -> 2127340 | E15: =설계내역서!I32 -> 0 | F15: =설계내역서!K32 -> 0 | G15: =설계내역서!M32 -> 2127340 | Q15: =HYPERLINK("#"&설계내역서!O2&"!A"&ROW(설계내역서!A32),"내역 →") -> 내역 →
A16: 3.1 | B16: 운반공 | D16: =설계내역서!G33 -> 2127340 | E16: =설계내역서!I33 -> 0 | F16: =설계내역서!K33 -> 0 | G16: =설계내역서!M33 -> 2127340 | Q16: =HYPERLINK("#"&설계내역서!O2&"!A"&ROW(설계내역서!A33),"내역 →") -> 내역 →
A17: 4 | B17: 사급자재대 | D17: =설계내역서!G37 -> 620000 | E17: =설계내역서!I37 -> 0 | F17: =설계내역서!K37 -> 620000 | G17: =설계내역서!M37 -> 0 | Q17: =HYPERLINK("#"&설계내역서!O2&"!A"&ROW(설계내역서!A37),"내역 →") -> 내역 →
A18: 5 | B18: 관급자재대 | D18: =설계내역서!G40 -> 1576507 | E18: =설계내역서!I40 -> 0 | F18: =설계내역서!K40 -> 1576507 | G18: =설계내역서!M40 -> 0 | Q18: =HYPERLINK("#"&설계내역서!O2&"!A"&ROW(설계내역서!A40),"내역 →") -> 내역 →
A19: 5.1 | B19: 파형강관 | D19: =설계내역서!G41 -> 1576507 | E19: =설계내역서!I41 -> 0 | F19: =설계내역서!K41 -> 1576507 | G19: =설계내역서!M41 -> 0 | Q19: =HYPERLINK("#"&설계내역서!O2&"!A"&ROW(설계내역서!A41),"내역 →") -> 내역 →
A20: 가. | B20: 순공사비계 | D20: =설계내역서!G45 -> 45518729 | E20: =설계내역서!I45 -> 19476252 | F20: =설계내역서!K45 -> 11885922 | G20: =설계내역서!M45 -> 14156555 | Q20: =HYPERLINK("#"&설계내역서!O2&"!A"&ROW(설계내역서!A45),"내역 →") -> 내역 →
B21: 1. 간접노무비 | D21: =ROUNDDOWN(E20*M21/100,0) -> 3719964 | E21: ="직접노무비 x "&ROUND(M21,5)&"%" -> 직접노무비 x 19.1% | H21: _x0007_`DTP|201_x0005_`QTY1|1_x0005_`BDC|_x0005_`SRE|LA_x0005_` | I21: 0 | M21: 19.1 | N21: 0 | O21: 0 | P21: 0
B22: 2. 산재보험료 | D22: =ROUNDDOWN(((E20+D21))*M22/100,0) -> 825785 | E22: ="(직접노무비+간접노무비) x "&ROUND(M22,5)&"%" -> (직접노무비+간접노무비) x 3.56% | H22: _x0007_`DTP|301_x0005_`QTY1|1_x0005_`BDC|_x0005_`SRE|SA_x0005_` | I22: 0 | M22: 3.56 | N22: 0 | O22: 0 | P22: 0
B23: 3. 고용보험료 | D23: =ROUNDDOWN(((E20+D21))*M23/100,0) -> 234281 | E23: ="(직접노무비+간접노무비) x "&ROUND(M23,5)&"%" -> (직접노무비+간접노무비) x 1.01% | H23: _x0007_`DTP|302_x0005_`QTY1|1_x0005_`BDC|_x0005_`SRE|SA_x0005_` | I23: 0 | M23: 1.01 | N23: 0 | O23: 0 | P23: 0
B24: 4. 산업안전보건관리비 | C24: A）관급재/1.1포함 적용 | D24: =ROUNDDOWN(((E20+(F20))+(I37-O37)/1.1)*M24/100,0) -> 1032811 | E24: ="A）(직노+직재+간재+관급재/1.1) x "&ROUND(M24,5)&"% = "&TEXT(D24,"#,0")&" B）<(직노+직재+간재) x "&ROUND(M24,5)&"%>의 1.2배 = 1,185,489" -> A）(직노+직재+간재+관급재/1.1) x 3.15% = 1,032,811 B）<(직노+직재+간재) x 3.15%>의 1.2배 = 1,185,489 | H24: _x0007_`DTP|306_x0005_`QTY1|1_x0005_`BDC|_x0005_`SRE|SA_x0005_`ANK|1_x0005_` | I24: 0 | J24: =((E20+(F20))+(I37-O37)/1.1) -> 32787665 | M24: 3.15 | N24: 0 | O24: 0 | P24: 0
B25: 5. 기타경비 | D25: =ROUNDDOWN(((((E20+D21)+(F20))))*M25/100,0) -> 1929517 | E25: ="(직접노무비+간접노무비+재료비) x "&ROUND(M25,5)&"%" -> (직접노무비+간접노무비+재료비) x 5.5% | H25: _x0007_`DTP|321_x0005_`QTY1|1_x0005_`BDC|_x0005_`SRE|SA_x0005_` | I25: 0 | M25: 5.5 | N25: 0 | O25: 0 | P25: 0
B26: 6. 환경보전비 | D26: =ROUNDDOWN((D20)*M26/100,0) -> 364149 | E26: ="(재료비 + 직접노무비 + 산출경비) x "&ROUND(M26,5)&"%" -> (재료비 + 직접노무비 + 산출경비) x 0.8% | H26: _x0007_`DTP|309_x0005_`QTY1|1_x0005_`BDC|_x0005_`SRE|SA_x0005_` | I26: 0 | M26: 0.8 | N26: 0 | O26: 0 | P26: 0
B27: 7. 건설기계대여금지급보증서수수료 | D27: =ROUNDDOWN((D20)*M27/100,0) -> 182074 | E27: ="(재료비 + 직접노무비 + 산출경비) x "&ROUND(M27,5)&"%" -> (재료비 + 직접노무비 + 산출경비) x 0.4% | H27: _x0007_`DTP|311_x0005_`QTY1|1_x0005_`BDC|_x0005_`SRE|SA_x0005_` | I27: 0 | M27: 0.4 | N27: 0 | O27: 0 | P27: 0
B28: 8. 석면피해구제분담금 | D28: =ROUNDDOWN(((E20+D21))*M28/100,0) -> 1391 | E28: ="(직접노무비+간접노무비) x "&ROUND(M28,5)&"%" -> (직접노무비+간접노무비) x 0.006% | H28: _x0007_`DTP|322_x0005_`QTY1|1_x0005_`BDC|_x0005_`SRE|SA_x0005_` | I28: 0 | M28: 0.006 | N28: 0 | O28: 0 | P28: 0
B29: 9. 임금채권부담금 | D29: =ROUNDDOWN(((E20+D21))*M29/100,0) -> 20876 | E29: ="(직접노무비+간접노무비) x "&ROUND(M29,5)&"%" -> (직접노무비+간접노무비) x 0.09% | H29: _x0007_`DTP|323_x0005_`QTY1|1_x0005_`BDC|_x0005_`SRE|SA_x0005_` | I29: 0 | M29: 0.09 | N29: 0 | O29: 0 | P29: 0
A30: 나. | B30: 소 계 | D30: =(D20+D21+D22+D23+D24+D25+D26+D27+D28+D29) -> 53829577 | H30: _x0007_`DTP|400_x0005_`QTY1|1_x0005_`BDC|_x0005_`SRE|TA-F_x0005_` | I30: 0 | M30: 0 | N30: 0 | O30: 0 | P30: 0
B31: 10. 일반관리비 | D31: =ROUNDDOWN(((D30)+0)*M31/100,0) -> 4306366 | E31: ="(나.소 계) x "&ROUND(M31,5)&"%" -> (나.소 계) x 8% | H31: _x0007_`DTP|401_x0005_`QTY1|1_x0005_`BDC|_x0005_`SRE|TA_x0005_` | I31: 0 | M31: 8 | N31: 0 | O31: 0 | P31: 0
A32: 다. | B32: 소 계 | D32: =(D30+D31) -> 58135943 | H32: _x0007_`DTP|410_x0005_`QTY1|1_x0005_`BDC|_x0005_`SRE|TA-F_x0005_` | I32: 3 | J32: =D32 -> 58135943 | L32: =D32 -> 58135943 | M32: 0 | N32: 0 | O32: 0 | P32: 0
B33: 11. 이 윤 | D33: =ROUNDDOWN(((D32)-(F20))*M33/100,0)-I33-K33 -> 6936785 | E33: ="(다.소계 - 재료비) x "&ROUND(M33,5)&"% = "&TEXT(J33,"#,##0") -> (다.소계 - 재료비) x 15% = 6,937,503 | H33: _x0007_`DTP|402_x0005_`QTY1|1_x0005_`BDC|_x0005_`SRE|TA_x0005_` | I33: =ROUND((J38-ROUNDDOWN(J38,-I32))/1.1,0) -> 718 | J33: =ROUNDDOWN(((J32)-(F20))*M33/100,0) -> 6937503 | K33: =ABS(L38-ROUNDDOWN(J38,-I32))*IF(L38>ROUNDDOWN(J38,-I32),1,-1) -> 0 | L33: =ROUNDDOWN(((L32)-(F20))*M33/100,0)-I33 -> 6936785 | M33: 15 | N33: 0 | O33: 0 | P33: 0
A34: 라. | B34: 공급가액 | D34: =(D32+D33) -> 65072728 | H34: _x0007_`DTP|500_x0005_`QTY1|1_x0005_`BDC|_x0005_`SRE|TA-F_x0005_` | I34: 0 | J34: =(J32+J33) -> 65073446 | L34: =(L32+L33) -> 65072728 | M34: 0 | N34: 0 | O34: 0 | P34: 0
B35: 12. 부가가치세 | D35: =ROUNDDOWN((D34)*M35/100,0)+I35 -> 6507272 | E35: ="공급가액 x "&ROUND(M35,5)&"%" -> 공급가액 x 10% | H35: _x0007_`DTP|502_x0005_`QTY1|1_x0005_`BDC|_x0005_`SRE|TA_x0005_` | I35: 0 | J35: =ROUNDDOWN((J34)*M35/100,0)+I35 -> 6507344 | L35: =ROUNDDOWN((L34)*M35/100,0)+I35 -> 6507272 | M35: 10 | N35: 0 | O35: 0 | P35: 0
A36: 마. | B36: 도급공사비 | D36: =(D34+D35) -> 71580000 | H36: _x0007_`DTP|600_x0005_`QTY1|1_x0005_`BDC|_x0005_`SRE|TA-F_x0005_` | I36: 0 | J36: =(J34+J35) -> 71580790 | L36: =(L34+L35) -> 71580000 | M36: 0 | N36: 0 | O36: 3 | P36: 0
B37: 13. 관급자재대(도급자설치) | D37: =ROUNDUP(I37,-3) -> 1577000 | E37: ="원자재대: "&TEXT(I37,"#,0")&" (조달수수료: "&TEXT(O37,"#,0")&" 포함)" -> 원자재대: 1,576,507 (조달수수료: 8,467 포함) | H37: _x0007_`DTP|653_x0005_`QTY1|1_x0005_`BDC|_x0005_`SRE|TA-3_x0005_` | I37: 1576507 | J37: =ROUNDUP(I37,-3) -> 1577000 | L37: =ROUNDUP(I37,-3) -> 1577000 | M37: 3 | N37: 0 | O37: 8467 | P37: 0
A38: 바. | B38: 총공사비 | D38: =(D36+D37) -> 73157000 | H38: _x0007_`DTP|700_x0005_`QTY1|1_x0005_`BDC|_x0005_`SRE|TA-F_x0005_` | I38: 0 | J38: =(J36+J37) -> 73157790 | L38: =(L36+L37) -> 73157000 | M38: 0 | N38: 0 | O38: 3 | P38: 0

Sheet 설계내역서
A1: 설 계 내 역 서 | O1: STmate | AC1: STmate
A2: 공사명 : 2026년 임도재해예방사업(오목) | O2: =MID(CELL("filename",$A$1),FIND("]",CELL("filename",$A$1))+1,LEN(CELL("filename",$A$1))) -> 설계내역서
A3: 공 종 | B3: 명 칭 | C3: 규 격 | D3: 수 량 | E3: 단위 | F3: 합 계 | H3: 노 무 비 | J3: 재 료 비 | L3: 경 비 | N3: 비 고
F4: 단 가 | G4: 금 액 | H4: 단 가 | I4: 금 액 | J4: 단 가 | K4: 금 액 | L4: 단 가 | M4: 금 액 | AC4: =HYPERLINK("#'〓 목 차 〓'!B2","목차 →") -> 목차 →
A5: □ | B5: 2026년 재해복구사업 | F5: 0 | G5: =SUMIF(Q6:Q44,P5,G6:G44) -> 45518729 | H5: 0 | I5: =SUMIF(Q6:Q44,P5,I6:I44) -> 19476252 | J5: 0 | K5: =SUMIF(Q6:Q44,P5,K6:K44) -> 11885922 | L5: 0 | M5: =SUMIF(Q6:Q44,P5,M6:M44) -> 14156555 | O5: ="_x0007_`COD|E4_x0005_`QTY1|1_x0005_`EXI|0_x0005_`ITT|0_x0005_`END|"&ROW(M45)&"_x0005_`" -> _x0007_`COD|E4_x0005_`QTY1|1_x0005_`EXI|0_x0005_`ITT|0_x0005_`END|45_x0005_` | P5: E4_1 | Q5: E10_1
A6: 1 | B6: 토 공 | F6: 0 | G6: =SUMIF(Q7:Q17,P6,G7:G17) -> 39134441 | H6: 0 | I6: =SUMIF(Q7:Q17,P6,I7:I17) -> 16848329 | J6: 0 | K6: =SUMIF(Q7:Q17,P6,K7:K17) -> 10786657 | L6: 0 | M6: =SUMIF(Q7:Q17,P6,M7:M17) -> 11499455 | O6: ="_x0007_`COD|E3_x0005_`QTY1|1_x0005_`EXI|0_x0005_`ITT|0_x0005_`END|"&ROW(M18)&"_x0005_`" -> _x0007_`COD|E3_x0005_`QTY1|1_x0005_`EXI|0_x0005_`ITT|0_x0005_`END|18_x0005_` | P6: E3_1 | Q6: E4_1
A7: 1.1 | B7: 절토 | F7: 0 | G7: =SUMIF(Q8:Q9,P7,G8:G9) -> 25471581 | H7: 0 | I7: =SUMIF(Q8:Q9,P7,I8:I9) -> 10539937 | J7: 0 | K7: =SUMIF(Q8:Q9,P7,K8:K9) -> 6829434 | L7: 0 | M7: =SUMIF(Q8:Q9,P7,M8:M9) -> 8102210 | O7: ="_x0007_`COD|E2_x0005_`QTY1|1_x0005_`EXI|0_x0005_`ITT|0_x0005_`END|"&ROW(M10)&"_x0005_`" -> _x0007_`COD|E2_x0005_`QTY1|1_x0005_`EXI|0_x0005_`ITT|0_x0005_`END|10_x0005_` | P7: E2_1 | Q7: E3_1
A8: 1.1.1 | B8: 흙깍기 | C8: 보통토사(소규모) | D8: 1597 | E8: M3 | F8: =J8+H8+L8 -> 3304 | G8: =K8+I8+M8 -> 5276488 | H8: =IF(D8=0,0,단가산출근거목록표!F7) -> 1523 | I8: =ROUNDDOWN(H8*D8,0) -> 2432231 | J8: =IF(D8=0,0,단가산출근거목록표!G7) -> 1017 | K8: =ROUNDDOWN(J8*D8,0) -> 1624149 | L8: =IF(D8=0,0,단가산출근거목록표!H7) -> 764 | M8: =ROUNDDOWN(L8*D8,0) -> 1220108 | N8: D00022 | O8: _x0007_`COD|D00022_x0005_`QTY1|1_x0005_`EXI|0_x0005_`IPR|0_x0005_`BLA|F_x0005_` | P8: D00022_1 | Q8: E2_1 | AC8: =HYPERLINK("#"&단가산출근거목록표!J2&"!A"&ROW(단가산출근거목록표!A7),"D00022 →") -> D00022 →
A9: 1.1.2 | B9: 흙깍기(풍화암) | C9: 굴착기(1.0㎥) + 대형브레이카(1.0㎥) | D9: 883 | E9: M3 | F9: =J9+H9+L9 -> 22871 | G9: =K9+I9+M9 -> 20195093 | H9: =IF(D9=0,0,단가산출근거목록표!F8) -> 9182 | I9: =ROUNDDOWN(H9*D9,0) -> 8107706 | J9: =IF(D9=0,0,단가산출근거목록표!G8) -> 5895 | K9: =ROUNDDOWN(J9*D9,0) -> 5205285 | L9: =IF(D9=0,0,단가산출근거목록표!H8) -> 7794 | M9: =ROUNDDOWN(L9*D9,0) -> 6882102 | N9: D00035 | O9: _x0007_`COD|D00035_x0005_`QTY1|1_x0005_`EXI|0_x0005_`IPR|0_x0005_`BLA|F_x0005_` | P9: D00035_1 | Q9: E2_1 | AC9: =HYPERLINK("#"&단가산출근거목록표!J2&"!A"&ROW(단가산출근거목록표!A8),"D00035 →") -> D00035 →
A10: 1.2 | B10: 측구터파기 | F10: 0 | G10: =SUMIF(Q11:Q12,P10,G11:G12) -> 4400072 | H10: 0 | I10: =SUMIF(Q11:Q12,P10,I11:I12) -> 1743473 | J10: 0 | K10: =SUMIF(Q11:Q12,P10,K11:K12) -> 1113559 | L10: 0 | M10: =SUMIF(Q11:Q12,P10,M11:M12) -> 1543040 | O10: ="_x0007_`COD|E2_x0005_`QTY1|1_x0005_`EXI|0_x0005_`ITT|0_x0005_`END|"&ROW(M13)&"_x0005_`" -> _x0007_`COD|E2_x0005_`QTY1|1_x0005_`EXI|0_x0005_`ITT|0_x0005_`END|13_x0005_` | P10: E2_1 | Q10: E3_1
A11: 1.2.1 | B11: 측구터파기(보통토사) | C11: (기계100%) | D11: 1 | E11: M3 | F11: =J11+H11+L11 -> 6519 | G11: =K11+I11+M11 -> 6519 | H11: =IF(D11=0,0,단가산출근거목록표!F9) -> 3499 | I11: =ROUNDDOWN(H11*D11,0) -> 3499 | J11: =IF(D11=0,0,단가산출근거목록표!G9) -> 1413 | K11: =ROUNDDOWN(J11*D11,0) -> 1413 | L11: =IF(D11=0,0,단가산출근거목록표!H9) -> 1607 | M11: =ROUNDDOWN(L11*D11,0) -> 1607 | N11: D00055 | O11: _x0007_`COD|D00055_x0005_`QTY1|1_x0005_`EXI|0_x0005_`IPR|0_x0005_`BLA|F_x0005_` | P11: D00055_1 | Q11: E2_1 | AC11: =HYPERLINK("#"&단가산출근거목록표!J2&"!A"&ROW(단가산출근거목록표!A9),"D00055 →") -> D00055 →
A12: 1.2.2 | B12: 측구터파기(풍화암) | C12: 굴착기(1.0㎥) + 대형브레이카(1.0㎥) | D12: 113 | E12: M3 | F12: =J12+H12+L12 -> 38881 | G12: =K12+I12+M12 -> 4393553 | H12: =IF(D12=0,0,단가산출근거목록표!F10) -> 15398 | I12: =ROUNDDOWN(H12*D12,0) -> 1739974 | J12: =IF(D12=0,0,단가산출근거목록표!G10) -> 9842 | K12: =ROUNDDOWN(J12*D12,0) -> 1112146 | L12: =IF(D12=0,0,단가산출근거목록표!H10) -> 13641 | M12: =ROUNDDOWN(L12*D12,0) -> 1541433 | N12: D00057 | O12: _x0007_`COD|D00057_x0005_`QTY1|1_x0005_`EXI|0_x0005_`IPR|0_x0005_`BLA|F_x0005_` | P12: D00057_1 | Q12: E2_1 | AC12: =HYPERLINK("#"&단가산출근거목록표!J2&"!A"&ROW(단가산출근거목록표!A10),"D00057 →") -> D00057 →
A13: 1.3 | B13: 절토사면고르기 | C13: 1.0 B/H | D13: 896 | E13: M2 | F13: =J13+H13+L13 -> 4454 | G13: =K13+I13+M13 -> 3990784 | H13: =IF(D13=0,0,단가산출근거목록표!F20) -> 2053 | I13: =ROUNDDOWN(H13*D13,0) -> 1839488 | J13: =IF(D13=0,0,단가산출근거목록표!G20) -> 1371 | K13: =ROUNDDOWN(J13*D13,0) -> 1228416 | L13: =IF(D13=0,0,단가산출근거목록표!H20) -> 1030 | M13: =ROUNDDOWN(L13*D13,0) -> 922880 | N13: D02300 | O13: _x0007_`COD|D02300_x0005_`QTY1|1_x0005_`EXI|0_x0005_`IPR|0_x0005_`BLA|F_x0005_` | P13: D02300_1 | Q13: E3_1 | AC13: =HYPERLINK("#"&단가산출근거목록표!J2&"!A"&ROW(단가산출근거목록표!A20),"D02300 →") -> D02300 →
A14: 1.4 | B14: 사토운반 | C14: L=0.06Km | D14: 2595 | E14: M3 | F14: =J14+H14+L14 -> 1982 | G14: =K14+I14+M14 -> 5143290 | H14: =IF(D14=0,0,단가산출근거목록표!F19) -> 1008 | I14: =ROUNDDOWN(H14*D14,0) -> 2615760 | J14: =IF(D14=0,0,단가산출근거목록표!G19) -> 621 | K14: =ROUNDDOWN(J14*D14,0) -> 1611495 | L14: =IF(D14=0,0,단가산출근거목록표!H19) -> 353 | M14: =ROUNDDOWN(L14*D14,0) -> 916035 | N14: D02297 | O14: _x0007_`COD|D02297_x0005_`QTY1|1_x0005_`EXI|0_x0005_`IPR|0_x0005_`BLA|F_x0005_` | P14: D02297_1 | Q14: E3_1 | AC14: =HYPERLINK("#"&단가산출근거목록표!J2&"!A"&ROW(단가산출근거목록표!A19),"D02297 →") -> D02297 →
F15: 0 | O15: _x0007_`COD|_x0005_`QTY1|1_x0005_`EXI|1_x0005_`ITT|0_x0005_` | P15: CMT_1 | Q15: E3_1
A16: 1.2 | B16: 지장목제거 | F16: 0 | G16: =SUMIF(Q17:Q17,P16,G17:G17) -> 128714 | H16: 0 | I16: =SUMIF(Q17:Q17,P16,I17:I17) -> 109671 | J16: 0 | K16: =SUMIF(Q17:Q17,P16,K17:K17) -> 3753 | L16: 0 | M16: =SUMIF(Q17:Q17,P16,M17:M17) -> 15290 | O16: ="_x0007_`COD|E2_x0005_`QTY1|1_x0005_`EXI|0_x0005_`ITT|0_x0005_`END|"&ROW(M18)&"_x0005_`" -> _x0007_`COD|E2_x0005_`QTY1|1_x0005_`EXI|0_x0005_`ITT|0_x0005_`END|18_x0005_` | P16: E2_1 | Q16: E3_1
A17: 1.2.1 | B17: 잡관목제거 | C17: 벌목(5m미만) | D17: 139 | E17: M2 | F17: =J17+H17+L17 -> 926 | G17: =K17+I17+M17 -> 128714 | H17: =IF(D17=0,0,단가산출근거목록표!F11) -> 789 | I17: =ROUNDDOWN(H17*D17,0) -> 109671 | J17: =IF(D17=0,0,단가산출근거목록표!G11) -> 27 | K17: =ROUNDDOWN(J17*D17,0) -> 3753 | L17: =IF(D17=0,0,단가산출근거목록표!H11) -> 110 | M17: =ROUNDDOWN(L17*D17,0) -> 15290 | N17: D00099 | O17: _x0007_`COD|D00099_x0005_`QTY1|1_x0005_`EXI|0_x0005_`IPR|0_x0005_`BLA|F_x0005_` | P17: D00099_1 | Q17: E2_1 | AC17: =HYPERLINK("#"&단가산출근거목록표!J2&"!A"&ROW(단가산출근거목록표!A11),"D00099 →") -> D00099 →
F18: 0 | O18: _x0007_`COD|_x0005_`QTY1|1_x0005_`EXI|1_x0005_`ITT|0_x0005_` | P18: CMT_1 | Q18: E4_1
A19: 2 | B19: 구조물공 | F19: 0 | G19: =SUMIF(Q20:Q30,P19,G20:G30) -> 3636948 | H19: 0 | I19: =SUMIF(Q20:Q30,P19,I20:I30) -> 2627923 | J19: 0 | K19: =SUMIF(Q20:Q30,P19,K20:K30) -> 479265 | L19: 0 | M19: =SUMIF(Q20:Q30,P19,M20:M30) -> 529760 | O19: ="_x0007_`COD|E3_x0005_`QTY1|1_x0005_`EXI|0_x0005_`ITT|0_x0005_`END|"&ROW(M31)&"_x0005_`" -> _x0007_`COD|E3_x0005_`QTY1|1_x0005_`EXI|0_x0005_`ITT|0_x0005_`END|31_x0005_` | P19: E3_1 | Q19: E4_1
A20: 2.1 | B20: 구조물토공 | F20: 0 | G20: =SUMIF(Q21:Q23,P20,G21:G23) -> 526750 | H20: 0 | I20: =SUMIF(Q21:Q23,P20,I21:I23) -> 288315 | J20: 0 | K20: =SUMIF(Q21:Q23,P20,K21:K23) -> 112295 | L20: 0 | M20: =SUMIF(Q21:Q23,P20,M21:M23) -> 126140 | O20: ="_x0007_`COD|E2_x0005_`QTY1|1_x0005_`EXI|0_x0005_`ITT|0_x0005_`END|"&ROW(M24)&"_x0005_`" -> _x0007_`COD|E2_x0005_`QTY1|1_x0005_`EXI|0_x0005_`ITT|0_x0005_`END|24_x0005_` | P20: E2_1 | Q20: E3_1
A21: 2.1.1 | B21: 구조물터파기 | C21: (혼합토사 TYPEⅢ) | D21: 57 | E21: M3 | F21: =J21+H21+L21 -> 5982 | G21: =K21+I21+M21 -> 340974 | H21: =IF(D21=0,0,단가산출근거목록표!F4) -> 3147 | I21: =ROUNDDOWN(H21*D21,0) -> 179379 | J21: =IF(D21=0,0,단가산출근거목록표!G4) -> 1271 | K21: =ROUNDDOWN(J21*D21,0) -> 72447 | L21: =IF(D21=0,0,단가산출근거목록표!H4) -> 1564 | M21: =ROUNDDOWN(L21*D21,0) -> 89148 | N21: D00007 | O21: _x0007_`COD|D00007_x0005_`QTY1|1_x0005_`EXI|0_x0005_`IPR|0_x0005_`BLA|F_x0005_` | P21: D00007_1 | Q21: E2_1 | AC21: =HYPERLINK("#"&단가산출근거목록표!J2&"!A"&ROW(단가산출근거목록표!A4),"D00007 →") -> D00007 →
A22: 2.1.2 | B22: 구조물되메우기 다짐 | C22: (대형장비) | D22: 17 | E22: M3 | F22: =J22+H22+L22 -> 8894 | G22: =K22+I22+M22 -> 151198 | H22: =IF(D22=0,0,단가산출근거목록표!F5) -> 5316 | I22: =ROUNDDOWN(H22*D22,0) -> 90372 | J22: =IF(D22=0,0,단가산출근거목록표!G5) -> 1903 | K22: =ROUNDDOWN(J22*D22,0) -> 32351 | L22: =IF(D22=0,0,단가산출근거목록표!H5) -> 1675 | M22: =ROUNDDOWN(L22*D22,0) -> 28475 | N22: D00017 | O22: _x0007_`COD|D00017_x0005_`QTY1|1_x0005_`EXI|0_x0005_`IPR|0_x0005_`BLA|F_x0005_` | P22: D00017_1 | Q22: E2_1 | AC22: =HYPERLINK("#"&단가산출근거목록표!J2&"!A"&ROW(단가산출근거목록표!A5),"D00017 →") -> D00017 →
A23: 2.1.3 | B23: 잔토처리 | C23: 토사(B/H 100%) | D23: 17 | E23: M3 | F23: =J23+H23+L23 -> 2034 | G23: =K23+I23+M23 -> 34578 | H23: =IF(D23=0,0,단가산출근거목록표!F6) -> 1092 | I23: =ROUNDDOWN(H23*D23,0) -> 18564 | J23: =IF(D23=0,0,단가산출근거목록표!G6) -> 441 | K23: =ROUNDDOWN(J23*D23,0) -> 7497 | L23: =IF(D23=0,0,단가산출근거목록표!H6) -> 501 | M23: =ROUNDDOWN(L23*D23,0) -> 8517 | N23: D00019 | O23: _x0007_`COD|D00019_x0005_`QTY1|1_x0005_`EXI|0_x0005_`IPR|0_x0005_`BLA|F_x0005_` | P23: D00019_1 | Q23: E2_1 | AC23: =HYPERLINK("#"&단가산출근거목록표!J2&"!A"&ROW(단가산출근거목록표!A6),"D00019 →") -> D00019 →
A24: 2.2 | B24: 배수공 | F24: 0 | G24: =SUMIF(Q25:Q27,P24,G25:G27) -> 483288 | H24: 0 | I24: =SUMIF(Q25:Q27,P24,I25:I27) -> 348652 | J24: 0 | K24: =SUMIF(Q25:Q27,P24,K25:K27) -> 72500 | L24: 0 | M24: =SUMIF(Q25:Q27,P24,M25:M27) -> 62136 | O24: ="_x0007_`COD|E2_x0005_`QTY1|1_x0005_`EXI|0_x0005_`ITT|0_x0005_`END|"&ROW(M28)&"_x0005_`" -> _x0007_`COD|E2_x0005_`QTY1|1_x0005_`EXI|0_x0005_`ITT|0_x0005_`END|28_x0005_` | P24: E2_1 | Q24: E3_1
A25: 2.2.1 | B25: 배수관매설 | F25: 0 | G25: =SUMIF(Q26:Q27,P25,G26:G27) -> 483288 | H25: 0 | I25: =SUMIF(Q26:Q27,P25,I26:I27) -> 348652 | J25: 0 | K25: =SUMIF(Q26:Q27,P25,K26:K27) -> 72500 | L25: 0 | M25: =SUMIF(Q26:Q27,P25,M26:M27) -> 62136 | O25: ="_x0007_`COD|E1_x0005_`QTY1|1_x0005_`EXI|0_x0005_`ITT|0_x0005_`END|"&ROW(M28)&"_x0005_`" -> _x0007_`COD|E1_x0005_`QTY1|1_x0005_`EXI|0_x0005_`ITT|0_x0005_`END|28_x0005_` | P25: E1_1 | Q25: E2_1
A26: 2.2.1.1 | B26: 파형강관부설 | C26: Φ800mm | D26: 12 | E26: M | F26: =J26+H26+L26 -> 17064 | G26: =K26+I26+M26 -> 204768 | H26: =IF(D26=0,0,단가산출근거목록표!F12) -> 15935 | I26: =ROUNDDOWN(H26*D26,0) -> 191220 | J26: =IF(D26=0,0,단가산출근거목록표!G12) -> 406 | K26: =ROUNDDOWN(J26*D26,0) -> 4872 | L26: =IF(D26=0,0,단가산출근거목록표!H12) -> 723 | M26: =ROUNDDOWN(L26*D26,0) -> 8676 | N26: D00174 | O26: _x0007_`COD|D00174_x0005_`QTY1|1_x0005_`EXI|0_x0005_`IPR|0_x0005_`BLA|F_x0005_` | P26: D00174_1 | Q26: E1_1 | AC26: =HYPERLINK("#"&단가산출근거목록표!J2&"!A"&ROW(단가산출근거목록표!A12),"D00174 →") -> D00174 →
A27: 2.2.1.2 | B27: 사질양토운반 | D27: 22 | E27: M3 | F27: =J27+H27+L27 -> 12660 | G27: =K27+I27+M27 -> 278520 | H27: =IF(D27=0,0,단가산출근거목록표!F18) -> 7156 | I27: =ROUNDDOWN(H27*D27,0) -> 157432 | J27: =IF(D27=0,0,단가산출근거목록표!G18) -> 3074 | K27: =ROUNDDOWN(J27*D27,0) -> 67628 | L27: =IF(D27=0,0,단가산출근거목록표!H18) -> 2430 | M27: =ROUNDDOWN(L27*D27,0) -> 53460 | N27: D02244 | O27: _x0007_`COD|D02244_x0005_`QTY1|1_x0005_`EXI|0_x0005_`IPR|0_x0005_`BLA|F_x0005_` | P27: D02244_1 | Q27: E1_1 | AC27: =HYPERLINK("#"&단가산출근거목록표!J2&"!A"&ROW(단가산출근거목록표!A18),"D02244 →") -> D02244 →
A28: 2.3 | B28: 큰돌공 | F28: 0 | G28: =SUMIF(Q29:Q30,P28,G29:G30) -> 2626910 | H28: 0 | I28: =SUMIF(Q29:Q30,P28,I29:I30) -> 1990956 | J28: 0 | K28: =SUMIF(Q29:Q30,P28,K29:K30) -> 294470 | L28: 0 | M28: =SUMIF(Q29:Q30,P28,M29:M30) -> 341484 | O28: ="_x0007_`COD|E2_x0005_`QTY1|1_x0005_`EXI|0_x0005_`ITT|0_x0005_`END|"&ROW(M31)&"_x0005_`" -> _x0007_`COD|E2_x0005_`QTY1|1_x0005_`EXI|0_x0005_`ITT|0_x0005_`END|31_x0005_` | P28: E2_1 | Q28: E3_1
A29: 2.3.1 | B29: 큰돌쌓기 | F29: 0 | G29: =SUMIF(Q30:Q30,P29,G30:G30) -> 2626910 | H29: 0 | I29: =SUMIF(Q30:Q30,P29,I30:I30) -> 1990956 | J29: 0 | K29: =SUMIF(Q30:Q30,P29,K30:K30) -> 294470 | L29: 0 | M29: =SUMIF(Q30:Q30,P29,M30:M30) -> 341484 | O29: ="_x0007_`COD|E1_x0005_`QTY1|1_x0005_`EXI|0_x0005_`ITT|0_x0005_`END|"&ROW(M31)&"_x0005_`" -> _x0007_`COD|E1_x0005_`QTY1|1_x0005_`EXI|0_x0005_`ITT|0_x0005_`END|31_x0005_` | P29: E1_1 | Q29: E2_1
A30: 2.3.1.1 | B30: 큰돌메쌓기(뒷길이0.6~0.75m) | C30: 구입(녹생토무) | D30: 22 | E30: M2 | F30: =J30+H30+L30 -> 119405 | G30: =K30+I30+M30 -> 2626910 | H30: =IF(D30=0,0,일위대가목록표!F4) -> 90498 | I30: =ROUNDDOWN(H30*D30,0) -> 1990956 | J30: =IF(D30=0,0,일위대가목록표!G4) -> 13385 | K30: =ROUNDDOWN(J30*D30,0) -> 294470 | L30: =IF(D30=0,0,일위대가목록표!H4) -> 15522 | M30: =ROUNDDOWN(L30*D30,0) -> 341484 | N30: B00229 | O30: _x0007_`COD|B00229_x0005_`QTY1|1_x0005_`EXI|0_x0005_`IPR|0_x0005_`BLA|F_x0005_` | P30: B00229_1 | Q30: E1_1 | AC30: =HYPERLINK("#"&일위대가목록표!J2&"!A"&ROW(일위대가목록표!A4),"B00229 →") -> B00229 →
F31: 0 | O31: _x0007_`COD|_x0005_`QTY1|1_x0005_`EXI|1_x0005_`ITT|0_x0005_` | P31: CMT_1 | Q31: E4_1
A32: 3 | B32: 운반 및 기타부대공 | F32: 0 | G32: =SUMIF(Q33:Q35,P32,G33:G35) -> 2127340 | H32: 0 | I32: =SUMIF(Q33:Q35,P32,I33:I35) -> 0 | J32: 0 | K32: =SUMIF(Q33:Q35,P32,K33:K35) -> 0 | L32: 0 | M32: =SUMIF(Q33:Q35,P32,M33:M35) -> 2127340 | O32: ="_x0007_`COD|E3_x0005_`QTY1|1_x0005_`EXI|0_x0005_`ITT|0_x0005_`END|"&ROW(M36)&"_x0005_`" -> _x0007_`COD|E3_x0005_`QTY1|1_x0005_`EXI|0_x0005_`ITT|0_x0005_`END|36_x0005_` | P32: E3_1 | Q32: E4_1
A33: 3.1 | B33: 운반공 | F33: 0 | G33: =SUMIF(Q34:Q35,P33,G34:G35) -> 2127340 | H33: 0 | I33: =SUMIF(Q34:Q35,P33,I34:I35) -> 0 | J33: 0 | K33: =SUMIF(Q34:Q35,P33,K34:K35) -> 0 | L33: 0 | M33: =SUMIF(Q34:Q35,P33,M34:M35) -> 2127340 | O33: ="_x0007_`COD|E2_x0005_`QTY1|1_x0005_`EXI|0_x0005_`ITT|0_x0005_`END|"&ROW(M36)&"_x0005_`" -> _x0007_`COD|E2_x0005_`QTY1|1_x0005_`EXI|0_x0005_`ITT|0_x0005_`END|36_x0005_` | P33: E2_1 | Q33: E3_1
A34: 3.1.1 | B34: 중기운반 | D34: 2 | E34: 회 | F34: =J34+H34+L34 -> 485624 | G34: =K34+I34+M34 -> 971248 | H34: =IF(D34=0,0,단가산출근거목록표!F16) -> 0 | I34: =ROUNDDOWN(H34*D34,0) -> 0 | J34: =IF(D34=0,0,단가산출근거목록표!G16) -> 0 | K34: =ROUNDDOWN(J34*D34,0) -> 0 | L34: =IF(D34=0,0,단가산출근거목록표!H16) -> 485624 | M34: =ROUNDDOWN(L34*D34,0) -> 971248 | N34: D02221 | O34: _x0007_`COD|D02221_x0005_`QTY1|1_x0005_`EXI|0_x0005_`IPR|0_x0005_`BLA|F_x0005_` | P34: D02221_1 | Q34: E2_1 | AC34: =HYPERLINK("#"&단가산출근거목록표!J2&"!A"&ROW(단가산출근거목록표!A16),"D02221 →") -> D02221 →
A35: 3.1.2 | B35: 큰돌(0.4~0.6m)운반 | C35: B/H07㎥ + D/T15Ton | D35: 12 | E35: M3 | F35: =J35+H35+L35 -> 96341 | G35: =K35+I35+M35 -> 1156092 | H35: =IF(D35=0,0,단가산출근거목록표!F17) -> 0 | I35: =ROUNDDOWN(H35*D35,0) -> 0 | J35: =IF(D35=0,0,단가산출근거목록표!G17) -> 0 | K35: =ROUNDDOWN(J35*D35,0) -> 0 | L35: =IF(D35=0,0,단가산출근거목록표!H17) -> 96341 | M35: =ROUNDDOWN(L35*D35,0) -> 1156092 | N35: D02227 | O35: _x0007_`COD|D02227_x0005_`QTY1|1_x0005_`EXI|0_x0005_`IPR|0_x0005_`BLA|F_x0005_` | P35: D02227_1 | Q35: E2_1 | AC35: =HYPERLINK("#"&단가산출근거목록표!J2&"!A"&ROW(단가산출근거목록표!A17),"D02227 →") -> D02227 →
F36: 0 | O36: _x0007_`COD|_x0005_`QTY1|1_x0005_`EXI|1_x0005_`ITT|0_x0005_` | P36: CMT_1 | Q36: E4_1
A37: 4 | B37: 사급자재대 | F37: 0 | G37: =SUMIF(Q38:Q38,P37,G38:G38) -> 620000 | H37: 0 | I37: =SUMIF(Q38:Q38,P37,I38:I38) -> 0 | J37: 0 | K37: =SUMIF(Q38:Q38,P37,K38:K38) -> 620000 | L37: 0 | M37: =SUMIF(Q38:Q38,P37,M38:M38) -> 0 | O37: ="_x0007_`COD|E3_x0005_`QTY1|1_x0005_`EXI|0_x0005_`ITT|0_x0005_`END|"&ROW(M39)&"_x0005_`" -> _x0007_`COD|E3_x0005_`QTY1|1_x0005_`EXI|0_x0005_`ITT|0_x0005_`END|39_x0005_` | P37: E3_1 | Q37: E4_1
A38: 4.1 | B38: 큰돌(삼척) | C38: 직경 0.4~0.6m | D38: 31 | E38: Ton | F38: =J38+H38+L38 -> 20000 | G38: =K38+I38+M38 -> 620000 | H38: 0 | I38: =ROUNDDOWN(H38*D38,0) -> 0 | J38: =IF(D38=0,0,재료비목록표!E6) -> 20000 | K38: =ROUNDDOWN(J38*D38,0) -> 620000 | L38: 0 | M38: =ROUNDDOWN(L38*D38,0) -> 0 | N38: M00969 | O38: _x0007_`COD|M00969_x0005_`QTY1|1_x0005_`EXI|0_x0005_`IPR|0_x0005_`KWN|0_x0005_`BLA|F_x0005_` | P38: M00969_1 | Q38: E3_1 | AC38: =HYPERLINK("#"&재료비목록표!G2&"!A"&ROW(재료비목록표!A6),"M00969 →") -> M00969 →
F39: 0 | O39: _x0007_`COD|_x0005_`QTY1|1_x0005_`EXI|1_x0005_`ITT|0_x0005_` | P39: CMT_1 | Q39: E4_1
A40: 5 | B40: 관급자재대 | F40: 0 | G40: =SUMIF(Q41:Q44,P40,G41:G44) -> 1576507 | H40: 0 | I40: =SUMIF(Q41:Q44,P40,I41:I44) -> 0 | J40: 0 | K40: =SUMIF(Q41:Q44,P40,K41:K44) -> 1576507 | L40: 0 | M40: =SUMIF(Q41:Q44,P40,M41:M44) -> 0 | N40: (제외금액) | O40: ="_x0007_`COD|C3_x0005_`QTY1|1_x0005_`EXI|1_x0005_`ITT|0_x0005_`END|"&ROW(M45)&"_x0005_`" -> _x0007_`COD|C3_x0005_`QTY1|1_x0005_`EXI|1_x0005_`ITT|0_x0005_`END|45_x0005_` | P40: C3_1
...

Sheet 일위대가목록표
A1: 일위대가 목록표 | J1: STmate | K1: STmate
A2: 공사명 : 2026년 임도재해예방사업(오목) | J2: =MID(CELL("filename",$A$1),FIND("]",CELL("filename",$A$1))+1,LEN(CELL("filename",$A$1))) -> 일위대가목록표
A3: 코드번호 | B3: 명 칭 | C3: 규 격 | D3: 단위 | E3: 합 계 | F3: 노 무 비 | G3: 재 료 비 | H3: 경 비 | I3: 비 고 | K3: =HYPERLINK("#'〓 목 차 〓'!B2","목차 →") -> 목차 →
A4: B00229 | B4: 큰돌메쌓기(뒷길이0.6~0.75m) | C4: 구입(녹생토무) | D4: M2 | E4: =일위대가표!F11 -> 119405 | F4: =일위대가표!H11 -> 90498 | G4: =일위대가표!J11 -> 13385 | H4: =일위대가표!L11 -> 15522 | J4: ="_x0007_`COD|B00229_x0005_`QTY1|1_x0005_`BQC|_x0005_`EQC|_x0005_`JDC|_x0005_`WQC|_x0005_`EDT|_x0005_`ADJ|F_x0005_`DET|"&ROW(일위대가표!A5)&"_x0005_`" -> _x0007_`COD|B00229_x0005_`QTY1|1_x0005_`BQC|_x0005_`EQC|_x0005_`JDC|_x0005_`WQC|_x0005_`EDT|_x0005_`ADJ|F_x0005_`DET|5_x0005_` | K4: =HYPERLINK("#"&일위대가표!N2&"!A"&ROW(일위대가표!A5),"B00229 →") -> B00229 →

Sheet 일위대가표
A1: 일 위 대 가 표 | N1: STmate | Z1: STmate
A2: 공사명 : 2026년 임도재해예방사업(오목) | N2: =MID(CELL("filename",$A$1),FIND("]",CELL("filename",$A$1))+1,LEN(CELL("filename",$A$1))) -> 일위대가표
A3: 명 칭 | B3: 규 격 | C3: 수 량 | D3: 단위 | E3: 합 계 | G3: 노 무 비 | I3: 재 료 비 | K3: 경 비 | M3: 비 고
E4: 단 가 | F4: 금 액 | G4: 단 가 | H4: 금 액 | I4: 단 가 | J4: 금 액 | K4: 단 가 | L4: 금 액 | Z4: =HYPERLINK("#'〓 목 차 〓'!B2","목차 →") -> 목차 →
A5: 제 1 호표 | N5: =HYPERLINK("#N"&ROW(N10),"_x0005_`BDCOD|B00229_x0007_`POSS|"&ROW(N7)&"_x0007_`POSE|"&ROW(N10)&"_x0007_`") -> _x0005_`BDCOD|B00229_x0007_`POSS|7_x0007_`POSE|10_x0007_`
A6: 큰돌메쌓기(뒷길이0.6~0.75m) | B6: 구입(녹생토무) | D6: M2 | M6: B00229 | O6: B00229
A7: 큰돌(별도계상) | B7: 직경 0.4~0.6m | C7: 1 | D7: M2 | E7: =I7+G7+K7 -> 0 | F7: =J7+H7+L7 -> 0 | G7: 0 | H7: =IF(C7=0,0,ROUNDDOWN(G7*C7,1)+W7) -> 0 | I7: =재료비목록표!E9 -> 0 | J7: =IF(C7=0,0,ROUNDDOWN(I7*C7,1)+X7) -> 0 | K7: 0 | L7: =IF(C7=0,0,ROUNDDOWN(K7*C7,1)+Y7) -> 0 | M7: 별산M01082 | N7: _x0007_`COD|M01082_x0005_`EXI|0_x0005_`DVD|F_x0005_`BMK| _x0005_`IPR|0_x0005_`KWN|0_x0005_`BLA|F_x0005_` | O7: M01082_1 | P7: T7_1 | S7: =ROUND(ROUNDDOWN(G7*C7,3)-ROUNDDOWN(G7*C7,1),3) -> 0 | T7: =ROUND(ROUNDDOWN(I7*C7,3)-ROUNDDOWN(I7*C7,1),3) -> 0 | U7: =ROUND(ROUNDDOWN(K7*C7,3)-ROUNDDOWN(K7*C7,1),3) -> 0 | V7: =ROUNDDOWN(ROUND(ROUNDDOWN(E7*C7,1)-(ROUNDDOWN(I7*C7,1)+ROUNDDOWN(G7*C7,1)+ROUNDDOWN(K7*C7,1)),3),1) -> 0 | W7: =IF(V7<0,-1,1)*IF(COUNTIF(R7:U7,IF(V7<0,"<",">")&S7)+IF(U7=S7,1,0)+IF(T7=S7,1,0)<ROUND(ABS(V7)/0.1,0),0.1,0) -> 0 | X7: =IF(V7<0,-1,1)*IF(COUNTIF(R7:U7,IF(V7<0,"<",">")&T7)+IF(U7=T7,1,0)<ROUND(ABS(V7)/0.1,0),0.1,0) -> 0 | Y7: =IF(V7<0,-1,1)*IF(COUNTIF(R7:U7,IF(V7<0,"<",">")&U7)<ROUND(ABS(V7)/0.1,0),0.1,0) -> 0 | Z7: =HYPERLINK("#"&재료비목록표!G2&"!A"&ROW(재료비목록표!A9),"M01082 →") -> M01082 →
A8: 뒷채움돌채집운반다짐 | B8: 4.5톤 덤프트럭(L=500m) | C8: 0.3 | D8: M3 | E8: =I8+G8+K8 -> 28727 | F8: =J8+H8+L8 -> 8618.1 | G8: =단가산출근거목록표!F15 -> 21327 | H8: =IF(C8=0,0,ROUNDDOWN(G8*C8,1)+W8) -> 6398.1 | I8: =단가산출근거목록표!G15 -> 3671 | J8: =IF(C8=0,0,ROUNDDOWN(I8*C8,1)+X8) -> 1101.3 | K8: =단가산출근거목록표!H15 -> 3729 | L8: =IF(C8=0,0,ROUNDDOWN(K8*C8,1)+Y8) -> 1118.7 | M8: D01500 | N8: _x0007_`COD|D01500_x0005_`EXI|0_x0005_`DVD|F_x0005_`BMK| _x0005_`IPR|0_x0005_`BLA|F_x0005_` | O8: D01500_1 | P8: T7_1 | S8: =ROUND(ROUNDDOWN(G8*C8,3)-ROUNDDOWN(G8*C8,1),3) -> 0 | T8: =ROUND(ROUNDDOWN(I8*C8,3)-ROUNDDOWN(I8*C8,1),3) -> 0 | U8: =ROUND(ROUNDDOWN(K8*C8,3)-ROUNDDOWN(K8*C8,1),3) -> 0 | V8: =ROUNDDOWN(ROUND(ROUNDDOWN(E8*C8,1)-(ROUNDDOWN(I8*C8,1)+ROUNDDOWN(G8*C8,1)+ROUNDDOWN(K8*C8,1)),3),1) -> 0 | W8: =IF(V8<0,-1,1)*IF(COUNTIF(R8:U8,IF(V8<0,"<",">")&S8)+IF(U8=S8,1,0)+IF(T8=S8,1,0)<ROUND(ABS(V8)/0.1,0),0.1,0) -> 0 | X8: =IF(V8<0,-1,1)*IF(COUNTIF(R8:U8,IF(V8<0,"<",">")&T8)+IF(U8=T8,1,0)<ROUND(ABS(V8)/0.1,0),0.1,0) -> 0 | Y8: =IF(V8<0,-1,1)*IF(COUNTIF(R8:U8,IF(V8<0,"<",">")&U8)<ROUND(ABS(V8)/0.1,0),0.1,0) -> 0 | Z8: =HYPERLINK("#"&단가산출근거목록표!J2&"!A"&ROW(단가산출근거목록표!A15),"D01500 →") -> D01500 →
A9: 고임돌채집운반 | B9: 4.5톤덤프(L=500) | C9: 0.16 | D9: M3 | E9: =I9+G9+K9 -> 18158 | F9: =J9+H9+L9 -> 2905.2 | G9: =단가산출근거목록표!F14 -> 13159 | H9: =IF(C9=0,0,ROUNDDOWN(G9*C9,1)+W9) -> 2105.4 | I9: =단가산출근거목록표!G14 -> 2539 | J9: =IF(C9=0,0,ROUNDDOWN(I9*C9,1)+X9) -> 406.2 | K9: =단가산출근거목록표!H14 -> 2460 | L9: =IF(C9=0,0,ROUNDDOWN(K9*C9,1)+Y9) -> 393.6 | M9: D01361 | N9: _x0007_`COD|D01361_x0005_`EXI|0_x0005_`DVD|F_x0005_`BMK| _x0005_`IPR|0_x0005_`BLA|F_x0005_` | O9: D01361_1 | P9: T7_1 | S9: =ROUND(ROUNDDOWN(G9*C9,3)-ROUNDDOWN(G9*C9,1),3) -> 0.04 | T9: =ROUND(ROUNDDOWN(I9*C9,3)-ROUNDDOWN(I9*C9,1),3) -> 0.04 | U9: =ROUND(ROUNDDOWN(K9*C9,3)-ROUNDDOWN(K9*C9,1),3) -> 0 | V9: =ROUNDDOWN(ROUND(ROUNDDOWN(E9*C9,1)-(ROUNDDOWN(I9*C9,1)+ROUNDDOWN(G9*C9,1)+ROUNDDOWN(K9*C9,1)),3),1) -> 0 | W9: =IF(V9<0,-1,1)*IF(COUNTIF(R9:U9,IF(V9<0,"<",">")&S9)+IF(U9=S9,1,0)+IF(T9=S9,1,0)<ROUND(ABS(V9)/0.1,0),0.1,0) -> 0 | X9: =IF(V9<0,-1,1)*IF(COUNTIF(R9:U9,IF(V9<0,"<",">")&T9)+IF(U9=T9,1,0)<ROUND(ABS(V9)/0.1,0),0.1,0) -> 0 | Y9: =IF(V9<0,-1,1)*IF(COUNTIF(R9:U9,IF(V9<0,"<",">")&U9)<ROUND(ABS(V9)/0.1,0),0.1,0) -> 0 | Z9: =HYPERLINK("#"&단가산출근거목록표!J2&"!A"&ROW(단가산출근거목록표!A14),"D01361 →") -> D01361 →
A10: 큰돌메쌓기 | B10: 직경 0.4~0.6m | C10: 1 | D10: M2 | E10: =I10+G10+K10 -> 107882 | F10: =J10+H10+L10 -> 107882 | G10: =단가산출근거목록표!F13 -> 81995 | H10: =IF(C10=0,0,ROUNDDOWN(G10*C10,1)+W10) -> 81995 | I10: =단가산출근거목록표!G13 -> 11877 | J10: =IF(C10=0,0,ROUNDDOWN(I10*C10,1)+X10) -> 11877 | K10: =단가산출근거목록표!H13 -> 14010 | L10: =IF(C10=0,0,ROUNDDOWN(K10*C10,1)+Y10) -> 14010 | M10: D00180 | N10: _x0007_`COD|D00180_x0005_`EXI|0_x0005_`DVD|F_x0005_`BMK| _x0005_`IPR|0_x0005_`BLA|F_x0005_` | O10: D00180_1 | P10: T7_1 | S10: =ROUND(ROUNDDOWN(G10*C10,3)-ROUNDDOWN(G10*C10,1),3) -> 0 | T10: =ROUND(ROUNDDOWN(I10*C10,3)-ROUNDDOWN(I10*C10,1),3) -> 0 | U10: =ROUND(ROUNDDOWN(K10*C10,3)-ROUNDDOWN(K10*C10,1),3) -> 0 | V10: =ROUNDDOWN(ROUND(ROUNDDOWN(E10*C10,1)-(ROUNDDOWN(I10*C10,1)+ROUNDDOWN(G10*C10,1)+ROUNDDOWN(K10*C10,1)),3),1) -> 0 | W10: =IF(V10<0,-1,1)*IF(COUNTIF(R10:U10,IF(V10<0,"<",">")&S10)+IF(U10=S10,1,0)+IF(T10=S10,1,0)<ROUND(ABS(V10)/0.1,0),0.1,0) -> 0 | X10: =IF(V10<0,-1,1)*IF(COUNTIF(R10:U10,IF(V10<0,"<",">")&T10)+IF(U10=T10,1,0)<ROUND(ABS(V10)/0.1,0),0.1,0) -> 0 | Y10: =IF(V10<0,-1,1)*IF(COUNTIF(R10:U10,IF(V10<0,"<",">")&U10)<ROUND(ABS(V10)/0.1,0),0.1,0) -> 0 | Z10: =HYPERLINK("#"&단가산출근거목록표!J2&"!A"&ROW(단가산출근거목록표!A13),"D00180 →") -> D00180 →
A11: 합 계 | E11: =I11+G11+K11 -> 119405.3 | F11: =J11+H11+L11 -> 119405 | G11: =SUMIF(P7:P10,O11,H7:H10) -> 90498.5 | H11: =ROUNDDOWN(SUMIF(P7:P10,O11,H7:H10)+W11,0) -> 90498 | I11: =SUMIF(P7:P10,O11,J7:J10) -> 13384.5 | J11: =ROUNDDOWN(SUMIF(P7:P10,O11,J7:J10)+X11,0) -> 13385 | K11: =SUMIF(P7:P10,O11,L7:L10) -> 15522.3 | L11: =ROUNDDOWN(SUMIF(P7:P10,O11,L7:L10)+Y11,0) -> 15522 | O11: T7_1 | S11: =ROUND(ROUNDDOWN(G11,2)-ROUNDDOWN(G11,0),2) -> 0.5 | T11: =ROUND(ROUNDDOWN(I11,2)-ROUNDDOWN(I11,0),2) -> 0.5 | U11: =ROUND(ROUNDDOWN(K11,2)-ROUNDDOWN(K11,0),2) -> 0.3 | V11: =ROUNDDOWN(ROUND(ROUNDDOWN(E11,0)-(ROUNDDOWN(I11,0)+ROUNDDOWN(G11,0)+ROUNDDOWN(K11,0)),2),0) -> 1 | W11: =IF(V11<0,-1,1)*IF(COUNTIF(R11:U11,IF(V11<0,"<",">")&S11)+IF(U11=S11,1,0)+IF(T11=S11,1,0)<ROUND(ABS(V11)/1,0),1,0) -> 0 | X11: =IF(V11<0,-1,1)*IF(COUNTIF(R11:U11,IF(V11<0,"<",">")&T11)+IF(U11=T11,1,0)<ROUND(ABS(V11)/1,0),1,0) -> 1 | Y11: =IF(V11<0,-1,1)*IF(COUNTIF(R11:U11,IF(V11<0,"<",">")&U11)<ROUND(ABS(V11)/1,0),1,0) -> 0

Sheet 일위대가수량금액집계표
A1: 일위대가 수량,금액 집계표 | K1: STmate | L1: STmate
A2: 공사명 : 2026년 임도재해예방사업(오목) | K2: =MID(CELL("filename",$A$1),FIND("]",CELL("filename",$A$1))+1,LEN(CELL("filename",$A$1))) -> 일위대가수량금액집계표
A3: 코드번호 | B3: 명 칭 | C3: 규 격 | D3: 수 량 | E3: 단위 | F3: 합 계 | G3: 노 무 비 | H3: 재 료 비 | I3: 경 비 | J3: 비 고 | L3: =HYPERLINK("#'〓 목 차 〓'!B2","목차 →") -> 목차 →
A4: B00229 | B4: 큰돌메쌓기(뒷길이0.6~0.75m) | C4: 구입(녹생토무) | D4: 22 | E4: M2 | F4: =H4+G4+I4 -> 2626910 | G4: =ROUND(D4*일위대가목록표!F4,0) -> 1990956 | H4: =ROUND(D4*일위대가목록표!G4,0) -> 294470 | I4: =ROUND(D4*일위대가목록표!H4,0) -> 341484 | L4: =HYPERLINK("#"&일위대가목록표!J2&"!A"&ROW(일위대가목록표!A4),"B00229 →") -> B00229 →

Sheet 단가산출근거목록표
A1: 단가산출근거 목록표 | J1: STmate | K1: STmate
A2: 공사명 : 2026년 임도재해예방사업(오목) | J2: =MID(CELL("filename",$A$1),FIND("]",CELL("filename",$A$1))+1,LEN(CELL("filename",$A$1))) -> 단가산출근거목록표
A3: 코드번호 | B3: 명 칭 | C3: 규 격 | D3: 단위 | E3: 합 계 | F3: 노 무 비 | G3: 재 료 비 | H3: 경 비 | I3: 비 고 | K3: =HYPERLINK("#'〓 목 차 〓'!B2","목차 →") -> 목차 →
A4: D00007 | B4: 구조물터파기 | C4: (혼합토사 TYPEⅢ) | D4: M3 | E4: =단가산출근거!C54 -> 5982 | F4: =단가산출근거!D54 -> 3147 | G4: =단가산출근거!E54 -> 1271 | H4: =단가산출근거!F54 -> 1564 | J4: ="_x0007_`COD|D00007_x0005_`QTY1|1_x0005_`BQC|_x0005_`EQC|_x0005_`JDC|_x0005_`WQC|_x0005_`EDT|_x0005_`ADJ|F_x0005_`DET|"&ROW(단가산출근거!A5)&"_x0005_`" -> _x0007_`COD|D00007_x0005_`QTY1|1_x0005_`BQC|_x0005_`EQC|_x0005_`JDC|_x0005_`WQC|_x0005_`EDT|_x0005_`ADJ|F_x0005_`DET|5_x0005_` | K4: =HYPERLINK("#"&단가산출근거!G2&"!A"&ROW(단가산출근거!A5),"D00007 →") -> D00007 →
A5: D00017 | B5: 구조물되메우기 다짐 | C5: (대형장비) | D5: M3 | E5: =단가산출근거!C154 -> 8894 | F5: =단가산출근거!D154 -> 5316 | G5: =단가산출근거!E154 -> 1903 | H5: =단가산출근거!F154 -> 1675 | I5: 산림 | J5: ="_x0007_`COD|D00017_x0005_`QTY1|1_x0005_`BQC|산림_x0005_`EQC|_x0005_`JDC|_x0005_`WQC|_x0005_`EDT|_x0005_`ADJ|F_x0005_`DET|"&ROW(단가산출근거!A55)&"_x0005_`" -> _x0007_`COD|D00017_x0005_`QTY1|1_x0005_`BQC|산림_x0005_`EQC|_x0005_`JDC|_x0005_`WQC|_x0005_`EDT|_x0005_`ADJ|F_x0005_`DET|55_x0005_` | K5: =HYPERLINK("#"&단가산출근거!G2&"!A"&ROW(단가산출근거!A55),"D00017 →") -> D00017 →
A6: D00019 | B6: 잔토처리 | C6: 토사(B/H 100%) | D6: M3 | E6: =단가산출근거!C204 -> 2034 | F6: =단가산출근거!D204 -> 1092 | G6: =단가산출근거!E204 -> 441 | H6: =단가산출근거!F204 -> 501 | J6: ="_x0007_`COD|D00019_x0005_`QTY1|1_x0005_`BQC|_x0005_`EQC|_x0005_`JDC|_x0005_`WQC|_x0005_`EDT|_x0005_`ADJ|F_x0005_`DET|"&ROW(단가산출근거!A155)&"_x0005_`" -> _x0007_`COD|D00019_x0005_`QTY1|1_x0005_`BQC|_x0005_`EQC|_x0005_`JDC|_x0005_`WQC|_x0005_`EDT|_x0005_`ADJ|F_x0005_`DET|155_x0005_` | K6: =HYPERLINK("#"&단가산출근거!G2&"!A"&ROW(단가산출근거!A155),"D00019 →") -> D00019 →
A7: D00022 | B7: 흙깍기 | C7: 보통토사(소규모) | D7: M3 | E7: =단가산출근거!C254 -> 3304 | F7: =단가산출근거!D254 -> 1523 | G7: =단가산출근거!E254 -> 1017 | H7: =단가산출근거!F254 -> 764 | J7: ="_x0007_`COD|D00022_x0005_`QTY1|1_x0005_`BQC|_x0005_`EQC|_x0005_`JDC|_x0005_`WQC|_x0005_`EDT|_x0005_`ADJ|F_x0005_`DET|"&ROW(단가산출근거!A205)&"_x0005_`" -> _x0007_`COD|D00022_x0005_`QTY1|1_x0005_`BQC|_x0005_`EQC|_x0005_`JDC|_x0005_`WQC|_x0005_`EDT|_x0005_`ADJ|F_x0005_`DET|205_x0005_` | K7: =HYPERLINK("#"&단가산출근거!G2&"!A"&ROW(단가산출근거!A205),"D00022 →") -> D00022 →
A8: D00035 | B8: 흙깍기(풍화암) | C8: 굴착기(1.0㎥) + 대형브레이카(1.0㎥) | D8: M3 | E8: =단가산출근거!C354 -> 22871 | F8: =단가산출근거!D354 -> 9182 | G8: =단가산출근거!E354 -> 5895 | H8: =단가산출근거!F354 -> 7794 | J8: ="_x0007_`COD|D00035_x0005_`QTY1|1_x0005_`BQC|_x0005_`EQC|_x0005_`JDC|_x0005_`WQC|_x0005_`EDT|_x0005_`ADJ|F_x0005_`DET|"&ROW(단가산출근거!A255)&"_x0005_`" -> _x0007_`COD|D00035_x0005_`QTY1|1_x0005_`BQC|_x0005_`EQC|_x0005_`JDC|_x0005_`WQC|_x0005_`EDT|_x0005_`ADJ|F_x0005_`DET|255_x0005_` | K8: =HYPERLINK("#"&단가산출근거!G2&"!A"&ROW(단가산출근거!A255),"D00035 →") -> D00035 →
A9: D00055 | B9: 측구터파기(보통토사) | C9: (기계100%) | D9: M3 | E9: =단가산출근거!C404 -> 6519 | F9: =단가산출근거!D404 -> 3499 | G9: =단가산출근거!E404 -> 1413 | H9: =단가산출근거!F404 -> 1607 | J9: ="_x0007_`COD|D00055_x0005_`QTY1|1_x0005_`BQC|_x0005_`EQC|_x0005_`JDC|_x0005_`WQC|_x0005_`EDT|_x0005_`ADJ|F_x0005_`DET|"&ROW(단가산출근거!A355)&"_x0005_`" -> _x0007_`COD|D00055_x0005_`QTY1|1_x0005_`BQC|_x0005_`EQC|_x0005_`JDC|_x0005_`WQC|_x0005_`EDT|_x0005_`ADJ|F_x0005_`DET|355_x0005_` | K9: =HYPERLINK("#"&단가산출근거!G2&"!A"&ROW(단가산출근거!A355),"D00055 →") -> D00055 →
A10: D00057 | B10: 측구터파기(풍화암) | C10: 굴착기(1.0㎥) + 대형브레이카(1.0㎥) | D10: M3 | E10: =단가산출근거!C504 -> 38881 | F10: =단가산출근거!D504 -> 15398 | G10: =단가산출근거!E504 -> 9842 | H10: =단가산출근거!F504 -> 13641 | J10: ="_x0007_`COD|D00057_x0005_`QTY1|1_x0005_`BQC|_x0005_`EQC|_x0005_`JDC|_x0005_`WQC|_x0005_`EDT|_x0005_`ADJ|F_x0005_`DET|"&ROW(단가산출근거!A405)&"_x0005_`" -> _x0007_`COD|D00057_x0005_`QTY1|1_x0005_`BQC|_x0005_`EQC|_x0005_`JDC|_x0005_`WQC|_x0005_`EDT|_x0005_`ADJ|F_x0005_`DET|405_x0005_` | K10: =HYPERLINK("#"&단가산출근거!G2&"!A"&ROW(단가산출근거!A405),"D00057 →") -> D00057 →
A11: D00099 | B11: 잡관목제거 | C11: 벌목(5m미만) | D11: M2 | E11: =단가산출근거!C604 -> 926 | F11: =단가산출근거!D604 -> 789 | G11: =단가산출근거!E604 -> 27 | H11: =단가산출근거!F604 -> 110 | J11: ="_x0007_`COD|D00099_x0005_`QTY1|1_x0005_`BQC|_x0005_`EQC|_x0005_`JDC|_x0005_`WQC|_x0005_`EDT|_x0005_`ADJ|F_x0005_`DET|"&ROW(단가산출근거!A505)&"_x0005_`" -> _x0007_`COD|D00099_x0005_`QTY1|1_x0005_`BQC|_x0005_`EQC|_x0005_`JDC|_x0005_`WQC|_x0005_`EDT|_x0005_`ADJ|F_x0005_`DET|505_x0005_` | K11: =HYPERLINK("#"&단가산출근거!G2&"!A"&ROW(단가산출근거!A505),"D00099 →") -> D00099 →
A12: D00174 | B12: 파형강관부설 | C12: Φ800mm | D12: M | E12: =단가산출근거!C704 -> 17064 | F12: =단가산출근거!D704 -> 15935 | G12: =단가산출근거!E704 -> 406 | H12: =단가산출근거!F704 -> 723 | J12: ="_x0007_`COD|D00174_x0005_`QTY1|1_x0005_`BQC|_x0005_`EQC|_x0005_`JDC|_x0005_`WQC|_x0005_`EDT|_x0005_`ADJ|F_x0005_`DET|"&ROW(단가산출근거!A605)&"_x0005_`" -> _x0007_`COD|D00174_x0005_`QTY1|1_x0005_`BQC|_x0005_`EQC|_x0005_`JDC|_x0005_`WQC|_x0005_`EDT|_x0005_`ADJ|F_x0005_`DET|605_x0005_` | K12: =HYPERLINK("#"&단가산출근거!G2&"!A"&ROW(단가산출근거!A605),"D00174 →") -> D00174 →
A13: D00180 | B13: 큰돌메쌓기 | C13: 직경 0.4~0.6m | D13: M2 | E13: =단가산출근거!C804 -> 107882 | F13: =단가산출근거!D804 -> 81995 | G13: =단가산출근거!E804 -> 11877 | H13: =단가산출근거!F804 -> 14010 | J13: ="_x0007_`COD|D00180_x0005_`QTY1|1_x0005_`BQC|_x0005_`EQC|_x0005_`JDC|_x0005_`WQC|_x0005_`EDT|_x0005_`ADJ|F_x0005_`DET|"&ROW(단가산출근거!A705)&"_x0005_`" -> _x0007_`COD|D00180_x0005_`QTY1|1_x0005_`BQC|_x0005_`EQC|_x0005_`JDC|_x0005_`WQC|_x0005_`EDT|_x0005_`ADJ|F_x0005_`DET|705_x0005_` | K13: =HYPERLINK("#"&단가산출근거!G2&"!A"&ROW(단가산출근거!A705),"D00180 →") -> D00180 →
A14: D01361 | B14: 고임돌채집운반 | C14: 4.5톤덤프(L=500) | D14: M3 | E14: =단가산출근거!C904 -> 18158 | F14: =단가산출근거!D904 -> 13159 | G14: =단가산출근거!E904 -> 2539 | H14: =단가산출근거!F904 -> 2460 | J14: ="_x0007_`COD|D01361_x0005_`QTY1|1_x0005_`BQC|_x0005_`EQC|_x0005_`JDC|_x0005_`WQC|_x0005_`EDT|_x0005_`ADJ|F_x0005_`DET|"&ROW(단가산출근거!A805)&"_x0005_`" -> _x0007_`COD|D01361_x0005_`QTY1|1_x0005_`BQC|_x0005_`EQC|_x0005_`JDC|_x0005_`WQC|_x0005_`EDT|_x0005_`ADJ|F_x0005_`DET|805_x0005_` | K14: =HYPERLINK("#"&단가산출근거!G2&"!A"&ROW(단가산출근거!A805),"D01361 →") -> D01361 →
A15: D01500 | B15: 뒷채움돌채집운반다짐 | C15: 4.5톤 덤프트럭(L=500m) | D15: M3 | E15: =단가산출근거!C1054 -> 28727 | F15: =단가산출근거!D1054 -> 21327 | G15: =단가산출근거!E1054 -> 3671 | H15: =단가산출근거!F1054 -> 3729 | J15: ="_x0007_`COD|D01500_x0005_`QTY1|1_x0005_`BQC|_x0005_`EQC|_x0005_`JDC|_x0005_`WQC|_x0005_`EDT|_x0005_`ADJ|F_x0005_`DET|"&ROW(단가산출근거!A905)&"_x0005_`" -> _x0007_`COD|D01500_x0005_`QTY1|1_x0005_`BQC|_x0005_`EQC|_x0005_`JDC|_x0005_`WQC|_x0005_`EDT|_x0005_`ADJ|F_x0005_`DET|905_x0005_` | K15: =HYPERLINK("#"&단가산출근거!G2&"!A"&ROW(단가산출근거!A905),"D01500 →") -> D01500 →
A16: D02221 | B16: 중기운반 | D16: 회 | E16: =단가산출근거!C1154 -> 485624 | F16: =단가산출근거!D1154 -> 0 | G16: =단가산출근거!E1154 -> 0 | H16: =단가산출근거!F1154 -> 485624 | J16: ="_x0007_`COD|D02221_x0005_`QTY1|1_x0005_`BQC|_x0005_`EQC|_x0005_`JDC|_x0005_`WQC|_x0005_`EDT|_x0005_`ADJ|T_x0005_`SBM|S_x0005_`ADJM|1_x0005_`ADJL|1_x0005_`ADJS|1_x0005_`DET|"&ROW(단가산출근거!A1055)&"_x0005_`" -> _x0007_`COD|D02221_x0005_`QTY1|1_x0005_`BQC|_x0005_`EQC|_x0005_`JDC|_x0005_`WQC|_x0005_`EDT|_x0005_`ADJ|T_x0005_`SBM|S_x0005_`ADJM|1_x0005_`ADJL|1_x0005_`ADJS|1_x0005_`DET|1055_x0005_` | K16: =HYPERLINK("#"&단가산출근거!G2&"!A"&ROW(단가산출근거!A1055),"D02221 →") -> D02221 →
A17: D02227 | B17: 큰돌(0.4~0.6m)운반 | C17: B/H07㎥ + D/T15Ton | D17: M3 | E17: =단가산출근거!C1254 -> 96341 | F17: =단가산출근거!D1254 -> 0 | G17: =단가산출근거!E1254 -> 0 | H17: =단가산출근거!F1254 -> 96341 | J17: ="_x0007_`COD|D02227_x0005_`QTY1|1_x0005_`BQC|_x0005_`EQC|_x0005_`JDC|_x0005_`WQC|_x0005_`EDT|_x0005_`ADJ|T_x0005_`SBM|S_x0005_`ADJM|1_x0005_`ADJL|1_x0005_`ADJS|1_x0005_`DET|"&ROW(단가산출근거!A1155)&"_x0005_`" -> _x0007_`COD|D02227_x0005_`QTY1|1_x0005_`BQC|_x0005_`EQC|_x0005_`JDC|_x0005_`WQC|_x0005_`EDT|_x0005_`ADJ|T_x0005_`SBM|S_x0005_`ADJM|1_x0005_`ADJL|1_x0005_`ADJS|1_x0005_`DET|1155_x0005_` | K17: =HYPERLINK("#"&단가산출근거!G2&"!A"&ROW(단가산출근거!A1155),"D02227 →") -> D02227 →
A18: D02244 | B18: 사질양토운반 | D18: M3 | E18: =단가산출근거!C1404 -> 12660 | F18: =단가산출근거!D1404 -> 7156 | G18: =단가산출근거!E1404 -> 3074 | H18: =단가산출근거!F1404 -> 2430 | J18: ="_x0007_`COD|D02244_x0005_`QTY1|1_x0005_`BQC|_x0005_`EQC|_x0005_`JDC|_x0005_`WQC|_x0005_`EDT|_x0005_`ADJ|F_x0005_`DET|"&ROW(단가산출근거!A1255)&"_x0005_`" -> _x0007_`COD|D02244_x0005_`QTY1|1_x0005_`BQC|_x0005_`EQC|_x0005_`JDC|_x0005_`WQC|_x0005_`EDT|_x0005_`ADJ|F_x0005_`DET|1255_x0005_` | K18: =HYPERLINK("#"&단가산출근거!G2&"!A"&ROW(단가산출근거!A1255),"D02244 →") -> D02244 →
A19: D02297 | B19: 사토운반 | C19: L=0.06Km | D19: M3 | E19: =단가산출근거!C1504 -> 1982 | F19: =단가산출근거!D1504 -> 1008 | G19: =단가산출근거!E1504 -> 621 | H19: =단가산출근거!F1504 -> 353 | J19: ="_x0007_`COD|D02297_x0005_`QTY1|1_x0005_`BQC|_x0005_`EQC|_x0005_`JDC|_x0005_`WQC|_x0005_`EDT|_x0005_`ADJ|F_x0005_`DET|"&ROW(단가산출근거!A1405)&"_x0005_`" -> _x0007_`COD|D02297_x0005_`QTY1|1_x0005_`BQC|_x0005_`EQC|_x0005_`JDC|_x0005_`WQC|_x0005_`EDT|_x0005_`ADJ|F_x0005_`DET|1405_x0005_` | K19: =HYPERLINK("#"&단가산출근거!G2&"!A"&ROW(단가산출근거!A1405),"D02297 →") -> D02297 →
A20: D02300 | B20: 절토사면고르기 | C20: 1.0 B/H | D20: M2 | E20: =단가산출근거!C1554 -> 4454 | F20: =단가산출근거!D1554 -> 2053 | G20: =단가산출근거!E1554 -> 1371 | H20: =단가산출근거!F1554 -> 1030 | J20: ="_x0007_`COD|D02300_x0005_`QTY1|1_x0005_`BQC|_x0005_`EQC|_x0005_`JDC|_x0005_`WQC|_x0005_`EDT|_x0005_`ADJ|F_x0005_`DET|"&ROW(단가산출근거!A1505)&"_x0005_`" -> _x0007_`COD|D02300_x0005_`QTY1|1_x0005_`BQC|_x0005_`EQC|_x0005_`JDC|_x0005_`WQC|_x0005_`EDT|_x0005_`ADJ|F_x0005_`DET|1505_x0005_` | K20: =HYPERLINK("#"&단가산출근거!G2&"!A"&ROW(단가산출근거!A1505),"D02300 →") -> D02300 →

Sheet 단가산출근거
A1: 단 가 산 출 근 거 | G1: STmate | Y1: STmate
A2: 공사명 : 2026년 임도재해예방사업(오목) | G2: =MID(CELL("filename",$A$1),FIND("]",CELL("filename",$A$1))+1,LEN(CELL("filename",$A$1))) -> 단가산출근거
A3: 공 종 | B3: 산 출 내 역 | C3: 합 계 | D3: 노 무 비 | E3: 재 료 비 | F3: 경 비 | Z3: 수량부분 값 수정은 아래의 연두색 부분에
H4: QTY | I4: T | J4: L | K4: M | L4: S | Y4: =HYPERLINK("#'〓 목 차 〓'!B2","목차 →") -> 목차 →
B5: D00007 | C5: =C54 -> 5982 | D5: =D54 -> 3147 | E5: =E54 -> 1271 | F5: =F54 -> 1564 | G5: =HYPERLINK("#G"&ROW(G40),"_x0005_`BDCOD|D00007_x0007_`POSS|"&ROW(G7)&"_x0007_`POSE|"&ROW(G40)&"_x0007_`") -> _x0005_`BDCOD|D00007_x0007_`POSS|7_x0007_`POSE|40_x0007_`
B6: 구조물터파기 (혼합토사 TYPEⅢ) / M3 | M6: D00007
G7: _x0007_
G8: _x0007_
G9: _x0007_
B10: 구조물 터파기 | G10: _x0007_'구조물 터파기 '
G11: _x0007_
G12: _x0007_
B13: 1. 기계경비 (굴착기 06m3) <공통품셈 3-2-4> | G13: _x0007_'1. 기계경비 (굴착기 06m3) <공통품셈 3-2-4>'
G14: _x0007_
G15: _x0007_
B16: =" Q = "&Z16&" ㎥/일 /"&AB16&" hr/일 = "&AD16&" ㎥/hr " -> Q = 150 ㎥/일 /8 hr/일 = 18.75 ㎥/hr | G16: _x0007_ Q = 150'㎥/일'/8'hr/일' = '㎥/hr' | Z16: 150 | AA16: / | AB16: 8 | AC16: = | AD16: =TEXT(ROUND(Z16/AB16,2),"#,0.00") -> 18.75
G17: _x0007_
G18: _x0007_
A19: X00212L | B19: =" 노 무 비 : "&TEXT(I19,"#,##0"&IF(I19<>INT(I19),".###",""))&" / Q = "&TEXT(C19,"#,##0.0")&"" -> 노 무 비 : 59,020 / Q = 3,147.7 | C19: =E19+D19+F19 -> 3147.7 | D19: =IF(H19=0,0,ROUNDDOWN(J19*H19,1)+U19) -> 3147.7 | E19: =IF(H19=0,0,ROUNDDOWN(K19*H19,1)+V19) -> 0 | F19: =IF(H19=0,0,ROUNDDOWN(L19*H19,1)+W19) -> 0 | G19: _x0007_'노 무 비 :'&X00212L& / Q :=A01 | H19: =ROUNDUP(AC19,14-LEN(ABS(INT(AC19)))) -> 0.053333333 | I19: =K19+J19+L19 -> 59020 | J19: =중기목록표!F7 -> 59020 | M19: X00212_1 | N19: T1_1 | O19: 1_01 | Q19: =ROUND(ROUNDDOWN(J19*H19,3)-ROUNDDOWN(J19*H19,1),3) -> 0.033 | R19: =ROUND(ROUNDDOWN(K19*H19,3)-ROUNDDOWN(K19*H19,1),3) -> 0 | S19: =ROUND(ROUNDDOWN(L19*H19,3)-ROUNDDOWN(L19*H19,1),3) -> 0 | T19: =ROUNDDOWN(ROUND(ROUNDDOWN(I19*H19,1)-(ROUNDDOWN(K19*H19,1)+ROUNDDOWN(J19*H19,1)+ROUNDDOWN(L19*H19,1)),3),1) -> 0 | U19: =IF(T19<0,-1,1)*IF(COUNTIF(P19:S19,IF(T19<0,"<",">")&Q19)+IF(S19=Q19,1,0)+IF(R19=Q19,1,0)<ROUND(ABS(T19)/0.1,0),0.1,0) -> 0 | V19: =IF(T19<0,-1,1)*IF(COUNTIF(P19:S19,IF(T19<0,"<",">")&R19)+IF(S19=R19,1,0)<ROUND(ABS(T19)/0.1,0),0.1,0) -> 0 | W19: =IF(T19<0,-1,1)*IF(COUNTIF(P19:S19,IF(T19<0,"<",">")&S19)<ROUND(ABS(T19)/0.1,0),0.1,0) -> 0 | X19: =중기목록표!B7&" / "&중기목록표!C7 -> 굴착기(타이어) / 0.6㎥ | Y19: =HYPERLINK("#"&중기목록표!J2&"!A"&ROW(중기목록표!A7),"X00212 →") -> X00212 → | Z19: 1/ | AA19: =AD16 -> 18.75 | AB19: = | AC19: =1/AD16 -> 0.053333333
G20: _x0007_
G21: _x0007_
A22: X00212M | B22: =" 재 료 비 : "&TEXT(I22,"#,##0"&IF(I22<>INT(I22),".###",""))&" / Q = "&TEXT(C22,"#,##0.0")&"" -> 재 료 비 : 23,834 / Q = 1,271.1 | C22: =E22+D22+F22 -> 1271.1 | D22: =IF(H22=0,0,ROUNDDOWN(J22*H22,1)+U22) -> 0 | E22: =IF(H22=0,0,ROUNDDOWN(K22*H22,1)+V22) -> 1271.1 | F22: =IF(H22=0,0,ROUNDDOWN(L22*H22,1)+W22) -> 0 | G22: _x0007_'재 료 비 :'&X00212M& / Q :=A01 | H22: =ROUNDUP(AC22,14-LEN(ABS(INT(AC22)))) -> 0.053333333 | I22: =K22+J22+L22 -> 23834 | K22: =중기목록표!G7 -> 23834 | M22: X00212_1 | N22: T1_1 | O22: 1_01 | Q22: =ROUND(ROUNDDOWN(J22*H22,3)-ROUNDDOWN(J22*H22,1),3) -> 0 | R22: =ROUND(ROUNDDOWN(K22*H22,3)-ROUNDDOWN(K22*H22,1),3) -> 0.046 | S22: =ROUND(ROUNDDOWN(L22*H22,3)-ROUNDDOWN(L22*H22,1),3) -> 0 | T22: =ROUNDDOWN(ROUND(ROUNDDOWN(I22*H22,1)-(ROUNDDOWN(K22*H22,1)+ROUNDDOWN(J22*H22,1)+ROUNDDOWN(L22*H22,1)),3),1) -> 0 | U22: =IF(T22<0,-1,1)*IF(COUNTIF(P22:S22,IF(T22<0,"<",">")&Q22)+IF(S22=Q22,1,0)+IF(R22=Q22,1,0)<ROUND(ABS(T22)/0.1,0),0.1,0) -> 0 | V22: =IF(T22<0,-1,1)*IF(COUNTIF(P22:S22,IF(T22<0,"<",">")&R22)+IF(S22=R22,1,0)<ROUND(ABS(T22)/0.1,0),0.1,0) -> 0 | W22: =IF(T22<0,-1,1)*IF(COUNTIF(P22:S22,IF(T22<0,"<",">")&S22)<ROUND(ABS(T22)/0.1,0),0.1,0) -> 0 | X22: =중기목록표!B7&" / "&중기목록표!C7 -> 굴착기(타이어) / 0.6㎥ | Y22: =HYPERLINK("#"&중기목록표!J2&"!A"&ROW(중기목록표!A7),"X00212 →") -> X00212 → | Z22: 1/ | AA22: =AD16 -> 18.75 | AB22: = | AC22: =1/AD16 -> 0.053333333
G23: _x0007_
G24: _x0007_
A25: X00212S | B25: =" 경 비 : "&TEXT(I25,"#,##0"&IF(I25<>INT(I25),".###",""))&" / Q = "&TEXT(C25,"#,##0.0")&"" -> 경 비 : 27,120 / Q = 1,446.4 | C25: =E25+D25+F25 -> 1446.4 | D25: =IF(H25=0,0,ROUNDDOWN(J25*H25,1)+U25) -> 0 | E25: =IF(H25=0,0,ROUNDDOWN(K25*H25,1)+V25) -> 0 | F25: =IF(H25=0,0,ROUNDDOWN(L25*H25,1)+W25) -> 1446.4 | G25: _x0007_'경 비 :'&X00212S& / Q :=A01 | H25: =ROUNDUP(AC25,14-LEN(ABS(INT(AC25)))) -> 0.053333333 | I25: =K25+J25+L25 -> 27120 | L25: =중기목록표!H7 -> 27120 | M25: X00212_1 | N25: T1_1 | O25: 1_01 | Q25: =ROUND(ROUNDDOWN(J25*H25,3)-ROUNDDOWN(J25*H25,1),3) -> 0 | R25: =ROUND(ROUNDDOWN(K25*H25,3)-ROUNDDOWN(K25*H25,1),3) -> 0 | S25: =ROUND(ROUNDDOWN(L25*H25,3)-ROUNDDOWN(L25*H25,1),3) -> 0 | T25: =ROUNDDOWN(ROUND(ROUNDDOWN(I25*H25,1)-(ROUNDDOWN(K25*H25,1)+ROUNDDOWN(J25*H25,1)+ROUNDDOWN(L25*H25,1)),3),1) -> 0 | U25: =IF(T25<0,-1,1)*IF(COUNTIF(P25:S25,IF(T25<0,"<",">")&Q25)+IF(S25=Q25,1,0)+IF(R25=Q25,1,0)<ROUND(ABS(T25)/0.1,0),0.1,0) -> 0 | V25: =IF(T25<0,-1,1)*IF(COUNTIF(P25:S25,IF(T25<0,"<",">")&R25)+IF(S25=R25,1,0)<ROUND(ABS(T25)/0.1,0),0.1,0) -> 0 | W25: =IF(T25<0,-1,1)*IF(COUNTIF(P25:S25,IF(T25<0,"<",">")&S25)<ROUND(ABS(T25)/0.1,0),0.1,0) -> 0 | X25: =중기목록표!B7&" / "&중기목록표!C7 -> 굴착기(타이어) / 0.6㎥ | Y25: =HYPERLINK("#"&중기목록표!J2&"!A"&ROW(중기목록표!A7),"X00212 →") -> X00212 → | Z25: 1/ | AA25: =AD16 -> 18.75 | AB25: = | AC25: =1/AD16 -> 0.053333333
G26: _x0007_
G27: _x0007_
B28: 소계 | C28: =E28+D28+F28 -> 5865.2 | D28: =SUMIF(N7:N27,M28,D7:D27) -> 3147.7 | E28: =SUMIF(N7:N27,M28,E7:E27) -> 1271.1 | F28: =SUMIF(N7:N27,M28,F7:F27) -> 1446.4 | G28: _x0007_(=) | M28: T1_1 | N28: T2_1
G29: _x0007_
G30: _x0007_
B31: 2. 리퍼경비(기계경비의 2%) | G31: _x0007_'2. 리퍼경비(기계경비의 2%)'
G32: _x0007_
G33: _x0007_
B34: =" 기계경비 : "&TEXT(I34,"#,##0.0")&" * "&AA34&" % = "&TEXT(C34,"#,##0.0")&"" -> 기계경비 : 5,865.2 * 2 % = 117.3 | C34: =E34+D34+F34 -> 117.3 | D34: =IF(H34=0,0,ROUNDDOWN(J34*H34/100,1)+U34) -> 0 | E34: =IF(H34=0,0,ROUNDDOWN(K34*H34/100,1)+V34) -> 0 | F34: =IF(H34=0,0,ROUNDDOWN(L34*H34/100,1)+W34) -> 117.3 | G34: _x0007_'기계경비 :' &PA01:S& * 2'%' = | H34: =ROUNDUP(AC34,14-LEN(ABS(INT(AC34)))) -> 2 | I34: =K34+J34+L34 -> 5865.2 | J34: 0 | K34: 0 | L34: =C19+C22+C25 -> 5865.2 | M34: PR_1 | N34: T1_1 | Q34: =ROUND(ROUNDDOWN(J34*H34/100,3)-ROUNDDOWN(J34*H34/100,1),3) -> 0 | R34: =ROUND(ROUNDDOWN(K34*H34/100,3)-ROUNDDOWN(K34*H34/100,1),3) -> 0 | S34: =ROUND(ROUNDDOWN(L34*H34/100,3)-ROUNDDOWN(L34*H34/100,1),3) -> 0.004 | T34: =ROUNDDOWN(ROUND(ROUNDDOWN(I34*H34/100,1)-(ROUNDDOWN(K34*H34/100,1)+ROUNDDOWN(J34*H34/100,1)+ROUNDDOWN(L34*H34/100,1)),3),1) -> 0 | U34: =IF(T34<0,-1,1)*IF(COUNTIF(P34:S34,IF(T34<0,"<",">")&Q34)+IF(S34=Q34,1,0)+IF(R34=Q34,1,0)<ROUND(ABS(T34)/0.1,0),0.1,0) -> 0 | V34: =IF(T34<0,-1,1)*IF(COUNTIF(P34:S34,IF(T34<0,"<",">")&R34)+IF(S34=R34,1,0)<ROUND(ABS(T34)/0.1,0),0.1,0) -> 0 | W34: =IF(T34<0,-1,1)*IF(COUNTIF(P34:S34,IF(T34<0,"<",">")&S34)<ROUND(ABS(T34)/0.1,0),0.1,0) -> 0 | Z34: 1* | AA34: 2 | AB34: = | AC34: =1*AA34 -> 2
G35: _x0007_
G36: _x0007_
B37: 소계 | C37: =E37+D37+F37 -> 117.3 | D37: =SUMIF(N29:N36,M37,D29:D36) -> 0 | E37: =SUMIF(N29:N36,M37,E29:E36) -> 0 | F37: =SUMIF(N29:N36,M37,F29:F36) -> 117.3 | G37: _x0007_(=) | M37: T1_1 | N37: T2_1
G38: _x0007_
G39: _x0007_
B40: 계 | C40: =E40+D40+F40 -> 5982.5 | D40: =SUMIF(N7:N39,M40,D7:D39) -> 3147.7 | E40: =SUMIF(N7:N39,M40,E7:E39) -> 1271.1 | F40: =SUMIF(N7:N39,M40,F7:F39) -> 1563.7 | G40: _x0007_(==) | M40: T2_1 | N40: T7_1
...

Sheet 단가산출근거수량금액집계표
A1: 단가산출근거 수량,금액 집계표 | K1: STmate | L1: STmate
A2: 공사명 : 2026년 임도재해예방사업(오목) | K2: =MID(CELL("filename",$A$1),FIND("]",CELL("filename",$A$1))+1,LEN(CELL("filename",$A$1))) -> 단가산출근거수량금액집계표
A3: 코드번호 | B3: 명 칭 | C3: 규 격 | D3: 수 량 | E3: 단위 | F3: 합 계 | G3: 노 무 비 | H3: 재 료 비 | I3: 경 비 | J3: 비 고 | L3: =HYPERLINK("#'〓 목 차 〓'!B2","목차 →") -> 목차 →
A4: D00007 | B4: 구조물터파기 | C4: (혼합토사 TYPEⅢ) | D4: 57 | E4: M3 | F4: =H4+G4+I4 -> 340974 | G4: =ROUND(D4*단가산출근거목록표!F4,0) -> 179379 | H4: =ROUND(D4*단가산출근거목록표!G4,0) -> 72447 | I4: =ROUND(D4*단가산출근거목록표!H4,0) -> 89148 | L4: =HYPERLINK("#"&단가산출근거목록표!J2&"!A"&ROW(단가산출근거목록표!A4),"D00007 →") -> D00007 →
A5: D00017 | B5: 구조물되메우기 다짐 | C5: (대형장비) | D5: 17 | E5: M3 | F5: =H5+G5+I5 -> 151198 | G5: =ROUND(D5*단가산출근거목록표!F5,0) -> 90372 | H5: =ROUND(D5*단가산출근거목록표!G5,0) -> 32351 | I5: =ROUND(D5*단가산출근거목록표!H5,0) -> 28475 | J5: 산림 | L5: =HYPERLINK("#"&단가산출근거목록표!J2&"!A"&ROW(단가산출근거목록표!A5),"D00017 →") -> D00017 →
A6: D00019 | B6: 잔토처리 | C6: 토사(B/H 100%) | D6: 17 | E6: M3 | F6: =H6+G6+I6 -> 34578 | G6: =ROUND(D6*단가산출근거목록표!F6,0) -> 18564 | H6: =ROUND(D6*단가산출근거목록표!G6,0) -> 7497 | I6: =ROUND(D6*단가산출근거목록표!H6,0) -> 8517 | L6: =HYPERLINK("#"&단가산출근거목록표!J2&"!A"&ROW(단가산출근거목록표!A6),"D00019 →") -> D00019 →
A7: D00022 | B7: 흙깍기 | C7: 보통토사(소규모) | D7: 1597 | E7: M3 | F7: =H7+G7+I7 -> 5276488 | G7: =ROUND(D7*단가산출근거목록표!F7,0) -> 2432231 | H7: =ROUND(D7*단가산출근거목록표!G7,0) -> 1624149 | I7: =ROUND(D7*단가산출근거목록표!H7,0) -> 1220108 | L7: =HYPERLINK("#"&단가산출근거목록표!J2&"!A"&ROW(단가산출근거목록표!A7),"D00022 →") -> D00022 →
A8: D00035 | B8: 흙깍기(풍화암) | C8: 굴착기(1.0㎥) + 대형브레이카(1.0㎥) | D8: 883 | E8: M3 | F8: =H8+G8+I8 -> 20195093 | G8: =ROUND(D8*단가산출근거목록표!F8,0) -> 8107706 | H8: =ROUND(D8*단가산출근거목록표!G8,0) -> 5205285 | I8: =ROUND(D8*단가산출근거목록표!H8,0) -> 6882102 | L8: =HYPERLINK("#"&단가산출근거목록표!J2&"!A"&ROW(단가산출근거목록표!A8),"D00035 →") -> D00035 →
A9: D00055 | B9: 측구터파기(보통토사) | C9: (기계100%) | D9: 1 | E9: M3 | F9: =H9+G9+I9 -> 6519 | G9: =ROUND(D9*단가산출근거목록표!F9,0) -> 3499 | H9: =ROUND(D9*단가산출근거목록표!G9,0) -> 1413 | I9: =ROUND(D9*단가산출근거목록표!H9,0) -> 1607 | L9: =HYPERLINK("#"&단가산출근거목록표!J2&"!A"&ROW(단가산출근거목록표!A9),"D00055 →") -> D00055 →
A10: D00057 | B10: 측구터파기(풍화암) | C10: 굴착기(1.0㎥) + 대형브레이카(1.0㎥) | D10: 113 | E10: M3 | F10: =H10+G10+I10 -> 4393553 | G10: =ROUND(D10*단가산출근거목록표!F10,0) -> 1739974 | H10: =ROUND(D10*단가산출근거목록표!G10,0) -> 1112146 | I10: =ROUND(D10*단가산출근거목록표!H10,0) -> 1541433 | L10: =HYPERLINK("#"&단가산출근거목록표!J2&"!A"&ROW(단가산출근거목록표!A10),"D00057 →") -> D00057 →
A11: D00099 | B11: 잡관목제거 | C11: 벌목(5m미만) | D11: 139 | E11: M2 | F11: =H11+G11+I11 -> 128714 | G11: =ROUND(D11*단가산출근거목록표!F11,0) -> 109671 | H11: =ROUND(D11*단가산출근거목록표!G11,0) -> 3753 | I11: =ROUND(D11*단가산출근거목록표!H11,0) -> 15290 | L11: =HYPERLINK("#"&단가산출근거목록표!J2&"!A"&ROW(단가산출근거목록표!A11),"D00099 →") -> D00099 →
