Workbook

Sheet 〓 목 차 〓
D1: =IF('〓 INITIAL 〓'!C4,"※※ 기본정보의 일부가 삭제되어 Stmate로 변환할 수 없습니다 ※※","")
B2: 목 차 | D2: ※ 본 엑셀자료는 【STmate w26.07】버전 이상에서 STmate 자료로 다시 등록할 수 있습니다.
D3: 단, 임의로 수정한 내용(Sheet삭제, 산근내용변경, 기타계산식변경..)은 반영되지 않을 수 있습니다.
B4: 1. ※※안내※※ | D4: =HYPERLINK("#'※※안내※※'!A1","※※안내※※ →") -> ※※안내※※ →
B5: 2. 공사원가계산서 | D5: =HYPERLINK("#"&공사원가계산서!G2&"!A1","공사원가계산서 →") -> 공사원가계산서 →
B6: 3. 총괄내역서 | D6: =HYPERLINK("#"&총괄내역서!H2&"!A1","총괄내역서 →") -> 총괄내역서 →
B7: 4. 설계내역서 | D7: =HYPERLINK("#"&설계내역서!O2&"!A1","설계내역서 →") -> 설계내역서 →
B8: 5. 일위대가목록표 | D8: =HYPERLINK("#"&일위대가목록표!J2&"!A1","일위대가목록표 →") -> 일위대가목록표 →
B9: 6. 일위대가표 | D9: =HYPERLINK("#"&일위대가표!N2&"!A1","일위대가표 →") -> 일위대가표 →
B10: 7. 일위대가수량금액집계표 | D10: =HYPERLINK("#"&일위대가수량금액집계표!K2&"!A1","일위대가수량금액집계표 →") -> 일위대가수량금액집계표 →
B11: 8. 단가산출근거목록표 | D11: =HYPERLINK("#"&단가산출근거목록표!J2&"!A1","단가산출근거목록표 →") -> 단가산출근거목록표 →
B12: 9. 단가산출근거 | D12: =HYPERLINK("#"&단가산출근거!G2&"!A1","단가산출근거 →") -> 단가산출근거 →
B13: 10. 단가산출근거수량금액집계표 | D13: =HYPERLINK("#"&단가산출근거수량금액집계표!K2&"!A1","단가산출근거수량금액집계표 →") -> 단가산출근거수량금액집계표 →
B14: 11. 환율및기초자료 | D14: =HYPERLINK("#"&환율및기초자료!I2&"!A1","환율및기초자료 →") -> 환율및기초자료 →
B15: 12. 중기목록표 | D15: =HYPERLINK("#"&중기목록표!J2&"!A1","중기목록표 →") -> 중기목록표 →
B16: 13. 중기사용료 | D16: =HYPERLINK("#"&중기사용료!N2&"!A1","중기사용료 →") -> 중기사용료 →
B17: 14. 재료비목록표 | D17: =HYPERLINK("#"&재료비목록표!G2&"!A1","재료비목록표 →") -> 재료비목록표 →
B18: 15. 노무비목록표 | D18: =HYPERLINK("#"&노무비목록표!G2&"!A1","노무비목록표 →") -> 노무비목록표 →
B19: 16. 경비목록표 | D19: =HYPERLINK("#"&경비목록표!G2&"!A1","경비목록표 →") -> 경비목록표 →
B20: 17. 자재단가대비표 | D20: =HYPERLINK("#"&자재단가대비표!R2&"!A1","자재단가대비표 →") -> 자재단가대비표 →
B21: 18. 재료비수량금액집계표 | D21: =HYPERLINK("#"&재료비수량금액집계표!I2&"!A1","재료비수량금액집계표 →") -> 재료비수량금액집계표 →
B22: 19. 노무비수량금액집계표 | D22: =HYPERLINK("#"&노무비수량금액집계표!I2&"!A1","노무비수량금액집계표 →") -> 노무비수량금액집계표 →
B23: 20. 중기시간금액집계표 | D23: =HYPERLINK("#"&중기시간금액집계표!K2&"!A1","중기시간금액집계표 →") -> 중기시간금액집계표 →

Sheet ※※안내※※
A2: =HYPERLINK("#'〓 목 차 〓'!B2","목차 →") -> 목차 → | B2: === 엑셀파일에 작성에 대한 안내문(반드시 읽어보세요) ===
B4: 엑셀파일 수정후 계산식 반영이 안될경우 :【 Ctrl+Alt(+Shift)+F9 】
B6: ◈ 엑셀파일내의 산식은 기초단가, 복합단가, 내역서 및 총괄내역서까지 연결됩니다.
B7: (모든산식은 단가만을 불러오며, 명칭, 규격, 단위, 비고.. 등은 TEXT로 입력됩니다)
B8: ◈ 각 Sheet우측에는 해당 항목을 찾아가는 위치이동(→) 링크가 있으며, 클릭하면 이동됩니다.
B9: (Alt + ← 키를 이용하여 찾아갔던 항목을 되돌아 올 수 있습니다.)
B10: ◈ 자재단가 대비표의 적용단가는 수식이 적용되지 않았으나, 우측에 최소단가 수식을 입력하였습니다.
B11: ◈ 일위대가표 및 중기사용료 및 총괄내역서의 양식은 일반양식을 적용합니다.
B12: =HYPERLINK("#"&단가산출근거!G2&"!Y3","◈ 단가산출근거의 수량부분은 산출근거 우측 연두색 부분에서 수정합니다. →") -> ◈ 단가산출근거의 수량부분은 산출근거 우측 연두색 부분에서 수정합니다. →
B13: ◈ [목차] 및 [안내] Sheet의 이름을 변경하지 마시고, Sheet이름을 변경할때 공백문자 및 특수문자를 사용하지 마십시요.
B15: ※※※ 아래의 내용(안내 및 오류)을 확인/검토 하세요 ※※※
B16: =HYPERLINK("#"&총괄내역서!H2&"!I"&ROW(총괄내역서!I33)," → ") -> → | C16: 【총괄내역서】33번째줄의 I열 이윤보정액은 총공사비 금액이 다를경우 임의조정(±α) 하십시요.
B17: =HYPERLINK("#"&총괄내역서!H2&"!D"&ROW(총괄내역서!D38)," → ") -> → | C17: 【총괄내역서】38번째줄의 D열에 계산된 총공사비 금액을 확인하십시요.

Sheet 공사원가계산서
A1: 공 사 원 가 계 산 서 | G1: STmate | H1: STmate
A2: 공사명 : 2026년 임도재해예방사업(오목) | F2: 공사기간: 201x년xx월 ~ 201x년xx월 | G2: =MID(CELL("filename",$A$1),FIND("]",CELL("filename",$A$1))+1,LEN(CELL("filename",$A$1))) -> 공사원가계산서
A3: 구 분 | D3: 금 액 | E3: 구 성 비 | F3: 비 고
A4: 비 목 | H4: =HYPERLINK("#'〓 목 차 〓'!B2","목차 →") -> 목차 →
A5: 순 공 사 원 가 | B5: 재 료 비 | C5: 직 접 재 료 비 | D5: =총괄내역서!F20-D6+D7 -> 11885922 | E5: =D5/D28*100 -> 16.247142 | H5: =HYPERLINK("#"&총괄내역서!H2&"!F"&ROW(총괄내역서!F20),"총괄표 →") -> 총괄표 →
C6: 간 접 재 료 비 | D6: 0 | E6: =D6/D28*100 -> 0
C7: 작업설,부산물등(△) | D7: 0 | E7: =D7/D28*100 -> 0
C8: 소 계 | D8: =+D5+D6-D7 -> 11885922 | E8: =D8/D28*100 -> 16.247142
B9: 노 무 비 | C9: 직 접 노 무 비 | D9: =총괄내역서!E20 -> 19476252 | E9: =D9/D28*100 -> 26.622541 | H9: =HYPERLINK("#"&총괄내역서!H2&"!E"&ROW(총괄내역서!E20),"총괄표 →") -> 총괄표 →
C10: 간 접 노 무 비 | D10: =총괄내역서!D21 -> 3719964 | E10: =D10/D28*100 -> 5.0849051 | F10: =총괄내역서!E21 -> 직접노무비 x 19.1% | H10: =HYPERLINK("#"&총괄내역서!H2&"!D"&ROW(총괄내역서!D21),"총괄표 →") -> 총괄표 →
C11: 소 계 | D11: =+D9+D10 -> 23196216 | E11: =D11/D28*100 -> 31.707446
B12: 경 비 | C12: 산 출 경 비 | D12: =총괄내역서!G20 -> 14156555 | E12: =D12/D28*100 -> 19.350923 | H12: =HYPERLINK("#"&총괄내역서!H2&"!G"&ROW(총괄내역서!G20),"총괄표 →") -> 총괄표 →
C13: 산 재 보 험 료 | D13: =총괄내역서!D22 -> 825785 | E13: =D13/D28*100 -> 1.1287847 | F13: =총괄내역서!E22 -> (직접노무비+간접노무비) x 3.56% | H13: =HYPERLINK("#"&총괄내역서!H2&"!D"&ROW(총괄내역서!D22),"총괄표 →") -> 총괄표 →
C14: 고 용 보 험 료 | D14: =총괄내역서!D23 -> 234281 | E14: =D14/D28*100 -> 0.32024413 | F14: =총괄내역서!E23 -> (직접노무비+간접노무비) x 1.01% | H14: =HYPERLINK("#"&총괄내역서!H2&"!D"&ROW(총괄내역서!D23),"총괄표 →") -> 총괄표 →
C15: 산업안전보건관리비 | D15: =총괄내역서!D24 -> 1032811 | E15: =D15/D28*100 -> 1.4117733 | F15: =총괄내역서!E24 -> A）(직노+직재+간재+관급재/1.1) x 3.15% = 1,032,811 B）<(직노+직재+간재) x 3.15%>의 1.2배 = 1,185,489 | H15: =HYPERLINK("#"&총괄내역서!H2&"!D"&ROW(총괄내역서!D24),"총괄표 →") -> 총괄표 →
C16: 기 타 경 비 | D16: =총괄내역서!D25 -> 1929517 | E16: =D16/D28*100 -> 2.6375015 | F16: =총괄내역서!E25 -> (직접노무비+간접노무비+재료비) x 5.5% | H16: =HYPERLINK("#"&총괄내역서!H2&"!D"&ROW(총괄내역서!D25),"총괄표 →") -> 총괄표 →
C17: 환 경 보 전 비 | D17: =총괄내역서!D26 -> 364149 | E17: =D17/D28*100 -> 0.49776371 | F17: =총괄내역서!E26 -> (재료비 + 직접노무비 + 산출경비) x 0.8% | H17: =HYPERLINK("#"&총괄내역서!H2&"!D"&ROW(총괄내역서!D26),"총괄표 →") -> 총괄표 →
C18: 건설기계대여금지급보증서수수료 | D18: =총괄내역서!D27 -> 182074 | E18: =D18/D28*100 -> 0.24888117 | F18: =총괄내역서!E27 -> (재료비 + 직접노무비 + 산출경비) x 0.4% | H18: =HYPERLINK("#"&총괄내역서!H2&"!D"&ROW(총괄내역서!D27),"총괄표 →") -> 총괄표 →
C19: 석면피해구제분담금 | D19: =총괄내역서!D28 -> 1391 | E19: =D19/D28*100 -> 0.0019013902 | F19: =총괄내역서!E28 -> (직접노무비+간접노무비) x 0.006% | H19: =HYPERLINK("#"&총괄내역서!H2&"!D"&ROW(총괄내역서!D28),"총괄표 →") -> 총괄표 →
C20: 임 금 채 권 부 담 금 | D20: =총괄내역서!D29 -> 20876 | E20: =D20/D28*100 -> 0.028535889 | F20: =총괄내역서!E29 -> (직접노무비+간접노무비) x 0.09% | H20: =HYPERLINK("#"&총괄내역서!H2&"!D"&ROW(총괄내역서!D29),"총괄표 →") -> 총괄표 →
C21: 소 계 | D21: =+D12+D13+D14+D15+D16+D17+D18+D19+D20 -> 18747439 | E21: =D21/D28*100 -> 25.626309
A22: 일 반 관 리 비 | D22: =총괄내역서!D31 -> 4306366 | E22: =D22/D28*100 -> 5.8864716 | F22: ="순공사원가 x "&ROUND(총괄내역서!M31,5)&"%" -> 순공사원가 x 8% | H22: =HYPERLINK("#"&총괄내역서!H2&"!D"&ROW(총괄내역서!D31),"총괄표 →") -> 총괄표 →
A23: 이 윤 | D23: =총괄내역서!D33 -> 6936785 | E23: =D23/D28*100 -> 9.4820523 | F23: ="(노무비+경비+일반관리비) x "&ROUND(총괄내역서!M33,5)&"%" -> (노무비+경비+일반관리비) x 15% | H23: =HYPERLINK("#"&총괄내역서!H2&"!D"&ROW(총괄내역서!D33),"총괄표 →") -> 총괄표 →
A24: 총 원 가 | D24: =총괄내역서!D34 -> 65072728 | E24: =D24/D28*100 -> 88.949421 | H24: =HYPERLINK("#"&총괄내역서!H2&"!D"&ROW(총괄내역서!D34),"총괄표 →") -> 총괄표 →
A25: 부 가 가 치 세 | D25: =총괄내역서!D35 -> 6507272 | E25: =D25/D28*100 -> 8.894941 | F25: ="총 원 가 x "&ROUND(총괄내역서!M35,5)&"%" -> 총 원 가 x 10% | H25: =HYPERLINK("#"&총괄내역서!H2&"!D"&ROW(총괄내역서!D35),"총괄표 →") -> 총괄표 →
A26: 도 급 공 사 비 | D26: =총괄내역서!D36 -> 71580000 | E26: =D26/D28*100 -> 97.844362 | H26: =HYPERLINK("#"&총괄내역서!H2&"!D"&ROW(총괄내역서!D36),"총괄표 →") -> 총괄표 →
A27: 관급자재대(도급자설치) | D27: =총괄내역서!D37 -> 1577000 | E27: =D27/D28*100 -> 2.1556379 | F27: =총괄내역서!E37 -> 원자재대: 1,576,507 (조달수수료: 8,467 포함) | H27: =HYPERLINK("#"&총괄내역서!H2&"!D"&ROW(총괄내역서!D37),"총괄표 →") -> 총괄표 →
A28: 총 공 사 비 | D28: =총괄내역서!D38 -> 73157000 | E28: 100 | H28: =HYPERLINK("#"&총괄내역서!H2&"!D"&ROW(총괄내역서!D38),"총괄표 →") -> 총괄표 →

Sheet 총괄내역서
A1: 총 괄 내 역 서 | H1: STmate | Q1: STmate
A2: 공사명 : 2026년 임도재해예방사업(오목) | H2: =MID(CELL("filename",$A$1),FIND("]",CELL("filename",$A$1))+1,LEN(CELL("filename",$A$1))) -> 총괄내역서
A3: 공 종 | B3: 명 칭 | C3: 규 격 | D3: 합 계 | E3: 노 무 비 | F3: 재 료 비 | G3: 경 비 | H3: _x0007_`JTYP|0_x0005_`ACTL|F_x0005_` | I3: 수정은 아래의 연두색 부분에 | Q3: =HYPERLINK("#'〓 목 차 〓'!B2","목차 →") -> 목차 →
A4: □ | B4: 2026년 재해복구사업 | D4: =설계내역서!G5 -> 45518729 | E4: =설계내역서!I5 -> 19476252 | F4: =설계내역서!K5 -> 11885922 | G4: =설계내역서!M5 -> 14156555 | Q4: =HYPERLINK("#"&설계내역서!O2&"!A"&ROW(설계내역서!A5),"내역 →") -> 내역 →
A5: 1 | B5: 토 공 | D5: =설계내역서!G6 -> 39134441 | E5: =설계내역서!I6 -> 16848329 | F5: =설계내역서!K6 -> 10786657 | G5: =설계내역서!M6 -> 11499455 | Q5: =HYPERLINK("#"&설계내역서!O2&"!A"&ROW(설계내역서!A6),"내역 →") -> 내역 →
A6: 1.1 | B6: 절토 | D6: =설계내역서!G7 -> 25471581 | E6: =설계내역서!I7 -> 10539937 | F6: =설계내역서!K7 -> 6829434 | G6: =설계내역서!M7 -> 8102210 | Q6: =HYPERLINK("#"&설계내역서!O2&"!A"&ROW(설계내역서!A7),"내역 →") -> 내역 →
A7: 1.2 | B7: 측구터파기 | D7: =설계내역서!G10 -> 4400072 | E7: =설계내역서!I10 -> 1743473 | F7: =설계내역서!K10 -> 1113559 | G7: =설계내역서!M10 -> 1543040 | Q7: =HYPERLINK("#"&설계내역서!O2&"!A"&ROW(설계내역서!A10),"내역 →") -> 내역 →
A8: 1.2 | B8: 지장목제거 | D8: =설계내역서!G16 -> 128714 | E8: =설계내역서!I16 -> 109671 | F8: =설계내역서!K16 -> 3753 | G8: =설계내역서!M16 -> 15290 | Q8: =HYPERLINK("#"&설계내역서!O2&"!A"&ROW(설계내역서!A16),"내역 →") -> 내역 →
A9: 2 | B9: 구조물공 | D9: =설계내역서!G19 -> 3636948 | E9: =설계내역서!I19 -> 2627923 | F9: =설계내역서!K19 -> 479265 | G9: =설계내역서!M19 -> 529760 | Q9: =HYPERLINK("#"&설계내역서!O2&"!A"&ROW(설계내역서!A19),"내역 →") -> 내역 →
A10: 2.1 | B10: 구조물토공 | D10: =설계내역서!G20 -> 526750 | E10: =설계내역서!I20 -> 288315 | F10: =설계내역서!K20 -> 112295 | G10: =설계내역서!M20 -> 126140 | Q10: =HYPERLINK("#"&설계내역서!O2&"!A"&ROW(설계내역서!A20),"내역 →") -> 내역 →
A11: 2.2 | B11: 배수공 | D11: =설계내역서!G24 -> 483288 | E11: =설계내역서!I24 -> 348652 | F11: =설계내역서!K24 -> 72500 | G11: =설계내역서!M24 -> 62136 | Q11: =HYPERLINK("#"&설계내역서!O2&"!A"&ROW(설계내역서!A24),"내역 →") -> 내역 →
A12: 2.2.1 | B12: 배수관매설 | D12: =설계내역서!G25 -> 483288 | E12: =설계내역서!I25 -> 348652 | F12: =설계내역서!K25 -> 72500 | G12: =설계내역서!M25 -> 62136 | Q12: =HYPERLINK("#"&설계내역서!O2&"!A"&ROW(설계내역서!A25),"내역 →") -> 내역 →
A13: 2.3 | B13: 큰돌공 | D13: =설계내역서!G28 -> 2626910 | E13: =설계내역서!I28 -> 1990956 | F13: =설계내역서!K28 -> 294470 | G13: =설계내역서!M28 -> 341484 | Q13: =HYPERLINK("#"&설계내역서!O2&"!A"&ROW(설계내역서!A28),"내역 →") -> 내역 →
A14: 2.3.1 | B14: 큰돌쌓기 | D14: =설계내역서!G29 -> 2626910 | E14: =설계내역서!I29 -> 1990956 | F14: =설계내역서!K29 -> 294470 | G14: =설계내역서!M29 -> 341484 | Q14: =HYPERLINK("#"&설계내역서!O2&"!A"&ROW(설계내역서!A29),"내역 →") -> 내역 →
A15: 3 | B15: 운반 및 기타부대공 | D15: =설계내역서!G32 -> 2127340 | E15: =설계내역서!I32 -> 0 | F15: =설계내역서!K32 -> 0 | G15: =설계내역서!M32 -> 2127340 | Q15: =HYPERLINK("#"&설계내역서!O2&"!A"&ROW(설계내역서!A32),"내역 →") -> 내역 →
A16: 3.1 | B16: 운반공 | D16: =설계내역서!G33 -> 2127340 | E16: =설계내역서!I33 -> 0 | F16: =설계내역서!K33 -> 0 | G16: =설계내역서!M33 -> 2127340 | Q16: =HYPERLINK("#"&설계내역서!O2&"!A"&ROW(설계내역서!A33),"내역 →") -> 내역 →
A17: 4 | B17: 사급자재대 | D17: =설계내역서!G37 -> 620000 | E17: =설계내역서!I37 -> 0 | F17: =설계내역서!K37 -> 620000 | G17: =설계내역서!M37 -> 0 | Q17: =HYPERLINK("#"&설계내역서!O2&"!A"&ROW(설계내역서!A37),"내역 →") -> 내역 →
A18: 5 | B18: 관급자재대 | D18: =설계내역서!G40 -> 1576507 | E18: =설계내역서!I40 -> 0 | F18: =설계내역서!K40 -> 1576507 | G18: =설계내역서!M40 -> 0 | Q18: =HYPERLINK("#"&설계내역서!O2&"!A"&ROW(설계내역서!A40),"내역 →") -> 내역 →
A19: 5.1 | B19: 파형강관 | D19: =설계내역서!G41 -> 1576507 | E19: =설계내역서!I41 -> 0 | F19: =설계내역서!K41 -> 1576507 | G19: =설계내역서!M41 -> 0 | Q19: =HYPERLINK("#"&설계내역서!O2&"!A"&ROW(설계내역서!A41),"내역 →") -> 내역 →
A20: 가. | B20: 순공사비계 | D20: =설계내역서!G45 -> 45518729 | E20: =설계내역서!I45 -> 19476252 | F20: =설계내역서!K45 -> 11885922 | G20: =설계내역서!M45 -> 14156555 | Q20: =HYPERLINK("#"&설계내역서!O2&"!A"&ROW(설계내역서!A45),"내역 →") -> 내역 →
B21: 1. 간접노무비 | D21: =ROUNDDOWN(E20*M21/100,0) -> 3719964 | E21: ="직접노무비 x "&ROUND(M21,5)&"%" -> 직접노무비 x 19.1% | H21: _x0007_`DTP|201_x0005_`QTY1|1_x0005_`BDC|_x0005_`SRE|LA_x0005_` | I21: 0 | M21: 19.1 | N21: 0 | O21: 0 | P21: 0
B22: 2. 산재보험료 | D22: =ROUNDDOWN(((E20+D21))*M22/100,0) -> 825785 | E22: ="(직접노무비+간접노무비) x "&ROUND(M22,5)&"%" -> (직접노무비+간접노무비) x 3.56% | H22: _x0007_`DTP|301_x0005_`QTY1|1_x0005_`BDC|_x0005_`SRE|SA_x0005_` | I22: 0 | M22: 3.56 | N22: 0 | O22: 0 | P22: 0
B23: 3. 고용보험료 | D23: =ROUNDDOWN(((E20+D21))*M23/100,0) -> 234281 | E23: ="(직접노무비+간접노무비) x "&ROUND(M23,5)&"%" -> (직접노무비+간접노무비) x 1.01% | H23: _x0007_`DTP|302_x0005_`QTY1|1_x0005_`BDC|_x0005_`SRE|SA_x0005_` | I23: 0 | M23: 1.01 | N23: 0 | O23: 0 | P23: 0
B24: 4. 산업안전보건관리비 | C24: A）관급재/1.1포함 적용 | D24: =ROUNDDOWN(((E20+(F20))+(I37-O37)/1.1)*M24/100,0) -> 1032811 | E24: ="A）(직노+직재+간재+관급재/1.1) x "&ROUND(M24,5)&"% = "&TEXT(D24,"#,0")&" B）<(직노+직재+간재) x "&ROUND(M24,5)&"%>의 1.2배 = 1,185,489" -> A）(직노+직재+간재+관급재/1.1) x 3.15% = 1,032,811 B）<(직노+직재+간재) x 3.15%>의 1.2배 = 1,185,489 | H24: _x0007_`DTP|306_x0005_`QTY1|1_x0005_`BDC|_x0005_`SRE|SA_x0005_`ANK|1_x0005_` | I24: 0 | J24: =((E20+(F20))+(I37-O37)/1.1) -> 32787665 | M24: 3.15 | N24: 0 | O24: 0 | P24: 0
B25: 5. 기타경비 | D25: =ROUNDDOWN(((((E20+D21)+(F20))))*M25/100,0) -> 1929517 | E25: ="(직접노무비+간접노무비+재료비) x "&ROUND(M25,5)&"%" -> (직접노무비+간접노무비+재료비) x 5.5% | H25: _x0007_`DTP|321_x0005_`QTY1|1_x0005_`BDC|_x0005_`SRE|SA_x0005_` | I25: 0 | M25: 5.5 | N25: 0 | O25: 0 | P25: 0
B26: 6. 환경보전비 | D26: =ROUNDDOWN((D20)*M26/100,0) -> 364149 | E26: ="(재료비 + 직접노무비 + 산출경비) x "&ROUND(M26,5)&"%" -> (재료비 + 직접노무비 + 산출경비) x 0.8% | H26: _x0007_`DTP|309_x0005_`QTY1|1_x0005_`BDC|_x0005_`SRE|SA_x0005_` | I26: 0 | M26: 0.8 | N26: 0 | O26: 0 | P26: 0
B27: 7. 건설기계대여금지급보증서수수료 | D27: =ROUNDDOWN((D20)*M27/100,0) -> 182074 | E27: ="(재료비 + 직접노무비 + 산출경비) x "&ROUND(M27,5)&"%" -> (재료비 + 직접노무비 + 산출경비) x 0.4% | H27: _x0007_`DTP|311_x0005_`QTY1|1_x0005_`BDC|_x0005_`SRE|SA_x0005_` | I27: 0 | M27: 0.4 | N27: 0 | O27: 0 | P27: 0
B28: 8. 석면피해구제분담금 | D28: =ROUNDDOWN(((E20+D21))*M28/100,0) -> 1391 | E28: ="(직접노무비+간접노무비) x "&ROUND(M28,5)&"%" -> (직접노무비+간접노무비) x 0.006% | H28: _x0007_`DTP|322_x0005_`QTY1|1_x0005_`BDC|_x0005_`SRE|SA_x0005_` | I28: 0 | M28: 0.006 | N28: 0 | O28: 0 | P28: 0
B29: 9. 임금채권부담금 | D29: =ROUNDDOWN(((E20+D21))*M29/100,0) -> 20876 | E29: ="(직접노무비+간접노무비) x "&ROUND(M29,5)&"%" -> (직접노무비+간접노무비) x 0.09% | H29: _x0007_`DTP|323_x0005_`QTY1|1_x0005_`BDC|_x0005_`SRE|SA_x0005_` | I29: 0 | M29: 0.09 | N29: 0 | O29: 0 | P29: 0
A30: 나. | B30: 소 계 | D30: =(D20+D21+D22+D23+D24+D25+D26+D27+D28+D29) -> 53829577 | H30: _x0007_`DTP|400_x0005_`QTY1|1_x0005_`BDC|_x0005_`SRE|TA-F_x0005_` | I30: 0 | M30: 0 | N30: 0 | O30: 0 | P30: 0
B31: 10. 일반관리비 | D31: =ROUNDDOWN(((D30)+0)*M31/100,0) -> 4306366 | E31: ="(나.소 계) x "&ROUND(M31,5)&"%" -> (나.소 계) x 8% | H31: _x0007_`DTP|401_x0005_`QTY1|1_x0005_`BDC|_x0005_`SRE|TA_x0005_` | I31: 0 | M31: 8 | N31: 0 | O31: 0 | P31: 0
A32: 다. | B32: 소 계 | D32: =(D30+D31) -> 58135943 | H32: _x0007_`DTP|410_x0005_`QTY1|1_x0005_`BDC|_x0005_`SRE|TA-F_x0005_` | I32: 3 | J32: =D32 -> 58135943 | L32: =D32 -> 58135943 | M32: 0 | N32: 0 | O32: 0 | P32: 0
B33: 11. 이 윤 | D33: =ROUNDDOWN(((D32)-(F20))*M33/100,0)-I33-K33 -> 6936785 | E33: ="(다.소계 - 재료비) x "&ROUND(M33,5)&"% = "&TEXT(J33,"#,##0") -> (다.소계 - 재료비) x 15% = 6,937,503 | H33: _x0007_`DTP|402_x0005_`QTY1|1_x0005_`BDC|_x0005_`SRE|TA_x0005_` | I33: =ROUND((J38-ROUNDDOWN(J38,-I32))/1.1,0) -> 718 | J33: =ROUNDDOWN(((J32)-(F20))*M33/100,0) -> 6937503 | K33: =ABS(L38-ROUNDDOWN(J38,-I32))*IF(L38>ROUNDDOWN(J38,-I32),1,-1) -> 0 | L33: =ROUNDDOWN(((L32)-(F20))*M33/100,0)-I33 -> 6936785 | M33: 15 | N33: 0 | O33: 0 | P33: 0
A34: 라. | B34: 공급가액 | D34: =(D32+D33) -> 65072728 | H34: _x0007_`DTP|500_x0005_`QTY1|1_x0005_`BDC|_x0005_`SRE|TA-F_x0005_` | I34: 0 | J34: =(J32+J33) -> 65073446 | L34: =(L32+L33) -> 65072728 | M34: 0 | N34: 0 | O34: 0 | P34: 0
B35: 12. 부가가치세 | D35: =ROUNDDOWN((D34)*M35/100,0)+I35 -> 6507272 | E35: ="공급가액 x "&ROUND(M35,5)&"%" -> 공급가액 x 10% | H35: _x0007_`DTP|502_x0005_`QTY1|1_x0005_`BDC|_x0005_`SRE|TA_x0005_` | I35: 0 | J35: =ROUNDDOWN((J34)*M35/100,0)+I35 -> 6507344 | L35: =ROUNDDOWN((L34)*M35/100,0)+I35 -> 6507272 | M35: 10 | N35: 0 | O35: 0 | P35: 0
A36: 마. | B36: 도급공사비 | D36: =(D34+D35) -> 71580000 | H36: _x0007_`DTP|600_x0005_`QTY1|1_x0005_`BDC|_x0005_`SRE|TA-F_x0005_` | I36: 0 | J36: =(J34+J35) -> 71580790 | L36: =(L34+L35) -> 71580000 | M36: 0 | N36: 0 | O36: 3 | P36: 0
B37: 13. 관급자재대(도급자설치) | D37: =ROUNDUP(I37,-3) -> 1577000 | E37: ="원자재대: "&TEXT(I37,"#,0")&" (조달수수료: "&TEXT(O37,"#,0")&" 포함)" -> 원자재대: 1,576,507 (조달수수료: 8,467 포함) | H37: _x0007_`DTP|653_x0005_`QTY1|1_x0005_`BDC|_x0005_`SRE|TA-3_x0005_` | I37: 1576507 | J37: =ROUNDUP(I37,-3) -> 1577000 | L37: =ROUNDUP(I37,-3) -> 1577000 | M37: 3 | N37: 0 | O37: 8467 | P37: 0
A38: 바. | B38: 총공사비 | D38: =(D36+D37) -> 73157000 | H38: _x0007_`DTP|700_x0005_`QTY1|1_x0005_`BDC|_x0005_`SRE|TA-F_x0005_` | I38: 0 | J38: =(J36+J37) -> 73157790 | L38: =(L36+L37) -> 73157000 | M38: 0 | N38: 0 | O38: 3 | P38: 0

Sheet 설계내역서
A1: 설 계 내 역 서 | O1: STmate | AC1: STmate
A2: 공사명 : 2026년 임도재해예방사업(오목) | O2: =MID(CELL("filename",$A$1),FIND("]",CELL("filename",$A$1))+1,LEN(CELL("filename",$A$1))) -> 설계내역서
A3: 공 종 | B3: 명 칭 | C3: 규 격 | D3: 수 량 | E3: 단위 | F3: 합 계 | H3: 노 무 비 | J3: 재 료 비 | L3: 경 비 | N3: 비 고
F4: 단 가 | G4: 금 액 | H4: 단 가 | I4: 금 액 | J4: 단 가 | K4: 금 액 | L4: 단 가 | M4: 금 액 | AC4: =HYPERLINK("#'〓 목 차 〓'!B2","목차 →") -> 목차 →
A5: □ | B5: 2026년 재해복구사업 | F5: 0 | G5: =SUMIF(Q6:Q44,P5,G6:G44) -> 45518729 | H5: 0 | I5: =SUMIF(Q6:Q44,P5,I6:I44) -> 19476252 | J5: 0 | K5: =SUMIF(Q6:Q44,P5,K6:K44) -> 11885922 | L5: 0 | M5: =SUMIF(Q6:Q44,P5,M6:M44) -> 14156555 | O5: ="_x0007_`COD|E4_x0005_`QTY1|1_x0005_`EXI|0_x0005_`ITT|0_x0005_`END|"&ROW(M45)&"_x0005_`" -> _x0007_`COD|E4_x0005_`QTY1|1_x0005_`EXI|0_x0005_`ITT|0_x0005_`END|45_x0005_` | P5: E4_1 | Q5: E10_1
A6: 1 | B6: 토 공 | F6: 0 | G6: =SUMIF(Q7:Q17,P6,G7:G17) -> 39134441 | H6: 0 | I6: =SUMIF(Q7:Q17,P6,I7:I17) -> 16848329 | J6: 0 | K6: =SUMIF(Q7:Q17,P6,K7:K17) -> 10786657 | L6: 0 | M6: =SUMIF(Q7:Q17,P6,M7:M17) -> 11499455 | O6: ="_x0007_`COD|E3_x0005_`QTY1|1_x0005_`EXI|0_x0005_`ITT|0_x0005_`END|"&ROW(M18)&"_x0005_`" -> _x0007_`COD|E3_x0005_`QTY1|1_x0005_`EXI|0_x0005_`ITT|0_x0005_`END|18_x0005_` | P6: E3_1 | Q6: E4_1
A7: 1.1 | B7: 절토 | F7: 0 | G7: =SUMIF(Q8:Q9,P7,G8:G9) -> 25471581 | H7: 0 | I7: =SUMIF(Q8:Q9,P7,I8:I9) -> 10539937 | J7: 0 | K7: =SUMIF(Q8:Q9,P7,K8:K9) -> 6829434 | L7: 0 | M7: =SUMIF(Q8:Q9,P7,M8:M9) -> 8102210 | O7: ="_x0007_`COD|E2_x0005_`QTY1|1_x0005_`EXI|0_x0005_`ITT|0_x0005_`END|"&ROW(M10)&"_x0005_`" -> _x0007_`COD|E2_x0005_`QTY1|1_x0005_`EXI|0_x0005_`ITT|0_x0005_`END|10_x0005_` | P7: E2_1 | Q7: E3_1
A8: 1.1.1 | B8: 흙깍기 | C8: 보통토사(소규모) | D8: 1597 | E8: M3 | F8: =J8+H8+L8 -> 3304 | G8: =K8+I8+M8 -> 5276488 | H8: =IF(D8=0,0,단가산출근거목록표!F7) -> 1523 | I8: =ROUNDDOWN(H8*D8,0) -> 2432231 | J8: =IF(D8=0,0,단가산출근거목록표!G7) -> 1017 | K8: =ROUNDDOWN(J8*D8,0) -> 1624149 | L8: =IF(D8=0,0,단가산출근거목록표!H7) -> 764 | M8: =ROUNDDOWN(L8*D8,0) -> 1220108 | N8: D00022 | O8: _x0007_`COD|D00022_x0005_`QTY1|1_x0005_`EXI|0_x0005_`IPR|0_x0005_`BLA|F_x0005_` | P8: D00022_1 | Q8: E2_1 | AC8: =HYPERLINK("#"&단가산출근거목록표!J2&"!A"&ROW(단가산출근거목록표!A7),"D00022 →") -> D00022 →
A9: 1.1.2 | B9: 흙깍기(풍화암) | C9: 굴착기(1.0㎥) + 대형브레이카(1.0㎥) | D9: 883 | E9: M3 | F9: =J9+H9+L9 -> 22871 | G9: =K9+I9+M9 -> 20195093 | H9: =IF(D9=0,0,단가산출근거목록표!F8) -> 9182 | I9: =ROUNDDOWN(H9*D9,0) -> 8107706 | J9: =IF(D9=0,0,단가산출근거목록표!G8) -> 5895 | K9: =ROUNDDOWN(J9*D9,0) -> 5205285 | L9: =IF(D9=0,0,단가산출근거목록표!H8) -> 7794 | M9: =ROUNDDOWN(L9*D9,0) -> 6882102 | N9: D00035 | O9: _x0007_`COD|D00035_x0005_`QTY1|1_x0005_`EXI|0_x0005_`IPR|0_x0005_`BLA|F_x0005_` | P9: D00035_1 | Q9: E2_1 | AC9: =HYPERLINK("#"&단가산출근거목록표!J2&"!A"&ROW(단가산출근거목록표!A8),"D00035 →") -> D00035 →
A10: 1.2 | B10: 측구터파기 | F10: 0 | G10: =SUMIF(Q11:Q12,P10,G11:G12) -> 4400072 | H10: 0 | I10: =SUMIF(Q11:Q12,P10,I11:I12) -> 1743473 | J10: 0 | K10: =SUMIF(Q11:Q12,P10,K11:K12) -> 1113559 | L10: 0 | M10: =SUMIF(Q11:Q12,P10,M11:M12) -> 1543040 | O10: ="_x0007_`COD|E2_x0005_`QTY1|1_x0005_`EXI|0_x0005_`ITT|0_x0005_`END|"&ROW(M13)&"_x0005_`" -> _x0007_`COD|E2_x0005_`QTY1|1_x0005_`EXI|0_x0005_`ITT|0_x0005_`END|13_x0005_` | P10: E2_1 | Q10: E3_1
A11: 1.2.1 | B11: 측구터파기(보통토사) | C11: (기계100%) | D11: 1 | E11: M3 | F11: =J11+H11+L11 -> 6519 | G11: =K11+I11+M11 -> 6519 | H11: =IF(D11=0,0,단가산출근거목록표!F9) -> 3499 | I11: =ROUNDDOWN(H11*D11,0) -> 3499 | J11: =IF(D11=0,0,단가산출근거목록표!G9) -> 1413 | K11: =ROUNDDOWN(J11*D11,0) -> 1413 | L11: =IF(D11=0,0,단가산출근거목록표!H9) -> 1607 | M11: =ROUNDDOWN(L11*D11,0) -> 1607 | N11: D00055 | O11: _x0007_`COD|D00055_x0005_`QTY1|1_x0005_`EXI|0_x0005_`IPR|0_x0005_`BLA|F_x0005_` | P11: D00055_1 | Q11: E2_1 | AC11: =HYPERLINK("#"&단가산출근거목록표!J2&"!A"&ROW(단가산출근거목록표!A9),"D00055 →") -> D00055 →
A12: 1.2.2 | B12: 측구터파기(풍화암) | C12: 굴착기(1.0㎥) + 대형브레이카(1.0㎥) | D12: 113 | E12: M3 | F12: =J12+H12+L12 -> 38881 | G12: =K12+I12+M12 -> 4393553 | H12: =IF(D12=0,0,단가산출근거목록표!F10) -> 15398 | I12: =ROUNDDOWN(H12*D12,0) -> 1739974 | J12: =IF(D12=0,0,단가산출근거목록표!G10) -> 9842 | K12: =ROUNDDOWN(J12*D12,0) -> 1112146 | L12: =IF(D12=0,0,단가산출근거목록표!H10) -> 13641 | M12: =ROUNDDOWN(L12*D12,0) -> 1541433 | N12: D00057 | O12: _x0007_`COD|D00057_x0005_`QTY1|1_x0005_`EXI|0_x0005_`IPR|0_x0005_`BLA|F_x0005_` | P12: D00057_1 | Q12: E2_1 | AC12: =HYPERLINK("#"&단가산출근거목록표!J2&"!A"&ROW(단가산출근거목록표!A10),"D00057 →") -> D00057 →
A13: 1.3 | B13: 절토사면고르기 | C13: 1.0 B/H | D13: 896 | E13: M2 | F13: =J13+H13+L13 -> 4454 | G13: =K13+I13+M13 -> 3990784 | H13: =IF(D13=0,0,단가산출근거목록표!F20) -> 2053 | I13: =ROUNDDOWN(H13*D13,0) -> 1839488 | J13: =IF(D13=0,0,단가산출근거목록표!G20) -> 1371 | K13: =ROUNDDOWN(J13*D13,0) -> 1228416 | L13: =IF(D13=0,0,단가산출근거목록표!H20) -> 1030 | M13: =ROUNDDOWN(L13*D13,0) -> 922880 | N13: D02300 | O13: _x0007_`COD|D02300_x0005_`QTY1|1_x0005_`EXI|0_x0005_`IPR|0_x0005_`BLA|F_x0005_` | P13: D02300_1 | Q13: E3_1 | AC13: =HYPERLINK("#"&단가산출근거목록표!J2&"!A"&ROW(단가산출근거목록표!A20),"D02300 →") -> D02300 →
A14: 1.4 | B14: 사토운반 | C14: L=0.06Km | D14: 2595 | E14: M3 | F14: =J14+H14+L14 -> 1982 | G14: =K14+I14+M14 -> 5143290 | H14: =IF(D14=0,0,단가산출근거목록표!F19) -> 1008 | I14: =ROUNDDOWN(H14*D14,0) -> 2615760 | J14: =IF(D14=0,0,단가산출근거목록표!G19) -> 621 | K14: =ROUNDDOWN(J14*D14,0) -> 1611495 | L14: =IF(D14=0,0,단가산출근거목록표!H19) -> 353 | M14: =ROUNDDOWN(L14*D14,0) -> 916035 | N14: D02297 | O14: _x0007_`COD|D02297_x0005_`QTY1|1_x0005_`EXI|0_x0005_`IPR|0_x0005_`BLA|F_x0005_` | P14: D02297_1 | Q14: E3_1 | AC14: =HYPERLINK("#"&단가산출근거목록표!J2&"!A"&ROW(단가산출근거목록표!A19),"D02297 →") -> D02297 →
F15: 0 | O15: _x0007_`COD|_x0005_`QTY1|1_x0005_`EXI|1_x0005_`ITT|0_x0005_` | P15: CMT_1 | Q15: E3_1
A16: 1.2 | B16: 지장목제거 | F16: 0 | G16: =SUMIF(Q17:Q17,P16,G17:G17) -> 128714 | H16: 0 | I16: =SUMIF(Q17:Q17,P16,I17:I17) -> 109671 | J16: 0 | K16: =SUMIF(Q17:Q17,P16,K17:K17) -> 3753 | L16: 0 | M16: =SUMIF(Q17:Q17,P16,M17:M17) -> 15290 | O16: ="_x0007_`COD|E2_x0005_`QTY1|1_x0005_`EXI|0_x0005_`ITT|0_x0005_`END|"&ROW(M18)&"_x0005_`" -> _x0007_`COD|E2_x0005_`QTY1|1_x0005_`EXI|0_x0005_`ITT|0_x0005_`END|18_x0005_` | P16: E2_1 | Q16: E3_1
A17: 1.2.1 | B17: 잡관목제거 | C17: 벌목(5m미만) | D17: 139 | E17: M2 | F17: =J17+H17+L17 -> 926 | G17: =K17+I17+M17 -> 128714 | H17: =IF(D17=0,0,단가산출근거목록표!F11) -> 789 | I17: =ROUNDDOWN(H17*D17,0) -> 109671 | J17: =IF(D17=0,0,단가산출근거목록표!G11) -> 27 | K17: =ROUNDDOWN(J17*D17,0) -> 3753 | L17: =IF(D17=0,0,단가산출근거목록표!H11) -> 110 | M17: =ROUNDDOWN(L17*D17,0) -> 15290 | N17: D00099 | O17: _x0007_`COD|D00099_x0005_`QTY1|1_x0005_`EXI|0_x0005_`IPR|0_x0005_`BLA|F_x0005_` | P17: D00099_1 | Q17: E2_1 | AC17: =HYPERLINK("#"&단가산출근거목록표!J2&"!A"&ROW(단가산출근거목록표!A11),"D00099 →") -> D00099 →
F18: 0 | O18: _x0007_`COD|_x0005_`QTY1|1_x0005_`EXI|1_x0005_`ITT|0_x0005_` | P18: CMT_1 | Q18: E4_1
A19: 2 | B19: 구조물공 | F19: 0 | G19: =SUMIF(Q20:Q30,P19,G20:G30) -> 3636948 | H19: 0 | I19: =SUMIF(Q20:Q30,P19,I20:I30) -> 2627923 | J19: 0 | K19: =SUMIF(Q20:Q30,P19,K20:K30) -> 479265 | L19: 0 | M19: =SUMIF(Q20:Q30,P19,M20:M30) -> 529760 | O19: ="_x0007_`COD|E3_x0005_`QTY1|1_x0005_`EXI|0_x0005_`ITT|0_x0005_`END|"&ROW(M31)&"_x0005_`" -> _x0007_`COD|E3_x0005_`QTY1|1_x0005_`EXI|0_x0005_`ITT|0_x0005_`END|31_x0005_` | P19: E3_1 | Q19: E4_1
A20: 2.1 | B20: 구조물토공 | F20: 0 | G20: =SUMIF(Q21:Q23,P20,G21:G23) -> 526750 | H20: 0 | I20: =SUMIF(Q21:Q23,P20,I21:I23) -> 288315 | J20: 0 | K20: =SUMIF(Q21:Q23,P20,K21:K23) -> 112295 | L20: 0 | M20: =SUMIF(Q21:Q23,P20,M21:M23) -> 126140 | O20: ="_x0007_`COD|E2_x0005_`QTY1|1_x0005_`EXI|0_x0005_`ITT|0_x0005_`END|"&ROW(M24)&"_x0005_`" -> _x0007_`COD|E2_x0005_`QTY1|1_x0005_`EXI|0_x0005_`ITT|0_x0005_`END|24_x0005_` | P20: E2_1 | Q20: E3_1
A21: 2.1.1 | B21: 구조물터파기 | C21: (혼합토사 TYPEⅢ) | D21: 57 | E21: M3 | F21: =J21+H21+L21 -> 5982 | G21: =K21+I21+M21 -> 340974 | H21: =IF(D21=0,0,단가산출근거목록표!F4) -> 3147 | I21: =ROUNDDOWN(H21*D21,0) -> 179379 | J21: =IF(D21=0,0,단가산출근거목록표!G4) -> 1271 | K21: =ROUNDDOWN(J21*D21,0) -> 72447 | L21: =IF(D21=0,0,단가산출근거목록표!H4) -> 1564 | M21: =ROUNDDOWN(L21*D21,0) -> 89148 | N21: D00007 | O21: _x0007_`COD|D00007_x0005_`QTY1|1_x0005_`EXI|0_x0005_`IPR|0_x0005_`BLA|F_x0005_` | P21: D00007_1 | Q21: E2_1 | AC21: =HYPERLINK("#"&단가산출근거목록표!J2&"!A"&ROW(단가산출근거목록표!A4),"D00007 →") -> D00007 →
A22: 2.1.2 | B22: 구조물되메우기 다짐 | C22: (대형장비) | D22: 17 | E22: M3 | F22: =J22+H22+L22 -> 8894 | G22: =K22+I22+M22 -> 151198 | H22: =IF(D22=0,0,단가산출근거목록표!F5) -> 5316 | I22: =ROUNDDOWN(H22*D22,0) -> 90372 | J22: =IF(D22=0,0,단가산출근거목록표!G5) -> 1903 | K22: =ROUNDDOWN(J22*D22,0) -> 32351 | L22: =IF(D22=0,0,단가산출근거목록표!H5) -> 1675 | M22: =ROUNDDOWN(L22*D22,0) -> 28475 | N22: D00017 | O22: _x0007_`COD|D00017_x0005_`QTY1|1_x0005_`EXI|0_x0005_`IPR|0_x0005_`BLA|F_x0005_` | P22: D00017_1 | Q22: E2_1 | AC22: =HYPERLINK("#"&단가산출근거목록표!J2&"!A"&ROW(단가산출근거목록표!A5),"D00017 →") -> D00017 →
A23: 2.1.3 | B23: 잔토처리 | C23: 토사(B/H 100%) | D23: 17 | E23: M3 | F23: =J23+H23+L23 -> 2034 | G23: =K23+I23+M23 -> 34578 | H23: =IF(D23=0,0,단가산출근거목록표!F6) -> 1092 | I23: =ROUNDDOWN(H23*D23,0) -> 18564 | J23: =IF(D23=0,0,단가산출근거목록표!G6) -> 441 | K23: =ROUNDDOWN(J23*D23,0) -> 7497 | L23: =IF(D23=0,0,단가산출근거목록표!H6) -> 501 | M23: =ROUNDDOWN(L23*D23,0) -> 8517 | N23: D00019 | O23: _x0007_`COD|D00019_x0005_`QTY1|1_x0005_`EXI|0_x0005_`IPR|0_x0005_`BLA|F_x0005_` | P23: D00019_1 | Q23: E2_1 | AC23: =HYPERLINK("#"&단가산출근거목록표!J2&"!A"&ROW(단가산출근거목록표!A6),"D00019 →") -> D00019 →
A24: 2.2 | B24: 배수공 | F24: 0 | G24: =SUMIF(Q25:Q27,P24,G25:G27) -> 483288 | H24: 0 | I24: =SUMIF(Q25:Q27,P24,I25:I27) -> 348652 | J24: 0 | K24: =SUMIF(Q25:Q27,P24,K25:K27) -> 72500 | L24: 0 | M24: =SUMIF(Q25:Q27,P24,M25:M27) -> 62136 | O24: ="_x0007_`COD|E2_x0005_`QTY1|1_x0005_`EXI|0_x0005_`ITT|0_x0005_`END|"&ROW(M28)&"_x0005_`" -> _x0007_`COD|E2_x0005_`QTY1|1_x0005_`EXI|0_x0005_`ITT|0_x0005_`END|28_x0005_` | P24: E2_1 | Q24: E3_1
A25: 2.2.1 | B25: 배수관매설 | F25: 0 | G25: =SUMIF(Q26:Q27,P25,G26:G27) -> 483288 | H25: 0 | I25: =SUMIF(Q26:Q27,P25,I26:I27) -> 348652 | J25: 0 | K25: =SUMIF(Q26:Q27,P25,K26:K27) -> 72500 | L25: 0 | M25: =SUMIF(Q26:Q27,P25,M26:M27) -> 62136 | O25: ="_x0007_`COD|E1_x0005_`QTY1|1_x0005_`EXI|0_x0005_`ITT|0_x0005_`END|"&ROW(M28)&"_x0005_`" -> _x0007_`COD|E1_x0005_`QTY1|1_x0005_`EXI|0_x0005_`ITT|0_x0005_`END|28_x0005_` | P25: E1_1 | Q25: E2_1
A26: 2.2.1.1 | B26: 파형강관부설 | C26: Φ800mm | D26: 12 | E26: M | F26: =J26+H26+L26 -> 17064 | G26: =K26+I26+M26 -> 204768 | H26: =IF(D26=0,0,단가산출근거목록표!F12) -> 15935 | I26: =ROUNDDOWN(H26*D26,0) -> 191220 | J26: =IF(D26=0,0,단가산출근거목록표!G12) -> 406 | K26: =ROUNDDOWN(J26*D26,0) -> 4872 | L26: =IF(D26=0,0,단가산출근거목록표!H12) -> 723 | M26: =ROUNDDOWN(L26*D26,0) -> 8676 | N26: D00174 | O26: _x0007_`COD|D00174_x0005_`QTY1|1_x0005_`EXI|0_x0005_`IPR|0_x0005_`BLA|F_x0005_` | P26: D00174_1 | Q26: E1_1 | AC26: =HYPERLINK("#"&단가산출근거목록표!J2&"!A"&ROW(단가산출근거목록표!A12),"D00174 →") -> D00174 →
A27: 2.2.1.2 | B27: 사질양토운반 | D27: 22 | E27: M3 | F27: =J27+H27+L27 -> 12660 | G27: =K27+I27+M27 -> 278520 | H27: =IF(D27=0,0,단가산출근거목록표!F18) -> 7156 | I27: =ROUNDDOWN(H27*D27,0) -> 157432 | J27: =IF(D27=0,0,단가산출근거목록표!G18) -> 3074 | K27: =ROUNDDOWN(J27*D27,0) -> 67628 | L27: =IF(D27=0,0,단가산출근거목록표!H18) -> 2430 | M27: =ROUNDDOWN(L27*D27,0) -> 53460 | N27: D02244 | O27: _x0007_`COD|D02244_x0005_`QTY1|1_x0005_`EXI|0_x0005_`IPR|0_x0005_`BLA|F_x0005_` | P27: D02244_1 | Q27: E1_1 | AC27: =HYPERLINK("#"&단가산출근거목록표!J2&"!A"&ROW(단가산출근거목록표!A18),"D02244 →") -> D02244 →
A28: 2.3 | B28: 큰돌공 | F28: 0 | G28: =SUMIF(Q29:Q30,P28,G29:G30) -> 2626910 | H28: 0 | I28: =SUMIF(Q29:Q30,P28,I29:I30) -> 1990956 | J28: 0 | K28: =SUMIF(Q29:Q30,P28,K29:K30) -> 294470 | L28: 0 | M28: =SUMIF(Q29:Q30,P28,M29:M30) -> 341484 | O28: ="_x0007_`COD|E2_x0005_`QTY1|1_x0005_`EXI|0_x0005_`ITT|0_x0005_`END|"&ROW(M31)&"_x0005_`" -> _x0007_`COD|E2_x0005_`QTY1|1_x0005_`EXI|0_x0005_`ITT|0_x0005_`END|31_x0005_` | P28: E2_1 | Q28: E3_1
A29: 2.3.1 | B29: 큰돌쌓기 | F29: 0 | G29: =SUMIF(Q30:Q30,P29,G30:G30) -> 2626910 | H29: 0 | I29: =SUMIF(Q30:Q30,P29,I30:I30) -> 1990956 | J29: 0 | K29: =SUMIF(Q30:Q30,P29,K30:K30) -> 294470 | L29: 0 | M29: =SUMIF(Q30:Q30,P29,M30:M30) -> 341484 | O29: ="_x0007_`COD|E1_x0005_`QTY1|1_x0005_`EXI|0_x0005_`ITT|0_x0005_`END|"&ROW(M31)&"_x0005_`" -> _x0007_`COD|E1_x0005_`QTY1|1_x0005_`EXI|0_x0005_`ITT|0_x0005_`END|31_x0005_` | P29: E1_1 | Q29: E2_1
A30: 2.3.1.1 | B30: 큰돌메쌓기(뒷길이0.6~0.75m) | C30: 구입(녹생토무) | D30: 22 | E30: M2 | F30: =J30+H30+L30 -> 119405 | G30: =K30+I30+M30 -> 2626910 | H30: =IF(D30=0,0,일위대가목록표!F4) -> 90498 | I30: =ROUNDDOWN(H30*D30,0) -> 1990956 | J30: =IF(D30=0,0,일위대가목록표!G4) -> 13385 | K30: =ROUNDDOWN(J30*D30,0) -> 294470 | L30: =IF(D30=0,0,일위대가목록표!H4) -> 15522 | M30: =ROUNDDOWN(L30*D30,0) -> 341484 | N30: B00229 | O30: _x0007_`COD|B00229_x0005_`QTY1|1_x0005_`EXI|0_x0005_`IPR|0_x0005_`BLA|F_x0005_` | P30: B00229_1 | Q30: E1_1 | AC30: =HYPERLINK("#"&일위대가목록표!J2&"!A"&ROW(일위대가목록표!A4),"B00229 →") -> B00229 →
F31: 0 | O31: _x0007_`COD|_x0005_`QTY1|1_x0005_`EXI|1_x0005_`ITT|0_x0005_` | P31: CMT_1 | Q31: E4_1
A32: 3 | B32: 운반 및 기타부대공 | F32: 0 | G32: =SUMIF(Q33:Q35,P32,G33:G35) -> 2127340 | H32: 0 | I32: =SUMIF(Q33:Q35,P32,I33:I35) -> 0 | J32: 0 | K32: =SUMIF(Q33:Q35,P32,K33:K35) -> 0 | L32: 0 | M32: =SUMIF(Q33:Q35,P32,M33:M35) -> 2127340 | O32: ="_x0007_`COD|E3_x0005_`QTY1|1_x0005_`EXI|0_x0005_`ITT|0_x0005_`END|"&ROW(M36)&"_x0005_`" -> _x0007_`COD|E3_x0005_`QTY1|1_x0005_`EXI|0_x0005_`ITT|0_x0005_`END|36_x0005_` | P32: E3_1 | Q32: E4_1
A33: 3.1 | B33: 운반공 | F33: 0 | G33: =SUMIF(Q34:Q35,P33,G34:G35) -> 2127340 | H33: 0 | I33: =SUMIF(Q34:Q35,P33,I34:I35) -> 0 | J33: 0 | K33: =SUMIF(Q34:Q35,P33,K34:K35) -> 0 | L33: 0 | M33: =SUMIF(Q34:Q35,P33,M34:M35) -> 2127340 | O33: ="_x0007_`COD|E2_x0005_`QTY1|1_x0005_`EXI|0_x0005_`ITT|0_x0005_`END|"&ROW(M36)&"_x0005_`" -> _x0007_`COD|E2_x0005_`QTY1|1_x0005_`EXI|0_x0005_`ITT|0_x0005_`END|36_x0005_` | P33: E2_1 | Q33: E3_1
A34: 3.1.1 | B34: 중기운반 | D34: 2 | E34: 회 | F34: =J34+H34+L34 -> 485624 | G34: =K34+I34+M34 -> 971248 | H34: =IF(D34=0,0,단가산출근거목록표!F16) -> 0 | I34: =ROUNDDOWN(H34*D34,0) -> 0 | J34: =IF(D34=0,0,단가산출근거목록표!G16) -> 0 | K34: =ROUNDDOWN(J34*D34,0) -> 0 | L34: =IF(D34=0,0,단가산출근거목록표!H16) -> 485624 | M34: =ROUNDDOWN(L34*D34,0) -> 971248 | N34: D02221 | O34: _x0007_`COD|D02221_x0005_`QTY1|1_x0005_`EXI|0_x0005_`IPR|0_x0005_`BLA|F_x0005_` | P34: D02221_1 | Q34: E2_1 | AC34: =HYPERLINK("#"&단가산출근거목록표!J2&"!A"&ROW(단가산출근거목록표!A16),"D02221 →") -> D02221 →
A35: 3.1.2 | B35: 큰돌(0.4~0.6m)운반 | C35: B/H07㎥ + D/T15Ton | D35: 12 | E35: M3 | F35: =J35+H35+L35 -> 96341 | G35: =K35+I35+M35 -> 1156092 | H35: =IF(D35=0,0,단가산출근거목록표!F17) -> 0 | I35: =ROUNDDOWN(H35*D35,0) -> 0 | J35: =IF(D35=0,0,단가산출근거목록표!G17) -> 0 | K35: =ROUNDDOWN(J35*D35,0) -> 0 | L35: =IF(D35=0,0,단가산출근거목록표!H17) -> 96341 | M35: =ROUNDDOWN(L35*D35,0) -> 1156092 | N35: D02227 | O35: _x0007_`COD|D02227_x0005_`QTY1|1_x0005_`EXI|0_x0005_`IPR|0_x0005_`BLA|F_x0005_` | P35: D02227_1 | Q35: E2_1 | AC35: =HYPERLINK("#"&단가산출근거목록표!J2&"!A"&ROW(단가산출근거목록표!A17),"D02227 →") -> D02227 →
F36: 0 | O36: _x0007_`COD|_x0005_`QTY1|1_x0005_`EXI|1_x0005_`ITT|0_x0005_` | P36: CMT_1 | Q36: E4_1
A37: 4 | B37: 사급자재대 | F37: 0 | G37: =SUMIF(Q38:Q38,P37,G38:G38) -> 620000 | H37: 0 | I37: =SUMIF(Q38:Q38,P37,I38:I38) -> 0 | J37: 0 | K37: =SUMIF(Q38:Q38,P37,K38:K38) -> 620000 | L37: 0 | M37: =SUMIF(Q38:Q38,P37,M38:M38) -> 0 | O37: ="_x0007_`COD|E3_x0005_`QTY1|1_x0005_`EXI|0_x0005_`ITT|0_x0005_`END|"&ROW(M39)&"_x0005_`" -> _x0007_`COD|E3_x0005_`QTY1|1_x0005_`EXI|0_x0005_`ITT|0_x0005_`END|39_x0005_` | P37: E3_1 | Q37: E4_1
A38: 4.1 | B38: 큰돌(삼척) | C38: 직경 0.4~0.6m | D38: 31 | E38: Ton | F38: =J38+H38+L38 -> 20000 | G38: =K38+I38+M38 -> 620000 | H38: 0 | I38: =ROUNDDOWN(H38*D38,0) -> 0 | J38: =IF(D38=0,0,재료비목록표!E6) -> 20000 | K38: =ROUNDDOWN(J38*D38,0) -> 620000 | L38: 0 | M38: =ROUNDDOWN(L38*D38,0) -> 0 | N38: M00969 | O38: _x0007_`COD|M00969_x0005_`QTY1|1_x0005_`EXI|0_x0005_`IPR|0_x0005_`KWN|0_x0005_`BLA|F_x0005_` | P38: M00969_1 | Q38: E3_1 | AC38: =HYPERLINK("#"&재료비목록표!G2&"!A"&ROW(재료비목록표!A6),"M00969 →") -> M00969 →
F39: 0 | O39: _x0007_`COD|_x0005_`QTY1|1_x0005_`EXI|1_x0005_`ITT|0_x0005_` | P39: CMT_1 | Q39: E4_1
A40: 5 | B40: 관급자재대 | F40: 0 | G40: =SUMIF(Q41:Q44,P40,G41:G44) -> 1576507 | H40: 0 | I40: =SUMIF(Q41:Q44,P40,I41:I44) -> 0 | J40: 0 | K40: =SUMIF(Q41:Q44,P40,K41:K44) -> 1576507 | L40: 0 | M40: =SUMIF(Q41:Q44,P40,M41:M44) -> 0 | N40: (제외금액) | O40: ="_x0007_`COD|C3_x0005_`QTY1|1_x0005_`EXI|1_x0005_`ITT|0_x0005_`END|"&ROW(M45)&"_x0005_`" -> _x0007_`COD|C3_x0005_`QTY1|1_x0005_`EXI|1_x0005_`ITT|0_x0005_`END|45_x0005_` | P40: C3_1
A41: 5.1 | B41: 파형강관 | F41: 0 | G41: =SUMIF(Q42:Q44,P41,G42:G44) -> 1576507 | H41: 0 | I41: =SUMIF(Q42:Q44,P41,I42:I44) -> 0 | J41: 0 | K41: =SUMIF(Q42:Q44,P41,K42:K44) -> 1576507 | L41: 0 | M41: =SUMIF(Q42:Q44,P41,M42:M44) -> 0 | O41: ="_x0007_`COD|E2_x0005_`QTY1|1_x0005_`EXI|0_x0005_`ITT|0_x0005_`END|"&ROW(M45)&"_x0005_`" -> _x0007_`COD|E2_x0005_`QTY1|1_x0005_`EXI|0_x0005_`ITT|0_x0005_`END|45_x0005_` | P41: E2_1 | Q41: C3_1
A42: 5.1.1 | B42: 파형강관(2.7T) | C42: Φ800-1RS | D42: 12 | E42: M | F42: =J42+H42+L42 -> 126420 | G42: =K42+I42+M42 -> 1517040 | H42: 0 | I42: =ROUNDDOWN(H42*D42,0) -> 0 | J42: =IF(D42=0,0,재료비목록표!E7) -> 126420 | K42: =ROUNDDOWN(J42*D42,0) -> 1517040 | L42: 0 | M42: =ROUNDDOWN(L42*D42,0) -> 0 | N42: M00999 | O42: _x0007_`COD|M00999_x0005_`QTY1|1_x0005_`EXI|0_x0005_`IPR|1_x0005_`KWN|0_x0005_`BLA|F_x0005_` | P42: M00999_1 | Q42: E2_1 | R42: 1_2_01 | AC42: =HYPERLINK("#"&재료비목록표!G2&"!A"&ROW(재료비목록표!A7),"M00999 →") -> M00999 →
A43: 5.1.2 | B43: 파형강관이음관 | C43: φ800m/m | D43: 2 | E43: 개 | F43: =J43+H43+L43 -> 25500 | G43: =K43+I43+M43 -> 51000 | H43: 0 | I43: =ROUNDDOWN(H43*D43,0) -> 0 | J43: =IF(D43=0,0,재료비목록표!E8) -> 25500 | K43: =ROUNDDOWN(J43*D43,0) -> 51000 | L43: 0 | M43: =ROUNDDOWN(L43*D43,0) -> 0 | N43: M01002 | O43: _x0007_`COD|M01002_x0005_`QTY1|1_x0005_`EXI|0_x0005_`IPR|1_x0005_`KWN|0_x0005_`BLA|F_x0005_` | P43: M01002_1 | Q43: E2_1 | R43: 1_2_01 | AC43: =HYPERLINK("#"&재료비목록표!G2&"!A"&ROW(재료비목록표!A8),"M01002 →") -> M01002 →
A44: 5.1.3 | B44: 조달수수료 | C44: 재료비의 % | D44: 0.54 | E44: % | F44: =J44+H44+L44 -> 1568040 | G44: =K44+I44+M44 -> 8467 | H44: 0 | I44: =ROUNDDOWN(H44*D44/100,0) -> 0 | J44: =SUMIF(R42:R43,"1_2_01",K42:K43) -> 1568040 | K44: =ROUNDDOWN(J44*D44/100,0) -> 8467 | L44: 0 | M44: =ROUNDDOWN(L44*D44/100,0) -> 0 | O44: _x0007_`COD|PR_x0005_`QTY1|1_x0005_`EXI|1_x0005_`IPR|0_x0005_`EQC|A01_x0005_`PRI|1_x0005_`PRO|1_x0005_`UNI|%_x0005_`RCU|0_x0005_`BLA|F_x0005_` | P44: PR_1 | Q44: E2_1
B45: 직접공사비 | G45: =SUMIF(Q5:Q44,"E10_1",G5:G44) -> 45518729 | I45: =SUMIF(Q5:Q44,"E10_1",I5:I44) -> 19476252 | K45: =SUMIF(Q5:Q44,"E10_1",K5:K44) -> 11885922 | M45: =SUMIF(Q5:Q44,"E10_1",M5:M44) -> 14156555

Sheet 일위대가목록표
A1: 일위대가 목록표 | J1: STmate | K1: STmate
A2: 공사명 : 2026년 임도재해예방사업(오목) | J2: =MID(CELL("filename",$A$1),FIND("]",CELL("filename",$A$1))+1,LEN(CELL("filename",$A$1))) -> 일위대가목록표
A3: 코드번호 | B3: 명 칭 | C3: 규 격 | D3: 단위 | E3: 합 계 | F3: 노 무 비 | G3: 재 료 비 | H3: 경 비 | I3: 비 고 | K3: =HYPERLINK("#'〓 목 차 〓'!B2","목차 →") -> 목차 →
A4: B00229 | B4: 큰돌메쌓기(뒷길이0.6~0.75m) | C4: 구입(녹생토무) | D4: M2 | E4: =일위대가표!F11 -> 119405 | F4: =일위대가표!H11 -> 90498 | G4: =일위대가표!J11 -> 13385 | H4: =일위대가표!L11 -> 15522 | J4: ="_x0007_`COD|B00229_x0005_`QTY1|1_x0005_`BQC|_x0005_`EQC|_x0005_`JDC|_x0005_`WQC|_x0005_`EDT|_x0005_`ADJ|F_x0005_`DET|"&ROW(일위대가표!A5)&"_x0005_`" -> _x0007_`COD|B00229_x0005_`QTY1|1_x0005_`BQC|_x0005_`EQC|_x0005_`JDC|_x0005_`WQC|_x0005_`EDT|_x0005_`ADJ|F_x0005_`DET|5_x0005_` | K4: =HYPERLINK("#"&일위대가표!N2&"!A"&ROW(일위대가표!A5),"B00229 →") -> B00229 →

Sheet 일위대가표
A1: 일 위 대 가 표 | N1: STmate | Z1: STmate
A2: 공사명 : 2026년 임도재해예방사업(오목) | N2: =MID(CELL("filename",$A$1),FIND("]",CELL("filename",$A$1))+1,LEN(CELL("filename",$A$1))) -> 일위대가표
A3: 명 칭 | B3: 규 격 | C3: 수 량 | D3: 단위 | E3: 합 계 | G3: 노 무 비 | I3: 재 료 비 | K3: 경 비 | M3: 비 고
E4: 단 가 | F4: 금 액 | G4: 단 가 | H4: 금 액 | I4: 단 가 | J4: 금 액 | K4: 단 가 | L4: 금 액 | Z4: =HYPERLINK("#'〓 목 차 〓'!B2","목차 →") -> 목차 →
A5: 제 1 호표 | N5: =HYPERLINK("#N"&ROW(N10),"_x0005_`BDCOD|B00229_x0007_`POSS|"&ROW(N7)&"_x0007_`POSE|"&ROW(N10)&"_x0007_`") -> _x0005_`BDCOD|B00229_x0007_`POSS|7_x0007_`POSE|10_x0007_`
A6: 큰돌메쌓기(뒷길이0.6~0.75m) | B6: 구입(녹생토무) | D6: M2 | M6: B00229 | O6: B00229
A7: 큰돌(별도계상) | B7: 직경 0.4~0.6m | C7: 1 | D7: M2 | E7: =I7+G7+K7 -> 0 | F7: =J7+H7+L7 -> 0 | G7: 0 | H7: =IF(C7=0,0,ROUNDDOWN(G7*C7,1)+W7) -> 0 | I7: =재료비목록표!E9 -> 0 | J7: =IF(C7=0,0,ROUNDDOWN(I7*C7,1)+X7) -> 0 | K7: 0 | L7: =IF(C7=0,0,ROUNDDOWN(K7*C7,1)+Y7) -> 0 | M7: 별산M01082 | N7: _x0007_`COD|M01082_x0005_`EXI|0_x0005_`DVD|F_x0005_`BMK| _x0005_`IPR|0_x0005_`KWN|0_x0005_`BLA|F_x0005_` | O7: M01082_1 | P7: T7_1 | S7: =ROUND(ROUNDDOWN(G7*C7,3)-ROUNDDOWN(G7*C7,1),3) -> 0 | T7: =ROUND(ROUNDDOWN(I7*C7,3)-ROUNDDOWN(I7*C7,1),3) -> 0 | U7: =ROUND(ROUNDDOWN(K7*C7,3)-ROUNDDOWN(K7*C7,1),3) -> 0 | V7: =ROUNDDOWN(ROUND(ROUNDDOWN(E7*C7,1)-(ROUNDDOWN(I7*C7,1)+ROUNDDOWN(G7*C7,1)+ROUNDDOWN(K7*C7,1)),3),1) -> 0 | W7: =IF(V7<0,-1,1)*IF(COUNTIF(R7:U7,IF(V7<0,"<",">")&S7)+IF(U7=S7,1,0)+IF(T7=S7,1,0)<ROUND(ABS(V7)/0.1,0),0.1,0) -> 0 | X7: =IF(V7<0,-1,1)*IF(COUNTIF(R7:U7,IF(V7<0,"<",">")&T7)+IF(U7=T7,1,0)<ROUND(ABS(V7)/0.1,0),0.1,0) -> 0 | Y7: =IF(V7<0,-1,1)*IF(COUNTIF(R7:U7,IF(V7<0,"<",">")&U7)<ROUND(ABS(V7)/0.1,0),0.1,0) -> 0 | Z7: =HYPERLINK("#"&재료비목록표!G2&"!A"&ROW(재료비목록표!A9),"M01082 →") -> M01082 →
A8: 뒷채움돌채집운반다짐 | B8: 4.5톤 덤프트럭(L=500m) | C8: 0.3 | D8: M3 | E8: =I8+G8+K8 -> 28727 | F8: =J8+H8+L8 -> 8618.1 | G8: =단가산출근거목록표!F15 -> 21327 | H8: =IF(C8=0,0,ROUNDDOWN(G8*C8,1)+W8) -> 6398.1 | I8: =단가산출근거목록표!G15 -> 3671 | J8: =IF(C8=0,0,ROUNDDOWN(I8*C8,1)+X8) -> 1101.3 | K8: =단가산출근거목록표!H15 -> 3729 | L8: =IF(C8=0,0,ROUNDDOWN(K8*C8,1)+Y8) -> 1118.7 | M8: D01500 | N8: _x0007_`COD|D01500_x0005_`EXI|0_x0005_`DVD|F_x0005_`BMK| _x0005_`IPR|0_x0005_`BLA|F_x0005_` | O8: D01500_1 | P8: T7_1 | S8: =ROUND(ROUNDDOWN(G8*C8,3)-ROUNDDOWN(G8*C8,1),3) -> 0 | T8: =ROUND(ROUNDDOWN(I8*C8,3)-ROUNDDOWN(I8*C8,1),3) -> 0 | U8: =ROUND(ROUNDDOWN(K8*C8,3)-ROUNDDOWN(K8*C8,1),3) -> 0 | V8: =ROUNDDOWN(ROUND(ROUNDDOWN(E8*C8,1)-(ROUNDDOWN(I8*C8,1)+ROUNDDOWN(G8*C8,1)+ROUNDDOWN(K8*C8,1)),3),1) -> 0 | W8: =IF(V8<0,-1,1)*IF(COUNTIF(R8:U8,IF(V8<0,"<",">")&S8)+IF(U8=S8,1,0)+IF(T8=S8,1,0)<ROUND(ABS(V8)/0.1,0),0.1,0) -> 0 | X8: =IF(V8<0,-1,1)*IF(COUNTIF(R8:U8,IF(V8<0,"<",">")&T8)+IF(U8=T8,1,0)<ROUND(ABS(V8)/0.1,0),0.1,0) -> 0 | Y8: =IF(V8<0,-1,1)*IF(COUNTIF(R8:U8,IF(V8<0,"<",">")&U8)<ROUND(ABS(V8)/0.1,0),0.1,0) -> 0 | Z8: =HYPERLINK("#"&단가산출근거목록표!J2&"!A"&ROW(단가산출근거목록표!A15),"D01500 →") -> D01500 →
A9: 고임돌채집운반 | B9: 4.5톤덤프(L=500) | C9: 0.16 | D9: M3 | E9: =I9+G9+K9 -> 18158 | F9: =J9+H9+L9 -> 2905.2 | G9: =단가산출근거목록표!F14 -> 13159 | H9: =IF(C9=0,0,ROUNDDOWN(G9*C9,1)+W9) -> 2105.4 | I9: =단가산출근거목록표!G14 -> 2539 | J9: =IF(C9=0,0,ROUNDDOWN(I9*C9,1)+X9) -> 406.2 | K9: =단가산출근거목록표!H14 -> 2460 | L9: =IF(C9=0,0,ROUNDDOWN(K9*C9,1)+Y9) -> 393.6 | M9: D01361 | N9: _x0007_`COD|D01361_x0005_`EXI|0_x0005_`DVD|F_x0005_`BMK| _x0005_`IPR|0_x0005_`BLA|F_x0005_` | O9: D01361_1 | P9: T7_1 | S9: =ROUND(ROUNDDOWN(G9*C9,3)-ROUNDDOWN(G9*C9,1),3) -> 0.04 | T9: =ROUND(ROUNDDOWN(I9*C9,3)-ROUNDDOWN(I9*C9,1),3) -> 0.04 | U9: =ROUND(ROUNDDOWN(K9*C9,3)-ROUNDDOWN(K9*C9,1),3) -> 0 | V9: =ROUNDDOWN(ROUND(ROUNDDOWN(E9*C9,1)-(ROUNDDOWN(I9*C9,1)+ROUNDDOWN(G9*C9,1)+ROUNDDOWN(K9*C9,1)),3),1) -> 0 | W9: =IF(V9<0,-1,1)*IF(COUNTIF(R9:U9,IF(V9<0,"<",">")&S9)+IF(U9=S9,1,0)+IF(T9=S9,1,0)<ROUND(ABS(V9)/0.1,0),0.1,0) -> 0 | X9: =IF(V9<0,-1,1)*IF(COUNTIF(R9:U9,IF(V9<0,"<",">")&T9)+IF(U9=T9,1,0)<ROUND(ABS(V9)/0.1,0),0.1,0) -> 0 | Y9: =IF(V9<0,-1,1)*IF(COUNTIF(R9:U9,IF(V9<0,"<",">")&U9)<ROUND(ABS(V9)/0.1,0),0.1,0) -> 0 | Z9: =HYPERLINK("#"&단가산출근거목록표!J2&"!A"&ROW(단가산출근거목록표!A14),"D01361 →") -> D01361 →
A10: 큰돌메쌓기 | B10: 직경 0.4~0.6m | C10: 1 | D10: M2 | E10: =I10+G10+K10 -> 107882 | F10: =J10+H10+L10 -> 107882 | G10: =단가산출근거목록표!F13 -> 81995 | H10: =IF(C10=0,0,ROUNDDOWN(G10*C10,1)+W10) -> 81995 | I10: =단가산출근거목록표!G13 -> 11877 | J10: =IF(C10=0,0,ROUNDDOWN(I10*C10,1)+X10) -> 11877 | K10: =단가산출근거목록표!H13 -> 14010 | L10: =IF(C10=0,0,ROUNDDOWN(K10*C10,1)+Y10) -> 14010 | M10: D00180 | N10: _x0007_`COD|D00180_x0005_`EXI|0_x0005_`DVD|F_x0005_`BMK| _x0005_`IPR|0_x0005_`BLA|F_x0005_` | O10: D00180_1 | P10: T7_1 | S10: =ROUND(ROUNDDOWN(G10*C10,3)-ROUNDDOWN(G10*C10,1),3) -> 0 | T10: =ROUND(ROUNDDOWN(I10*C10,3)-ROUNDDOWN(I10*C10,1),3) -> 0 | U10: =ROUND(ROUNDDOWN(K10*C10,3)-ROUNDDOWN(K10*C10,1),3) -> 0 | V10: =ROUNDDOWN(ROUND(ROUNDDOWN(E10*C10,1)-(ROUNDDOWN(I10*C10,1)+ROUNDDOWN(G10*C10,1)+ROUNDDOWN(K10*C10,1)),3),1) -> 0 | W10: =IF(V10<0,-1,1)*IF(COUNTIF(R10:U10,IF(V10<0,"<",">")&S10)+IF(U10=S10,1,0)+IF(T10=S10,1,0)<ROUND(ABS(V10)/0.1,0),0.1,0) -> 0 | X10: =IF(V10<0,-1,1)*IF(COUNTIF(R10:U10,IF(V10<0,"<",">")&T10)+IF(U10=T10,1,0)<ROUND(ABS(V10)/0.1,0),0.1,0) -> 0 | Y10: =IF(V10<0,-1,1)*IF(COUNTIF(R10:U10,IF(V10<0,"<",">")&U10)<ROUND(ABS(V10)/0.1,0),0.1,0) -> 0 | Z10: =HYPERLINK("#"&단가산출근거목록표!J2&"!A"&ROW(단가산출근거목록표!A13),"D00180 →") -> D00180 →
A11: 합 계 | E11: =I11+G11+K11 -> 119405.3 | F11: =J11+H11+L11 -> 119405 | G11: =SUMIF(P7:P10,O11,H7:H10) -> 90498.5 | H11: =ROUNDDOWN(SUMIF(P7:P10,O11,H7:H10)+W11,0) -> 90498 | I11: =SUMIF(P7:P10,O11,J7:J10) -> 13384.5 | J11: =ROUNDDOWN(SUMIF(P7:P10,O11,J7:J10)+X11,0) -> 13385 | K11: =SUMIF(P7:P10,O11,L7:L10) -> 15522.3 | L11: =ROUNDDOWN(SUMIF(P7:P10,O11,L7:L10)+Y11,0) -> 15522 | O11: T7_1 | S11: =ROUND(ROUNDDOWN(G11,2)-ROUNDDOWN(G11,0),2) -> 0.5 | T11: =ROUND(ROUNDDOWN(I11,2)-ROUNDDOWN(I11,0),2) -> 0.5 | U11: =ROUND(ROUNDDOWN(K11,2)-ROUNDDOWN(K11,0),2) -> 0.3 | V11: =ROUNDDOWN(ROUND(ROUNDDOWN(E11,0)-(ROUNDDOWN(I11,0)+ROUNDDOWN(G11,0)+ROUNDDOWN(K11,0)),2),0) -> 1 | W11: =IF(V11<0,-1,1)*IF(COUNTIF(R11:U11,IF(V11<0,"<",">")&S11)+IF(U11=S11,1,0)+IF(T11=S11,1,0)<ROUND(ABS(V11)/1,0),1,0) -> 0 | X11: =IF(V11<0,-1,1)*IF(COUNTIF(R11:U11,IF(V11<0,"<",">")&T11)+IF(U11=T11,1,0)<ROUND(ABS(V11)/1,0),1,0) -> 1 | Y11: =IF(V11<0,-1,1)*IF(COUNTIF(R11:U11,IF(V11<0,"<",">")&U11)<ROUND(ABS(V11)/1,0),1,0) -> 0

Sheet 일위대가수량금액집계표
A1: 일위대가 수량,금액 집계표 | K1: STmate | L1: STmate
A2: 공사명 : 2026년 임도재해예방사업(오목) | K2: =MID(CELL("filename",$A$1),FIND("]",CELL("filename",$A$1))+1,LEN(CELL("filename",$A$1))) -> 일위대가수량금액집계표
A3: 코드번호 | B3: 명 칭 | C3: 규 격 | D3: 수 량 | E3: 단위 | F3: 합 계 | G3: 노 무 비 | H3: 재 료 비 | I3: 경 비 | J3: 비 고 | L3: =HYPERLINK("#'〓 목 차 〓'!B2","목차 →") -> 목차 →
A4: B00229 | B4: 큰돌메쌓기(뒷길이0.6~0.75m) | C4: 구입(녹생토무) | D4: 22 | E4: M2 | F4: =H4+G4+I4 -> 2626910 | G4: =ROUND(D4*일위대가목록표!F4,0) -> 1990956 | H4: =ROUND(D4*일위대가목록표!G4,0) -> 294470 | I4: =ROUND(D4*일위대가목록표!H4,0) -> 341484 | L4: =HYPERLINK("#"&일위대가목록표!J2&"!A"&ROW(일위대가목록표!A4),"B00229 →") -> B00229 →

Sheet 단가산출근거목록표
A1: 단가산출근거 목록표 | J1: STmate | K1: STmate
A2: 공사명 : 2026년 임도재해예방사업(오목) | J2: =MID(CELL("filename",$A$1),FIND("]",CELL("filename",$A$1))+1,LEN(CELL("filename",$A$1))) -> 단가산출근거목록표
A3: 코드번호 | B3: 명 칭 | C3: 규 격 | D3: 단위 | E3: 합 계 | F3: 노 무 비 | G3: 재 료 비 | H3: 경 비 | I3: 비 고 | K3: =HYPERLINK("#'〓 목 차 〓'!B2","목차 →") -> 목차 →
A4: D00007 | B4: 구조물터파기 | C4: (혼합토사 TYPEⅢ) | D4: M3 | E4: =단가산출근거!C54 -> 5982 | F4: =단가산출근거!D54 -> 3147 | G4: =단가산출근거!E54 -> 1271 | H4: =단가산출근거!F54 -> 1564 | J4: ="_x0007_`COD|D00007_x0005_`QTY1|1_x0005_`BQC|_x0005_`EQC|_x0005_`JDC|_x0005_`WQC|_x0005_`EDT|_x0005_`ADJ|F_x0005_`DET|"&ROW(단가산출근거!A5)&"_x0005_`" -> _x0007_`COD|D00007_x0005_`QTY1|1_x0005_`BQC|_x0005_`EQC|_x0005_`JDC|_x0005_`WQC|_x0005_`EDT|_x0005_`ADJ|F_x0005_`DET|5_x0005_` | K4: =HYPERLINK("#"&단가산출근거!G2&"!A"&ROW(단가산출근거!A5),"D00007 →") -> D00007 →
A5: D00017 | B5: 구조물되메우기 다짐 | C5: (대형장비) | D5: M3 | E5: =단가산출근거!C154 -> 8894 | F5: =단가산출근거!D154 -> 5316 | G5: =단가산출근거!E154 -> 1903 | H5: =단가산출근거!F154 -> 1675 | I5: 산림 | J5: ="_x0007_`COD|D00017_x0005_`QTY1|1_x0005_`BQC|산림_x0005_`EQC|_x0005_`JDC|_x0005_`WQC|_x0005_`EDT|_x0005_`ADJ|F_x0005_`DET|"&ROW(단가산출근거!A55)&"_x0005_`" -> _x0007_`COD|D00017_x0005_`QTY1|1_x0005_`BQC|산림_x0005_`EQC|_x0005_`JDC|_x0005_`WQC|_x0005_`EDT|_x0005_`ADJ|F_x0005_`DET|55_x0005_` | K5: =HYPERLINK("#"&단가산출근거!G2&"!A"&ROW(단가산출근거!A55),"D00017 →") -> D00017 →
A6: D00019 | B6: 잔토처리 | C6: 토사(B/H 100%) | D6: M3 | E6: =단가산출근거!C204 -> 2034 | F6: =단가산출근거!D204 -> 1092 | G6: =단가산출근거!E204 -> 441 | H6: =단가산출근거!F204 -> 501 | J6: ="_x0007_`COD|D00019_x0005_`QTY1|1_x0005_`BQC|_x0005_`EQC|_x0005_`JDC|_x0005_`WQC|_x0005_`EDT|_x0005_`ADJ|F_x0005_`DET|"&ROW(단가산출근거!A155)&"_x0005_`" -> _x0007_`COD|D00019_x0005_`QTY1|1_x0005_`BQC|_x0005_`EQC|_x0005_`JDC|_x0005_`WQC|_x0005_`EDT|_x0005_`ADJ|F_x0005_`DET|155_x0005_` | K6: =HYPERLINK("#"&단가산출근거!G2&"!A"&ROW(단가산출근거!A155),"D00019 →") -> D00019 →
A7: D00022 | B7: 흙깍기 | C7: 보통토사(소규모) | D7: M3 | E7: =단가산출근거!C254 -> 3304 | F7: =단가산출근거!D254 -> 1523 | G7: =단가산출근거!E254 -> 1017 | H7: =단가산출근거!F254 -> 764 | J7: ="_x0007_`COD|D00022_x0005_`QTY1|1_x0005_`BQC|_x0005_`EQC|_x0005_`JDC|_x0005_`WQC|_x0005_`EDT|_x0005_`ADJ|F_x0005_`DET|"&ROW(단가산출근거!A205)&"_x0005_`" -> _x0007_`COD|D00022_x0005_`QTY1|1_x0005_`BQC|_x0005_`EQC|_x0005_`JDC|_x0005_`WQC|_x0005_`EDT|_x0005_`ADJ|F_x0005_`DET|205_x0005_` | K7: =HYPERLINK("#"&단가산출근거!G2&"!A"&ROW(단가산출근거!A205),"D00022 →") -> D00022 →
A8: D00035 | B8: 흙깍기(풍화암) | C8: 굴착기(1.0㎥) + 대형브레이카(1.0㎥) | D8: M3 | E8: =단가산출근거!C354 -> 22871 | F8: =단가산출근거!D354 -> 9182 | G8: =단가산출근거!E354 -> 5895 | H8: =단가산출근거!F354 -> 7794 | J8: ="_x0007_`COD|D00035_x0005_`QTY1|1_x0005_`BQC|_x0005_`EQC|_x0005_`JDC|_x0005_`WQC|_x0005_`EDT|_x0005_`ADJ|F_x0005_`DET|"&ROW(단가산출근거!A255)&"_x0005_`" -> _x0007_`COD|D00035_x0005_`QTY1|1_x0005_`BQC|_x0005_`EQC|_x0005_`JDC|_x0005_`WQC|_x0005_`EDT|_x0005_`ADJ|F_x0005_`DET|255_x0005_` | K8: =HYPERLINK("#"&단가산출근거!G2&"!A"&ROW(단가산출근거!A255),"D00035 →") -> D00035 →
A9: D00055 | B9: 측구터파기(보통토사) | C9: (기계100%) | D9: M3 | E9: =단가산출근거!C404 -> 6519 | F9: =단가산출근거!D404 -> 3499 | G9: =단가산출근거!E404 -> 1413 | H9: =단가산출근거!F404 -> 1607 | J9: ="_x0007_`COD|D00055_x0005_`QTY1|1_x0005_`BQC|_x0005_`EQC|_x0005_`JDC|_x0005_`WQC|_x0005_`EDT|_x0005_`ADJ|F_x0005_`DET|"&ROW(단가산출근거!A355)&"_x0005_`" -> _x0007_`COD|D00055_x0005_`QTY1|1_x0005_`BQC|_x0005_`EQC|_x0005_`JDC|_x0005_`WQC|_x0005_`EDT|_x0005_`ADJ|F_x0005_`DET|355_x0005_` | K9: =HYPERLINK("#"&단가산출근거!G2&"!A"&ROW(단가산출근거!A355),"D00055 →") -> D00055 →
A10: D00057 | B10: 측구터파기(풍화암) | C10: 굴착기(1.0㎥) + 대형브레이카(1.0㎥) | D10: M3 | E10: =단가산출근거!C504 -> 38881 | F10: =단가산출근거!D504 -> 15398 | G10: =단가산출근거!E504 -> 9842 | H10: =단가산출근거!F504 -> 13641 | J10: ="_x0007_`COD|D00057_x0005_`QTY1|1_x0005_`BQC|_x0005_`EQC|_x0005_`JDC|_x0005_`WQC|_x0005_`EDT|_x0005_`ADJ|F_x0005_`DET|"&ROW(단가산출근거!A405)&"_x0005_`" -> _x0007_`COD|D00057_x0005_`QTY1|1_x0005_`BQC|_x0005_`EQC|_x0005_`JDC|_x0005_`WQC|_x0005_`EDT|_x0005_`ADJ|F_x0005_`DET|405_x0005_` | K10: =HYPERLINK("#"&단가산출근거!G2&"!A"&ROW(단가산출근거!A405),"D00057 →") -> D00057 →
A11: D00099 | B11: 잡관목제거 | C11: 벌목(5m미만) | D11: M2 | E11: =단가산출근거!C604 -> 926 | F11: =단가산출근거!D604 -> 789 | G11: =단가산출근거!E604 -> 27 | H11: =단가산출근거!F604 -> 110 | J11: ="_x0007_`COD|D00099_x0005_`QTY1|1_x0005_`BQC|_x0005_`EQC|_x0005_`JDC|_x0005_`WQC|_x0005_`EDT|_x0005_`ADJ|F_x0005_`DET|"&ROW(단가산출근거!A505)&"_x0005_`" -> _x0007_`COD|D00099_x0005_`QTY1|1_x0005_`BQC|_x0005_`EQC|_x0005_`JDC|_x0005_`WQC|_x0005_`EDT|_x0005_`ADJ|F_x0005_`DET|505_x0005_` | K11: =HYPERLINK("#"&단가산출근거!G2&"!A"&ROW(단가산출근거!A505),"D00099 →") -> D00099 →
A12: D00174 | B12: 파형강관부설 | C12: Φ800mm | D12: M | E12: =단가산출근거!C704 -> 17064 | F12: =단가산출근거!D704 -> 15935 | G12: =단가산출근거!E704 -> 406 | H12: =단가산출근거!F704 -> 723 | J12: ="_x0007_`COD|D00174_x0005_`QTY1|1_x0005_`BQC|_x0005_`EQC|_x0005_`JDC|_x0005_`WQC|_x0005_`EDT|_x0005_`ADJ|F_x0005_`DET|"&ROW(단가산출근거!A605)&"_x0005_`" -> _x0007_`COD|D00174_x0005_`QTY1|1_x0005_`BQC|_x0005_`EQC|_x0005_`JDC|_x0005_`WQC|_x0005_`EDT|_x0005_`ADJ|F_x0005_`DET|605_x0005_` | K12: =HYPERLINK("#"&단가산출근거!G2&"!A"&ROW(단가산출근거!A605),"D00174 →") -> D00174 →
A13: D00180 | B13: 큰돌메쌓기 | C13: 직경 0.4~0.6m | D13: M2 | E13: =단가산출근거!C804 -> 107882 | F13: =단가산출근거!D804 -> 81995 | G13: =단가산출근거!E804 -> 11877 | H13: =단가산출근거!F804 -> 14010 | J13: ="_x0007_`COD|D00180_x0005_`QTY1|1_x0005_`BQC|_x0005_`EQC|_x0005_`JDC|_x0005_`WQC|_x0005_`EDT|_x0005_`ADJ|F_x0005_`DET|"&ROW(단가산출근거!A705)&"_x0005_`" -> _x0007_`COD|D00180_x0005_`QTY1|1_x0005_`BQC|_x0005_`EQC|_x0005_`JDC|_x0005_`WQC|_x0005_`EDT|_x0005_`ADJ|F_x0005_`DET|705_x0005_` | K13: =HYPERLINK("#"&단가산출근거!G2&"!A"&ROW(단가산출근거!A705),"D00180 →") -> D00180 →
A14: D01361 | B14: 고임돌채집운반 | C14: 4.5톤덤프(L=500) | D14: M3 | E14: =단가산출근거!C904 -> 18158 | F14: =단가산출근거!D904 -> 13159 | G14: =단가산출근거!E904 -> 2539 | H14: =단가산출근거!F904 -> 2460 | J14: ="_x0007_`COD|D01361_x0005_`QTY1|1_x0005_`BQC|_x0005_`EQC|_x0005_`JDC|_x0005_`WQC|_x0005_`EDT|_x0005_`ADJ|F_x0005_`DET|"&ROW(단가산출근거!A805)&"_x0005_`" -> _x0007_`COD|D01361_x0005_`QTY1|1_x0005_`BQC|_x0005_`EQC|_x0005_`JDC|_x0005_`WQC|_x0005_`EDT|_x0005_`ADJ|F_x0005_`DET|805_x0005_` | K14: =HYPERLINK("#"&단가산출근거!G2&"!A"&ROW(단가산출근거!A805),"D01361 →") -> D01361 →
A15: D01500 | B15: 뒷채움돌채집운반다짐 | C15: 4.5톤 덤프트럭(L=500m) | D15: M3 | E15: =단가산출근거!C1054 -> 28727 | F15: =단가산출근거!D1054 -> 21327 | G15: =단가산출근거!E1054 -> 3671 | H15: =단가산출근거!F1054 -> 3729 | J15: ="_x0007_`COD|D01500_x0005_`QTY1|1_x0005_`BQC|_x0005_`EQC|_x0005_`JDC|_x0005_`WQC|_x0005_`EDT|_x0005_`ADJ|F_x0005_`DET|"&ROW(단가산출근거!A905)&"_x0005_`" -> _x0007_`COD|D01500_x0005_`QTY1|1_x0005_`BQC|_x0005_`EQC|_x0005_`JDC|_x0005_`WQC|_x0005_`EDT|_x0005_`ADJ|F_x0005_`DET|905_x0005_` | K15: =HYPERLINK("#"&단가산출근거!G2&"!A"&ROW(단가산출근거!A905),"D01500 →") -> D01500 →
A16: D02221 | B16: 중기운반 | D16: 회 | E16: =단가산출근거!C1154 -> 485624 | F16: =단가산출근거!D1154 -> 0 | G16: =단가산출근거!E1154 -> 0 | H16: =단가산출근거!F1154 -> 485624 | J16: ="_x0007_`COD|D02221_x0005_`QTY1|1_x0005_`BQC|_x0005_`EQC|_x0005_`JDC|_x0005_`WQC|_x0005_`EDT|_x0005_`ADJ|T_x0005_`SBM|S_x0005_`ADJM|1_x0005_`ADJL|1_x0005_`ADJS|1_x0005_`DET|"&ROW(단가산출근거!A1055)&"_x0005_`" -> _x0007_`COD|D02221_x0005_`QTY1|1_x0005_`BQC|_x0005_`EQC|_x0005_`JDC|_x0005_`WQC|_x0005_`EDT|_x0005_`ADJ|T_x0005_`SBM|S_x0005_`ADJM|1_x0005_`ADJL|1_x0005_`ADJS|1_x0005_`DET|1055_x0005_` | K16: =HYPERLINK("#"&단가산출근거!G2&"!A"&ROW(단가산출근거!A1055),"D02221 →") -> D02221 →
A17: D02227 | B17: 큰돌(0.4~0.6m)운반 | C17: B/H07㎥ + D/T15Ton | D17: M3 | E17: =단가산출근거!C1254 -> 96341 | F17: =단가산출근거!D1254 -> 0 | G17: =단가산출근거!E1254 -> 0 | H17: =단가산출근거!F1254 -> 96341 | J17: ="_x0007_`COD|D02227_x0005_`QTY1|1_x0005_`BQC|_x0005_`EQC|_x0005_`JDC|_x0005_`WQC|_x0005_`EDT|_x0005_`ADJ|T_x0005_`SBM|S_x0005_`ADJM|1_x0005_`ADJL|1_x0005_`ADJS|1_x0005_`DET|"&ROW(단가산출근거!A1155)&"_x0005_`" -> _x0007_`COD|D02227_x0005_`QTY1|1_x0005_`BQC|_x0005_`EQC|_x0005_`JDC|_x0005_`WQC|_x0005_`EDT|_x0005_`ADJ|T_x0005_`SBM|S_x0005_`ADJM|1_x0005_`ADJL|1_x0005_`ADJS|1_x0005_`DET|1155_x0005_` | K17: =HYPERLINK("#"&단가산출근거!G2&"!A"&ROW(단가산출근거!A1155),"D02227 →") -> D02227 →
A18: D02244 | B18: 사질양토운반 | D18: M3 | E18: =단가산출근거!C1404 -> 12660 | F18: =단가산출근거!D1404 -> 7156 | G18: =단가산출근거!E1404 -> 3074 | H18: =단가산출근거!F1404 -> 2430 | J18: ="_x0007_`COD|D02244_x0005_`QTY1|1_x0005_`BQC|_x0005_`EQC|_x0005_`JDC|_x0005_`WQC|_x0005_`EDT|_x0005_`ADJ|F_x0005_`DET|"&ROW(단가산출근거!A1255)&"_x0005_`" -> _x0007_`COD|D02244_x0005_`QTY1|1_x0005_`BQC|_x0005_`EQC|_x0005_`JDC|_x0005_`WQC|_x0005_`EDT|_x0005_`ADJ|F_x0005_`DET|1255_x0005_` | K18: =HYPERLINK("#"&단가산출근거!G2&"!A"&ROW(단가산출근거!A1255),"D02244 →") -> D02244 →
A19: D02297 | B19: 사토운반 | C19: L=0.06Km | D19: M3 | E19: =단가산출근거!C1504 -> 1982 | F19: =단가산출근거!D1504 -> 1008 | G19: =단가산출근거!E1504 -> 621 | H19: =단가산출근거!F1504 -> 353 | J19: ="_x0007_`COD|D02297_x0005_`QTY1|1_x0005_`BQC|_x0005_`EQC|_x0005_`JDC|_x0005_`WQC|_x0005_`EDT|_x0005_`ADJ|F_x0005_`DET|"&ROW(단가산출근거!A1405)&"_x0005_`" -> _x0007_`COD|D02297_x0005_`QTY1|1_x0005_`BQC|_x0005_`EQC|_x0005_`JDC|_x0005_`WQC|_x0005_`EDT|_x0005_`ADJ|F_x0005_`DET|1405_x0005_` | K19: =HYPERLINK("#"&단가산출근거!G2&"!A"&ROW(단가산출근거!A1405),"D02297 →") -> D02297 →
A20: D02300 | B20: 절토사면고르기 | C20: 1.0 B/H | D20: M2 | E20: =단가산출근거!C1554 -> 4454 | F20: =단가산출근거!D1554 -> 2053 | G20: =단가산출근거!E1554 -> 1371 | H20: =단가산출근거!F1554 -> 1030 | J20: ="_x0007_`COD|D02300_x0005_`QTY1|1_x0005_`BQC|_x0005_`EQC|_x0005_`JDC|_x0005_`WQC|_x0005_`EDT|_x0005_`ADJ|F_x0005_`DET|"&ROW(단가산출근거!A1505)&"_x0005_`" -> _x0007_`COD|D02300_x0005_`QTY1|1_x0005_`BQC|_x0005_`EQC|_x0005_`JDC|_x0005_`WQC|_x0005_`EDT|_x0005_`ADJ|F_x0005_`DET|1505_x0005_` | K20: =HYPERLINK("#"&단가산출근거!G2&"!A"&ROW(단가산출근거!A1505),"D02300 →") -> D02300 →

Sheet 단가산출근거
A1: 단 가 산 출 근 거 | G1: STmate | Y1: STmate
A2: 공사명 : 2026년 임도재해예방사업(오목) | G2: =MID(CELL("filename",$A$1),FIND("]",CELL("filename",$A$1))+1,LEN(CELL("filename",$A$1))) -> 단가산출근거
A3: 공 종 | B3: 산 출 내 역 | C3: 합 계 | D3: 노 무 비 | E3: 재 료 비 | F3: 경 비 | Z3: 수량부분 값 수정은 아래의 연두색 부분에
H4: QTY | I4: T | J4: L | K4: M | L4: S | Y4: =HYPERLINK("#'〓 목 차 〓'!B2","목차 →") -> 목차 →
B5: D00007 | C5: =C54 -> 5982 | D5: =D54 -> 3147 | E5: =E54 -> 1271 | F5: =F54 -> 1564 | G5: =HYPERLINK("#G"&ROW(G40),"_x0005_`BDCOD|D00007_x0007_`POSS|"&ROW(G7)&"_x0007_`POSE|"&ROW(G40)&"_x0007_`") -> _x0005_`BDCOD|D00007_x0007_`POSS|7_x0007_`POSE|40_x0007_`
B6: 구조물터파기 (혼합토사 TYPEⅢ) / M3 | M6: D00007
G7: _x0007_
G8: _x0007_
G9: _x0007_
B10: 구조물 터파기 | G10: _x0007_'구조물 터파기 '
G11: _x0007_
G12: _x0007_
B13: 1. 기계경비 (굴착기 06m3) <공통품셈 3-2-4> | G13: _x0007_'1. 기계경비 (굴착기 06m3) <공통품셈 3-2-4>'
G14: _x0007_
G15: _x0007_
B16: =" Q = "&Z16&" ㎥/일 /"&AB16&" hr/일 = "&AD16&" ㎥/hr " -> Q = 150 ㎥/일 /8 hr/일 = 18.75 ㎥/hr | G16: _x0007_ Q = 150'㎥/일'/8'hr/일' = '㎥/hr' | Z16: 150 | AA16: / | AB16: 8 | AC16: = | AD16: =TEXT(ROUND(Z16/AB16,2),"#,0.00") -> 18.75
G17: _x0007_
G18: _x0007_
A19: X00212L | B19: =" 노 무 비 : "&TEXT(I19,"#,##0"&IF(I19<>INT(I19),".###",""))&" / Q = "&TEXT(C19,"#,##0.0")&"" -> 노 무 비 : 59,020 / Q = 3,147.7 | C19: =E19+D19+F19 -> 3147.7 | D19: =IF(H19=0,0,ROUNDDOWN(J19*H19,1)+U19) -> 3147.7 | E19: =IF(H19=0,0,ROUNDDOWN(K19*H19,1)+V19) -> 0 | F19: =IF(H19=0,0,ROUNDDOWN(L19*H19,1)+W19) -> 0 | G19: _x0007_'노 무 비 :'&X00212L& / Q :=A01 | H19: =ROUNDUP(AC19,14-LEN(ABS(INT(AC19)))) -> 0.053333333 | I19: =K19+J19+L19 -> 59020 | J19: =중기목록표!F7 -> 59020 | M19: X00212_1 | N19: T1_1 | O19: 1_01 | Q19: =ROUND(ROUNDDOWN(J19*H19,3)-ROUNDDOWN(J19*H19,1),3) -> 0.033 | R19: =ROUND(ROUNDDOWN(K19*H19,3)-ROUNDDOWN(K19*H19,1),3) -> 0 | S19: =ROUND(ROUNDDOWN(L19*H19,3)-ROUNDDOWN(L19*H19,1),3) -> 0 | T19: =ROUNDDOWN(ROUND(ROUNDDOWN(I19*H19,1)-(ROUNDDOWN(K19*H19,1)+ROUNDDOWN(J19*H19,1)+ROUNDDOWN(L19*H19,1)),3),1) -> 0 | U19: =IF(T19<0,-1,1)*IF(COUNTIF(P19:S19,IF(T19<0,"<",">")&Q19)+IF(S19=Q19,1,0)+IF(R19=Q19,1,0)<ROUND(ABS(T19)/0.1,0),0.1,0) -> 0 | V19: =IF(T19<0,-1,1)*IF(COUNTIF(P19:S19,IF(T19<0,"<",">")&R19)+IF(S19=R19,1,0)<ROUND(ABS(T19)/0.1,0),0.1,0) -> 0 | W19: =IF(T19<0,-1,1)*IF(COUNTIF(P19:S19,IF(T19<0,"<",">")&S19)<ROUND(ABS(T19)/0.1,0),0.1,0) -> 0 | X19: =중기목록표!B7&" / "&중기목록표!C7 -> 굴착기(타이어) / 0.6㎥ | Y19: =HYPERLINK("#"&중기목록표!J2&"!A"&ROW(중기목록표!A7),"X00212 →") -> X00212 → | Z19: 1/ | AA19: =AD16 -> 18.75 | AB19: = | AC19: =1/AD16 -> 0.053333333
G20: _x0007_
G21: _x0007_
A22: X00212M | B22: =" 재 료 비 : "&TEXT(I22,"#,##0"&IF(I22<>INT(I22),".###",""))&" / Q = "&TEXT(C22,"#,##0.0")&"" -> 재 료 비 : 23,834 / Q = 1,271.1 | C22: =E22+D22+F22 -> 1271.1 | D22: =IF(H22=0,0,ROUNDDOWN(J22*H22,1)+U22) -> 0 | E22: =IF(H22=0,0,ROUNDDOWN(K22*H22,1)+V22) -> 1271.1 | F22: =IF(H22=0,0,ROUNDDOWN(L22*H22,1)+W22) -> 0 | G22: _x0007_'재 료 비 :'&X00212M& / Q :=A01 | H22: =ROUNDUP(AC22,14-LEN(ABS(INT(AC22)))) -> 0.053333333 | I22: =K22+J22+L22 -> 23834 | K22: =중기목록표!G7 -> 23834 | M22: X00212_1 | N22: T1_1 | O22: 1_01 | Q22: =ROUND(ROUNDDOWN(J22*H22,3)-ROUNDDOWN(J22*H22,1),3) -> 0 | R22: =ROUND(ROUNDDOWN(K22*H22,3)-ROUNDDOWN(K22*H22,1),3) -> 0.046 | S22: =ROUND(ROUNDDOWN(L22*H22,3)-ROUNDDOWN(L22*H22,1),3) -> 0 | T22: =ROUNDDOWN(ROUND(ROUNDDOWN(I22*H22,1)-(ROUNDDOWN(K22*H22,1)+ROUNDDOWN(J22*H22,1)+ROUNDDOWN(L22*H22,1)),3),1) -> 0 | U22: =IF(T22<0,-1,1)*IF(COUNTIF(P22:S22,IF(T22<0,"<",">")&Q22)+IF(S22=Q22,1,0)+IF(R22=Q22,1,0)<ROUND(ABS(T22)/0.1,0),0.1,0) -> 0 | V22: =IF(T22<0,-1,1)*IF(COUNTIF(P22:S22,IF(T22<0,"<",">")&R22)+IF(S22=R22,1,0)<ROUND(ABS(T22)/0.1,0),0.1,0) -> 0 | W22: =IF(T22<0,-1,1)*IF(COUNTIF(P22:S22,IF(T22<0,"<",">")&S22)<ROUND(ABS(T22)/0.1,0),0.1,0) -> 0 | X22: =중기목록표!B7&" / "&중기목록표!C7 -> 굴착기(타이어) / 0.6㎥ | Y22: =HYPERLINK("#"&중기목록표!J2&"!A"&ROW(중기목록표!A7),"X00212 →") -> X00212 → | Z22: 1/ | AA22: =AD16 -> 18.75 | AB22: = | AC22: =1/AD16 -> 0.053333333
G23: _x0007_
G24: _x0007_
A25: X00212S | B25: =" 경 비 : "&TEXT(I25,"#,##0"&IF(I25<>INT(I25),".###",""))&" / Q = "&TEXT(C25,"#,##0.0")&"" -> 경 비 : 27,120 / Q = 1,446.4 | C25: =E25+D25+F25 -> 1446.4 | D25: =IF(H25=0,0,ROUNDDOWN(J25*H25,1)+U25) -> 0 | E25: =IF(H25=0,0,ROUNDDOWN(K25*H25,1)+V25) -> 0 | F25: =IF(H25=0,0,ROUNDDOWN(L25*H25,1)+W25) -> 1446.4 | G25: _x0007_'경 비 :'&X00212S& / Q :=A01 | H25: =ROUNDUP(AC25,14-LEN(ABS(INT(AC25)))) -> 0.053333333 | I25: =K25+J25+L25 -> 27120 | L25: =중기목록표!H7 -> 27120 | M25: X00212_1 | N25: T1_1 | O25: 1_01 | Q25: =ROUND(ROUNDDOWN(J25*H25,3)-ROUNDDOWN(J25*H25,1),3) -> 0 | R25: =ROUND(ROUNDDOWN(K25*H25,3)-ROUNDDOWN(K25*H25,1),3) -> 0 | S25: =ROUND(ROUNDDOWN(L25*H25,3)-ROUNDDOWN(L25*H25,1),3) -> 0 | T25: =ROUNDDOWN(ROUND(ROUNDDOWN(I25*H25,1)-(ROUNDDOWN(K25*H25,1)+ROUNDDOWN(J25*H25,1)+ROUNDDOWN(L25*H25,1)),3),1) -> 0 | U25: =IF(T25<0,-1,1)*IF(COUNTIF(P25:S25,IF(T25<0,"<",">")&Q25)+IF(S25=Q25,1,0)+IF(R25=Q25,1,0)<ROUND(ABS(T25)/0.1,0),0.1,0) -> 0 | V25: =IF(T25<0,-1,1)*IF(COUNTIF(P25:S25,IF(T25<0,"<",">")&R25)+IF(S25=R25,1,0)<ROUND(ABS(T25)/0.1,0),0.1,0) -> 0 | W25: =IF(T25<0,-1,1)*IF(COUNTIF(P25:S25,IF(T25<0,"<",">")&S25)<ROUND(ABS(T25)/0.1,0),0.1,0) -> 0 | X25: =중기목록표!B7&" / "&중기목록표!C7 -> 굴착기(타이어) / 0.6㎥ | Y25: =HYPERLINK("#"&중기목록표!J2&"!A"&ROW(중기목록표!A7),"X00212 →") -> X00212 → | Z25: 1/ | AA25: =AD16 -> 18.75 | AB25: = | AC25: =1/AD16 -> 0.053333333
G26: _x0007_
G27: _x0007_
B28: 소계 | C28: =E28+D28+F28 -> 5865.2 | D28: =SUMIF(N7:N27,M28,D7:D27) -> 3147.7 | E28: =SUMIF(N7:N27,M28,E7:E27) -> 1271.1 | F28: =SUMIF(N7:N27,M28,F7:F27) -> 1446.4 | G28: _x0007_(=) | M28: T1_1 | N28: T2_1
G29: _x0007_
G30: _x0007_
B31: 2. 리퍼경비(기계경비의 2%) | G31: _x0007_'2. 리퍼경비(기계경비의 2%)'
G32: _x0007_
G33: _x0007_
B34: =" 기계경비 : "&TEXT(I34,"#,##0.0")&" * "&AA34&" % = "&TEXT(C34,"#,##0.0")&"" -> 기계경비 : 5,865.2 * 2 % = 117.3 | C34: =E34+D34+F34 -> 117.3 | D34: =IF(H34=0,0,ROUNDDOWN(J34*H34/100,1)+U34) -> 0 | E34: =IF(H34=0,0,ROUNDDOWN(K34*H34/100,1)+V34) -> 0 | F34: =IF(H34=0,0,ROUNDDOWN(L34*H34/100,1)+W34) -> 117.3 | G34: _x0007_'기계경비 :' &PA01:S& * 2'%' = | H34: =ROUNDUP(AC34,14-LEN(ABS(INT(AC34)))) -> 2 | I34: =K34+J34+L34 -> 5865.2 | J34: 0 | K34: 0 | L34: =C19+C22+C25 -> 5865.2 | M34: PR_1 | N34: T1_1 | Q34: =ROUND(ROUNDDOWN(J34*H34/100,3)-ROUNDDOWN(J34*H34/100,1),3) -> 0 | R34: =ROUND(ROUNDDOWN(K34*H34/100,3)-ROUNDDOWN(K34*H34/100,1),3) -> 0 | S34: =ROUND(ROUNDDOWN(L34*H34/100,3)-ROUNDDOWN(L34*H34/100,1),3) -> 0.004 | T34: =ROUNDDOWN(ROUND(ROUNDDOWN(I34*H34/100,1)-(ROUNDDOWN(K34*H34/100,1)+ROUNDDOWN(J34*H34/100,1)+ROUNDDOWN(L34*H34/100,1)),3),1) -> 0 | U34: =IF(T34<0,-1,1)*IF(COUNTIF(P34:S34,IF(T34<0,"<",">")&Q34)+IF(S34=Q34,1,0)+IF(R34=Q34,1,0)<ROUND(ABS(T34)/0.1,0),0.1,0) -> 0 | V34: =IF(T34<0,-1,1)*IF(COUNTIF(P34:S34,IF(T34<0,"<",">")&R34)+IF(S34=R34,1,0)<ROUND(ABS(T34)/0.1,0),0.1,0) -> 0 | W34: =IF(T34<0,-1,1)*IF(COUNTIF(P34:S34,IF(T34<0,"<",">")&S34)<ROUND(ABS(T34)/0.1,0),0.1,0) -> 0 | Z34: 1* | AA34: 2 | AB34: = | AC34: =1*AA34 -> 2
G35: _x0007_
G36: _x0007_
B37: 소계 | C37: =E37+D37+F37 -> 117.3 | D37: =SUMIF(N29:N36,M37,D29:D36) -> 0 | E37: =SUMIF(N29:N36,M37,E29:E36) -> 0 | F37: =SUMIF(N29:N36,M37,F29:F36) -> 117.3 | G37: _x0007_(=) | M37: T1_1 | N37: T2_1
G38: _x0007_
G39: _x0007_
B40: 계 | C40: =E40+D40+F40 -> 5982.5 | D40: =SUMIF(N7:N39,M40,D7:D39) -> 3147.7 | E40: =SUMIF(N7:N39,M40,E7:E39) -> 1271.1 | F40: =SUMIF(N7:N39,M40,F7:F39) -> 1563.7 | G40: _x0007_(==) | M40: T2_1 | N40: T7_1
A54: 총 계 | C54: =E54+D54+F54 -> 5982 | D54: =ROUNDDOWN(SUMIF(N7:N40,M54,D7:D40)+U54,0) -> 3147 | E54: =ROUNDDOWN(SUMIF(N7:N40,M54,E7:E40)+V54,0) -> 1271 | F54: =ROUNDDOWN(SUMIF(N7:N40,M54,F7:F40)+W54,0) -> 1564 | I54: =K54+J54+L54 -> 5982.5 | J54: =SUMIF(N7:N40,M54,D7:D40) -> 3147.7 | K54: =SUMIF(N7:N40,M54,E7:E40) -> 1271.1 | L54: =SUMIF(N7:N40,M54,F7:F40) -> 1563.7 | M54: T7_1 | Q54: =ROUND(ROUNDDOWN(J54,2)-ROUNDDOWN(J54,0),2) -> 0.7 | R54: =ROUND(ROUNDDOWN(K54,2)-ROUNDDOWN(K54,0),2) -> 0.1 | S54: =ROUND(ROUNDDOWN(L54,2)-ROUNDDOWN(L54,0),2) -> 0.7 | T54: =ROUNDDOWN(ROUND(ROUNDDOWN(I54,0)-(ROUNDDOWN(K54,0)+ROUNDDOWN(J54,0)+ROUNDDOWN(L54,0)),2),0) -> 1 | U54: =IF(T54<0,-1,1)*IF(COUNTIF(P54:S54,IF(T54<0,"<",">")&Q54)+IF(S54=Q54,1,0)+IF(R54=Q54,1,0)<ROUND(ABS(T54)/1,0),1,0) -> 0 | V54: =IF(T54<0,-1,1)*IF(COUNTIF(P54:S54,IF(T54<0,"<",">")&R54)+IF(S54=R54,1,0)<ROUND(ABS(T54)/1,0),1,0) -> 0 | W54: =IF(T54<0,-1,1)*IF(COUNTIF(P54:S54,IF(T54<0,"<",">")&S54)<ROUND(ABS(T54)/1,0),1,0) -> 1
A55: 산림 | B55: D00017 | C55: =C154 -> 8894 | D55: =D154 -> 5316 | E55: =E154 -> 1903 | F55: =F154 -> 1675 | G55: =HYPERLINK("#G"&ROW(G112),"_x0005_`BDCOD|D00017_x0007_`POSS|"&ROW(G57)&"_x0007_`POSE|"&ROW(G112)&"_x0007_`") -> _x0005_`BDCOD|D00017_x0007_`POSS|57_x0007_`POSE|112_x0007_`
B56: 구조물되메우기 다짐 (대형장비) / M3 | M56: D00017
G57: _x0007_
G58: _x0007_
B59: 구조물 되메우기 다짐 (대형장비) <공통품셈 3-4-7> | G59: _x0007_' 구조물 되메우기 다짐 (대형장비) <공통품셈 3-4-7>'
G60: _x0007_
B61: =" Q = "&Z61&" ㎥/일 " -> Q = 290 ㎥/일 | G61: _x0007_ Q = 290'㎥/일' | Z61: 290 | AA61: = | AB61: =Z61 -> 290
G62: _x0007_
B63: 1.노 무 비 | G63: _x0007_'1.노 무 비'
G64: _x0007_
A65: L00003 | B65: =" - 특별인부 : "&Z65&" 인 * "&TEXT(I65,"#,##0"&IF(I65<>INT(I65),".###",""))&" / Q = "&TEXT(C65,"#,##0.0")&"" -> - 특별인부 : 1 인 * 226,122 / Q = 779.7 | C65: =E65+D65+F65 -> 779.7 | D65: =IF(H65=0,0,ROUNDDOWN(J65*H65,1)+U65) -> 779.7 | E65: =IF(H65=0,0,ROUNDDOWN(K65*H65,1)+V65) -> 0 | F65: =IF(H65=0,0,ROUNDDOWN(L65*H65,1)+W65) -> 0 | G65: _x0007_ '- 특별인부 :' 1.0'인' * &L00003& / Q = | H65: =ROUNDUP(AD65,14-LEN(ABS(INT(AD65)))) -> 0.0034482759 | I65: =K65+J65+L65 -> 226122 | J65: =노무비목록표!E6 -> 226122 | M65: L00003_1 | N65: T1_1 | Q65: =ROUND(ROUNDDOWN(J65*H65,3)-ROUNDDOWN(J65*H65,1),3) -> 0.031 | R65: =ROUND(ROUNDDOWN(K65*H65,3)-ROUNDDOWN(K65*H65,1),3) -> 0 | S65: =ROUND(ROUNDDOWN(L65*H65,3)-ROUNDDOWN(L65*H65,1),3) -> 0 | T65: =ROUNDDOWN(ROUND(ROUNDDOWN(I65*H65,1)-(ROUNDDOWN(K65*H65,1)+ROUNDDOWN(J65*H65,1)+ROUNDDOWN(L65*H65,1)),3),1) -> 0 | U65: =IF(T65<0,-1,1)*IF(COUNTIF(P65:S65,IF(T65<0,"<",">")&Q65)+IF(S65=Q65,1,0)+IF(R65=Q65,1,0)<ROUND(ABS(T65)/0.1,0),0.1,0) -> 0 | V65: =IF(T65<0,-1,1)*IF(COUNTIF(P65:S65,IF(T65<0,"<",">")&R65)+IF(S65=R65,1,0)<ROUND(ABS(T65)/0.1,0),0.1,0) -> 0 | W65: =IF(T65<0,-1,1)*IF(COUNTIF(P65:S65,IF(T65<0,"<",">")&S65)<ROUND(ABS(T65)/0.1,0),0.1,0) -> 0 | X65: =노무비목록표!B6&" / "&노무비목록표!C6 -> 특별인부 / | Y65: =HYPERLINK("#"&노무비목록표!G2&"!A"&ROW(노무비목록표!A6),"L00003 →") -> L00003 → | Z65: 1 | AA65: *1/ | AB65: =AB61 -> 290 | AC65: = | AD65: =Z65*1/AB61 -> 0.0034482759
G66: _x0007_
A67: L00002 | B67: =" - 보통인부 : "&Z67&" 인 * "&TEXT(I67,"#,##0"&IF(I67<>INT(I67),".###",""))&" / Q = "&TEXT(C67,"#,##0.0")&"" -> - 보통인부 : 1 인 * 172,068 / Q = 593.3 | C67: =E67+D67+F67 -> 593.3 | D67: =IF(H67=0,0,ROUNDDOWN(J67*H67,1)+U67) -> 593.3 | E67: =IF(H67=0,0,ROUNDDOWN(K67*H67,1)+V67) -> 0 | F67: =IF(H67=0,0,ROUNDDOWN(L67*H67,1)+W67) -> 0 | G67: _x0007_ '- 보통인부 :' 1.0'인' * &L00002& / Q = | H67: =ROUNDUP(AD67,14-LEN(ABS(INT(AD67)))) -> 0.0034482759 | I67: =K67+J67+L67 -> 172068 | J67: =노무비목록표!E5 -> 172068 | M67: L00002_1 | N67: T1_1 | Q67: =ROUND(ROUNDDOWN(J67*H67,3)-ROUNDDOWN(J67*H67,1),3) -> 0.037 | R67: =ROUND(ROUNDDOWN(K67*H67,3)-ROUNDDOWN(K67*H67,1),3) -> 0 | S67: =ROUND(ROUNDDOWN(L67*H67,3)-ROUNDDOWN(L67*H67,1),3) -> 0 | T67: =ROUNDDOWN(ROUND(ROUNDDOWN(I67*H67,1)-(ROUNDDOWN(K67*H67,1)+ROUNDDOWN(J67*H67,1)+ROUNDDOWN(L67*H67,1)),3),1) -> 0 | U67: =IF(T67<0,-1,1)*IF(COUNTIF(P67:S67,IF(T67<0,"<",">")&Q67)+IF(S67=Q67,1,0)+IF(R67=Q67,1,0)<ROUND(ABS(T67)/0.1,0),0.1,0) -> 0 | V67: =IF(T67<0,-1,1)*IF(COUNTIF(P67:S67,IF(T67<0,"<",">")&R67)+IF(S67=R67,1,0)<ROUND(ABS(T67)/0.1,0),0.1,0) -> 0 | W67: =IF(T67<0,-1,1)*IF(COUNTIF(P67:S67,IF(T67<0,"<",">")&S67)<ROUND(ABS(T67)/0.1,0),0.1,0) -> 0 | X67: =노무비목록표!B5&" / "&노무비목록표!C5 -> 보통인부 / | Y67: =HYPERLINK("#"&노무비목록표!G2&"!A"&ROW(노무비목록표!A5),"L00002 →") -> L00002 → | Z67: 1 | AA67: *1/ | AB67: =AB61 -> 290 | AC67: = | AD67: =Z67*1/AB61 -> 0.0034482759
G68: _x0007_
B69: 소계 | C69: =E69+D69+F69 -> 1373 | D69: =SUMIF(N57:N68,M69,D57:D68) -> 1373 | E69: =SUMIF(N57:N68,M69,E57:E68) -> 0 | F69: =SUMIF(N57:N68,M69,F57:F68) -> 0 | G69: _x0007_(=) | M69: T1_1 | N69: T2_1
G70: _x0007_
B71: 2. 기계경비 | G71: _x0007_'2. 기계경비'
G72: _x0007_
B73: 1) 굴착기 (0.6㎥) | G73: _x0007_ '1) 굴착기 (0.6㎥)'
G74: _x0007_
A75: X00212L | B75: =" 노 무 비 : "&TEXT(I75,"#,##0"&IF(I75<>INT(I75),".###",""))&" / Q * "&AC75&" Hr/일 = "&TEXT(C75,"#,##0.0")&"" -> 노 무 비 : 59,020 / Q * 8 Hr/일 = 1,628.1 | C75: =E75+D75+F75 -> 1628.1 | D75: =IF(H75=0,0,ROUNDDOWN(J75*H75,1)+U75) -> 1628.1 | E75: =IF(H75=0,0,ROUNDDOWN(K75*H75,1)+V75) -> 0 | F75: =IF(H75=0,0,ROUNDDOWN(L75*H75,1)+W75) -> 0 | G75: _x0007_ '노 무 비 : '&X00212L& / Q * 8'Hr/일'= | H75: =ROUNDUP(AE75,14-LEN(ABS(INT(AE75)))) -> 0.027586207 | I75: =K75+J75+L75 -> 59020 | J75: =중기목록표!F7 -> 59020 | M75: X00212_1 | N75: T1_1 | Q75: =ROUND(ROUNDDOWN(J75*H75,3)-ROUNDDOWN(J75*H75,1),3) -> 0.037 | R75: =ROUND(ROUNDDOWN(K75*H75,3)-ROUNDDOWN(K75*H75,1),3) -> 0 | S75: =ROUND(ROUNDDOWN(L75*H75,3)-ROUNDDOWN(L75*H75,1),3) -> 0 | T75: =ROUNDDOWN(ROUND(ROUNDDOWN(I75*H75,1)-(ROUNDDOWN(K75*H75,1)+ROUNDDOWN(J75*H75,1)+ROUNDDOWN(L75*H75,1)),3),1) -> 0 | U75: =IF(T75<0,-1,1)*IF(COUNTIF(P75:S75,IF(T75<0,"<",">")&Q75)+IF(S75=Q75,1,0)+IF(R75=Q75,1,0)<ROUND(ABS(T75)/0.1,0),0.1,0) -> 0 | V75: =IF(T75<0,-1,1)*IF(COUNTIF(P75:S75,IF(T75<0,"<",">")&R75)+IF(S75=R75,1,0)<ROUND(ABS(T75)/0.1,0),0.1,0) -> 0 | W75: =IF(T75<0,-1,1)*IF(COUNTIF(P75:S75,IF(T75<0,"<",">")&S75)<ROUND(ABS(T75)/0.1,0),0.1,0) -> 0 | X75: =중기목록표!B7&" / "&중기목록표!C7 -> 굴착기(타이어) / 0.6㎥ | Y75: =HYPERLINK("#"&중기목록표!J2&"!A"&ROW(중기목록표!A7),"X00212 →") -> X00212 → | Z75: 1/ | AA75: =AB61 -> 290 | AB75: * | AC75: 8 | AD75: = | AE75: =1/AB61*AC75 -> 0.027586207
G76: _x0007_
A77: X00212M | B77: =" 재 료 비 : "&TEXT(I77,"#,##0"&IF(I77<>INT(I77),".###",""))&" / Q * "&AC77&" Hr/일 = "&TEXT(C77,"#,##0.0")&"" -> 재 료 비 : 23,834 / Q * 8 Hr/일 = 657.4 | C77: =E77+D77+F77 -> 657.4 | D77: =IF(H77=0,0,ROUNDDOWN(J77*H77,1)+U77) -> 0 | E77: =IF(H77=0,0,ROUNDDOWN(K77*H77,1)+V77) -> 657.4 | F77: =IF(H77=0,0,ROUNDDOWN(L77*H77,1)+W77) -> 0 | G77: _x0007_ '재 료 비 : '&X00212M& / Q * 8'Hr/일'= | H77: =ROUNDUP(AE77,14-LEN(ABS(INT(AE77)))) -> 0.027586207 | I77: =K77+J77+L77 -> 23834 | K77: =중기목록표!G7 -> 23834 | M77: X00212_1 | N77: T1_1 | Q77: =ROUND(ROUNDDOWN(J77*H77,3)-ROUNDDOWN(J77*H77,1),3) -> 0 | R77: =ROUND(ROUNDDOWN(K77*H77,3)-ROUNDDOWN(K77*H77,1),3) -> 0.089 | S77: =ROUND(ROUNDDOWN(L77*H77,3)-ROUNDDOWN(L77*H77,1),3) -> 0 | T77: =ROUNDDOWN(ROUND(ROUNDDOWN(I77*H77,1)-(ROUNDDOWN(K77*H77,1)+ROUNDDOWN(J77*H77,1)+ROUNDDOWN(L77*H77,1)),3),1) -> 0 | U77: =IF(T77<0,-1,1)*IF(COUNTIF(P77:S77,IF(T77<0,"<",">")&Q77)+IF(S77=Q77,1,0)+IF(R77=Q77,1,0)<ROUND(ABS(T77)/0.1,0),0.1,0) -> 0 | V77: =IF(T77<0,-1,1)*IF(COUNTIF(P77:S77,IF(T77<0,"<",">")&R77)+IF(S77=R77,1,0)<ROUND(ABS(T77)/0.1,0),0.1,0) -> 0 | W77: =IF(T77<0,-1,1)*IF(COUNTIF(P77:S77,IF(T77<0,"<",">")&S77)<ROUND(ABS(T77)/0.1,0),0.1,0) -> 0 | X77: =중기목록표!B7&" / "&중기목록표!C7 -> 굴착기(타이어) / 0.6㎥ | Y77: =HYPERLINK("#"&중기목록표!J2&"!A"&ROW(중기목록표!A7),"X00212 →") -> X00212 → | Z77: 1/ | AA77: =AB61 -> 290 | AB77: * | AC77: 8 | AD77: = | AE77: =1/AB61*AC77 -> 0.027586207
G78: _x0007_
A79: X00212S | B79: =" 경 비 : "&TEXT(I79,"#,##0"&IF(I79<>INT(I79),".###",""))&" / Q * "&AC79&" Hr/일 = "&TEXT(C79,"#,##0.0")&"" -> 경 비 : 27,120 / Q * 8 Hr/일 = 748.1 | C79: =E79+D79+F79 -> 748.1 | D79: =IF(H79=0,0,ROUNDDOWN(J79*H79,1)+U79) -> 0 | E79: =IF(H79=0,0,ROUNDDOWN(K79*H79,1)+V79) -> 0 | F79: =IF(H79=0,0,ROUNDDOWN(L79*H79,1)+W79) -> 748.1 | G79: _x0007_ '경 비 : '&X00212S& / Q * 8'Hr/일'= | H79: =ROUNDUP(AE79,14-LEN(ABS(INT(AE79)))) -> 0.027586207 | I79: =K79+J79+L79 -> 27120 | L79: =중기목록표!H7 -> 27120 | M79: X00212_1 | N79: T1_1 | Q79: =ROUND(ROUNDDOWN(J79*H79,3)-ROUNDDOWN(J79*H79,1),3) -> 0 | R79: =ROUND(ROUNDDOWN(K79*H79,3)-ROUNDDOWN(K79*H79,1),3) -> 0 | S79: =ROUND(ROUNDDOWN(L79*H79,3)-ROUNDDOWN(L79*H79,1),3) -> 0.037 | T79: =ROUNDDOWN(ROUND(ROUNDDOWN(I79*H79,1)-(ROUNDDOWN(K79*H79,1)+ROUNDDOWN(J79*H79,1)+ROUNDDOWN(L79*H79,1)),3),1) -> 0 | U79: =IF(T79<0,-1,1)*IF(COUNTIF(P79:S79,IF(T79<0,"<",">")&Q79)+IF(S79=Q79,1,0)+IF(R79=Q79,1,0)<ROUND(ABS(T79)/0.1,0),0.1,0) -> 0 | V79: =IF(T79<0,-1,1)*IF(COUNTIF(P79:S79,IF(T79<0,"<",">")&R79)+IF(S79=R79,1,0)<ROUND(ABS(T79)/0.1,0),0.1,0) -> 0 | W79: =IF(T79<0,-1,1)*IF(COUNTIF(P79:S79,IF(T79<0,"<",">")&S79)<ROUND(ABS(T79)/0.1,0),0.1,0) -> 0 | X79: =중기목록표!B7&" / "&중기목록표!C7 -> 굴착기(타이어) / 0.6㎥ | Y79: =HYPERLINK("#"&중기목록표!J2&"!A"&ROW(중기목록표!A7),"X00212 →") -> X00212 → | Z79: 1/ | AA79: =AB61 -> 290 | AB79: * | AC79: 8 | AD79: = | AE79: =1/AB61*AC79 -> 0.027586207
G80: _x0007_
B81: 소계 | C81: =E81+D81+F81 -> 3033.6 | D81: =SUMIF(N70:N80,M81,D70:D80) -> 1628.1 | E81: =SUMIF(N70:N80,M81,E70:E80) -> 657.4 | F81: =SUMIF(N70:N80,M81,F70:F80) -> 748.1 | G81: _x0007_ (=) | M81: T1_1 | N81: T2_1
G82: _x0007_
B83: 2) 진동로울러 (10Ton) | G83: _x0007_'2) 진동로울러 (10Ton)'
G84: _x0007_
A85: X01309L | B85: =" 노 무 비 : "&TEXT(I85,"#,##0"&IF(I85<>INT(I85),".###",""))&" / Q * "&AC85&" Hr/일 = "&TEXT(C85,"#,##0.0")&"" -> 노 무 비 : 59,020 / Q * 8 Hr/일 = 1,628.1 | C85: =E85+D85+F85 -> 1628.1 | D85: =IF(H85=0,0,ROUNDDOWN(J85*H85,1)+U85) -> 1628.1 | E85: =IF(H85=0,0,ROUNDDOWN(K85*H85,1)+V85) -> 0 | F85: =IF(H85=0,0,ROUNDDOWN(L85*H85,1)+W85) -> 0 | G85: _x0007_'노 무 비 : '&X01309L& / Q * 8'Hr/일' = | H85: =ROUNDUP(AE85,14-LEN(ABS(INT(AE85)))) -> 0.027586207 | I85: =K85+J85+L85 -> 59020 | J85: =중기목록표!F14 -> 59020 | M85: X01309_1 | N85: T1_1 | Q85: =ROUND(ROUNDDOWN(J85*H85,3)-ROUNDDOWN(J85*H85,1),3) -> 0.037 | R85: =ROUND(ROUNDDOWN(K85*H85,3)-ROUNDDOWN(K85*H85,1),3) -> 0 | S85: =ROUND(ROUNDDOWN(L85*H85,3)-ROUNDDOWN(L85*H85,1),3) -> 0 | T85: =ROUNDDOWN(ROUND(ROUNDDOWN(I85*H85,1)-(ROUNDDOWN(K85*H85,1)+ROUNDDOWN(J85*H85,1)+ROUNDDOWN(L85*H85,1)),3),1) -> 0 | U85: =IF(T85<0,-1,1)*IF(COUNTIF(P85:S85,IF(T85<0,"<",">")&Q85)+IF(S85=Q85,1,0)+IF(R85=Q85,1,0)<ROUND(ABS(T85)/0.1,0),0.1,0) -> 0 | V85: =IF(T85<0,-1,1)*IF(COUNTIF(P85:S85,IF(T85<0,"<",">")&R85)+IF(S85=R85,1,0)<ROUND(ABS(T85)/0.1,0),0.1,0) -> 0 | W85: =IF(T85<0,-1,1)*IF(COUNTIF(P85:S85,IF(T85<0,"<",">")&S85)<ROUND(ABS(T85)/0.1,0),0.1,0) -> 0 | X85: =중기목록표!B14&" / "&중기목록표!C14 -> 진동롤러(자주식) / 10톤 | Y85: =HYPERLINK("#"&중기목록표!J2&"!A"&ROW(중기목록표!A14),"X01309 →") -> X01309 → | Z85: 1/ | AA85: =AB61 -> 290 | AB85: * | AC85: 8 | AD85: = | AE85: =1/AB61*AC85 -> 0.027586207
G86: _x0007_
A87: X01309M | B87: =" 재 료 비 : "&TEXT(I87,"#,##0"&IF(I87<>INT(I87),".###",""))&" / Q * "&AC87&" Hr/일 = "&TEXT(C87,"#,##0.0")&"" -> 재 료 비 : 31,019 / Q * 8 Hr/일 = 855.6 | C87: =E87+D87+F87 -> 855.6 | D87: =IF(H87=0,0,ROUNDDOWN(J87*H87,1)+U87) -> 0 | E87: =IF(H87=0,0,ROUNDDOWN(K87*H87,1)+V87) -> 855.6 | F87: =IF(H87=0,0,ROUNDDOWN(L87*H87,1)+W87) -> 0 | G87: _x0007_'재 료 비 : '&X01309M& / Q * 8'Hr/일' = | H87: =ROUNDUP(AE87,14-LEN(ABS(INT(AE87)))) -> 0.027586207 | I87: =K87+J87+L87 -> 31019 | K87: =중기목록표!G14 -> 31019 | M87: X01309_1 | N87: T1_1 | Q87: =ROUND(ROUNDDOWN(J87*H87,3)-ROUNDDOWN(J87*H87,1),3) -> 0 | R87: =ROUND(ROUNDDOWN(K87*H87,3)-ROUNDDOWN(K87*H87,1),3) -> 0.096 | S87: =ROUND(ROUNDDOWN(L87*H87,3)-ROUNDDOWN(L87*H87,1),3) -> 0 | T87: =ROUNDDOWN(ROUND(ROUNDDOWN(I87*H87,1)-(ROUNDDOWN(K87*H87,1)+ROUNDDOWN(J87*H87,1)+ROUNDDOWN(L87*H87,1)),3),1) -> 0 | U87: =IF(T87<0,-1,1)*IF(COUNTIF(P87:S87,IF(T87<0,"<",">")&Q87)+IF(S87=Q87,1,0)+IF(R87=Q87,1,0)<ROUND(ABS(T87)/0.1,0),0.1,0) -> 0 | V87: =IF(T87<0,-1,1)*IF(COUNTIF(P87:S87,IF(T87<0,"<",">")&R87)+IF(S87=R87,1,0)<ROUND(ABS(T87)/0.1,0),0.1,0) -> 0 | W87: =IF(T87<0,-1,1)*IF(COUNTIF(P87:S87,IF(T87<0,"<",">")&S87)<ROUND(ABS(T87)/0.1,0),0.1,0) -> 0 | X87: =중기목록표!B14&" / "&중기목록표!C14 -> 진동롤러(자주식) / 10톤 | Y87: =HYPERLINK("#"&중기목록표!J2&"!A"&ROW(중기목록표!A14),"X01309 →") -> X01309 → | Z87: 1/ | AA87: =AB61 -> 290 | AB87: * | AC87: 8 | AD87: = | AE87: =1/AB61*AC87 -> 0.027586207
G88: _x0007_
A89: X01309S | B89: =" 경 비 : "&TEXT(I89,"#,##0"&IF(I89<>INT(I89),".###",""))&" / Q * "&AC89&" Hr/일 = "&TEXT(C89,"#,##0.0")&"" -> 경 비 : 26,662 / Q * 8 Hr/일 = 735.5 | C89: =E89+D89+F89 -> 735.5 | D89: =IF(H89=0,0,ROUNDDOWN(J89*H89,1)+U89) -> 0 | E89: =IF(H89=0,0,ROUNDDOWN(K89*H89,1)+V89) -> 0 | F89: =IF(H89=0,0,ROUNDDOWN(L89*H89,1)+W89) -> 735.5 | G89: _x0007_'경 비 : '&X01309S& / Q * 8'Hr/일' = | H89: =ROUNDUP(AE89,14-LEN(ABS(INT(AE89)))) -> 0.027586207 | I89: =K89+J89+L89 -> 26662 | L89: =중기목록표!H14 -> 26662 | M89: X01309_1 | N89: T1_1 | Q89: =ROUND(ROUNDDOWN(J89*H89,3)-ROUNDDOWN(J89*H89,1),3) -> 0 | R89: =ROUND(ROUNDDOWN(K89*H89,3)-ROUNDDOWN(K89*H89,1),3) -> 0 | S89: =ROUND(ROUNDDOWN(L89*H89,3)-ROUNDDOWN(L89*H89,1),3) -> 0.003 | T89: =ROUNDDOWN(ROUND(ROUNDDOWN(I89*H89,1)-(ROUNDDOWN(K89*H89,1)+ROUNDDOWN(J89*H89,1)+ROUNDDOWN(L89*H89,1)),3),1) -> 0 | U89: =IF(T89<0,-1,1)*IF(COUNTIF(P89:S89,IF(T89<0,"<",">")&Q89)+IF(S89=Q89,1,0)+IF(R89=Q89,1,0)<ROUND(ABS(T89)/0.1,0),0.1,0) -> 0 | V89: =IF(T89<0,-1,1)*IF(COUNTIF(P89:S89,IF(T89<0,"<",">")&R89)+IF(S89=R89,1,0)<ROUND(ABS(T89)/0.1,0),0.1,0) -> 0 | W89: =IF(T89<0,-1,1)*IF(COUNTIF(P89:S89,IF(T89<0,"<",">")&S89)<ROUND(ABS(T89)/0.1,0),0.1,0) -> 0 | X89: =중기목록표!B14&" / "&중기목록표!C14 -> 진동롤러(자주식) / 10톤 | Y89: =HYPERLINK("#"&중기목록표!J2&"!A"&ROW(중기목록표!A14),"X01309 →") -> X01309 → | Z89: 1/ | AA89: =AB61 -> 290 | AB89: * | AC89: 8 | AD89: = | AE89: =1/AB61*AC89 -> 0.027586207
G90: _x0007_
B91: 소계 | C91: =E91+D91+F91 -> 3219.2 | D91: =SUMIF(N82:N90,M91,D82:D90) -> 1628.1 | E91: =SUMIF(N82:N90,M91,E82:E90) -> 855.6 | F91: =SUMIF(N82:N90,M91,F82:F90) -> 735.5 | G91: _x0007_ (=) | M91: T1_1 | N91: T2_1
G92: _x0007_
B93: 3) 핸드가이드식(0.7Ton) | G93: _x0007_'3) 핸드가이드식(0.7Ton)'
G94: _x0007_
A95: X01305M | B95: =" 재 료 비 : "&TEXT(I95,"#,##0"&IF(I95<>INT(I95),".###",""))&" / Q * "&AC95&" Hr/일 = "&TEXT(C95,"#,##0.0")&"" -> 재 료 비 : 4,119 / Q * 8 Hr/일 = 113.6 | C95: =E95+D95+F95 -> 113.6 | D95: =IF(H95=0,0,ROUNDDOWN(J95*H95,1)+U95) -> 0 | E95: =IF(H95=0,0,ROUNDDOWN(K95*H95,1)+V95) -> 113.6 | F95: =IF(H95=0,0,ROUNDDOWN(L95*H95,1)+W95) -> 0 | G95: _x0007_'재 료 비 : '&X01305M& / Q * 8'Hr/일'= | H95: =ROUNDUP(AE95,14-LEN(ABS(INT(AE95)))) -> 0.027586207 | I95: =K95+J95+L95 -> 4119 | K95: =중기목록표!G13 -> 4119 | M95: X01305_1 | N95: T1_1 | Q95: =ROUND(ROUNDDOWN(J95*H95,3)-ROUNDDOWN(J95*H95,1),3) -> 0 | R95: =ROUND(ROUNDDOWN(K95*H95,3)-ROUNDDOWN(K95*H95,1),3) -> 0.027 | S95: =ROUND(ROUNDDOWN(L95*H95,3)-ROUNDDOWN(L95*H95,1),3) -> 0 | T95: =ROUNDDOWN(ROUND(ROUNDDOWN(I95*H95,1)-(ROUNDDOWN(K95*H95,1)+ROUNDDOWN(J95*H95,1)+ROUNDDOWN(L95*H95,1)),3),1) -> 0 | U95: =IF(T95<0,-1,1)*IF(COUNTIF(P95:S95,IF(T95<0,"<",">")&Q95)+IF(S95=Q95,1,0)+IF(R95=Q95,1,0)<ROUND(ABS(T95)/0.1,0),0.1,0) -> 0 | V95: =IF(T95<0,-1,1)*IF(COUNTIF(P95:S95,IF(T95<0,"<",">")&R95)+IF(S95=R95,1,0)<ROUND(ABS(T95)/0.1,0),0.1,0) -> 0 | W95: =IF(T95<0,-1,1)*IF(COUNTIF(P95:S95,IF(T95<0,"<",">")&S95)<ROUND(ABS(T95)/0.1,0),0.1,0) -> 0 | X95: =중기목록표!B13&" / "&중기목록표!C13 -> 진동롤러(핸드가이드식) / 0.7톤 | Y95: =HYPERLINK("#"&중기목록표!J2&"!A"&ROW(중기목록표!A13),"X01305 →") -> X01305 → | Z95: 1/ | AA95: =AB61 -> 290 | AB95: * | AC95: 8 | AD95: = | AE95: =1/AB61*AC95 -> 0.027586207
G96: _x0007_
A97: X01305S | B97: =" 경 비 : "&TEXT(I97,"#,##0"&IF(I97<>INT(I97),".###",""))&" / Q * "&AC97&" Hr/일 = "&TEXT(C97,"#,##0.0")&"" -> 경 비 : 1,967 / Q * 8 Hr/일 = 54.2 | C97: =E97+D97+F97 -> 54.2 | D97: =IF(H97=0,0,ROUNDDOWN(J97*H97,1)+U97) -> 0 | E97: =IF(H97=0,0,ROUNDDOWN(K97*H97,1)+V97) -> 0 | F97: =IF(H97=0,0,ROUNDDOWN(L97*H97,1)+W97) -> 54.2 | G97: _x0007_'경 비 : '&X01305S& / Q * 8'Hr/일'= | H97: =ROUNDUP(AE97,14-LEN(ABS(INT(AE97)))) -> 0.027586207 | I97: =K97+J97+L97 -> 1967 | L97: =중기목록표!H13 -> 1967 | M97: X01305_1 | N97: T1_1 | Q97: =ROUND(ROUNDDOWN(J97*H97,3)-ROUNDDOWN(J97*H97,1),3) -> 0 | R97: =ROUND(ROUNDDOWN(K97*H97,3)-ROUNDDOWN(K97*H97,1),3) -> 0 | S97: =ROUND(ROUNDDOWN(L97*H97,3)-ROUNDDOWN(L97*H97,1),3) -> 0.062 | T97: =ROUNDDOWN(ROUND(ROUNDDOWN(I97*H97,1)-(ROUNDDOWN(K97*H97,1)+ROUNDDOWN(J97*H97,1)+ROUNDDOWN(L97*H97,1)),3),1) -> 0 | U97: =IF(T97<0,-1,1)*IF(COUNTIF(P97:S97,IF(T97<0,"<",">")&Q97)+IF(S97=Q97,1,0)+IF(R97=Q97,1,0)<ROUND(ABS(T97)/0.1,0),0.1,0) -> 0 | V97: =IF(T97<0,-1,1)*IF(COUNTIF(P97:S97,IF(T97<0,"<",">")&R97)+IF(S97=R97,1,0)<ROUND(ABS(T97)/0.1,0),0.1,0) -> 0 | W97: =IF(T97<0,-1,1)*IF(COUNTIF(P97:S97,IF(T97<0,"<",">")&S97)<ROUND(ABS(T97)/0.1,0),0.1,0) -> 0 | X97: =중기목록표!B13&" / "&중기목록표!C13 -> 진동롤러(핸드가이드식) / 0.7톤 | Y97: =HYPERLINK("#"&중기목록표!J2&"!A"&ROW(중기목록표!A13),"X01305 →") -> X01305 → | Z97: 1/ | AA97: =AB61 -> 290 | AB97: * | AC97: 8 | AD97: = | AE97: =1/AB61*AC97 -> 0.027586207
G98: _x0007_
B99: 소계 | C99: =E99+D99+F99 -> 167.8 | D99: =SUMIF(N92:N98,M99,D92:D98) -> 0 | E99: =SUMIF(N92:N98,M99,E92:E98) -> 113.6 | F99: =SUMIF(N92:N98,M99,F92:F98) -> 54.2 | G99: _x0007_(=) | M99: T1_1 | N99: T2_1
G100: _x0007_
B101: 4) 살수차 (5500ℓ) | G101: _x0007_ '4) 살수차 (5500ℓ)'
G102: _x0007_
A103: X07204L | B103: =" 노 무 비 : "&TEXT(I103,"#,##0"&IF(I103<>INT(I103),".###",""))&" / Q * "&AC103&" 대 * "&AE103&" Hr/일 = "&TEXT(C103,"#,##0.0")&"" -> 노 무 비 : 49,778 / Q * 0.5 대 * 8 Hr/일 = 686.5 | C103: =E103+D103+F103 -> 686.5 | D103: =IF(H103=0,0,ROUNDDOWN(J103*H103,1)+U103) -> 686.5 | E103: =IF(H103=0,0,ROUNDDOWN(K103*H103,1)+V103) -> 0 | F103: =IF(H103=0,0,ROUNDDOWN(L103*H103,1)+W103) -> 0 | G103: _x0007_ '노 무 비 : '&X07204L& / Q * 0.5'대' * 8'Hr/일' = | H103: =ROUNDUP(AG103,14-LEN(ABS(INT(AG103)))) -> 0.013793103 | I103: =K103+J103+L103 -> 49778 | J103: =중기목록표!F17 -> 49778 | M103: X07204_1 | N103: T1_1 | Q103: =ROUND(ROUNDDOWN(J103*H103,3)-ROUNDDOWN(J103*H103,1),3) -> 0.093 | R103: =ROUND(ROUNDDOWN(K103*H103,3)-ROUNDDOWN(K103*H103,1),3) -> 0 | S103: =ROUND(ROUNDDOWN(L103*H103,3)-ROUNDDOWN(L103*H103,1),3) -> 0 | T103: =ROUNDDOWN(ROUND(ROUNDDOWN(I103*H103,1)-(ROUNDDOWN(K103*H103,1)+ROUNDDOWN(J103*H103,1)+ROUNDDOWN(L103*H103,1)),3),1) -> 0 | U103: =IF(T103<0,-1,1)*IF(COUNTIF(P103:S103,IF(T103<0,"<",">")&Q103)+IF(S103=Q103,1,0)+IF(R103=Q103,1,0)<ROUND(ABS(T103)/0.1,0),0.1,0) -> 0 | V103: =IF(T103<0,-1,1)*IF(COUNTIF(P103:S103,IF(T103<0,"<",">")&R103)+IF(S103=R103,1,0)<ROUND(ABS(T103)/0.1,0),0.1,0) -> 0 | W103: =IF(T103<0,-1,1)*IF(COUNTIF(P103:S103,IF(T103<0,"<",">")&S103)<ROUND(ABS(T103)/0.1,0),0.1,0) -> 0 | X103: =중기목록표!B17&" / "&중기목록표!C17 -> 물탱크(살수차) / 5500ℓ | Y103: =HYPERLINK("#"&중기목록표!J2&"!A"&ROW(중기목록표!A17),"X07204 →") -> X07204 → | Z103: 1/ | AA103: =AB61 -> 290 | AB103: * | AC103: 0.5 | AD103: * | AE103: 8 | AF103: = | AG103: =1/AB61*AC103*AE103 -> 0.013793103
G104: _x0007_
A105: X07204M | B105: =" 재 료 비 : "&TEXT(I105,"#,##0"&IF(I105<>INT(I105),".###",""))&" / Q * "&AC105&" 대 * "&AE105&" Hr/일 = "&TEXT(C105,"#,##0.0")&"" -> 재 료 비 : 20,033 / Q * 0.5 대 * 8 Hr/일 = 276.3 | C105: =E105+D105+F105 -> 276.3 | D105: =IF(H105=0,0,ROUNDDOWN(J105*H105,1)+U105) -> 0 | E105: =IF(H105=0,0,ROUNDDOWN(K105*H105,1)+V105) -> 276.3 | F105: =IF(H105=0,0,ROUNDDOWN(L105*H105,1)+W105) -> 0 | G105: _x0007_ '재 료 비 : '&X07204M& / Q * 0.5'대' * 8'Hr/일' = | H105: =ROUNDUP(AG105,14-LEN(ABS(INT(AG105)))) -> 0.013793103 | I105: =K105+J105+L105 -> 20033 | K105: =중기목록표!G17 -> 20033 | M105: X07204_1 | N105: T1_1 | Q105: =ROUND(ROUNDDOWN(J105*H105,3)-ROUNDDOWN(J105*H105,1),3) -> 0 | R105: =ROUND(ROUNDDOWN(K105*H105,3)-ROUNDDOWN(K105*H105,1),3) -> 0.017 | S105: =ROUND(ROUNDDOWN(L105*H105,3)-ROUNDDOWN(L105*H105,1),3) -> 0 | T105: =ROUNDDOWN(ROUND(ROUNDDOWN(I105*H105,1)-(ROUNDDOWN(K105*H105,1)+ROUNDDOWN(J105*H105,1)+ROUNDDOWN(L105*H105,1)),3),1) -> 0 | U105: =IF(T105<0,-1,1)*IF(COUNTIF(P105:S105,IF(T105<0,"<",">")&Q105)+IF(S105=Q105,1,0)+IF(R105=Q105,1,0)<ROUND(ABS(T105)/0.1,0),0.1,0) -> 0 | V105: =IF(T105<0,-1,1)*IF(COUNTIF(P105:S105,IF(T105<0,"<",">")&R105)+IF(S105=R105,1,0)<ROUND(ABS(T105)/0.1,0),0.1,0) -> 0 | W105: =IF(T105<0,-1,1)*IF(COUNTIF(P105:S105,IF(T105<0,"<",">")&S105)<ROUND(ABS(T105)/0.1,0),0.1,0) -> 0 | X105: =중기목록표!B17&" / "&중기목록표!C17 -> 물탱크(살수차) / 5500ℓ | Y105: =HYPERLINK("#"&중기목록표!J2&"!A"&ROW(중기목록표!A17),"X07204 →") -> X07204 → | Z105: 1/ | AA105: =AB61 -> 290 | AB105: * | AC105: 0.5 | AD105: * | AE105: 8 | AF105: = | AG105: =1/AB61*AC105*AE105 -> 0.013793103
G106: _x0007_
A107: X07204S | B107: =" 경 비 : "&TEXT(I107,"#,##0"&IF(I107<>INT(I107),".###",""))&" / Q * "&AC107&" 대 * "&AE107&" Hr/일 = "&TEXT(C107,"#,##0.0")&"" -> 경 비 : 9,986 / Q * 0.5 대 * 8 Hr/일 = 137.7 | C107: =E107+D107+F107 -> 137.7 | D107: =IF(H107=0,0,ROUNDDOWN(J107*H107,1)+U107) -> 0 | E107: =IF(H107=0,0,ROUNDDOWN(K107*H107,1)+V107) -> 0 | F107: =IF(H107=0,0,ROUNDDOWN(L107*H107,1)+W107) -> 137.7 | G107: _x0007_ '경 비 : '&X07204S& / Q * 0.5'대' * 8'Hr/일' = | H107: =ROUNDUP(AG107,14-LEN(ABS(INT(AG107)))) -> 0.013793103 | I107: =K107+J107+L107 -> 9986 | L107: =중기목록표!H17 -> 9986 | M107: X07204_1 | N107: T1_1 | Q107: =ROUND(ROUNDDOWN(J107*H107,3)-ROUNDDOWN(J107*H107,1),3) -> 0 | R107: =ROUND(ROUNDDOWN(K107*H107,3)-ROUNDDOWN(K107*H107,1),3) -> 0 | S107: =ROUND(ROUNDDOWN(L107*H107,3)-ROUNDDOWN(L107*H107,1),3) -> 0.037 | T107: =ROUNDDOWN(ROUND(ROUNDDOWN(I107*H107,1)-(ROUNDDOWN(K107*H107,1)+ROUNDDOWN(J107*H107,1)+ROUNDDOWN(L107*H107,1)),3),1) -> 0 | U107: =IF(T107<0,-1,1)*IF(COUNTIF(P107:S107,IF(T107<0,"<",">")&Q107)+IF(S107=Q107,1,0)+IF(R107=Q107,1,0)<ROUND(ABS(T107)/0.1,0),0.1,0) -> 0 | V107: =IF(T107<0,-1,1)*IF(COUNTIF(P107:S107,IF(T107<0,"<",">")&R107)+IF(S107=R107,1,0)<ROUND(ABS(T107)/0.1,0),0.1,0) -> 0 | W107: =IF(T107<0,-1,1)*IF(COUNTIF(P107:S107,IF(T107<0,"<",">")&S107)<ROUND(ABS(T107)/0.1,0),0.1,0) -> 0 | X107: =중기목록표!B17&" / "&중기목록표!C17 -> 물탱크(살수차) / 5500ℓ | Y107: =HYPERLINK("#"&중기목록표!J2&"!A"&ROW(중기목록표!A17),"X07204 →") -> X07204 → | Z107: 1/ | AA107: =AB61 -> 290 | AB107: * | AC107: 0.5 | AD107: * | AE107: 8 | AF107: = | AG107: =1/AB61*AC107*AE107 -> 0.013793103
G108: _x0007_
B109: 소계 | C109: =E109+D109+F109 -> 1100.5 | D109: =SUMIF(N100:N108,M109,D100:D108) -> 686.5 | E109: =SUMIF(N100:N108,M109,E100:E108) -> 276.3 | F109: =SUMIF(N100:N108,M109,F100:F108) -> 137.7 | G109: _x0007_ (=) | M109: T1_1 | N109: T2_1
G110: _x0007_
B111: 계 | C111: =E111+D111+F111 -> 8894.1 | D111: =SUMIF(N57:N110,M111,D57:D110) -> 5315.7 | E111: =SUMIF(N57:N110,M111,E57:E110) -> 1902.9 | F111: =SUMIF(N57:N110,M111,F57:F110) -> 1675.5 | G111: _x0007_ (==) | M111: T2_1 | N111: T7_1
G112: _x0007_
A154: 총 계 | C154: =E154+D154+F154 -> 8894 | D154: =ROUNDDOWN(SUMIF(N57:N112,M154,D57:D112)+U154,0) -> 5316 | E154: =ROUNDDOWN(SUMIF(N57:N112,M154,E57:E112)+V154,0) -> 1903 | F154: =ROUNDDOWN(SUMIF(N57:N112,M154,F57:F112)+W154,0) -> 1675 | I154: =K154+J154+L154 -> 8894.1 | J154: =SUMIF(N57:N112,M154,D57:D112) -> 5315.7 | K154: =SUMIF(N57:N112,M154,E57:E112) -> 1902.9 | L154: =SUMIF(N57:N112,M154,F57:F112) -> 1675.5 | M154: T7_1 | Q154: =ROUND(ROUNDDOWN(J154,2)-ROUNDDOWN(J154,0),2) -> 0.7 | R154: =ROUND(ROUNDDOWN(K154,2)-ROUNDDOWN(K154,0),2) -> 0.9 | S154: =ROUND(ROUNDDOWN(L154,2)-ROUNDDOWN(L154,0),2) -> 0.5 | T154: =ROUNDDOWN(ROUND(ROUNDDOWN(I154,0)-(ROUNDDOWN(K154,0)+ROUNDDOWN(J154,0)+ROUNDDOWN(L154,0)),2),0) -> 2 | U154: =IF(T154<0,-1,1)*IF(COUNTIF(P154:S154,IF(T154<0,"<",">")&Q154)+IF(S154=Q154,1,0)+IF(R154=Q154,1,0)<ROUND(ABS(T154)/1,0),1,0) -> 1 | V154: =IF(T154<0,-1,1)*IF(COUNTIF(P154:S154,IF(T154<0,"<",">")&R154)+IF(S154=R154,1,0)<ROUND(ABS(T154)/1,0),1,0) -> 1 | W154: =IF(T154<0,-1,1)*IF(COUNTIF(P154:S154,IF(T154<0,"<",">")&S154)<ROUND(ABS(T154)/1,0),1,0) -> 0
...

Sheet 단가산출근거수량금액집계표
A1: 단가산출근거 수량,금액 집계표 | K1: STmate | L1: STmate
A2: 공사명 : 2026년 임도재해예방사업(오목) | K2: =MID(CELL("filename",$A$1),FIND("]",CELL("filename",$A$1))+1,LEN(CELL("filename",$A$1))) -> 단가산출근거수량금액집계표
A3: 코드번호 | B3: 명 칭 | C3: 규 격 | D3: 수 량 | E3: 단위 | F3: 합 계 | G3: 노 무 비 | H3: 재 료 비 | I3: 경 비 | J3: 비 고 | L3: =HYPERLINK("#'〓 목 차 〓'!B2","목차 →") -> 목차 →
A4: D00007 | B4: 구조물터파기 | C4: (혼합토사 TYPEⅢ) | D4: 57 | E4: M3 | F4: =H4+G4+I4 -> 340974 | G4: =ROUND(D4*단가산출근거목록표!F4,0) -> 179379 | H4: =ROUND(D4*단가산출근거목록표!G4,0) -> 72447 | I4: =ROUND(D4*단가산출근거목록표!H4,0) -> 89148 | L4: =HYPERLINK("#"&단가산출근거목록표!J2&"!A"&ROW(단가산출근거목록표!A4),"D00007 →") -> D00007 →
A5: D00017 | B5: 구조물되메우기 다짐 | C5: (대형장비) | D5: 17 | E5: M3 | F5: =H5+G5+I5 -> 151198 | G5: =ROUND(D5*단가산출근거목록표!F5,0) -> 90372 | H5: =ROUND(D5*단가산출근거목록표!G5,0) -> 32351 | I5: =ROUND(D5*단가산출근거목록표!H5,0) -> 28475 | J5: 산림 | L5: =HYPERLINK("#"&단가산출근거목록표!J2&"!A"&ROW(단가산출근거목록표!A5),"D00017 →") -> D00017 →
A6: D00019 | B6: 잔토처리 | C6: 토사(B/H 100%) | D6: 17 | E6: M3 | F6: =H6+G6+I6 -> 34578 | G6: =ROUND(D6*단가산출근거목록표!F6,0) -> 18564 | H6: =ROUND(D6*단가산출근거목록표!G6,0) -> 7497 | I6: =ROUND(D6*단가산출근거목록표!H6,0) -> 8517 | L6: =HYPERLINK("#"&단가산출근거목록표!J2&"!A"&ROW(단가산출근거목록표!A6),"D00019 →") -> D00019 →
A7: D00022 | B7: 흙깍기 | C7: 보통토사(소규모) | D7: 1597 | E7: M3 | F7: =H7+G7+I7 -> 5276488 | G7: =ROUND(D7*단가산출근거목록표!F7,0) -> 2432231 | H7: =ROUND(D7*단가산출근거목록표!G7,0) -> 1624149 | I7: =ROUND(D7*단가산출근거목록표!H7,0) -> 1220108 | L7: =HYPERLINK("#"&단가산출근거목록표!J2&"!A"&ROW(단가산출근거목록표!A7),"D00022 →") -> D00022 →
A8: D00035 | B8: 흙깍기(풍화암) | C8: 굴착기(1.0㎥) + 대형브레이카(1.0㎥) | D8: 883 | E8: M3 | F8: =H8+G8+I8 -> 20195093 | G8: =ROUND(D8*단가산출근거목록표!F8,0) -> 8107706 | H8: =ROUND(D8*단가산출근거목록표!G8,0) -> 5205285 | I8: =ROUND(D8*단가산출근거목록표!H8,0) -> 6882102 | L8: =HYPERLINK("#"&단가산출근거목록표!J2&"!A"&ROW(단가산출근거목록표!A8),"D00035 →") -> D00035 →
A9: D00055 | B9: 측구터파기(보통토사) | C9: (기계100%) | D9: 1 | E9: M3 | F9: =H9+G9+I9 -> 6519 | G9: =ROUND(D9*단가산출근거목록표!F9,0) -> 3499 | H9: =ROUND(D9*단가산출근거목록표!G9,0) -> 1413 | I9: =ROUND(D9*단가산출근거목록표!H9,0) -> 1607 | L9: =HYPERLINK("#"&단가산출근거목록표!J2&"!A"&ROW(단가산출근거목록표!A9),"D00055 →") -> D00055 →
A10: D00057 | B10: 측구터파기(풍화암) | C10: 굴착기(1.0㎥) + 대형브레이카(1.0㎥) | D10: 113 | E10: M3 | F10: =H10+G10+I10 -> 4393553 | G10: =ROUND(D10*단가산출근거목록표!F10,0) -> 1739974 | H10: =ROUND(D10*단가산출근거목록표!G10,0) -> 1112146 | I10: =ROUND(D10*단가산출근거목록표!H10,0) -> 1541433 | L10: =HYPERLINK("#"&단가산출근거목록표!J2&"!A"&ROW(단가산출근거목록표!A10),"D00057 →") -> D00057 →
A11: D00099 | B11: 잡관목제거 | C11: 벌목(5m미만) | D11: 139 | E11: M2 | F11: =H11+G11+I11 -> 128714 | G11: =ROUND(D11*단가산출근거목록표!F11,0) -> 109671 | H11: =ROUND(D11*단가산출근거목록표!G11,0) -> 3753 | I11: =ROUND(D11*단가산출근거목록표!H11,0) -> 15290 | L11: =HYPERLINK("#"&단가산출근거목록표!J2&"!A"&ROW(단가산출근거목록표!A11),"D00099 →") -> D00099 →
A12: D00174 | B12: 파형강관부설 | C12: Φ800mm | D12: 12 | E12: M | F12: =H12+G12+I12 -> 204768 | G12: =ROUND(D12*단가산출근거목록표!F12,0) -> 191220 | H12: =ROUND(D12*단가산출근거목록표!G12,0) -> 4872 | I12: =ROUND(D12*단가산출근거목록표!H12,0) -> 8676 | L12: =HYPERLINK("#"&단가산출근거목록표!J2&"!A"&ROW(단가산출근거목록표!A12),"D00174 →") -> D00174 →
A13: D00180 | B13: 큰돌메쌓기 | C13: 직경 0.4~0.6m | D13: 22 | E13: M2 | F13: =H13+G13+I13 -> 2373404 | G13: =ROUND(D13*단가산출근거목록표!F13,0) -> 1803890 | H13: =ROUND(D13*단가산출근거목록표!G13,0) -> 261294 | I13: =ROUND(D13*단가산출근거목록표!H13,0) -> 308220 | L13: =HYPERLINK("#"&단가산출근거목록표!J2&"!A"&ROW(단가산출근거목록표!A13),"D00180 →") -> D00180 →
A14: D01361 | B14: 고임돌채집운반 | C14: 4.5톤덤프(L=500) | D14: 3.52 | E14: M3 | F14: =H14+G14+I14 -> 63916 | G14: =ROUND(D14*단가산출근거목록표!F14,0) -> 46320 | H14: =ROUND(D14*단가산출근거목록표!G14,0) -> 8937 | I14: =ROUND(D14*단가산출근거목록표!H14,0) -> 8659 | L14: =HYPERLINK("#"&단가산출근거목록표!J2&"!A"&ROW(단가산출근거목록표!A14),"D01361 →") -> D01361 →
A15: D01500 | B15: 뒷채움돌채집운반다짐 | C15: 4.5톤 덤프트럭(L=500m) | D15: 6.6 | E15: M3 | F15: =H15+G15+I15 -> 189598 | G15: =ROUND(D15*단가산출근거목록표!F15,0) -> 140758 | H15: =ROUND(D15*단가산출근거목록표!G15,0) -> 24229 | I15: =ROUND(D15*단가산출근거목록표!H15,0) -> 24611 | L15: =HYPERLINK("#"&단가산출근거목록표!J2&"!A"&ROW(단가산출근거목록표!A15),"D01500 →") -> D01500 →
A16: D02221 | B16: 중기운반 | D16: 2 | E16: 회 | F16: =H16+G16+I16 -> 971248 | G16: =ROUND(D16*단가산출근거목록표!F16,0) -> 0 | H16: =ROUND(D16*단가산출근거목록표!G16,0) -> 0 | I16: =ROUND(D16*단가산출근거목록표!H16,0) -> 971248 | L16: =HYPERLINK("#"&단가산출근거목록표!J2&"!A"&ROW(단가산출근거목록표!A16),"D02221 →") -> D02221 →
A17: D02227 | B17: 큰돌(0.4~0.6m)운반 | C17: B/H07㎥ + D/T15Ton | D17: 12 | E17: M3 | F17: =H17+G17+I17 -> 1156092 | G17: =ROUND(D17*단가산출근거목록표!F17,0) -> 0 | H17: =ROUND(D17*단가산출근거목록표!G17,0) -> 0 | I17: =ROUND(D17*단가산출근거목록표!H17,0) -> 1156092 | L17: =HYPERLINK("#"&단가산출근거목록표!J2&"!A"&ROW(단가산출근거목록표!A17),"D02227 →") -> D02227 →
A18: D02244 | B18: 사질양토운반 | D18: 22 | E18: M3 | F18: =H18+G18+I18 -> 278520 | G18: =ROUND(D18*단가산출근거목록표!F18,0) -> 157432 | H18: =ROUND(D18*단가산출근거목록표!G18,0) -> 67628 | I18: =ROUND(D18*단가산출근거목록표!H18,0) -> 53460 | L18: =HYPERLINK("#"&단가산출근거목록표!J2&"!A"&ROW(단가산출근거목록표!A18),"D02244 →") -> D02244 →
A19: D02297 | B19: 사토운반 | C19: L=0.06Km | D19: 2595 | E19: M3 | F19: =H19+G19+I19 -> 5143290 | G19: =ROUND(D19*단가산출근거목록표!F19,0) -> 2615760 | H19: =ROUND(D19*단가산출근거목록표!G19,0) -> 1611495 | I19: =ROUND(D19*단가산출근거목록표!H19,0) -> 916035 | L19: =HYPERLINK("#"&단가산출근거목록표!J2&"!A"&ROW(단가산출근거목록표!A19),"D02297 →") -> D02297 →
A20: D02300 | B20: 절토사면고르기 | C20: 1.0 B/H | D20: 896 | E20: M2 | F20: =H20+G20+I20 -> 3990784 | G20: =ROUND(D20*단가산출근거목록표!F20,0) -> 1839488 | H20: =ROUND(D20*단가산출근거목록표!G20,0) -> 1228416 | I20: =ROUND(D20*단가산출근거목록표!H20,0) -> 922880 | L20: =HYPERLINK("#"&단가산출근거목록표!J2&"!A"&ROW(단가산출근거목록표!A20),"D02300 →") -> D02300 →

Sheet 환율및기초자료
A1: 1. 환 율 | I1: STmate | J1: STmate
C2: 100,000$ 미만 | D2: 100,000$ 이상 | E2: 유로화(€) | G2: 엔화(100￥) | I2: =MID(CELL("filename",$A$1),FIND("]",CELL("filename",$A$1))+1,LEN(CELL("filename",$A$1))) -> 환율및기초자료
C3: 1507 | D3: 1507 | E3: 0 | G3: 915
A5: 2. 인 건 비
C6: 건설기계운전사 | D6: =노무비목록표!E9 -> 283297 | E6: * 1/8 * 16/12 * 25/20 = | G6: =ROUNDDOWN(D6*0.20833333334,0) -> 59020 | H6: L00048 | J6: =HYPERLINK("#"&노무비목록표!G2&"!A"&ROW(노무비목록표!A9),"L00048 →") -> L00048 →
C7: 화물차운전사 | D7: =노무비목록표!E10 -> 238936 | E7: * 1/8 * 16/12 * 25/20 = | G7: =ROUNDDOWN(D7*0.20833333334,0) -> 49778 | H7: L00049 | J7: =HYPERLINK("#"&노무비목록표!G2&"!A"&ROW(노무비목록표!A10),"L00049 →") -> L00049 →
C8: 일반기계운전사 | D8: =노무비목록표!E11 -> 173995 | E8: * 1/8 * 16/12 * 25/20 = | G8: =ROUNDDOWN(D8*0.20833333334,0) -> 36248 | H8: L00050 | J8: =HYPERLINK("#"&노무비목록표!G2&"!A"&ROW(노무비목록표!A11),"L00050 →") -> L00050 →
A10: 3. 단가 및 재료비
B11: NO | C11: 단 가 명 | D11: 규 격 | E11: 단위 | F11: 가 격 | H11: 비 고
B12: 1 | C12: 건설기계운전사 | E12: 인 | F12: =노무비목록표!E9 -> 283297 | H12: L00048 | J12: =HYPERLINK("#"&노무비목록표!G2&"!A"&ROW(노무비목록표!A9),"L00048 →") -> L00048 →
B13: 2 | C13: 화물차운전사 | E13: 인 | F13: =노무비목록표!E10 -> 238936 | H13: L00049 | J13: =HYPERLINK("#"&노무비목록표!G2&"!A"&ROW(노무비목록표!A10),"L00049 →") -> L00049 →
B14: 3 | C14: 일반기계운전사 | E14: 인 | F14: =노무비목록표!E11 -> 173995 | H14: L00050 | J14: =HYPERLINK("#"&노무비목록표!G2&"!A"&ROW(노무비목록표!A11),"L00050 →") -> L00050 →
B15: 4 | C15: 경유 | D15: 저유황 | E15: L | F15: =재료비목록표!E5 -> 1657 | H15: M00932 | J15: =HYPERLINK("#"&재료비목록표!G2&"!A"&ROW(재료비목록표!A5),"M00932 →") -> M00932 →

Sheet 중기목록표
A1: 중기 목록표 | J1: STmate | K1: STmate
A2: 공사명 : 2026년 임도재해예방사업(오목) | J2: =MID(CELL("filename",$A$1),FIND("]",CELL("filename",$A$1))+1,LEN(CELL("filename",$A$1))) -> 중기목록표
A3: 코드번호 | B3: 명 칭 | C3: 규 격 | D3: 단위 | E3: 합 계 | F3: 노 무 비 | G3: 재 료 비 | H3: 경 비 | I3: 비 고 | K3: =HYPERLINK("#'〓 목 차 〓'!B2","목차 →") -> 목차 →
A4: X00202 | B4: 굴착기(무한궤도) | C4: 0.2㎥ | D4: 시간 | E4: =중기사용료!F11 -> 82917 | F4: =중기사용료!H11 -> 59020 | G4: =중기사용료!J11 -> 10024 | H4: =중기사용료!L11 -> 13873 | J4: ="_x0007_`COD|X00202_x0005_`QTY1|1_x0005_`BQC|_x0005_`EQC|03020100200_x0005_`JDC|00000201002000000_x0005_`WQC|_x0005_`EDT|2026_x0005_`ADJ|F_x0005_`RXX|0_x0005_`DET|"&ROW(중기사용료!A5)&"_x0005_`" -> _x0007_`COD|X00202_x0005_`QTY1|1_x0005_`BQC|_x0005_`EQC|03020100200_x0005_`JDC|00000201002000000_x0005_`WQC|_x0005_`EDT|2026_x0005_`ADJ|F_x0005_`RXX|0_x0005_`DET|5_x0005_` | K4: =HYPERLINK("#"&중기사용료!N2&"!A"&ROW(중기사용료!A5),"X00202 →") -> X00202 →
A5: X00206 | B5: 굴착기(무한궤도) | C5: 0.8㎥ | D5: 시간 | E5: =중기사용료!F18 -> 116967 | F5: =중기사용료!H18 -> 59020 | G5: =중기사용료!J18 -> 30929 | H5: =중기사용료!L18 -> 27018 | I5: 08' 신규 | J5: ="_x0007_`COD|X00206_x0005_`QTY1|1_x0005_`BQC|08' 신규_x0005_`EQC|03020100800_x0005_`JDC|00000201008000000_x0005_`WQC|_x0005_`EDT|2026_x0005_`ADJ|F_x0005_`RXX|0_x0005_`DET|"&ROW(중기사용료!A12)&"_x0005_`" -> _x0007_`COD|X00206_x0005_`QTY1|1_x0005_`BQC|08' 신규_x0005_`EQC|03020100800_x0005_`JDC|00000201008000000_x0005_`WQC|_x0005_`EDT|2026_x0005_`ADJ|F_x0005_`RXX|0_x0005_`DET|12_x0005_` | K5: =HYPERLINK("#"&중기사용료!N2&"!A"&ROW(중기사용료!A12),"X00206 →") -> X00206 →
A6: X00207 | B6: 굴착기(무한궤도) | C6: 1.0㎥ | D6: 시간 | E6: =중기사용료!F25 -> 128061 | F6: =중기사용료!H25 -> 59020 | G6: =중기사용료!J25 -> 39420 | H6: =중기사용료!L25 -> 29621 | J6: ="_x0007_`COD|X00207_x0005_`QTY1|1_x0005_`BQC|_x0005_`EQC|03020101000_x0005_`JDC|00000201010000000_x0005_`WQC|_x0005_`EDT|2026_x0005_`ADJ|F_x0005_`RXX|0_x0005_`DET|"&ROW(중기사용료!A19)&"_x0005_`" -> _x0007_`COD|X00207_x0005_`QTY1|1_x0005_`BQC|_x0005_`EQC|03020101000_x0005_`JDC|00000201010000000_x0005_`WQC|_x0005_`EDT|2026_x0005_`ADJ|F_x0005_`RXX|0_x0005_`DET|19_x0005_` | K6: =HYPERLINK("#"&중기사용료!N2&"!A"&ROW(중기사용료!A19),"X00207 →") -> X00207 →
A7: X00212 | B7: 굴착기(타이어) | C7: 0.6㎥ | D7: 시간 | E7: =중기사용료!F32 -> 109974 | F7: =중기사용료!H32 -> 59020 | G7: =중기사용료!J32 -> 23834 | H7: =중기사용료!L32 -> 27120 | I7: 08' 신규 | J7: ="_x0007_`COD|X00212_x0005_`QTY1|1_x0005_`BQC|08' 신규_x0005_`EQC|03021100600_x0005_`JDC|00000211006000000_x0005_`WQC|_x0005_`EDT|2026_x0005_`ADJ|F_x0005_`RXX|0_x0005_`DET|"&ROW(중기사용료!A26)&"_x0005_`" -> _x0007_`COD|X00212_x0005_`QTY1|1_x0005_`BQC|08' 신규_x0005_`EQC|03021100600_x0005_`JDC|00000211006000000_x0005_`WQC|_x0005_`EDT|2026_x0005_`ADJ|F_x0005_`RXX|0_x0005_`DET|26_x0005_` | K7: =HYPERLINK("#"&중기사용료!N2&"!A"&ROW(중기사용료!A26),"X00212 →") -> X00212 →
A8: X00234 | B8: 굴착기(무한궤도) | C8: 1.0㎥,(브레이커조합) | D8: 시간 | E8: =중기사용료!F40 -> 145061 | F8: =중기사용료!H40 -> 59020 | G8: =중기사용료!J40 -> 37481 | H8: =중기사용료!L40 -> 48560 | J8: ="_x0007_`COD|X00234_x0005_`QTY1|1_x0005_`BQC|_x0005_`EQC|03020101004_x0005_`JDC|_x0005_`WQC|_x0005_`EDT|2026_x0005_`ADJ|F_x0005_`RXX|0_x0005_`DET|"&ROW(중기사용료!A33)&"_x0005_`" -> _x0007_`COD|X00234_x0005_`QTY1|1_x0005_`BQC|_x0005_`EQC|03020101004_x0005_`JDC|_x0005_`WQC|_x0005_`EDT|2026_x0005_`ADJ|F_x0005_`RXX|0_x0005_`DET|33_x0005_` | K8: =HYPERLINK("#"&중기사용료!N2&"!A"&ROW(중기사용료!A33),"X00234 →") -> X00234 →
A9: X00603 | B9: 덤프트럭 | C9: 4.5톤 | D9: 시간 | E9: =중기사용료!F47 -> 68824 | F9: =중기사용료!H47 -> 49778 | G9: =중기사용료!J47 -> 11433 | H9: =중기사용료!L47 -> 7613 | J9: ="_x0007_`COD|X00603_x0005_`QTY1|1_x0005_`BQC|_x0005_`EQC|03060200450_x0005_`JDC|00000602004500000_x0005_`WQC|_x0005_`EDT|2026_x0005_`ADJ|F_x0005_`RXX|0_x0005_`DET|"&ROW(중기사용료!A41)&"_x0005_`" -> _x0007_`COD|X00603_x0005_`QTY1|1_x0005_`BQC|_x0005_`EQC|03060200450_x0005_`JDC|00000602004500000_x0005_`WQC|_x0005_`EDT|2026_x0005_`ADJ|F_x0005_`RXX|0_x0005_`DET|41_x0005_` | K9: =HYPERLINK("#"&중기사용료!N2&"!A"&ROW(중기사용료!A41),"X00603 →") -> X00603 →
A10: X00606 | B10: 덤프트럭 | C10: 15톤 | D10: 시간 | E10: =중기사용료!F54 -> 116036 | F10: =중기사용료!H54 -> 59020 | G10: =중기사용료!J54 -> 36357 | H10: =중기사용료!L54 -> 20659 | J10: ="_x0007_`COD|X00606_x0005_`QTY1|1_x0005_`BQC|_x0005_`EQC|03060201500_x0005_`JDC|00000602015000000_x0005_`WQC|_x0005_`EDT|2026_x0005_`ADJ|F_x0005_`RXX|0_x0005_`DET|"&ROW(중기사용료!A48)&"_x0005_`" -> _x0007_`COD|X00606_x0005_`QTY1|1_x0005_`BQC|_x0005_`EQC|03060201500_x0005_`JDC|00000602015000000_x0005_`WQC|_x0005_`EDT|2026_x0005_`ADJ|F_x0005_`RXX|0_x0005_`DET|48_x0005_` | K10: =HYPERLINK("#"&중기사용료!N2&"!A"&ROW(중기사용료!A48),"X00606 →") -> X00606 →
A11: X00607 | B11: 덤프트럭 | C11: 15톤,(암석) | D11: 시간 | E11: =중기사용료!F61 -> 119662 | F11: =중기사용료!H61 -> 59020 | G11: =중기사용료!J61 -> 36357 | H11: =중기사용료!L61 -> 24285 | J11: ="_x0007_`COD|X00607_x0005_`QTY1|1_x0005_`BQC|_x0005_`EQC|03060201501_x0005_`JDC|00000602015000001_x0005_`WQC|_x0005_`EDT|2026_x0005_`ADJ|F_x0005_`RXX|0_x0005_`DET|"&ROW(중기사용료!A55)&"_x0005_`" -> _x0007_`COD|X00607_x0005_`QTY1|1_x0005_`BQC|_x0005_`EQC|03060201501_x0005_`JDC|00000602015000001_x0005_`WQC|_x0005_`EDT|2026_x0005_`ADJ|F_x0005_`RXX|0_x0005_`DET|55_x0005_` | K11: =HYPERLINK("#"&중기사용료!N2&"!A"&ROW(중기사용료!A55),"X00607 →") -> X00607 →
A12: X00610 | B12: 덤프트럭 자동덮개시설 | C12: 15톤용 | D12: 시간 | E12: =중기사용료!F65 -> 438 | F12: =중기사용료!H65 -> 0 | G12: =중기사용료!J65 -> 0 | H12: =중기사용료!L65 -> 438 | J12: ="_x0007_`COD|X00610_x0005_`QTY1|1_x0005_`BQC|_x0005_`EQC|03061001500_x0005_`JDC|00000610015000000_x0005_`WQC|_x0005_`EDT|2026_x0005_`ADJ|F_x0005_`RXX|0_x0005_`DET|"&ROW(중기사용료!A62)&"_x0005_`" -> _x0007_`COD|X00610_x0005_`QTY1|1_x0005_`BQC|_x0005_`EQC|03061001500_x0005_`JDC|00000610015000000_x0005_`WQC|_x0005_`EDT|2026_x0005_`ADJ|F_x0005_`RXX|0_x0005_`DET|62_x0005_` | K12: =HYPERLINK("#"&중기사용료!N2&"!A"&ROW(중기사용료!A62),"X00610 →") -> X00610 →
A13: X01305 | B13: 진동롤러(핸드가이드식) | C13: 0.7톤 | D13: 시간 | E13: =중기사용료!F72 -> 42334 | F13: =중기사용료!H72 -> 36248 | G13: =중기사용료!J72 -> 4119 | H13: =중기사용료!L72 -> 1967 | J13: ="_x0007_`COD|X01305_x0005_`QTY1|1_x0005_`BQC|_x0005_`EQC|03130500070_x0005_`JDC|00001305000700000_x0005_`WQC|_x0005_`EDT|2026_x0005_`ADJ|F_x0005_`RXX|0_x0005_`DET|"&ROW(중기사용료!A66)&"_x0005_`" -> _x0007_`COD|X01305_x0005_`QTY1|1_x0005_`BQC|_x0005_`EQC|03130500070_x0005_`JDC|00001305000700000_x0005_`WQC|_x0005_`EDT|2026_x0005_`ADJ|F_x0005_`RXX|0_x0005_`DET|66_x0005_` | K13: =HYPERLINK("#"&중기사용료!N2&"!A"&ROW(중기사용료!A66),"X01305 →") -> X01305 →
A14: X01309 | B14: 진동롤러(자주식) | C14: 10톤 | D14: 시간 | E14: =중기사용료!F79 -> 116701 | F14: =중기사용료!H79 -> 59020 | G14: =중기사용료!J79 -> 31019 | H14: =중기사용료!L79 -> 26662 | J14: ="_x0007_`COD|X01309_x0005_`QTY1|1_x0005_`BQC|_x0005_`EQC|03130601000_x0005_`JDC|00001306010000000_x0005_`WQC|_x0005_`EDT|2026_x0005_`ADJ|F_x0005_`RXX|0_x0005_`DET|"&ROW(중기사용료!A73)&"_x0005_`" -> _x0007_`COD|X01309_x0005_`QTY1|1_x0005_`BQC|_x0005_`EQC|03130601000_x0005_`JDC|00001306010000000_x0005_`WQC|_x0005_`EDT|2026_x0005_`ADJ|F_x0005_`RXX|0_x0005_`DET|73_x0005_` | K14: =HYPERLINK("#"&중기사용료!N2&"!A"&ROW(중기사용료!A73),"X01309 →") -> X01309 →
A15: X02107 | B15: 트럭탑재형 크레인 | C15: 5톤 | D15: 시간 | E15: =중기사용료!F86 -> 71035 | F15: =중기사용료!H86 -> 49778 | G15: =중기사용료!J86 -> 10140 | H15: =중기사용료!L86 -> 11117 | J15: ="_x0007_`COD|X02107_x0005_`QTY1|1_x0005_`BQC|_x0005_`EQC|03210500050_x0005_`JDC|00002105000500000_x0005_`WQC|_x0005_`EDT|2026_x0005_`ADJ|F_x0005_`RXX|0_x0005_`DET|"&ROW(중기사용료!A80)&"_x0005_`" -> _x0007_`COD|X02107_x0005_`QTY1|1_x0005_`BQC|_x0005_`EQC|03210500050_x0005_`JDC|00002105000500000_x0005_`WQC|_x0005_`EDT|2026_x0005_`ADJ|F_x0005_`RXX|0_x0005_`DET|80_x0005_` | K15: =HYPERLINK("#"&중기사용료!N2&"!A"&ROW(중기사용료!A80),"X02107 →") -> X02107 →
A16: X02702 | B16: 트럭 트랙터 및 평판트레일러 | C16: 20톤 | D16: 시간 | E16: =중기사용료!F93 -> 114337 | F16: =중기사용료!H93 -> 59020 | G16: =중기사용료!J93 -> 38003 | H16: =중기사용료!L93 -> 17314 | J16: ="_x0007_`COD|X02702_x0005_`QTY1|1_x0005_`BQC|_x0005_`EQC|03270200200_x0005_`JDC|00002702002000000_x0005_`WQC|_x0005_`EDT|2026_x0005_`ADJ|F_x0005_`RXX|0_x0005_`DET|"&ROW(중기사용료!A87)&"_x0005_`" -> _x0007_`COD|X02702_x0005_`QTY1|1_x0005_`BQC|_x0005_`EQC|03270200200_x0005_`JDC|00002702002000000_x0005_`WQC|_x0005_`EDT|2026_x0005_`ADJ|F_x0005_`RXX|0_x0005_`DET|87_x0005_` | K16: =HYPERLINK("#"&중기사용료!N2&"!A"&ROW(중기사용료!A87),"X02702 →") -> X02702 →
A17: X07204 | B17: 물탱크(살수차) | C17: 5500ℓ | D17: 시간 | E17: =중기사용료!F100 -> 79797 | F17: =중기사용료!H100 -> 49778 | G17: =중기사용료!J100 -> 20033 | H17: =중기사용료!L100 -> 9986 | J17: ="_x0007_`COD|X07204_x0005_`QTY1|1_x0005_`BQC|_x0005_`EQC|03720400550_x0005_`JDC|00007204005500000_x0005_`WQC|_x0005_`EDT|2026_x0005_`ADJ|F_x0005_`RXX|0_x0005_`DET|"&ROW(중기사용료!A94)&"_x0005_`" -> _x0007_`COD|X07204_x0005_`QTY1|1_x0005_`BQC|_x0005_`EQC|03720400550_x0005_`JDC|00007204005500000_x0005_`WQC|_x0005_`EDT|2026_x0005_`ADJ|F_x0005_`RXX|0_x0005_`DET|94_x0005_` | K17: =HYPERLINK("#"&중기사용료!N2&"!A"&ROW(중기사용료!A94),"X07204 →") -> X07204 →
A18: X07207 | B18: 부착용 집게 | C18: 0.2㎥ | D18: 시간 | E18: =중기사용료!F104 -> 3674 | F18: =중기사용료!H104 -> 0 | G18: =중기사용료!J104 -> 0 | H18: =중기사용료!L104 -> 3674 | I18: 12하' 신규 | J18: ="_x0007_`COD|X07207_x0005_`QTY1|1_x0005_`BQC|12하' 신규_x0005_`EQC|03720600200_x0005_`JDC|00007206002000000_x0005_`WQC|_x0005_`EDT|2026_x0005_`ADJ|F_x0005_`RXX|0_x0005_`DET|"&ROW(중기사용료!A101)&"_x0005_`" -> _x0007_`COD|X07207_x0005_`QTY1|1_x0005_`BQC|12하' 신규_x0005_`EQC|03720600200_x0005_`JDC|00007206002000000_x0005_`WQC|_x0005_`EDT|2026_x0005_`ADJ|F_x0005_`RXX|0_x0005_`DET|101_x0005_` | K18: =HYPERLINK("#"&중기사용료!N2&"!A"&ROW(중기사용료!A101),"X07207 →") -> X07207 →
A19: X07208 | B19: 부착용 집게 | C19: 0.6~0.8㎥ | D19: 시간 | E19: =중기사용료!F108 -> 5786 | F19: =중기사용료!H108 -> 0 | G19: =중기사용료!J108 -> 0 | H19: =중기사용료!L108 -> 5786 | J19: ="_x0007_`COD|X07208_x0005_`QTY1|1_x0005_`BQC|_x0005_`EQC|03720600700_x0005_`JDC|00007206007000000_x0005_`WQC|_x0005_`EDT|2026_x0005_`ADJ|F_x0005_`RXX|0_x0005_`DET|"&ROW(중기사용료!A105)&"_x0005_`" -> _x0007_`COD|X07208_x0005_`QTY1|1_x0005_`BQC|_x0005_`EQC|03720600700_x0005_`JDC|00007206007000000_x0005_`WQC|_x0005_`EDT|2026_x0005_`ADJ|F_x0005_`RXX|0_x0005_`DET|105_x0005_` | K19: =HYPERLINK("#"&중기사용료!N2&"!A"&ROW(중기사용료!A105),"X07208 →") -> X07208 →

Sheet 중기사용료
A1: 중 기 사 용 료 | N1: STmate | Z1: STmate
A2: 공사명 : 2026년 임도재해예방사업(오목) | N2: =MID(CELL("filename",$A$1),FIND("]",CELL("filename",$A$1))+1,LEN(CELL("filename",$A$1))) -> 중기사용료
A3: 명 칭 | B3: 규 격 | C3: 수 량 | D3: 단위 | E3: 합 계 | G3: 노 무 비 | I3: 재 료 비 | K3: 경 비 | M3: 비 고
E4: 단 가 | F4: 금 액 | G4: 단 가 | H4: 금 액 | I4: 단 가 | J4: 금 액 | K4: 단 가 | L4: 금 액 | Z4: =HYPERLINK("#'〓 목 차 〓'!B2","목차 →") -> 목차 →
A5: 제 1 호표 | N5: =HYPERLINK("#N"&ROW(N10),"_x0005_`BDCOD|X00202_x0007_`POSS|"&ROW(N7)&"_x0007_`POSE|"&ROW(N10)&"_x0007_`") -> _x0005_`BDCOD|X00202_x0007_`POSS|7_x0007_`POSE|10_x0007_`
A6: 굴착기(무한궤도) | B6: 0.2㎥ | D6: 시간 | M6: X00202 | O6: X00202
A7: 굴착기(무한궤도) | B7: 0.2㎥ | C7: 0.2085 | D7: 천원 | E7: =I7+G7+K7 -> 66538 | F7: =J7+H7+L7 -> 13873.1 | G7: 0 | H7: =IF(C7=0,0,ROUNDDOWN(G7*C7,1)) -> 0 | I7: 0 | J7: =IF(C7=0,0,ROUNDDOWN(I7*C7,1)) -> 0 | K7: =경비목록표!E4 -> 66538 | L7: =IF(C7=0,0,ROUNDDOWN(K7*C7,1)) -> 13873.1 | M7: S00202 | N7: _x0007_`COD|S00202_x0005_`EXI|0_x0005_`DVD|F_x0005_`BMK| _x0005_`IPR|0_x0005_`BLA|F_x0005_` | O7: S00202_1 | P7: T7_1 | Z7: =HYPERLINK("#"&경비목록표!G2&"!A"&ROW(경비목록표!A4),"S00202 →") -> S00202 →
A8: 건설기계운전사 | C8: 1 | D8: 인 | E8: =I8+G8+K8 -> 59020 | F8: =J8+H8+L8 -> 59020 | G8: =환율및기초자료!G6 -> 59020 | H8: =IF(C8=0,0,ROUNDDOWN(G8*C8,1)) -> 59020 | I8: 0 | J8: =IF(C8=0,0,ROUNDDOWN(I8*C8,1)) -> 0 | K8: 0 | L8: =IF(C8=0,0,ROUNDDOWN(K8*C8,1)) -> 0 | M8: L00048 | N8: _x0007_`COD|L00048_x0005_`EXI|0_x0005_`DVD|F_x0005_`BMK| _x0005_`IPR|0_x0005_`BLA|F_x0005_` | O8: L00048_1 | P8: T7_1 | Z8: =HYPERLINK("#"&환율및기초자료!I2&"!A"&ROW(환율및기초자료!A6),"L00048 →") -> L00048 →
A9: 경유 | B9: 저유황 | C9: 5 | D9: L | E9: =I9+G9+K9 -> 1657 | F9: =J9+H9+L9 -> 8285 | G9: 0 | H9: =IF(C9=0,0,ROUNDDOWN(G9*C9,1)) -> 0 | I9: =재료비목록표!E5 -> 1657 | J9: =IF(C9=0,0,ROUNDDOWN(I9*C9,1)) -> 8285 | K9: 0 | L9: =IF(C9=0,0,ROUNDDOWN(K9*C9,1)) -> 0 | M9: M00932 | N9: _x0007_`COD|M00932_x0005_`EXI|0_x0005_`DVD|F_x0005_`BMK| _x0005_`IPR|1_x0005_`KWN|0_x0005_`BLA|F_x0005_` | O9: M00932_1 | P9: T7_1 | Q9: 1_01 | Z9: =HYPERLINK("#"&재료비목록표!G2&"!A"&ROW(재료비목록표!A5),"M00932 →") -> M00932 →
A10: 잡품 | B10: 주연료의% | C10: 21 | D10: % | E10: =I10+G10+K10 -> 8285 | F10: =J10+H10+L10 -> 1739.8 | G10: 0 | H10: =IF(C10=0,0,ROUNDDOWN(G10*C10/100,1)) -> 0 | I10: =J9 -> 8285 | J10: =IF(C10=0,0,ROUNDDOWN(I10*C10/100,1)) -> 1739.8 | K10: 0 | L10: =IF(C10=0,0,ROUNDDOWN(K10*C10/100,1)) -> 0 | N10: _x0007_`COD|PR_x0005_`EXI|1_x0005_`DVD|F_x0005_`BMK| _x0005_`IPR|0_x0005_`EQC|A01_x0005_`PRI|1_x0005_`PRO|1_x0005_`UNI|%_x0005_`BLA|F_x0005_` | O10: PRA01_1 | P10: T7_1
A11: 합 계 | F11: =J11+H11+L11 -> 82917 | H11: =ROUNDDOWN(SUMIF(P7:P10,O11,H7:H10),0) -> 59020 | J11: =ROUNDDOWN(SUMIF(P7:P10,O11,J7:J10),0) -> 10024 | L11: =ROUNDDOWN(SUMIF(P7:P10,O11,L7:L10),0) -> 13873 | O11: T7_1
A12: 제 2 호표 | N12: =HYPERLINK("#N"&ROW(N17),"_x0005_`BDCOD|X00206_x0007_`POSS|"&ROW(N14)&"_x0007_`POSE|"&ROW(N17)&"_x0007_`") -> _x0005_`BDCOD|X00206_x0007_`POSS|14_x0007_`POSE|17_x0007_`
A13: 굴착기(무한궤도) | B13: 0.8㎥ | D13: 시간 | M13: X00206 | O13: X00206
A14: 굴착기(무한궤도) | B14: 0.8㎥ | C14: 0.2085 | D14: 천원 | E14: =I14+G14+K14 -> 129586 | F14: =J14+H14+L14 -> 27018.6 | G14: 0 | H14: =IF(C14=0,0,ROUNDDOWN(G14*C14,1)) -> 0 | I14: 0 | J14: =IF(C14=0,0,ROUNDDOWN(I14*C14,1)) -> 0 | K14: =경비목록표!E5 -> 129586 | L14: =IF(C14=0,0,ROUNDDOWN(K14*C14,1)) -> 27018.6 | M14: S00206 | N14: _x0007_`COD|S00206_x0005_`EXI|0_x0005_`DVD|F_x0005_`BMK| _x0005_`IPR|0_x0005_`BLA|F_x0005_` | O14: S00206_1 | P14: T7_1 | Z14: =HYPERLINK("#"&경비목록표!G2&"!A"&ROW(경비목록표!A5),"S00206 →") -> S00206 →
A15: 건설기계운전사 | C15: 1 | D15: 인 | E15: =I15+G15+K15 -> 59020 | F15: =J15+H15+L15 -> 59020 | G15: =환율및기초자료!G6 -> 59020 | H15: =IF(C15=0,0,ROUNDDOWN(G15*C15,1)) -> 59020 | I15: 0 | J15: =IF(C15=0,0,ROUNDDOWN(I15*C15,1)) -> 0 | K15: 0 | L15: =IF(C15=0,0,ROUNDDOWN(K15*C15,1)) -> 0 | M15: L00048 | N15: _x0007_`COD|L00048_x0005_`EXI|0_x0005_`DVD|F_x0005_`BMK| _x0005_`IPR|0_x0005_`BLA|F_x0005_` | O15: L00048_1 | P15: T7_1 | Z15: =HYPERLINK("#"&환율및기초자료!I2&"!A"&ROW(환율및기초자료!A6),"L00048 →") -> L00048 →
A16: 경유 | B16: 저유황 | C16: 15.3 | D16: L | E16: =I16+G16+K16 -> 1657 | F16: =J16+H16+L16 -> 25352.1 | G16: 0 | H16: =IF(C16=0,0,ROUNDDOWN(G16*C16,1)) -> 0 | I16: =재료비목록표!E5 -> 1657 | J16: =IF(C16=0,0,ROUNDDOWN(I16*C16,1)) -> 25352.1 | K16: 0 | L16: =IF(C16=0,0,ROUNDDOWN(K16*C16,1)) -> 0 | M16: M00932 | N16: _x0007_`COD|M00932_x0005_`EXI|0_x0005_`DVD|F_x0005_`BMK| _x0005_`IPR|1_x0005_`KWN|0_x0005_`BLA|F_x0005_` | O16: M00932_1 | P16: T7_1 | Q16: 1_01 | Z16: =HYPERLINK("#"&재료비목록표!G2&"!A"&ROW(재료비목록표!A5),"M00932 →") -> M00932 →
A17: 잡품 | B17: 주연료의% | C17: 22 | D17: % | E17: =I17+G17+K17 -> 25352.1 | F17: =J17+H17+L17 -> 5577.4 | G17: 0 | H17: =IF(C17=0,0,ROUNDDOWN(G17*C17/100,1)) -> 0 | I17: =J16 -> 25352.1 | J17: =IF(C17=0,0,ROUNDDOWN(I17*C17/100,1)) -> 5577.4 | K17: 0 | L17: =IF(C17=0,0,ROUNDDOWN(K17*C17/100,1)) -> 0 | N17: _x0007_`COD|PR_x0005_`EXI|1_x0005_`DVD|F_x0005_`BMK| _x0005_`IPR|0_x0005_`EQC|A01_x0005_`PRI|1_x0005_`PRO|1_x0005_`UNI|%_x0005_`BLA|F_x0005_` | O17: PRA01_1 | P17: T7_1
A18: 합 계 | F18: =J18+H18+L18 -> 116967 | H18: =ROUNDDOWN(SUMIF(P14:P17,O18,H14:H17),0) -> 59020 | J18: =ROUNDDOWN(SUMIF(P14:P17,O18,J14:J17),0) -> 30929 | L18: =ROUNDDOWN(SUMIF(P14:P17,O18,L14:L17),0) -> 27018 | O18: T7_1
A19: 제 3 호표 | N19: =HYPERLINK("#N"&ROW(N24),"_x0005_`BDCOD|X00207_x0007_`POSS|"&ROW(N21)&"_x0007_`POSE|"&ROW(N24)&"_x0007_`") -> _x0005_`BDCOD|X00207_x0007_`POSS|21_x0007_`POSE|24_x0007_`
A20: 굴착기(무한궤도) | B20: 1.0㎥ | D20: 시간 | M20: X00207 | O20: X00207
A21: 굴착기(무한궤도) | B21: 1.0㎥ | C21: 0.2085 | D21: 천원 | E21: =I21+G21+K21 -> 142069 | F21: =J21+H21+L21 -> 29621.3 | G21: 0 | H21: =IF(C21=0,0,ROUNDDOWN(G21*C21,1)) -> 0 | I21: 0 | J21: =IF(C21=0,0,ROUNDDOWN(I21*C21,1)) -> 0 | K21: =경비목록표!E6 -> 142069 | L21: =IF(C21=0,0,ROUNDDOWN(K21*C21,1)) -> 29621.3 | M21: S00207 | N21: _x0007_`COD|S00207_x0005_`EXI|0_x0005_`DVD|F_x0005_`BMK| _x0005_`IPR|0_x0005_`BLA|F_x0005_` | O21: S00207_1 | P21: T7_1 | Z21: =HYPERLINK("#"&경비목록표!G2&"!A"&ROW(경비목록표!A6),"S00207 →") -> S00207 →
A22: 건설기계운전사 | C22: 1 | D22: 인 | E22: =I22+G22+K22 -> 59020 | F22: =J22+H22+L22 -> 59020 | G22: =환율및기초자료!G6 -> 59020 | H22: =IF(C22=0,0,ROUNDDOWN(G22*C22,1)) -> 59020 | I22: 0 | J22: =IF(C22=0,0,ROUNDDOWN(I22*C22,1)) -> 0 | K22: 0 | L22: =IF(C22=0,0,ROUNDDOWN(K22*C22,1)) -> 0 | M22: L00048 | N22: _x0007_`COD|L00048_x0005_`EXI|0_x0005_`DVD|F_x0005_`BMK| _x0005_`IPR|0_x0005_`BLA|F_x0005_` | O22: L00048_1 | P22: T7_1 | Z22: =HYPERLINK("#"&환율및기초자료!I2&"!A"&ROW(환율및기초자료!A6),"L00048 →") -> L00048 →
A23: 경유 | B23: 저유황 | C23: 19.5 | D23: L | E23: =I23+G23+K23 -> 1657 | F23: =J23+H23+L23 -> 32311.5 | G23: 0 | H23: =IF(C23=0,0,ROUNDDOWN(G23*C23,1)) -> 0 | I23: =재료비목록표!E5 -> 1657 | J23: =IF(C23=0,0,ROUNDDOWN(I23*C23,1)) -> 32311.5 | K23: 0 | L23: =IF(C23=0,0,ROUNDDOWN(K23*C23,1)) -> 0 | M23: M00932 | N23: _x0007_`COD|M00932_x0005_`EXI|0_x0005_`DVD|F_x0005_`BMK| _x0005_`IPR|1_x0005_`KWN|0_x0005_`BLA|F_x0005_` | O23: M00932_1 | P23: T7_1 | Q23: 1_01 | Z23: =HYPERLINK("#"&재료비목록표!G2&"!A"&ROW(재료비목록표!A5),"M00932 →") -> M00932 →
A24: 잡품 | B24: 주연료의% | C24: 22 | D24: % | E24: =I24+G24+K24 -> 32311.5 | F24: =J24+H24+L24 -> 7108.5 | G24: 0 | H24: =IF(C24=0,0,ROUNDDOWN(G24*C24/100,1)) -> 0 | I24: =J23 -> 32311.5 | J24: =IF(C24=0,0,ROUNDDOWN(I24*C24/100,1)) -> 7108.5 | K24: 0 | L24: =IF(C24=0,0,ROUNDDOWN(K24*C24/100,1)) -> 0 | N24: _x0007_`COD|PR_x0005_`EXI|1_x0005_`DVD|F_x0005_`BMK| _x0005_`IPR|0_x0005_`EQC|A01_x0005_`PRI|1_x0005_`PRO|1_x0005_`UNI|%_x0005_`BLA|F_x0005_` | O24: PRA01_1 | P24: T7_1
A25: 합 계 | F25: =J25+H25+L25 -> 128061 | H25: =ROUNDDOWN(SUMIF(P21:P24,O25,H21:H24),0) -> 59020 | J25: =ROUNDDOWN(SUMIF(P21:P24,O25,J21:J24),0) -> 39420 | L25: =ROUNDDOWN(SUMIF(P21:P24,O25,L21:L24),0) -> 29621 | O25: T7_1
A26: 제 4 호표 | N26: =HYPERLINK("#N"&ROW(N31),"_x0005_`BDCOD|X00212_x0007_`POSS|"&ROW(N28)&"_x0007_`POSE|"&ROW(N31)&"_x0007_`") -> _x0005_`BDCOD|X00212_x0007_`POSS|28_x0007_`POSE|31_x0007_`
A27: 굴착기(타이어) | B27: 0.6㎥ | D27: 시간 | M27: X00212 | O27: X00212
A28: 굴착기(타이어) | B28: 0.6㎥ | C28: 0.2279 | D28: 천원 | E28: =I28+G28+K28 -> 119000 | F28: =J28+H28+L28 -> 27120.1 | G28: 0 | H28: =IF(C28=0,0,ROUNDDOWN(G28*C28,1)) -> 0 | I28: 0 | J28: =IF(C28=0,0,ROUNDDOWN(I28*C28,1)) -> 0 | K28: =경비목록표!E7 -> 119000 | L28: =IF(C28=0,0,ROUNDDOWN(K28*C28,1)) -> 27120.1 | M28: S00212 | N28: _x0007_`COD|S00212_x0005_`EXI|0_x0005_`DVD|F_x0005_`BMK| _x0005_`IPR|0_x0005_`BLA|F_x0005_` | O28: S00212_1 | P28: T7_1 | Z28: =HYPERLINK("#"&경비목록표!G2&"!A"&ROW(경비목록표!A7),"S00212 →") -> S00212 →
A29: 건설기계운전사 | C29: 1 | D29: 인 | E29: =I29+G29+K29 -> 59020 | F29: =J29+H29+L29 -> 59020 | G29: =환율및기초자료!G6 -> 59020 | H29: =IF(C29=0,0,ROUNDDOWN(G29*C29,1)) -> 59020 | I29: 0 | J29: =IF(C29=0,0,ROUNDDOWN(I29*C29,1)) -> 0 | K29: 0 | L29: =IF(C29=0,0,ROUNDDOWN(K29*C29,1)) -> 0 | M29: L00048 | N29: _x0007_`COD|L00048_x0005_`EXI|0_x0005_`DVD|F_x0005_`BMK| _x0005_`IPR|0_x0005_`BLA|F_x0005_` | O29: L00048_1 | P29: T7_1 | Z29: =HYPERLINK("#"&환율및기초자료!I2&"!A"&ROW(환율및기초자료!A6),"L00048 →") -> L00048 →
A30: 경유 | B30: 저유황 | C30: 11.6 | D30: L | E30: =I30+G30+K30 -> 1657 | F30: =J30+H30+L30 -> 19221.2 | G30: 0 | H30: =IF(C30=0,0,ROUNDDOWN(G30*C30,1)) -> 0 | I30: =재료비목록표!E5 -> 1657 | J30: =IF(C30=0,0,ROUNDDOWN(I30*C30,1)) -> 19221.2 | K30: 0 | L30: =IF(C30=0,0,ROUNDDOWN(K30*C30,1)) -> 0 | M30: M00932 | N30: _x0007_`COD|M00932_x0005_`EXI|0_x0005_`DVD|F_x0005_`BMK| _x0005_`IPR|1_x0005_`KWN|0_x0005_`BLA|F_x0005_` | O30: M00932_1 | P30: T7_1 | Q30: 1_01 | Z30: =HYPERLINK("#"&재료비목록표!G2&"!A"&ROW(재료비목록표!A5),"M00932 →") -> M00932 →
A31: 잡품 | B31: 주연료의% | C31: 24 | D31: % | E31: =I31+G31+K31 -> 19221.2 | F31: =J31+H31+L31 -> 4613 | G31: 0 | H31: =IF(C31=0,0,ROUNDDOWN(G31*C31/100,1)) -> 0 | I31: =J30 -> 19221.2 | J31: =IF(C31=0,0,ROUNDDOWN(I31*C31/100,1)) -> 4613 | K31: 0 | L31: =IF(C31=0,0,ROUNDDOWN(K31*C31/100,1)) -> 0 | N31: _x0007_`COD|PR_x0005_`EXI|1_x0005_`DVD|F_x0005_`BMK| _x0005_`IPR|0_x0005_`EQC|A01_x0005_`PRI|1_x0005_`PRO|1_x0005_`UNI|%_x0005_`BLA|F_x0005_` | O31: PRA01_1 | P31: T7_1
A32: 합 계 | F32: =J32+H32+L32 -> 109974 | H32: =ROUNDDOWN(SUMIF(P28:P31,O32,H28:H31),0) -> 59020 | J32: =ROUNDDOWN(SUMIF(P28:P31,O32,J28:J31),0) -> 23834 | L32: =ROUNDDOWN(SUMIF(P28:P31,O32,L28:L31),0) -> 27120 | O32: T7_1
A33: 제 5 호표 | N33: =HYPERLINK("#N"&ROW(N39),"_x0005_`BDCOD|X00234_x0007_`POSS|"&ROW(N35)&"_x0007_`POSE|"&ROW(N39)&"_x0007_`") -> _x0005_`BDCOD|X00234_x0007_`POSS|35_x0007_`POSE|39_x0007_`
A34: 굴착기(무한궤도) | B34: 1.0㎥,(브레이커조합) | D34: 시간 | M34: X00234 | O34: X00234
A35: 굴착기(무한궤도) | B35: 1.0㎥ | C35: 0.2085 | D35: 천원 | E35: =I35+G35+K35 -> 142069 | F35: =J35+H35+L35 -> 29621.3 | G35: 0 | H35: =IF(C35=0,0,ROUNDDOWN(G35*C35,1)) -> 0 | I35: 0 | J35: =IF(C35=0,0,ROUNDDOWN(I35*C35,1)) -> 0 | K35: =경비목록표!E6 -> 142069 | L35: =IF(C35=0,0,ROUNDDOWN(K35*C35,1)) -> 29621.3 | M35: S00207 | N35: _x0007_`COD|S00207_x0005_`EXI|0_x0005_`DVD|F_x0005_`BMK| _x0005_`IPR|0_x0005_`BLA|F_x0005_` | O35: S00207_1 | P35: T7_1 | Z35: =HYPERLINK("#"&경비목록표!G2&"!A"&ROW(경비목록표!A6),"S00207 →") -> S00207 →
A36: 건설기계운전사 | C36: 1 | D36: 인 | E36: =I36+G36+K36 -> 59020 | F36: =J36+H36+L36 -> 59020 | G36: =환율및기초자료!G6 -> 59020 | H36: =IF(C36=0,0,ROUNDDOWN(G36*C36,1)) -> 59020 | I36: 0 | J36: =IF(C36=0,0,ROUNDDOWN(I36*C36,1)) -> 0 | K36: 0 | L36: =IF(C36=0,0,ROUNDDOWN(K36*C36,1)) -> 0 | M36: L00048 | N36: _x0007_`COD|L00048_x0005_`EXI|0_x0005_`DVD|F_x0005_`BMK| _x0005_`IPR|0_x0005_`BLA|F_x0005_` | O36: L00048_1 | P36: T7_1 | Z36: =HYPERLINK("#"&환율및기초자료!I2&"!A"&ROW(환율및기초자료!A6),"L00048 →") -> L00048 →
A37: 경유 | B37: 저유황 | C37: 19.5 | D37: L | E37: =I37+G37+K37 -> 1657 | F37: =J37+H37+L37 -> 32311.5 | G37: 0 | H37: =IF(C37=0,0,ROUNDDOWN(G37*C37,1)) -> 0 | I37: =재료비목록표!E5 -> 1657 | J37: =IF(C37=0,0,ROUNDDOWN(I37*C37,1)) -> 32311.5 | K37: 0 | L37: =IF(C37=0,0,ROUNDDOWN(K37*C37,1)) -> 0 | M37: M00932 | N37: _x0007_`COD|M00932_x0005_`EXI|0_x0005_`DVD|F_x0005_`BMK| _x0005_`IPR|1_x0005_`KWN|0_x0005_`BLA|F_x0005_` | O37: M00932_1 | P37: T7_1 | Q37: 1_01 | Z37: =HYPERLINK("#"&재료비목록표!G2&"!A"&ROW(재료비목록표!A5),"M00932 →") -> M00932 →
A38: 잡품 | B38: 주연료의% | C38: 16 | D38: % | E38: =I38+G38+K38 -> 32311.5 | F38: =J38+H38+L38 -> 5169.8 | G38: 0 | H38: =IF(C38=0,0,ROUNDDOWN(G38*C38/100,1)) -> 0 | I38: =J37 -> 32311.5 | J38: =IF(C38=0,0,ROUNDDOWN(I38*C38/100,1)) -> 5169.8 | K38: 0 | L38: =IF(C38=0,0,ROUNDDOWN(K38*C38/100,1)) -> 0 | N38: _x0007_`COD|PR_x0005_`EXI|1_x0005_`DVD|F_x0005_`BMK| _x0005_`IPR|0_x0005_`EQC|A01_x0005_`PRI|1_x0005_`PRO|1_x0005_`UNI|%_x0005_`BLA|F_x0005_` | O38: PRA01_1 | P38: T7_1
A39: 대형 브레이커 | B39: 1.0㎥ | C39: 0.6601 | D39: 천원 | E39: =I39+G39+K39 -> 28692 | F39: =J39+H39+L39 -> 18939.5 | G39: 0 | H39: =IF(C39=0,0,ROUNDDOWN(G39*C39,1)) -> 0 | I39: 0 | J39: =IF(C39=0,0,ROUNDDOWN(I39*C39,1)) -> 0 | K39: =경비목록표!E8 -> 28692 | L39: =IF(C39=0,0,ROUNDDOWN(K39*C39,1)) -> 18939.5 | M39: S00234 | N39: _x0007_`COD|S00234_x0005_`EXI|0_x0005_`DVD|F_x0005_`BMK| _x0005_`IPR|0_x0005_`BLA|F_x0005_` | O39: S00234_1 | P39: T7_1 | Z39: =HYPERLINK("#"&경비목록표!G2&"!A"&ROW(경비목록표!A8),"S00234 →") -> S00234 →
A40: 합 계 | F40: =J40+H40+L40 -> 145061 | H40: =ROUNDDOWN(SUMIF(P35:P39,O40,H35:H39),0) -> 59020 | J40: =ROUNDDOWN(SUMIF(P35:P39,O40,J35:J39),0) -> 37481 | L40: =ROUNDDOWN(SUMIF(P35:P39,O40,L35:L39),0) -> 48560 | O40: T7_1
A41: 제 6 호표 | N41: =HYPERLINK("#N"&ROW(N46),"_x0005_`BDCOD|X00603_x0007_`POSS|"&ROW(N43)&"_x0007_`POSE|"&ROW(N46)&"_x0007_`") -> _x0005_`BDCOD|X00603_x0007_`POSS|43_x0007_`POSE|46_x0007_`
A42: 덤프트럭 | B42: 4.5톤 | D42: 시간 | M42: X00603 | O42: X00603
A43: 덤프트럭 | B43: 4.5톤 | C43: 0.2967 | D43: 천원 | E43: =I43+G43+K43 -> 25662 | F43: =J43+H43+L43 -> 7613.9 | G43: 0 | H43: =IF(C43=0,0,ROUNDDOWN(G43*C43,1)) -> 0 | I43: 0 | J43: =IF(C43=0,0,ROUNDDOWN(I43*C43,1)) -> 0 | K43: =경비목록표!E9 -> 25662 | L43: =IF(C43=0,0,ROUNDDOWN(K43*C43,1)) -> 7613.9 | M43: S00603 | N43: _x0007_`COD|S00603_x0005_`EXI|0_x0005_`DVD|F_x0005_`BMK| _x0005_`IPR|0_x0005_`BLA|F_x0005_` | O43: S00603_1 | P43: T7_1 | Z43: =HYPERLINK("#"&경비목록표!G2&"!A"&ROW(경비목록표!A9),"S00603 →") -> S00603 →
A44: 화물차운전사 | C44: 1 | D44: 인 | E44: =I44+G44+K44 -> 49778 | F44: =J44+H44+L44 -> 49778 | G44: =환율및기초자료!G7 -> 49778 | H44: =IF(C44=0,0,ROUNDDOWN(G44*C44,1)) -> 49778 | I44: 0 | J44: =IF(C44=0,0,ROUNDDOWN(I44*C44,1)) -> 0 | K44: 0 | L44: =IF(C44=0,0,ROUNDDOWN(K44*C44,1)) -> 0 | M44: L00049 | N44: _x0007_`COD|L00049_x0005_`EXI|0_x0005_`DVD|F_x0005_`BMK| _x0005_`IPR|0_x0005_`BLA|F_x0005_` | O44: L00049_1 | P44: T7_1 | Z44: =HYPERLINK("#"&환율및기초자료!I2&"!A"&ROW(환율및기초자료!A7),"L00049 →") -> L00049 →
A45: 경유 | B45: 저유황 | C45: 5 | D45: L | E45: =I45+G45+K45 -> 1657 | F45: =J45+H45+L45 -> 8285 | G45: 0 | H45: =IF(C45=0,0,ROUNDDOWN(G45*C45,1)) -> 0 | I45: =재료비목록표!E5 -> 1657 | J45: =IF(C45=0,0,ROUNDDOWN(I45*C45,1)) -> 8285 | K45: 0 | L45: =IF(C45=0,0,ROUNDDOWN(K45*C45,1)) -> 0 | M45: M00932 | N45: _x0007_`COD|M00932_x0005_`EXI|0_x0005_`DVD|F_x0005_`BMK| _x0005_`IPR|1_x0005_`KWN|0_x0005_`BLA|F_x0005_` | O45: M00932_1 | P45: T7_1 | Q45: 1_01 | Z45: =HYPERLINK("#"&재료비목록표!G2&"!A"&ROW(재료비목록표!A5),"M00932 →") -> M00932 →
A46: 잡품 | B46: 주연료의% | C46: 38 | D46: % | E46: =I46+G46+K46 -> 8285 | F46: =J46+H46+L46 -> 3148.3 | G46: 0 | H46: =IF(C46=0,0,ROUNDDOWN(G46*C46/100,1)) -> 0 | I46: =J45 -> 8285 | J46: =IF(C46=0,0,ROUNDDOWN(I46*C46/100,1)) -> 3148.3 | K46: 0 | L46: =IF(C46=0,0,ROUNDDOWN(K46*C46/100,1)) -> 0 | N46: _x0007_`COD|PR_x0005_`EXI|1_x0005_`DVD|F_x0005_`BMK| _x0005_`IPR|0_x0005_`EQC|A01_x0005_`PRI|1_x0005_`PRO|1_x0005_`UNI|%_x0005_`BLA|F_x0005_` | O46: PRA01_1 | P46: T7_1
A47: 합 계 | F47: =J47+H47+L47 -> 68824 | H47: =ROUNDDOWN(SUMIF(P43:P46,O47,H43:H46),0) -> 49778 | J47: =ROUNDDOWN(SUMIF(P43:P46,O47,J43:J46),0) -> 11433 | L47: =ROUNDDOWN(SUMIF(P43:P46,O47,L43:L46),0) -> 7613 | O47: T7_1
A48: 제 7 호표 | N48: =HYPERLINK("#N"&ROW(N53),"_x0005_`BDCOD|X00606_x0007_`POSS|"&ROW(N50)&"_x0007_`POSE|"&ROW(N53)&"_x0007_`") -> _x0005_`BDCOD|X00606_x0007_`POSS|50_x0007_`POSE|53_x0007_`
A49: 덤프트럭 | B49: 15톤 | D49: 시간 | M49: X00606 | O49: X00606
A50: 덤프트럭 | B50: 15톤 | C50: 0.2279 | D50: 천원 | E50: =I50+G50+K50 -> 90653 | F50: =J50+H50+L50 -> 20659.8 | G50: 0 | H50: =IF(C50=0,0,ROUNDDOWN(G50*C50,1)) -> 0 | I50: 0 | J50: =IF(C50=0,0,ROUNDDOWN(I50*C50,1)) -> 0 | K50: =경비목록표!E10 -> 90653 | L50: =IF(C50=0,0,ROUNDDOWN(K50*C50,1)) -> 20659.8 | M50: S00607 | N50: _x0007_`COD|S00607_x0005_`EXI|0_x0005_`DVD|F_x0005_`BMK| _x0005_`IPR|0_x0005_`BLA|F_x0005_` | O50: S00607_1 | P50: T7_1 | Z50: =HYPERLINK("#"&경비목록표!G2&"!A"&ROW(경비목록표!A10),"S00607 →") -> S00607 →
A51: 건설기계운전사 | C51: 1 | D51: 인 | E51: =I51+G51+K51 -> 59020 | F51: =J51+H51+L51 -> 59020 | G51: =환율및기초자료!G6 -> 59020 | H51: =IF(C51=0,0,ROUNDDOWN(G51*C51,1)) -> 59020 | I51: 0 | J51: =IF(C51=0,0,ROUNDDOWN(I51*C51,1)) -> 0 | K51: 0 | L51: =IF(C51=0,0,ROUNDDOWN(K51*C51,1)) -> 0 | M51: L00048 | N51: _x0007_`COD|L00048_x0005_`EXI|0_x0005_`DVD|F_x0005_`BMK| _x0005_`IPR|0_x0005_`BLA|F_x0005_` | O51: L00048_1 | P51: T7_1 | Z51: =HYPERLINK("#"&환율및기초자료!I2&"!A"&ROW(환율및기초자료!A6),"L00048 →") -> L00048 →
A52: 경유 | B52: 저유황 | C52: 15.9 | D52: L | E52: =I52+G52+K52 -> 1657 | F52: =J52+H52+L52 -> 26346.3 | G52: 0 | H52: =IF(C52=0,0,ROUNDDOWN(G52*C52,1)) -> 0 | I52: =재료비목록표!E5 -> 1657 | J52: =IF(C52=0,0,ROUNDDOWN(I52*C52,1)) -> 26346.3 | K52: 0 | L52: =IF(C52=0,0,ROUNDDOWN(K52*C52,1)) -> 0 | M52: M00932 | N52: _x0007_`COD|M00932_x0005_`EXI|0_x0005_`DVD|F_x0005_`BMK| _x0005_`IPR|1_x0005_`KWN|0_x0005_`BLA|F_x0005_` | O52: M00932_1 | P52: T7_1 | Q52: 1_01 | Z52: =HYPERLINK("#"&재료비목록표!G2&"!A"&ROW(재료비목록표!A5),"M00932 →") -> M00932 →
A53: 잡품 | B53: 주연료의% | C53: 38 | D53: % | E53: =I53+G53+K53 -> 26346.3 | F53: =J53+H53+L53 -> 10011.5 | G53: 0 | H53: =IF(C53=0,0,ROUNDDOWN(G53*C53/100,1)) -> 0 | I53: =J52 -> 26346.3 | J53: =IF(C53=0,0,ROUNDDOWN(I53*C53/100,1)) -> 10011.5 | K53: 0 | L53: =IF(C53=0,0,ROUNDDOWN(K53*C53/100,1)) -> 0 | N53: _x0007_`COD|PR_x0005_`EXI|1_x0005_`DVD|F_x0005_`BMK| _x0005_`IPR|0_x0005_`EQC|A01_x0005_`PRI|1_x0005_`PRO|1_x0005_`UNI|%_x0005_`BLA|F_x0005_` | O53: PRA01_1 | P53: T7_1
A54: 합 계 | F54: =J54+H54+L54 -> 116036 | H54: =ROUNDDOWN(SUMIF(P50:P53,O54,H50:H53),0) -> 59020 | J54: =ROUNDDOWN(SUMIF(P50:P53,O54,J50:J53),0) -> 36357 | L54: =ROUNDDOWN(SUMIF(P50:P53,O54,L50:L53),0) -> 20659 | O54: T7_1
A55: 제 8 호표 | N55: =HYPERLINK("#N"&ROW(N60),"_x0005_`BDCOD|X00607_x0007_`POSS|"&ROW(N57)&"_x0007_`POSE|"&ROW(N60)&"_x0007_`") -> _x0005_`BDCOD|X00607_x0007_`POSS|57_x0007_`POSE|60_x0007_`
A56: 덤프트럭 | B56: 15톤,(암석) | D56: 시간 | M56: X00607 | O56: X00607
A57: 덤프트럭 | B57: 15톤 | C57: 0.2679 | D57: 천원 | E57: =I57+G57+K57 -> 90653 | F57: =J57+H57+L57 -> 24285.9 | G57: 0 | H57: =IF(C57=0,0,ROUNDDOWN(G57*C57,1)) -> 0 | I57: 0 | J57: =IF(C57=0,0,ROUNDDOWN(I57*C57,1)) -> 0 | K57: =경비목록표!E10 -> 90653 | L57: =IF(C57=0,0,ROUNDDOWN(K57*C57,1)) -> 24285.9 | M57: S00607 | N57: _x0007_`COD|S00607_x0005_`EXI|0_x0005_`DVD|F_x0005_`BMK| _x0005_`IPR|0_x0005_`BLA|F_x0005_` | O57: S00607_1 | P57: T7_1 | Z57: =HYPERLINK("#"&경비목록표!G2&"!A"&ROW(경비목록표!A10),"S00607 →") -> S00607 →
A58: 건설기계운전사 | C58: 1 | D58: 인 | E58: =I58+G58+K58 -> 59020 | F58: =J58+H58+L58 -> 59020 | G58: =환율및기초자료!G6 -> 59020 | H58: =IF(C58=0,0,ROUNDDOWN(G58*C58,1)) -> 59020 | I58: 0 | J58: =IF(C58=0,0,ROUNDDOWN(I58*C58,1)) -> 0 | K58: 0 | L58: =IF(C58=0,0,ROUNDDOWN(K58*C58,1)) -> 0 | M58: L00048 | N58: _x0007_`COD|L00048_x0005_`EXI|0_x0005_`DVD|F_x0005_`BMK| _x0005_`IPR|0_x0005_`BLA|F_x0005_` | O58: L00048_1 | P58: T7_1 | Z58: =HYPERLINK("#"&환율및기초자료!I2&"!A"&ROW(환율및기초자료!A6),"L00048 →") -> L00048 →
A59: 경유 | B59: 저유황 | C59: 15.9 | D59: L | E59: =I59+G59+K59 -> 1657 | F59: =J59+H59+L59 -> 26346.3 | G59: 0 | H59: =IF(C59=0,0,ROUNDDOWN(G59*C59,1)) -> 0 | I59: =재료비목록표!E5 -> 1657 | J59: =IF(C59=0,0,ROUNDDOWN(I59*C59,1)) -> 26346.3 | K59: 0 | L59: =IF(C59=0,0,ROUNDDOWN(K59*C59,1)) -> 0 | M59: M00932 | N59: _x0007_`COD|M00932_x0005_`EXI|0_x0005_`DVD|F_x0005_`BMK| _x0005_`IPR|1_x0005_`KWN|0_x0005_`BLA|F_x0005_` | O59: M00932_1 | P59: T7_1 | Q59: 1_01 | Z59: =HYPERLINK("#"&재료비목록표!G2&"!A"&ROW(재료비목록표!A5),"M00932 →") -> M00932 →
A60: 잡품 | B60: 주연료의% | C60: 38 | D60: % | E60: =I60+G60+K60 -> 26346.3 | F60: =J60+H60+L60 -> 10011.5 | G60: 0 | H60: =IF(C60=0,0,ROUNDDOWN(G60*C60/100,1)) -> 0 | I60: =J59 -> 26346.3 | J60: =IF(C60=0,0,ROUNDDOWN(I60*C60/100,1)) -> 10011.5 | K60: 0 | L60: =IF(C60=0,0,ROUNDDOWN(K60*C60/100,1)) -> 0 | N60: _x0007_`COD|PR_x0005_`EXI|1_x0005_`DVD|F_x0005_`BMK| _x0005_`IPR|0_x0005_`EQC|A01_x0005_`PRI|1_x0005_`PRO|1_x0005_`UNI|%_x0005_`BLA|F_x0005_` | O60: PRA01_1 | P60: T7_1
A61: 합 계 | F61: =J61+H61+L61 -> 119662 | H61: =ROUNDDOWN(SUMIF(P57:P60,O61,H57:H60),0) -> 59020 | J61: =ROUNDDOWN(SUMIF(P57:P60,O61,J57:J60),0) -> 36357 | L61: =ROUNDDOWN(SUMIF(P57:P60,O61,L57:L60),0) -> 24285 | O61: T7_1
A62: 제 9 호표 | N62: =HYPERLINK("#N"&ROW(N64),"_x0005_`BDCOD|X00610_x0007_`POSS|"&ROW(N64)&"_x0007_`POSE|"&ROW(N64)&"_x0007_`") -> _x0005_`BDCOD|X00610_x0007_`POSS|64_x0007_`POSE|64_x0007_`
A63: 덤프트럭 자동덮개시설 | B63: 15톤용 | D63: 시간 | M63: X00610 | O63: X00610
A64: 덤프트럭 자동덮개시설 | B64: 15톤용 | C64: 0.2684 | D64: 천원 | E64: =I64+G64+K64 -> 1634 | F64: =J64+H64+L64 -> 438.5 | G64: 0 | H64: =IF(C64=0,0,ROUNDDOWN(G64*C64,1)) -> 0 | I64: 0 | J64: =IF(C64=0,0,ROUNDDOWN(I64*C64,1)) -> 0 | K64: =경비목록표!E11 -> 1634 | L64: =IF(C64=0,0,ROUNDDOWN(K64*C64,1)) -> 438.5 | M64: S00610 | N64: _x0007_`COD|S00610_x0005_`EXI|0_x0005_`DVD|F_x0005_`BMK| _x0005_`IPR|0_x0005_`BLA|F_x0005_` | O64: S00610_1 | P64: T7_1 | Z64: =HYPERLINK("#"&경비목록표!G2&"!A"&ROW(경비목록표!A11),"S00610 →") -> S00610 →
A65: 합 계 | F65: =J65+H65+L65 -> 438 | H65: =ROUNDDOWN(SUMIF(P64:P64,O65,H64:H64),0) -> 0 | J65: =ROUNDDOWN(SUMIF(P64:P64,O65,J64:J64),0) -> 0 | L65: =ROUNDDOWN(SUMIF(P64:P64,O65,L64:L64),0) -> 438 | O65: T7_1
A66: 제 10 호표 | N66: =HYPERLINK("#N"&ROW(N71),"_x0005_`BDCOD|X01305_x0007_`POSS|"&ROW(N68)&"_x0007_`POSE|"&ROW(N71)&"_x0007_`") -> _x0005_`BDCOD|X01305_x0007_`POSS|68_x0007_`POSE|71_x0007_`
A67: 진동롤러(핸드가이드식) | B67: 0.7톤 | D67: 시간 | M67: X01305 | O67: X01305
A68: 진동롤러(핸드가이드식) | B68: 0.7톤 | C68: 0.2825 | D68: 천원 | E68: =I68+G68+K68 -> 6966 | F68: =J68+H68+L68 -> 1967.8 | G68: 0 | H68: =IF(C68=0,0,ROUNDDOWN(G68*C68,1)) -> 0 | I68: 0 | J68: =IF(C68=0,0,ROUNDDOWN(I68*C68,1)) -> 0 | K68: =경비목록표!E12 -> 6966 | L68: =IF(C68=0,0,ROUNDDOWN(K68*C68,1)) -> 1967.8 | M68: S01305 | N68: _x0007_`COD|S01305_x0005_`EXI|0_x0005_`DVD|F_x0005_`BMK| _x0005_`IPR|0_x0005_`BLA|F_x0005_` | O68: S01305_1 | P68: T7_1 | Z68: =HYPERLINK("#"&경비목록표!G2&"!A"&ROW(경비목록표!A12),"S01305 →") -> S01305 →
A69: 일반기계운전사 | C69: 1 | D69: 인 | E69: =I69+G69+K69 -> 36248 | F69: =J69+H69+L69 -> 36248 | G69: =환율및기초자료!G8 -> 36248 | H69: =IF(C69=0,0,ROUNDDOWN(G69*C69,1)) -> 36248 | I69: 0 | J69: =IF(C69=0,0,ROUNDDOWN(I69*C69,1)) -> 0 | K69: 0 | L69: =IF(C69=0,0,ROUNDDOWN(K69*C69,1)) -> 0 | M69: L00050 | N69: _x0007_`COD|L00050_x0005_`EXI|0_x0005_`DVD|F_x0005_`BMK| _x0005_`IPR|0_x0005_`BLA|F_x0005_` | O69: L00050_1 | P69: T7_1 | Z69: =HYPERLINK("#"&환율및기초자료!I2&"!A"&ROW(환율및기초자료!A8),"L00050 →") -> L00050 →
A70: 경유 | B70: 저유황 | C70: 2.2 | D70: L | E70: =I70+G70+K70 -> 1657 | F70: =J70+H70+L70 -> 3645.4 | G70: 0 | H70: =IF(C70=0,0,ROUNDDOWN(G70*C70,1)) -> 0 | I70: =재료비목록표!E5 -> 1657 | J70: =IF(C70=0,0,ROUNDDOWN(I70*C70,1)) -> 3645.4 | K70: 0 | L70: =IF(C70=0,0,ROUNDDOWN(K70*C70,1)) -> 0 | M70: M00932 | N70: _x0007_`COD|M00932_x0005_`EXI|0_x0005_`DVD|F_x0005_`BMK| _x0005_`IPR|1_x0005_`KWN|0_x0005_`BLA|F_x0005_` | O70: M00932_1 | P70: T7_1 | Q70: 1_01 | Z70: =HYPERLINK("#"&재료비목록표!G2&"!A"&ROW(재료비목록표!A5),"M00932 →") -> M00932 →
A71: 잡품 | B71: 주연료의% | C71: 13 | D71: % | E71: =I71+G71+K71 -> 3645.4 | F71: =J71+H71+L71 -> 473.9 | G71: 0 | H71: =IF(C71=0,0,ROUNDDOWN(G71*C71/100,1)) -> 0 | I71: =J70 -> 3645.4 | J71: =IF(C71=0,0,ROUNDDOWN(I71*C71/100,1)) -> 473.9 | K71: 0 | L71: =IF(C71=0,0,ROUNDDOWN(K71*C71/100,1)) -> 0 | N71: _x0007_`COD|PR_x0005_`EXI|1_x0005_`DVD|F_x0005_`BMK| _x0005_`IPR|0_x0005_`EQC|A01_x0005_`PRI|1_x0005_`PRO|1_x0005_`UNI|%_x0005_`BLA|F_x0005_` | O71: PRA01_1 | P71: T7_1
A72: 합 계 | F72: =J72+H72+L72 -> 42334 | H72: =ROUNDDOWN(SUMIF(P68:P71,O72,H68:H71),0) -> 36248 | J72: =ROUNDDOWN(SUMIF(P68:P71,O72,J68:J71),0) -> 4119 | L72: =ROUNDDOWN(SUMIF(P68:P71,O72,L68:L71),0) -> 1967 | O72: T7_1
A73: 제 11 호표 | N73: =HYPERLINK("#N"&ROW(N78),"_x0005_`BDCOD|X01309_x0007_`POSS|"&ROW(N75)&"_x0007_`POSE|"&ROW(N78)&"_x0007_`") -> _x0005_`BDCOD|X01309_x0007_`POSS|75_x0007_`POSE|78_x0007_`
A74: 진동롤러(자주식) | B74: 10톤 | D74: 시간 | M74: X01309 | O74: X01309
A75: 진동롤러(자주식) | B75: 10톤 | C75: 0.2825 | D75: 천원 | E75: =I75+G75+K75 -> 94381 | F75: =J75+H75+L75 -> 26662.6 | G75: 0 | H75: =IF(C75=0,0,ROUNDDOWN(G75*C75,1)) -> 0 | I75: 0 | J75: =IF(C75=0,0,ROUNDDOWN(I75*C75,1)) -> 0 | K75: =경비목록표!E13 -> 94381 | L75: =IF(C75=0,0,ROUNDDOWN(K75*C75,1)) -> 26662.6 | M75: S01309 | N75: _x0007_`COD|S01309_x0005_`EXI|0_x0005_`DVD|F_x0005_`BMK| _x0005_`IPR|0_x0005_`BLA|F_x0005_` | O75: S01309_1 | P75: T7_1 | Z75: =HYPERLINK("#"&경비목록표!G2&"!A"&ROW(경비목록표!A13),"S01309 →") -> S01309 →
A76: 건설기계운전사 | C76: 1 | D76: 인 | E76: =I76+G76+K76 -> 59020 | F76: =J76+H76+L76 -> 59020 | G76: =환율및기초자료!G6 -> 59020 | H76: =IF(C76=0,0,ROUNDDOWN(G76*C76,1)) -> 59020 | I76: 0 | J76: =IF(C76=0,0,ROUNDDOWN(I76*C76,1)) -> 0 | K76: 0 | L76: =IF(C76=0,0,ROUNDDOWN(K76*C76,1)) -> 0 | M76: L00048 | N76: _x0007_`COD|L00048_x0005_`EXI|0_x0005_`DVD|F_x0005_`BMK| _x0005_`IPR|0_x0005_`BLA|F_x0005_` | O76: L00048_1 | P76: T7_1 | Z76: =HYPERLINK("#"&환율및기초자료!I2&"!A"&ROW(환율및기초자료!A6),"L00048 →") -> L00048 →
A77: 경유 | B77: 저유황 | C77: 14.4 | D77: L | E77: =I77+G77+K77 -> 1657 | F77: =J77+H77+L77 -> 23860.8 | G77: 0 | H77: =IF(C77=0,0,ROUNDDOWN(G77*C77,1)) -> 0 | I77: =재료비목록표!E5 -> 1657 | J77: =IF(C77=0,0,ROUNDDOWN(I77*C77,1)) -> 23860.8 | K77: 0 | L77: =IF(C77=0,0,ROUNDDOWN(K77*C77,1)) -> 0 | M77: M00932 | N77: _x0007_`COD|M00932_x0005_`EXI|0_x0005_`DVD|F_x0005_`BMK| _x0005_`IPR|1_x0005_`KWN|0_x0005_`BLA|F_x0005_` | O77: M00932_1 | P77: T7_1 | Q77: 1_01 | Z77: =HYPERLINK("#"&재료비목록표!G2&"!A"&ROW(재료비목록표!A5),"M00932 →") -> M00932 →
A78: 잡품 | B78: 주연료의% | C78: 30 | D78: % | E78: =I78+G78+K78 -> 23860.8 | F78: =J78+H78+L78 -> 7158.2 | G78: 0 | H78: =IF(C78=0,0,ROUNDDOWN(G78*C78/100,1)) -> 0 | I78: =J77 -> 23860.8 | J78: =IF(C78=0,0,ROUNDDOWN(I78*C78/100,1)) -> 7158.2 | K78: 0 | L78: =IF(C78=0,0,ROUNDDOWN(K78*C78/100,1)) -> 0 | N78: _x0007_`COD|PR_x0005_`EXI|1_x0005_`DVD|F_x0005_`BMK| _x0005_`IPR|0_x0005_`EQC|A01_x0005_`PRI|1_x0005_`PRO|1_x0005_`UNI|%_x0005_`BLA|F_x0005_` | O78: PRA01_1 | P78: T7_1
A79: 합 계 | F79: =J79+H79+L79 -> 116701 | H79: =ROUNDDOWN(SUMIF(P75:P78,O79,H75:H78),0) -> 59020 | J79: =ROUNDDOWN(SUMIF(P75:P78,O79,J75:J78),0) -> 31019 | L79: =ROUNDDOWN(SUMIF(P75:P78,O79,L75:L78),0) -> 26662 | O79: T7_1
A80: 제 12 호표 | N80: =HYPERLINK("#N"&ROW(N85),"_x0005_`BDCOD|X02107_x0007_`POSS|"&ROW(N82)&"_x0007_`POSE|"&ROW(N85)&"_x0007_`") -> _x0005_`BDCOD|X02107_x0007_`POSS|82_x0007_`POSE|85_x0007_`
A81: 트럭탑재형 크레인 | B81: 5톤 | D81: 시간 | M81: X02107 | O81: X02107
A82: 트럭탑재형 크레인 | B82: 5톤 | C82: 0.2598 | D82: 천원 | E82: =I82+G82+K82 -> 42791 | F82: =J82+H82+L82 -> 11117.1 | G82: 0 | H82: =IF(C82=0,0,ROUNDDOWN(G82*C82,1)) -> 0 | I82: 0 | J82: =IF(C82=0,0,ROUNDDOWN(I82*C82,1)) -> 0 | K82: =경비목록표!E14 -> 42791 | L82: =IF(C82=0,0,ROUNDDOWN(K82*C82,1)) -> 11117.1 | M82: S02107 | N82: _x0007_`COD|S02107_x0005_`EXI|0_x0005_`DVD|F_x0005_`BMK| _x0005_`IPR|0_x0005_`BLA|F_x0005_` | O82: S02107_1 | P82: T7_1 | Z82: =HYPERLINK("#"&경비목록표!G2&"!A"&ROW(경비목록표!A14),"S02107 →") -> S02107 →
A83: 화물차운전사 | C83: 1 | D83: 인 | E83: =I83+G83+K83 -> 49778 | F83: =J83+H83+L83 -> 49778 | G83: =환율및기초자료!G7 -> 49778 | H83: =IF(C83=0,0,ROUNDDOWN(G83*C83,1)) -> 49778 | I83: 0 | J83: =IF(C83=0,0,ROUNDDOWN(I83*C83,1)) -> 0 | K83: 0 | L83: =IF(C83=0,0,ROUNDDOWN(K83*C83,1)) -> 0 | M83: L00049 | N83: _x0007_`COD|L00049_x0005_`EXI|0_x0005_`DVD|F_x0005_`BMK| _x0005_`IPR|0_x0005_`BLA|F_x0005_` | O83: L00049_1 | P83: T7_1 | Z83: =HYPERLINK("#"&환율및기초자료!I2&"!A"&ROW(환율및기초자료!A7),"L00049 →") -> L00049 →
A84: 경유 | B84: 저유황 | C84: 5.1 | D84: L | E84: =I84+G84+K84 -> 1657 | F84: =J84+H84+L84 -> 8450.7 | G84: 0 | H84: =IF(C84=0,0,ROUNDDOWN(G84*C84,1)) -> 0 | I84: =재료비목록표!E5 -> 1657 | J84: =IF(C84=0,0,ROUNDDOWN(I84*C84,1)) -> 8450.7 | K84: 0 | L84: =IF(C84=0,0,ROUNDDOWN(K84*C84,1)) -> 0 | M84: M00932 | N84: _x0007_`COD|M00932_x0005_`EXI|0_x0005_`DVD|F_x0005_`BMK| _x0005_`IPR|1_x0005_`KWN|0_x0005_`BLA|F_x0005_` | O84: M00932_1 | P84: T7_1 | Q84: 1_01 | Z84: =HYPERLINK("#"&재료비목록표!G2&"!A"&ROW(재료비목록표!A5),"M00932 →") -> M00932 →
A85: 잡품 | B85: 주연료의% | C85: 20 | D85: % | E85: =I85+G85+K85 -> 8450.7 | F85: =J85+H85+L85 -> 1690.1 | G85: 0 | H85: =IF(C85=0,0,ROUNDDOWN(G85*C85/100,1)) -> 0 | I85: =J84 -> 8450.7 | J85: =IF(C85=0,0,ROUNDDOWN(I85*C85/100,1)) -> 1690.1 | K85: 0 | L85: =IF(C85=0,0,ROUNDDOWN(K85*C85/100,1)) -> 0 | N85: _x0007_`COD|PR_x0005_`EXI|1_x0005_`DVD|F_x0005_`BMK| _x0005_`IPR|0_x0005_`EQC|A01_x0005_`PRI|1_x0005_`PRO|1_x0005_`UNI|%_x0005_`BLA|F_x0005_` | O85: PRA01_1 | P85: T7_1
A86: 합 계 | F86: =J86+H86+L86 -> 71035 | H86: =ROUNDDOWN(SUMIF(P82:P85,O86,H82:H85),0) -> 49778 | J86: =ROUNDDOWN(SUMIF(P82:P85,O86,J82:J85),0) -> 10140 | L86: =ROUNDDOWN(SUMIF(P82:P85,O86,L82:L85),0) -> 11117 | O86: T7_1
A87: 제 13 호표 | N87: =HYPERLINK("#N"&ROW(N92),"_x0005_`BDCOD|X02702_x0007_`POSS|"&ROW(N89)&"_x0007_`POSE|"&ROW(N92)&"_x0007_`") -> _x0005_`BDCOD|X02702_x0007_`POSS|89_x0007_`POSE|92_x0007_`
A88: 트럭 트랙터 및 평판트레일러 | B88: 20톤 | D88: 시간 | M88: X02702 | O88: X02702
A89: 트럭 트랙터 및 평판트레일러 | B89: 20톤 | C89: 0.2576 | D89: 천원 | E89: =I89+G89+K89 -> 67216 | F89: =J89+H89+L89 -> 17314.8 | G89: 0 | H89: =IF(C89=0,0,ROUNDDOWN(G89*C89,1)) -> 0 | I89: 0 | J89: =IF(C89=0,0,ROUNDDOWN(I89*C89,1)) -> 0 | K89: =경비목록표!E15 -> 67216 | L89: =IF(C89=0,0,ROUNDDOWN(K89*C89,1)) -> 17314.8 | M89: S02702 | N89: _x0007_`COD|S02702_x0005_`EXI|0_x0005_`DVD|F_x0005_`BMK| _x0005_`IPR|0_x0005_`BLA|F_x0005_` | O89: S02702_1 | P89: T7_1 | Z89: =HYPERLINK("#"&경비목록표!G2&"!A"&ROW(경비목록표!A15),"S02702 →") -> S02702 →
A90: 건설기계운전사 | C90: 1 | D90: 인 | E90: =I90+G90+K90 -> 59020 | F90: =J90+H90+L90 -> 59020 | G90: =환율및기초자료!G6 -> 59020 | H90: =IF(C90=0,0,ROUNDDOWN(G90*C90,1)) -> 59020 | I90: 0 | J90: =IF(C90=0,0,ROUNDDOWN(I90*C90,1)) -> 0 | K90: 0 | L90: =IF(C90=0,0,ROUNDDOWN(K90*C90,1)) -> 0 | M90: L00048 | N90: _x0007_`COD|L00048_x0005_`EXI|0_x0005_`DVD|F_x0005_`BMK| _x0005_`IPR|0_x0005_`BLA|F_x0005_` | O90: L00048_1 | P90: T7_1 | Z90: =HYPERLINK("#"&환율및기초자료!I2&"!A"&ROW(환율및기초자료!A6),"L00048 →") -> L00048 →
A91: 경유 | B91: 저유황 | C91: 16.5 | D91: L | E91: =I91+G91+K91 -> 1657 | F91: =J91+H91+L91 -> 27340.5 | G91: 0 | H91: =IF(C91=0,0,ROUNDDOWN(G91*C91,1)) -> 0 | I91: =재료비목록표!E5 -> 1657 | J91: =IF(C91=0,0,ROUNDDOWN(I91*C91,1)) -> 27340.5 | K91: 0 | L91: =IF(C91=0,0,ROUNDDOWN(K91*C91,1)) -> 0 | M91: M00932 | N91: _x0007_`COD|M00932_x0005_`EXI|0_x0005_`DVD|F_x0005_`BMK| _x0005_`IPR|1_x0005_`KWN|0_x0005_`BLA|F_x0005_` | O91: M00932_1 | P91: T7_1 | Q91: 1_01 | Z91: =HYPERLINK("#"&재료비목록표!G2&"!A"&ROW(재료비목록표!A5),"M00932 →") -> M00932 →
A92: 잡품 | B92: 주연료의% | C92: 39 | D92: % | E92: =I92+G92+K92 -> 27340.5 | F92: =J92+H92+L92 -> 10662.7 | G92: 0 | H92: =IF(C92=0,0,ROUNDDOWN(G92*C92/100,1)) -> 0 | I92: =J91 -> 27340.5 | J92: =IF(C92=0,0,ROUNDDOWN(I92*C92/100,1)) -> 10662.7 | K92: 0 | L92: =IF(C92=0,0,ROUNDDOWN(K92*C92/100,1)) -> 0 | N92: _x0007_`COD|PR_x0005_`EXI|1_x0005_`DVD|F_x0005_`BMK| _x0005_`IPR|0_x0005_`EQC|A01_x0005_`PRI|1_x0005_`PRO|1_x0005_`UNI|%_x0005_`BLA|F_x0005_` | O92: PRA01_1 | P92: T7_1
A93: 합 계 | F93: =J93+H93+L93 -> 114337 | H93: =ROUNDDOWN(SUMIF(P89:P92,O93,H89:H92),0) -> 59020 | J93: =ROUNDDOWN(SUMIF(P89:P92,O93,J89:J92),0) -> 38003 | L93: =ROUNDDOWN(SUMIF(P89:P92,O93,L89:L92),0) -> 17314 | O93: T7_1
A94: 제 14 호표 | N94: =HYPERLINK("#N"&ROW(N99),"_x0005_`BDCOD|X07204_x0007_`POSS|"&ROW(N96)&"_x0007_`POSE|"&ROW(N99)&"_x0007_`") -> _x0005_`BDCOD|X07204_x0007_`POSS|96_x0007_`POSE|99_x0007_`
A95: 물탱크(살수차) | B95: 5500ℓ | D95: 시간 | M95: X07204 | O95: X07204
A96: 물탱크(살수차) | B96: 5500ℓ | C96: 0.2113 | D96: 천원 | E96: =I96+G96+K96 -> 47263 | F96: =J96+H96+L96 -> 9986.6 | G96: 0 | H96: =IF(C96=0,0,ROUNDDOWN(G96*C96,1)) -> 0 | I96: 0 | J96: =IF(C96=0,0,ROUNDDOWN(I96*C96,1)) -> 0 | K96: =경비목록표!E16 -> 47263 | L96: =IF(C96=0,0,ROUNDDOWN(K96*C96,1)) -> 9986.6 | M96: S07204 | N96: _x0007_`COD|S07204_x0005_`EXI|0_x0005_`DVD|F_x0005_`BMK| _x0005_`IPR|0_x0005_`BLA|F_x0005_` | O96: S07204_1 | P96: T7_1 | Z96: =HYPERLINK("#"&경비목록표!G2&"!A"&ROW(경비목록표!A16),"S07204 →") -> S07204 →
A97: 화물차운전사 | C97: 1 | D97: 인 | E97: =I97+G97+K97 -> 49778 | F97: =J97+H97+L97 -> 49778 | G97: =환율및기초자료!G7 -> 49778 | H97: =IF(C97=0,0,ROUNDDOWN(G97*C97,1)) -> 49778 | I97: 0 | J97: =IF(C97=0,0,ROUNDDOWN(I97*C97,1)) -> 0 | K97: 0 | L97: =IF(C97=0,0,ROUNDDOWN(K97*C97,1)) -> 0 | M97: L00049 | N97: _x0007_`COD|L00049_x0005_`EXI|0_x0005_`DVD|F_x0005_`BMK| _x0005_`IPR|0_x0005_`BLA|F_x0005_` | O97: L00049_1 | P97: T7_1 | Z97: =HYPERLINK("#"&환율및기초자료!I2&"!A"&ROW(환율및기초자료!A7),"L00049 →") -> L00049 →
A98: 경유 | B98: 저유황 | C98: 9.3 | D98: L | E98: =I98+G98+K98 -> 1657 | F98: =J98+H98+L98 -> 15410.1 | G98: 0 | H98: =IF(C98=0,0,ROUNDDOWN(G98*C98,1)) -> 0 | I98: =재료비목록표!E5 -> 1657 | J98: =IF(C98=0,0,ROUNDDOWN(I98*C98,1)) -> 15410.1 | K98: 0 | L98: =IF(C98=0,0,ROUNDDOWN(K98*C98,1)) -> 0 | M98: M00932 | N98: _x0007_`COD|M00932_x0005_`EXI|0_x0005_`DVD|F_x0005_`BMK| _x0005_`IPR|1_x0005_`KWN|0_x0005_`BLA|F_x0005_` | O98: M00932_1 | P98: T7_1 | Q98: 1_01 | Z98: =HYPERLINK("#"&재료비목록표!G2&"!A"&ROW(재료비목록표!A5),"M00932 →") -> M00932 →
A99: 잡품 | B99: 주연료의% | C99: 30 | D99: % | E99: =I99+G99+K99 -> 15410.1 | F99: =J99+H99+L99 -> 4623 | G99: 0 | H99: =IF(C99=0,0,ROUNDDOWN(G99*C99/100,1)) -> 0 | I99: =J98 -> 15410.1 | J99: =IF(C99=0,0,ROUNDDOWN(I99*C99/100,1)) -> 4623 | K99: 0 | L99: =IF(C99=0,0,ROUNDDOWN(K99*C99/100,1)) -> 0 | N99: _x0007_`COD|PR_x0005_`EXI|1_x0005_`DVD|F_x0005_`BMK| _x0005_`IPR|0_x0005_`EQC|A01_x0005_`PRI|1_x0005_`PRO|1_x0005_`UNI|%_x0005_`BLA|F_x0005_` | O99: PRA01_1 | P99: T7_1
A100: 합 계 | F100: =J100+H100+L100 -> 79797 | H100: =ROUNDDOWN(SUMIF(P96:P99,O100,H96:H99),0) -> 49778 | J100: =ROUNDDOWN(SUMIF(P96:P99,O100,J96:J99),0) -> 20033 | L100: =ROUNDDOWN(SUMIF(P96:P99,O100,L96:L99),0) -> 9986 | O100: T7_1
...

Sheet 재료비목록표
A1: 재료비 목록표 | G1: STmate | H1: STmate
A2: 공사명 : 2026년 임도재해예방사업(오목) | G2: =MID(CELL("filename",$A$1),FIND("]",CELL("filename",$A$1))+1,LEN(CELL("filename",$A$1))) -> 재료비목록표
A3: 코드번호 | B3: 명 칭 | C3: 규 격 | D3: 단위 | E3: 단 가 | F3: 비 고 | H3: =HYPERLINK("#'〓 목 차 〓'!B2","목차 →") -> 목차 →
A4: M00865 | B4: 파형강관 | C4: 별도계상 | D4: M | E4: =자재단가대비표!O5 -> 0 | G4: ="_x0007_`COD|M00865_x0005_`QTY1|1_x0005_`BQC|_x0005_`EQC|_x0005_`JDC|_x0005_`WQC|_x0005_`EDT|_x0005_`DET|"&ROW(자재단가대비표!A5)&"_x0005_`" -> _x0007_`COD|M00865_x0005_`QTY1|1_x0005_`BQC|_x0005_`EQC|_x0005_`JDC|_x0005_`WQC|_x0005_`EDT|_x0005_`DET|5_x0005_` | H4: =HYPERLINK("#"&자재단가대비표!R2&"!A"&ROW(자재단가대비표!A5),"M00865 →") -> M00865 →
A5: M00932 | B5: 경유 | C5: 저유황 | D5: L | E5: =자재단가대비표!O6 -> 1657 | G5: ="_x0007_`COD|M00932_x0005_`QTY1|1_x0005_`BQC|_x0005_`EQC|_x0005_`JDC|1510150520282163_x0005_`WQC|_x0005_`EDT|2026.06.02_x0005_`DET|"&ROW(자재단가대비표!A6)&"_x0005_`" -> _x0007_`COD|M00932_x0005_`QTY1|1_x0005_`BQC|_x0005_`EQC|_x0005_`JDC|1510150520282163_x0005_`WQC|_x0005_`EDT|2026.06.02_x0005_`DET|6_x0005_` | H5: =HYPERLINK("#"&자재단가대비표!R2&"!A"&ROW(자재단가대비표!A6),"M00932 →") -> M00932 →
A6: M00969 | B6: 큰돌(삼척) | C6: 직경 0.4~0.6m | D6: Ton | E6: =자재단가대비표!O7 -> 20000 | G6: ="_x0007_`COD|M00969_x0005_`QTY1|1_x0005_`BQC|_x0005_`EQC|_x0005_`JDC|_x0005_`WQC|_x0005_`EDT|_x0005_`DET|"&ROW(자재단가대비표!A7)&"_x0005_`" -> _x0007_`COD|M00969_x0005_`QTY1|1_x0005_`BQC|_x0005_`EQC|_x0005_`JDC|_x0005_`WQC|_x0005_`EDT|_x0005_`DET|7_x0005_` | H6: =HYPERLINK("#"&자재단가대비표!R2&"!A"&ROW(자재단가대비표!A7),"M00969 →") -> M00969 →
A7: M00999 | B7: 파형강관(2.7T) | C7: Φ800-1RS | D7: M | E7: =자재단가대비표!O8 -> 126420 | F7: 대양CSP | G7: ="_x0007_`COD|M00999_x0005_`QTY1|1_x0005_`BQC|대양CSP_x0005_`EQC|20991772_x0005_`JDC|_x0005_`WQC|_x0005_`EDT|_x0005_`DET|"&ROW(자재단가대비표!A8)&"_x0005_`" -> _x0007_`COD|M00999_x0005_`QTY1|1_x0005_`BQC|대양CSP_x0005_`EQC|20991772_x0005_`JDC|_x0005_`WQC|_x0005_`EDT|_x0005_`DET|8_x0005_` | H7: =HYPERLINK("#"&자재단가대비표!R2&"!A"&ROW(자재단가대비표!A8),"M00999 →") -> M00999 →
A8: M01002 | B8: 파형강관이음관 | C8: φ800m/m | D8: 개 | E8: =자재단가대비표!O9 -> 25500 | F8: 대양CSP | G8: ="_x0007_`COD|M01002_x0005_`QTY1|1_x0005_`BQC|대양CSP_x0005_`EQC|20991860_x0005_`JDC|_x0005_`WQC|_x0005_`EDT|_x0005_`DET|"&ROW(자재단가대비표!A9)&"_x0005_`" -> _x0007_`COD|M01002_x0005_`QTY1|1_x0005_`BQC|대양CSP_x0005_`EQC|20991860_x0005_`JDC|_x0005_`WQC|_x0005_`EDT|_x0005_`DET|9_x0005_` | H8: =HYPERLINK("#"&자재단가대비표!R2&"!A"&ROW(자재단가대비표!A9),"M01002 →") -> M01002 →
A9: M01082 | B9: 큰돌(별도계상) | C9: 직경 0.4~0.6m | D9: M2 | E9: =자재단가대비표!O10 -> 0 | G9: ="_x0007_`COD|M01082_x0005_`QTY1|1_x0005_`BQC|_x0005_`EQC|_x0005_`JDC|_x0005_`WQC|_x0005_`EDT|_x0005_`DET|"&ROW(자재단가대비표!A10)&"_x0005_`" -> _x0007_`COD|M01082_x0005_`QTY1|1_x0005_`BQC|_x0005_`EQC|_x0005_`JDC|_x0005_`WQC|_x0005_`EDT|_x0005_`DET|10_x0005_` | H9: =HYPERLINK("#"&자재단가대비표!R2&"!A"&ROW(자재단가대비표!A10),"M01082 →") -> M01082 →

Sheet 노무비목록표
A1: 노무비 목록표 | G1: STmate | H1: STmate
A2: 공사명 : 2026년 임도재해예방사업(오목) | G2: =MID(CELL("filename",$A$1),FIND("]",CELL("filename",$A$1))+1,LEN(CELL("filename",$A$1))) -> 노무비목록표
A3: 코드번호 | B3: 명 칭 | C3: 규 격 | D3: 단위 | E3: 단 가 | F3: 비 고 | H3: =HYPERLINK("#'〓 목 차 〓'!B2","목차 →") -> 목차 →
A4: L00001 | B4: 작업반장 | D4: 인 | E4: 215907 | F4: 01000000071 | G4: _x0007_`COD|L00001_x0005_`QTY1|1_x0005_`BQC|01000000071_x0005_`EQC|01000001001_x0005_`JDC|L001010101000001_x0005_`WQC|_x0005_`EDT|2026.상_x0005_`
A5: L00002 | B5: 보통인부 | D5: 인 | E5: 172068 | F5: 01000000075 | G5: _x0007_`COD|L00002_x0005_`QTY1|1_x0005_`BQC|01000000075_x0005_`EQC|01000001002_x0005_`JDC|L001010101000002_x0005_`WQC|_x0005_`EDT|2026.상_x0005_`
A6: L00003 | B6: 특별인부 | D6: 인 | E6: 226122 | F6: 01000000074 | G6: _x0007_`COD|L00003_x0005_`QTY1|1_x0005_`BQC|01000000074_x0005_`EQC|01000001003_x0005_`JDC|L001010101000003_x0005_`WQC|_x0005_`EDT|2026.상_x0005_`
A7: L00037 | B7: 벌목부 | D7: 인 | E7: 253243 | F7: 01000000045 | G7: _x0007_`COD|L00037_x0005_`QTY1|1_x0005_`BQC|01000000045_x0005_`EQC|01000001037_x0005_`JDC|L001010101000037_x0005_`WQC|_x0005_`EDT|2026.상_x0005_`
A8: L00040 | B8: 배관공(수도) | D8: 인 | E8: 262580 | F8: 01000000026 | G8: _x0007_`COD|L00040_x0005_`QTY1|1_x0005_`BQC|01000000026_x0005_`EQC|01000001040_x0005_`JDC|L001010101000040_x0005_`WQC|_x0005_`EDT|2026.상_x0005_`
A9: L00048 | B9: 건설기계운전사 | D9: 인 | E9: 283297 | F9: 01000000076 | G9: _x0007_`COD|L00048_x0005_`QTY1|1_x0005_`BQC|01000000076_x0005_`EQC|01000001048_x0005_`JDC|L001010101000048_x0005_`WQC|_x0005_`EDT|2026.상_x0005_`
A10: L00049 | B10: 화물차운전사 | D10: 인 | E10: 238936 | F10: 01000000078 | G10: _x0007_`COD|L00049_x0005_`QTY1|1_x0005_`BQC|01000000078_x0005_`EQC|01000001049_x0005_`JDC|L001010101000049_x0005_`WQC|_x0005_`EDT|2026.상_x0005_`
A11: L00050 | B11: 일반기계운전사 | D11: 인 | E11: 173995 | F11: 01000000079 | G11: _x0007_`COD|L00050_x0005_`QTY1|1_x0005_`BQC|01000000079_x0005_`EQC|01000001050_x0005_`JDC|L001010101000050_x0005_`WQC|_x0005_`EDT|2026.상_x0005_`

Sheet 경비목록표
A1: 경비 목록표 | G1: STmate | H1: STmate
A2: 공사명 : 2026년 임도재해예방사업(오목) | G2: =MID(CELL("filename",$A$1),FIND("]",CELL("filename",$A$1))+1,LEN(CELL("filename",$A$1))) -> 경비목록표
A3: 코드번호 | B3: 명 칭 | C3: 규 격 | D3: 단위 | E3: 단 가 | F3: 비 고 | H3: =HYPERLINK("#'〓 목 차 〓'!B2","목차 →") -> 목차 →
A4: S00202 | B4: 굴착기(무한궤도) | C4: 0.2㎥ | D4: 천원 | E4: 66538 | G4: _x0007_`COD|S00202_x0005_`QTY1|1_x0005_`BQC|_x0005_`EQC|02020100200_x0005_`JDC|0000020100200000_x0005_`WQC|_x0005_`EDT|2026_x0005_`
A5: S00206 | B5: 굴착기(무한궤도) | C5: 0.8㎥ | D5: 천원 | E5: 129586 | G5: _x0007_`COD|S00206_x0005_`QTY1|1_x0005_`BQC|_x0005_`EQC|02020100800_x0005_`JDC|0000020100800000_x0005_`WQC|_x0005_`EDT|2026_x0005_`
A6: S00207 | B6: 굴착기(무한궤도) | C6: 1.0㎥ | D6: 천원 | E6: 142069 | G6: _x0007_`COD|S00207_x0005_`QTY1|1_x0005_`BQC|_x0005_`EQC|02020101000_x0005_`JDC|0000020101000000_x0005_`WQC|_x0005_`EDT|2026_x0005_`
A7: S00212 | B7: 굴착기(타이어) | C7: 0.6㎥ | D7: 천원 | E7: 119000 | G7: _x0007_`COD|S00212_x0005_`QTY1|1_x0005_`BQC|_x0005_`EQC|02021100600_x0005_`JDC|0000021100600000_x0005_`WQC|_x0005_`EDT|2026_x0005_`
A8: S00234 | B8: 대형 브레이커 | C8: 1.0㎥ | D8: 천원 | E8: 28692 | G8: _x0007_`COD|S00234_x0005_`QTY1|1_x0005_`BQC|_x0005_`EQC|02023000100_x0005_`JDC|0000023000100000_x0005_`WQC|_x0005_`EDT|2026_x0005_`
A9: S00603 | B9: 덤프트럭 | C9: 4.5톤 | D9: 천원 | E9: 25662 | G9: _x0007_`COD|S00603_x0005_`QTY1|1_x0005_`BQC|_x0005_`EQC|02060200450_x0005_`JDC|0000060200450000_x0005_`WQC|_x0005_`EDT|2026_x0005_`
A10: S00607 | B10: 덤프트럭 | C10: 15톤 | D10: 천원 | E10: 90653 | G10: _x0007_`COD|S00607_x0005_`QTY1|1_x0005_`BQC|_x0005_`EQC|02060201500_x0005_`JDC|0000060201500000_x0005_`WQC|_x0005_`EDT|2026_x0005_`
A11: S00610 | B11: 덤프트럭 자동덮개시설 | C11: 15톤용 | D11: 천원 | E11: 1634 | G11: _x0007_`COD|S00610_x0005_`QTY1|1_x0005_`BQC|_x0005_`EQC|02061001500_x0005_`JDC|0000061001500000_x0005_`WQC|_x0005_`EDT|2026_x0005_`
A12: S01305 | B12: 진동롤러(핸드가이드식) | C12: 0.7톤 | D12: 천원 | E12: 6966 | G12: _x0007_`COD|S01305_x0005_`QTY1|1_x0005_`BQC|_x0005_`EQC|02130500070_x0005_`JDC|0000130500070000_x0005_`WQC|_x0005_`EDT|2026_x0005_`
A13: S01309 | B13: 진동롤러(자주식) | C13: 10톤 | D13: 천원 | E13: 94381 | G13: _x0007_`COD|S01309_x0005_`QTY1|1_x0005_`BQC|_x0005_`EQC|02130601000_x0005_`JDC|0000130601000000_x0005_`WQC|_x0005_`EDT|2026_x0005_`
A14: S02107 | B14: 트럭탑재형 크레인 | C14: 5톤 | D14: 천원 | E14: 42791 | G14: _x0007_`COD|S02107_x0005_`QTY1|1_x0005_`BQC|_x0005_`EQC|02210500050_x0005_`JDC|0000210500050000_x0005_`WQC|_x0005_`EDT|2026_x0005_`
A15: S02702 | B15: 트럭 트랙터 및 평판트레일러 | C15: 20톤 | D15: 천원 | E15: 67216 | G15: _x0007_`COD|S02702_x0005_`QTY1|1_x0005_`BQC|_x0005_`EQC|02270200200_x0005_`JDC|0000270200200000_x0005_`WQC|_x0005_`EDT|2026_x0005_`
... A18: S07209 | B18: 부착용 집게 | C18: 0.6~0.8㎥ | D18: 천원 | E18: 7783 | G18: _x0007_`COD|S07209_x0005_`QTY1|1_x0005_`BQC|_x0005_`EQC|02720600700_x0005_`JDC|0000720600700000_x0005_`WQC|_x0005_`EDT|2026_x0005_`

Sheet 자재단가대비표
A1: 자재단가 대비표 | R1: STmate | S1: STmate
A2: 공사명 : 2026년 임도재해예방사업(오목) | R2: =MID(CELL("filename",$A$1),FIND("]",CELL("filename",$A$1))+1,LEN(CELL("filename",$A$1))) -> 자재단가대비표
A3: 코드번호 | B3: 명 칭 | C3: 규 격 | D3: 단위 | E3: 물가 자료 | G3: 물가 정보 | I3: 유통 물가 | K3: 거래 가격등 | M3: 기타 단가 | O3: 적용 | Q3: 비 고 | U3: 최소단가
E4: 단 가 | F4: 페이지 | G4: 단 가 | H4: 페이지 | I4: 단 가 | J4: 페이지 | K4: 단 가 | L4: 페이지 | M4: 단 가 | N4: 페이지 | O4: 단 가 | P4: 페이지 | S4: =HYPERLINK("#'〓 목 차 〓'!B2","목차 →") -> 목차 → | T4: 이전단가 | U4: 위치 | V4: 단 가 | W4: 페이지 | X4: 물가지명 | Y4: 별명
A5: M00865 | B5: 파형강관 | C5: 별도계상 | D5: M | E5: 0 | G5: 0 | I5: 0 | K5: 0 | M5: 0 | O5: 0 | R5: _x0007_`COD|M00865_x0005_`QTY1|1_x0005_`BQC|_x0005_`EQC|_x0005_`JDC|_x0005_`WQC|_x0005_`EDT|_x0005_` | S5: =HYPERLINK("#"&재료비목록표!G2&"!A"&ROW(재료비목록표!A4),"M00865 →") -> M00865 → | T5: 0 | U5: =IF(OR(V5=0,ISERROR(MATCH(V5,E5:M5,0))),"",CHOOSE(TRUNC((MATCH(V5,E5:M5,0)/2+1)),1,2,3,4,5)) | V5: =IF(AND(E5=0,G5=0,I5=0,K5=0,M5=0),T5,MIN(IF(E5=0,MAX(E5:M5),E5),IF(G5=0,MAX(E5:M5),G5),IF(I5=0,MAX(E5:M5),I5),IF(K5=0,MAX(E5:M5),K5),IF(M5=0,MAX(E5:M5),M5))) -> 0 | W5: =IF(OR(O5=0,U5=""),"",CHOOSE(U5,Y$5,Y$6,Y$7,Y$8,Y$9)) | X5: 물가 자료 | Y5: 물.자
A6: M00932 | B6: 경유 | C6: 저유황 | D6: L | E6: 0 | G6: 0 | I6: 0 | K6: 0 | M6: 1376 | N6: 26.01.06(조) | O6: 1657 | R6: _x0007_`COD|M00932_x0005_`QTY1|1_x0005_`BQC|_x0005_`EQC|_x0005_`JDC|1510150520282163_x0005_`WQC|_x0005_`EDT|2026.06.02_x0005_` | S6: =HYPERLINK("#"&재료비목록표!G2&"!A"&ROW(재료비목록표!A5),"M00932 →") -> M00932 → | T6: 1657 | U6: =IF(OR(V6=0,ISERROR(MATCH(V6,E6:M6,0))),"",CHOOSE(TRUNC((MATCH(V6,E6:M6,0)/2+1)),1,2,3,4,5)) -> 5 | V6: =IF(AND(E6=0,G6=0,I6=0,K6=0,M6=0),T6,MIN(IF(E6=0,MAX(E6:M6),E6),IF(G6=0,MAX(E6:M6),G6),IF(I6=0,MAX(E6:M6),I6),IF(K6=0,MAX(E6:M6),K6),IF(M6=0,MAX(E6:M6),M6))) -> 1376 | W6: =IF(OR(O6=0,U6=""),"",CHOOSE(U6,Y$5,Y$6,Y$7,Y$8,Y$9)) -> 견적 | X6: 물가 정보 | Y6: 물.정
A7: M00969 | B7: 큰돌(삼척) | C7: 직경 0.4~0.6m | D7: Ton | E7: 0 | G7: 0 | I7: 0 | K7: 0 | M7: 20000 | N7: 견적가 | O7: 20000 | P7: 견적 | R7: _x0007_`COD|M00969_x0005_`QTY1|1_x0005_`BQC|_x0005_`EQC|_x0005_`JDC|_x0005_`WQC|_x0005_`EDT|_x0005_` | S7: =HYPERLINK("#"&재료비목록표!G2&"!A"&ROW(재료비목록표!A6),"M00969 →") -> M00969 → | T7: 20000 | U7: =IF(OR(V7=0,ISERROR(MATCH(V7,E7:M7,0))),"",CHOOSE(TRUNC((MATCH(V7,E7:M7,0)/2+1)),1,2,3,4,5)) -> 5 | V7: =IF(AND(E7=0,G7=0,I7=0,K7=0,M7=0),T7,MIN(IF(E7=0,MAX(E7:M7),E7),IF(G7=0,MAX(E7:M7),G7),IF(I7=0,MAX(E7:M7),I7),IF(K7=0,MAX(E7:M7),K7),IF(M7=0,MAX(E7:M7),M7))) -> 20000 | W7: =IF(OR(O7=0,U7=""),"",CHOOSE(U7,Y$5,Y$6,Y$7,Y$8,Y$9)) -> 견적 | X7: 유통 물가 | Y7: 유.물
A8: M00999 | B8: 파형강관(2.7T) | C8: Φ800-1RS | D8: M | E8: 0 | G8: 0 | I8: 0 | K8: 0 | M8: 126420 | N8: 조달가격 | O8: 126420 | P8: 견적 | Q8: 대양CSP | R8: _x0007_`COD|M00999_x0005_`QTY1|1_x0005_`BQC|대양CSP_x0005_`EQC|20991772_x0005_`JDC|_x0005_`WQC|_x0005_`EDT|_x0005_` | S8: =HYPERLINK("#"&재료비목록표!G2&"!A"&ROW(재료비목록표!A7),"M00999 →") -> M00999 → | T8: 126420 | U8: =IF(OR(V8=0,ISERROR(MATCH(V8,E8:M8,0))),"",CHOOSE(TRUNC((MATCH(V8,E8:M8,0)/2+1)),1,2,3,4,5)) -> 5 | V8: =IF(AND(E8=0,G8=0,I8=0,K8=0,M8=0),T8,MIN(IF(E8=0,MAX(E8:M8),E8),IF(G8=0,MAX(E8:M8),G8),IF(I8=0,MAX(E8:M8),I8),IF(K8=0,MAX(E8:M8),K8),IF(M8=0,MAX(E8:M8),M8))) -> 126420 | W8: =IF(OR(O8=0,U8=""),"",CHOOSE(U8,Y$5,Y$6,Y$7,Y$8,Y$9)) -> 견적 | X8: 거래 가격등 | Y8: 기.가
A9: M01002 | B9: 파형강관이음관 | C9: φ800m/m | D9: 개 | E9: 0 | G9: 0 | I9: 0 | K9: 0 | M9: 25500 | N9: 조달가격 | O9: 25500 | P9: 견적 | Q9: 대양CSP | R9: _x0007_`COD|M01002_x0005_`QTY1|1_x0005_`BQC|대양CSP_x0005_`EQC|20991860_x0005_`JDC|_x0005_`WQC|_x0005_`EDT|_x0005_` | S9: =HYPERLINK("#"&재료비목록표!G2&"!A"&ROW(재료비목록표!A8),"M01002 →") -> M01002 → | T9: 25500 | U9: =IF(OR(V9=0,ISERROR(MATCH(V9,E9:M9,0))),"",CHOOSE(TRUNC((MATCH(V9,E9:M9,0)/2+1)),1,2,3,4,5)) -> 5 | V9: =IF(AND(E9=0,G9=0,I9=0,K9=0,M9=0),T9,MIN(IF(E9=0,MAX(E9:M9),E9),IF(G9=0,MAX(E9:M9),G9),IF(I9=0,MAX(E9:M9),I9),IF(K9=0,MAX(E9:M9),K9),IF(M9=0,MAX(E9:M9),M9))) -> 25500 | W9: =IF(OR(O9=0,U9=""),"",CHOOSE(U9,Y$5,Y$6,Y$7,Y$8,Y$9)) -> 견적 | X9: 기타 단가 | Y9: 견적
A10: M01082 | B10: 큰돌(별도계상) | C10: 직경 0.4~0.6m | D10: M2 | E10: 0 | G10: 0 | I10: 0 | K10: 0 | M10: 0 | O10: 0 | R10: _x0007_`COD|M01082_x0005_`QTY1|1_x0005_`BQC|_x0005_`EQC|_x0005_`JDC|_x0005_`WQC|_x0005_`EDT|_x0005_` | S10: =HYPERLINK("#"&재료비목록표!G2&"!A"&ROW(재료비목록표!A9),"M01082 →") -> M01082 → | T10: 0 | U10: =IF(OR(V10=0,ISERROR(MATCH(V10,E10:M10,0))),"",CHOOSE(TRUNC((MATCH(V10,E10:M10,0)/2+1)),1,2,3,4,5)) | V10: =IF(AND(E10=0,G10=0,I10=0,K10=0,M10=0),T10,MIN(IF(E10=0,MAX(E10:M10),E10),IF(G10=0,MAX(E10:M10),G10),IF(I10=0,MAX(E10:M10),I10),IF(K10=0,MAX(E10:M10),K10),IF(M10=0,MAX(E10:M10),M10))) -> 0 | W10: =IF(OR(O10=0,U10=""),"",CHOOSE(U10,Y$5,Y$6,Y$7,Y$8,Y$9)) | X10: 적용

Sheet 재료비수량금액집계표
A1: 재료비 수량,금액 집계표 | I1: STmate | J1: STmate
A2: 공사명 : 2026년 임도재해예방사업(오목) | I2: =MID(CELL("filename",$A$1),FIND("]",CELL("filename",$A$1))+1,LEN(CELL("filename",$A$1))) -> 재료비수량금액집계표
A3: 코드번호 | B3: 명 칭 | C3: 규 격 | D3: 수 량 | E3: 단위 | F3: 단 가 | G3: 금 액 | H3: 비 고 | J3: =HYPERLINK("#'〓 목 차 〓'!B2","목차 →") -> 목차 →
A4: M00865 | B4: 파형강관 | C4: 별도계상 | D4: 12 | E4: M | F4: =재료비목록표!E4 -> 0 | G4: =ROUND(D4*F4,0) -> 0 | J4: =HYPERLINK("#"&재료비목록표!G2&"!A"&ROW(재료비목록표!A4),"M00865 →") -> M00865 →
A5: M00969 | B5: 큰돌(삼척) | C5: 직경 0.4~0.6m | D5: 31 | E5: Ton | F5: =재료비목록표!E6 -> 20000 | G5: =ROUND(D5*F5,0) -> 620000 | J5: =HYPERLINK("#"&재료비목록표!G2&"!A"&ROW(재료비목록표!A6),"M00969 →") -> M00969 →
A6: M01082 | B6: 큰돌(별도계상) | C6: 직경 0.4~0.6m | D6: 22 | E6: M2 | F6: =재료비목록표!E9 -> 0 | G6: =ROUND(D6*F6,0) -> 0 | J6: =HYPERLINK("#"&재료비목록표!G2&"!A"&ROW(재료비목록표!A9),"M01082 →") -> M01082 →

Sheet 노무비수량금액집계표
A1: 노무비 수량,금액 집계표 | I1: STmate | J1: STmate
A2: 공사명 : 2026년 임도재해예방사업(오목) | I2: =MID(CELL("filename",$A$1),FIND("]",CELL("filename",$A$1))+1,LEN(CELL("filename",$A$1))) -> 노무비수량금액집계표
A3: 코드번호 | B3: 명 칭 | C3: 규 격 | D3: 수 량 | E3: 단위 | F3: 단 가 | G3: 금 액 | H3: 비 고 | J3: =HYPERLINK("#'〓 목 차 〓'!B2","목차 →") -> 목차 →
A4: L00001 | B4: 작업반장 | D4: 1.83 | E4: 인 | F4: =노무비목록표!E4 -> 215907 | G4: =ROUND(D4*F4,0) -> 395110 | H4: 01000000071 | J4: =HYPERLINK("#"&노무비목록표!G2&"!A"&ROW(노무비목록표!A4),"L00001 →") -> L00001 →
A5: L00002 | B5: 보통인부 | D5: 3.1 | E5: 인 | F5: =노무비목록표!E5 -> 172068 | G5: =ROUND(D5*F5,0) -> 533411 | H5: 01000000075 | J5: =HYPERLINK("#"&노무비목록표!G2&"!A"&ROW(노무비목록표!A5),"L00002 →") -> L00002 →
A6: L00003 | B6: 특별인부 | D6: 2.48 | E6: 인 | F6: =노무비목록표!E6 -> 226122 | G6: =ROUND(D6*F6,0) -> 560783 | H6: 01000000074 | J6: =HYPERLINK("#"&노무비목록표!G2&"!A"&ROW(노무비목록표!A6),"L00003 →") -> L00003 →
A7: L00037 | B7: 벌목부 | D7: 0.3 | E7: 인 | F7: =노무비목록표!E7 -> 253243 | G7: =ROUND(D7*F7,0) -> 75973 | H7: 01000000045 | J7: =HYPERLINK("#"&노무비목록표!G2&"!A"&ROW(노무비목록표!A7),"L00037 →") -> L00037 →
A8: L00040 | B8: 배관공(수도) | D8: 0.48 | E8: 인 | F8: =노무비목록표!E8 -> 262580 | G8: =ROUND(D8*F8,0) -> 126038 | H8: 01000000026 | J8: =HYPERLINK("#"&노무비목록표!G2&"!A"&ROW(노무비목록표!A8),"L00040 →") -> L00040 →

Sheet 중기시간금액집계표
A1: 중기 시간,금액 집계표 | K1: STmate | L1: STmate
A2: 공사명 : 2026년 임도재해예방사업(오목) | K2: =MID(CELL("filename",$A$1),FIND("]",CELL("filename",$A$1))+1,LEN(CELL("filename",$A$1))) -> 중기시간금액집계표
A3: 코드번호 | B3: 명 칭 | C3: 규 격 | D3: 수 량 | E3: 단위 | F3: 합 계 | G3: 노 무 비 | H3: 재 료 비 | I3: 경 비 | J3: 비 고 | L3: =HYPERLINK("#'〓 목 차 〓'!B2","목차 →") -> 목차 →
A4: X00202 | B4: 굴착기(무한궤도) | C4: 0.2㎥ | D4: 0.86 | E4: 시간 | F4: =H4+G4+I4 -> 71309 | G4: =ROUND(D4*중기목록표!F4,0) -> 50757 | H4: =ROUND(D4*중기목록표!G4,0) -> 8621 | I4: =ROUND(D4*중기목록표!H4,0) -> 11931 | L4: =HYPERLINK("#"&중기목록표!J2&"!A"&ROW(중기목록표!A4),"X00202 →") -> X00202 →
A5: X00206 | B5: 굴착기(무한궤도) | C5: 0.8㎥ | D5: 8.45 | E5: 시간 | F5: =H5+G5+I5 -> 988371 | G5: =ROUND(D5*중기목록표!F5,0) -> 498719 | H5: =ROUND(D5*중기목록표!G5,0) -> 261350 | I5: =ROUND(D5*중기목록표!H5,0) -> 228302 | J5: 08' 신규 | L5: =HYPERLINK("#"&중기목록표!J2&"!A"&ROW(중기목록표!A5),"X00206 →") -> X00206 →
A6: X00207 | B6: 굴착기(무한궤도) | C6: 1.0㎥ | D6: 105.1 | E6: 시간 | F6: =H6+G6+I6 -> 13459211 | G6: =ROUND(D6*중기목록표!F6,0) -> 6203002 | H6: =ROUND(D6*중기목록표!G6,0) -> 4143042 | I6: =ROUND(D6*중기목록표!H6,0) -> 3113167 | L6: =HYPERLINK("#"&중기목록표!J2&"!A"&ROW(중기목록표!A6),"X00207 →") -> X00207 →
A7: X00212 | B7: 굴착기(타이어) | C7: 0.6㎥ | D7: 5.21 | E7: 시간 | F7: =H7+G7+I7 -> 572964 | G7: =ROUND(D7*중기목록표!F7,0) -> 307494 | H7: =ROUND(D7*중기목록표!G7,0) -> 124175 | I7: =ROUND(D7*중기목록표!H7,0) -> 141295 | J7: 08' 신규 | L7: =HYPERLINK("#"&중기목록표!J2&"!A"&ROW(중기목록표!A7),"X00212 →") -> X00212 →
A8: X00234 | B8: 굴착기(무한궤도) | C8: 1.0㎥,(브레이커조합) | D8: 134.41 | E8: 시간 | F8: =H8+G8+I8 -> 19497649 | G8: =ROUND(D8*중기목록표!F8,0) -> 7932878 | H8: =ROUND(D8*중기목록표!G8,0) -> 5037821 | I8: =ROUND(D8*중기목록표!H8,0) -> 6526950 | L8: =HYPERLINK("#"&중기목록표!J2&"!A"&ROW(중기목록표!A8),"X00234 →") -> X00234 →
A9: X00603 | B9: 덤프트럭 | C9: 4.5톤 | D9: 0.81 | E9: 시간 | F9: =H9+G9+I9 -> 55748 | G9: =ROUND(D9*중기목록표!F9,0) -> 40320 | H9: =ROUND(D9*중기목록표!G9,0) -> 9261 | I9: =ROUND(D9*중기목록표!H9,0) -> 6167 | L9: =HYPERLINK("#"&중기목록표!J2&"!A"&ROW(중기목록표!A9),"X00603 →") -> X00603 →
A10: X00606 | B10: 덤프트럭 | C10: 15톤 | D10: 44.76 | E10: 시간 | F10: =H10+G10+I10 -> 5193771 | G10: =ROUND(D10*중기목록표!F10,0) -> 2641735 | H10: =ROUND(D10*중기목록표!G10,0) -> 1627339 | I10: =ROUND(D10*중기목록표!H10,0) -> 924697 | L10: =HYPERLINK("#"&중기목록표!J2&"!A"&ROW(중기목록표!A10),"X00606 →") -> X00606 →
A11: X00607 | B11: 덤프트럭 | C11: 15톤,(암석) | D11: 9.76 | E11: 시간 | F11: =H11+G11+I11 -> 1167901 | G11: =ROUND(D11*중기목록표!F11,0) -> 576035 | H11: =ROUND(D11*중기목록표!G11,0) -> 354844 | I11: =ROUND(D11*중기목록표!H11,0) -> 237022 | L11: =HYPERLINK("#"&중기목록표!J2&"!A"&ROW(중기목록표!A11),"X00607 →") -> X00607 →
A12: X00610 | B12: 덤프트럭 자동덮개시설 | C12: 15톤용 | D12: 9.76 | E12: 시간 | F12: =H12+G12+I12 -> 4275 | G12: =ROUND(D12*중기목록표!F12,0) -> 0 | H12: =ROUND(D12*중기목록표!G12,0) -> 0 | I12: =ROUND(D12*중기목록표!H12,0) -> 4275 | L12: =HYPERLINK("#"&중기목록표!J2&"!A"&ROW(중기목록표!A12),"X00610 →") -> X00610 →
A13: X01305 | B13: 진동롤러(핸드가이드식) | C13: 0.7톤 | D13: 1.56 | E13: 시간 | F13: =H13+G13+I13 -> 66042 | G13: =ROUND(D13*중기목록표!F13,0) -> 56547 | H13: =ROUND(D13*중기목록표!G13,0) -> 6426 | I13: =ROUND(D13*중기목록표!H13,0) -> 3069 | L13: =HYPERLINK("#"&중기목록표!J2&"!A"&ROW(중기목록표!A13),"X01305 →") -> X01305 →
A14: X01309 | B14: 진동롤러(자주식) | C14: 10톤 | D14: 1.08 | E14: 시간 | F14: =H14+G14+I14 -> 126038 | G14: =ROUND(D14*중기목록표!F14,0) -> 63742 | H14: =ROUND(D14*중기목록표!G14,0) -> 33501 | I14: =ROUND(D14*중기목록표!H14,0) -> 28795 | L14: =HYPERLINK("#"&중기목록표!J2&"!A"&ROW(중기목록표!A14),"X01309 →") -> X01309 →
A15: X02107 | B15: 트럭탑재형 크레인 | C15: 5톤 | D15: 0.48 | E15: 시간 | F15: =H15+G15+I15 -> 34096 | G15: =ROUND(D15*중기목록표!F15,0) -> 23893 | H15: =ROUND(D15*중기목록표!G15,0) -> 4867 | I15: =ROUND(D15*중기목록표!H15,0) -> 5336 | L15: =HYPERLINK("#"&중기목록표!J2&"!A"&ROW(중기목록표!A15),"X02107 →") -> X02107 →
A16: X02702 | B16: 트럭 트랙터 및 평판트레일러 | C16: 20톤 | D16: 8.94 | E16: 시간 | F16: =H16+G16+I16 -> 1022173 | G16: =ROUND(D16*중기목록표!F16,0) -> 527639 | H16: =ROUND(D16*중기목록표!G16,0) -> 339747 | I16: =ROUND(D16*중기목록표!H16,0) -> 154787 | L16: =HYPERLINK("#"&중기목록표!J2&"!A"&ROW(중기목록표!A16),"X02702 →") -> X02702 →
A17: X07204 | B17: 물탱크(살수차) | C17: 5500ℓ | D17: 0.54 | E17: 시간 | F17: =H17+G17+I17 -> 43090 | G17: =ROUND(D17*중기목록표!F17,0) -> 26880 | H17: =ROUND(D17*중기목록표!G17,0) -> 10818 | I17: =ROUND(D17*중기목록표!H17,0) -> 5392 | L17: =HYPERLINK("#"&중기목록표!J2&"!A"&ROW(중기목록표!A17),"X07204 →") -> X07204 →
A18: X07207 | B18: 부착용 집게 | C18: 0.2㎥ | D18: 0.38 | E18: 시간 | F18: =H18+G18+I18 -> 1396 | G18: =ROUND(D18*중기목록표!F18,0) -> 0 | H18: =ROUND(D18*중기목록표!G18,0) -> 0 | I18: =ROUND(D18*중기목록표!H18,0) -> 1396 | J18: 12하' 신규 | L18: =HYPERLINK("#"&중기목록표!J2&"!A"&ROW(중기목록표!A18),"X07207 →") -> X07207 →
A19: X07208 | B19: 부착용 집게 | C19: 0.6~0.8㎥ | D19: 8.45 | E19: 시간 | F19: =H19+G19+I19 -> 48892 | G19: =ROUND(D19*중기목록표!F19,0) -> 0 | H19: =ROUND(D19*중기목록표!G19,0) -> 0 | I19: =ROUND(D19*중기목록표!H19,0) -> 48892 | L19: =HYPERLINK("#"&중기목록표!J2&"!A"&ROW(중기목록표!A19),"X07208 →") -> X07208 →

Sheet 〓 INITIAL 〓
B2: ※※ 현재 Sheet를 수정 또는 삭제하지 마십시요[수정/삭제시 STmate 데이타로 변환할 수 없습니다] ※※
B4: [Sheet정보] | C4: =ISERROR(SUM(C6:X15,C18:X23)) -> FALSE | D4: =ROW(C24) -> 24
B5: 목차 | C5: Sheet | D5: FPos | E5: ITNAME | F5: NAME | G5: SIZE | H5: QTY | I5: UNIT | J5: SPOS | K5: EPOS | L5: TAMT | M5: TAMOUNT | N5: MAMT | O5: MAMOUNT | P5: LAMT | Q5: LAMOUNT | R5: SAMT | S5: SAMOUNT | T5: AAMT | U5: AAMOUNT | V5: NAMT | W5: NAMOUNT | X5: INFO
B6: 1. 재료비목록표 | C6: =IF(D6="","재료비목록표",MID(D6,FIND("]",D6)+1,LEN(D6))) -> 재료비목록표 | D6: =CELL("filename",재료비목록표!A1) -> C:\Users\user\Downloads\(260804) 임도재해예방사업 추진\[2026년 임도재해예방사업(오목) 설계서.xlsx]재료비목록표 | F6: =HYPERLINK("#"&C6&"!"&ADDRESS(3,COLUMN(재료비목록표!B1),1),COLUMN(재료비목록표!B1)) -> 2 | G6: =HYPERLINK("#"&C6&"!"&ADDRESS(3,COLUMN(재료비목록표!C1),1),COLUMN(재료비목록표!C1)) -> 3 | I6: =HYPERLINK("#"&C6&"!"&ADDRESS(3,COLUMN(재료비목록표!D1),1),COLUMN(재료비목록표!D1)) -> 4 | J6: =HYPERLINK("#"&C6&"!A"&ROW(재료비목록표!A4),ROW(재료비목록표!A4)) -> 4 | K6: =HYPERLINK("#"&C6&"!A"&ROW(재료비목록표!A9),ROW(재료비목록표!A9)) -> 9 | L6: =HYPERLINK("#"&C6&"!"&ADDRESS(3,COLUMN(재료비목록표!E1),1),COLUMN(재료비목록표!E1)) -> 5 | X6: =HYPERLINK("#"&C6&"!"&ADDRESS(3,COLUMN(재료비목록표!G1),1),COLUMN(재료비목록표!G1)) -> 7
B7: 2. 노무비목록표 | C7: =IF(D7="","노무비목록표",MID(D7,FIND("]",D7)+1,LEN(D7))) -> 노무비목록표 | D7: =CELL("filename",노무비목록표!A1) -> C:\Users\user\Downloads\(260804) 임도재해예방사업 추진\[2026년 임도재해예방사업(오목) 설계서.xlsx]노무비목록표 | F7: =HYPERLINK("#"&C7&"!"&ADDRESS(3,COLUMN(노무비목록표!B1),1),COLUMN(노무비목록표!B1)) -> 2 | G7: =HYPERLINK("#"&C7&"!"&ADDRESS(3,COLUMN(노무비목록표!C1),1),COLUMN(노무비목록표!C1)) -> 3 | I7: =HYPERLINK("#"&C7&"!"&ADDRESS(3,COLUMN(노무비목록표!D1),1),COLUMN(노무비목록표!D1)) -> 4 | J7: =HYPERLINK("#"&C7&"!A"&ROW(노무비목록표!A4),ROW(노무비목록표!A4)) -> 4 | K7: =HYPERLINK("#"&C7&"!A"&ROW(노무비목록표!A11),ROW(노무비목록표!A11)) -> 11 | L7: =HYPERLINK("#"&C7&"!"&ADDRESS(3,COLUMN(노무비목록표!E1),1),COLUMN(노무비목록표!E1)) -> 5 | X7: =HYPERLINK("#"&C7&"!"&ADDRESS(3,COLUMN(노무비목록표!G1),1),COLUMN(노무비목록표!G1)) -> 7
B8: 3. 경비목록표 | C8: =IF(D8="","경비목록표",MID(D8,FIND("]",D8)+1,LEN(D8))) -> 경비목록표 | D8: =CELL("filename",경비목록표!A1) -> C:\Users\user\Downloads\(260804) 임도재해예방사업 추진\[2026년 임도재해예방사업(오목) 설계서.xlsx]경비목록표 | F8: =HYPERLINK("#"&C8&"!"&ADDRESS(3,COLUMN(경비목록표!B1),1),COLUMN(경비목록표!B1)) -> 2 | G8: =HYPERLINK("#"&C8&"!"&ADDRESS(3,COLUMN(경비목록표!C1),1),COLUMN(경비목록표!C1)) -> 3 | I8: =HYPERLINK("#"&C8&"!"&ADDRESS(3,COLUMN(경비목록표!D1),1),COLUMN(경비목록표!D1)) -> 4 | J8: =HYPERLINK("#"&C8&"!A"&ROW(경비목록표!A4),ROW(경비목록표!A4)) -> 4 | K8: =HYPERLINK("#"&C8&"!A"&ROW(경비목록표!A18),ROW(경비목록표!A18)) -> 18 | L8: =HYPERLINK("#"&C8&"!"&ADDRESS(3,COLUMN(경비목록표!E1),1),COLUMN(경비목록표!E1)) -> 5 | X8: =HYPERLINK("#"&C8&"!"&ADDRESS(3,COLUMN(경비목록표!G1),1),COLUMN(경비목록표!G1)) -> 7
B9: 4. 일식목록표
B10: 5. 환율 및 기초자료 | C10: =IF(D10="","환율및기초자료",MID(D10,FIND("]",D10)+1,LEN(D10))) -> 환율및기초자료 | D10: =CELL("filename",환율및기초자료!A1) -> C:\Users\user\Downloads\(260804) 임도재해예방사업 추진\[2026년 임도재해예방사업(오목) 설계서.xlsx]환율및기초자료 | E10: =HYPERLINK("#"&C10&"!"&ADDRESS(5,COLUMN(환율및기초자료!B1),1),COLUMN(환율및기초자료!B1)) -> 2 | F10: =HYPERLINK("#"&C10&"!"&ADDRESS(5,COLUMN(환율및기초자료!C1),1),COLUMN(환율및기초자료!C1)) -> 3 | G10: =HYPERLINK("#"&C10&"!"&ADDRESS(5,COLUMN(환율및기초자료!D1),1),COLUMN(환율및기초자료!D1)) -> 4 | I10: =HYPERLINK("#"&C10&"!"&ADDRESS(5,COLUMN(환율및기초자료!E1),1),COLUMN(환율및기초자료!E1)) -> 5 | J10: =HYPERLINK("#"&C10&"!A"&ROW(환율및기초자료!A6),ROW(환율및기초자료!A6)) -> 6 | K10: =HYPERLINK("#"&C10&"!A"&ROW(환율및기초자료!A15),ROW(환율및기초자료!A15)) -> 15 | L10: =HYPERLINK("#"&C10&"!"&ADDRESS(5,COLUMN(환율및기초자료!F1),1),COLUMN(환율및기초자료!F1)) -> 6 | X10: =HYPERLINK("#"&C10&"!"&ADDRESS(5,COLUMN(환율및기초자료!I1),1),COLUMN(환율및기초자료!I1)) -> 9
B11: 6. 중기목록표 | C11: =IF(D11="","중기목록표",MID(D11,FIND("]",D11)+1,LEN(D11))) -> 중기목록표 | D11: =CELL("filename",중기목록표!A1) -> C:\Users\user\Downloads\(260804) 임도재해예방사업 추진\[2026년 임도재해예방사업(오목) 설계서.xlsx]중기목록표 | F11: =HYPERLINK("#"&C11&"!"&ADDRESS(3,COLUMN(중기목록표!B1),1),COLUMN(중기목록표!B1)) -> 2 | G11: =HYPERLINK("#"&C11&"!"&ADDRESS(3,COLUMN(중기목록표!C1),1),COLUMN(중기목록표!C1)) -> 3 | I11: =HYPERLINK("#"&C11&"!"&ADDRESS(3,COLUMN(중기목록표!D1),1),COLUMN(중기목록표!D1)) -> 4 | J11: =HYPERLINK("#"&C11&"!A"&ROW(중기목록표!A4),ROW(중기목록표!A4)) -> 4 | K11: =HYPERLINK("#"&C11&"!A"&ROW(중기목록표!A19),ROW(중기목록표!A19)) -> 19 | L11: =HYPERLINK("#"&C11&"!"&ADDRESS(3,COLUMN(중기목록표!E1),1),COLUMN(중기목록표!E1)) -> 5 | N11: =HYPERLINK("#"&C11&"!"&ADDRESS(3,COLUMN(중기목록표!G1),1),COLUMN(중기목록표!G1)) -> 7 | P11: =HYPERLINK("#"&C11&"!"&ADDRESS(3,COLUMN(중기목록표!F1),1),COLUMN(중기목록표!F1)) -> 6 | R11: =HYPERLINK("#"&C11&"!"&ADDRESS(3,COLUMN(중기목록표!H1),1),COLUMN(중기목록표!H1)) -> 8 | X11: =HYPERLINK("#"&C11&"!"&ADDRESS(3,COLUMN(중기목록표!J1),1),COLUMN(중기목록표!J1)) -> 10
B12: 7. 실적단가표
B13: 8. 일위대가목록표 | C13: =IF(D13="","일위대가목록표",MID(D13,FIND("]",D13)+1,LEN(D13))) -> 일위대가목록표 | D13: =CELL("filename",일위대가목록표!A1) -> C:\Users\user\Downloads\(260804) 임도재해예방사업 추진\[2026년 임도재해예방사업(오목) 설계서.xlsx]일위대가목록표 | F13: =HYPERLINK("#"&C13&"!"&ADDRESS(3,COLUMN(일위대가목록표!B1),1),COLUMN(일위대가목록표!B1)) -> 2 | G13: =HYPERLINK("#"&C13&"!"&ADDRESS(3,COLUMN(일위대가목록표!C1),1),COLUMN(일위대가목록표!C1)) -> 3 | I13: =HYPERLINK("#"&C13&"!"&ADDRESS(3,COLUMN(일위대가목록표!D1),1),COLUMN(일위대가목록표!D1)) -> 4 | J13: =HYPERLINK("#"&C13&"!A"&ROW(일위대가목록표!A4),ROW(일위대가목록표!A4)) -> 4 | K13: =HYPERLINK("#"&C13&"!A"&ROW(일위대가목록표!A4),ROW(일위대가목록표!A4)) -> 4 | L13: =HYPERLINK("#"&C13&"!"&ADDRESS(3,COLUMN(일위대가목록표!E1),1),COLUMN(일위대가목록표!E1)) -> 5 | N13: =HYPERLINK("#"&C13&"!"&ADDRESS(3,COLUMN(일위대가목록표!G1),1),COLUMN(일위대가목록표!G1)) -> 7 | P13: =HYPERLINK("#"&C13&"!"&ADDRESS(3,COLUMN(일위대가목록표!F1),1),COLUMN(일위대가목록표!F1)) -> 6 | R13: =HYPERLINK("#"&C13&"!"&ADDRESS(3,COLUMN(일위대가목록표!H1),1),COLUMN(일위대가목록표!H1)) -> 8 | X13: =HYPERLINK("#"&C13&"!"&ADDRESS(3,COLUMN(일위대가목록표!J1),1),COLUMN(일위대가목록표!J1)) -> 10
B14: 9. 산출근거목록표 | C14: =IF(D14="","단가산출근거목록표",MID(D14,FIND("]",D14)+1,LEN(D14))) -> 단가산출근거목록표 | D14: =CELL("filename",단가산출근거목록표!A1) -> C:\Users\user\Downloads\(260804) 임도재해예방사업 추진\[2026년 임도재해예방사업(오목) 설계서.xlsx]단가산출근거목록표 | F14: =HYPERLINK("#"&C14&"!"&ADDRESS(3,COLUMN(단가산출근거목록표!B1),1),COLUMN(단가산출근거목록표!B1)) -> 2 | G14: =HYPERLINK("#"&C14&"!"&ADDRESS(3,COLUMN(단가산출근거목록표!C1),1),COLUMN(단가산출근거목록표!C1)) -> 3 | I14: =HYPERLINK("#"&C14&"!"&ADDRESS(3,COLUMN(단가산출근거목록표!D1),1),COLUMN(단가산출근거목록표!D1)) -> 4 | J14: =HYPERLINK("#"&C14&"!A"&ROW(단가산출근거목록표!A4),ROW(단가산출근거목록표!A4)) -> 4 | K14: =HYPERLINK("#"&C14&"!A"&ROW(단가산출근거목록표!A20),ROW(단가산출근거목록표!A20)) -> 20 | L14: =HYPERLINK("#"&C14&"!"&ADDRESS(3,COLUMN(단가산출근거목록표!E1),1),COLUMN(단가산출근거목록표!E1)) -> 5 | N14: =HYPERLINK("#"&C14&"!"&ADDRESS(3,COLUMN(단가산출근거목록표!G1),1),COLUMN(단가산출근거목록표!G1)) -> 7 | P14: =HYPERLINK("#"&C14&"!"&ADDRESS(3,COLUMN(단가산출근거목록표!F1),1),COLUMN(단가산출근거목록표!F1)) -> 6 | R14: =HYPERLINK("#"&C14&"!"&ADDRESS(3,COLUMN(단가산출근거목록표!H1),1),COLUMN(단가산출근거목록표!H1)) -> 8 | X14: =HYPERLINK("#"&C14&"!"&ADDRESS(3,COLUMN(단가산출근거목록표!J1),1),COLUMN(단가산출근거목록표!J1)) -> 10
B15: 10. 자재단가대비표 | C15: =IF(D15="","자재단가대비표",MID(D15,FIND("]",D15)+1,LEN(D15))) -> 자재단가대비표 | D15: =CELL("filename",자재단가대비표!A1) -> C:\Users\user\Downloads\(260804) 임도재해예방사업 추진\[2026년 임도재해예방사업(오목) 설계서.xlsx]자재단가대비표 | F15: =HYPERLINK("#"&C15&"!"&ADDRESS(4,COLUMN(자재단가대비표!B1),1),COLUMN(자재단가대비표!B1)) -> 2 | G15: =HYPERLINK("#"&C15&"!"&ADDRESS(4,COLUMN(자재단가대비표!C1),1),COLUMN(자재단가대비표!C1)) -> 3 | I15: =HYPERLINK("#"&C15&"!"&ADDRESS(4,COLUMN(자재단가대비표!D1),1),COLUMN(자재단가대비표!D1)) -> 4 | J15: =HYPERLINK("#"&C15&"!A"&ROW(자재단가대비표!A5),ROW(자재단가대비표!A5)) -> 5 | K15: =HYPERLINK("#"&C15&"!A"&ROW(자재단가대비표!A10),ROW(자재단가대비표!A10)) -> 10 | L15: =HYPERLINK("#"&C15&"!"&ADDRESS(4,COLUMN(자재단가대비표!E1),1),COLUMN(자재단가대비표!E1)) -> 5 | M15: =HYPERLINK("#"&C15&"!"&ADDRESS(4,COLUMN(자재단가대비표!F1),1),COLUMN(자재단가대비표!F1)) -> 6 | N15: =HYPERLINK("#"&C15&"!"&ADDRESS(4,COLUMN(자재단가대비표!G1),1),COLUMN(자재단가대비표!G1)) -> 7 | O15: =HYPERLINK("#"&C15&"!"&ADDRESS(4,COLUMN(자재단가대비표!H1),1),COLUMN(자재단가대비표!H1)) -> 8 | P15: =HYPERLINK("#"&C15&"!"&ADDRESS(4,COLUMN(자재단가대비표!I1),1),COLUMN(자재단가대비표!I1)) -> 9 | Q15: =HYPERLINK("#"&C15&"!"&ADDRESS(4,COLUMN(자재단가대비표!J1),1),COLUMN(자재단가대비표!J1)) -> 10 | R15: =HYPERLINK("#"&C15&"!"&ADDRESS(4,COLUMN(자재단가대비표!K1),1),COLUMN(자재단가대비표!K1)) -> 11 | S15: =HYPERLINK("#"&C15&"!"&ADDRESS(4,COLUMN(자재단가대비표!L1),1),COLUMN(자재단가대비표!L1)) -> 12 | T15: =HYPERLINK("#"&C15&"!"&ADDRESS(4,COLUMN(자재단가대비표!M1),1),COLUMN(자재단가대비표!M1)) -> 13 | U15: =HYPERLINK("#"&C15&"!"&ADDRESS(4,COLUMN(자재단가대비표!N1),1),COLUMN(자재단가대비표!N1)) -> 14 | V15: =HYPERLINK("#"&C15&"!"&ADDRESS(4,COLUMN(자재단가대비표!O1),1),COLUMN(자재단가대비표!O1)) -> 15 | W15: =HYPERLINK("#"&C15&"!"&ADDRESS(4,COLUMN(자재단가대비표!P1),1),COLUMN(자재단가대비표!P1)) -> 16 | X15: =HYPERLINK("#"&C15&"!"&ADDRESS(4,COLUMN(자재단가대비표!R1),1),COLUMN(자재단가대비표!R1)) -> 18
B16: 11. 내역서 | C16: =IF(D16="","설계내역서",MID(D16,FIND("]",D16)+1,LEN(D16))) -> 설계내역서 | D16: =CELL("filename",설계내역서!A1) -> C:\Users\user\Downloads\(260804) 임도재해예방사업 추진\[2026년 임도재해예방사업(오목) 설계서.xlsx]설계내역서 | E16: =HYPERLINK("#"&C16&"!"&ADDRESS(4,COLUMN(설계내역서!A1),1),COLUMN(설계내역서!A1)) -> 1 | F16: =HYPERLINK("#"&C16&"!"&ADDRESS(4,COLUMN(설계내역서!B1),1),COLUMN(설계내역서!B1)) -> 2 | G16: =HYPERLINK("#"&C16&"!"&ADDRESS(4,COLUMN(설계내역서!C1),1),COLUMN(설계내역서!C1)) -> 3 | H16: =HYPERLINK("#"&C16&"!"&ADDRESS(4,COLUMN(설계내역서!D1),1),COLUMN(설계내역서!D1)) -> 4 | I16: =HYPERLINK("#"&C16&"!"&ADDRESS(4,COLUMN(설계내역서!E1),1),COLUMN(설계내역서!E1)) -> 5 | J16: =HYPERLINK("#"&C16&"!A"&ROW(설계내역서!A5),ROW(설계내역서!A5)) -> 5 | K16: =HYPERLINK("#"&C16&"!A"&ROW(설계내역서!A55),ROW(설계내역서!A55)) -> 55 | L16: =HYPERLINK("#"&C16&"!"&ADDRESS(4,COLUMN(설계내역서!F1),1),COLUMN(설계내역서!F1)) -> 6 | M16: =HYPERLINK("#"&C16&"!"&ADDRESS(4,COLUMN(설계내역서!G1),1),COLUMN(설계내역서!G1)) -> 7 | N16: =HYPERLINK("#"&C16&"!"&ADDRESS(4,COLUMN(설계내역서!J1),1),COLUMN(설계내역서!J1)) -> 10 | O16: =HYPERLINK("#"&C16&"!"&ADDRESS(4,COLUMN(설계내역서!K1),1),COLUMN(설계내역서!K1)) -> 11 | P16: =HYPERLINK("#"&C16&"!"&ADDRESS(4,COLUMN(설계내역서!H1),1),COLUMN(설계내역서!H1)) -> 8 | Q16: =HYPERLINK("#"&C16&"!"&ADDRESS(4,COLUMN(설계내역서!I1),1),COLUMN(설계내역서!I1)) -> 9 | R16: =HYPERLINK("#"&C16&"!"&ADDRESS(4,COLUMN(설계내역서!L1),1),COLUMN(설계내역서!L1)) -> 12 | S16: =HYPERLINK("#"&C16&"!"&ADDRESS(4,COLUMN(설계내역서!M1),1),COLUMN(설계내역서!M1)) -> 13 | X16: =HYPERLINK("#"&C16&"!"&ADDRESS(4,COLUMN(설계내역서!O1),1),COLUMN(설계내역서!O1)) -> 15
B17: 12. 총괄내역서 | C17: =IF(D17="","총괄내역서",MID(D17,FIND("]",D17)+1,LEN(D17))) -> 총괄내역서 | D17: =CELL("filename",총괄내역서!A1) -> C:\Users\user\Downloads\(260804) 임도재해예방사업 추진\[2026년 임도재해예방사업(오목) 설계서.xlsx]총괄내역서 | E17: =HYPERLINK("#"&C17&"!"&ADDRESS(3,COLUMN(총괄내역서!A1),1),COLUMN(총괄내역서!A1)) -> 1 | F17: =HYPERLINK("#"&C17&"!"&ADDRESS(3,COLUMN(총괄내역서!B1),1),COLUMN(총괄내역서!B1)) -> 2 | G17: =HYPERLINK("#"&C17&"!"&ADDRESS(3,COLUMN(총괄내역서!C1),1),COLUMN(총괄내역서!C1)) -> 3 | I17: =HYPERLINK("#"&C17&"!"&ADDRESS(3,COLUMN(총괄내역서!E1),1),COLUMN(총괄내역서!E1)) -> 5 | J17: =HYPERLINK("#"&C17&"!A"&ROW(총괄내역서!A4),ROW(총괄내역서!A4)) -> 4 | K17: =HYPERLINK("#"&C17&"!A"&ROW(총괄내역서!A38),ROW(총괄내역서!A38)) -> 38 | L17: =HYPERLINK("#"&C17&"!"&ADDRESS(3,COLUMN(총괄내역서!D1),1),COLUMN(총괄내역서!D1)) -> 4 | M17: =HYPERLINK("#"&C17&"!"&ADDRESS(3,COLUMN(총괄내역서!I1),1),COLUMN(총괄내역서!I1)) -> 9 | N17: =HYPERLINK("#"&C17&"!"&ADDRESS(3,COLUMN(총괄내역서!M1),1),COLUMN(총괄내역서!M1)) -> 13 | O17: =HYPERLINK("#"&C17&"!"&ADDRESS(3,COLUMN(총괄내역서!N1),1),COLUMN(총괄내역서!N1)) -> 14 | P17: =HYPERLINK("#"&C17&"!"&ADDRESS(3,COLUMN(총괄내역서!O1),1),COLUMN(총괄내역서!O1)) -> 15 | Q17: =HYPERLINK("#"&C17&"!"&ADDRESS(3,COLUMN(총괄내역서!P1),1),COLUMN(총괄내역서!P1)) -> 16 | X17: =HYPERLINK("#"&C17&"!"&ADDRESS(3,COLUMN(총괄내역서!H1),1),COLUMN(총괄내역서!H1)) -> 8
B18: 13. 중기사용료 | C18: =IF(D18="","중기사용료",MID(D18,FIND("]",D18)+1,LEN(D18))) -> 중기사용료 | D18: =CELL("filename",중기사용료!A1) -> C:\Users\user\Downloads\(260804) 임도재해예방사업 추진\[2026년 임도재해예방사업(오목) 설계서.xlsx]중기사용료 | F18: =HYPERLINK("#"&C18&"!"&ADDRESS(4,COLUMN(중기사용료!A1),1),COLUMN(중기사용료!A1)) -> 1 | G18: =HYPERLINK("#"&C18&"!"&ADDRESS(4,COLUMN(중기사용료!B1),1),COLUMN(중기사용료!B1)) -> 2 | H18: =HYPERLINK("#"&C18&"!"&ADDRESS(4,COLUMN(중기사용료!C1),1),COLUMN(중기사용료!C1)) -> 3 | I18: =HYPERLINK("#"&C18&"!"&ADDRESS(4,COLUMN(중기사용료!D1),1),COLUMN(중기사용료!D1)) -> 4 | J18: =HYPERLINK("#"&C18&"!A"&ROW(중기사용료!A5),ROW(중기사용료!A5)) -> 5 | K18: =HYPERLINK("#"&C18&"!A"&ROW(중기사용료!A108),ROW(중기사용료!A108)) -> 108 | L18: =HYPERLINK("#"&C18&"!"&ADDRESS(4,COLUMN(중기사용료!E1),1),COLUMN(중기사용료!E1)) -> 5 | M18: =HYPERLINK("#"&C18&"!"&ADDRESS(4,COLUMN(중기사용료!F1),1),COLUMN(중기사용료!F1)) -> 6 | N18: =HYPERLINK("#"&C18&"!"&ADDRESS(4,COLUMN(중기사용료!I1),1),COLUMN(중기사용료!I1)) -> 9 | O18: =HYPERLINK("#"&C18&"!"&ADDRESS(4,COLUMN(중기사용료!J1),1),COLUMN(중기사용료!J1)) -> 10 | P18: =HYPERLINK("#"&C18&"!"&ADDRESS(4,COLUMN(중기사용료!G1),1),COLUMN(중기사용료!G1)) -> 7 | Q18: =HYPERLINK("#"&C18&"!"&ADDRESS(4,COLUMN(중기사용료!H1),1),COLUMN(중기사용료!H1)) -> 8 | R18: =HYPERLINK("#"&C18&"!"&ADDRESS(4,COLUMN(중기사용료!K1),1),COLUMN(중기사용료!K1)) -> 11 | S18: =HYPERLINK("#"&C18&"!"&ADDRESS(4,COLUMN(중기사용료!L1),1),COLUMN(중기사용료!L1)) -> 12 | X18: =HYPERLINK("#"&C18&"!"&ADDRESS(4,COLUMN(중기사용료!N1),1),COLUMN(중기사용료!N1)) -> 14
B19: 14. 일위대가표 | C19: =IF(D19="","일위대가표",MID(D19,FIND("]",D19)+1,LEN(D19))) -> 일위대가표 | D19: =CELL("filename",일위대가표!A1) -> C:\Users\user\Downloads\(260804) 임도재해예방사업 추진\[2026년 임도재해예방사업(오목) 설계서.xlsx]일위대가표 | F19: =HYPERLINK("#"&C19&"!"&ADDRESS(4,COLUMN(일위대가표!A1),1),COLUMN(일위대가표!A1)) -> 1 | G19: =HYPERLINK("#"&C19&"!"&ADDRESS(4,COLUMN(일위대가표!B1),1),COLUMN(일위대가표!B1)) -> 2 | H19: =HYPERLINK("#"&C19&"!"&ADDRESS(4,COLUMN(일위대가표!C1),1),COLUMN(일위대가표!C1)) -> 3 | I19: =HYPERLINK("#"&C19&"!"&ADDRESS(4,COLUMN(일위대가표!D1),1),COLUMN(일위대가표!D1)) -> 4 | J19: =HYPERLINK("#"&C19&"!A"&ROW(일위대가표!A5),ROW(일위대가표!A5)) -> 5 | K19: =HYPERLINK("#"&C19&"!A"&ROW(일위대가표!A11),ROW(일위대가표!A11)) -> 11 | L19: =HYPERLINK("#"&C19&"!"&ADDRESS(4,COLUMN(일위대가표!E1),1),COLUMN(일위대가표!E1)) -> 5 | M19: =HYPERLINK("#"&C19&"!"&ADDRESS(4,COLUMN(일위대가표!F1),1),COLUMN(일위대가표!F1)) -> 6 | N19: =HYPERLINK("#"&C19&"!"&ADDRESS(4,COLUMN(일위대가표!I1),1),COLUMN(일위대가표!I1)) -> 9 | O19: =HYPERLINK("#"&C19&"!"&ADDRESS(4,COLUMN(일위대가표!J1),1),COLUMN(일위대가표!J1)) -> 10 | P19: =HYPERLINK("#"&C19&"!"&ADDRESS(4,COLUMN(일위대가표!G1),1),COLUMN(일위대가표!G1)) -> 7 | Q19: =HYPERLINK("#"&C19&"!"&ADDRESS(4,COLUMN(일위대가표!H1),1),COLUMN(일위대가표!H1)) -> 8 | R19: =HYPERLINK("#"&C19&"!"&ADDRESS(4,COLUMN(일위대가표!K1),1),COLUMN(일위대가표!K1)) -> 11 | S19: =HYPERLINK("#"&C19&"!"&ADDRESS(4,COLUMN(일위대가표!L1),1),COLUMN(일위대가표!L1)) -> 12 | X19: =HYPERLINK("#"&C19&"!"&ADDRESS(4,COLUMN(일위대가표!N1),1),COLUMN(일위대가표!N1)) -> 14
B20: 15. 단가산출근거 | C20: =IF(D20="","단가산출근거",MID(D20,FIND("]",D20)+1,LEN(D20))) -> 단가산출근거 | D20: =CELL("filename",단가산출근거!A1) -> C:\Users\user\Downloads\(260804) 임도재해예방사업 추진\[2026년 임도재해예방사업(오목) 설계서.xlsx]단가산출근거 | E20: =HYPERLINK("#"&C20&"!"&ADDRESS(4,COLUMN(단가산출근거!A1),1),COLUMN(단가산출근거!A1)) -> 1 | F20: =HYPERLINK("#"&C20&"!"&ADDRESS(4,COLUMN(단가산출근거!B1),1),COLUMN(단가산출근거!B1)) -> 2 | J20: =HYPERLINK("#"&C20&"!A"&ROW(단가산출근거!A5),ROW(단가산출근거!A5)) -> 5 | K20: =HYPERLINK("#"&C20&"!A"&ROW(단가산출근거!A1554),ROW(단가산출근거!A1554)) -> 1554 | L20: =HYPERLINK("#"&C20&"!"&ADDRESS(4,COLUMN(단가산출근거!C1),1),COLUMN(단가산출근거!C1)) -> 3 | N20: =HYPERLINK("#"&C20&"!"&ADDRESS(4,COLUMN(단가산출근거!E1),1),COLUMN(단가산출근거!E1)) -> 5 | P20: =HYPERLINK("#"&C20&"!"&ADDRESS(4,COLUMN(단가산출근거!D1),1),COLUMN(단가산출근거!D1)) -> 4 | R20: =HYPERLINK("#"&C20&"!"&ADDRESS(4,COLUMN(단가산출근거!F1),1),COLUMN(단가산출근거!F1)) -> 6 | X20: =HYPERLINK("#"&C20&"!"&ADDRESS(4,COLUMN(단가산출근거!G1),1),COLUMN(단가산출근거!G1)) -> 7
B21: 16.
B22: 17.
B23: 18. 표준시장목록표
B24: [공사정보] | D24: =ROW(C33) -> 33
B25: M_DVER | C25: 26.07
B26: PNAME | C26: 2026년 재해복구사업(오목)
B27: PCLAS | C27: 0
B28: SCLAS | C28: 0
B29: K_ORD | C29: 0
B30: PRIPR | C30: True
B31: ACTYP | C31: 1
B32: ACTOP | C32: 2
B33: [초기값] | D33: =ROW(C52) -> 52
B34: P_ORD | C34: 1 | D34: 1 | E34: 0 | F34: 0 | G34: 0 | H34: 0
B35: EXNM_ | C35: =환율및기초자료!C3 -> 1507 | D35: =환율및기초자료!D3 -> 1507 | E35: =환율및기초자료!C3 -> 1507 | F35: =환율및기초자료!D3 -> 1507 | G35: =환율및기초자료!E3 -> 0 | H35: =환율및기초자료!E3 -> 0 | I35: =환율및기초자료!G3 -> 915 | J35: =환율및기초자료!G3 -> 915
B36: EXRNM | C36: True
B37: RXNM_ | C37: 1/8 * 16/12 * 25/20
B38: COND_ | C38: L00048L00049L00050
B39: KCDNM | C39: 1
B40: JCDNM | C40: 0
B41: ECDNM | C41: 0
B42: ACDNM | C42: 1
B43: BPNNM | C43: 1
B44: ZCDNM | C44: 2
B45: CHGNM | C45: False
B46: CHBNM | C46: False
B47: CHNNM | C47: True
... B51: SUBNM | C51: 삼척국유림관리소
B52: [인쇄정보] | D52: =ROW(C75) -> 75
B53: BMSTR | C53: 재 료 비 | D53: 노 무 비 | E53: 경 비 | F53: 합 계
B54: BMKNM | C54: TLMS
B55: JEMNM | C55: 123456
B56: JMKN1 | C56: 물가 자료 | D56: 물.자
B57: JMKN2 | C57: 물가 정보 | D57: 물.정
B58: JMKN3 | C58: 유통 물가 | D58: 유.물
B59: JMKN4 | C59: 거래 가격등 | D59: 기.가
B60: JMKN5 | C60: 기타 단가 | D60: 견적
B61: JMKN6 | C61: 적용
B62: CAP_CODE | C62: 코드번호
B63: CAP_NO | C63: 호표
B64: CAP_IBRD | C64: 분류번호
B65: CAP_EQCOD | C65: 시설코드
B66: CAP_ITNUM | C66: 공 종
B67: CAP_NAME | C67: 명 칭
B68: CAP_SIZE | C68: 규 격
B69: CAP_QTY | C69: 수 량
B70: CAP_SUNIT | C70: 단위
B71: CAP_AMT | C71: 단 가
B72: CAP_PAGE | C72: 페이지
... B74: CAP_BIGO | C74: 비 고
B75: [PREPARE] | D75: =ROW(C79) -> 79
B76: PREP_VER | C76: w26.07
B77: PREP_COP | C77: 산림기술사사무소 사람과숲 #01
B78: PREP_DATE | C78: 2026-08-05 10:11
B79: [.끝.]
