Workbook

Sheet 원가계산서
B1: 공 사 원 가 계 산 서
B2: 공사명 : 안좌 글라스큐브 치유센터 조성공사 | F2: 금액 : 일십칠억육천팔백이십팔만팔천원(￦1,768,288,000)
B3: 비 목 | E3: 금 액 | F3: 구 성 비 | G3: 비 고
A4: A1 | B4: 순 공 사 원 가 | C4: 재 료 비 | D4: 직 접 재 료 비 | E4: =TRUNC(공종별집계표!F5, 0) -> 0
A5: A2 | D5: 간 접 재 료 비 | E5: 0
A6: A3 | D6: 작업설, 부산물(△) | E6: 0
A7: AS | D7: [ 소 계 ] | E7: =TRUNC(E4+E5-E6, 0) -> 0
A8: B1 | C8: 노 무 비 | D8: 직 접 노 무 비 | E8: =TRUNC(공종별집계표!H5, 0) -> 0
A9: B2 | D9: 간 접 노 무 비 | E9: =TRUNC((E8)*0.174, 0) -> 0 | F9: 직접노무비 * 17.4%
A10: BS | D10: [ 소 계 ] | E10: =TRUNC(E8+E9, 0) -> 0
A11: C2 | C11: 경 비 | D11: 경 비 | E11: =TRUNC(공종별집계표!J5, 0) -> 0
A12: C4 | D12: 산 재 보 험 료 | E12: =TRUNC(E10*0.0356, 0) -> 0 | F12: 노무비 * 3.56%
A13: C5 | D13: 고 용 보 험 료 | E13: =TRUNC(E10*0.0101, 0) -> 0 | F13: 노무비 * 1.01%
A14: C6 | D14: 국민 건강 보험료 | E14: =TRUNC((E8)*0.03595, 0) -> 0 | F14: 직접노무비 * 3.595%
A15: C7 | D15: 국민 연금 보험료 | E15: =TRUNC((E8)*0.0475, 0) -> 0 | F15: 직접노무비 * 4.75%
A16: CB | D16: 노인장기요양보험료 | E16: =TRUNC(E14*0.1314, 0) -> 0 | F16: 건강보험료 * 13.14%
A17: C8 | D17: 퇴직 공제 부금비 | E17: =TRUNC((E8)*0.023, 0) -> 0 | F17: 직접노무비 * 2.3%
A18: CA | D18: 산업안전보건관리비 | F18: (재료비+직노+관급자재비) * 2.28% | G18: 작은값 적용
A19: CC | D19: 산업안전보건관리비 | F19: (재료비+직노) * 2.28% * 1.2
A20: CG | D20: 기 타 경 비 | E20: =TRUNC((E7+E10)*0.052, 0) -> 0 | F20: (재료비+노무비) * 5.2%
A21: CH | D21: 환 경 보 전 비 | E21: =TRUNC((E7+E8+E11)*0.005, 0) -> 0 | F21: (재료비+직노+경비) * 0.5%
A22: CK | D22: 하도급지급보증수수료 | E22: =TRUNC((E7+E8+E11)*0.00081, 0) -> 0 | F22: (재료비+직노+경비) * 0.081%
A23: CL | D23: 건설기계대여금지급보증서발급수수료 | E23: =TRUNC((E7+E8+E11)*0.0007, 0) -> 0 | F23: (재료비+직노+경비) * 0.07%
A24: D5 | D24: 석 면 분 담 금 | E24: =TRUNC(E10*0.00006, 0) -> 0 | F24: 노무비 * 0.006%
A25: D7 | D25: 임금 채권 부담금 | E25: =TRUNC(E10*0.0009, 0) -> 0 | F25: 노무비 * 0.09%
A26: CS | D26: [ 소 계 ] | E26: =TRUNC(E11+E12+E13+E14+E15+E17+E18+E16+E20+E21+E22+E23+E24+E25, 0) -> 0
A27: S1 | B27: 계 | E27: =TRUNC(E7+E10+E26, 0) -> 0
A28: D1 | B28: 일 반 관 리 비 | E28: =TRUNC((E27)*0.08, 0) -> 0 | F28: 계 * 8%
A29: D2 | B29: 이 윤 | F29: (노무비+경비+일반관리비) * 15%
A30: D4 | B30: 폐 기 물 처 리 비 | E30: =TRUNC(공종별집계표!T16+공종별집계표!T24+공종별집계표!T33+공종별집계표!T43+공종별집계표!T56, 0) -> 0
A31: D9 | B31: 공 급 가 액 | E31: =TRUNC(E27+E28+E29+E30, 0) -> 0
A32: DB | B32: 부 가 가 치 세 | E32: =TRUNC(E31*0.1, 0) -> 0 | F32: 공급가액 * 10%
A33: DH | B33: 도 급 액 | E33: =TRUNC(E31+E32, 0) -> 0
A34: DL | B34: 관급자 관급자재비 | E34: =TRUNC(공종별집계표!T58, 0) -> 0
B35: 지급자재비 | I35: 391000000
A36: S2 | B36: 총 공 사 비 | E36: =TRUNC(E33+E35+E34, 0) -> 0 | I36: 1.1
I37: =I35*I36 -> 4.301e+08

Sheet 공종별집계표
A1: 공 종 별 집 계 표
A2: [ 안좌 글라스큐브 치유센터 조성공사(실내건축) ]
A3: 품 명 | B3: 규 격 | C3: 단위 | D3: 수량 | E3: 재 료 비 | G3: 노 무 비 | I3: 경 비 | K3: 합 계 | M3: 비 고 | N3: 공종코드 | O3: 변수 | P3: 상위공종 | Q3: 공종구분 | R3: 공종레벨 | S3: 공종소계 | T3: 원가계산서 연결금액
E4: 단 가 | F4: 금 액 | G4: 단 가 | H4: 금 액 | I4: 단 가 | J4: 금 액 | K4: 단 가 | L4: 금 액
A5: 01 글라스큐브 뮤지엄 치유센터 실내 건축공사 | D5: 1 | E5: =F6+F17+F25+F34+F44+F57 -> 0 | F5: =E5*D5 -> 0 | G5: =H6+H17+H25+H34+H44+H57 -> 0 | H5: =G5*D5 -> 0 | I5: =J6+J17+J25+J34+J44+J57 -> 0 | J5: =I5*D5 -> 0 | K5: =E5+G5+I5 -> 0 | L5: =F5+H5+J5 -> 0 | N5: 01 | R5: 1
A6: 0101 A동 | D6: 1 | E6: =F7+F8+F9+F10+F11+F12+F13+F14+F15 -> 0 | F6: =E6*D6 -> 0 | G6: =H7+H8+H9+H10+H11+H12+H13+H14+H15 -> 0 | H6: =G6*D6 -> 0 | I6: =J7+J8+J9+J10+J11+J12+J13+J14+J15 -> 0 | J6: =I6*D6 -> 0 | K6: =E6+G6+I6 -> 0 | L6: =F6+H6+J6 -> 0 | N6: 0101 | P6: 01 | R6: 2
A7: 010101 가 설 공 사 | D7: 1 | E7: =공종별내역서!F28 -> 0 | F7: =E7*D7 -> 0 | G7: =공종별내역서!H28 -> 0 | H7: =G7*D7 -> 0 | I7: =공종별내역서!J28 -> 0 | J7: =I7*D7 -> 0 | K7: =E7+G7+I7 -> 0 | L7: =F7+H7+J7 -> 0 | N7: 010101 | P7: 0101 | R7: 3
A8: 010102 타 일 공 사 | D8: 1 | E8: =공종별내역서!F53 -> 0 | F8: =E8*D8 -> 0 | G8: =공종별내역서!H53 -> 0 | H8: =G8*D8 -> 0 | I8: =공종별내역서!J53 -> 0 | J8: =I8*D8 -> 0 | K8: =E8+G8+I8 -> 0 | L8: =F8+H8+J8 -> 0 | N8: 010102 | P8: 0101 | R8: 3
A9: 010103 목 공 사 | D9: 1 | E9: =공종별내역서!F78 -> 0 | F9: =E9*D9 -> 0 | G9: =공종별내역서!H78 -> 0 | H9: =G9*D9 -> 0 | I9: =공종별내역서!J78 -> 0 | J9: =I9*D9 -> 0 | K9: =E9+G9+I9 -> 0 | L9: =F9+H9+J9 -> 0 | N9: 010103 | P9: 0101 | R9: 3
A10: 010104 수 장 공 사 | D10: 1 | E10: =공종별내역서!F103 -> 0 | F10: =E10*D10 -> 0 | G10: =공종별내역서!H103 -> 0 | H10: =G10*D10 -> 0 | I10: =공종별내역서!J103 -> 0 | J10: =I10*D10 -> 0 | K10: =E10+G10+I10 -> 0 | L10: =F10+H10+J10 -> 0 | N10: 010104 | P10: 0101 | R10: 3
A11: 010105 금 속 공 사 | D11: 1 | E11: =공종별내역서!F127 -> 0 | F11: =E11*D11 -> 0 | G11: =공종별내역서!H127 -> 0 | H11: =G11*D11 -> 0 | I11: =공종별내역서!J127 -> 0 | J11: =I11*D11 -> 0 | K11: =E11+G11+I11 -> 0 | L11: =F11+H11+J11 -> 0 | N11: 010105 | P11: 0101 | R11: 3
A12: 010106 칠 공 사 | D12: 1 | E12: =공종별내역서!F152 -> 0 | F12: =E12*D12 -> 0 | G12: =공종별내역서!H152 -> 0 | H12: =G12*D12 -> 0 | I12: =공종별내역서!J152 -> 0 | J12: =I12*D12 -> 0 | K12: =E12+G12+I12 -> 0 | L12: =F12+H12+J12 -> 0 | N12: 010106 | P12: 0101 | R12: 3
A13: 010107 철 거 공 사 | D13: 1 | E13: =공종별내역서!F177 -> 0 | F13: =E13*D13 -> 0 | G13: =공종별내역서!H177 -> 0 | H13: =G13*D13 -> 0 | I13: =공종별내역서!J177 -> 0 | J13: =I13*D13 -> 0 | K13: =E13+G13+I13 -> 0 | L13: =F13+H13+J13 -> 0 | N13: 010107 | P13: 0101 | R13: 3
A14: 010108 작 업 부 산 물 | D14: 1 | E14: =공종별내역서!F202 -> 0 | F14: =E14*D14 -> 0 | G14: =공종별내역서!H202 -> 0 | H14: =G14*D14 -> 0 | I14: =공종별내역서!J202 -> 0 | J14: =I14*D14 -> 0 | K14: =E14+G14+I14 -> 0 | L14: =F14+H14+J14 -> 0 | N14: 010108 | P14: 0101 | R14: 3
A15: 010109 자재대 및 운반비 | D15: 1 | E15: =공종별내역서!F227 -> 0 | F15: =E15*D15 -> 0 | G15: =공종별내역서!H227 -> 0 | H15: =G15*D15 -> 0 | I15: =공종별내역서!J227 -> 0 | J15: =I15*D15 -> 0 | K15: =E15+G15+I15 -> 0 | L15: =F15+H15+J15 -> 0 | N15: 010109 | P15: 0101 | R15: 3
A16: 010110 건설폐기물처리비 | D16: 1 | E16: =공종별내역서!F253 -> 0 | F16: =E16*D16 -> 0 | G16: =공종별내역서!H253 -> 0 | H16: =G16*D16 -> 0 | I16: =공종별내역서!J253 -> 0 | J16: =I16*D16 -> 0 | K16: =E16+G16+I16 -> 0 | L16: =F16+H16+J16 -> 0 | N16: 010110 | Q16: 6 | R16: 3 | T16: =L16*1 -> 0
A17: 0102 B동 | D17: 1 | E17: =F18+F19+F20+F21+F22+F23 -> 0 | F17: =E17*D17 -> 0 | G17: =H18+H19+H20+H21+H22+H23 -> 0 | H17: =G17*D17 -> 0 | I17: =J18+J19+J20+J21+J22+J23 -> 0 | J17: =I17*D17 -> 0 | K17: =E17+G17+I17 -> 0 | L17: =F17+H17+J17 -> 0 | N17: 0102 | P17: 01 | R17: 2
A18: 010201 가 설 공 사 | D18: 1 | E18: =공종별내역서!F278 -> 0 | F18: =E18*D18 -> 0 | G18: =공종별내역서!H278 -> 0 | H18: =G18*D18 -> 0 | I18: =공종별내역서!J278 -> 0 | J18: =I18*D18 -> 0 | K18: =E18+G18+I18 -> 0 | L18: =F18+H18+J18 -> 0 | N18: 010201 | P18: 0102 | R18: 3
A19: 010202 금 속 공 사 | D19: 1 | E19: =공종별내역서!F303 -> 0 | F19: =E19*D19 -> 0 | G19: =공종별내역서!H303 -> 0 | H19: =G19*D19 -> 0 | I19: =공종별내역서!J303 -> 0 | J19: =I19*D19 -> 0 | K19: =E19+G19+I19 -> 0 | L19: =F19+H19+J19 -> 0 | N19: 010202 | P19: 0102 | R19: 3
A20: 010203 어 닝 공 사 | D20: 1 | E20: =공종별내역서!F328 -> 0 | F20: =E20*D20 -> 0 | G20: =공종별내역서!H328 -> 0 | H20: =G20*D20 -> 0 | I20: =공종별내역서!J328 -> 0 | J20: =I20*D20 -> 0 | K20: =E20+G20+I20 -> 0 | L20: =F20+H20+J20 -> 0 | N20: 010203 | P20: 0102 | R20: 3
A21: 010204 칠 공 사 | D21: 1 | E21: =공종별내역서!F353 -> 0 | F21: =E21*D21 -> 0 | G21: =공종별내역서!H353 -> 0 | H21: =G21*D21 -> 0 | I21: =공종별내역서!J353 -> 0 | J21: =I21*D21 -> 0 | K21: =E21+G21+I21 -> 0 | L21: =F21+H21+J21 -> 0 | N21: 010204 | P21: 0102 | R21: 3
A22: 010205 철 거 공 사 | D22: 1 | E22: =공종별내역서!F378 -> 0 | F22: =E22*D22 -> 0 | G22: =공종별내역서!H378 -> 0 | H22: =G22*D22 -> 0 | I22: =공종별내역서!J378 -> 0 | J22: =I22*D22 -> 0 | K22: =E22+G22+I22 -> 0 | L22: =F22+H22+J22 -> 0 | N22: 010205 | P22: 0102 | R22: 3
A23: 010206 작 업 부 산 물 | D23: 1 | E23: =공종별내역서!F403 -> 0 | F23: =E23*D23 -> 0 | G23: =공종별내역서!H403 -> 0 | H23: =G23*D23 -> 0 | I23: =공종별내역서!J403 -> 0 | J23: =I23*D23 -> 0 | K23: =E23+G23+I23 -> 0 | L23: =F23+H23+J23 -> 0 | N23: 010206 | P23: 0102 | R23: 3
A24: 010207 건설폐기물처리비 | D24: 1 | E24: =공종별내역서!F428 -> 0 | F24: =E24*D24 -> 0 | G24: =공종별내역서!H428 -> 0 | H24: =G24*D24 -> 0 | I24: =공종별내역서!J428 -> 0 | J24: =I24*D24 -> 0 | K24: =E24+G24+I24 -> 0 | L24: =F24+H24+J24 -> 0 | N24: 010207 | Q24: 6 | R24: 3 | T24: =L24*1 -> 0
A25: 0103 C동 | D25: 1 | E25: =F26+F27+F28+F29+F30+F31+F32 -> 0 | F25: =E25*D25 -> 0 | G25: =H26+H27+H28+H29+H30+H31+H32 -> 0 | H25: =G25*D25 -> 0 | I25: =J26+J27+J28+J29+J30+J31+J32 -> 0 | J25: =I25*D25 -> 0 | K25: =E25+G25+I25 -> 0 | L25: =F25+H25+J25 -> 0 | N25: 0103 | P25: 01 | R25: 2
A26: 010301 가 설 공 사 | D26: 1 | E26: =공종별내역서!F453 -> 0 | F26: =E26*D26 -> 0 | G26: =공종별내역서!H453 -> 0 | H26: =G26*D26 -> 0 | I26: =공종별내역서!J453 -> 0 | J26: =I26*D26 -> 0 | K26: =E26+G26+I26 -> 0 | L26: =F26+H26+J26 -> 0 | N26: 010301 | P26: 0103 | R26: 3
A27: 010302 금 속 공 사 | D27: 1 | E27: =공종별내역서!F478 -> 0 | F27: =E27*D27 -> 0 | G27: =공종별내역서!H478 -> 0 | H27: =G27*D27 -> 0 | I27: =공종별내역서!J478 -> 0 | J27: =I27*D27 -> 0 | K27: =E27+G27+I27 -> 0 | L27: =F27+H27+J27 -> 0 | N27: 010302 | P27: 0103 | R27: 3
A28: 010303 창호 및 유리공사 | D28: 1 | E28: =공종별내역서!F503 -> 0 | F28: =E28*D28 -> 0 | G28: =공종별내역서!H503 -> 0 | H28: =G28*D28 -> 0 | I28: =공종별내역서!J503 -> 0 | J28: =I28*D28 -> 0 | K28: =E28+G28+I28 -> 0 | L28: =F28+H28+J28 -> 0 | N28: 010303 | P28: 0103 | R28: 3
A29: 010304 칠 공 사 | D29: 1 | E29: =공종별내역서!F528 -> 0 | F29: =E29*D29 -> 0 | G29: =공종별내역서!H528 -> 0 | H29: =G29*D29 -> 0 | I29: =공종별내역서!J528 -> 0 | J29: =I29*D29 -> 0 | K29: =E29+G29+I29 -> 0 | L29: =F29+H29+J29 -> 0 | N29: 010304 | P29: 0103 | R29: 3
A30: 010305 철 거 공 사 | D30: 1 | E30: =공종별내역서!F553 -> 0 | F30: =E30*D30 -> 0 | G30: =공종별내역서!H553 -> 0 | H30: =G30*D30 -> 0 | I30: =공종별내역서!J553 -> 0 | J30: =I30*D30 -> 0 | K30: =E30+G30+I30 -> 0 | L30: =F30+H30+J30 -> 0 | N30: 010305 | P30: 0103 | R30: 3
A31: 010306 작 업 부 산 물 | D31: 1 | E31: =공종별내역서!F578 -> 0 | F31: =E31*D31 -> 0 | G31: =공종별내역서!H578 -> 0 | H31: =G31*D31 -> 0 | I31: =공종별내역서!J578 -> 0 | J31: =I31*D31 -> 0 | K31: =E31+G31+I31 -> 0 | L31: =F31+H31+J31 -> 0 | N31: 010306 | P31: 0103 | R31: 3
A32: 010307 자재대 및 운반비 | D32: 1 | E32: =공종별내역서!F603 -> 0 | F32: =E32*D32 -> 0 | G32: =공종별내역서!H603 -> 0 | H32: =G32*D32 -> 0 | I32: =공종별내역서!J603 -> 0 | J32: =I32*D32 -> 0 | K32: =E32+G32+I32 -> 0 | L32: =F32+H32+J32 -> 0 | N32: 010307 | P32: 0103 | R32: 3
A33: 010308 건설폐기물처리비 | D33: 1 | E33: =공종별내역서!F628 -> 0 | F33: =E33*D33 -> 0 | G33: =공종별내역서!H628 -> 0 | H33: =G33*D33 -> 0 | I33: =공종별내역서!J628 -> 0 | J33: =I33*D33 -> 0 | K33: =E33+G33+I33 -> 0 | L33: =F33+H33+J33 -> 0 | N33: 010308 | Q33: 6 | R33: 3 | T33: =L33*1 -> 0
A34: 0104 D동 | D34: 1 | E34: =F35+F36+F37+F38+F39+F40+F41+F42 -> 0 | F34: =E34*D34 -> 0 | G34: =H35+H36+H37+H38+H39+H40+H41+H42 -> 0 | H34: =G34*D34 -> 0 | I34: =J35+J36+J37+J38+J39+J40+J41+J42 -> 0 | J34: =I34*D34 -> 0 | K34: =E34+G34+I34 -> 0 | L34: =F34+H34+J34 -> 0 | N34: 0104 | P34: 01 | R34: 2
A35: 010401 가 설 공 사 | D35: 1 | E35: =공종별내역서!F653 -> 0 | F35: =E35*D35 -> 0 | G35: =공종별내역서!H653 -> 0 | H35: =G35*D35 -> 0 | I35: =공종별내역서!J653 -> 0 | J35: =I35*D35 -> 0 | K35: =E35+G35+I35 -> 0 | L35: =F35+H35+J35 -> 0 | N35: 010401 | P35: 0104 | R35: 3
A36: 010402 타 일 공 사 | D36: 1 | E36: =공종별내역서!F678 -> 0 | F36: =E36*D36 -> 0 | G36: =공종별내역서!H678 -> 0 | H36: =G36*D36 -> 0 | I36: =공종별내역서!J678 -> 0 | J36: =I36*D36 -> 0 | K36: =E36+G36+I36 -> 0 | L36: =F36+H36+J36 -> 0 | N36: 010402 | P36: 0104 | R36: 3
A37: 010403 목 공 사 | D37: 1 | E37: =공종별내역서!F703 -> 0 | F37: =E37*D37 -> 0 | G37: =공종별내역서!H703 -> 0 | H37: =G37*D37 -> 0 | I37: =공종별내역서!J703 -> 0 | J37: =I37*D37 -> 0 | K37: =E37+G37+I37 -> 0 | L37: =F37+H37+J37 -> 0 | N37: 010403 | P37: 0104 | R37: 3
A39: 010404 금 속 공 사 | D39: 1 | E39: =공종별내역서!F728 -> 0 | F39: =E39*D39 -> 0 | G39: =공종별내역서!H728 -> 0 | H39: =G39*D39 -> 0 | I39: =공종별내역서!J728 -> 0 | J39: =I39*D39 -> 0 | K39: =E39+G39+I39 -> 0 | L39: =F39+H39+J39 -> 0 | N39: 010405 | P39: 0104 | R39: 3
A40: 010405 칠 공 사 | D40: 1 | E40: =공종별내역서!F753 -> 0 | F40: =E40*D40 -> 0 | G40: =공종별내역서!H753 -> 0 | H40: =G40*D40 -> 0 | I40: =공종별내역서!J753 -> 0 | J40: =I40*D40 -> 0 | K40: =E40+G40+I40 -> 0 | L40: =F40+H40+J40 -> 0 | N40: 010406 | P40: 0104 | R40: 3
A41: 010406 철 거 공 사 | D41: 1 | E41: =공종별내역서!F778 -> 0 | F41: =E41*D41 -> 0 | G41: =공종별내역서!H778 -> 0 | H41: =G41*D41 -> 0 | I41: =공종별내역서!J778 -> 0 | J41: =I41*D41 -> 0 | K41: =E41+G41+I41 -> 0 | L41: =F41+H41+J41 -> 0 | N41: 010407 | P41: 0104 | R41: 3
...

Sheet 공종별내역서
A1: '[ 안좌 글라스큐브 치유센터 조성공사(실내건축) ]
A2: 품 명 | B2: 규 격 | C2: 단위 | D2: 수량 | E2: 재 료 비 | G2: 노 무 비 | I2: 경 비 | K2: 합 계 | M2: 비 고 | N2: 품목코드 | O2: 변수 | P2: 설정 | Q2: 공종코드 | R2: 일위 | S2: 단산 | T2: 자재 | U2: 손료적용 | V2: 손료저장 | W2: 적용율 | X2: JUK1 | Y2: JUK2 | Z2: JUK3 | AA2: JUK4 | AB2: JUK5 | AC2: JUK6 | AD2: JUK7 | AE2: JUK8 | AF2: JUK9 | AG2: JUK10 | AH2: JUK11 | AI2: JUK12 | AJ2: JUK13 | AK2: JUK14 | AL2: JUK15 | AM2: JUK16 | AN2: JUK17 | AO2: JUK18 | AP2: JUK19 | AQ2: JUK20 | AR2: 자재구분 | AS2: 공종구분 | AT2: 공종레벨 | AU2: 공종+자재 | AV2: 고유번호
E3: 단 가 | F3: 금 액 | G3: 단 가 | H3: 금 액 | I3: 단 가 | J3: 금 액 | K3: 단 가 | L3: 금 액
A4: 010101 가 설 공 사 | B4: A동 | Q4: 010101
A5: 강관 조립말비계(이동식)설치 및 해체 | B5: 높이 4m, 3개월 | C5: 대 | D5: 5 | N5: 57440138E7B659B991978797562693 | Q5: 010101 | R5: T | S5: F | T5: F | AU5: 01010157440138E7B659B991978797562693 | AV5: 4
A6: 강관 수평비계 매기 | B6: 3개월(발판무), 발판설치품포함 | C6: M2 | D6: 147 | N6: 57440138E7B659B99197BCE1A6E3A3 | Q6: 010101 | R6: T | S6: F | T6: F | AU6: 01010157440138E7B659B99197BCE1A6E3A3 | AV6: 5
A7: 작업발판 | B7: 3개월미만 | C7: M2 | D7: 147 | N7: 57440138E7B659B99197BCE1A6E3A5 | Q7: 010101 | R7: T | S7: F | T7: F | AU7: 01010157440138E7B659B99197BCE1A6E3A5 | AV7: 6
A8: 시스템비계 설치, 해체(내부) | B8: 10m이하, 3개월(발판2열)-계단설치해체비포함 | C8: M2 | D8: 326 | N8: 57440138E7B65A5A97F236E0D66548 | Q8: 010101 | R8: T | S8: F | T8: F | AU8: 01010157440138E7B65A5A97F236E0D66548 | AV8: 7
A9: 건축물현장정리 | B9: 개보수, 콘크리트조의 10% | C9: M2 | D9: 156 | N9: 57440138B7E0CA0F906BFA1B5653AF | Q9: 010101 | R9: T | S9: F | T9: F | AU9: 01010157440138B7E0CA0F906BFA1B5653AF | AV9: 8
A10: 바탕정리 | B10: 고압세척 | C10: M2 | D10: 200 | N10: 57440138B7E0CA0F906BFA1B269FE5 | Q10: 010101 | R10: T | S10: F | T10: F | AU10: 01010157440138B7E0CA0F906BFA1B269FE5 | AV10: 9
Q11: 010101
Q12: 010101
Q13: 010101
Q14: 010101
Q15: 010101
Q16: 010101
Q17: 010101
Q18: 010101
Q19: 010101
Q20: 010101
Q21: 010101
Q22: 010101
... Q27: 010101
A28: [ 합 계 ] | N28: TOTAL
A29: 010102 타 일 공 사 | B29: A동 | Q29: 010102
A30: 포슬린타일 | B30: 600*600*10mm | C30: M2 | D30: 206 | N30: 506EB136C7CAFBF09A235DB1A6784044455A9D | Q30: 010102 | R30: F | S30: F | T30: T | AU30: 010102506EB136C7CAFBF09A235DB1A6784044455A9D | AV30: 11
A31: 도기질타일 | B31: 300*600*10mm | C31: M2 | D31: 14 | N31: 506EB136C7CAFBF09A235DB1A6700CB4F00ED4 | Q31: 010102 | R31: F | S31: F | T31: T | AU31: 010102506EB136C7CAFBF09A235DB1A6700CB4F00ED4 | AV31: 12
A32: 타일 접착 붙이기 | B32: 벽, 300*600(백색줄눈) | C32: M2 | D32: 13 | N32: 5744C13E17422F179F400AD0866D46 | Q32: 010102 | R32: T | S32: F | T32: F | AU32: 0101025744C13E17422F179F400AD0866D46 | AV32: 13
A33: 타일압착붙임(바탕 24mm+압 5mm) | B33: 바닥, 포슬린타일(일반C, 백색줄눈) | C33: M2 | D33: 200 | N33: 5744C13E17407EE49BA41AB046F7E0 | Q33: 010102 | R33: T | S33: F | T33: F | AU33: 0101025744C13E17407EE49BA41AB046F7E0 | AV33: 14
Q34: 010102
Q35: 010102
Q36: 010102
Q37: 010102
Q38: 010102
Q39: 010102
Q40: 010102
Q41: 010102
Q42: 010102
Q43: 010102
Q44: 010102
...
