Workbook

Sheet 원가계산서
B1: 공 사 원 가 계 산 서
B2: 공사명 : ◈ 2026 태안해안국립공원 삼봉무장애탐방로 연결로 포장공사 | F2: 금액 : 오천팔백이십칠만원(￦59,338,346)
B3: 비 목 | E3: 금 액 | F3: 구 성 비 | G3: 비 고
A4: A1 | B4: 순 공 사 원 가 | C4: 재 료 비 | D4: 직 접 재 료 비 | E4: =TRUNC(내역서!F5, 0) -> 21528346
A5: A2 | D5: 간 접 재 료 비 | E5: 0
A6: A3 | D6: 작업설, 부산물(△) | E6: 0
A7: AS | D7: [ 소 계 ] | E7: =TRUNC(E4+E5-E6, 0) -> 21528346
A8: B1 | C8: 노 무 비 | D8: 직 접 노 무 비 | E8: =TRUNC(내역서!H5, 0) -> 14280739
A9: B2 | D9: 간 접 노 무 비 | E9: =TRUNC(E8*0.184, 0) -> 2627655 | F9: 직접노무비 * 18.4%
A10: BS | D10: [ 소 계 ] | E10: =TRUNC(E8+E9, 0) -> 16908394
A11: C2 | C11: 경 비 | D11: 기 계 경 비 | E11: =TRUNC(내역서!J5, 0) -> 366039
A12: C4 | D12: 산 재 보 험 료 | E12: =TRUNC(E10*0.0356, 0) -> 601938 | F12: 노무비 * 3.56%
A13: C5 | D13: 고 용 보 험 료 | E13: =TRUNC(E10*0.0101, 0) -> 170774 | F13: 노무비 * 1.01%
A14: C6 | D14: 국민 건강 보험료 | E14: =TRUNC(E8*0.03595, 0) -> 513392 | F14: 직접노무비 * 3.595%
A15: C7 | D15: 국민 연금 보험료 | E15: =TRUNC(E8*0.0475, 0) -> 678335 | F15: 직접노무비 * 4.75%
A16: CB | D16: 노인장기요양보험료 | E16: =TRUNC(E14*0.1314, 0) -> 67459 | F16: 건강보험료 * 13.14%
A17: CA | D17: 산업안전보건관리비 | E17: =TRUNC((E7+E8+(4470000/1.1))*0.0207, 0) -> 825365 | F17: (재료비+직노+(4,470,000/1.1)) * 2.07%
A18: CH | D18: 환 경 보 전 비 | E18: =TRUNC((E7+E8+E11)*0.003, 0) -> 108525 | F18: (재료비+직노+기계경비) * 0.3%
A19: CL | D19: 건설기계대여금지급보증서발급수수료 | E19: =TRUNC((E7+E8+E11)*0.0016, 0) -> 57880 | F19: (재료비+직노+기계경비) * 0.16%
A20: CE | D20: 석 면 분 담 금 | E20: =TRUNC(E10*0.00006, 0) -> 1014 | F20: 노무비 * 0.006%
A21: CF | D21: 임금 채권 부담금 | E21: =TRUNC(E10*0.0009, 0) -> 15217 | F21: 노무비 * 0.09%
A22: CG | D22: 기 타 경 비 | E22: =TRUNC((E7+E10)*0.049, 0) -> 1883400 | F22: (재료비+노무비) * 4.9%
A23: CS | D23: [ 소 계 ] | E23: =TRUNC(E11+E12+E13+E14+E15+E17+E16+E20+E21+E22+E18+E19, 0) -> 5289338
A24: S1 | B24: 계 | E24: =TRUNC(E7+E10+E23, 0) -> 43726078
A25: D1 | B25: 일 반 관 리 비 | E25: =TRUNC(E24*0.06, 0) -> 2623564 | F25: 계 * 6%
A26: D2 | B26: 이 윤 | E26: =TRUNC((E10+E23+E25)*0.1-(26800/1.1), 0) -> 2457765 | F26: (노무비+경비+일반관리비) * 10%
A27: D5 | B27: 폐기물 처리비 | E27: =TRUNC(내역서!AY17, 0) -> 101684
A28: D9 | B28: 공 급 가 액 | E28: =TRUNC(E24+E25+E26+E27, 0) -> 48909091
A29: DB | B29: 부 가 가 치 세 | E29: =TRUNC(E28*0.1, 0) -> 4890909 | F29: 공급가액 * 10%
A30: DH | B30: 도 급 액 | E30: =TRUNC(E28+E29, 0) -> 53800000
A31: DJ | B31: 도급자관급자재 | E31: =TRUNC(내역서!AY22, 0) -> 5538346
A32: S2 | B32: 총 공 사 비 | E32: =TRUNC(E30+E31, 0) -> 59338346

Sheet 내역서
A1: 내 역 서
A2: [ ◈ 2026 태안해안국립공원 삼봉무장애탐방로 연결로 포장공사 ]
A3: 품 명 | B3: 규 격 | C3: 단위 | D3: 수량 | E3: 재 료 비 | G3: 노 무 비 | I3: 경 비 | K3: 합 계 | M3: 비 고 | N3: 품목코드 | O3: 변수 | P3: 설정 | Q3: 공종코드 | R3: 상위공종 | S3: 일위 | T3: 단산 | U3: 자재 | V3: 손료적용 | W3: 손료저장 | X3: 적용율 | Y3: JUK1 | Z3: JUK2 | AA3: JUK3 | AB3: JUK4 | AC3: JUK5 | AD3: JUK6 | AE3: JUK7 | AF3: JUK8 | AG3: JUK9 | AH3: JUK10 | AI3: JUK11 | AJ3: JUK12 | AK3: JUK13 | AL3: JUK14 | AM3: JUK15 | AN3: JUK16 | AO3: JUK17 | AP3: JUK18 | AQ3: JUK19 | AR3: JUK20 | AS3: 자재구분 | AT3: 공종레벨 | AU3: 공종구분 | AV3: 공종소계 | AW3: 공종+자재 | AX3: 고유번호 | AY3: 원가계산서 연결금액
E4: 단 가 | F4: 금 액 | G4: 단 가 | H4: 금 액 | I4: 단 가 | J4: 금 액 | K4: 단 가 | L4: 금 액
A5: ◈ 2026 태안해안국립공원 삼봉무장애탐방로 연결로 포장공사 | D5: 1 | E5: =SUMIF(R6:R25, Q5, F6:F25) -> 21528346 | F5: =TRUNC(E5*D5, 0) -> 21528346 | G5: =SUMIF(R6:R25, Q5, H6:H25) -> 14280739 | H5: =TRUNC(G5*D5, 0) -> 14280739 | I5: =SUMIF(R6:R25, Q5, J6:J25) -> 366039 | J5: =TRUNC(I5*D5, 0) -> 366039 | K5: =SUMIF(R6:R25, Q5, L6:L25) -> 36175124 | L5: =TRUNC(F5+H5+J5, 0) -> 36175124 | Q5: 01 | S5: F | T5: F | U5: F | AT5: 1 | AW5: 01 | AX5: 1
A6: [1] 철 거 공 | D6: 1 | E6: =SUMIF(Q7:Q7,"0101",F7:F7) -> 3927 | F6: =TRUNC(E6*D6, 0) -> 3927 | G6: =SUMIF(Q7:Q7,"0101",H7:H7) -> 14091 | H6: =TRUNC(G6*D6, 0) -> 14091 | I6: =SUMIF(Q7:Q7,"0101",J7:J7) -> 4301 | J6: =TRUNC(I6*D6, 0) -> 4301 | K6: =SUMIF(Q7:Q7,"0101",L7:L7) -> 22319 | L6: =TRUNC(F6+H6+J6, 0) -> 22319 | Q6: 0101 | R6: 01 | S6: F | T6: F | U6: F | AT6: 2 | AW6: 0101 | AX6: 2
A7: 콘크리트 철거 | B7: T150 | C7: M2 | D7: 3.5 | E7: =TRUNC(일위대가목록!E4,0) -> 1122 | F7: =TRUNC(E7*D7, 0) -> 3927 | G7: =TRUNC(일위대가목록!F4,0) -> 4026 | H7: =TRUNC(G7*D7, 0) -> 14091 | I7: =TRUNC(일위대가목록!G4,0) -> 1229 | J7: =TRUNC(I7*D7, 0) -> 4301 | K7: =TRUNC(E7+G7+I7, 0) -> 6377 | L7: =TRUNC(F7+H7+J7, 0) -> 22319 | M7: 호표 1 | N7: 5FDBB45C18DA0E7456672C140762C8 | Q7: 0101 | S7: T | T7: F | U7: F | AW7: 01015FDBB45C18DA0E7456672C140762C8 | AX7: 44
A8: [2] 포 장 공 | D8: 1 | E8: =SUMIF(Q9:Q14,"0102",F9:F14) -> 6257136 | F8: =TRUNC(E8*D8, 0) -> 6257136 | G8: =SUMIF(Q9:Q14,"0102",H9:H14) -> 5608398 | H8: =TRUNC(G8*D8, 0) -> 5608398 | I8: =SUMIF(Q9:Q14,"0102",J9:J14) -> 361738 | J8: =TRUNC(I8*D8, 0) -> 361738 | K8: =SUMIF(Q9:Q14,"0102",L9:L14) -> 12227272 | L8: =TRUNC(F8+H8+J8, 0) -> 12227272 | Q8: 0102 | R8: 01 | S8: F | T8: F | U8: F | AT8: 2 | AW8: 0102 | AX8: 4
A9: 인조화강석블록 | B9: T80 (차도용), 투수형 | C9: M2 | D9: 81 | E9: =TRUNC(일위대가목록!E5,0) -> 8563 | F9: =TRUNC(E9*D9, 0) -> 693603 | G9: =TRUNC(일위대가목록!F5,0) -> 13407 | H9: =TRUNC(G9*D9, 0) -> 1085967 | I9: =TRUNC(일위대가목록!G5,0) -> 1414 | J9: =TRUNC(I9*D9, 0) -> 114534 | K9: =TRUNC(E9+G9+I9, 0) -> 23384 | L9: =TRUNC(F9+H9+J9, 0) -> 1894104 | M9: 호표 2 | N9: 5FDBB45C18DA0E745663B3F4478219 | Q9: 0102 | S9: T | T9: F | U9: F | AW9: 01025FDBB45C18DA0E745663B3F4478219 | AX9: 48
A10: 점자블록(감삽형, 고강도) | B10: 300x300xT8, 선형, 피스고정 | C10: EA | D10: 148 | E10: =TRUNC(일위대가목록!E6,0) -> 12007 | F10: =TRUNC(E10*D10, 0) -> 1777036 | G10: =TRUNC(일위대가목록!F6,0) -> 3725 | H10: =TRUNC(G10*D10, 0) -> 551300 | I10: =TRUNC(일위대가목록!G6,0) -> 0 | J10: =TRUNC(I10*D10, 0) -> 0 | K10: =TRUNC(E10+G10+I10, 0) -> 15732 | L10: =TRUNC(F10+H10+J10, 0) -> 2328336 | M10: 호표 3 | N10: 5FDBB45C18DA0E745663B3F447B2ED | Q10: 0102 | S10: T | T10: F | U10: F | AW10: 01025FDBB45C18DA0E745663B3F447B2ED | AX10: 49
A11: 점자블록(감삽형, 고강도) | B11: 300x300xT8, 점형, 피스고정 | C11: EA | D11: 31 | E11: =TRUNC(일위대가목록!E7,0) -> 12007 | F11: =TRUNC(E11*D11, 0) -> 372217 | G11: =TRUNC(일위대가목록!F7,0) -> 3725 | H11: =TRUNC(G11*D11, 0) -> 115475 | I11: =TRUNC(일위대가목록!G7,0) -> 0 | J11: =TRUNC(I11*D11, 0) -> 0 | K11: =TRUNC(E11+G11+I11, 0) -> 15732 | L11: =TRUNC(F11+H11+J11, 0) -> 487692 | M11: 호표 4 | N11: 5FDBB45C18DA0E745663B3F447A2C7 | Q11: 0102 | S11: T | T11: F | U11: F | AW11: 01025FDBB45C18DA0E745663B3F447A2C7 | AX11: 50
A12: 점자블록(블록형, 고강도) | B12: 300x300xT60, 선형 | C12: EA | D12: 244 | E12: =TRUNC(일위대가목록!E8,0) -> 8081 | F12: =TRUNC(E12*D12, 0) -> 1971764 | G12: =TRUNC(일위대가목록!F8,0) -> 1309 | H12: =TRUNC(G12*D12, 0) -> 319396 | I12: =TRUNC(일위대가목록!G8,0) -> 137 | J12: =TRUNC(I12*D12, 0) -> 33428 | K12: =TRUNC(E12+G12+I12, 0) -> 9527 | L12: =TRUNC(F12+H12+J12, 0) -> 2324588 | M12: 호표 5 | N12: 5FDBB45C18DA0E745663B3F447D29B | Q12: 0102 | S12: T | T12: F | U12: F | AW12: 01025FDBB45C18DA0E745663B3F447D29B | AX12: 51
A13: 점자블록(블록형, 고강도) | B13: 300x300xT60, 점형 | C13: EA | D13: 22 | E13: =TRUNC(일위대가목록!E9,0) -> 8081 | F13: =TRUNC(E13*D13, 0) -> 177782 | G13: =TRUNC(일위대가목록!F9,0) -> 1309 | H13: =TRUNC(G13*D13, 0) -> 28798 | I13: =TRUNC(일위대가목록!G9,0) -> 137 | J13: =TRUNC(I13*D13, 0) -> 3014 | K13: =TRUNC(E13+G13+I13, 0) -> 9527 | L13: =TRUNC(F13+H13+J13, 0) -> 209594 | M13: 호표 6 | N13: 5FDBB45C18DA0E745663B3F447C2F4 | Q13: 0102 | S13: T | T13: F | U13: F | AW13: 01025FDBB45C18DA0E745663B3F447C2F4 | AX13: 52
A14: 포장구분경계석 | B14: 150x150x1000 | C14: M | D14: 162 | E14: =TRUNC(일위대가목록!E10,0) -> 7807 | F14: =TRUNC(E14*D14, 0) -> 1264734 | G14: =TRUNC(일위대가목록!F10,0) -> 21651 | H14: =TRUNC(G14*D14, 0) -> 3507462 | I14: =TRUNC(일위대가목록!G10,0) -> 1301 | J14: =TRUNC(I14*D14, 0) -> 210762 | K14: =TRUNC(E14+G14+I14, 0) -> 30759 | L14: =TRUNC(F14+H14+J14, 0) -> 4982958 | M14: 호표 7 | N14: 5FDBB45C18DA0E745663B3F47CC217 | Q14: 0102 | S14: T | T14: F | U14: F | AW14: 01025FDBB45C18DA0E745663B3F47CC217 | AX14: 29
A15: [3] 시 설 공 | D15: 1 | E15: =SUMIF(Q16:Q16,"0103",F16:F16) -> 15267283 | F15: =TRUNC(E15*D15, 0) -> 15267283 | G15: =SUMIF(Q16:Q16,"0103",H16:H16) -> 8658250 | H15: =TRUNC(G15*D15, 0) -> 8658250 | I15: =SUMIF(Q16:Q16,"0103",J16:J16) -> 0 | J15: =TRUNC(I15*D15, 0) -> 0 | K15: =SUMIF(Q16:Q16,"0103",L16:L16) -> 23925533 | L15: =TRUNC(F15+H15+J15, 0) -> 23925533 | Q15: 0103 | R15: 01 | S15: F | T15: F | U15: F | AT15: 2 | AW15: 0103 | AX15: 78
A16: 데크안전목 | B16: 100x100, 방부목(노란색 도색) | C16: M | D16: 587 | E16: =TRUNC(일위대가목록!E11,0) -> 26009 | F16: =TRUNC(E16*D16, 0) -> 15267283 | G16: =TRUNC(일위대가목록!F11,0) -> 14750 | H16: =TRUNC(G16*D16, 0) -> 8658250 | I16: =TRUNC(일위대가목록!G11,0) -> 0 | J16: =TRUNC(I16*D16, 0) -> 0 | K16: =TRUNC(E16+G16+I16, 0) -> 40759 | L16: =TRUNC(F16+H16+J16, 0) -> 23925533 | M16: 호표 8 | N16: 5FDBB45C18DA0E745663B3F46262F5 | Q16: 0103 | S16: T | T16: F | U16: F | AW16: 01035FDBB45C18DA0E745663B3F46262F5 | AX16: 79
A17: [4] 폐 기 물 처 리 비 | D17: 1 | E17: =SUMIF(R18:R25, Q17, F18:F25) -> 101684 | F17: =TRUNC(E17*D17, 0) -> 101684 | G17: =SUMIF(R18:R25, Q17, H18:H25) -> 0 | H17: =TRUNC(G17*D17, 0) -> 0 | I17: =SUMIF(R18:R25, Q17, J18:J25) -> 0 | J17: =TRUNC(I17*D17, 0) -> 0 | K17: =SUMIF(R18:R25, Q17, L18:L25) -> 101684 | L17: =TRUNC(F17+H17+J17, 0) -> 101684 | M17: 합 계 제 외 | Q17: 0104 | S17: F | T17: F | U17: F | AT17: 2 | AU17: 5 | AW17: 0104 | AX17: 11 | AY17: =L17*1 -> 101684
A18: 1) 처 리 비 | D18: 1 | E18: =SUMIF(Q19:Q19,"010401",F19:F19) -> 62284 | F18: =TRUNC(E18*D18, 0) -> 62284 | G18: =SUMIF(Q19:Q19,"010401",H19:H19) -> 0 | H18: =TRUNC(G18*D18, 0) -> 0 | I18: =SUMIF(Q19:Q19,"010401",J19:J19) -> 0 | J18: =TRUNC(I18*D18, 0) -> 0 | K18: =SUMIF(Q19:Q19,"010401",L19:L19) -> 62284 | L18: =TRUNC(F18+H18+J18, 0) -> 62284 | Q18: 010401 | R18: 0104 | S18: F | T18: F | U18: F | AT18: 3 | AW18: 010401 | AX18: 12
A19: 폐콘크리트 | B19: - | C19: Ton | D19: 2 | E19: =TRUNC(단가대비표!O23,0) -> 31142 | F19: =TRUNC(E19*D19, 0) -> 62284 | G19: =TRUNC(단가대비표!P23,0) -> 0 | H19: =TRUNC(G19*D19, 0) -> 0 | I19: =TRUNC(단가대비표!V23,0) -> 0 | J19: =TRUNC(I19*D19, 0) -> 0 | K19: =TRUNC(E19+G19+I19, 0) -> 31142 | L19: =TRUNC(F19+H19+J19, 0) -> 62284 | N19: 5868543158A40445A62FBD049E32A2538E34BC | Q19: 010401 | S19: F | T19: F | U19: T | AW19: 0104015868543158A40445A62FBD049E32A2538E34BC | AX19: 22
A20: 2) 운 반 비 | D20: 1 | E20: =SUMIF(Q21:Q21,"010402",F21:F21) -> 39400 | F20: =TRUNC(E20*D20, 0) -> 39400 | G20: =SUMIF(Q21:Q21,"010402",H21:H21) -> 0 | H20: =TRUNC(G20*D20, 0) -> 0 | I20: =SUMIF(Q21:Q21,"010402",J21:J21) -> 0 | J20: =TRUNC(I20*D20, 0) -> 0 | K20: =SUMIF(Q21:Q21,"010402",L21:L21) -> 39400 | L20: =TRUNC(F20+H20+J20, 0) -> 39400 | Q20: 010402 | R20: 0104 | S20: F | T20: F | U20: F | AT20: 3 | AW20: 010402 | AX20: 13
A21: 폐기물운반비 | B21: 30㎞ | C21: Ton | D21: 2 | E21: =TRUNC(단가대비표!O24,0) -> 19700 | F21: =TRUNC(E21*D21, 0) -> 39400 | G21: =TRUNC(단가대비표!P24,0) -> 0 | H21: =TRUNC(G21*D21, 0) -> 0 | I21: =TRUNC(단가대비표!V24,0) -> 0 | J21: =TRUNC(I21*D21, 0) -> 0 | K21: =TRUNC(E21+G21+I21, 0) -> 19700 | L21: =TRUNC(F21+H21+J21, 0) -> 39400 | N21: 5868543158A40445A62FBD049E32A2538C086F | Q21: 010402 | S21: F | T21: F | U21: T | AW21: 0104025868543158A40445A62FBD049E32A2538C086F | AX21: 24
A22: [5] 도 급 자 관 급 자 재 | D22: 1 | E22: =SUMIF(Q23:Q26,"0105",F23:F26) -> 5508600 | F22: =TRUNC(E22*D22, 0) -> 5508600 | G22: =SUMIF(Q23:Q26,"0105",H23:H26) -> 0 | H22: =TRUNC(G22*D22, 0) -> 0 | I22: =SUMIF(Q23:Q26,"0105",J23:J26) -> 29746 | J22: =TRUNC(I22*D22, 0) -> 29746 | K22: =SUMIF(Q23:Q26,"0105",L23:L26) -> 5538346 | L22: =TRUNC(F22+H22+J22, 0) -> 5538346 | M22: 합 계 제 외 | Q22: 0105 | S22: F | T22: F | U22: F | AT22: 2 | AU22: 3 | AW22: 0105 | AX22: 14 | AY22: =L22*1 -> 5538346
A23: 인조화강석블록 | B23: 200x200xT80, 투수형 | C23: M2 | D23: 67 | E23: =TRUNC(단가대비표!O25,0) -> 29500 | F23: =TRUNC(E23*D23, 0) -> 1976500 | G23: =TRUNC(단가대비표!P25,0) -> 0 | H23: =TRUNC(G23*D23, 0) -> 0 | I23: =TRUNC(단가대비표!V25,0) -> 0 | J23: =TRUNC(I23*D23, 0) -> 0 | K23: =TRUNC(E23+G23+I23, 0) -> 29500 | L23: =TRUNC(F23+H23+J23, 0) -> 1976500 | N23: 58684423381E0B4A860FD554B1124CAF389883 | Q23: 0105 | S23: F | T23: F | U23: T | Y23: 1 | AW23: 010558684423381E0B4A860FD554B1124CAF389883 | AX23: 74
A24: 인조화강석블록 | B24: 200x100xT80, 투수형 | C24: M2 | D24: 17 | E24: =TRUNC(단가대비표!O26,0) -> 28000 | F24: =TRUNC(E24*D24, 0) -> 476000 | G24: =TRUNC(단가대비표!P26,0) -> 0 | H24: =TRUNC(G24*D24, 0) -> 0 | I24: =TRUNC(단가대비표!V26,0) -> 0 | J24: =TRUNC(I24*D24, 0) -> 0 | K24: =TRUNC(E24+G24+I24, 0) -> 28000 | L24: =TRUNC(F24+H24+J24, 0) -> 476000 | N24: 58684423381E0B4A860FD554B1124CAF389886 | Q24: 0105 | S24: F | T24: F | U24: T | Y24: 1 | AW24: 010558684423381E0B4A860FD554B1124CAF389886 | AX24: 75
A25: 경계석 | B25: 직선,150x150x1000 | C25: M | D25: 167 | E25: =TRUNC(단가대비표!O22,0) -> 18300 | F25: =TRUNC(E25*D25, 0) -> 3056100 | G25: =TRUNC(단가대비표!P22,0) -> 0 | H25: =TRUNC(G25*D25, 0) -> 0 | I25: =TRUNC(단가대비표!V22,0) -> 0 | J25: =TRUNC(I25*D25, 0) -> 0 | K25: =TRUNC(E25+G25+I25, 0) -> 18300 | L25: =TRUNC(F25+H25+J25, 0) -> 3056100 | N25: 586854315816319296C22B3432E22EA44494BF | Q25: 0105 | S25: F | T25: F | U25: T | Y25: 1 | AW25: 0105586854315816319296C22B3432E22EA44494BF | AX25: 76
A26: 조달수수료 | B26: 주재료비의 0.54% | C26: 식 | D26: 1 | E26: 0 | F26: =TRUNC(E26*D26, 0) -> 0 | G26: 0 | H26: =TRUNC(G26*D26, 0) -> 0 | I26: =(F23+F24+F25)*0.0054 -> 29746.44 | J26: =TRUNC(I26*D26, 0) -> 29746 | K26: =TRUNC(E26+G26+I26, 0) -> 29746 | L26: =TRUNC(F26+H26+J26, 0) -> 29746 | N26: 5EE2A453A8DAB046E61DE274AF62001 | Q26: 0105 | S26: F | T26: F | U26: F | AW26: 01055EE2A453A8DAB046E61DE274AF62001 | AX26: 77

Sheet 일위대가목록
B1: 일 위 대 가 목 록
B2: [ ◈ 2026 태안해안국립공원 삼봉무장애탐방로 연결로 포장공사 ]
A3: 코 드 | B3: 품 명 | C3: 규 격 | D3: 단위 | E3: 재 료 비 | F3: 노 무 비 | G3: 경 비 | H3: 합 계 | I3: 번 호 | J3: 비 고 | K3: 노임계수 | L3: 할증 | M3: 품셈개요 | N3: 장비일위
A4: 5FDBB45C18DA0E7456672C140762C8 | B4: 콘크리트 철거 | C4: T150 | D4: M2 | E4: =일위대가!F7 -> 1122 | F4: =일위대가!H7 -> 4026 | G4: =일위대가!J7 -> 1229 | H4: =E4+F4+G4 -> 6377 | I4: 호표 1
A5: 5FDBB45C18DA0E745663B3F4478219 | B5: 인조화강석블록 | C5: T80 (차도용), 투수형 | D5: M2 | E5: =일위대가!F17 -> 8563 | F5: =일위대가!H17 -> 13407 | G5: =일위대가!J17 -> 1414 | H5: =E5+F5+G5 -> 23384 | I5: 호표 2
A6: 5FDBB45C18DA0E745663B3F447B2ED | B6: 점자블록(감삽형, 고강도) | C6: 300x300xT8, 선형, 피스고정 | D6: EA | E6: =일위대가!F23 -> 12007 | F6: =일위대가!H23 -> 3725 | G6: =일위대가!J23 -> 0 | H6: =E6+F6+G6 -> 15732 | I6: 호표 3
A7: 5FDBB45C18DA0E745663B3F447A2C7 | B7: 점자블록(감삽형, 고강도) | C7: 300x300xT8, 점형, 피스고정 | D7: EA | E7: =일위대가!F29 -> 12007 | F7: =일위대가!H29 -> 3725 | G7: =일위대가!J29 -> 0 | H7: =E7+F7+G7 -> 15732 | I7: 호표 4
A8: 5FDBB45C18DA0E745663B3F447D29B | B8: 점자블록(블록형, 고강도) | C8: 300x300xT60, 선형 | D8: EA | E8: =일위대가!F40 -> 8081 | F8: =일위대가!H40 -> 1309 | G8: =일위대가!J40 -> 137 | H8: =E8+F8+G8 -> 9527 | I8: 호표 5
A9: 5FDBB45C18DA0E745663B3F447C2F4 | B9: 점자블록(블록형, 고강도) | C9: 300x300xT60, 점형 | D9: EA | E9: =일위대가!F51 -> 8081 | F9: =일위대가!H51 -> 1309 | G9: =일위대가!J51 -> 137 | H9: =E9+F9+G9 -> 9527 | I9: 호표 6
A10: 5FDBB45C18DA0E745663B3F47CC217 | B10: 포장구분경계석 | C10: 150x150x1000 | D10: M | E10: =일위대가!F61 -> 7807 | F10: =일위대가!H61 -> 21651 | G10: =일위대가!J61 -> 1301 | H10: =E10+F10+G10 -> 30759 | I10: 호표 7
A11: 5FDBB45C18DA0E745663B3F46262F5 | B11: 데크안전목 | C11: 100x100, 방부목(노란색 도색) | D11: M | E11: =일위대가!F68 -> 26009 | F11: =일위대가!H68 -> 14750 | G11: =일위대가!J68 -> 0 | H11: =E11+F11+G11 -> 40759 | I11: 호표 8
A12: 58EC34C7E84CAC36E601FEB4B9028CD89019BCFA | B12: 대형 브레이커 | C12: 0.4㎥용 | D12: HR | E12: =일위대가!F72 -> 0 | F12: =일위대가!H72 -> 0 | G12: =일위대가!J72 -> 5513 | H12: =E12+F12+G12 -> 5513 | I12: 호표 9 | K12: A | M12: 공통 8-3(0230) | N12: T
A13: 58EC34C7E84CAC36D67B3304E81254B086D295D7 | B13: 굴착기(무한궤도) | C13: 0.4㎥ | D13: HR | E13: =일위대가!F79 -> 21740 | F13: =일위대가!H79 -> 59020 | G13: =일위대가!J79 -> 17514 | H13: =E13+F13+G13 -> 98274 | I13: 호표 10 | K13: A | M13: 공통 8-3,4(0201) | N13: T
A14: 58EC34C7E84CAC36E600D8B483828CEF3DE90C27 | B14: 대형 브레이커용 치즐 소모량 | C14: 0.4㎥용, 구조물 헐기 | D14: HR | E14: =일위대가!F83 -> 0 | F14: =일위대가!H83 -> 0 | G14: =일위대가!J83 -> 1632 | H14: =E14+F14+G14 -> 1632 | I14: 호표 11 | K14: A | M14: 토목 8-2-15.2(라) | N14: T
A15: 5FDBB45EC8495E8606B685F4415218 | B15: 기초 지정 | C15: 잡석지정 | D15: M3 | E15: =일위대가!F91 -> 1367 | F15: =일위대가!H91 -> 10966 | G15: =일위대가!J91 -> 1409 | H15: =E15+F15+G15 -> 13742 | I15: 호표 12 | M15: 공통 3-4-8
A16: 5FDBB45EC8495E8606B685F44172C6 | B16: 기초 지정 | C16: 모래지정 | D16: M3 | E16: =일위대가!F99 -> 951 | F16: =일위대가!H99 -> 8983 | G16: =일위대가!J99 -> 1053 | H16: =E16+F16+G16 -> 10987 | I16: 호표 13 | M16: 공통 3-4-8
A17: 58EC34C7E84CAC36D67B3304E872FD5354A328F0 | B17: 굴착기(무한궤도) | C17: 0.2㎥ | D17: HR | E17: =일위대가!F106 -> 10890 | F17: =일위대가!H106 -> 59020 | G17: =일위대가!J106 -> 13873 | H17: =E17+F17+G17 -> 83783 | I17: 호표 14 | K17: A | M17: 공통 8-3,4(0201) | N17: T
A18: 58EC34C7E84CBEB1D6A2E134CF2200F6B004EAAA | B18: 진동롤러(핸드가이드식) | C18: 0.7ton | D18: HR | E18: =일위대가!F113 -> 4474 | F18: =일위대가!H113 -> 36248 | G18: =일위대가!J113 -> 1967 | H18: =E18+F18+G18 -> 42689 | I18: 호표 15 | K18: A | M18: 공통 8-3,4(1305) | N18: T
A19: 58EC34C7E84CBEFFB68BE204C0C29760CB49F549 | B19: 플레이트 콤팩터 | C19: 1.5ton | D19: HR | E19: =일위대가!F120 -> 2192 | F19: =일위대가!H120 -> 36248 | G19: =일위대가!J120 -> 620 | H19: =E19+F19+G19 -> 39060 | I19: 호표 16 | K19: A | M19: 공통 8-3,4(1730) | N19: T
A20: 5FF83471B8E78119E62114B46F32C1 | B20: 콘크리트·모르타르면 바탕만들기 | C20: 노무비 | D20: M2 | E20: =일위대가!F126 -> 84 | F20: =일위대가!H126 -> 2802 | G20: =일위대가!J126 -> 0 | H20: =E20+F20+G20 -> 2886 | I20: 호표 17 | M20: 건축 11-1-1
A21: 5FF884E6E81FE7A1A667A534BC3237 | B21: 앵커설치 | C21: ∮12 이하 | D21: 개소 | E21: =일위대가!F132 -> 0 | F21: =일위대가!H132 -> 3473 | G21: =일위대가!J132 -> 0 | H21: =E21+F21+G21 -> 3473 | I21: 호표 18 | M21: 서울형품셈
A22: 5FF894CA687A59E7F685A0749B32CC | B22: 합판거푸집 설치 및 해체 | C22: 간단 6회, 수직고 7m까지 | D22: M2 | E22: =일위대가!F137 -> 12604 | F22: =일위대가!H137 -> 34461 | G22: =일위대가!J137 -> 344 | H22: =E22+F22+G22 -> 47409 | I22: 호표 19 | M22: 공통 6-3-1
A23: 5FF894CD38B041F2467E5564AD821E | B23: 레디믹스트콘크리트 인력운반 타설 | C23: 무근구조물 | D23: M3 | E23: =일위대가!F143 -> 0 | F23: =일위대가!H143 -> 57929 | G23: =일위대가!J143 -> 1158 | H23: =E23+F23+G23 -> 59087 | I23: 호표 20 | M23: 공통 6-1-1
A24: 5FF894CA687A59E7E6FEEDA4C0C288 | B24: 합판거푸집 - 자재비 | C24: 6회 | D24: M2 | E24: =일위대가!F150 -> 12604 | F24: =일위대가!H150 -> 0 | G24: =일위대가!J150 -> 0 | H24: =E24+F24+G24 -> 12604 | I24: 호표 21 | M24: 공통 6-3-1
A25: 5FF894CA687A59E7E6FEEDA4C0D2AF | B25: 합판거푸집 - 인력투입 | C25: 간단, 수직고 7m까지 | D25: M2 | E25: =일위대가!F156 -> 0 | F25: =일위대가!H156 -> 34461 | G25: =일위대가!J156 -> 344 | H25: =E25+F25+G25 -> 34805 | I25: 호표 22 | M25: 공통 6-3-1
A26: 5FDBB45C180D9671D6C85EA4DC22B8 | B26: 목구조체 설치 | C26: 간단구조 | D26: M3 | E26: =일위대가!F161 -> 0 | F26: =일위대가!H161 -> 915052 | G26: =일위대가!J161 -> 0 | H26: =E26+F26+G26 -> 915052 | I26: 호표 23
A27: 5FF8346008DE029606C129B47902A7 | B27: 유성페인트 붓칠(노랑색) | C27: 목재면 2회 노무비 | D27: M2 | E27: =일위대가!F170 -> 3336 | F27: =일위대가!H170 -> 14001 | G27: =일위대가!J170 -> 0 | H27: =E27+F27+G27 -> 17337 | I27: 호표 24 | M27: 건축 11-2-4
A28: 5FF8346008DE2DB7663F110496D234 | B28: 유성페인트 붓칠 재료비(20년 품셈기준) | C28: 철재면, 2회, 1급 | D28: M2 | E28: =일위대가!F175 -> 3056 | F28: =일위대가!H175 -> 0 | G28: =일위대가!J175 -> 0 | H28: =E28+F28+G28 -> 3056 | I28: 호표 25

Sheet 일위대가
A1: [ ◈ 2026 태안해안국립공원 삼봉무장애탐방로 연결로 포장공사 ]
A2: 품 명 | B2: 규 격 | C2: 단위 | D2: 수량 | E2: 재 료 비 | G2: 노 무 비 | I2: 경 비 | K2: 합 계 | M2: 비 고 | N2: 일위대가 | O2: 품목코드 | P2: 일위 | Q2: 단산 | R2: 자재 | S2: 손료적용 | T2: 손료저장 | U2: 적용율 | V2: JUK1 | W2: JUK2 | X2: JUK3 | Y2: JUK4 | Z2: JUK5 | AA2: JUK6 | AB2: JUK7 | AC2: JUK8 | AD2: JUK9 | AE2: JUK10 | AF2: JUK11 | AG2: JUK12 | AH2: JUK13 | AI2: JUK14 | AJ2: JUK15 | AK2: JUK16 | AL2: JUK17 | AM2: JUK18 | AN2: JUK19 | AO2: JUK20 | AP2: 할증적용 | AQ2: 할증저장 | AR2: 할증율 | AS2: HAL1 | AT2: HAL2 | AU2: HAL3 | AV2: 자재구분 | AW2: 일위대가+자재 | AX2: 장비일위 | AY2: 설정 | AZ2: 할증체크
E3: 단 가 | F3: 금 액 | G3: 단 가 | H3: 금 액 | I3: 단 가 | J3: 금 액 | K3: 단 가 | L3: 금 액
A4: 콘크리트 철거 T150 M2 ( 호표 1 ) | N4: 5FDBB45C18DA0E7456672C140762C8
A5: 구조물 헐기(무근 30cm미만) | B5: 굴착기 0.4m3+대형브레커 | C5: M3 | D5: 0.15 | E5: =단가산출목록!E4 -> 6587 | F5: =TRUNC(E5*D5,1) -> 988 | G5: =단가산출목록!F4 -> 24402 | H5: =TRUNC(G5*D5,1) -> 3660.3 | I5: =단가산출목록!G4 -> 7472 | J5: =TRUNC(I5*D5,1) -> 1120.8 | K5: =TRUNC(E5+G5+I5,1) -> 38461 | L5: =TRUNC(F5+H5+J5,1) -> 5769.1 | M5: 산근 1 | N5: 5FDBB45C18DA0E7456672C140762C8 | O5: 5FDBB454D8E49DE7864AA414796259 | P5: F | Q5: T | R5: F | AW5: 5FDBB45C18DA0E7456672C140762C85FDBB454D8E49DE7864AA414796259
A6: 폐기물상차 | B6: 굴삭기 0.4m3 | C6: M3 | D6: 0.15 | E6: =단가산출목록!E5 -> 898 | F6: =TRUNC(E6*D6,1) -> 134.7 | G6: =단가산출목록!F5 -> 2438 | H6: =TRUNC(G6*D6,1) -> 365.7 | I6: =단가산출목록!G5 -> 723 | J6: =TRUNC(I6*D6,1) -> 108.4 | K6: =TRUNC(E6+G6+I6,1) -> 4059 | L6: =TRUNC(F6+H6+J6,1) -> 608.8 | M6: 산근 2 | N6: 5FDBB45C18DA0E7456672C140762C8 | O6: 5FDBB45348D36A9D86C9A8B4A82298 | P6: F | Q6: T | R6: F | AW6: 5FDBB45C18DA0E7456672C140762C85FDBB45348D36A9D86C9A8B4A82298
A7: [ 합 계 ] | F7: =TRUNC(SUMIF(N5:N6, N4, F5:F6),0) -> 1122 | H7: =TRUNC(SUMIF(N5:N6, N4, H5:H6),0) -> 4026 | J7: =TRUNC(SUMIF(N5:N6, N4, J5:J6),0) -> 1229 | L7: =F7+H7+J7 -> 6377 | N7: TOTAL | O7: TOTAL
A9: 인조화강석블록 T80 (차도용), 투수형 M2 ( 호표 2 ) | N9: 5FDBB45C18DA0E745663B3F4478219
A10: 터파기/사질토 | B10: 보통, 굴착기 0.4m3 | C10: M3 | D10: 0.32 | E10: =단가산출목록!E6 -> 534 | F10: =TRUNC(E10*D10,1) -> 170.8 | G10: =단가산출목록!F6 -> 1450 | H10: =TRUNC(G10*D10,1) -> 464 | I10: =단가산출목록!G6 -> 430 | J10: =TRUNC(I10*D10,1) -> 137.6 | K10: =TRUNC(E10+G10+I10,1) -> 2414 | L10: =TRUNC(F10+H10+J10,1) -> 772.4 | M10: 산근 3 | N10: 5FDBB45C18DA0E745663B3F4478219 | O10: 5FDBB452180788EDD60D46A4456299 | P10: F | Q10: T | R10: F | AW10: 5FDBB45C18DA0E745663B3F44782195FDBB452180788EDD60D46A4456299
A11: 현장내 잔토처리/토사 | B11: 보통, 굴착기 0.4m3+인력 10% | C11: M3 | D11: 0.32 | E11: =단가산출목록!E7 -> 352 | F11: =TRUNC(E11*D11,1) -> 112.6 | G11: =단가산출목록!F7 -> 4399 | H11: =TRUNC(G11*D11,1) -> 1407.6 | I11: =단가산출목록!G7 -> 284 | J11: =TRUNC(I11*D11,1) -> 90.8 | K11: =TRUNC(E11+G11+I11,1) -> 5035 | L11: =TRUNC(F11+H11+J11,1) -> 1611 | M11: 산근 4 | N11: 5FDBB45C18DA0E745663B3F4478219 | O11: 5FDBB452186815A31646B35415026F | P11: F | Q11: T | R11: F | AW11: 5FDBB45C18DA0E745663B3F44782195FDBB452186815A31646B35415026F
A12: 기초 지정 | B12: 잡석지정 | C12: M3 | D12: 0.2 | E12: =일위대가목록!E15 -> 1367 | F12: =TRUNC(E12*D12,1) -> 273.4 | G12: =일위대가목록!F15 -> 10966 | H12: =TRUNC(G12*D12,1) -> 2193.2 | I12: =일위대가목록!G15 -> 1409 | J12: =TRUNC(I12*D12,1) -> 281.8 | K12: =TRUNC(E12+G12+I12,1) -> 13742 | L12: =TRUNC(F12+H12+J12,1) -> 2748.4 | M12: 호표 12 | N12: 5FDBB45C18DA0E745663B3F4478219 | O12: 5FDBB45EC8495E8606B685F4415218 | P12: T | Q12: F | R12: F | AW12: 5FDBB45C18DA0E745663B3F44782195FDBB45EC8495E8606B685F4415218
A13: 혼합골재 | B13: 40㎜이하 보조기층 | C13: M3 | D13: 0.208 | E13: =단가대비표!O21 -> 26000 | F13: =TRUNC(E13*D13,1) -> 5408 | G13: =단가대비표!P21 -> 0 | H13: =TRUNC(G13*D13,1) -> 0 | I13: =단가대비표!V21 -> 0 | J13: =TRUNC(I13*D13,1) -> 0 | K13: =TRUNC(E13+G13+I13,1) -> 26000 | L13: =TRUNC(F13+H13+J13,1) -> 5408 | N13: 5FDBB45C18DA0E745663B3F4478219 | O13: 5868543158311F51068F43B488D29BE80841DD | P13: F | Q13: F | R13: T | AW13: 5FDBB45C18DA0E745663B3F44782195868543158311F51068F43B488D29BE80841DD
A14: 기초 지정 | B14: 모래지정 | C14: M3 | D14: 0.04 | E14: =일위대가목록!E16 -> 951 | F14: =TRUNC(E14*D14,1) -> 38 | G14: =일위대가목록!F16 -> 8983 | H14: =TRUNC(G14*D14,1) -> 359.3 | I14: =일위대가목록!G16 -> 1053 | J14: =TRUNC(I14*D14,1) -> 42.1 | K14: =TRUNC(E14+G14+I14,1) -> 10987 | L14: =TRUNC(F14+H14+J14,1) -> 439.4 | M14: 호표 13 | N14: 5FDBB45C18DA0E745663B3F4478219 | O14: 5FDBB45EC8495E8606B685F44172C6 | P14: T | Q14: F | R14: F | AW14: 5FDBB45C18DA0E745663B3F44782195FDBB45EC8495E8606B685F44172C6
A15: 모래 | B15: 강모래 | C15: M3 | D15: 0.042 | E15: =단가대비표!O20 -> 37000 | F15: =TRUNC(E15*D15,1) -> 1554 | G15: =단가대비표!P20 -> 0 | H15: =TRUNC(G15*D15,1) -> 0 | I15: =단가대비표!V20 -> 0 | J15: =TRUNC(I15*D15,1) -> 0 | K15: =TRUNC(E15+G15+I15,1) -> 37000 | L15: =TRUNC(F15+H15+J15,1) -> 1554 | N15: 5FDBB45C18DA0E745663B3F4478219 | O15: 5868543158311F51068F43B488D29BE8084765 | P15: F | Q15: F | R15: T | AW15: 5FDBB45C18DA0E745663B3F44782195868543158311F51068F43B488D29BE8084765
A16: 보도용 블록 설치(소형) / B-TYPE | B16: 0 .1㎡이하, 두께 8cm | C16: M2 | D16: 1 | E16: =단가산출목록!E8 -> 1007 | F16: =TRUNC(E16*D16,1) -> 1007 | G16: =단가산출목록!F8 -> 8983 | H16: =TRUNC(G16*D16,1) -> 8983 | I16: =단가산출목록!G8 -> 862 | J16: =TRUNC(I16*D16,1) -> 862 | K16: =TRUNC(E16+G16+I16,1) -> 10852 | L16: =TRUNC(F16+H16+J16,1) -> 10852 | M16: 산근 5 | N16: 5FDBB45C18DA0E745663B3F4478219 | O16: 5FDB34A6F8DA6B3F166920C4E46284 | P16: F | Q16: T | R16: F | AW16: 5FDBB45C18DA0E745663B3F44782195FDB34A6F8DA6B3F166920C4E46284
A17: [ 합 계 ] | F17: =TRUNC(SUMIF(N10:N16, N9, F10:F16),0) -> 8563 | H17: =TRUNC(SUMIF(N10:N16, N9, H10:H16),0) -> 13407 | J17: =TRUNC(SUMIF(N10:N16, N9, J10:J16),0) -> 1414 | L17: =F17+H17+J17 -> 23384 | N17: TOTAL | O17: TOTAL
A19: 점자블록(감삽형, 고강도) 300x300xT8, 선형, 피스고정 EA ( 호표 3 ) | N19: 5FDBB45C18DA0E745663B3F447B2ED
A20: 콘크리트·모르타르면 바탕만들기 | B20: 노무비 | C20: M2 | D20: 0.09 | E20: =일위대가목록!E20 -> 84 | F20: =TRUNC(E20*D20,1) -> 7.5 | G20: =일위대가목록!F20 -> 2802 | H20: =TRUNC(G20*D20,1) -> 252.1 | I20: =일위대가목록!G20 -> 0 | J20: =TRUNC(I20*D20,1) -> 0 | K20: =TRUNC(E20+G20+I20,1) -> 2886 | L20: =TRUNC(F20+H20+J20,1) -> 259.6 | M20: 호표 17 | N20: 5FDBB45C18DA0E745663B3F447B2ED | O20: 5FF83471B8E78119E62114B46F32C1 | P20: T | Q20: F | R20: F | AW20: 5FDBB45C18DA0E745663B3F447B2ED5FF83471B8E78119E62114B46F32C1
A21: 앵커설치 | B21: ∮12 이하 | C21: 개소 | D21: 1 | E21: =일위대가목록!E21 -> 0 | F21: =TRUNC(E21*D21,1) -> 0 | G21: =일위대가목록!F21 -> 3473 | H21: =TRUNC(G21*D21,1) -> 3473 | I21: =일위대가목록!G21 -> 0 | J21: =TRUNC(I21*D21,1) -> 0 | K21: =TRUNC(E21+G21+I21,1) -> 3473 | L21: =TRUNC(F21+H21+J21,1) -> 3473 | M21: 호표 18 | N21: 5FDBB45C18DA0E745663B3F447B2ED | O21: 5FF884E6E81FE7A1A667A534BC3237 | P21: T | Q21: F | R21: F | AW21: 5FDBB45C18DA0E745663B3F447B2ED5FF884E6E81FE7A1A667A534BC3237
A22: PVC피스고정형 점자블록 | B22: 300x300xT8, 점형 선형 | C22: EA | D22: 1 | E22: =단가대비표!O28 -> 12000 | F22: =TRUNC(E22*D22,1) -> 12000 | G22: =단가대비표!P28 -> 0 | H22: =TRUNC(G22*D22,1) -> 0 | I22: =단가대비표!V28 -> 0 | J22: =TRUNC(I22*D22,1) -> 0 | K22: =TRUNC(E22+G22+I22,1) -> 12000 | L22: =TRUNC(F22+H22+J22,1) -> 12000 | N22: 5FDBB45C18DA0E745663B3F447B2ED | O22: 58684423381E0B4A860FD554B1124CAF3895CF | P22: F | Q22: F | R22: T | AW22: 5FDBB45C18DA0E745663B3F447B2ED58684423381E0B4A860FD554B1124CAF3895CF
A23: [ 합 계 ] | F23: =TRUNC(SUMIF(N20:N22, N19, F20:F22),0) -> 12007 | H23: =TRUNC(SUMIF(N20:N22, N19, H20:H22),0) -> 3725 | J23: =TRUNC(SUMIF(N20:N22, N19, J20:J22),0) -> 0 | L23: =F23+H23+J23 -> 15732 | N23: TOTAL | O23: TOTAL
A25: 점자블록(감삽형, 고강도) 300x300xT8, 점형, 피스고정 EA ( 호표 4 ) | N25: 5FDBB45C18DA0E745663B3F447A2C7
A26: 콘크리트·모르타르면 바탕만들기 | B26: 노무비 | C26: M2 | D26: 0.09 | E26: =일위대가목록!E20 -> 84 | F26: =TRUNC(E26*D26,1) -> 7.5 | G26: =일위대가목록!F20 -> 2802 | H26: =TRUNC(G26*D26,1) -> 252.1 | I26: =일위대가목록!G20 -> 0 | J26: =TRUNC(I26*D26,1) -> 0 | K26: =TRUNC(E26+G26+I26,1) -> 2886 | L26: =TRUNC(F26+H26+J26,1) -> 259.6 | M26: 호표 17 | N26: 5FDBB45C18DA0E745663B3F447A2C7 | O26: 5FF83471B8E78119E62114B46F32C1 | P26: T | Q26: F | R26: F | AW26: 5FDBB45C18DA0E745663B3F447A2C75FF83471B8E78119E62114B46F32C1
A27: 앵커설치 | B27: ∮12 이하 | C27: 개소 | D27: 1 | E27: =일위대가목록!E21 -> 0 | F27: =TRUNC(E27*D27,1) -> 0 | G27: =일위대가목록!F21 -> 3473 | H27: =TRUNC(G27*D27,1) -> 3473 | I27: =일위대가목록!G21 -> 0 | J27: =TRUNC(I27*D27,1) -> 0 | K27: =TRUNC(E27+G27+I27,1) -> 3473 | L27: =TRUNC(F27+H27+J27,1) -> 3473 | M27: 호표 18 | N27: 5FDBB45C18DA0E745663B3F447A2C7 | O27: 5FF884E6E81FE7A1A667A534BC3237 | P27: T | Q27: F | R27: F | AW27: 5FDBB45C18DA0E745663B3F447A2C75FF884E6E81FE7A1A667A534BC3237
A28: PVC피스고정형 점자블록 | B28: 300x300xT8, 점형 선형 | C28: EA | D28: 1 | E28: =단가대비표!O28 -> 12000 | F28: =TRUNC(E28*D28,1) -> 12000 | G28: =단가대비표!P28 -> 0 | H28: =TRUNC(G28*D28,1) -> 0 | I28: =단가대비표!V28 -> 0 | J28: =TRUNC(I28*D28,1) -> 0 | K28: =TRUNC(E28+G28+I28,1) -> 12000 | L28: =TRUNC(F28+H28+J28,1) -> 12000 | N28: 5FDBB45C18DA0E745663B3F447A2C7 | O28: 58684423381E0B4A860FD554B1124CAF3895CF | P28: F | Q28: F | R28: T | AW28: 5FDBB45C18DA0E745663B3F447A2C758684423381E0B4A860FD554B1124CAF3895CF
A29: [ 합 계 ] | F29: =TRUNC(SUMIF(N26:N28, N25, F26:F28),0) -> 12007 | H29: =TRUNC(SUMIF(N26:N28, N25, H26:H28),0) -> 3725 | J29: =TRUNC(SUMIF(N26:N28, N25, J26:J28),0) -> 0 | L29: =F29+H29+J29 -> 15732 | N29: TOTAL | O29: TOTAL
A31: 점자블록(블록형, 고강도) 300x300xT60, 선형 EA ( 호표 5 ) | N31: 5FDBB45C18DA0E745663B3F447D29B
A32: 터파기/사질토 | B32: 보통, 굴착기 0.4m3 | C32: M3 | D32: 0.029 | E32: =단가산출목록!E6 -> 534 | F32: =TRUNC(E32*D32,1) -> 15.4 | G32: =단가산출목록!F6 -> 1450 | H32: =TRUNC(G32*D32,1) -> 42 | I32: =단가산출목록!G6 -> 430 | J32: =TRUNC(I32*D32,1) -> 12.4 | K32: =TRUNC(E32+G32+I32,1) -> 2414 | L32: =TRUNC(F32+H32+J32,1) -> 69.8 | M32: 산근 3 | N32: 5FDBB45C18DA0E745663B3F447D29B | O32: 5FDBB452180788EDD60D46A4456299 | P32: F | Q32: T | R32: F | AW32: 5FDBB45C18DA0E745663B3F447D29B5FDBB452180788EDD60D46A4456299
A33: 현장내 잔토처리/토사 | B33: 보통, 굴착기 0.4m3+인력 10% | C33: M3 | D33: 0.029 | E33: =단가산출목록!E7 -> 352 | F33: =TRUNC(E33*D33,1) -> 10.2 | G33: =단가산출목록!F7 -> 4399 | H33: =TRUNC(G33*D33,1) -> 127.5 | I33: =단가산출목록!G7 -> 284 | J33: =TRUNC(I33*D33,1) -> 8.2 | K33: =TRUNC(E33+G33+I33,1) -> 5035 | L33: =TRUNC(F33+H33+J33,1) -> 145.9 | M33: 산근 4 | N33: 5FDBB45C18DA0E745663B3F447D29B | O33: 5FDBB452186815A31646B35415026F | P33: F | Q33: T | R33: F | AW33: 5FDBB45C18DA0E745663B3F447D29B5FDBB452186815A31646B35415026F
A34: 기초 지정 | B34: 잡석지정 | C34: M3 | D34: 0.018 | E34: =일위대가목록!E15 -> 1367 | F34: =TRUNC(E34*D34,1) -> 24.6 | G34: =일위대가목록!F15 -> 10966 | H34: =TRUNC(G34*D34,1) -> 197.3 | I34: =일위대가목록!G15 -> 1409 | J34: =TRUNC(I34*D34,1) -> 25.3 | K34: =TRUNC(E34+G34+I34,1) -> 13742 | L34: =TRUNC(F34+H34+J34,1) -> 247.2 | M34: 호표 12 | N34: 5FDBB45C18DA0E745663B3F447D29B | O34: 5FDBB45EC8495E8606B685F4415218 | P34: T | Q34: F | R34: F | AW34: 5FDBB45C18DA0E745663B3F447D29B5FDBB45EC8495E8606B685F4415218
A35: 혼합골재 | B35: 40㎜이하 보조기층 | C35: M3 | D35: 0.019 | E35: =단가대비표!O21 -> 26000 | F35: =TRUNC(E35*D35,1) -> 494 | G35: =단가대비표!P21 -> 0 | H35: =TRUNC(G35*D35,1) -> 0 | I35: =단가대비표!V21 -> 0 | J35: =TRUNC(I35*D35,1) -> 0 | K35: =TRUNC(E35+G35+I35,1) -> 26000 | L35: =TRUNC(F35+H35+J35,1) -> 494 | N35: 5FDBB45C18DA0E745663B3F447D29B | O35: 5868543158311F51068F43B488D29BE80841DD | P35: F | Q35: F | R35: T | AW35: 5FDBB45C18DA0E745663B3F447D29B5868543158311F51068F43B488D29BE80841DD
A36: 기초 지정 | B36: 모래지정 | C36: M3 | D36: 0.005 | E36: =일위대가목록!E16 -> 951 | F36: =TRUNC(E36*D36,1) -> 4.7 | G36: =일위대가목록!F16 -> 8983 | H36: =TRUNC(G36*D36,1) -> 44.9 | I36: =일위대가목록!G16 -> 1053 | J36: =TRUNC(I36*D36,1) -> 5.2 | K36: =TRUNC(E36+G36+I36,1) -> 10987 | L36: =TRUNC(F36+H36+J36,1) -> 54.8 | M36: 호표 13 | N36: 5FDBB45C18DA0E745663B3F447D29B | O36: 5FDBB45EC8495E8606B685F44172C6 | P36: T | Q36: F | R36: F | AW36: 5FDBB45C18DA0E745663B3F447D29B5FDBB45EC8495E8606B685F44172C6
A37: 모래 | B37: 강모래 | C37: M3 | D37: 0.006 | E37: =단가대비표!O20 -> 37000 | F37: =TRUNC(E37*D37,1) -> 222 | G37: =단가대비표!P20 -> 0 | H37: =TRUNC(G37*D37,1) -> 0 | I37: =단가대비표!V20 -> 0 | J37: =TRUNC(I37*D37,1) -> 0 | K37: =TRUNC(E37+G37+I37,1) -> 37000 | L37: =TRUNC(F37+H37+J37,1) -> 222 | N37: 5FDBB45C18DA0E745663B3F447D29B | O37: 5868543158311F51068F43B488D29BE8084765 | P37: F | Q37: F | R37: T | AW37: 5FDBB45C18DA0E745663B3F447D29B5868543158311F51068F43B488D29BE8084765
A38: 보도용 유도,점자블록 설치(소형) / B-TYPE | B38: 0 .1㎡이하, 두께 8cm | C38: M2 | D38: 0.09 | E38: =단가산출목록!E9 -> 1119 | F38: =TRUNC(E38*D38,1) -> 100.7 | G38: =단가산출목록!F9 -> 9981 | H38: =TRUNC(G38*D38,1) -> 898.2 | I38: =단가산출목록!G9 -> 958 | J38: =TRUNC(I38*D38,1) -> 86.2 | K38: =TRUNC(E38+G38+I38,1) -> 12058 | L38: =TRUNC(F38+H38+J38,1) -> 1085.1 | M38: 산근 6 | N38: 5FDBB45C18DA0E745663B3F447D29B | O38: 5FDB34A6F8DA6B3F166920C4F6D2AE | P38: F | Q38: T | R38: F | AW38: 5FDBB45C18DA0E745663B3F447D29B5FDB34A6F8DA6B3F166920C4F6D2AE
A39: 고강도선형블록 | B39: 300x300xT60, 점형 선형 | C39: EA | D39: 1.03 | E39: =단가대비표!O27 -> 7000 | F39: =TRUNC(E39*D39,1) -> 7210 | G39: =단가대비표!P27 -> 0 | H39: =TRUNC(G39*D39,1) -> 0 | I39: =단가대비표!V27 -> 0 | J39: =TRUNC(I39*D39,1) -> 0 | K39: =TRUNC(E39+G39+I39,1) -> 7000 | L39: =TRUNC(F39+H39+J39,1) -> 7210 | N39: 5FDBB45C18DA0E745663B3F447D29B | O39: 58684423381E0B4A860FD554B1124CAF389B58 | P39: F | Q39: F | R39: T | AW39: 5FDBB45C18DA0E745663B3F447D29B58684423381E0B4A860FD554B1124CAF389B58
A40: [ 합 계 ] | F40: =TRUNC(SUMIF(N32:N39, N31, F32:F39),0) -> 8081 | H40: =TRUNC(SUMIF(N32:N39, N31, H32:H39),0) -> 1309 | J40: =TRUNC(SUMIF(N32:N39, N31, J32:J39),0) -> 137 | L40: =F40+H40+J40 -> 9527 | N40: TOTAL | O40: TOTAL
A42: 점자블록(블록형, 고강도) 300x300xT60, 점형 EA ( 호표 6 ) | N42: 5FDBB45C18DA0E745663B3F447C2F4
A43: 터파기/사질토 | B43: 보통, 굴착기 0.4m3 | C43: M3 | D43: 0.029 | E43: =단가산출목록!E6 -> 534 | F43: =TRUNC(E43*D43,1) -> 15.4 | G43: =단가산출목록!F6 -> 1450 | H43: =TRUNC(G43*D43,1) -> 42 | I43: =단가산출목록!G6 -> 430 | J43: =TRUNC(I43*D43,1) -> 12.4 | K43: =TRUNC(E43+G43+I43,1) -> 2414 | L43: =TRUNC(F43+H43+J43,1) -> 69.8 | M43: 산근 3 | N43: 5FDBB45C18DA0E745663B3F447C2F4 | O43: 5FDBB452180788EDD60D46A4456299 | P43: F | Q43: T | R43: F | AW43: 5FDBB45C18DA0E745663B3F447C2F45FDBB452180788EDD60D46A4456299
A44: 현장내 잔토처리/토사 | B44: 보통, 굴착기 0.4m3+인력 10% | C44: M3 | D44: 0.029 | E44: =단가산출목록!E7 -> 352 | F44: =TRUNC(E44*D44,1) -> 10.2 | G44: =단가산출목록!F7 -> 4399 | H44: =TRUNC(G44*D44,1) -> 127.5 | I44: =단가산출목록!G7 -> 284 | J44: =TRUNC(I44*D44,1) -> 8.2 | K44: =TRUNC(E44+G44+I44,1) -> 5035 | L44: =TRUNC(F44+H44+J44,1) -> 145.9 | M44: 산근 4 | N44: 5FDBB45C18DA0E745663B3F447C2F4 | O44: 5FDBB452186815A31646B35415026F | P44: F | Q44: T | R44: F | AW44: 5FDBB45C18DA0E745663B3F447C2F45FDBB452186815A31646B35415026F
A45: 기초 지정 | B45: 잡석지정 | C45: M3 | D45: 0.018 | E45: =일위대가목록!E15 -> 1367 | F45: =TRUNC(E45*D45,1) -> 24.6 | G45: =일위대가목록!F15 -> 10966 | H45: =TRUNC(G45*D45,1) -> 197.3 | I45: =일위대가목록!G15 -> 1409 | J45: =TRUNC(I45*D45,1) -> 25.3 | K45: =TRUNC(E45+G45+I45,1) -> 13742 | L45: =TRUNC(F45+H45+J45,1) -> 247.2 | M45: 호표 12 | N45: 5FDBB45C18DA0E745663B3F447C2F4 | O45: 5FDBB45EC8495E8606B685F4415218 | P45: T | Q45: F | R45: F | AW45: 5FDBB45C18DA0E745663B3F447C2F45FDBB45EC8495E8606B685F4415218
A46: 혼합골재 | B46: 40㎜이하 보조기층 | C46: M3 | D46: 0.019 | E46: =단가대비표!O21 -> 26000 | F46: =TRUNC(E46*D46,1) -> 494 | G46: =단가대비표!P21 -> 0 | H46: =TRUNC(G46*D46,1) -> 0 | I46: =단가대비표!V21 -> 0 | J46: =TRUNC(I46*D46,1) -> 0 | K46: =TRUNC(E46+G46+I46,1) -> 26000 | L46: =TRUNC(F46+H46+J46,1) -> 494 | N46: 5FDBB45C18DA0E745663B3F447C2F4 | O46: 5868543158311F51068F43B488D29BE80841DD | P46: F | Q46: F | R46: T | AW46: 5FDBB45C18DA0E745663B3F447C2F45868543158311F51068F43B488D29BE80841DD
A47: 기초 지정 | B47: 모래지정 | C47: M3 | D47: 0.005 | E47: =일위대가목록!E16 -> 951 | F47: =TRUNC(E47*D47,1) -> 4.7 | G47: =일위대가목록!F16 -> 8983 | H47: =TRUNC(G47*D47,1) -> 44.9 | I47: =일위대가목록!G16 -> 1053 | J47: =TRUNC(I47*D47,1) -> 5.2 | K47: =TRUNC(E47+G47+I47,1) -> 10987 | L47: =TRUNC(F47+H47+J47,1) -> 54.8 | M47: 호표 13 | N47: 5FDBB45C18DA0E745663B3F447C2F4 | O47: 5FDBB45EC8495E8606B685F44172C6 | P47: T | Q47: F | R47: F | AW47: 5FDBB45C18DA0E745663B3F447C2F45FDBB45EC8495E8606B685F44172C6
A48: 모래 | B48: 강모래 | C48: M3 | D48: 0.006 | E48: =단가대비표!O20 -> 37000 | F48: =TRUNC(E48*D48,1) -> 222 | G48: =단가대비표!P20 -> 0 | H48: =TRUNC(G48*D48,1) -> 0 | I48: =단가대비표!V20 -> 0 | J48: =TRUNC(I48*D48,1) -> 0 | K48: =TRUNC(E48+G48+I48,1) -> 37000 | L48: =TRUNC(F48+H48+J48,1) -> 222 | N48: 5FDBB45C18DA0E745663B3F447C2F4 | O48: 5868543158311F51068F43B488D29BE8084765 | P48: F | Q48: F | R48: T | AW48: 5FDBB45C18DA0E745663B3F447C2F45868543158311F51068F43B488D29BE8084765
A49: 보도용 유도,점자블록 설치(소형) / B-TYPE | B49: 0 .1㎡이하, 두께 8cm | C49: M2 | D49: 0.09 | E49: =단가산출목록!E9 -> 1119 | F49: =TRUNC(E49*D49,1) -> 100.7 | G49: =단가산출목록!F9 -> 9981 | H49: =TRUNC(G49*D49,1) -> 898.2 | I49: =단가산출목록!G9 -> 958 | J49: =TRUNC(I49*D49,1) -> 86.2 | K49: =TRUNC(E49+G49+I49,1) -> 12058 | L49: =TRUNC(F49+H49+J49,1) -> 1085.1 | M49: 산근 6 | N49: 5FDBB45C18DA0E745663B3F447C2F4 | O49: 5FDB34A6F8DA6B3F166920C4F6D2AE | P49: F | Q49: T | R49: F | AW49: 5FDBB45C18DA0E745663B3F447C2F45FDB34A6F8DA6B3F166920C4F6D2AE
A50: 고강도선형블록 | B50: 300x300xT60, 점형 선형 | C50: EA | D50: 1.03 | E50: =단가대비표!O27 -> 7000 | F50: =TRUNC(E50*D50,1) -> 7210 | G50: =단가대비표!P27 -> 0 | H50: =TRUNC(G50*D50,1) -> 0 | I50: =단가대비표!V27 -> 0 | J50: =TRUNC(I50*D50,1) -> 0 | K50: =TRUNC(E50+G50+I50,1) -> 7000 | L50: =TRUNC(F50+H50+J50,1) -> 7210 | N50: 5FDBB45C18DA0E745663B3F447C2F4 | O50: 58684423381E0B4A860FD554B1124CAF389B58 | P50: F | Q50: F | R50: T | AW50: 5FDBB45C18DA0E745663B3F447C2F458684423381E0B4A860FD554B1124CAF389B58
A51: [ 합 계 ] | F51: =TRUNC(SUMIF(N43:N50, N42, F43:F50),0) -> 8081 | H51: =TRUNC(SUMIF(N43:N50, N42, H43:H50),0) -> 1309 | J51: =TRUNC(SUMIF(N43:N50, N42, J43:J50),0) -> 137 | L51: =F51+H51+J51 -> 9527 | N51: TOTAL | O51: TOTAL
A53: 포장구분경계석 150x150x1000 M ( 호표 7 ) | N53: 5FDBB45C18DA0E745663B3F47CC217
A54: 터파기/사질토 | B54: 보통, 굴착기 0.4m3 | C54: M3 | D54: 0.113 | E54: =단가산출목록!E6 -> 534 | F54: =TRUNC(E54*D54,1) -> 60.3 | G54: =단가산출목록!F6 -> 1450 | H54: =TRUNC(G54*D54,1) -> 163.8 | I54: =단가산출목록!G6 -> 430 | J54: =TRUNC(I54*D54,1) -> 48.5 | K54: =TRUNC(E54+G54+I54,1) -> 2414 | L54: =TRUNC(F54+H54+J54,1) -> 272.6 | M54: 산근 3 | N54: 5FDBB45C18DA0E745663B3F47CC217 | O54: 5FDBB452180788EDD60D46A4456299 | P54: F | Q54: T | R54: F | AW54: 5FDBB45C18DA0E745663B3F47CC2175FDBB452180788EDD60D46A4456299
A55: 현장내 잔토처리/토사 | B55: 보통, 굴착기 0.4m3+인력 10% | C55: M3 | D55: 0.053 | E55: =단가산출목록!E7 -> 352 | F55: =TRUNC(E55*D55,1) -> 18.6 | G55: =단가산출목록!F7 -> 4399 | H55: =TRUNC(G55*D55,1) -> 233.1 | I55: =단가산출목록!G7 -> 284 | J55: =TRUNC(I55*D55,1) -> 15 | K55: =TRUNC(E55+G55+I55,1) -> 5035 | L55: =TRUNC(F55+H55+J55,1) -> 266.7 | M55: 산근 4 | N55: 5FDBB45C18DA0E745663B3F47CC217 | O55: 5FDBB452186815A31646B35415026F | P55: F | Q55: T | R55: F | AW55: 5FDBB45C18DA0E745663B3F47CC2175FDBB452186815A31646B35415026F
A56: 되메우기/사질토 | B56: 보통, 굴착기 0.4m3 | C56: M3 | D56: 0.06 | E56: =단가산출목록!E10 -> 350 | F56: =TRUNC(E56*D56,1) -> 21 | G56: =단가산출목록!F10 -> 952 | H56: =TRUNC(G56*D56,1) -> 57.1 | I56: =단가산출목록!G10 -> 282 | J56: =TRUNC(I56*D56,1) -> 16.9 | K56: =TRUNC(E56+G56+I56,1) -> 1584 | L56: =TRUNC(F56+H56+J56,1) -> 95 | M56: 산근 7 | N56: 5FDBB45C18DA0E745663B3F47CC217 | O56: 5FDBB45FE88EAE2EA66B3B746DD2F9 | P56: F | Q56: T | R56: F | AW56: 5FDBB45C18DA0E745663B3F47CC2175FDBB45FE88EAE2EA66B3B746DD2F9
A57: 합판거푸집 설치 및 해체 | B57: 간단 6회, 수직고 7m까지 | C57: M2 | D57: 0.3 | E57: =일위대가목록!E22 -> 12604 | F57: =TRUNC(E57*D57,1) -> 3781.2 | G57: =일위대가목록!F22 -> 34461 | H57: =TRUNC(G57*D57,1) -> 10338.3 | I57: =일위대가목록!G22 -> 344 | J57: =TRUNC(I57*D57,1) -> 103.2 | K57: =TRUNC(E57+G57+I57,1) -> 47409 | L57: =TRUNC(F57+H57+J57,1) -> 14222.7 | M57: 호표 19 | N57: 5FDBB45C18DA0E745663B3F47CC217 | O57: 5FF894CA687A59E7F685A0749B32CC | P57: T | Q57: F | R57: F | AW57: 5FDBB45C18DA0E745663B3F47CC2175FF894CA687A59E7F685A0749B32CC
A58: 레디믹스트콘크리트 인력운반 타설 | B58: 무근구조물 | C58: M3 | D58: 0.03 | E58: =일위대가목록!E23 -> 0 | F58: =TRUNC(E58*D58,1) -> 0 | G58: =일위대가목록!F23 -> 57929 | H58: =TRUNC(G58*D58,1) -> 1737.8 | I58: =일위대가목록!G23 -> 1158 | J58: =TRUNC(I58*D58,1) -> 34.7 | K58: =TRUNC(E58+G58+I58,1) -> 59087 | L58: =TRUNC(F58+H58+J58,1) -> 1772.5 | M58: 호표 20 | N58: 5FDBB45C18DA0E745663B3F47CC217 | O58: 5FF894CD38B041F2467E5564AD821E | P58: T | Q58: F | R58: F | AW58: 5FDBB45C18DA0E745663B3F47CC2175FF894CD38B041F2467E5564AD821E
A59: 레미콘 | B59: 25-18-8 | C59: M3 | D59: 0.031 | E59: =단가대비표!O19 -> 87980 | F59: =TRUNC(E59*D59,1) -> 2727.3 | G59: =단가대비표!P19 -> 0 | H59: =TRUNC(G59*D59,1) -> 0 | I59: =단가대비표!V19 -> 0 | J59: =TRUNC(I59*D59,1) -> 0 | K59: =TRUNC(E59+G59+I59,1) -> 87980 | L59: =TRUNC(F59+H59+J59,1) -> 2727.3 | N59: 5FDBB45C18DA0E745663B3F47CC217 | O59: 5868543158311F51068F43B488D29BE80845B8 | P59: F | Q59: F | R59: T | AW59: 5FDBB45C18DA0E745663B3F47CC2175868543158311F51068F43B488D29BE80845B8
A60: 보차도 및 도로경계블록 설치 / A-TYPE | B60: 15*15*15*100cm, 직선구간 / 350미만 적용 | C60: M | D60: 1 | E60: =단가산출목록!E11 -> 1199 | F60: =TRUNC(E60*D60,1) -> 1199 | G60: =단가산출목록!F11 -> 9121 | H60: =TRUNC(G60*D60,1) -> 9121 | I60: =단가산출목록!G11 -> 1083 | J60: =TRUNC(I60*D60,1) -> 1083 | K60: =TRUNC(E60+G60+I60,1) -> 11403 | L60: =TRUNC(F60+H60+J60,1) -> 11403 | M60: 산근 8 | N60: 5FDBB45C18DA0E745663B3F47CC217 | O60: 5FDB34A798861A8B260844D4CC1256 | P60: F | Q60: T | R60: F | AW60: 5FDBB45C18DA0E745663B3F47CC2175FDB34A798861A8B260844D4CC1256
A61: [ 합 계 ] | F61: =TRUNC(SUMIF(N54:N60, N53, F54:F60),0) -> 7807 | H61: =TRUNC(SUMIF(N54:N60, N53, H54:H60),0) -> 21651 | J61: =TRUNC(SUMIF(N54:N60, N53, J54:J60),0) -> 1301 | L61: =F61+H61+J61 -> 30759 | N61: TOTAL | O61: TOTAL
A63: 데크안전목 100x100, 방부목(노란색 도색) M ( 호표 8 ) | N63: 5FDBB45C18DA0E745663B3F46262F5
A64: 미송방부목(H3등급) | B64: 3600x90x90이상 | C64: M3 | D64: 0.011 | E64: =단가대비표!O17 -> 2163000 | F64: =TRUNC(E64*D64,1) -> 23793 | G64: =단가대비표!P17 -> 0 | H64: =TRUNC(G64*D64,1) -> 0 | I64: =단가대비표!V17 -> 0 | J64: =TRUNC(I64*D64,1) -> 0 | K64: =TRUNC(E64+G64+I64,1) -> 2163000 | L64: =TRUNC(F64+H64+J64,1) -> 23793 | N64: 5FDBB45C18DA0E745663B3F46262F5 | O64: 586854315820A821361FAA940782108A45336B2F | P64: F | Q64: F | R64: T | AW64: 5FDBB45C18DA0E745663B3F46262F5586854315820A821361FAA940782108A45336B2F
A65: 목구조체 설치 | B65: 간단구조 | C65: M3 | D65: 0.01 | E65: =일위대가목록!E26 -> 0 | F65: =TRUNC(E65*D65,1) -> 0 | G65: =일위대가목록!F26 -> 915052 | H65: =TRUNC(G65*D65,1) -> 9150.5 | I65: =일위대가목록!G26 -> 0 | J65: =TRUNC(I65*D65,1) -> 0 | K65: =TRUNC(E65+G65+I65,1) -> 915052 | L65: =TRUNC(F65+H65+J65,1) -> 9150.5 | M65: 호표 23 | N65: 5FDBB45C18DA0E745663B3F46262F5 | O65: 5FDBB45C180D9671D6C85EA4DC22B8 | P65: T | Q65: F | R65: F | AW65: 5FDBB45C18DA0E745663B3F46262F55FDBB45C180D9671D6C85EA4DC22B8
A66: 유성페인트 붓칠(노랑색) | B66: 목재면 2회 노무비 | C66: M2 | D66: 0.4 | E66: =일위대가목록!E27 -> 3336 | F66: =TRUNC(E66*D66,1) -> 1334.4 | G66: =일위대가목록!F27 -> 14001 | H66: =TRUNC(G66*D66,1) -> 5600.4 | I66: =일위대가목록!G27 -> 0 | J66: =TRUNC(I66*D66,1) -> 0 | K66: =TRUNC(E66+G66+I66,1) -> 17337 | L66: =TRUNC(F66+H66+J66,1) -> 6934.8 | M66: 호표 24 | N66: 5FDBB45C18DA0E745663B3F46262F5 | O66: 5FF8346008DE029606C129B47902A7 | P66: T | Q66: F | R66: F | AW66: 5FDBB45C18DA0E745663B3F46262F55FF8346008DE029606C129B47902A7
A67: 십자접시스크류볼트 | B67: #14xL150, SUS | C67: EA | D67: 2.1 | E67: =단가대비표!O18 -> 420 | F67: =TRUNC(E67*D67,1) -> 882 | G67: =단가대비표!P18 -> 0 | H67: =TRUNC(G67*D67,1) -> 0 | I67: =단가대비표!V18 -> 0 | J67: =TRUNC(I67*D67,1) -> 0 | K67: =TRUNC(E67+G67+I67,1) -> 420 | L67: =TRUNC(F67+H67+J67,1) -> 882 | N67: 5FDBB45C18DA0E745663B3F46262F5 | O67: 586854315820A821361FAA940782108A45336A0D | P67: F | Q67: F | R67: T | AW67: 5FDBB45C18DA0E745663B3F46262F5586854315820A821361FAA940782108A45336A0D
A68: [ 합 계 ] | F68: =TRUNC(SUMIF(N64:N67, N63, F64:F67),0) -> 26009 | H68: =TRUNC(SUMIF(N64:N67, N63, H64:H67),0) -> 14750 | J68: =TRUNC(SUMIF(N64:N67, N63, J64:J67),0) -> 0 | L68: =F68+H68+J68 -> 40759 | N68: TOTAL | O68: TOTAL
A70: 대형 브레이커 0.4㎥용 HR 공통 8-3(0230) ( 호표 9 ) | N70: 58EC34C7E84CAC36E601FEB4B9028CD89019BCFA
A71: 대형 브레이커 | B71: 0.4㎥용 | C71: 대 | D71: 0.6601 | E71: =단가대비표!O7 -> 0 | F71: =TRUNC(E71*D71,1) -> 0 | G71: =단가대비표!P7 -> 0 | H71: =TRUNC(G71*D71,1) -> 0 | I71: =단가대비표!V7 -> 8352 | J71: =TRUNC(I71*D71,1) -> 5513.1 | K71: =TRUNC(E71+G71+I71,1) -> 8352 | L71: =TRUNC(F71+H71+J71,1) -> 5513.1 | M71: 천원 | N71: 58EC34C7E84CAC36E601FEB4B9028CD89019BCFA | O71: 58EC34C7E84CAC36E601FEB4B9028CD89019BC | P71: F | Q71: F | R71: T | AW71: 58EC34C7E84CAC36E601FEB4B9028CD89019BCFA58EC34C7E84CAC36E601FEB4B9028CD89019BC
A72: [ 합 계 ] | F72: =TRUNC(SUMIF(N71:N71, N70, F71:F71),0) -> 0 | H72: =TRUNC(SUMIF(N71:N71, N70, H71:H71),0) -> 0 | J72: =TRUNC(SUMIF(N71:N71, N70, J71:J71),0) -> 5513 | L72: =F72+H72+J72 -> 5513 | N72: TOTAL | O72: TOTAL
A74: 굴착기(무한궤도) 0.4㎥ HR 공통 8-3,4(0201) ( 호표 10 ) | N74: 58EC34C7E84CAC36D67B3304E81254B086D295D7
A75: 굴착기(무한궤도) | B75: 0.4㎥ | C75: 대 | D75: 0.2085 | E75: =단가대비표!O6 -> 0 | F75: =TRUNC(E75*D75,1) -> 0 | G75: =단가대비표!P6 -> 0 | H75: =TRUNC(G75*D75,1) -> 0 | I75: =단가대비표!V6 -> 84000 | J75: =TRUNC(I75*D75,1) -> 17514 | K75: =TRUNC(E75+G75+I75,1) -> 84000 | L75: =TRUNC(F75+H75+J75,1) -> 17514 | M75: 천원 | N75: 58EC34C7E84CAC36D67B3304E81254B086D295D7 | O75: 58EC34C7E84CAC36D67B3304E81254B086D295 | P75: F | Q75: F | R75: T | AW75: 58EC34C7E84CAC36D67B3304E81254B086D295D758EC34C7E84CAC36D67B3304E81254B086D295
A76: 경유 | B76: 경유, 저유황 | C76: L | D76: 9.9 | E76: =단가대비표!O12 -> 1800 | F76: =TRUNC(E76*D76,1) -> 17820 | G76: =단가대비표!P12 -> 0 | H76: =TRUNC(G76*D76,1) -> 0 | I76: =단가대비표!V12 -> 0 | J76: =TRUNC(I76*D76,1) -> 0 | K76: =TRUNC(E76+G76+I76,1) -> 1800 | L76: =TRUNC(F76+H76+J76,1) -> 17820 | N76: 58EC34C7E84CAC36D67B3304E81254B086D295D7 | O76: 58FEC49FC814CB8BA688CAC4C442200AC2510A | P76: F | Q76: F | R76: T | V76: 1 | AW76: 58EC34C7E84CAC36D67B3304E81254B086D295D758FEC49FC814CB8BA688CAC4C442200AC2510A
A77: 잡재료 | B77: 주연료비의 22% | C77: 식 | D77: 1 | E77: =TRUNC(SUMIF(V75:V78, RIGHTB(O77, 1), F75:F78)*U77, 2) -> 3920.4 | F77: =TRUNC(E77*D77,1) -> 3920.4 | G77: 0 | H77: =TRUNC(G77*D77,1) -> 0 | I77: 0 | J77: =TRUNC(I77*D77,1) -> 0 | K77: =TRUNC(E77+G77+I77,1) -> 3920.4 | L77: =TRUNC(F77+H77+J77,1) -> 3920.4 | N77: 58EC34C7E84CAC36D67B3304E81254B086D295D7 | O77: 5EE2A453A8DAB046E61DE274AF62001 | P77: F | Q77: F | R77: F | S77: 0 | T77: 0 | U77: 0.22 | AW77: 58EC34C7E84CAC36D67B3304E81254B086D295D75EE2A453A8DAB046E61DE274AF62001
A78: 건설기계운전사 | B78: 일반공사 직종 | C78: 인 | D78: 1 | E78: =TRUNC(단가대비표!O37*1/8*16/12*25/20, 1) -> 0 | F78: =TRUNC(E78*D78,1) -> 0 | G78: =TRUNC(단가대비표!P37*1/8*16/12*25/20, 1) -> 59020.2 | H78: =TRUNC(G78*D78,1) -> 59020.2 | I78: =TRUNC(단가대비표!V37*1/8*16/12*25/20, 1) -> 0 | J78: =TRUNC(I78*D78,1) -> 0 | K78: =TRUNC(E78+G78+I78,1) -> 59020.2 | L78: =TRUNC(F78+H78+J78,1) -> 59020.2 | N78: 58EC34C7E84CAC36D67B3304E81254B086D295D7 | O78: 5F2254B8D8AD6B3C46D6089442B25D35C57DF3 | P78: F | Q78: F | R78: T | AW78: 58EC34C7E84CAC36D67B3304E81254B086D295D75F2254B8D8AD6B3C46D6089442B25D35C57DF3 | AX78: T
A79: [ 합 계 ] | F79: =TRUNC(SUMIF(N75:N78, N74, F75:F78),0) -> 21740 | H79: =TRUNC(SUMIF(N75:N78, N74, H75:H78),0) -> 59020 | J79: =TRUNC(SUMIF(N75:N78, N74, J75:J78),0) -> 17514 | L79: =F79+H79+J79 -> 98274 | N79: TOTAL | O79: TOTAL
A81: 대형 브레이커용 치즐 소모량 0.4㎥용, 구조물 헐기 HR 토목 8-2-15.2(라) ( 호표 11 ) | N81: 58EC34C7E84CAC36E600D8B483828CEF3DE90C27
A82: 대형 브레이커용 치즐 | B82: 0.4㎥용 | C82: 본 | D82: 0.008 | E82: =단가대비표!O8 -> 0 | F82: =TRUNC(E82*D82,1) -> 0 | G82: =단가대비표!P8 -> 0 | H82: =TRUNC(G82*D82,1) -> 0 | I82: =단가대비표!V8 -> 204000 | J82: =TRUNC(I82*D82,1) -> 1632 | K82: =TRUNC(E82+G82+I82,1) -> 204000 | L82: =TRUNC(F82+H82+J82,1) -> 1632 | N82: 58EC34C7E84CAC36E600D8B483828CEF3DE90C27 | O82: 58EC34C7E84CAC36E600D8B483828CEF3DE90C | P82: F | Q82: F | R82: T | AW82: 58EC34C7E84CAC36E600D8B483828CEF3DE90C2758EC34C7E84CAC36E600D8B483828CEF3DE90C
A83: [ 합 계 ] | F83: =TRUNC(SUMIF(N82:N82, N81, F82:F82),0) -> 0 | H83: =TRUNC(SUMIF(N82:N82, N81, H82:H82),0) -> 0 | J83: =TRUNC(SUMIF(N82:N82, N81, J82:J82),0) -> 1632 | L83: =F83+H83+J83 -> 1632 | N83: TOTAL | O83: TOTAL
A85: 기초 지정 잡석지정 M3 공통 3-4-8 ( 호표 12 ) | N85: 5FDBB45EC8495E8606B685F4415218
A86: 특별인부 | B86: 일반공사 직종 | C86: 인 | D86: 0.011 | E86: =단가대비표!O30 -> 0 | F86: =TRUNC(E86*D86,1) -> 0 | G86: =단가대비표!P30 -> 226122 | H86: =TRUNC(G86*D86,1) -> 2487.3 | I86: =단가대비표!V30 -> 0 | J86: =TRUNC(I86*D86,1) -> 0 | K86: =TRUNC(E86+G86+I86,1) -> 226122 | L86: =TRUNC(F86+H86+J86,1) -> 2487.3 | N86: 5FDBB45EC8495E8606B685F4415218 | O86: 5F2254B8D8AD6B3C46D6089442B25D35C57903 | P86: F | Q86: F | R86: T | AW86: 5FDBB45EC8495E8606B685F44152185F2254B8D8AD6B3C46D6089442B25D35C57903
A87: 보통인부 | B87: 일반공사 직종 | C87: 인 | D87: 0.011 | E87: =단가대비표!O29 -> 0 | F87: =TRUNC(E87*D87,1) -> 0 | G87: =단가대비표!P29 -> 172068 | H87: =TRUNC(G87*D87,1) -> 1892.7 | I87: =단가대비표!V29 -> 0 | J87: =TRUNC(I87*D87,1) -> 0 | K87: =TRUNC(E87+G87+I87,1) -> 172068 | L87: =TRUNC(F87+H87+J87,1) -> 1892.7 | N87: 5FDBB45EC8495E8606B685F4415218 | O87: 5F2254B8D8AD6B3C46D6089442B25D35C57902 | P87: F | Q87: F | R87: T | V87: 1 | AW87: 5FDBB45EC8495E8606B685F44152185F2254B8D8AD6B3C46D6089442B25D35C57902
A88: 굴착기(무한궤도) | B88: 0.2㎥ | C88: HR | D88: 0.089 | E88: =일위대가목록!E17 -> 10890 | F88: =TRUNC(E88*D88,1) -> 969.2 | G88: =일위대가목록!F17 -> 59020 | H88: =TRUNC(G88*D88,1) -> 5252.7 | I88: =일위대가목록!G17 -> 13873 | J88: =TRUNC(I88*D88,1) -> 1234.6 | K88: =TRUNC(E88+G88+I88,1) -> 83783 | L88: =TRUNC(F88+H88+J88,1) -> 7456.5 | M88: 호표 14 | N88: 5FDBB45EC8495E8606B685F4415218 | O88: 58EC34C7E84CAC36D67B3304E872FD5354A328F0 | P88: T | Q88: F | R88: F | AW88: 5FDBB45EC8495E8606B685F441521858EC34C7E84CAC36D67B3304E872FD5354A328F0
A89: 진동롤러(핸드가이드식) | B89: 0.7ton | C89: HR | D89: 0.089 | E89: =일위대가목록!E18 -> 4474 | F89: =TRUNC(E89*D89,1) -> 398.1 | G89: =일위대가목록!F18 -> 36248 | H89: =TRUNC(G89*D89,1) -> 3226 | I89: =일위대가목록!G18 -> 1967 | J89: =TRUNC(I89*D89,1) -> 175 | K89: =TRUNC(E89+G89+I89,1) -> 42689 | L89: =TRUNC(F89+H89+J89,1) -> 3799.1 | M89: 호표 15 | N89: 5FDBB45EC8495E8606B685F4415218 | O89: 58EC34C7E84CBEB1D6A2E134CF2200F6B004EAAA | P89: T | Q89: F | R89: F | AW89: 5FDBB45EC8495E8606B685F441521858EC34C7E84CBEB1D6A2E134CF2200F6B004EAAA
A90: 진동롤러(핸드가이드식) 조정원 계산안함 | B90: 조정원의 100% | C90: 식 | D90: -1 | E90: 0 | F90: =TRUNC(E90*D90,1) -> 0 | G90: =TRUNC(SUMIF(V86:V90, RIGHTB(O90, 1), H86:H90)*U90, 2) -> 1892.7 | H90: =TRUNC(G90*D90,1) -> -1892.7 | I90: 0 | J90: =TRUNC(I90*D90,1) -> 0 | K90: =TRUNC(E90+G90+I90,1) -> 1892.7 | L90: =TRUNC(F90+H90+J90,1) -> -1892.7 | N90: 5FDBB45EC8495E8606B685F4415218 | O90: 5EE2A453A8DAB046E61DE274AF62001 | P90: F | Q90: F | R90: F | S90: 1 | T90: 1 | U90: 1 | AW90: 5FDBB45EC8495E8606B685F44152185EE2A453A8DAB046E61DE274AF62001
A91: [ 합 계 ] | F91: =TRUNC(SUMIF(N86:N90, N85, F86:F90),0) -> 1367 | H91: =TRUNC(SUMIF(N86:N90, N85, H86:H90),0) -> 10966 | J91: =TRUNC(SUMIF(N86:N90, N85, J86:J90),0) -> 1409 | L91: =F91+H91+J91 -> 13742 | N91: TOTAL | O91: TOTAL
A93: 기초 지정 모래지정 M3 공통 3-4-8 ( 호표 13 ) | N93: 5FDBB45EC8495E8606B685F44172C6
A94: 특별인부 | B94: 일반공사 직종 | C94: 인 | D94: 0.0091 | E94: =단가대비표!O30 -> 0 | F94: =TRUNC(E94*D94,1) -> 0 | G94: =단가대비표!P30 -> 226122 | H94: =TRUNC(G94*D94,1) -> 2057.7 | I94: =단가대비표!V30 -> 0 | J94: =TRUNC(I94*D94,1) -> 0 | K94: =TRUNC(E94+G94+I94,1) -> 226122 | L94: =TRUNC(F94+H94+J94,1) -> 2057.7 | N94: 5FDBB45EC8495E8606B685F44172C6 | O94: 5F2254B8D8AD6B3C46D6089442B25D35C57903 | P94: F | Q94: F | R94: T | AW94: 5FDBB45EC8495E8606B685F44172C65F2254B8D8AD6B3C46D6089442B25D35C57903
A95: 보통인부 | B95: 일반공사 직종 | C95: 인 | D95: 0.0091 | E95: =단가대비표!O29 -> 0 | F95: =TRUNC(E95*D95,1) -> 0 | G95: =단가대비표!P29 -> 172068 | H95: =TRUNC(G95*D95,1) -> 1565.8 | I95: =단가대비표!V29 -> 0 | J95: =TRUNC(I95*D95,1) -> 0 | K95: =TRUNC(E95+G95+I95,1) -> 172068 | L95: =TRUNC(F95+H95+J95,1) -> 1565.8 | N95: 5FDBB45EC8495E8606B685F44172C6 | O95: 5F2254B8D8AD6B3C46D6089442B25D35C57902 | P95: F | Q95: F | R95: T | V95: 1 | AW95: 5FDBB45EC8495E8606B685F44172C65F2254B8D8AD6B3C46D6089442B25D35C57902
A96: 굴착기(무한궤도) | B96: 0.2㎥ | C96: HR | D96: 0.0727 | E96: =일위대가목록!E17 -> 10890 | F96: =TRUNC(E96*D96,1) -> 791.7 | G96: =일위대가목록!F17 -> 59020 | H96: =TRUNC(G96*D96,1) -> 4290.7 | I96: =일위대가목록!G17 -> 13873 | J96: =TRUNC(I96*D96,1) -> 1008.5 | K96: =TRUNC(E96+G96+I96,1) -> 83783 | L96: =TRUNC(F96+H96+J96,1) -> 6090.9 | M96: 호표 14 | N96: 5FDBB45EC8495E8606B685F44172C6 | O96: 58EC34C7E84CAC36D67B3304E872FD5354A328F0 | P96: T | Q96: F | R96: F | AW96: 5FDBB45EC8495E8606B685F44172C658EC34C7E84CAC36D67B3304E872FD5354A328F0
A97: 플레이트 콤팩터 | B97: 1.5ton | C97: HR | D97: 0.0727 | E97: =일위대가목록!E19 -> 2192 | F97: =TRUNC(E97*D97,1) -> 159.3 | G97: =일위대가목록!F19 -> 36248 | H97: =TRUNC(G97*D97,1) -> 2635.2 | I97: =일위대가목록!G19 -> 620 | J97: =TRUNC(I97*D97,1) -> 45 | K97: =TRUNC(E97+G97+I97,1) -> 39060 | L97: =TRUNC(F97+H97+J97,1) -> 2839.5 | M97: 호표 16 | N97: 5FDBB45EC8495E8606B685F44172C6 | O97: 58EC34C7E84CBEFFB68BE204C0C29760CB49F549 | P97: T | Q97: F | R97: F | AW97: 5FDBB45EC8495E8606B685F44172C658EC34C7E84CBEFFB68BE204C0C29760CB49F549
A98: 플레이트 콤팩터 조정원 계산안함 | B98: 조정원의 100% | C98: 식 | D98: -1 | E98: 0 | F98: =TRUNC(E98*D98,1) -> 0 | G98: =TRUNC(SUMIF(V94:V98, RIGHTB(O98, 1), H94:H98)*U98, 2) -> 1565.8 | H98: =TRUNC(G98*D98,1) -> -1565.8 | I98: 0 | J98: =TRUNC(I98*D98,1) -> 0 | K98: =TRUNC(E98+G98+I98,1) -> 1565.8 | L98: =TRUNC(F98+H98+J98,1) -> -1565.8 | N98: 5FDBB45EC8495E8606B685F44172C6 | O98: 5EE2A453A8DAB046E61DE274AF62001 | P98: F | Q98: F | R98: F | S98: 1 | T98: 1 | U98: 1 | AW98: 5FDBB45EC8495E8606B685F44172C65EE2A453A8DAB046E61DE274AF62001
A99: [ 합 계 ] | F99: =TRUNC(SUMIF(N94:N98, N93, F94:F98),0) -> 951 | H99: =TRUNC(SUMIF(N94:N98, N93, H94:H98),0) -> 8983 | J99: =TRUNC(SUMIF(N94:N98, N93, J94:J98),0) -> 1053 | L99: =F99+H99+J99 -> 10987 | N99: TOTAL | O99: TOTAL
A101: 굴착기(무한궤도) 0.2㎥ HR 공통 8-3,4(0201) ( 호표 14 ) | N101: 58EC34C7E84CAC36D67B3304E872FD5354A328F0
A102: 굴착기(무한궤도) | B102: 0.2㎥ | C102: 대 | D102: 0.2085 | E102: =단가대비표!O5 -> 0 | F102: =TRUNC(E102*D102,1) -> 0 | G102: =단가대비표!P5 -> 0 | H102: =TRUNC(G102*D102,1) -> 0 | I102: =단가대비표!V5 -> 66538 | J102: =TRUNC(I102*D102,1) -> 13873.1 | K102: =TRUNC(E102+G102+I102,1) -> 66538 | L102: =TRUNC(F102+H102+J102,1) -> 13873.1 | M102: 천원 | N102: 58EC34C7E84CAC36D67B3304E872FD5354A328F0 | O102: 58EC34C7E84CAC36D67B3304E872FD5354A328 | P102: F | Q102: F | R102: T | AW102: 58EC34C7E84CAC36D67B3304E872FD5354A328F058EC34C7E84CAC36D67B3304E872FD5354A328
A103: 경유 | B103: 경유, 저유황 | C103: L | D103: 5 | E103: =단가대비표!O12 -> 1800 | F103: =TRUNC(E103*D103,1) -> 9000 | G103: =단가대비표!P12 -> 0 | H103: =TRUNC(G103*D103,1) -> 0 | I103: =단가대비표!V12 -> 0 | J103: =TRUNC(I103*D103,1) -> 0 | K103: =TRUNC(E103+G103+I103,1) -> 1800 | L103: =TRUNC(F103+H103+J103,1) -> 9000 | N103: 58EC34C7E84CAC36D67B3304E872FD5354A328F0 | O103: 58FEC49FC814CB8BA688CAC4C442200AC2510A | P103: F | Q103: F | R103: T | V103: 1 | AW103: 58EC34C7E84CAC36D67B3304E872FD5354A328F058FEC49FC814CB8BA688CAC4C442200AC2510A
A104: 잡재료 | B104: 주연료비의 21% | C104: 식 | D104: 1 | E104: =TRUNC(SUMIF(V102:V105, RIGHTB(O104, 1), F102:F105)*U104, 2) -> 1890 | F104: =TRUNC(E104*D104,1) -> 1890 | G104: 0 | H104: =TRUNC(G104*D104,1) -> 0 | I104: 0 | J104: =TRUNC(I104*D104,1) -> 0 | K104: =TRUNC(E104+G104+I104,1) -> 1890 | L104: =TRUNC(F104+H104+J104,1) -> 1890 | N104: 58EC34C7E84CAC36D67B3304E872FD5354A328F0 | O104: 5EE2A453A8DAB046E61DE274AF62001 | P104: F | Q104: F | R104: F | S104: 0 | T104: 0 | U104: 0.21 | AW104: 58EC34C7E84CAC36D67B3304E872FD5354A328F05EE2A453A8DAB046E61DE274AF62001
A105: 건설기계운전사 | B105: 일반공사 직종 | C105: 인 | D105: 1 | E105: =TRUNC(단가대비표!O37*1/8*16/12*25/20, 1) -> 0 | F105: =TRUNC(E105*D105,1) -> 0 | G105: =TRUNC(단가대비표!P37*1/8*16/12*25/20, 1) -> 59020.2 | H105: =TRUNC(G105*D105,1) -> 59020.2 | I105: =TRUNC(단가대비표!V37*1/8*16/12*25/20, 1) -> 0 | J105: =TRUNC(I105*D105,1) -> 0 | K105: =TRUNC(E105+G105+I105,1) -> 59020.2 | L105: =TRUNC(F105+H105+J105,1) -> 59020.2 | N105: 58EC34C7E84CAC36D67B3304E872FD5354A328F0 | O105: 5F2254B8D8AD6B3C46D6089442B25D35C57DF3 | P105: F | Q105: F | R105: T | AW105: 58EC34C7E84CAC36D67B3304E872FD5354A328F05F2254B8D8AD6B3C46D6089442B25D35C57DF3 | AX105: T
A106: [ 합 계 ] | F106: =TRUNC(SUMIF(N102:N105, N101, F102:F105),0) -> 10890 | H106: =TRUNC(SUMIF(N102:N105, N101, H102:H105),0) -> 59020 | J106: =TRUNC(SUMIF(N102:N105, N101, J102:J105),0) -> 13873 | L106: =F106+H106+J106 -> 83783 | N106: TOTAL | O106: TOTAL
A108: 진동롤러(핸드가이드식) 0.7ton HR 공통 8-3,4(1305) ( 호표 15 ) | N108: 58EC34C7E84CBEB1D6A2E134CF2200F6B004EAAA
A109: 진동롤러(핸드가이드식) | B109: 0.7ton | C109: 대 | D109: 0.2825 | E109: =단가대비표!O9 -> 0 | F109: =TRUNC(E109*D109,1) -> 0 | G109: =단가대비표!P9 -> 0 | H109: =TRUNC(G109*D109,1) -> 0 | I109: =단가대비표!V9 -> 6966 | J109: =TRUNC(I109*D109,1) -> 1967.8 | K109: =TRUNC(E109+G109+I109,1) -> 6966 | L109: =TRUNC(F109+H109+J109,1) -> 1967.8 | M109: 천원 | N109: 58EC34C7E84CBEB1D6A2E134CF2200F6B004EAAA | O109: 58EC34C7E84CBEB1D6A2E134CF2200F6B004EA | P109: F | Q109: F | R109: T | AW109: 58EC34C7E84CBEB1D6A2E134CF2200F6B004EAAA58EC34C7E84CBEB1D6A2E134CF2200F6B004EA
A110: 경유 | B110: 경유, 저유황 | C110: L | D110: 2.2 | E110: =단가대비표!O12 -> 1800 | F110: =TRUNC(E110*D110,1) -> 3960 | G110: =단가대비표!P12 -> 0 | H110: =TRUNC(G110*D110,1) -> 0 | I110: =단가대비표!V12 -> 0 | J110: =TRUNC(I110*D110,1) -> 0 | K110: =TRUNC(E110+G110+I110,1) -> 1800 | L110: =TRUNC(F110+H110+J110,1) -> 3960 | N110: 58EC34C7E84CBEB1D6A2E134CF2200F6B004EAAA | O110: 58FEC49FC814CB8BA688CAC4C442200AC2510A | P110: F | Q110: F | R110: T | V110: 1 | AW110: 58EC34C7E84CBEB1D6A2E134CF2200F6B004EAAA58FEC49FC814CB8BA688CAC4C442200AC2510A
A111: 잡재료 | B111: 주연료비의 13% | C111: 식 | D111: 1 | E111: =TRUNC(SUMIF(V109:V112, RIGHTB(O111, 1), F109:F112)*U111, 2) -> 514.8 | F111: =TRUNC(E111*D111,1) -> 514.8 | G111: 0 | H111: =TRUNC(G111*D111,1) -> 0 | I111: 0 | J111: =TRUNC(I111*D111,1) -> 0 | K111: =TRUNC(E111+G111+I111,1) -> 514.8 | L111: =TRUNC(F111+H111+J111,1) -> 514.8 | N111: 58EC34C7E84CBEB1D6A2E134CF2200F6B004EAAA | O111: 5EE2A453A8DAB046E61DE274AF62001 | P111: F | Q111: F | R111: F | S111: 0 | T111: 0 | U111: 0.13 | AW111: 58EC34C7E84CBEB1D6A2E134CF2200F6B004EAAA5EE2A453A8DAB046E61DE274AF62001
A112: 일반기계운전사 | B112: 일반공사 직종 | C112: 인 | D112: 1 | E112: =TRUNC(단가대비표!O38*1/8*16/12*25/20, 1) -> 0 | F112: =TRUNC(E112*D112,1) -> 0 | G112: =TRUNC(단가대비표!P38*1/8*16/12*25/20, 1) -> 36248.9 | H112: =TRUNC(G112*D112,1) -> 36248.9 | I112: =TRUNC(단가대비표!V38*1/8*16/12*25/20, 1) -> 0 | J112: =TRUNC(I112*D112,1) -> 0 | K112: =TRUNC(E112+G112+I112,1) -> 36248.9 | L112: =TRUNC(F112+H112+J112,1) -> 36248.9 | N112: 58EC34C7E84CBEB1D6A2E134CF2200F6B004EAAA | O112: 5F2254B8D8AD6B3C46D6089442B25D35C57CD4 | P112: F | Q112: F | R112: T | AW112: 58EC34C7E84CBEB1D6A2E134CF2200F6B004EAAA5F2254B8D8AD6B3C46D6089442B25D35C57CD4 | AX112: T
A113: [ 합 계 ] | F113: =TRUNC(SUMIF(N109:N112, N108, F109:F112),0) -> 4474 | H113: =TRUNC(SUMIF(N109:N112, N108, H109:H112),0) -> 36248 | J113: =TRUNC(SUMIF(N109:N112, N108, J109:J112),0) -> 1967 | L113: =F113+H113+J113 -> 42689 | N113: TOTAL | O113: TOTAL
A115: 플레이트 콤팩터 1.5ton HR 공통 8-3,4(1730) ( 호표 16 ) | N115: 58EC34C7E84CBEFFB68BE204C0C29760CB49F549
...

Sheet 단가산출목록
B1: 단 가 산 출 목 록
B2: [ ◈ 2026 태안해안국립공원 삼봉무장애탐방로 연결로 포장공사 ]
A3: 코 드 | B3: 품 명 | C3: 규 격 | D3: 단위 | E3: 재 료 비 | F3: 노 무 비 | G3: 경 비 | H3: 합 계 | I3: 번 호 | J3: 비 고 | K3: START | L3: 품셈개요
A4: 5FDBB454D8E49DE7864AA414796259 | B4: 구조물 헐기(무근 30cm미만) | C4: 굴착기 0.4m3+대형브레커 | D4: M3 | E4: =단가산출서!B30 -> 6587 | F4: =단가산출서!C30 -> 24402 | G4: =단가산출서!D30 -> 7472 | H4: =단가산출서!E30 -> 38461 | I4: 산근 1 | K4: 5FDBB454D8E49DE7864AA414796259 | L4: 공통 8-2-13
A5: 5FDBB45348D36A9D86C9A8B4A82298 | B5: 폐기물상차 | C5: 굴삭기 0.4m3 | D5: M3 | E5: =단가산출서!B47 -> 898 | F5: =단가산출서!C47 -> 2438 | G5: =단가산출서!D47 -> 723 | H5: =단가산출서!E47 -> 4059 | I5: 산근 2 | K5: 5FDBB45348D36A9D86C9A8B4A82298 | L5: 공통 8-2-3
A6: 5FDBB452180788EDD60D46A4456299 | B6: 터파기/사질토 | C6: 보통, 굴착기 0.4m3 | D6: M3 | E6: =단가산출서!B65 -> 534 | F6: =단가산출서!C65 -> 1450 | G6: =단가산출서!D65 -> 430 | H6: =단가산출서!E65 -> 2414 | I6: 산근 3 | K6: 5FDBB452180788EDD60D46A4456299 | L6: 공통 8-2-3
A7: 5FDBB452186815A31646B35415026F | B7: 현장내 잔토처리/토사 | C7: 보통, 굴착기 0.4m3+인력 10% | D7: M3 | E7: =단가산출서!B89 -> 352 | F7: =단가산출서!C89 -> 4399 | G7: =단가산출서!D89 -> 284 | H7: =단가산출서!E89 -> 5035 | I7: 산근 4 | K7: 5FDBB452186815A31646B35415026F | L7: 공통 8-2-3
A8: 5FDB34A6F8DA6B3F166920C4E46284 | B8: 보도용 블록 설치(소형) / B-TYPE | C8: 0 .1㎡이하, 두께 8cm | D8: M2 | E8: =단가산출서!B126 -> 1007 | F8: =단가산출서!C126 -> 8983 | G8: =단가산출서!D126 -> 862 | H8: =단가산출서!E126 -> 10852 | I8: 산근 5 | K8: 5FDB34A6F8DA6B3F166920C4E46284 | L8: 토목 1-7-1
A9: 5FDB34A6F8DA6B3F166920C4F6D2AE | B9: 보도용 유도,점자블록 설치(소형) / B-TYPE | C9: 0 .1㎡이하, 두께 8cm | D9: M2 | E9: =단가산출서!B163 -> 1119 | F9: =단가산출서!C163 -> 9981 | G9: =단가산출서!D163 -> 958 | H9: =단가산출서!E163 -> 12058 | I9: 산근 6 | K9: 5FDB34A6F8DA6B3F166920C4F6D2AE | L9: 토목 1-7-1
A10: 5FDBB45FE88EAE2EA66B3B746DD2F9 | B10: 되메우기/사질토 | C10: 보통, 굴착기 0.4m3 | D10: M3 | E10: =단가산출서!B180 -> 350 | F10: =단가산출서!C180 -> 952 | G10: =단가산출서!D180 -> 282 | H10: =단가산출서!E180 -> 1584 | I10: 산근 7 | K10: 5FDBB45FE88EAE2EA66B3B746DD2F9 | L10: 공통 8-2-3
A11: 5FDB34A798861A8B260844D4CC1256 | B11: 보차도 및 도로경계블록 설치 / A-TYPE | C11: 15*15*15*100cm, 직선구간 / 350미만 적용 | D11: M | E11: =단가산출서!B208 -> 1199 | F11: =단가산출서!C208 -> 9121 | G11: =단가산출서!D208 -> 1083 | H11: =단가산출서!E208 -> 11403 | I11: 산근 8 | K11: 5FDB34A798861A8B260844D4CC1256 | L11: 토목 1-9-2

Sheet 단가산출서
A1: 단 가 산 출 서
A2: [ ◈ 2026 태안해안국립공원 삼봉무장애탐방로 연결로 포장공사 ]
A3: 산 출 내 역 | B3: 재 료 비 | C3: 노 무 비 | D3: 경 비 | E3: 합 계 | F3: 비 고 | G3: START | H3: 코드 | I3: 품명 | J3: 규격 | K3: 단위 | L3: 수량 | M3: 변수 | N3: 값 | O3: 소계 | P3: 소계 | Q3: 소계 | R3: 소계 | S3: 소계 | T3: 총계
A4: 구조물 헐기(무근 30cm미만) 굴착기 0.4m3+대형브레커 M3 공통 8-2-13 ( 산근 1 ) | G4: 5FDBB454D8E49DE7864AA414796259 | I4: 구조물 헐기(무근 30cm미만) | J4: 굴착기 0.4m3+대형브레커 | K4: M3
G5: 5FDBB454D8E49DE7864AA414796259 | H5: C | K5: M3 | L5: 1
B6: 0 | C6: 0 | D6: 0 | E6: 0 | G6: 5FDBB454D8E49DE7864AA414796259 | H6: C!
A7: Q 시간당 작업량 (M3/HR) = 3.3 | B7: 0 | C7: 0 | D7: 0 | E7: 0 | G7: 5FDBB454D8E49DE7864AA414796259 | H7: C! | I7: Q '시간당 작업량 (M3/Hr)'= 3.3 | M7: Q | N7: 3.3
A8: HR M3당작업시간 (HR/M3) = 1/Q = 0.303 | B8: 0 | C8: 0 | D8: 0 | E8: 0 | G8: 5FDBB454D8E49DE7864AA414796259 | H8: C! | I8: HR'm3당작업시간 (HR/M3)' = 1/Q =? | M8: HR | N8: 0.303
B9: 0 | C9: 0 | D9: 0 | E9: 0 | G9: 5FDBB454D8E49DE7864AA414796259 | H9: C!
A10: 1.대형 브레이커, 0.4㎥M3 | B10: 0 | C10: 0 | D10: 0 | E10: 0 | G10: 5FDBB454D8E49DE7864AA414796259 | H10: C! | I10: '1.대형 브레이커, 0.4㎥M3 '
A11: =" 재료비: "&일위대가목록!E12&"/"&N7&"="&B11 -> 재료비: 0/3.3=0 | B11: =TRUNC(일위대가목록!E12/N7,1) -> 0 | C11: 0 | D11: 0 | E11: 0 | G11: 5FDBB454D8E49DE7864AA414796259 | H11: C! | I11: '재료비:' ~00000230000400000.M~ / {Q} =?MA+ | N11: =TRUNC(일위대가목록!E12/N7,1) -> 0
A12: =" 노무비: "&일위대가목록!F12&"/"&N7&"="&C12 -> 노무비: 0/3.3=0 | B12: 0 | C12: =TRUNC(일위대가목록!F12/N7,1) -> 0 | D12: 0 | E12: 0 | G12: 5FDBB454D8E49DE7864AA414796259 | H12: C! | I12: '노무비:' ~00000230000400000.L~ / {Q} =?LA+ | N12: =TRUNC(일위대가목록!F12/N7,1) -> 0
A13: =" 경 비: "&일위대가목록!G12&"/"&N7&"="&D13 -> 경 비: 5513/3.3=1670.6 | B13: 0 | C13: 0 | D13: =TRUNC(일위대가목록!G12/N7,1) -> 1670.6 | E13: =SUM(B13,C13,D13) -> 1670.6 | G13: 5FDBB454D8E49DE7864AA414796259 | H13: C! | I13: '경 비:' ~00000230000400000.E~ / {Q} =?EQ+ | N13: =TRUNC(일위대가목록!G12/N7,1) -> 1670.6 | O13: T11 | P13: T21 | Q13: T31 | R13: T41 | S13: T51 | T13: TT
A14: 소 계 | B14: =TRUNC(SUMIF(O6:O13, "T11", B6:B13), 1) -> 0 | C14: =TRUNC(SUMIF(O6:O13, "T11", C6:C13), 1) -> 0 | D14: =TRUNC(SUMIF(O6:O13, "T11", D6:D13), 1) -> 1670.6 | E14: =TRUNC(SUM(B14,C14, D14), 1) -> 1670.6 | G14: 5FDBB454D8E49DE7864AA414796259 | H14: C! | I14: >'소 계' | M14: T1
B15: 0 | C15: 0 | D15: 0 | E15: 0 | G15: 5FDBB454D8E49DE7864AA414796259 | H15: C!
A16: 2.굴삭기(무한궤도), 0.4M3 | B16: 0 | C16: 0 | D16: 0 | E16: 0 | G16: 5FDBB454D8E49DE7864AA414796259 | H16: C! | I16: '2.굴삭기(무한궤도), 0.4M3 '
A17: =" 재료비: "&일위대가목록!E13&"/"&N7&"="&B17 -> 재료비: 21740/3.3=6587.8 | B17: =TRUNC(일위대가목록!E13/N7,1) -> 6587.8 | C17: 0 | D17: 0 | E17: =SUM(B17,C17,D17) -> 6587.8 | G17: 5FDBB454D8E49DE7864AA414796259 | H17: C! | I17: '재료비:' ~00000201004000000.M~ / {Q} =?MA+ | N17: =TRUNC(일위대가목록!E13/N7,1) -> 6587.8 | O17: T12 | P17: T21 | Q17: T31 | R17: T41 | S17: T51 | T17: TT
A18: =" 노무비: "&일위대가목록!F13&"/"&N7&"="&C18 -> 노무비: 59020/3.3=17884.8 | B18: 0 | C18: =TRUNC(일위대가목록!F13/N7,1) -> 17884.8 | D18: 0 | E18: =SUM(B18,C18,D18) -> 17884.8 | G18: 5FDBB454D8E49DE7864AA414796259 | H18: C! | I18: '노무비:' ~00000201004000000.L~ / {Q} =?LA+ | N18: =TRUNC(일위대가목록!F13/N7,1) -> 17884.8 | O18: T12 | P18: T21 | Q18: T31 | R18: T41 | S18: T51 | T18: TT
A19: =" 경 비: "&일위대가목록!G13&"/"&N7&"="&D19 -> 경 비: 17514/3.3=5307.2 | B19: 0 | C19: 0 | D19: =TRUNC(일위대가목록!G13/N7,1) -> 5307.2 | E19: =SUM(B19,C19,D19) -> 5307.2 | G19: 5FDBB454D8E49DE7864AA414796259 | H19: C! | I19: '경 비:' ~00000201004000000.E~ / {Q} =?EQ+ | N19: =TRUNC(일위대가목록!G13/N7,1) -> 5307.2 | O19: T12 | P19: T21 | Q19: T31 | R19: T41 | S19: T51 | T19: TT
A20: 소 계 | B20: =TRUNC(SUMIF(O15:O19, "T12", B15:B19), 1) -> 6587.8 | C20: =TRUNC(SUMIF(O15:O19, "T12", C15:C19), 1) -> 17884.8 | D20: =TRUNC(SUMIF(O15:O19, "T12", D15:D19), 1) -> 5307.2 | E20: =TRUNC(SUM(B20,C20, D20), 1) -> 29779.8 | G20: 5FDBB454D8E49DE7864AA414796259 | H20: C! | I20: >'소 계' | M20: T1
B21: 0 | C21: 0 | D21: 0 | E21: 0 | G21: 5FDBB454D8E49DE7864AA414796259 | H21: C!
A22: 3.치즐 소모량, 구조물용 0.4M3 | B22: 0 | C22: 0 | D22: 0 | E22: 0 | G22: 5FDBB454D8E49DE7864AA414796259 | H22: C! | I22: '3.치즐 소모량, 구조물용 0.4M3 '
A23: =" 경 비: "&일위대가목록!G14&"/"&N7&"="&D23 -> 경 비: 1632/3.3=494.5 | B23: 0 | C23: 0 | D23: =TRUNC(일위대가목록!G14/N7,1) -> 494.5 | E23: =SUM(B23,C23,D23) -> 494.5 | G23: 5FDBB454D8E49DE7864AA414796259 | H23: C! | I23: '경 비:' ~00000231000400000.E~ / {Q} =?EQ+ | N23: =TRUNC(일위대가목록!G14/N7,1) -> 494.5 | O23: T13 | P23: T21 | Q23: T31 | R23: T41 | S23: T51 | T23: TT
A24: 소 계 | B24: =TRUNC(SUMIF(O21:O23, "T13", B21:B23), 1) -> 0 | C24: =TRUNC(SUMIF(O21:O23, "T13", C21:C23), 1) -> 0 | D24: =TRUNC(SUMIF(O21:O23, "T13", D21:D23), 1) -> 494.5 | E24: =TRUNC(SUM(B24,C24, D24), 1) -> 494.5 | G24: 5FDBB454D8E49DE7864AA414796259 | H24: C! | I24: >'소 계' | M24: T1
B25: 0 | C25: 0 | D25: 0 | E25: 0 | G25: 5FDBB454D8E49DE7864AA414796259 | H25: C!
A26: 4.작업보조 | B26: 0 | C26: 0 | D26: 0 | E26: 0 | G26: 5FDBB454D8E49DE7864AA414796259 | H26: C! | I26: '4.작업보조'
A27: 보통인부 1인/8HR*작업시간 | B27: 0 | C27: 0 | D27: 0 | E27: 0 | G27: 5FDBB454D8E49DE7864AA414796259 | H27: C! | I27: '보통인부 1인/8HR*작업시간'
A28: =" 노무비: "&단가대비표!P29&"*1/8/"&N7&"="&C28 -> 노무비: 172068*1/8/3.3=6517.7 | B28: 0 | C28: =TRUNC(단가대비표!P29*1/8/N7,1) -> 6517.7 | D28: 0 | E28: =SUM(B28,C28,D28) -> 6517.7 | G28: 5FDBB454D8E49DE7864AA414796259 | H28: C! | I28: '노무비:' ~L001010101000002.L~*1/8/ {Q} =?LA+ | N28: =TRUNC(단가대비표!P29*1/8/N7,1) -> 6517.7 | O28: T14 | P28: T21 | Q28: T31 | R28: T41 | S28: T51 | T28: TT
A29: 소 계 | B29: =TRUNC(SUMIF(O25:O28, "T14", B25:B28), 1) -> 0 | C29: =TRUNC(SUMIF(O25:O28, "T14", C25:C28), 1) -> 6517.7 | D29: =TRUNC(SUMIF(O25:O28, "T14", D25:D28), 1) -> 0 | E29: =TRUNC(SUM(B29,C29, D29), 1) -> 6517.7 | G29: 5FDBB454D8E49DE7864AA414796259 | H29: C! | I29: >'소 계' | M29: T1
A30: 총 계 | B30: =TRUNC(SUMIF(T5:T29, "TT", B5:B29), 0) -> 6587 | C30: =TRUNC(SUMIF(T5:T29, "TT", C5:C29), 0) -> 24402 | D30: =TRUNC(SUMIF(T5:T29, "TT", D5:D29), 0) -> 7472 | E30: =TRUNC(SUM(B30,C30, D30), 0) -> 38461
A32: 폐기물상차 굴삭기 0.4m3 M3 공통 8-2-3 ( 산근 2 ) | G32: 5FDBB45348D36A9D86C9A8B4A82298 | I32: 폐기물상차 | J32: 굴삭기 0.4m3 | K32: M3
G33: 5FDBB45348D36A9D86C9A8B4A82298 | H33: C | L33: 1
A34: 굴삭기(무한궤도),0.4㎥ M3 | B34: 0 | C34: 0 | D34: 0 | E34: 0 | G34: 5FDBB45348D36A9D86C9A8B4A82298 | H34: C! | I34: '굴삭기(무한궤도),0.4㎥ M3'
B35: 0 | C35: 0 | D35: 0 | E35: 0 | G35: 5FDBB45348D36A9D86C9A8B4A82298 | H35: C!
A36: Q1 바켓용량(M3) =0.40 | B36: 0 | C36: 0 | D36: 0 | E36: 0 | G36: 5FDBB45348D36A9D86C9A8B4A82298 | H36: C! | I36: q1 '바켓용량(M3)' =0.40 | M36: Q1 | N36: 0.4
A37: K 바켓계수(양호1.1,보통0.90,불량0.70,파쇄암0.55) = 0.55 | B37: 0 | C37: 0 | D37: 0 | E37: 0 | G37: 5FDBB45348D36A9D86C9A8B4A82298 | H37: C! | I37: k '바켓계수(양호1.1,보통0.90,불량0.70,파쇄암0.55)'= 0.55 | M37: K | N37: 0.55
A38: F 토량환산계수(1/L) = 1= 1 | B38: 0 | C38: 0 | D38: 0 | E38: 0 | G38: 5FDBB45348D36A9D86C9A8B4A82298 | H38: C! | I38: f '토량환산계수(1/L)'= 1=? | M38: F | N38: 1
A39: E 작업효율사질토(양호0.85,보통0.70,불량0.55) = 0.55 | B39: 0 | C39: 0 | D39: 0 | E39: 0 | G39: 5FDBB45348D36A9D86C9A8B4A82298 | H39: C! | I39: E '작업효율사질토(양호0.85,보통0.70,불량0.55)'= 0.55 | M39: E | N39: 0.55
A40: CM 1회 싸이클시간(90˚SEC) =18 | B40: 0 | C40: 0 | D40: 0 | E40: 0 | G40: 5FDBB45348D36A9D86C9A8B4A82298 | H40: C! | I40: Cm '1회 싸이클시간(90˚SEC)'=18 | M40: CM | N40: 18
A41: Q 시간당 작업량 (M3/HR) = 3600*Q1*K*F*E/CM= 24.2 | B41: 0 | C41: 0 | D41: 0 | E41: 0 | G41: 5FDBB45348D36A9D86C9A8B4A82298 | H41: C! | I41: Q '시간당 작업량 (M3/Hr)'= 3600*q1*k*f*E/Cm=? | M41: Q | N41: 24.2
B42: 0 | C42: 0 | D42: 0 | E42: 0 | G42: 5FDBB45348D36A9D86C9A8B4A82298 | H42: C!
A43: =" 재료비: "&일위대가목록!E13&"/"&N41&"="&B43 -> 재료비: 21740/24.2=898.3 | B43: =TRUNC(일위대가목록!E13/N41,1) -> 898.3 | C43: 0 | D43: 0 | E43: =SUM(B43,C43,D43) -> 898.3 | G43: 5FDBB45348D36A9D86C9A8B4A82298 | H43: C! | I43: '재료비:' ~00000201004000000.M~ / {Q} =?MA+ | N43: =TRUNC(일위대가목록!E13/N41,1) -> 898.3 | O43: T11 | P43: T21 | Q43: T31 | R43: T41 | S43: T51 | T43: TT
A44: =" 노무비: "&일위대가목록!F13&"/"&N41&"="&C44 -> 노무비: 59020/24.2=2438.8 | B44: 0 | C44: =TRUNC(일위대가목록!F13/N41,1) -> 2438.8 | D44: 0 | E44: =SUM(B44,C44,D44) -> 2438.8 | G44: 5FDBB45348D36A9D86C9A8B4A82298 | H44: C! | I44: '노무비:' ~00000201004000000.L~ / {Q} =?LA+ | N44: =TRUNC(일위대가목록!F13/N41,1) -> 2438.8 | O44: T11 | P44: T21 | Q44: T31 | R44: T41 | S44: T51 | T44: TT
A45: =" 경 비: "&일위대가목록!G13&"/"&N41&"="&D45 -> 경 비: 17514/24.2=723.7 | B45: 0 | C45: 0 | D45: =TRUNC(일위대가목록!G13/N41,1) -> 723.7 | E45: =SUM(B45,C45,D45) -> 723.7 | G45: 5FDBB45348D36A9D86C9A8B4A82298 | H45: C! | I45: '경 비:' ~00000201004000000.E~ / {Q} =?EQ+ | N45: =TRUNC(일위대가목록!G13/N41,1) -> 723.7 | O45: T11 | P45: T21 | Q45: T31 | R45: T41 | S45: T51 | T45: TT
A46: 소 계 | B46: =TRUNC(SUMIF(O34:O45, "T11", B34:B45), 1) -> 898.3 | C46: =TRUNC(SUMIF(O34:O45, "T11", C34:C45), 1) -> 2438.8 | D46: =TRUNC(SUMIF(O34:O45, "T11", D34:D45), 1) -> 723.7 | E46: =TRUNC(SUM(B46,C46, D46), 1) -> 4060.8 | G46: 5FDBB45348D36A9D86C9A8B4A82298 | H46: C! | I46: >'소 계' | M46: T1
A47: 총 계 | B47: =TRUNC(SUMIF(T33:T46, "TT", B33:B46), 0) -> 898 | C47: =TRUNC(SUMIF(T33:T46, "TT", C33:C46), 0) -> 2438 | D47: =TRUNC(SUMIF(T33:T46, "TT", D33:D46), 0) -> 723 | E47: =TRUNC(SUM(B47,C47, D47), 0) -> 4059
A49: 터파기/사질토 보통, 굴착기 0.4m3 M3 공통 8-2-3 ( 산근 3 ) | G49: 5FDBB452180788EDD60D46A4456299 | I49: 터파기/사질토 | J49: 보통, 굴착기 0.4m3 | K49: M3
G50: 5FDBB452180788EDD60D46A4456299 | H50: C | L50: 1
A51: 굴삭기(무한궤도),0.4㎥ M3 | B51: 0 | C51: 0 | D51: 0 | E51: 0 | G51: 5FDBB452180788EDD60D46A4456299 | H51: C! | I51: '굴삭기(무한궤도),0.4㎥ M3 '
B52: 0 | C52: 0 | D52: 0 | E52: 0 | G52: 5FDBB452180788EDD60D46A4456299 | H52: C!
A53: Q1 바켓용량(M3) =0.40 | B53: 0 | C53: 0 | D53: 0 | E53: 0 | G53: 5FDBB452180788EDD60D46A4456299 | H53: C! | I53: q1 '바켓용량(M3)' =0.40 | M53: Q1 | N53: 0.4
A54: K 바켓계수(양호1.1,보통0.90,불량0.70,파쇄암0.55) = 0.90 | B54: 0 | C54: 0 | D54: 0 | E54: 0 | G54: 5FDBB452180788EDD60D46A4456299 | H54: C! | I54: k '바켓계수(양호1.1,보통0.90,불량0.70,파쇄암0.55)'= 0.90 | M54: K | N54: 0.9
A55: F 토량환산계수(1/L) = 1/1.15= 0.8696 | B55: 0 | C55: 0 | D55: 0 | E55: 0 | G55: 5FDBB452180788EDD60D46A4456299 | H55: C! | I55: f '토량환산계수(1/L)'= 1/1.15=? | M55: F | N55: 0.8696
A56: E1 터파기에 대하여 -0.05 =0.05 | B56: 0 | C56: 0 | D56: 0 | E56: 0 | G56: 5FDBB452180788EDD60D46A4456299 | H56: C! | I56: E1 '터파기에 대하여 -0.05'=0.05 | M56: E1 | N56: 0.05
A57: E 작업효율사질토(양호0.85,보통0.70,불량0.55) = 0.70-E1= 0.65 | B57: 0 | C57: 0 | D57: 0 | E57: 0 | G57: 5FDBB452180788EDD60D46A4456299 | H57: C! | I57: E '작업효율사질토(양호0.85,보통0.70,불량0.55)'= 0.70-E1=? | M57: E | N57: 0.65
A58: CM 1회 싸이클시간(135˚SEC) =18 | B58: 0 | C58: 0 | D58: 0 | E58: 0 | G58: 5FDBB452180788EDD60D46A4456299 | H58: C! | I58: Cm '1회 싸이클시간(135˚SEC)'=18 | M58: CM | N58: 18
A59: Q 시간당 작업량 (M3/HR) = 3600*Q1*K*F*E/CM= 40.697 | B59: 0 | C59: 0 | D59: 0 | E59: 0 | G59: 5FDBB452180788EDD60D46A4456299 | H59: C! | I59: Q '시간당 작업량 (M3/Hr)'= 3600*q1*k*f*E/Cm=? | M59: Q | N59: 40.697
B60: 0 | C60: 0 | D60: 0 | E60: 0 | G60: 5FDBB452180788EDD60D46A4456299 | H60: C!
A61: =" 재료비: "&일위대가목록!E13&"/"&N59&"="&B61 -> 재료비: 21740/40.697=534.1 | B61: =TRUNC(일위대가목록!E13/N59,1) -> 534.1 | C61: 0 | D61: 0 | E61: =SUM(B61,C61,D61) -> 534.1 | G61: 5FDBB452180788EDD60D46A4456299 | H61: C! | I61: '재료비:' ~00000201004000000.M~ / {Q} =?MA+ | N61: =TRUNC(일위대가목록!E13/N59,1) -> 534.1 | O61: T11 | P61: T21 | Q61: T31 | R61: T41 | S61: T51 | T61: TT
A62: =" 노무비: "&일위대가목록!F13&"/"&N59&"="&C62 -> 노무비: 59020/40.697=1450.2 | B62: 0 | C62: =TRUNC(일위대가목록!F13/N59,1) -> 1450.2 | D62: 0 | E62: =SUM(B62,C62,D62) -> 1450.2 | G62: 5FDBB452180788EDD60D46A4456299 | H62: C! | I62: '노무비:' ~00000201004000000.L~ / {Q} =?LA+ | N62: =TRUNC(일위대가목록!F13/N59,1) -> 1450.2 | O62: T11 | P62: T21 | Q62: T31 | R62: T41 | S62: T51 | T62: TT
A63: =" 경 비: "&일위대가목록!G13&"/"&N59&"="&D63 -> 경 비: 17514/40.697=430.3 | B63: 0 | C63: 0 | D63: =TRUNC(일위대가목록!G13/N59,1) -> 430.3 | E63: =SUM(B63,C63,D63) -> 430.3 | G63: 5FDBB452180788EDD60D46A4456299 | H63: C! | I63: '경 비:' ~00000201004000000.E~ / {Q} =?EQ+ | N63: =TRUNC(일위대가목록!G13/N59,1) -> 430.3 | O63: T11 | P63: T21 | Q63: T31 | R63: T41 | S63: T51 | T63: TT
A64: 소 계 | B64: =TRUNC(SUMIF(O51:O63, "T11", B51:B63), 1) -> 534.1 | C64: =TRUNC(SUMIF(O51:O63, "T11", C51:C63), 1) -> 1450.2 | D64: =TRUNC(SUMIF(O51:O63, "T11", D51:D63), 1) -> 430.3 | E64: =TRUNC(SUM(B64,C64, D64), 1) -> 2414.6 | G64: 5FDBB452180788EDD60D46A4456299 | H64: C! | I64: >'소 계' | M64: T1
A65: 총 계 | B65: =TRUNC(SUMIF(T50:T64, "TT", B50:B64), 0) -> 534 | C65: =TRUNC(SUMIF(T50:T64, "TT", C50:C64), 0) -> 1450 | D65: =TRUNC(SUMIF(T50:T64, "TT", D50:D64), 0) -> 430 | E65: =TRUNC(SUM(B65,C65, D65), 0) -> 2414
A67: 현장내 잔토처리/토사 보통, 굴착기 0.4m3+인력 10% M3 공통 8-2-3 ( 산근 4 ) | G67: 5FDBB452186815A31646B35415026F | I67: 현장내 잔토처리/토사 | J67: 보통, 굴착기 0.4m3+인력 10% | K67: M3
G68: 5FDBB452186815A31646B35415026F | H68: C | L68: 1
A69: 1.굴삭기 (무한궤도)0.4㎥M3 * 90% | B69: 0 | C69: 0 | D69: 0 | E69: 0 | G69: 5FDBB452186815A31646B35415026F | H69: C! | I69: '1.굴삭기 (무한궤도)0.4㎥M3 * 90% '
A70: Q1 바켓용량(M3) = 0.4 | B70: 0 | C70: 0 | D70: 0 | E70: 0 | G70: 5FDBB452186815A31646B35415026F | H70: C! | I70: q1 '바켓용량(M3)'= 0.4 | M70: Q1 | N70: 0.4
A71: K 바켓계수(용이1.1) = 1.1 | B71: 0 | C71: 0 | D71: 0 | E71: 0 | G71: 5FDBB452186815A31646B35415026F | H71: C! | I71: k '바켓계수(용이1.1)'= 1.1 | M71: K | N71: 1.1
A72: L1 흐트러진상태 =1.25 | B72: 0 | C72: 0 | D72: 0 | E72: 0 | G72: 5FDBB452186815A31646B35415026F | H72: C! | I72: L1 '흐트러진상태' =1.25 | M72: L1 | N72: 1.25
A73: C 다져진상태 =0.875 | B73: 0 | C73: 0 | D73: 0 | E73: 0 | G73: 5FDBB452186815A31646B35415026F | H73: C! | I73: C '다져진상태'=0.875 | M73: C | N73: 0.875
A74: F 토량환산계(C/L) =C/L1= 0.7 | B74: 0 | C74: 0 | D74: 0 | E74: 0 | G74: 5FDBB452186815A31646B35415026F | H74: C! | I74: f '토량환산계(C/L)'=C/L1=? | M74: F | N74: 0.7
A75: E 작업효율(양호0.9,보통0.75,불량0.6) = 0.75 | B75: 0 | C75: 0 | D75: 0 | E75: 0 | G75: 5FDBB452186815A31646B35415026F | H75: C! | I75: E '작업효율(양호0.9,보통0.75,불량0.6)'= 0.75 | M75: E | N75: 0.75
A76: CM 1회 싸이클시간(90˚SEC) =15 | B76: 0 | C76: 0 | D76: 0 | E76: 0 | G76: 5FDBB452186815A31646B35415026F | H76: C! | I76: Cm '1회 싸이클시간(90˚sec)'=15 | M76: CM | N76: 15
A77: Q 시간당 작업량 (M3/HR) = 3600*Q1*K*F*E/CM/0.9= 61.6 | B77: 0 | C77: 0 | D77: 0 | E77: 0 | G77: 5FDBB452186815A31646B35415026F | H77: C! | I77: Q '시간당 작업량 (M3/Hr)'= 3600*q1*k*f*E/Cm/0.9=? | M77: Q | N77: 61.6
A78: =" 재료비: "&일위대가목록!E13&"/"&N77&"="&B78 -> 재료비: 21740/61.6=352.9 | B78: =TRUNC(일위대가목록!E13/N77,1) -> 352.9 | C78: 0 | D78: 0 | E78: =SUM(B78,C78,D78) -> 352.9 | G78: 5FDBB452186815A31646B35415026F | H78: C! | I78: '재료비:' ~00000201004000000.M~ / {Q} =?MA+ | N78: =TRUNC(일위대가목록!E13/N77,1) -> 352.9 | O78: T11 | P78: T21 | Q78: T31 | R78: T41 | S78: T51 | T78: TT
A79: =" 노무비: "&일위대가목록!F13&"/"&N77&"="&C79 -> 노무비: 59020/61.6=958.1 | B79: 0 | C79: =TRUNC(일위대가목록!F13/N77,1) -> 958.1 | D79: 0 | E79: =SUM(B79,C79,D79) -> 958.1 | G79: 5FDBB452186815A31646B35415026F | H79: C! | I79: '노무비:' ~00000201004000000.L~ / {Q} =?LA+ | N79: =TRUNC(일위대가목록!F13/N77,1) -> 958.1 | O79: T11 | P79: T21 | Q79: T31 | R79: T41 | S79: T51 | T79: TT
A80: =" 경 비: "&일위대가목록!G13&"/"&N77&"="&D80 -> 경 비: 17514/61.6=284.3 | B80: 0 | C80: 0 | D80: =TRUNC(일위대가목록!G13/N77,1) -> 284.3 | E80: =SUM(B80,C80,D80) -> 284.3 | G80: 5FDBB452186815A31646B35415026F | H80: C! | I80: '경 비:' ~00000201004000000.E~ / {Q} =?EQ+ | N80: =TRUNC(일위대가목록!G13/N77,1) -> 284.3 | O80: T11 | P80: T21 | Q80: T31 | R80: T41 | S80: T51 | T80: TT
A81: 소 계 | B81: =TRUNC(SUMIF(O69:O80, "T11", B69:B80), 1) -> 352.9 | C81: =TRUNC(SUMIF(O69:O80, "T11", C69:C80), 1) -> 958.1 | D81: =TRUNC(SUMIF(O69:O80, "T11", D69:D80), 1) -> 284.3 | E81: =TRUNC(SUM(B81,C81, D81), 1) -> 1595.3 | G81: 5FDBB452186815A31646B35415026F | H81: C! | I81: >'소 계' | M81: T1
B82: 0 | C82: 0 | D82: 0 | E82: 0 | G82: 5FDBB452186815A31646B35415026F | H82: C!
A83: 2.인력잔토처리,0.2인*10% | B83: 0 | C83: 0 | D83: 0 | E83: 0 | G83: 5FDBB452186815A31646B35415026F | H83: C! | I83: '2.인력잔토처리,0.2인*10%'
A84: Q 시간당 작업량 (M3/HR) = 1/8/0.2/0.1= 6.25 | B84: 0 | C84: 0 | D84: 0 | E84: 0 | G84: 5FDBB452186815A31646B35415026F | H84: C! | I84: Q '시간당 작업량 (M3/Hr)'= 1/8/0.2/0.1=? | M84: Q | N84: 6.25
B85: 0 | C85: 0 | D85: 0 | E85: 0 | G85: 5FDBB452186815A31646B35415026F | H85: C!
A86: 보통인부 1인/8HR*작업시간 | B86: 0 | C86: 0 | D86: 0 | E86: 0 | G86: 5FDBB452186815A31646B35415026F | H86: C! | I86: '보통인부 1인/8HR*작업시간
A87: =" 노무비: "&단가대비표!P29&"*1/8/"&N84&"="&C87 -> 노무비: 172068*1/8/6.25=3441.3 | B87: 0 | C87: =TRUNC(단가대비표!P29*1/8/N84,1) -> 3441.3 | D87: 0 | E87: =SUM(B87,C87,D87) -> 3441.3 | G87: 5FDBB452186815A31646B35415026F | H87: C! | I87: '노무비:' ~L001010101000002.L~*1/8/{Q} =?LA+ | N87: =TRUNC(단가대비표!P29*1/8/N84,1) -> 3441.3 | O87: T12 | P87: T21 | Q87: T31 | R87: T41 | S87: T51 | T87: TT
A88: 소 계 | B88: =TRUNC(SUMIF(O82:O87, "T12", B82:B87), 1) -> 0 | C88: =TRUNC(SUMIF(O82:O87, "T12", C82:C87), 1) -> 3441.3 | D88: =TRUNC(SUMIF(O82:O87, "T12", D82:D87), 1) -> 0 | E88: =TRUNC(SUM(B88,C88, D88), 1) -> 3441.3 | G88: 5FDBB452186815A31646B35415026F | H88: C! | I88: >'소 계' | M88: T1
A89: 총 계 | B89: =TRUNC(SUMIF(T68:T88, "TT", B68:B88), 0) -> 352 | C89: =TRUNC(SUMIF(T68:T88, "TT", C68:C88), 0) -> 4399 | D89: =TRUNC(SUMIF(T68:T88, "TT", D68:D88), 0) -> 284 | E89: =TRUNC(SUM(B89,C89, D89), 0) -> 5035
A91: 보도용 블록 설치(소형) / B-TYPE 0 .1㎡이하, 두께 8cm M2 토목 1-7-1 ( 산근 5 ) | G91: 5FDB34A6F8DA6B3F166920C4E46284 | I91: 보도용 블록 설치(소형) / B-TYPE | J91: 0 .1㎡이하, 두께 8cm | K91: M2
G92: 5FDB34A6F8DA6B3F166920C4E46284 | H92: C | L92: 1
A93: B-TYPE: 차도인접, 주택가 보도 / 블록 정밀절단 아닌 경우 | B93: 0 | C93: 0 | D93: 0 | E93: 0 | G93: 5FDB34A6F8DA6B3F166920C4E46284 | H93: C! | I93: 'B-TYPE: 차도인접, 주택가 보도 / 블록 정밀절단 아닌 경우'
B94: 0 | C94: 0 | D94: 0 | E94: 0 | G94: 5FDB34A6F8DA6B3F166920C4E46284 | H94: C!
A95: Q1 1일시공량(M2/일) =190 | B95: 0 | C95: 0 | D95: 0 | E95: 0 | G95: 5FDB34A6F8DA6B3F166920C4E46284 | H95: C! | I95: q1'1일시공량(M2/일)' =190 | M95: Q1 | N95: 190
A96: Q 시간당 작업량(M2/HR) =Q1/8= 23.75 | B96: 0 | C96: 0 | D96: 0 | E96: 0 | G96: 5FDB34A6F8DA6B3F166920C4E46284 | H96: C! | I96: Q '시간당 작업량(M2/HR)' =q1/8=? | M96: Q | N96: 23.75
B97: 0 | C97: 0 | D97: 0 | E97: 0 | G97: 5FDB34A6F8DA6B3F166920C4E46284 | H97: C!
A98: ◈배치인원 | B98: 0 | C98: 0 | D98: 0 | E98: 0 | G98: 5FDB34A6F8DA6B3F166920C4E46284 | H98: C! | I98: '◈배치인원'
B99: 0 | C99: 0 | D99: 0 | E99: 0 | G99: 5FDB34A6F8DA6B3F166920C4E46284 | H99: C!
A100: 1.인원 | B100: 0 | C100: 0 | D100: 0 | E100: 0 | G100: 5FDB34A6F8DA6B3F166920C4E46284 | H100: C! | I100: '1.인원 '
A101: [1]=0, [2]=0, [3]=0 | B101: 0 | C101: 0 | D101: 0 | E101: 0 | G101: 5FDB34A6F8DA6B3F166920C4E46284 | H101: C! | I101: [1]=0, [2]=0, [3]=0 | M101: [3] | N101: 0
A102: 포 장 공 2인/8HR*작업시간 | B102: 0 | C102: 0 | D102: 0 | E102: 0 | G102: 5FDB34A6F8DA6B3F166920C4E46284 | H102: C! | I102: '포 장 공 2인/8HR*작업시간'
A103: =" 노무비: "&단가대비표!P34&"*2/8/"&N96&"="&C103 -> 노무비: 273308*2/8/23.75=2876.9 | B103: 0 | C103: =TRUNC(단가대비표!P34*2/8/N96,1) -> 2876.9 | D103: 0 | E103: =SUM(B103,C103,D103) -> 2876.9 | G103: 5FDB34A6F8DA6B3F166920C4E46284 | H103: C! | I103: '노무비:' ~L001010101000019.L~*2/8/{Q} =?LA+:LA1 | M103: LA1 | N103: =TRUNC(단가대비표!P34*2/8/N96,1) -> 2876.9 | O103: T11 | P103: T21 | Q103: T31 | R103: T41 | S103: T51 | T103: TT
A104: 특별인부 1인/8HR*작업시간 | B104: 0 | C104: 0 | D104: 0 | E104: 0 | G104: 5FDB34A6F8DA6B3F166920C4E46284 | H104: C! | I104: '특별인부 1인/8HR*작업시간'
...

Sheet 단가대비표
A1: 단 가 대 비 표
A2: [ ◈ 2026 태안해안국립공원 삼봉무장애탐방로 연결로 포장공사 ]
A3: 코 드 | B3: 품 명 | C3: 규격 | D3: 단위 | E3: 재 료 비 | P3: 노 무 비 | Q3: 경 비 | W3: 번 호 | X3: 비 고 | Y3: 품목구분 | Z3: 노임구분 | AA3: 소수점처리 | AB3: 자재구분
E4: 조달청가격 | F4: PAGE | G4: 물가자료 | H4: PAGE | I4: 물가정보 | J4: PAGE | K4: 유통물가 | L4: PAGE | M4: 조사가격 | N4: PAGE | O4: 적용단가 | Q4: 조달청가격 | R4: 물가자료 | S4: 물가정보 | T4: 유통물가 | U4: 조사가격 | V4: 적용단가
A5: 58EC34C7E84CAC36D67B3304E872FD5354A328 | B5: 굴착기(무한궤도) | C5: 0.2㎥ | D5: 대 | E5: 0 | G5: 0 | I5: 0 | K5: 0 | M5: 0 | O5: 0 | P5: 0 | Q5: 0 | R5: 0 | S5: 0 | T5: 0 | U5: 66538 | V5: =SMALL(Q5:U5,COUNTIF(Q5:U5,0)+1) -> 66538 | W5: 자재 1 | X5: 천원
A6: 58EC34C7E84CAC36D67B3304E81254B086D295 | B6: 굴착기(무한궤도) | C6: 0.4㎥ | D6: 대 | E6: 0 | G6: 0 | I6: 0 | K6: 0 | M6: 0 | O6: 0 | P6: 0 | Q6: 0 | R6: 0 | S6: 0 | T6: 0 | U6: 84000 | V6: =SMALL(Q6:U6,COUNTIF(Q6:U6,0)+1) -> 84000 | W6: 자재 2 | X6: 천원
A7: 58EC34C7E84CAC36E601FEB4B9028CD89019BC | B7: 대형 브레이커 | C7: 0.4㎥용 | D7: 대 | E7: 0 | G7: 0 | I7: 0 | K7: 0 | M7: 0 | O7: 0 | P7: 0 | Q7: 0 | R7: 0 | S7: 0 | T7: 0 | U7: 8352 | V7: =SMALL(Q7:U7,COUNTIF(Q7:U7,0)+1) -> 8352 | W7: 자재 3 | X7: 천원
A8: 58EC34C7E84CAC36E600D8B483828CEF3DE90C | B8: 대형 브레이커용 치즐 | C8: 0.4㎥용 | D8: 본 | E8: 0 | G8: 0 | I8: 0 | K8: 0 | M8: 0 | O8: 0 | P8: 0 | Q8: 0 | R8: 0 | S8: 0 | T8: 0 | U8: 204000 | V8: =SMALL(Q8:U8,COUNTIF(Q8:U8,0)+1) -> 204000 | W8: 자재 4
A9: 58EC34C7E84CBEB1D6A2E134CF2200F6B004EA | B9: 진동롤러(핸드가이드식) | C9: 0.7ton | D9: 대 | E9: 0 | G9: 0 | I9: 0 | K9: 0 | M9: 0 | O9: 0 | P9: 0 | Q9: 0 | R9: 0 | S9: 0 | T9: 0 | U9: 6966 | V9: =SMALL(Q9:U9,COUNTIF(Q9:U9,0)+1) -> 6966 | W9: 자재 5 | X9: 천원
A10: 58EC34C7E84CBEFFB68BE204C0C29760CB49F5 | B10: 플레이트 콤팩터 | C10: 1.5ton | D10: 대 | E10: 0 | G10: 0 | I10: 0 | K10: 0 | M10: 0 | O10: 0 | P10: 0 | Q10: 0 | R10: 0 | S10: 0 | T10: 0 | U10: 1673 | V10: =SMALL(Q10:U10,COUNTIF(Q10:U10,0)+1) -> 1673 | W10: 자재 6 | X10: 천원
A11: 58FE8422089A8B6ED6F792A492820E2AF312B2 | B11: 내수합판 | C11: 내수합판, 1급, 12*1220*2440mm | D11: M2 | E11: 0 | G11: 11992.74 | H11: 670 | I11: 10984.95 | J11: 587 | K11: 11320.88 | L11: 407 | M11: 0 | O11: =SMALL(E11:M11,COUNTIF(E11:M11,0)+1) -> 10984.95 | P11: 0 | Q11: 0 | R11: 0 | S11: 0 | T11: 0 | U11: 0 | V11: 0 | W11: 자재 7
A12: 58FEC49FC814CB8BA688CAC4C442200AC2510A | B12: 경유 | C12: 경유, 저유황 | D12: L | E12: 0 | G12: 1800 | H12: 하32 | I12: 1878.34 | J12: 1438 | K12: 1821.81 | L12: 1189 | M12: 0 | O12: =SMALL(E12:M12,COUNTIF(E12:M12,0)+1) -> 1800 | P12: 0 | Q12: 0 | R12: 0 | S12: 0 | T12: 0 | U12: 0 | V12: 0 | W12: 자재 8
A13: 58FEC49FC814CB8BA68B9EA4B6424A92EC3399 | B13: 공업용휘발유 | C13: 공업용휘발유, 무연 | D13: L | E13: 0 | G13: 1836.36 | H13: 하32 | I13: 1889.99 | J13: 1438 | K13: 1827.27 | L13: 1189 | M13: 0 | O13: =SMALL(E13:M13,COUNTIF(E13:M13,0)+1) -> 1827.27 | P13: 0 | Q13: 0 | R13: 0 | S13: 0 | T13: 0 | U13: 0 | V13: 0 | W13: 자재 9
A14: 58D3C4B7E8128AA766E1C124C9227968F5DA06 | B14: 각재 | C14: 각재, 외송 | D14: M3 | E14: 0 | G14: 808383.23 | H14: 98 | I14: 652694.61 | J14: 85 | K14: 616467.06 | L14: 73 | M14: 0 | O14: =SMALL(E14:M14,COUNTIF(E14:M14,0)+1) -> 616467.06 | P14: 0 | Q14: 0 | R14: 0 | S14: 0 | T14: 0 | U14: 0 | V14: 0 | W14: 자재 10
A15: 58D3D45F7832CC6D56AEADB4DC429E59E22ACC | B15: 조합페인트 | C15: 조합페인트, KSM6020-1종1급, 노랑 | D15: L | E15: 0 | G15: 18222.22 | H15: 590 | I15: 21866.66 | J15: 500 | K15: 21866.66 | L15: 466 | M15: 0 | O15: =SMALL(E15:M15,COUNTIF(E15:M15,0)+1) -> 18222.22 | P15: 0 | Q15: 0 | R15: 0 | S15: 0 | T15: 0 | U15: 0 | V15: 0 | W15: 자재 11
A16: 58D3D45F7832CCB5E611F534AF7298BB29890B | B16: 시너 | C16: 시너, KSM6060, 1종 | D16: L | E16: 0 | G16: 3941.17 | H16: 593 | I16: 4664.7 | J16: 504 | K16: 4664.7 | L16: 470 | M16: 0 | O16: =SMALL(E16:M16,COUNTIF(E16:M16,0)+1) -> 3941.17 | P16: 0 | Q16: 0 | R16: 0 | S16: 0 | T16: 0 | U16: 0 | V16: 0 | W16: 자재 12
A17: 586854315820A821361FAA940782108A45336B2F | B17: 미송방부목(H3등급) | C17: 3600x90x90이상 | D17: M3 | E17: 0 | G17: 2163000 | H17: 103 | I17: 2184000 | J17: 82 | K17: 2340000 | L17: 78 | M17: 0 | O17: =SMALL(E17:M17,COUNTIF(E17:M17,0)+1) -> 2163000 | P17: 0 | Q17: 0 | R17: 0 | S17: 0 | T17: 0 | U17: 0 | V17: 0 | W17: 자재 13
A18: 586854315820A821361FAA940782108A45336A0D | B18: 십자접시스크류볼트 | C18: #14xL150, SUS | D18: EA | E18: 0 | G18: 0 | I18: 0 | K18: 0 | M18: 420 | N18: [견적] | O18: =SMALL(E18:M18,COUNTIF(E18:M18,0)+1) -> 420 | P18: 0 | Q18: 0 | R18: 0 | S18: 0 | T18: 0 | U18: 0 | V18: 0 | W18: 자재 14
A19: 5868543158311F51068F43B488D29BE80845B8 | B19: 레미콘 | C19: 25-18-8 | D19: M3 | E19: 0 | G19: 93740 | H19: 71 | I19: 87980 | J19: 56 | K19: 96160 | L19: 66 | M19: 0 | O19: =SMALL(E19:M19,COUNTIF(E19:M19,0)+1) -> 87980 | P19: 0 | Q19: 0 | R19: 0 | S19: 0 | T19: 0 | U19: 0 | V19: 0 | W19: 자재 15
A20: 5868543158311F51068F43B488D29BE8084765 | B20: 모래 | C20: 강모래 | D20: M3 | E20: 0 | G20: 42000 | H20: 62 | I20: 37000 | J20: 55 | K20: 37000 | L20: 61 | M20: 0 | O20: =SMALL(E20:M20,COUNTIF(E20:M20,0)+1) -> 37000 | P20: 0 | Q20: 0 | R20: 0 | S20: 0 | T20: 0 | U20: 0 | V20: 0 | W20: 자재 16
A21: 5868543158311F51068F43B488D29BE80841DD | B21: 혼합골재 | C21: 40㎜이하 보조기층 | D21: M3 | E21: 0 | G21: 26000 | H21: 62 | I21: 30000 | J21: 55 | K21: 30000 | L21: 61 | M21: 0 | O21: =SMALL(E21:M21,COUNTIF(E21:M21,0)+1) -> 26000 | P21: 0 | Q21: 0 | R21: 0 | S21: 0 | T21: 0 | U21: 0 | V21: 0 | W21: 자재 17
A22: 586854315816319296C22B3432E22EA44494BF | B22: 경계석 | C22: 직선,150x150x1000 | D22: M | E22: 18300 | F22: 25210928 | G22: 0 | I22: 0 | K22: 0 | M22: 0 | O22: =SMALL(E22:M22,COUNTIF(E22:M22,0)+1) -> 18300 | P22: 0 | Q22: 0 | R22: 0 | S22: 0 | T22: 0 | U22: 0 | V22: 0 | W22: 자재 18 | AC22: ㈜우주석재산업 | AD22: 032-720-4678
A23: 5868543158A40445A62FBD049E32A2538E34BC | B23: 폐콘크리트 | C23: - | D23: Ton | E23: 0 | G23: 0 | I23: 0 | K23: 31142 | L23: 1433 | M23: 0 | O23: =SMALL(E23:M23,COUNTIF(E23:M23,0)+1) -> 31142 | P23: 0 | Q23: 0 | R23: 0 | S23: 0 | T23: 0 | U23: 0 | V23: 0 | W23: 자재 19
A24: 5868543158A40445A62FBD049E32A2538C086F | B24: 폐기물운반비 | C24: 30㎞ | D24: Ton | E24: 0 | G24: 0 | I24: 0 | K24: 19700 | L24: 1433 | M24: 0 | O24: =SMALL(E24:M24,COUNTIF(E24:M24,0)+1) -> 19700 | P24: 0 | Q24: 0 | R24: 0 | S24: 0 | T24: 0 | U24: 0 | V24: 0 | W24: 자재 20
A25: 58684423381E0B4A860FD554B1124CAF389883 | B25: 인조화강석블록 | C25: 200x200xT80, 투수형 | D25: M2 | E25: 29500 | F25: 24123820 | G25: 0 | I25: 0 | K25: 0 | M25: 0 | O25: =SMALL(E25:M25,COUNTIF(E25:M25,0)+1) -> 29500 | P25: 0 | Q25: 0 | R25: 0 | S25: 0 | T25: 0 | U25: 0 | V25: 0 | W25: 자재 21 | AC25: ㈜강한콘크리트 | AD25: 033-681-2777
A26: 58684423381E0B4A860FD554B1124CAF389886 | B26: 인조화강석블록 | C26: 200x100xT80, 투수형 | D26: M2 | E26: 28000 | F26: 24123805 | G26: 0 | I26: 0 | K26: 0 | M26: 0 | O26: =SMALL(E26:M26,COUNTIF(E26:M26,0)+1) -> 28000 | P26: 0 | Q26: 0 | R26: 0 | S26: 0 | T26: 0 | U26: 0 | V26: 0 | W26: 자재 22 | AC26: ㈜강한콘크리트 | AD26: 033-681-2777
A27: 58684423381E0B4A860FD554B1124CAF389B58 | B27: 고강도선형블록 | C27: 300x300xT60, 점형 선형 | D27: EA | E27: 0 | G27: 7000 | H27: 151 | I27: 8000 | J27: 442 | K27: 13000 | L27: 1267 | M27: 0 | O27: =SMALL(E27:M27,COUNTIF(E27:M27,0)+1) -> 7000 | P27: 0 | Q27: 0 | R27: 0 | S27: 0 | T27: 0 | U27: 0 | V27: 0 | W27: 자재 23
A28: 58684423381E0B4A860FD554B1124CAF3895CF | B28: PVC피스고정형 점자블록 | C28: 300x300xT8, 점형 선형 | D28: EA | E28: 0 | G28: 14000 | H28: 615 | I28: 15000 | J28: 441 | K28: 12000 | L28: 1267 | M28: 0 | O28: =SMALL(E28:M28,COUNTIF(E28:M28,0)+1) -> 12000 | P28: 0 | Q28: 0 | R28: 0 | S28: 0 | T28: 0 | U28: 0 | V28: 0 | W28: 자재 24
A29: 5F2254B8D8AD6B3C46D6089442B25D35C57902 | B29: 보통인부 | C29: 일반공사 직종 | D29: 인 | E29: 0 | G29: 0 | I29: 0 | K29: 0 | M29: 0 | O29: 0 | P29: 172068 | Q29: 0 | R29: 0 | S29: 0 | T29: 0 | U29: 0 | V29: 0 | W29: 노임 1 | Y29: B
A30: 5F2254B8D8AD6B3C46D6089442B25D35C57903 | B30: 특별인부 | C30: 일반공사 직종 | D30: 인 | E30: 0 | G30: 0 | I30: 0 | K30: 0 | M30: 0 | O30: 0 | P30: 226122 | Q30: 0 | R30: 0 | S30: 0 | T30: 0 | U30: 0 | V30: 0 | W30: 노임 2 | Y30: B
A31: 5F2254B8D8AD6B3C46D6089442B25D35C57907 | B31: 형틀목공 | C31: 일반공사 직종 | D31: 인 | E31: 0 | G31: 0 | I31: 0 | K31: 0 | M31: 0 | O31: 0 | P31: 275790 | Q31: 0 | R31: 0 | S31: 0 | T31: 0 | U31: 0 | V31: 0 | W31: 노임 3 | Y31: B
A32: 5F2254B8D8AD6B3C46D6089442B25D35C57909 | B32: 철공 | C32: 일반공사 직종 | D32: 인 | E32: 0 | G32: 0 | I32: 0 | K32: 0 | M32: 0 | O32: 0 | P32: 239808 | Q32: 0 | R32: 0 | S32: 0 | T32: 0 | U32: 0 | V32: 0 | W32: 노임 4 | Y32: B
A33: 5F2254B8D8AD6B3C46D6089442B25D35C5787A | B33: 콘크리트공 | C33: 일반공사 직종 | D33: 인 | E33: 0 | G33: 0 | I33: 0 | K33: 0 | M33: 0 | O33: 0 | P33: 273540 | Q33: 0 | R33: 0 | S33: 0 | T33: 0 | U33: 0 | V33: 0 | W33: 노임 5 | Y33: B
A34: 5F2254B8D8AD6B3C46D6089442B25D35C57870 | B34: 포장공 | C34: 일반공사 직종 | D34: 인 | E34: 0 | G34: 0 | I34: 0 | K34: 0 | M34: 0 | O34: 0 | P34: 273308 | Q34: 0 | R34: 0 | S34: 0 | T34: 0 | U34: 0 | V34: 0 | W34: 노임 6 | Y34: B
A35: 5F2254B8D8AD6B3C46D6089442B25D35C57BCD | B35: 건축목공 | C35: 일반공사 직종 | D35: 인 | E35: 0 | G35: 0 | I35: 0 | K35: 0 | M35: 0 | O35: 0 | P35: 277642 | Q35: 0 | R35: 0 | S35: 0 | T35: 0 | U35: 0 | V35: 0 | W35: 노임 7 | Y35: B
A36: 5F2254B8D8AD6B3C46D6089442B25D35C57BC7 | B36: 도장공 | C36: 일반공사 직종 | D36: 인 | E36: 0 | G36: 0 | I36: 0 | K36: 0 | M36: 0 | O36: 0 | P36: 263017 | Q36: 0 | R36: 0 | S36: 0 | T36: 0 | U36: 0 | V36: 0 | W36: 노임 8 | Y36: B
A37: 5F2254B8D8AD6B3C46D6089442B25D35C57DF3 | B37: 건설기계운전사 | C37: 일반공사 직종 | D37: 인 | E37: 0 | G37: 0 | I37: 0 | K37: 0 | M37: 0 | O37: 0 | P37: 283297 | Q37: 0 | R37: 0 | S37: 0 | T37: 0 | U37: 0 | V37: 0 | W37: 노임 9 | Y37: B
A38: 5F2254B8D8AD6B3C46D6089442B25D35C57CD4 | B38: 일반기계운전사 | C38: 일반공사 직종 | D38: 인 | E38: 0 | G38: 0 | I38: 0 | K38: 0 | M38: 0 | O38: 0 | P38: 173995 | Q38: 0 | R38: 0 | S38: 0 | T38: 0 | U38: 0 | V38: 0 | W38: 노임 10 | Y38: B
