Workbook

Sheet 표지
B2: 2 0 2 6 년도
B3: 위치 | C3: 제천 하수처리장 내
B13: 제천하수처리장 최초침전지 슬러지 수집기 제조구매설치
B15: [설 계 예 산 서]
B25: 제 천 시

Sheet 설명서
A2: 설 계 설 명 서
B6: 1. 공 사 명 : | D6: =갑지!AE13 -> 제천하수처리장 최초침전지 슬러지 수집기 제조구매설치
B8: 2. 공사위치 : | D8: =갑지!AE7 -> 충청북도 제천시 내토로 12길 64
B10: 3. 사업목적: | D10: 본 사업은 제천하수처리장 안정적인 운영을 위한 사업으로 “최초침전지 슬러지 수집기 제조구매설치”를 통해
D11: 안정적인 운영이 되도록 시설물을 교체하여 처리 효율성 제고와 효율적 유지ㆍ관리하는 데 그 목적이 있다.
B13: 4. 공사개요 : | D13: =갑지!G13 -> 제천하수처리장 최초침전지 슬러지 수집기 제조구매설치
B15: 5. 과업수행방법 : | D15: 시방서에 준한다
B17: 6. 공사기간 : | D17: 착수일로부터 150일로 한다.

Sheet 예정공정표
B3: 예 정 공 정 표
B7: 공사기간
B8: 구 분 | C8: 1 | D8: 10 | E8: 20 | F8: 30 | G8: 40 | H8: 50 | I8: 60 | J8: 70 | K8: 80 | L8: 90 | M8: 100 | N8: 110 | O8: 120 | P8: 130 | Q8: 140 | R8: 150 | S8: 비 고
B9: 설계도서 검토
B10: 슬러지 수집기 제조
B11: 제품검수
B12: 슬러지 수집기 설치 및 시운전 | S12: 덮개 철거 작업 후 설치

Sheet 갑지
J1: 설 계 | O1: 심 사 | T1: 팀 장 | Y1: 소 장
B2: 2026년 8월 일
B5: 제천하수처리장
AE6: 위치
B7: 최초침전지 슬러지 수집기 제조구매설치 | AE7: 충청북도 제천시 내토로 12길 64
D10: ◈ | E10: 위 치 | H10: : | I10: =AE7 -> 충청북도 제천시 내토로 12길 64
D12: ◈ | E12: 사업개요 | H12: : | AE12: 제목
F13: - | G13: =AE13 -> 제천하수처리장 최초침전지 슬러지 수집기 제조구매설치 | AE13: 제천하수처리장 최초침전지 슬러지 수집기 제조구매설치
G16: 총사업비 | K16: : | L16: =AH17 -> 538100000 | R16: ="(금"&(NUMBERSTRING(L16,1))&"원)" -> (금오억삼천팔백일십만원)
AE17: 총공사비 | AH17: 538100000
AE18: 도급공사비 | AH18: 20900000

Sheet 공사원가계산서
A1: 공 사 원 가 계 산 서
A2: [ 제천하수처리장 최초침전지 슬러지 수집기 제조구매설치 ]
A3: 구 분 | D3: 금 액 | E3: 2026 건축 산업환경설비공사 원가계산 제비율 적용기준 | F3: 비 고 | G3: 요율 | H3: 등급
A4: 제조구매비 | D4: =공종별집계표!F7 -> 460000000
A5: 순 공 사 원 가 | B5: 재료비 | C5: 직접재료비 | D5: 0 | E5: 내역서 참조
C6: 소계 | D6: 0
B7: 노무비 | C7: 직접노무비 | D7: =공종별집계표!J8 -> 16835906 | E7: 내역서 참조
C8: 간접노무비 | D8: =INT(D7*G8/100) -> 2946283 | E8: ="(직접노무비)×"&G8&"%" -> (직접노무비)×17.5% | G8: 17.5
C9: 소계 | D9: =SUM(D7:D8) -> 19782189
B10: 경 비 | C10: 산출경비 | D10: =공종별집계표!L8 -> 0 | E10: 내역서 참조
C11: 산재보험료 | D11: =INT(D9*G11/100) -> 704245 | E11: ="(노무비)×"&G11&"%" -> (노무비)×3.56% | G11: 3.56
C12: 석면분담금 | D12: =INT(D9*G12/100) -> 1186 | E12: ="(노무비)×"&G12&"%" -> (노무비)×0.006% | G12: 0.006
C13: 임금채권부담금 | D13: =INT(D9*G13/100) -> 17803 | E13: ="(노무비)×"&G13&"%" -> (노무비)×0.09% | G13: 0.09
C14: 고용보험료 | D14: =INT(D9*G14/100) -> 199800 | E14: ="(노무비)×"&G14&"% ["&H14&"등급]" -> (노무비)×1.01% [7등급] | G14: 1.01 | H14: 7
C15: 건강보험료 | D15: =INT(D7*G15/100) -> 605250 | E15: ="(직접노무비)×"&G15&"%" -> (직접노무비)×3.595% | G15: 3.595
C16: 연금보험료 | D16: =INT(D7*G16/100) -> 799705 | E16: ="(직접노무비)×"&G16&"%" -> (직접노무비)×4.75% | G16: 4.75
C17: 노인장기요양보험료 | D17: =INT(D15*G17/100) -> 79529 | E17: ="(건강보험료)×"&G17&"%" -> (건강보험료)×13.14% | G17: 13.14 | N17: 5억 미만 | O17: 3.11
C18: 건설근로자퇴직공제부금비 | D18: =INT(D7*G18/100) -> 387225 | E18: ="(직접노무비)×"&G18&"%" -> (직접노무비)×2.3% | F18: 예정금액 1억 이상 적용 | G18: 2.3 | H18: 1억 이상만 적용 | K18: (직접노무비)×% | N18: 건축공사 : 3.11 | O18: 요율 | P18: 금액
C19: 산업안전보건관리비 | D19: =INT(MIN(P20:P21)) -> 628316 | E19: ="[(재료비+직접노무비)×"&O17&"%+기초액]×1.2" -> [(재료비+직접노무비)×3.11%+기초액]×1.2 | L19: 도급자관급미포함 | N19: (재료비+직접노무비)×3.11% | O19: 3.11 | P19: =($D$6+$D$7)*O19/100 -> 523596.68
C20: 환경보전비 | D20: =INT((D6+D7+D10)*G20/100) -> 84179 | E20: ="(재료비+직접노무비+산출경비)×"&G20&"%" -> (재료비+직접노무비+산출경비)×0.5% | G20: 0.5 | L20: 도급자관급포함 | M20: a | N20: (재료비+직접노무비+도급자관급)×3.11% | O20: 3.11 | P20: =($D$6+$D$7+$D$4)*O20/100 -> 14829597
C21: 기타경비 | D21: =INT((D6+D9)*G21/100) -> 989109 | E21: ddd | G21: 5 | L21: a,b중 작은 금액 | M21: b | N21: (재료비+직접노무비)×3.11%×1.2 | O21: 3.11 | P21: =((($D$6+$D$7)*O21/100))*1.2 -> 628316.01
C22: 건설하도급대금지급보증발급수수료 | D22: =INT((D6+D7+D10)*G22/100) -> 0 | E22: ="(재료비+직접노무비+산출경비)×"&G22&"%" -> (재료비+직접노무비+산출경비)×0% | F22: 전문공사 제외 | G22: 0 | H22: 전문공사 제외 | I22: 발주처 직접발주 | J22: 하도급계약금액 4천만원 미만 | K22: (재료비+직접노무비+산출경비)×%
C23: 건설기계대여대금지급보증서발급수수료 | D23: =INT((D6+D7+D10)*G23/100) -> 16835 | E23: ="(재료비+직접노무비+산출경비)×"&G23&"%" -> (재료비+직접노무비+산출경비)×0.1% | G23: 0.1 | N23: 5억~50억 미만 | O23: 2.28
C24: 소계 | D24: =SUM(D10:D23) -> 4513182 | N24: 건축공사 : 2.28 | O24: 요율 | P24: 금액
A25: 순공사원가 | D25: =D6+D9+D24 -> 24295371 | E25: (재료비+노무비+경비) | L25: 도급자관급미포함 | N25: (재료비+직접노무비)×2.28%+기초액 | O25: 2.28 | P25: =($D$6+$D$7)*O25/100+4325000 -> 4708858.7
A26: 일반관리비 | D26: =INT((D6+D9+D24)*G26/100) -> 1579199 | E26: ="(재료비+노무비+경비)×"&G26&"%" -> (재료비+노무비+경비)×6.5% | G26: 6.5 | H26: 단수조정 | L26: 도급자관급포함 | M26: a | N26: (재료비+직접노무비+도급자관급)×2.28%+기초액 | O26: 2.28 | P26: =($D$6+$D$7+$D$4)*O26/100+4325000 -> 15196859
A27: 이윤 | D27: =INT((D9+D24+D26)*G27/100-H27) -> 3307249 | E27: (노무비+경비+일반관리비)×15%-단수조정 | G27: 15 | H27: =631330/1.1 -> 573936.36 | L27: a,b중 작은 금액 | M27: b | N27: [(재료비+직접노무비)×2.28%+기초액]×1.2 | O27: 2.28 | P27: =((($D$6+$D$7)*O27/100)+4325000)*1.2 -> 5650630.4
A28: 도급액 | D28: =SUM(D25:D27) -> 29181819
A29: 설치공사비 | D29: =D28+D4 -> 489181819 | E29: (도급액+제조구매비)
A30: 부가가치세 | D30: =INT(D29*G30/100) -> 48918181 | E30: (총원가)×10% | G30: 10
A31: 총공사비 | D31: =INT(D29+D30) -> 538100000 | E31: (물품금액)

Sheet 공종별집계표
A1: 공 종 별 집 계 표
A2: [ 제천하수처리장 최초침전지 슬러지 수집기 제조구매설치 ]
A3: 품 명 | B3: 규 격 | C3: 단위 | D3: 수량 | E3: 합 계 | G3: 재 료 비 | I3: 노 무 비 | K3: 경 비 | M3: 비 고 | N3: 공종코드 | O3: 변수 | P3: 상위공종 | Q3: 공종구분 | R3: 공종레벨 | S3: 공종소계 | T3: 원가계산서 연결금액
E4: 단 가 | F4: 금 액 | G4: 단 가 | H4: 금 액 | I4: 단 가 | J4: 금 액 | K4: 단 가 | L4: 금 액
A5: 제천하수처리장 슬러지 수집기 제조구매설치 | N5: 01 | R5: 1
A6: 1. 슬러지수집기 | N6: 0101 | P6: 01 | R6: 2
A7: 1.1 자재비 | D7: 1 | E7: =G7+I7+K7 -> 460000000 | F7: =H7+J7+L7 -> 460000000 | G7: =공종별내역서!H27 -> 460000000 | H7: =G7*D7 -> 460000000 | I7: =공종별내역서!J27 -> 0 | J7: =I7*D7 -> 0 | K7: =공종별내역서!L27 -> 0 | L7: =K7*D7 -> 0 | N7: 010101 | P7: 0101 | R7: 3
A8: 1.2 철거 및 설치비 | D8: 1 | E8: =G8+I8+K8 -> 16835906 | F8: =H8+J8+L8 -> 16835906 | G8: =공종별내역서!H51 -> 0 | H8: =G8*D8 -> 0 | I8: =공종별내역서!J51 -> 16835906 | J8: =I8*D8 -> 16835906 | K8: =공종별내역서!L51 -> 0 | L8: =K8*D8 -> 0 | N8: 010102 | P8: 0101 | R8: 3
A9: 계 | F9: =SUM(F7:F8) -> 476835906 | H9: =SUM(H7:H8) -> 460000000 | J9: =SUM(J7:J8) -> 16835906 | L9: =SUM(L7:L8) -> 0
Q13: 231978

Sheet 공종별내역서
A1: [ 제천하수처리장 최초침전지 슬러지 수집기 제조구매설치 ]
A2: 품 명 | B2: 규 격 | C2: 단위 | D2: 수량 | E2: 합 계 | G2: 재 료 비 | I2: 노 무 비 | K2: 경 비 | M2: 비 고 | N2: 품목코드 | O2: 변수 | P2: 설정 | Q2: 공종코드 | R2: 일위 | S2: 단산 | T2: 자재 | U2: 손료적용 | V2: 손료저장 | W2: 적용율 | X2: JUK1 | Y2: JUK2 | Z2: JUK3 | AA2: JUK4 | AB2: JUK5 | AC2: JUK6 | AD2: JUK7 | AE2: JUK8 | AF2: JUK9 | AG2: JUK10 | AH2: JUK11 | AI2: JUK12 | AJ2: JUK13 | AK2: JUK14 | AL2: JUK15 | AM2: JUK16 | AN2: JUK17 | AO2: JUK18 | AP2: JUK19 | AQ2: JUK20 | AR2: 자재구분 | AS2: 공종구분 | AT2: 공종레벨 | AU2: 공종+자재 | AV2: 고유번호
E3: 단 가 | F3: 금 액 | G3: 단 가 | H3: 금 액 | I3: 단 가 | J3: 금 액 | K3: 단 가 | L3: 금 액
A4: 1.1 자재비 | Q4: 010101
A5: MS-050101 슬러지 수집기 | B5: 중심구동지주형(D26m×H4.14m) | C5: 대 | D5: 1 | E5: =TRUNC(G5+I5+K5, 0) -> 230000000 | F5: =TRUNC(H5+J5+L5, 0) -> 230000000 | G5: =TRUNC(단가대비표!O5,0) -> 230000000 | H5: =TRUNC(G5*D5, 0) -> 230000000 | I5: =TRUNC(단가대비표!P5,0) -> 0 | J5: =TRUNC(I5*D5, 0) -> 0 | K5: =TRUNC(단가대비표!V5,0) -> 0 | L5: =TRUNC(K5*D5, 0) -> 0 | N5: 55DF42A6275E99DD0CB41050C2E96579418333 | Q5: 010101 | R5: F | S5: F | T5: T | AU5: 01010155DF42A6275E99DD0CB41050C2E96579418333 | AV5: 28
A6: MS-050102 슬러지 수집기 | B6: 중심구동지주형(D26m×H4.14m) | C6: 대 | D6: 1 | E6: =TRUNC(G6+I6+K6, 0) -> 230000000 | F6: =TRUNC(H6+J6+L6, 0) -> 230000000 | G6: =TRUNC(단가대비표!O6,0) -> 230000000 | H6: =TRUNC(G6*D6, 0) -> 230000000 | I6: =TRUNC(단가대비표!P6,0) -> 0 | J6: =TRUNC(I6*D6, 0) -> 0 | K6: =TRUNC(단가대비표!V6,0) -> 0 | L6: =TRUNC(K6*D6, 0) -> 0 | N6: 55DF42A6275E99DD0CB41050C2E9657941822F | Q6: 010101 | R6: F | S6: F | T6: T | AU6: 01010155DF42A6275E99DD0CB41050C2E9657941822F | AV6: 29
Q7: 010101
Q8: 010101
Q9: 010101
Q10: 010101
Q11: 010101
Q12: 010101
Q13: 010101
Q14: 010101
Q15: 010101
Q16: 010101
Q17: 010101
Q18: 010101
... Q26: 010101
A27: [ 합 계 ] | F27: =SUMIF(Q5:Q26,"010101",F5:F26) -> 460000000 | H27: =SUMIF(Q5:Q26,"010101",H5:H26) -> 460000000 | J27: =SUMIF(Q5:Q26,"010101",J5:J26) -> 0 | L27: =SUMIF(Q5:Q26,"010101",L5:L26) -> 0 | N27: TOTAL
A28: 1.2 철거 및 설치비 | Q28: 010102
A29: MS-050101 슬러지 수집기 | B29: 일반기기 철거 및 설치 | C29: 대 | D29: 1 | E29: =TRUNC(G29+I29+K29, 0) -> 8417953 | F29: =TRUNC(H29+J29+L29, 0) -> 8417953 | G29: =TRUNC(일위대가목록!F4,0) -> 0 | H29: =TRUNC(G29*D29, 0) -> 0 | I29: =TRUNC(일위대가목록!G4,0) -> 8417953 | J29: =TRUNC(I29*D29, 0) -> 8417953 | K29: =TRUNC(일위대가목록!H4,0) -> 0 | L29: =TRUNC(K29*D29, 0) -> 0 | M29: 호표 1 | N29: 52435256DCFB390A6156AA575F59E8 | Q29: 010102 | R29: T | S29: F | T29: F | AU29: 01010252435256DCFB390A6156AA575F59E8 | AV29: 26
A30: MS-050102 슬러지 수집기 | B30: 일반기기 철거 및 설치 | C30: 대 | D30: 1 | E30: =TRUNC(G30+I30+K30, 0) -> 8417953 | F30: =TRUNC(H30+J30+L30, 0) -> 8417953 | G30: =TRUNC(일위대가목록!F5,0) -> 0 | H30: =TRUNC(G30*D30, 0) -> 0 | I30: =TRUNC(일위대가목록!G5,0) -> 8417953 | J30: =TRUNC(I30*D30, 0) -> 8417953 | K30: =TRUNC(일위대가목록!H5,0) -> 0 | L30: =TRUNC(K30*D30, 0) -> 0 | M30: 호표 2 | N30: 52435256DCFB390A6156AA575F59ED | Q30: 010102 | R30: T | S30: F | T30: F | AU30: 01010252435256DCFB390A6156AA575F59ED | AV30: 27
Q31: 010102
Q32: 010102
Q33: 010102
Q34: 010102
Q35: 010102
Q36: 010102
Q37: 010102
Q38: 010102
Q39: 010102
Q40: 010102
Q41: 010102
Q42: 010102
... Q50: 010102
A51: [ 합 계 ] | F51: =SUMIF(Q29:Q50,"010102",F29:F50) -> 16835906 | H51: =SUMIF(Q29:Q50,"010102",H29:H50) -> 0 | J51: =SUMIF(Q29:Q50,"010102",J29:J50) -> 16835906 | L51: =SUMIF(Q29:Q50,"010102",L29:L50) -> 0 | N51: TOTAL

Sheet 일위대가목록
B1: 일 위 대 가 목 록
B2: [ 제천하수처리장 최초침전지 슬러지 수집기 제조구매설치 ]
A3: 코 드 | B3: 품 명 | C3: 규 격 | D3: 단위 | E3: 합 계 | F3: 재 료 비 | G3: 노 무 비 | H3: 경 비 | I3: 번 호 | J3: 비 고 | K3: 노임계수 | L3: 할증 | M3: 품셈개요 | N3: 장비일위
A4: 52435256DCFB390A6156AA575F59E8 | B4: MS-050101 슬러지 수집기 | C4: 일반기기 철거 및 설치 | D4: 대 | E4: =F4+G4+H4 -> 8417953 | F4: =일위대가!H6 -> 0 | G4: =일위대가!J6 -> 8417953 | H4: =일위대가!L6 -> 0 | I4: 호표 1
A5: 52435256DCFB390A6156AA575F59ED | B5: MS-050102 슬러지 수집기 | C5: 일반기기 철거 및 설치 | D5: 대 | E5: =F5+G5+H5 -> 8417953 | F5: =일위대가!H10 -> 0 | G5: =일위대가!J10 -> 8417953 | H5: =일위대가!L10 -> 0 | I5: 호표 2
A6: 52429276A35B99D0B6752D598FA9E8 | B6: 일반기기 철거 및 설치 | C6: 1ton ~ 5ton 미만 | D6: TON | E6: =F6+G6+H6 -> 6734363 | F6: =일위대가!H14 -> 0 | G6: =일위대가!J14 -> 6734363 | H6: =일위대가!L14 -> 0 | I6: 호표 3 | M6: 기계 13-11-1
A7: 52429276A35B99D0B6752D598FA9EE | B7: 일반기기 설치 | C7: 1ton ~ 5ton 미만 | D7: TON | E7: =F7+G7+H7 -> 4208977 | F7: =일위대가!H23 -> 0 | G7: =일위대가!J23 -> 4208977 | H7: =일위대가!L23 -> 0 | I7: 호표 4 | M7: 기계 13-11-1

Sheet 일위대가
A1: [ 제천하수처리장 최초침전지 슬러지 수집기 제조구매설치 ]
A2: 품 명 | B2: 규 격 | C2: 단위 | D2: 수량 | E2: 합 계 | G2: 재 료 비 | I2: 노 무 비 | K2: 경 비 | M2: 비 고 | N2: 일위대가 | O2: 품목코드 | P2: 일위 | Q2: 단산 | R2: 자재 | S2: 손료적용 | T2: 손료저장 | U2: 적용율 | V2: JUK1 | W2: JUK2 | X2: JUK3 | Y2: JUK4 | Z2: JUK5 | AA2: JUK6 | AB2: JUK7 | AC2: JUK8 | AD2: JUK9 | AE2: JUK10 | AF2: JUK11 | AG2: JUK12 | AH2: JUK13 | AI2: JUK14 | AJ2: JUK15 | AK2: JUK16 | AL2: JUK17 | AM2: JUK18 | AN2: JUK19 | AO2: JUK20 | AP2: 할증적용 | AQ2: 할증저장 | AR2: 할증율 | AS2: HAL1 | AT2: HAL2 | AU2: HAL3 | AV2: 자재구분 | AW2: 일위대가+자재 | AX2: 장비일위 | AY2: 설정 | AZ2: 할증체크
E3: 단 가 | F3: 금 액 | G3: 단 가 | H3: 금 액 | I3: 단 가 | J3: 금 액 | K3: 단 가 | L3: 금 액
A4: MS-050101 슬러지 수집기 일반기기 설치 대 ( 호표 1 ) | N4: 52435256DCFB390A6156AA575F59E8
A5: 일반기기 철거 및 설치 | B5: 1ton ~ 5ton 미만 | C5: TON | D5: 1.25 | E5: =TRUNC(G5+I5+K5,1) -> 6734363 | F5: =TRUNC(H5+J5+L5,1) -> 8417953.7 | G5: =일위대가목록!F6 -> 0 | H5: =TRUNC(G5*D5,1) -> 0 | I5: =일위대가목록!G6 -> 6734363 | J5: =TRUNC(I5*D5,1) -> 8417953.7 | K5: =일위대가목록!H6 -> 0 | L5: =TRUNC(K5*D5,1) -> 0 | M5: 호표 3 | N5: 52435256DCFB390A6156AA575F59E8 | O5: 52429276A35B99D0B6752D598FA9E8 | P5: T | Q5: F | R5: F | AW5: 52435256DCFB390A6156AA575F59E852429276A35B99D0B6752D598FA9E8
A6: [ 합 계 ] | F6: =H6+J6+L6 -> 8417953 | H6: =TRUNC(SUMIF(N5:N5, N4, H5:H5),0) -> 0 | J6: =TRUNC(SUMIF(N5:N5, N4, J5:J5),0) -> 8417953 | L6: =TRUNC(SUMIF(N5:N5, N4, L5:L5),0) -> 0 | N6: TOTAL | O6: TOTAL
A8: MS-050102 슬러지 수집기 일반기기 설치 대 ( 호표 2 ) | N8: 52435256DCFB390A6156AA575F59ED
A9: 일반기기 철거 및 설치 | B9: 1ton ~ 5ton 미만 | C9: TON | D9: 1.25 | E9: =TRUNC(G9+I9+K9,1) -> 6734363 | F9: =TRUNC(H9+J9+L9,1) -> 8417953.7 | G9: =일위대가목록!F6 -> 0 | H9: =TRUNC(G9*D9,1) -> 0 | I9: =일위대가목록!G6 -> 6734363 | J9: =TRUNC(I9*D9,1) -> 8417953.7 | K9: =일위대가목록!H6 -> 0 | L9: =TRUNC(K9*D9,1) -> 0 | M9: 호표 3 | N9: 52435256DCFB390A6156AA575F59ED | O9: 52429276A35B99D0B6752D598FA9E8 | P9: T | Q9: F | R9: F | AW9: 52435256DCFB390A6156AA575F59ED52429276A35B99D0B6752D598FA9E8
A10: [ 합 계 ] | F10: =H10+J10+L10 -> 8417953 | H10: =TRUNC(SUMIF(N9:N9, N8, H9:H9),0) -> 0 | J10: =TRUNC(SUMIF(N9:N9, N8, J9:J9),0) -> 8417953 | L10: =TRUNC(SUMIF(N9:N9, N8, L9:L9),0) -> 0 | N10: TOTAL | O10: TOTAL
A12: 일반기기 철거 및 설치 1ton ~ 5ton 미만 TON 기계 13-11-1, 4-1-7 ( 호표 3 ) | N12: 52429276A35B99D0B6752D598FA9E8
A13: 일반기기 설치 | B13: 1ton ~ 5ton 미만 | C13: 식 | D13: 1.6 | E13: =TRUNC(G13+I13+K13,1) -> 4208977 | F13: =TRUNC(H13+J13+L13,1) -> 6734363.2 | G13: =일위대가목록!F7 -> 0 | H13: =TRUNC(G13*D13,1) -> 0 | I13: =일위대가목록!G7 -> 4208977 | J13: =TRUNC(I13*D13,1) -> 6734363.2 | K13: =일위대가목록!H7 -> 0 | L13: =TRUNC(K13*D13,1) -> 0 | M13: 호표 4 | N13: 52429276A35B99D0B6752D598FA9E8 | O13: 52429276A35B99D0B6752D598FA9EE | P13: T | Q13: F | R13: F | AW13: 52429276A35B99D0B6752D598FA9E852429276A35B99D0B6752D598FA9EE
A14: [ 합 계 ] | F14: =H14+J14+L14 -> 6734363 | H14: =TRUNC(SUMIF(N13:N13, N12, H13:H13),0) -> 0 | J14: =TRUNC(SUMIF(N13:N13, N12, J13:J13),0) -> 6734363 | L14: =TRUNC(SUMIF(N13:N13, N12, L13:L13),0) -> 0 | N14: TOTAL | O14: TOTAL
A16: 일반기기 설치 1ton ~ 5ton 미만 TON 기계 13-11-1 ( 호표 4 ) | N16: 52429276A35B99D0B6752D598FA9EE
A17: 기계산업기사 | B17: 기계/설비 | C17: 인 | D17: 0.5 | E17: =TRUNC(G17+I17+K17,1) -> 263602 | F17: =TRUNC(H17+J17+L17,1) -> 131801 | G17: =단가대비표!O11 -> 0 | H17: =TRUNC(G17*D17,1) -> 0 | I17: =단가대비표!P11 -> 263602 | J17: =TRUNC(I17*D17,1) -> 131801 | K17: =단가대비표!V11 -> 0 | L17: =TRUNC(K17*D17,1) -> 0 | N17: 52429276A35B99D0B6752D598FA9EE | O17: 5257B2C66E6C298A37D7635F9939D73F4AD75C | P17: F | Q17: F | R17: T | AW17: 52429276A35B99D0B6752D598FA9EE5257B2C66E6C298A37D7635F9939D73F4AD75C
A18: 기계설비공 | B18: 일반공사 직종 | C18: 인 | D18: 7.24 | E18: =TRUNC(G18+I18+K18,1) -> 241698 | F18: =TRUNC(H18+J18+L18,1) -> 1749893.5 | G18: =단가대비표!O10 -> 0 | H18: =TRUNC(G18*D18,1) -> 0 | I18: =단가대비표!P10 -> 241698 | J18: =TRUNC(I18*D18,1) -> 1749893.5 | K18: =단가대비표!V10 -> 0 | L18: =TRUNC(K18*D18,1) -> 0 | N18: 52429276A35B99D0B6752D598FA9EE | O18: 5257B2C66E6C298910CBED5934598C4A39DE80 | P18: F | Q18: F | R18: T | V18: 1 | AW18: 52429276A35B99D0B6752D598FA9EE5257B2C66E6C298910CBED5934598C4A39DE80
A19: 비계공 | B19: 일반공사 직종 | C19: 인 | D19: 2.86 | E19: =TRUNC(G19+I19+K19,1) -> 281939 | F19: =TRUNC(H19+J19+L19,1) -> 806345.5 | G19: =단가대비표!O8 -> 0 | H19: =TRUNC(G19*D19,1) -> 0 | I19: =단가대비표!P8 -> 281939 | J19: =TRUNC(I19*D19,1) -> 806345.5 | K19: =단가대비표!V8 -> 0 | L19: =TRUNC(K19*D19,1) -> 0 | N19: 52429276A35B99D0B6752D598FA9EE | O19: 5257B2C66E6C298910CBED5934598C4A39DBCB | P19: F | Q19: F | R19: T | V19: 1 | AW19: 52429276A35B99D0B6752D598FA9EE5257B2C66E6C298910CBED5934598C4A39DBCB
A20: 용접공 | B20: 일반공사 직종 | C20: 인 | D20: 0.95 | E20: =TRUNC(G20+I20+K20,1) -> 282536 | F20: =TRUNC(H20+J20+L20,1) -> 268409.2 | G20: =단가대비표!O9 -> 0 | H20: =TRUNC(G20*D20,1) -> 0 | I20: =단가대비표!P9 -> 282536 | J20: =TRUNC(I20*D20,1) -> 268409.2 | K20: =단가대비표!V9 -> 0 | L20: =TRUNC(K20*D20,1) -> 0 | N20: 52429276A35B99D0B6752D598FA9EE | O20: 5257B2C66E6C298910CBED5934598C4A39DA25 | P20: F | Q20: F | R20: T | V20: 1 | AW20: 52429276A35B99D0B6752D598FA9EE5257B2C66E6C298910CBED5934598C4A39DA25
A21: 특별인부 | B21: 일반공사 직종 | C21: 인 | D21: 3.9 | E21: =TRUNC(G21+I21+K21,1) -> 226122 | F21: =TRUNC(H21+J21+L21,1) -> 881875.8 | G21: =단가대비표!O7 -> 0 | H21: =TRUNC(G21*D21,1) -> 0 | I21: =단가대비표!P7 -> 226122 | J21: =TRUNC(I21*D21,1) -> 881875.8 | K21: =단가대비표!V7 -> 0 | L21: =TRUNC(K21*D21,1) -> 0 | N21: 52429276A35B99D0B6752D598FA9EE | O21: 5257B2C66E6C298910CBED5934598C4A39DBCE | P21: F | Q21: F | R21: T | V21: 1 | AW21: 52429276A35B99D0B6752D598FA9EE5257B2C66E6C298910CBED5934598C4A39DBCE
A22: 검사및교정 | B22: 기술관리를 제외한 본 품의 10% | C22: 식 | D22: 1 | E22: =TRUNC(G22+I22+K22,1) -> 370652.4 | F22: =TRUNC(H22+J22+L22,1) -> 370652.4 | G22: 0 | H22: =TRUNC(G22*D22,1) -> 0 | I22: =TRUNC(SUMIF(V17:V22, RIGHTB(O22, 1), J17:J22)*U22, 2) -> 370652.4 | J22: =TRUNC(I22*D22,1) -> 370652.4 | K22: 0 | L22: =TRUNC(K22*D22,1) -> 0 | N22: 52429276A35B99D0B6752D598FA9EE | O22: 53902246B6FAE9F2E5F30257CC09001 | P22: F | Q22: F | R22: F | S22: 1 | T22: 1 | U22: 0.1 | AW22: 52429276A35B99D0B6752D598FA9EE53902246B6FAE9F2E5F30257CC09001
A23: [ 합 계 ] | F23: =H23+J23+L23 -> 4208977 | H23: =TRUNC(SUMIF(N17:N22, N16, H17:H22),0) -> 0 | J23: =TRUNC(SUMIF(N17:N22, N16, J17:J22),0) -> 4208977 | L23: =TRUNC(SUMIF(N17:N22, N16, L17:L22),0) -> 0 | N23: TOTAL | O23: TOTAL

Sheet 단가대비표
A1: 단 가 대 비 표
A2: [ 제천하수처리장 최초침전지 슬러지 수집기 제조구매설치 ]
A3: 코 드 | B3: 품 명 | C3: 규격 | D3: 단위 | E3: 재 료 비 | P3: 노 무 비 | Q3: 경 비 | W3: 번 호 | X3: 비 고 | Y3: 품목구분 | Z3: 노임구분 | AA3: 소수점처리 | AB3: 자재구분
E4: 물가정보 | F4: PAGE | G4: 물가자료 | H4: PAGE | I4: 조사가격1 | J4: PAGE | K4: 조사가격2 | L4: PAGE | M4: 조사가격3 | N4: PAGE | O4: 적용단가 | Q4: 물가정보 | R4: 물가자료 | S4: 조사가격1 | T4: 조사가격2 | U4: 조사가격3 | V4: 적용단가
A5: 55DF42A6275E99DD0CB41050C2E96579418333 | B5: MS-050101 슬러지 수집기 | C5: 중심구동지주형(D26m×H4.14m) | D5: 대 | E5: 0 | G5: 0 | I5: 230000000 | J5: 청명 | K5: 241000000 | L5: 고려 | M5: 250000000 | N5: 광명기전 | O5: =SMALL(E5:M5,COUNTIF(E5:M5,0)+1) -> 230000000 | P5: 0 | Q5: 0 | R5: 0 | S5: 0 | T5: 0 | U5: 0 | V5: 0 | W5: 자재 1
A6: 55DF42A6275E99DD0CB41050C2E9657941822F | B6: MS-050102 슬러지 수집기 | C6: 중심구동지주형(D26m×H4.14m) | D6: 대 | E6: 0 | G6: 0 | I6: 230000000 | J6: 청명 | K6: 241000000 | L6: 고려 | M6: 250000000 | N6: 광명기전 | O6: =SMALL(E6:M6,COUNTIF(E6:M6,0)+1) -> 230000000 | P6: 0 | Q6: 0 | R6: 0 | S6: 0 | T6: 0 | U6: 0 | V6: 0 | W6: 자재 2
A7: 5257B2C66E6C298910CBED5934598C4A39DBCE | B7: 특별인부 | C7: 일반공사 직종 | D7: 인 | E7: 0 | G7: 0 | I7: 0 | K7: 0 | M7: 0 | O7: 0 | P7: 226122 | Q7: 0 | R7: 0 | S7: 0 | T7: 0 | U7: 0 | V7: 0 | W7: 노임 1 | Y7: B
A8: 5257B2C66E6C298910CBED5934598C4A39DBCB | B8: 비계공 | C8: 일반공사 직종 | D8: 인 | E8: 0 | G8: 0 | I8: 0 | K8: 0 | M8: 0 | O8: 0 | P8: 281939 | Q8: 0 | R8: 0 | S8: 0 | T8: 0 | U8: 0 | V8: 0 | W8: 노임 2 | Y8: B
A9: 5257B2C66E6C298910CBED5934598C4A39DA25 | B9: 용접공 | C9: 일반공사 직종 | D9: 인 | E9: 0 | G9: 0 | I9: 0 | K9: 0 | M9: 0 | O9: 0 | P9: 282536 | Q9: 0 | R9: 0 | S9: 0 | T9: 0 | U9: 0 | V9: 0 | W9: 노임 3 | Y9: B
A10: 5257B2C66E6C298910CBED5934598C4A39DE80 | B10: 기계설비공 | C10: 일반공사 직종 | D10: 인 | E10: 0 | G10: 0 | I10: 0 | K10: 0 | M10: 0 | O10: 0 | P10: 241698 | Q10: 0 | R10: 0 | S10: 0 | T10: 0 | U10: 0 | V10: 0 | W10: 노임 4 | Y10: B
A11: 5257B2C66E6C298A37D7635F9939D73F4AD75C | B11: 기계산업기사 | C11: 기계/설비 | D11: 인 | E11: 0 | G11: 0 | I11: 0 | K11: 0 | M11: 0 | O11: 0 | P11: 263602 | Q11: 0 | R11: 0 | S11: 0 | T11: 0 | U11: 0 | V11: 0 | W11: 노임 5 | Y11: B

Sheet 견적서1

Sheet 견적서2

Sheet 견적서3

Sheet  공사설정 
A1: 이 Sheet는 수정하지 마십시요
A2: 공사구분 | B2: C | C2: 타이틀
A3: 확정내역 | B3: 원내역
A4: 자재단가적용 | B4: 5
A5: 경비단가적용 | B5: 5
A6: 품목코드형식 | B6: XXXX-XXXX-XXXXXXXXX
A7: 내역금액소수점처리 | B7: C | C7: 1
A8: 일위대가내역소수점처리 | B8: C | C8: 2
A9: 단가명 | B9: 물가정보 | C9: 물가자료 | D9: 조사가격1 | E9: 조사가격2 | F9: 조사가격3 | G9: TTTTT
A10: 환율 | B10: 1472 | C10: 0 | D10: 0
A11: 시간당작업량 | B11: R | C11: 4
A12: 1회 사이클시간 | B12: R | C12: 4
A13: 시간당 작업사이클 | B13: R | C13: 3
A14: 일반변수 | B14: R | C14: 5
A15: 시간당 노임산출 계수 | B15: A | C15: 1/8*16/12*25/20 | D15: 1/8*16/12*25/20 | E15: 1/8*16/12*25/20 | F15: 1
A16: 재료비 할증 계수 | B16: 1.11 | C16: 1.12
A17: 노무비 할증 계수 | B17: 1 | C17: 1.5 | D17: 1.16 | E17: 1.6 | F17: 1.6 | G17: 1.6 | H17: 1.94 | I17: 1.94 | J17: 1.94 | K17: 1 | L17: 1 | M17: 1
A18: 경비 할증 계수 | B18: 1.25 | C18: 1.071
A19: 내역,일위대가 품명,규격,단위 따로적용
A20: 내역단가 소수점처리 | B20: C | C20: 1
A21: 코드 | B21: 공종구분명 | C21: 원가비목코드
A22: 1 | B22: 작 업 부 산 물 | C22: A3
A23: 2 | B23: 운 반 비 | C23: C1
A24: 3 | B24: 관 급 자 재 비 | C24: DJ
A25: 4 | B25: 사 급 자 재 비 | C25: D3
A26: 5 | B26: 외 자 재
A27: 6 | B27: ...
A28: 7 | B28: ...
A29: 8 | B29: ...
A30: 9 | B30: ...
A31: A | B31: ....
A32: B | B32: .....
A33: C | B33: ....
A34: D | B34: ....
A35: E | B35: ....
A36: F | B36: ....
A37: G | B37: ....
A38: H | B38: ....
A39: I | B39: ....
A40: J | B40: ....
...

Sheet Sheet1
