Workbook
Name _: "="
Name __B2: '[2]단면 (2)'!$K$55
Name __pa1: #REF!
Name __pa2: #REF!
Name __phi3: #REF!
Name __tbm1: #REF!
Name __Ted1: #REF!
Name __Ts1: #REF!
Name _1: [3]I一般比!#REF!
Name _1._PANEL_BD.__LP___1: #REF!
Name _10_3_0Crite: #REF!
Name _11_3_0Crite: #REF!
Name _18_3_0Criteria: #REF!
Name _188956_6: #REF!
Name _19_3_0Criteria: #REF!
Name _1FF1_: #REF!
Name _2: #N/A
Name _2_3__Crite: #REF!
Name _3: #N/A
Name _3_3__Criteria: #REF!
Name _4: #N/A
Name _44B1_: #REF!
Name _4G__Extr: #REF!
Name _5: '[5]설직재-1'!#REF!
Name _51G_0Extr: #REF!
Name _52G_0Extr: #REF!
Name _59G_0Extract: #REF!
Name _5G__Extract: #REF!
Name _60G_0Extract: #REF!
Name _61단: #REF!
Name _7: '[5]설직재-1'!#REF!
Name _A01: #REF!
Name _A02: #REF!
Name _A03: #REF!
Name _A04: #REF!
Name _A05: #REF!
Name _A999999: #REF!
Name _A999999: #REF!
Name _AAA1: #REF!
Name _AAA2: #REF!
Name _B02: #REF!
Name _b03: #REF!
Name _b05: #REF!
Name _b06: #REF!
Name _b07: #REF!
Name _b08: #REF!
Name _b1: #REF!
Name _B10: #REF!
Name _B11: #REF!
Name _b12: #REF!
Name _b13: #REF!
Name _B14: #REF!
Name _b15: #REF!
Name _b17: #REF!
Name _b18: #REF!
Name _b19: #REF!
Name _b2: #REF!
Name _B20: #REF!
Name _B21: #REF!
Name _B23: #REF!

Sheet 표지
A1: 2026년도
A7: 양양군 하상도로 안내전광판 납품. 설치공사
A10: 설 계 서
A25: 2026. 07.
A35: 2026년도 07월 설계 | D35: 설계자 | H35: 심사자 | L35: 담 당 | P35: 과 장
A41: =A7 -> 양양군 하상도로 안내전광판 납품. 설치공사
A44: 설 계 예 산 서
B52: 구 분 | E52: 공 사 금 액 | O52: 비 고
B54: 총 공 사 | E54: ="금 : "&NUMBERSTRING(L54,1)&"원" -> 금 : 팔천이백칠십이만사천원 | L54: =원가계산서!F3 -> 82724000
B56: 관급자재비 | E56: ="금 : "&NUMBERSTRING(L56,1)&"원" -> 금 : 일천육백구십구만사천원 | L56: =원가계산서!F4 -> 16994000
B58: 설치공사비 | E58: ="금 : "&NUMBERSTRING(L58,1)&"원" -> 금 : 육천오백칠십삼만원 | L58: =원가계산서!F5 -> 65730000
B60: 조 달 수 수 료 | E60: ="금 : "&NUMBERSTRING(L60,1)&"원" -> 금 : 영원 | L60: =[154]원가계산서!F6 -> 0

Sheet 설계설명
A1: 1. | B1: 공 사 목 적
B2: 본 과업은 양양군 하상도로 안내전광판을 설치하여 차량의 출입 통제 및 국민의 안전을 보호하기위함.
A5: 2. | B5: 공 사 범 위
B6: ▣ 공사명 : | C6: =표지!A7 -> 양양군 하상도로 안내전광판 납품. 설치공사
B7: ▣ 위 치 : | C7: 남문리양양교 상류, 하류, 연창리양양대교 상류, 하류, 송현리양양대교 상류, 하류, 농업기술센터 뒤쪽,손양양수장 앞,
C8: 쌍천교 하류, 상류, 쌍천 세월교, 월리 남대천 하상도로
A9: 3. | B9: 공 사 개 요
B10: ⊙ 정보통신공사
A14: 4. | B14: 공 사 기 간
B15: 본 공사는 착수일로 부터 29일로 한다. 단, 아래의 경우에는 발주기관과 수급자와 협의하여 공사기간을 연장할 수 있다.
B16: 가) 공사가간중 강우일수 또는 강우로 안한 작업불가능 일수가 평균강우일수보다 많을때
B17: 나) 천재지변으로 인하여 작업이 불가능 할 때
B18: 다) 발주기관의 지시에 따라 작업이 중단되었을 때
B19: 라) 편입용지 및 지장물이 보상지연으로 작업이 불가능 할 때
B20: 마) 기타 불가피한 상황이 발생하였을 때

Sheet 예정공정표
A1: 예 정 공 정 표
J2: (공사기간 :29 일)
B4: 공 종 | C4: 공 사 기 간 | I4: 공 정
C5: 착수 5 일 | D5: 10 | E5: 15 | F5: 20 | G5: 25 | H5: 29
B6: 1. 현장조사 및 자재준비 | C6: ▤▤▤▤▤▤▤ | D6: ▤▤▤▤▤▤▤ | I6: =SUM(C7+D7+E7+F7+G7+H7)% -> 0.1
C7: 5 | D7: 5
B8: 2. 전광판 설치 및 케이블포설 | D8: ▤▤▤▤▤▤▤ | E8: ▤▤▤▤▤▤▤ | F8: ▤▤▤▤▤▤▤ | G8: ▤▤▤▤▤▤▤ | I8: =SUM(C9:H9)% -> 0.8
D9: 20 | E9: 20 | F9: 20 | G9: 20
B10: 3. 전광판 개통 및 시운전 | G10: ▤▤▤▤▤▤▤ | H10: ▤▤▤▤▤▤▤ | I10: =SUM(C11:H11)% -> 0.08
G11: 4 | H11: 4
B12: 4. 현장 정리 및 준공검사 | H12: ▤▤▤▤▤▤▤ | I12: =SUM(C13:H13)% -> 0.02
H13: 2
B14: 계 | C14: =SUM(C7+C9+C11+C13) -> 5 | D14: =SUM(D7+D9+D11+D13) -> 25 | E14: =SUM(E7+E9+E11+E13) -> 20 | F14: =SUM(F7+F9+F11+F13) -> 20 | G14: =SUM(G7+G9+G11+G13) -> 24 | H14: =SUM(H7+H9+H11+H13) -> 6
B16: 누 계 | C16: =+C14 -> 5 | D16: =SUM(C16+D14) -> 30 | E16: =SUM(D16+E14) -> 50 | F16: =SUM(E16+F14) -> 70 | G16: =SUM(F16+G14) -> 94 | H16: =SUM(G16+H14) -> 100

Sheet 원가계산서
A1: 공 사 원 가 계 산 서
A2: 공 사 명 | D2: =표지!A7 -> 양양군 하상도로 안내전광판 납품. 설치공사 | H2: 작성일자 | I2: 2026. 07.
A3: 총 공 사 비 | D3: ="일금 : "&NUMBERSTRING(F3,1)&"원정" -> 일금 : 팔천이백칠십이만사천원정 | F3: =G39 -> 82724000 | H3: 작 성 자
A4: 도 급 공 사 비 | D4: ="일금 : "&NUMBERSTRING(F4,1)&"원정" -> 일금 : 일천육백구십구만사천원정 | F4: =G34 -> 16994000
A5: 관 급 자 재 대 | D5: ="일금 : "&NUMBERSTRING(F5,1)&"원정" -> 일금 : 육천오백칠십삼만원정 | F5: =G35 -> 65730000
A6: 설 계 내 역 서
A8: 비 목 | D8: 구 성 비 | G8: 금 액 | I8: 비 고
A9: 순 공 사 원 가 | B9: 재료비 | C9: 직 접 재 료 비 | G9: =총괄표!G19 -> 4792720
C10: 간 접 재 료 비
C11: [ 소 계 ] | G11: =SUM(G9:H10) -> 4792720
B12: 노무비 | C12: 직 접 노 무 비 | G12: =총괄표!I19 -> 6195153.4
C13: 간 접 노 무 비 | D13: 15 | G13: =INT(G12*D13%) -> 929273
C14: [ 소 계 ] | G14: =SUM(G12:H13) -> 7124426.4
B15: 경 비 | C15: 기 계 경 비
C16: 산 재 보 험 료 | D16: 3.56 | G16: =INT(G14*D16%) -> 253629
C17: 고 용 보 험 료 | D17: 1.01 | G17: =INT(G14*D17%) -> 71956
C18: 국민 건강 보험료 | D18: 3.595 | I18: 1개월이하 공사 제외
C19: 국민 연금 보험료 | D19: 4.75 | I19: 1개월이하 공사 제외
C20: 노인 장기요양 보험료 | D20: 13.14 | I20: 1개월이하 공사 제외
C21: 퇴직 공제 부금비 | D21: 2.3 | G21: =INT(G12*0%) -> 0 | I21: 공사금액 1억 이상 적용
C22: 산업안전보건관리비 | D22: 도급자 관급 미포함 | E22: 2.07 | G22: =SUM(G11+G12)*2.07% -> 227448.98 | I22: 총공사금액 2천만원이상 적용
D23: 도급자 관급 포함 (a, b중 작은 금액) | E23: 2.07
E24: 2.07
C25: 기 타 경 비 | D25: 4.6 | G25: =SUM(G11+G14)*D25% -> 548188.74
C26: [ 소 계 ] | G26: =SUM(G16:H25) -> 1101222.7
A27: 계 | D27: 재료비 + 노무비 + 경비 | G27: =SUM(G11,G14,G26) -> 13018369
A28: 일 반 관 리 비 | D28: 8 | G28: =G27*D28% -> 1041469.5 | Z28: 도급자 관급 미포함 적용
A29: 계 | G29: =SUM(G27:H28) -> 14059839
A30: 이 윤 | D30: 15 | G30: =INT((G14+G26+G28)*D30%) -> 1390067 | Z30: 도급자 관급 포함 (a항) 적용
A31: 계 | G31: =SUM(G29:H30) -> 15449906 | K31: 119976000 | Z31: 도급자 관급 포함 (b항) 적용
A32: 부 가 가 치 세 | D32: 10 | G32: =INT(G31*D32%) -> 1544990 | K32: 0
A33: 도 급 공 사 비 | G33: =SUM(G31:H32) -> 16994896 | Z33: 도급자 관급 포함 (b항) 적용, [1.2 배 계상] 관급자재가 있는 경우 당해 금액을 대상액에 포함시킬 때의 안전관리비는 당해 금액을 포함하지 않은 대상액을 기준으로 계상한 안전관리비의 1.2배를 초과할 수 없다
D34: ≒ | G34: =TRUNC(G33,-3) -> 16994000 | I34: 백단위 이하 절사
A35: 관 급 자 재 대 | G35: =제조원가계산서!G40 -> 65730000 | I35: 부가세 포함
A36: 관 급 자 재 대
A37: 관 급 자 재 대 | D37: 한전납입금 | I37: =IF(G37>0,"부가세 포함",IF(G37<=0," "))
A38: 관 급 자 재 대 | E38: 인입수전비 개소당 (부가세포함) | F38: 242000 | I38: 별도공사
A39: 총 공 사 비 | G39: =SUM(G34:H38) -> 82724000 | I39: 천단위이하 절사

Sheet 총괄표
A1: 총 괄 표
A2: =원가계산서!D2 -> 양양군 하상도로 안내전광판 납품. 설치공사
A3: NO | B3: 공 종 | C3: 규 격 | D3: 단 위 | E3: 수 량 | F3: 재 료 비 | H3: 노 무 비 | J3: 경 비 | L3: 합 계 | N3: 비 고
F4: 단 가 | G4: 금 액 | H4: 단 가 | I4: 금 액 | J4: 단 가 | K4: 금 액 | L4: 단 가 | M4: 금 액
A5: 1. 전광판 설치공사
A6: 1. 설치공사 | D6: 식 | E6: 1 | F6: =내역서!G14 -> 4792720 | G6: =SUM(F6*E6) -> 4792720 | H6: =내역서!I14 -> 6195153.4 | I6: =SUM(H6*E6) -> 6195153.4 | L6: =SUM(F6+H6+J6) -> 10987873 | M6: =SUM(G6+I6+K6) -> 10987873
B19: 소 계 | G19: =SUM(G6:G18) -> 4792720 | I19: =SUM(I6:I18) -> 6195153.4 | M19: =SUM(M6:M18) -> 10987873

Sheet 내역서
A1: 내 역 서
A2: =총괄표!A2 -> 양양군 하상도로 안내전광판 납품. 설치공사
A3: NO | B3: 공 종 | C3: 규 격 | D3: 단 위 | E3: 수 량 | F3: 재 료 비 | H3: 노 무 비 | J3: 경 비 | L3: 합 계 | N3: 비 고
F4: 단 가 | G4: 금 액 | H4: 단 가 | I4: 금 액 | J4: 단 가 | K4: 금 액 | L4: 단 가 | M4: 금 액
A5: 1. 전광판 설치공사
A6: - | B6: =견적비교표!B14 -> 전광판하부폴 | C6: =견적비교표!C14 -> Φ152*1M*2T*상부베이스판*384*112*150*6T*보강대용접*분체도장 | D6: =견적비교표!D14 -> EA | E6: =수량산출서!L21 -> 5 | F6: =견적비교표!L14 -> 670000 | G6: =SUM(F6*E6) -> 3350000 | H6: =일위대가표!L25 -> 214951.26 | I6: =SUM(H6*E6) -> 1074756.3 | L6: =SUM(F6+H6+J6) -> 884951.26 | M6: =SUM(G6+I6) -> 4424756.3 | N6: 호표 5
A7: - | B7: =견적비교표!B15 -> 앵커 | C7: =견적비교표!C15 -> M22*500L | D7: =견적비교표!D15 -> EA | E7: =수량산출서!M21 -> 20 | F7: =견적비교표!L15 -> 30370 | G7: =SUM(F7*E7) -> 607400 | H7: =일위대가표!L30 -> 65522.4 | I7: =SUM(H7*E7) -> 1310448 | L7: =SUM(F7+H7+J7) -> 95892.4 | M7: =SUM(G7+I7) -> 1917848 | N7: 호표 6
A8: - | B8: =견적비교표!B16 -> Patch Cord | C8: =견적비교표!C16 -> UTP CAT.6-10M | D8: =견적비교표!D16 -> EA | E8: =수량산출서!N21 -> 12 | F8: =견적비교표!L16 -> 49900 | G8: =SUM(F8*E8) -> 598800 | H8: =일위대가표!L34 -> 65433.6 | I8: =SUM(H8*E8) -> 785203.2 | L8: =SUM(F8+H8+J8) -> 115333.6 | M8: =SUM(G8+I8) -> 1384003.2 | N8: 호표 7
A9: - | B9: =견적비교표!B17 -> 제어케이블 | C9: =견적비교표!C17 -> TFR-CV 2.5-2C | D9: =견적비교표!D17 -> m | E9: =수량산출서!O21 -> 120 | F9: =견적비교표!L17 -> 1971 | G9: =SUM(F9*E9) -> 236520 | H9: =일위대가표!L38 -> 6107.136 | I9: =SUM(H9*E9) -> 732856.32 | L9: =SUM(F9+H9+J9) -> 8078.136 | M9: =SUM(G9+I9) -> 969376.32 | N9: 호표 8
A10: - | B10: 안전시설 | C10: =수량산출서!P4 -> 라바콘, 표지판, 신호수 | D10: 개소 | E10: =수량산출서!P21 -> 12 | H10: =일위대가표!L42 -> 190990.8 | I10: =SUM(H10*E10) -> 2291889.6 | L10: =SUM(F10+H10+J10) -> 190990.8 | M10: =SUM(G10+I10) -> 2291889.6 | N10: 호표 9
B14: 소 계 | G14: =SUM(G6:G12) -> 4792720 | I14: =SUM(I6:I12) -> 6195153.4 | M14: =SUM(M6:M12) -> 10987873

Sheet 제조원가계산서
A1: 제 조 원 가 계 산 서
A2: =원가계산서!D2 -> 양양군 하상도로 안내전광판 납품. 설치공사
A3: 품 명 | D3: 규 격 | E3: 단위 | F3: 수량 | G3: 단 가 | H3: 금 액 | I3: 비 고
A4: 2. 전광판 제작
B5: 1)재료비
C6: =견적비교표!B5 -> P6 LED color Module, 옥외용 | D6: =견적비교표!C5 -> 192mmX192mm, 32*32dots | E6: =견적비교표!D5 -> EA | F6: =수량산출서!C21 -> 120 | G6: =견적비교표!L5 -> 169000 | H6: =SUM(G6*F6) -> 20280000
C7: =견적비교표!B6 -> SECTION BOARD | D7: =견적비교표!C6 -> LED묘듈 PIXEL제어 | E7: =견적비교표!D6 -> EA | F7: =수량산출서!D21 -> 24 | G7: =견적비교표!L6 -> 120000 | H7: =SUM(G7*F7) -> 2880000
C8: =견적비교표!B7 -> 전원공급장치 | D8: =견적비교표!C7 -> 5V/200W | E8: =견적비교표!D7 -> EA | F8: =수량산출서!E21 -> 24 | G8: =견적비교표!L7 -> 150000 | H8: =SUM(G8*F8) -> 3600000
C9: =견적비교표!B8 -> 테이타선 | D9: =견적비교표!C8 -> Flat 16Pin, 100mm | E9: =견적비교표!D8 -> EA | F9: =수량산출서!F21 -> 120 | G9: =견적비교표!L8 -> 1730 | H9: =SUM(G9*F9) -> 207600
C10: =견적비교표!B9 -> 전원선 | D10: =견적비교표!C9 -> 4Pin, 200mm-3.5 | E10: =견적비교표!D9 -> EA | F10: =수량산출서!G21 -> 120 | G10: =견적비교표!L9 -> 1100 | H10: =SUM(G10*F10) -> 132000
C11: =견적비교표!B10 -> 메인 콘트롤러 | D11: =견적비교표!C10 -> 문자전송 콘트롤러 | E11: =견적비교표!D12 -> EA | F11: =수량산출서!H21 -> 12 | G11: =견적비교표!L10 -> 860000 | H11: =SUM(G11*F11) -> 10320000
C12: =견적비교표!B11 -> 외함 케이스 | D12: =견적비교표!C11 -> 1040(w) x 464(h) x 150(d) 분체도장 | E12: =견적비교표!D13 -> EA | F12: =수량산출서!I21 -> 12 | G12: =견적비교표!L11 -> 1180000 | H12: =SUM(G12*F12) -> 14160000
C13: =견적비교표!B12 -> 스테인리스 작은나사 | D13: =견적비교표!C12 -> M4 x 10 | E13: =견적비교표!D10 -> EA | F13: =수량산출서!J21 -> 720 | G13: =견적비교표!L12 -> 26.6 | H13: =SUM(G13*F13) -> 19152
C14: =견적비교표!B13 -> 스테인리스 육각볼트 | D14: =견적비교표!C13 -> M6 x 20 | E14: =견적비교표!D11 -> EA | F14: =수량산출서!K21 -> 288 | G14: =견적비교표!L13 -> 73 | H14: =SUM(G14*F14) -> 21024
C15: =견적비교표!B18 -> 모니터 | D15: =견적비교표!C18 -> 75", UHD 4K | E15: =견적비교표!D12 -> EA | F15: =수량산출서!Q21 -> 1 | G15: =견적비교표!L18 -> 1980000 | H15: =SUM(G15*F15) -> 1980000
C16: =견적비교표!B19 -> 모니터 브라켓 | D16: =견적비교표!C19 -> 천정형, 각도조절가능 | E16: =견적비교표!D13 -> EA | F16: =수량산출서!R21 -> 1 | G16: =견적비교표!L19 -> 680000 | H16: =SUM(G16*F16) -> 680000
C17: 소 계 | H17: =SUM(H6:H16) -> 54279776
B19: 2)노무비
C20: LED 전광판 | D20: 설치작업 | E20: ㎡ | F20: 5 | G20: =일위대가표!L5 -> 321838.56 | H20: =SUM(G20*F20) -> 1609192.8 | I20: 호표1
C21: 제어부 | D21: 운영컴퓨터, 신호분배기 | E21: 대 | F21: 1 | G21: =일위대가표!L9 -> 743821.8 | H21: =SUM(G21*F21) -> 743821.8 | I21: 호표2
C22: 종합시험 | E22: 대 | F22: 1 | G22: =일위대가표!L16 -> 709484.4 | H22: =SUM(G22*F22) -> 709484.4 | I22: 호표3
C23: 마감, 방수처리 | D23: 통신설비공 | E23: ㎡ | F23: =F20 -> 5 | G23: =일위대가표!L21 -> 9465.84 | H23: =SUM(G23*F23) -> 47329.2 | I23: 호표4
C24: =견적비교표!B18 -> 모니터 | D24: =견적비교표!C18 -> 75", UHD 4K | E24: EA | F24: 1 | G24: =일위대가표!L48 -> 322419.24 | H24: =SUM(G24*F24) -> 322419.24 | I24: 호표10
C25: =견적비교표!B19 -> 모니터 브라켓 | D25: =견적비교표!C19 -> 천정형, 각도조절가능 | E25: EA | F25: 1 | G25: =일위대가표!L53 -> 151154.76 | H25: =SUM(G25*F25) -> 151154.76 | I25: 호표11
C26: 소 계 | H26: =SUM(H20:H25) -> 3583402.2
B27: 3)제조원가계산서
C28: 가)재료비 | G28: =SUM(G29:G30) -> 54279776
C29: 직접재료비 | E29: 식 | F29: 1 | G29: =H17 -> 54279776
C30: 간접재료비 | E30: 식
C31: 나)노무비 | E31: 식 | F31: 1 | G31: =SUM(G32:G33) -> 3583402.2
C32: 직접노무비 | E32: 식 | F32: 1 | G32: =H26 -> 3583402.2
C33: 간접노무비 | E33: 식
C34: 다)경비 | E34: 식
C35: 라)제조원가 | E35: 식 | F35: 1 | G35: =G28+G31+G34 -> 57863178
C36: 마)일반관리비 | D36: 제조원가의 3% | E36: 식 | F36: 1 | G36: =G35*0.03 -> 1735895.3
C37: 바)이윤 | D37: (나+다+마)의 3% | E37: 식 | F37: 1 | G37: =(G31+G34+G36)*0.03 -> 159578.93
C38: 사)총원가 | E38: 식 | F38: 1 | G38: =SUM(G35:G37) -> 59758652
C39: 아)부가가치세 | E39: 식 | F39: 1 | G39: =G38*0.1 -> 5975865.2
C40: 자)합 계 | E40: 식 | F40: 1 | G40: =TRUNC(SUM(G38:G39),-4) -> 65730000 | I40: 천단위이하절사

Sheet 일위대가표
A1: 일 위 대 가 표
A2: 작업종별 | B2: 규격 | C2: 단위 | D2: 수량 | E2: 재료비 | G2: 인 건 비 | I2: 경 비 | K2: 계 | M2: 비 고
E3: 단가 | F3: 금액 | G3: 단 가 | H3: 금 액 | I3: 단 가 | J3: 금 액 | K3: 단 가 | L3: 금 액
A4: [ 호표1 ] LED 전광판
C5: ㎡ | D5: 1 | K5: =SUM(H6:H7) -> 321838.56 | L5: =SUM(D5*K5) -> 321838.56 | M5: 통신 8-5-1
B6: 통신설비공 | C6: 인 | D6: 1.02 | G6: =노임단가표!E5 -> 315528 | H6: =SUM(D6*G6) -> 321838.56
A8: [ 호표2 ] 제어부(운영컴퓨터, 신호분배기)
C9: 대 | D9: 1 | K9: =SUM(H10:H13) -> 743821.8 | L9: =SUM(D9*K9) -> 743821.8 | M9: 통신 8-5-1
A10: 운영컴퓨터 | B10: S/W시험사 | C10: 인 | D10: 0.1 | G10: =노임단가표!E17 -> 446358 | H10: =SUM(D10*G10) -> 44635.8
B11: H/W시험사 | C11: 인 | D11: 0.44 | G11: =노임단가표!E12 -> 393090 | H11: =SUM(D11*G11) -> 172959.6
A12: 신호분배기 | B12: 통신설비공 | C12: 인 | D12: 0.7 | G12: =노임단가표!E5 -> 315528 | H12: =SUM(D12*G12) -> 220869.6
B13: 통신케이블공 | C13: 인 | D13: 0.7 | G13: =노임단가표!E6 -> 436224 | H13: =SUM(D13*G13) -> 305356.8
A15: [ 호표3 ] 종합시험 (LED전광판)
C16: 식 | D16: 1 | K16: =SUM(H17:H19) -> 709484.4 | L16: =SUM(D16*K16) -> 709484.4 | M16: 통신 8-5-1
B17: 통신관련산업기사 | C17: 인 | D17: 1.04 | G17: =노임단가표!E8 -> 304509 | H17: =SUM(D17*G17) -> 316689.36
B18: S/W시험사 | C18: 인 | D18: 0.88 | G18: =노임단가표!E17 -> 446358 | H18: =SUM(D18*G18) -> 392795.04
A20: [ 호표4 ] 마감, 방수처리
C21: ㎡ | D21: 1 | K21: =SUM(H22:H23) -> 9465.84 | L21: =SUM(D21*K21) -> 9465.84 | M21: 통신 8-5-1
B22: 통신설비공 | C22: 인 | D22: 0.03 | G22: =노임단가표!E5 -> 315528 | H22: =SUM(D22*G22) -> 9465.84
A24: [ 호표5 ] 폴 설치
B25: 3M 이하 | C25: 기 | D25: 1 | K25: =SUM(H26:H27) -> 214951.26 | L25: =SUM(D25*K25) -> 214951.26 | M25: 통신9-2-1-3
B26: 통신외선공 | C26: 인 | D26: 0.29 | G26: =노임단가표!E10 -> 408942 | H26: =SUM(D26*G26) -> 118593.18
B27: 보통인부 | C27: 인 | D27: 0.56 | G27: =노임단가표!E7 -> 172068 | H27: =SUM(D27*G27) -> 96358.08
A29: [ 호표6 ] 앵커볼트설치
B30: ￠22~￠25mm | C30: 개 | D30: 1 | K30: =H31 -> 65522.4 | L30: =SUM(D30*K30) -> 65522.4 | M30: 통신3-7-1
B31: 통신내선공 | C31: 인 | D31: 0.23 | G31: =노임단가표!E9 -> 284880 | H31: =SUM(D31*G31) -> 65522.4
A33: [ 호표7 ]UTP케이블
B34: UTP CAT.6-4P (10M) | C34: 개 | D34: 1 | K34: =H35 -> 65433.6 | L34: =SUM(D34*K34) -> 65433.6 | M34: 통신4-3-1
B35: 통신케이블공 | C35: 인 | D35: 0.15 | G35: =노임단가표!E6 -> 436224 | H35: =SUM(D35*G35) -> 65433.6
A37: [ 호표8 ] 제어용 케이블
B38: FW-CVV-S 2.5-2C | C38: M | D38: 1 | K38: =H39 -> 6107.136 | L38: =SUM(D38*K38) -> 6107.136 | M38: 통신4-4-1
B39: 통신케이블공 | C39: 인 | D39: 0.014 | G39: =노임단가표!E6 -> 436224 | H39: =SUM(D39*G39) -> 6107.136
A41: [ 호표9 ] 안전시설
C42: 개소 | D42: 1 | K42: =SUM(H43:H45) -> 190990.8 | L42: =K42 -> 190990.8 | M42: 통신1-1-27-1
A43: 라바콘 | B43: 보통인부 | C43: 인 | D43: 0.05 | G43: =노임단가표!E7 -> 172068 | H43: =SUM(G43*D43) -> 8603.4 | M43: 34M 기준
A44: 표지판 | B44: 보통인부 | C44: 인 | D44: 0.05 | G44: =노임단가표!E7 -> 172068 | H44: =SUM(G44*D44) -> 8603.4
A45: 신호수 | B45: 교통정리원 | C45: 인 | D45: 1 | G45: =노임단가표!E22 -> 173784 | H45: =SUM(G45*D45) -> 173784
A47: [ 호표10 ] TV 모니터 설치 41"이상 | C47: 개
B48: 41"이상 | C48: M | D48: 1 | K48: =SUM(H49:H50) -> 322419.24 | L48: =SUM(D48*K48) -> 322419.24 | M48: 통신7-11-1
B49: 통신관련산업기사 | C49: 인 | D49: 0.52 | G49: =노임단가표!E8 -> 304509 | H49: =SUM(D49*G49) -> 158344.68
B50: 통신설비공 | D50: 0.52 | G50: =노임단가표!E5 -> 315528 | H50: =SUM(D50*G50) -> 164074.56
A52: [ 호표11 ] 브라켓 설치 | C52: 개
B53: 천장형 | C53: M | D53: 1 | K53: =SUM(H54:H55) -> 151154.76 | L53: =SUM(D53*K53) -> 151154.76 | M53: 통신7-11-1
B54: 통신설비공 | C54: 인 | D54: 0.31 | G54: =노임단가표!E5 -> 315528 | H54: =SUM(D54*G54) -> 97813.68
B55: 보통인부 | D55: 0.31 | G55: =노임단가표!E7 -> 172068 | H55: =SUM(D55*G55) -> 53341.08

Sheet 수량산출서
A1: 수 량 집 계 표
A2: =원가계산서!D2 -> 양양군 하상도로 안내전광판 납품. 설치공사
A3: 공 정 | B3: 품 명 | C3: =견적비교표!B5 -> P6 LED color Module, 옥외용 | D3: =견적비교표!B6 -> SECTION BOARD | E3: =견적비교표!B7 -> 전원공급장치 | F3: =견적비교표!B8 -> 테이타선 | G3: =견적비교표!B9 -> 전원선 | H3: =견적비교표!B10 -> 메인 콘트롤러 | I3: =견적비교표!B11 -> 외함 케이스 | J3: =견적비교표!B12 -> 스테인리스 작은나사 | K3: =견적비교표!B13 -> 스테인리스 육각볼트 | L3: =견적비교표!B14 -> 전광판하부폴 | M3: =견적비교표!B15 -> 앵커 | N3: =견적비교표!B16 -> Patch Cord | O3: =견적비교표!B17 -> 제어케이블 | P3: 안전시설 | Q3: =견적비교표!B18 -> 모니터 | R3: =견적비교표!B19 -> 모니터 브라켓 | S3: 비 고
B4: 규 격 | C4: =견적비교표!C5 -> 192mmX192mm, 32*32dots | D4: =견적비교표!C6 -> LED묘듈 PIXEL제어 | E4: =견적비교표!C7 -> 5V/200W | F4: =견적비교표!C8 -> Flat 16Pin, 100mm | G4: =견적비교표!C9 -> 4Pin, 200mm-3.5 | H4: =견적비교표!C10 -> 문자전송 콘트롤러 | I4: =견적비교표!C11 -> 1040(w) x 464(h) x 150(d) 분체도장 | J4: =견적비교표!C12 -> M4 x 10 | K4: =견적비교표!C13 -> M6 x 20 | L4: =견적비교표!C14 -> Φ152*1M*2T*상부베이스판*384*112*150*6T*보강대용접*분체도장 | M4: =견적비교표!C15 -> M22*500L | N4: =견적비교표!C16 -> UTP CAT.6-10M | O4: =견적비교표!C17 -> TFR-CV 2.5-2C | P4: 라바콘, 표지판, 신호수 | Q4: =견적비교표!C18 -> 75", UHD 4K | R4: =견적비교표!C19 -> 천정형, 각도조절가능
A5: 위 치 | B5: 단 위 | C5: =견적비교표!D5 -> EA | D5: =견적비교표!D6 -> EA | E5: =견적비교표!D7 -> EA | F5: =견적비교표!D8 -> EA | G5: =견적비교표!D9 -> EA | H5: =견적비교표!D10 -> EA | I5: =견적비교표!D11 -> EA | J5: =견적비교표!D12 -> EA | K5: =견적비교표!D13 -> EA | L5: =견적비교표!D14 -> EA | M5: =견적비교표!D15 -> EA | N5: =견적비교표!D16 -> EA | O5: =견적비교표!D17 -> m | P5: 개소 | Q5: =견적비교표!D18 -> EA | R5: =견적비교표!D19 -> EA
A6: 상황실 | Q6: 1 | R6: 1
A7: 문자표시부 ( 1,920mm X384mm), 단면
A8: 남문리 양양교 상류 진입 | C8: 10 | D8: 2 | E8: 2 | F8: =C8 -> 10 | G8: =C8*1 -> 10 | H8: 1 | I8: 1 | J8: =SUM(C8)*6 -> 60 | K8: =SUM(D8+E8)*6 -> 24 | L8: 1 | M8: 4 | N8: 1 | O8: 10 | P8: 1
A9: 남문리 양양교 하류 진입 | C9: 10 | D9: 2 | E9: 2 | F9: =C9 -> 10 | G9: =C9*1 -> 10 | H9: 1 | I9: 1 | J9: =SUM(C9)*6 -> 60 | K9: =SUM(D9+E9)*6 -> 24 | M9: =L9 -> 0 | N9: 1 | O9: 10 | P9: 1
A10: 연창리 양양대교 상류 진입 | C10: 10 | D10: 2 | E10: 2 | F10: =C10 -> 10 | G10: =C10*1 -> 10 | H10: 1 | I10: 1 | J10: =SUM(C10)*6 -> 60 | K10: =SUM(D10+E10)*6 -> 24 | L10: 1 | M10: 4 | N10: 1 | O10: 10 | P10: 1
A11: 연창리 양양대교 하류 진입 | C11: 10 | D11: 2 | E11: 2 | F11: =C11 -> 10 | G11: =C11*1 -> 10 | H11: 1 | I11: 1 | J11: =SUM(C11)*6 -> 60 | K11: =SUM(D11+E11)*6 -> 24 | M11: =L11 -> 0 | N11: 1 | O11: 10 | P11: 1
A12: 송현리 양양대교 상류 진입 | C12: 10 | D12: 2 | E12: 2 | F12: =C12 -> 10 | G12: =C12*1 -> 10 | H12: 1 | I12: 1 | J12: =SUM(C12)*6 -> 60 | K12: =SUM(D12+E12)*6 -> 24 | L12: 1 | M12: 4 | N12: 1 | O12: 10 | P12: 1
A13: 송현리 양양대교 하류 진입 | C13: 10 | D13: 2 | E13: 2 | F13: =C13 -> 10 | G13: =C13*1 -> 10 | H13: 1 | I13: 1 | J13: =SUM(C13)*6 -> 60 | K13: =SUM(D13+E13)*6 -> 24 | M13: =L13 -> 0 | N13: 1 | O13: 10 | P13: 1
A14: 농업기술센터 뒤쪽 진입 | C14: 10 | D14: 2 | E14: 2 | F14: =C14 -> 10 | G14: =C14*1 -> 10 | H14: 1 | I14: 1 | J14: =SUM(C14)*6 -> 60 | K14: =SUM(D14+E14)*6 -> 24 | L14: 1 | M14: 4 | N14: 1 | O14: 10 | P14: 1
A15: 손양 양수장 앞 진입 | C15: 10 | D15: 2 | E15: 2 | F15: =C15 -> 10 | G15: =C15*1 -> 10 | H15: 1 | I15: 1 | J15: =SUM(C15)*6 -> 60 | K15: =SUM(D15+E15)*6 -> 24 | M15: =L15 -> 0 | N15: 1 | O15: 10 | P15: 1
A16: 쌍천교 하류 진입 | C16: 10 | D16: 2 | E16: 2 | F16: =C16 -> 10 | G16: =C16*1 -> 10 | H16: 1 | I16: 1 | J16: =SUM(C16)*6 -> 60 | K16: =SUM(D16+E16)*6 -> 24 | M16: =L16 -> 0 | N16: 1 | O16: 10 | P16: 1
A17: 쌍천교 상류 진입 | C17: 10 | D17: 2 | E17: 2 | F17: =C17 -> 10 | G17: =C17*1 -> 10 | H17: 1 | I17: 1 | J17: =SUM(C17)*6 -> 60 | K17: =SUM(D17+E17)*6 -> 24 | L17: 1 | M17: 4 | N17: 1 | O17: 10 | P17: 1
A18: 쌍천 세월교 진입 | C18: 10 | D18: 2 | E18: 2 | F18: =C18 -> 10 | G18: =C18*1 -> 10 | H18: 1 | I18: 1 | J18: =SUM(C18)*6 -> 60 | K18: =SUM(D18+E18)*6 -> 24 | M18: =L18 -> 0 | N18: 1 | O18: 10 | P18: 1
A19: 월리 남대천 하상도로 | C19: 10 | D19: 2 | E19: 2 | F19: =C19 -> 10 | G19: =C19*1 -> 10 | H19: 1 | I19: 1 | J19: =SUM(C19)*6 -> 60 | K19: =SUM(D19+E19)*6 -> 24 | M19: =L19 -> 0 | N19: 1 | O19: 10 | P19: 1
A21: 계 | C21: =SUM(C8:C19) -> 120 | D21: =SUM(D8:D19) -> 24 | E21: =SUM(E8:E19) -> 24 | F21: =SUM(F8:F19) -> 120 | G21: =SUM(G8:G19) -> 120 | H21: =SUM(H8:H19) -> 12 | I21: =SUM(I8:I19) -> 12 | J21: =SUM(J8:J19) -> 720 | ... P21: =SUM(P8:P19) -> 12 | Q21: =Q6 -> 1 | R21: =R6 -> 1

Sheet 견적비교표
A1: 소요자재산출내역서
A2: NO | B2: 품 명 | C2: 규 격 | D2: 단 위 | E2: 물가정보 7월 | G2: 물가자료 7월 | I2: 견적 1 | J2: 견적 2 | K2: 견적 3 | L2: 결정금액
E3: 단 가 | F3: PAGE | G3: 단 가 | H3: PAGE | I3: 단 가 | J3: 단가 | K3: 단 가 | L3: 단 가
A4: =원가계산서!D2 -> 양양군 하상도로 안내전광판 납품. 설치공사
A5: 1 | B5: P6 LED color Module, 옥외용 | C5: 192mmX192mm, 32*32dots | D5: EA | G5: 3000000 | H5: 1284 | I5: 169000 | J5: 185000 | K5: 175000 | L5: =MIN(E5,G5,I5,J5) -> 169000
A6: 2 | B6: SECTION BOARD | C6: LED묘듈 PIXEL제어 | D6: EA | I6: 120000 | J6: 200000 | K6: 280000 | L6: =MIN(E6,G6,I6,J6) -> 120000
A7: 3 | B7: 전원공급장치 | C7: 5V/200W | D7: EA | I7: 150000 | J7: 285000 | K7: 298000 | L7: =MIN(E7,G7,I7,J7) -> 150000
A8: 4 | B8: 테이타선 | C8: Flat 16Pin, 100mm | D8: EA | I8: 1730 | J8: 2500 | K8: 2350 | L8: =MIN(E8,G8,I8,J8) -> 1730
A9: 5 | B9: 전원선 | C9: 4Pin, 200mm-3.5 | D9: EA | I9: 1100 | J9: 1500 | K9: 2100 | L9: =MIN(E9,G9,I9,J9) -> 1100
A10: 6 | B10: 메인 콘트롤러 | C10: 문자전송 콘트롤러 | D10: EA | I10: 860000 | J10: 980000 | K10: 1150000 | L10: =MIN(E10,G10,I10,J10) -> 860000
A11: 7 | B11: 외함 케이스 | C11: 1040(w) x 464(h) x 150(d) 분체도장 | D11: EA | I11: 1180000 | J11: 1240000 | K11: 1320000 | L11: =MIN(E11,G11,I11,J11) -> 1180000
A12: 8 | B12: 스테인리스 작은나사 | C12: M4 x 10 | D12: EA | E12: 26.6 | F12: 45 | G12: 32.9 | H12: 50 | L12: =MIN(E12,G12,I12,J12) -> 26.6
A13: 9 | B13: 스테인리스 육각볼트 | C13: M6 x 20 | D13: EA | E13: 73 | F13: 41 | G13: 103 | H13: 48 | L13: =MIN(E13,G13,I13,J13) -> 73
A14: 10 | B14: 전광판하부폴 | C14: Φ152*1M*2T*상부베이스판*384*112*150*6T*보강대용접*분체도장 | D14: EA | I14: 670000 | J14: 760000 | K14: 820000 | L14: =MIN(E14,G14,I14,J14) -> 670000
A15: 11 | B15: 앵커 | C15: M22*500L | D15: EA | G15: 30370 | H15: 52 | L15: =MIN(E15,G15,I15,J15) -> 30370
A16: 12 | B16: Patch Cord | C16: UTP CAT.6-10M | D16: EA | E16: 49900 | F16: 1176 | G16: 70000 | H16: 1083 | L16: =MIN(E16,G16,I16,J16) -> 49900
A17: 13 | B17: 제어케이블 | C17: TFR-CV 2.5-2C | D17: m | E17: 1971 | F17: 1179 | G17: 2567 | H17: 1075 | L17: =MIN(E17,G17,I17,J17) -> 1971
A18: 14 | B18: 모니터 | C18: 75", UHD 4K | D18: EA | I18: 1980000 | J18: 2150000 | K18: 2340000 | L18: =MIN(E18,G18,I18,J18) -> 1980000
A19: 15 | B19: 모니터 브라켓 | C19: 천정형, 각도조절가능 | D19: EA | I19: 680000 | J19: 725000 | K19: 748000 | L19: =MIN(E19,G19,I19,J19) -> 680000

Sheet 노임단가표
B2: 노임단가표(2026년도 상반기 노임 적용)
B4: 구 분 | C4: 직 종 | D4: 직종 해설 | E4: 노임단가(원) | F4: 비 고
B5: 공사(설치) 부분 | C5: 통신설비공 | D5: 직종해설 참조 | E5: 315528
B6: 공사(설치) 부분 | C6: 통신케이블공 | D6: 직종해설 참조 | E6: 436224
B7: 공사(설치) 부분 | C7: 보통인부 | D7: 직종해설 참조 | E7: 172068
B8: 공사(설치) 부분 | C8: 통신관련산업기사 | D8: 직종해설 참조 | E8: 304509
B9: 공사(설치) 부분 | C9: 통신내선공 | D9: 직종해설 참조 | E9: 284880
B10: 공사(설치) 부분 | C10: 통신외선공 | D10: 직종해설 참조 | E10: 408942
B11: 공사(설치) 부분 | C11: 내선전공 | D11: 직종해설 참조 | E11: 273676
B12: 공사(설치) 부분 | C12: H/W 시험사 | D12: 직종해설 참조 | E12: 393090
B13: 공사(설치) 부분 | C13: 통신관련기사 | D13: 직종해설 참조 | E13: 320449
B14: 공사(설치) 부분 | C14: 콘크리드공 | D14: 직종해설 참조 | E14: 273540
B15: 공사(설치) 부분 | C15: 형틀목공 | D15: 직종해설 참조 | E15: 275790
B16: 공사(설치) 부분 | C16: 통신관련기능사 | D16: 직종해설 참조 | E16: 249822
... B22: 공사(설치) 부분 | C22: 교통정리원 | D22: 직종해설 참조 | E22: 173784
B23: * 참 조 사항(직종 해설)
B24: * 통신케이블공 : 각종 케이블의 가설, 포설, 접속연공시험 및 보수공사에 종사하는 사람
B25: * 통신내선공 : 전선설치, 실내배관, 배선 및 보수공사에 종사하는 사람
B26: * S/W시험사 : 전자교환기 및 컴퓨터시스템의 소프트웨어 및 프로그램 설계, 작성, 입력, 시험,분석, 운영등의 업무에 종사하는 사람
B27: * 통신관련기사 : 정보통신공사업법상의 통신기술 자격자(기사)로서 전기통신 설비의 시험․측정․조정등에서 종사하는 사람.(광단말장치 및 광중계장치 제외)
B28: * 통신관련산업기사 : 정보통신공사업법상의 통신기술 자격자로서 전기통신 설비의 시험․측정․조정등에서 종사하는 사람.(광단말장치및 광중계장치 제외)
B29: * 보통인부 : 기능을 요하지 않는 경작업인 일반잡역에 종사하면서 단순육체노동을 하는 사람
B30: * 저압케이블전공 : 저압케이블 및 제어용 케이블 설비의 시공 및 보수에 종사하는 사람(교류 600V이하, 직류 750V이하)
B31: * 내장공 : 건물의 내부에 수장재를 사용하여 마무리하는 사람
B32: * 무선안테나공 : 철탑 각종 안테나의 설치 및 보수에 종사하는 사람

Sheet A사(재성정보통신)
B2: 견 적 서
B3: 견적NO: | D3: JS26-071300
B4: 수신 : | H4: 공 급 자
B5: 일자 : | D5: 2026년 7월 | H5: 등록번호 | J5: 2 2 7 - 8 1 - 2 1 5 5 5
B6: 담당자 : | H6: 상 호 | J6: ㈜재성정보통신 | M6: 성명 | O6: 김 천 수 (인)
B7: 공사명 : | D7: 양양군 하상도로 안내전광판 납품. 설치공사 | H7: 주 소 | J7: 강원도 양양군 양양읍 포월새말길 41-69
B8: 양양군청 귀하 | H8: 업 태 | J8: 건설업,제조,도.소매 | N8: 종목 | P8: 정보통신공사업 CCTV,영상감시장치, 방송장치,LED전광판
H9: TEL | J9: 033) 672-7500 | N9: FAX | P9: 033) 672-7501
B10: =I34 -> 6393000 | I10: ( \ | J10: =I34 -> 6393000 | P10: ) | Q10: V.A.T 포함
B12: NO | C12: 품 명 | E12: 규 격 | F12: 단위 | H12: 수량 | I12: 단 가 | N12: 금 액
B13: 1 | C13: =견적비교표!B5 -> P6 LED color Module, 옥외용 | E13: =견적비교표!C5 -> 192mmX192mm, 32*32dots | F13: =견적비교표!D5 -> EA | H13: 1 | I13: =견적비교표!I5 -> 169000 | N13: =SUM(I13*H13) -> 169000
B14: 2 | C14: =견적비교표!B6 -> SECTION BOARD | E14: =견적비교표!C6 -> LED묘듈 PIXEL제어 | F14: =견적비교표!D6 -> EA | H14: 1 | I14: =견적비교표!I6 -> 120000 | N14: =SUM(I14*H14) -> 120000
B15: 3 | C15: =견적비교표!B7 -> 전원공급장치 | E15: =견적비교표!C7 -> 5V/200W | F15: =견적비교표!D7 -> EA | H15: 1 | I15: =견적비교표!I7 -> 150000 | N15: =SUM(I15*H15) -> 150000
B16: 4 | C16: =견적비교표!B8 -> 테이타선 | E16: =견적비교표!C8 -> Flat 16Pin, 100mm | F16: =견적비교표!D8 -> EA | H16: 1 | I16: =견적비교표!I8 -> 1730 | N16: =SUM(I16*H16) -> 1730
B17: 5 | C17: =견적비교표!B9 -> 전원선 | E17: =견적비교표!C9 -> 4Pin, 200mm-3.5 | F17: =견적비교표!D9 -> EA | H17: 1 | I17: =견적비교표!I9 -> 1100 | N17: =SUM(I17*H17) -> 1100
B18: 6 | C18: =견적비교표!B10 -> 메인 콘트롤러 | E18: =견적비교표!C10 -> 문자전송 콘트롤러 | F18: =견적비교표!D12 -> EA | H18: 1 | I18: =견적비교표!I10 -> 860000 | N18: =SUM(I18*H18) -> 860000
B19: 7 | C19: =견적비교표!B11 -> 외함 케이스 | E19: =견적비교표!C11 -> 1040(w) x 464(h) x 150(d) 분체도장 | F19: =견적비교표!D13 -> EA | H19: 1 | I19: =견적비교표!I11 -> 1180000 | N19: =SUM(I19*H19) -> 1180000
B20: 8 | C20: =견적비교표!B14 -> 전광판하부폴 | E20: =견적비교표!C14 -> Φ152*1M*2T*상부베이스판*384*112*150*6T*보강대용접*분체도장 | F20: =견적비교표!D14 -> EA | H20: 1 | I20: =견적비교표!I14 -> 670000 | N20: =SUM(I20*H20) -> 670000
B21: 9 | C21: =견적비교표!B18 -> 모니터 | E21: =견적비교표!C18 -> 75", UHD 4K | F21: =견적비교표!D18 -> EA | H21: 1 | I21: =견적비교표!I18 -> 1980000 | N21: =SUM(I21*H21) -> 1980000
B22: 10 | C22: =견적비교표!B19 -> 모니터 브라켓 | E22: =견적비교표!C19 -> 천정형, 각도조절가능 | F22: =견적비교표!D19 -> EA | H22: 1 | I22: =견적비교표!I19 -> 680000 | N22: =SUM(I22*H22) -> 680000
B32: 합 계 | N32: =SUM(N13:R31) -> 5811830
C33: 부 가 가 치 세 | N33: =SUM(N32)*10% -> 581183
B34: 최종 제안 금액 | I34: =TRUNC(N32+N33,-3) -> 6393000
B36: 납품기한 | D36: 발주후 즉시 | G36: 현금 | K36: 결 제 일 | M36: 납품후 현금
B37: 의 견
L39: 담당자 : (인)

Sheet B사(디아이테크)
B4: 見 積 書
B5: (QUOTATION)
B8: 2026년 07월 일
B9: TO. 양양군청 貴中
B10: 아래와 같이 견적합니다. | F10: 디 아 이 테 크
B11: 件名 : 하상도로 안내전광판 납품. 설치
B12: 金額(VAT 포함) : | D12: ="一金 "&NUMBERSTRING(H48,1)&"원整" -> 一金 칠백일십팔만일천구백원整 | F12: 등록번호 :128-38-92306
D13: =H48 -> 7181900 | F13: 주소 :경기도 고양시 일산동구 성석동 1227-3
B14: *납 품 일 자 : 발주 후 29일 | F14: TEL: 031-976-2986, FAX: 031-624-9873
B15: *납 품 장 소 : 지정장소 | F15: 대 표 이 사 김 대 일
B16: *견적유효기간 : 4주
B17: *지 급 조 건 :
H18: (단위 : 원)
B19: 번호 | C19: 품 명 | E19: 단위 | F19: 수량 | G19: 단가 | H19: 금액
B20: NO | C20: DESCRIPTION | E20: UNIT | F20: Q'TY | G20: U-PRICE | H20: AMOUNT
B21: 1 | C21: =견적비교표!B5 -> P6 LED color Module, 옥외용 | D21: =견적비교표!C5 -> 192mmX192mm, 32*32dots | E21: =견적비교표!D5 -> EA | F21: 1 | G21: =견적비교표!J5 -> 185000 | H21: =G21*F21 -> 185000
B22: 2 | C22: =견적비교표!B6 -> SECTION BOARD | D22: =견적비교표!C6 -> LED묘듈 PIXEL제어 | E22: =견적비교표!D6 -> EA | F22: 1 | G22: =견적비교표!J6 -> 200000 | H22: =G22*F22 -> 200000
B23: 3 | C23: =견적비교표!B7 -> 전원공급장치 | D23: =견적비교표!C7 -> 5V/200W | E23: =견적비교표!D7 -> EA | F23: 1 | G23: =견적비교표!J7 -> 285000 | H23: =G23*F23 -> 285000
B24: 4 | C24: =견적비교표!B8 -> 테이타선 | D24: =견적비교표!C8 -> Flat 16Pin, 100mm | E24: =견적비교표!D8 -> EA | F24: 1 | G24: =견적비교표!J8 -> 2500 | H24: =G24*F24 -> 2500
B25: 5 | C25: =견적비교표!B9 -> 전원선 | D25: =견적비교표!C9 -> 4Pin, 200mm-3.5 | E25: =견적비교표!D9 -> EA | F25: 1 | G25: =견적비교표!J9 -> 1500 | H25: =G25*F25 -> 1500
B26: 6 | C26: =견적비교표!B10 -> 메인 콘트롤러 | D26: =견적비교표!C10 -> 문자전송 콘트롤러 | E26: =견적비교표!D12 -> EA | F26: 1 | G26: =견적비교표!J10 -> 980000 | H26: =G26*F26 -> 980000
B27: 7 | C27: =견적비교표!B11 -> 외함 케이스 | D27: =견적비교표!C11 -> 1040(w) x 464(h) x 150(d) 분체도장 | E27: =견적비교표!D13 -> EA | F27: 1 | G27: =견적비교표!J11 -> 1240000 | H27: =G27*F27 -> 1240000
B28: 8 | C28: ='A사(재성정보통신)'!C20:D20 -> 전광판하부폴 | D28: ='A사(재성정보통신)'!E20 -> Φ152*1M*2T*상부베이스판*384*112*150*6T*보강대용접*분체도장 | E28: =견적비교표!D14 -> EA | F28: 1 | G28: =견적비교표!J14 -> 760000 | H28: =G28*F28 -> 760000
B29: 9 | C29: ='A사(재성정보통신)'!C21:D21 -> 모니터 | D29: ='A사(재성정보통신)'!E21 -> 75", UHD 4K | E29: =견적비교표!D15 -> EA | F29: 1 | G29: =견적비교표!J18 -> 2150000 | H29: =G29*F29 -> 2150000
B30: 10 | C30: ='A사(재성정보통신)'!C22:D22 -> 모니터 브라켓 | D30: ='A사(재성정보통신)'!E22 -> 천정형, 각도조절가능 | E30: =견적비교표!D16 -> EA | F30: 1 | G30: =견적비교표!J19 -> 725000 | H30: =G30*F30 -> 725000
C46: 소계(천단위절사) | H46: =SUM(H21:H45) -> 6529000
C47: 부가가치세 | E47: % | F47: 10 | H47: =H46*10% -> 652900
C48: 합 계(부가세 포함) | H48: =SUM(H46:H47) -> 7181900

Sheet C사(화창기업)
A1: 견 적 서
G2: 정보통신공사업 제330013호
A3: 2026 년 | C3: 7월 일 | G3: 상호 : ㈜ 화창기업 대표 : 정 명 순
A4: 공 사 명 : 양양군 하상도로 안내전광판 납품. 설치공사 | G4: 등 록 번 호 : 227 - 81 - 12527
B5: 양양군청 | D5: 귀하 | G5: 주 소 : 강원도 속초시 농공단지길 90
A6: 다음과 같이 견적 합니다. | G6: TEL : 637-8500 FAX : 632-0600
A7: =F7 -> 7848000 | F7: =H33 -> 7848000
A8: 번호 | B8: 품 명 | D8: 규 격 | E8: 단 위 | F8: 수량 | G8: 단 가 | H8: 금 액 | I8: 비 고
A9: 1 | B9: =견적비교표!B5 -> P6 LED color Module, 옥외용 | D9: =견적비교표!C5 -> 192mmX192mm, 32*32dots | E9: =견적비교표!D5 -> EA | F9: 1 | G9: =견적비교표!K5 -> 175000 | H9: =SUM(G9*F9) -> 175000
A10: 2 | B10: =견적비교표!B6 -> SECTION BOARD | D10: =견적비교표!C6 -> LED묘듈 PIXEL제어 | E10: =견적비교표!D6 -> EA | F10: 1 | G10: =견적비교표!K6 -> 280000 | H10: =SUM(G10*F10) -> 280000
A11: 3 | B11: =견적비교표!B7 -> 전원공급장치 | D11: =견적비교표!C7 -> 5V/200W | E11: =견적비교표!D7 -> EA | F11: 1 | G11: =견적비교표!K7 -> 298000 | H11: =SUM(G11*F11) -> 298000
A12: 4 | B12: =견적비교표!B8 -> 테이타선 | D12: =견적비교표!C8 -> Flat 16Pin, 100mm | E12: =견적비교표!D8 -> EA | F12: 1 | G12: =견적비교표!K8 -> 2350 | H12: =SUM(G12*F12) -> 2350
A13: 5 | B13: =견적비교표!B9 -> 전원선 | D13: =견적비교표!C9 -> 4Pin, 200mm-3.5 | E13: =견적비교표!D9 -> EA | F13: 1 | G13: =견적비교표!K9 -> 2100 | H13: =SUM(G13*F13) -> 2100
A14: 6 | B14: =견적비교표!B10 -> 메인 콘트롤러 | D14: =견적비교표!C10 -> 문자전송 콘트롤러 | E14: =견적비교표!D12 -> EA | F14: 1 | G14: =견적비교표!K10 -> 1150000 | H14: =SUM(G14*F14) -> 1150000
A15: 7 | B15: =견적비교표!B11 -> 외함 케이스 | D15: =견적비교표!C11 -> 1040(w) x 464(h) x 150(d) 분체도장 | E15: =견적비교표!D13 -> EA | F15: 1 | G15: =견적비교표!K11 -> 1320000 | H15: =SUM(G15*F15) -> 1320000
A16: 8 | B16: =견적비교표!B14 -> 전광판하부폴 | D16: =견적비교표!C14 -> Φ152*1M*2T*상부베이스판*384*112*150*6T*보강대용접*분체도장 | E16: =견적비교표!D14 -> EA | F16: 1 | G16: =견적비교표!K14 -> 820000 | H16: =SUM(G16*F16) -> 820000
A17: 9 | B17: =견적비교표!B18 -> 모니터 | D17: =견적비교표!C18 -> 75", UHD 4K | E17: =견적비교표!D18 -> EA | F17: 1 | G17: =견적비교표!K18 -> 2340000 | H17: =SUM(G17*F17) -> 2340000
A18: 10 | B18: =견적비교표!B19 -> 모니터 브라켓 | D18: =견적비교표!C19 -> 천정형, 각도조절가능 | E18: =견적비교표!D19 -> EA | F18: 1 | G18: =견적비교표!K19 -> 748000 | H18: =SUM(G18*F18) -> 748000
B31: 적 용 금 액 | G31: ≒ | H31: =SUM(H9:H30) -> 7135450
B32: 부 가 가 치 세 | G32: 0.1 | H32: =SUM(H31)*G32 -> 713545
B33: 합 계 | F33: 백단위이하절삭 | H33: =TRUNC(H31+H32,-3) -> 7848000
A34: ☞ 영업안내 :스마트 횡단보도(보행신호 음성안내)시스템 / 재난,재해 조기경보 융복합 시스템 제조 및 설치
A35: 정보통신공사업, CCTV, 방송설비, A/V설비, 전광판 제조 및 설치, 소프트웨어개발사업 ♧ 견적번호 : 화창26-071301
A36: 계좌번호 : 372-037900-01-010 (기업은행) 예금주 : ㈜ 화창기업 ☞ 견적인 :
