Workbook

Sheet 원가계산서
A1: 공 사 원 가 계 산 서
A2: 공사명 : 칠곡 시니어클럽 기능 보강공사
A3: 구 분 비 목 | D3: 구 성 비 | E3: 금 액 | F3: 비 고
A5: 순 공 사 원 가 | B5: 재료비 | C5: 직 접 재 료 비 | E5: =ROUNDDOWN(집계표!F25-집계표!AV25, 0) -> 0 | G5: A1 | H5: 0 | I5: =E5 -> 0
C6: 간 접 재 료 비 | E6: =ROUNDDOWN(E5*H6, 0) -> 0 | G6: A2 | H6: 0 | I6: =E6 -> 0
C7: 작업설.부산물 등(△) | E7: =집계표!T25 -> 0 | G7: A3 | H7: 0 | I7: =E7 -> 0
C8: 소 계 | E8: =SUM(E5:E6)-ABS(E7) -> 0 | G8: A | H8: 0 | I8: =E8 -> 0
B9: 노무비 | C9: 직 접 노 무 비 | E9: =ROUNDDOWN(집계표!H25, 0) -> 0 | G9: B1 | H9: 0 | I9: =E9 -> 0
C10: 간 접 노 무 비 | D10: ="직.노*"&H10*100&"%" -> 직.노*4% | E10: =ROUNDDOWN(E9*H10, 0) -> 0 | G10: B2 | H10: 0.04 | I10: =E10 -> 0
C11: 소 계 | E11: =SUM(E9:E10) -> 0 | G11: B | H11: 0 | I11: =E11 -> 0
B12: 경 비 | C12: 기 계 경 비 | E12: =ROUNDDOWN(집계표!J25, 0) -> 0 | G12: C4 | H12: 0 | I12: =E12 -> 0
C13: 산 재 보 험 료 | D13: ="(노)*"&H13*100&"%" -> (노)*3.56% | E13: =ROUNDDOWN((E11)*H13, 0) -> 0 | G13: C10 | H13: 0.0356 | I13: =E13 -> 0
C14: 고 용 보 험 료 | D14: ="(노)*"&H14*100&"%" -> (노)*1.01% | E14: =ROUNDDOWN((E11)*H14, 0) -> 0 | G14: C11 | H14: 0.0101 | I14: =E14 -> 0
C15: 건 강 보 험 료 | D15: ="(직.노)*"&H15*100&"%" -> (직.노)*3.595% | E15: =ROUNDDOWN((E9)*H15, 0) -> 0 | G15: C12 | H15: 0.03595 | I15: =E15 -> 0
C16: 연 금 보 험 료 | D16: ="(직.노)*"&H16*100&"%" -> (직.노)*4.75% | E16: =ROUNDDOWN((E9)*H16, 0) -> 0 | G16: C13 | H16: 0.0475 | I16: =E16 -> 0
C17: 노인 장기 요양보험료 | D17: ="(건강보험료)*"&H17*100&"%" -> (건강보험료)*13.14% | E17: =ROUNDDOWN((E15)*H17, 0) -> 0 | G17: C14 | H17: 0.1314 | I17: =E17 -> 0
C18: 퇴 직 공 제 부 금 비 | D18: ="(직.노)*"&H18*100&"%" -> (직.노)*2.3% | E18: =ROUNDDOWN((E9)*H18, 0) -> 0 | G18: C15 | H18: 0.023 | I18: =E18 -> 0
C19: 산업 안전 보건관리비 | D19: ="(재+직.노+(-0)/1.1)*"&H19*100&"%"&" < (재+직.노)*3.11%*1.2" -> (재+직.노+(-0)/1.1)*3.11% < (재+직.노)*3.11%*1.2 | E19: =ROUNDDOWN((E8+E9+(0-0)/1.1)*H19, 0) -> 0 | G19: C16 | H19: 0.0311 | I19: =E19 -> 0
C20: 기 타 경 비 | D20: ="(재+노)*"&H20*100&"%" -> (재+노)*5% | E20: =ROUNDDOWN((E8+E11)*H20, 0) -> 0 | G20: C20 | H20: 0.05 | I20: =E20 -> 0
C21: 환 경 보 전 비 | D21: ="(재+직.노+기.경)*"&H21*100&"%" -> (재+직.노+기.경)*0.5% | E21: =ROUNDDOWN((E8+E9+E12)*H21, 0) -> 0 | G21: C25 | H21: 0.005 | I21: =E21 -> 0
C22: 건설하도급보증수수료 | D22: ="(재+직.노+기.경)*"&H22*100&"%" -> (재+직.노+기.경)*0.081% | E22: =ROUNDDOWN((E8+E9+E12)*H22, 0) -> 0 | G22: C30 | H22: 0.00081 | I22: =E22 -> 0
C23: 공사 이행 보증수수료 | D23: ="(재+직.노+기.경)*"&H23*100&"%"&"*(6/12)" -> (재+직.노+기.경)*0.0108%*(6/12) | E23: =ROUNDDOWN((E8+E9+E12)*H23*(6/12), 0) -> 0 | G23: C31 | H23: 0.000108 | I23: =E23 -> 0
C24: 건설기계대여보증수수료 | D24: ="(재+직.노+기.경)*"&H24*100&"%" -> (재+직.노+기.경)*0.07% | E24: =ROUNDDOWN((E8+E9+E12)*H24, 0) -> 0 | G24: C32 | H24: 0.0007 | I24: =E24 -> 0
C25: 안 전 관 리 비 | E25: =집계표!AE25 -> 0 | G25: C17 | H25: 0 | I25: =E25 -> 0
C26: 품 질 관 리 비 | E26: =집계표!AF25 -> 0 | G26: C18 | H26: 0 | I26: =E26 -> 0
C27: 석 면 분 담 금 | D27: ="노*"&H27*100&"%" -> 노*0.006% | E27: =ROUNDDOWN(E11*H27, 0) -> 0 | G27: C21 | H27: 6e-05 | I27: =E27 -> 0
C28: 임 금 채 권 부 담 금 | D28: ="노*"&H28*100&"%" -> 노*0.09% | E28: =ROUNDDOWN(E11*H28, 0) -> 0 | G28: C22 | H28: 0.0009 | I28: =E28 -> 0
C29: 소 계 | E29: =SUM(E12:E28) -> 0 | G29: C | H29: 0 | I29: =E29 -> 0
B30: 계 | E30: =E8+E11+E29 -> 0 | G30: X | H30: 0 | I30: =E30 -> 0
A31: 일 반 관 리 비 | D31: ="(재+노+경)*"&H31*100&"%" -> (재+노+경)*2% | E31: =ROUNDDOWN((E8+E11+E29)*H31, 0) -> 0 | G31: D | H31: 0.02 | I31: =E31 -> 0
A32: 이 윤 | D32: ="(노+경+일)*"&H32*100&"%" -> (노+경+일)*7% | E32: =E36-E35-E34-E33-E31-E30 -> 0 | G32: E | H32: 0.07 | I32: =(I11+I29+I31)*H32 -> 0
A33: 작업설.부산물 등(△) | E33: =집계표!AG25 -> 0 | G33: M2 | H33: 0 | I33: =E33 -> 0
A34: 폐기물 처리비 (일반) | E34: =ROUNDDOWN(집계표!AM25, 0) -> 0 | G34: L4 | H34: 0 | I34: =E34 -> 0
A35: 폐기물 처리비 (지정) | E35: =집계표!AN25 -> 0 | G35: L5 | H35: 0 | I35: =E35 -> 0
A36: 총 원 가 | E36: =ROUNDDOWN(E38-E37, 0) -> 0 | G36: F | H36: 0 | I36: =SUM(I30:I35) -> 0
A37: 부 가 가 치 세 | D37: ="(총원가)*"&H37*100&"%" -> (총원가)*10% | E37: =ROUNDDOWN(((E38)/110)*10, 0) -> 0 | G37: H | H37: 0.1 | I37: =ROUNDDOWN((I36)*H37, 0) -> 0
A38: 도 급 금 액 | E38: =INT(I38/1000)*1000 -> 0 | G38: Y | H38: 0 | I38: =I36+I37 -> 0
A39: 재해 예방 기술지도비 | E39: =집계표!AH25 -> 0 | G39: M3 | H39: 0 | I39: =E39 -> 0
A40: 관급 자재대 (도급자) | E40: =집계표!AJ25 -> 0 | G40: L1 | H40: 0 | I40: =E40 -> 0
A41: 관급 자재대 (관급자) | E41: =집계표!AK25 -> 0 | G41: L2 | H41: 0 | I41: =E41 -> 0
...

Sheet 집계표
A1: 집 계 표
A2: 공사명 : 칠곡 시니어클럽 기능 보강공사
A3: 품 명 | B3: 규 격 | C3: 단위 | D3: 수 량 | E3: 재 료 비 | G3: 노 무 비 | I3: 경 비 | K3: 합 계 | M3: 비고
E4: 단 가 | F4: 금 액 | G4: 단 가 | H4: 금 액 | I4: 단 가 | J4: 금 액 | K4: 단 가 | L4: 금 액 | N4: 손료요율 | O4: 손료구분 | P4: 적용구분 | Q4: 합계구분 | R4: 기계경비 | S4: 운반비 | T4: 작업부산물 | U4: 관급 | V4: 외주비 | W4: 장비비 | X4: 폐기물처리비 | Y4: 가설비 | Z4: 잡비제외분 | AA4: 사급자재대 | AB4: 관급자재대 | AC4: 사용자항목1 | AD4: 사용자항목2 | AE4: 안전관리비 | AF4: 품질관리비 | AG4: 작업부산물(철거해체) | AH4: 사용자항목6 | AI4: 사용자항목7 | AJ4: 관급자재대(도급자) | AK4: 관급자재대(관급자) | AL4: 사용자항목10 | AM4: 폐기물처리비(일반) | AN4: 폐기물처리비(지정) | AO4: 사용자항목13 | AP4: 사용자항목14 | AQ4: 사용자항목15 | AR4: 사용자항목16 | AS4: 사용자항목17 | AT4: 사용자항목18 | AU4: 사용자항목19 | AV4: 간접재료비 | AW4: 품목구분 | AX4: 조달코드 | AY4: 구분
A5: 01. 건축공사 | C5: 식 | D5: 1 | E5: =F46 -> 0 | F5: =D5*E5 -> 0 | G5: =H46 -> 0 | H5: =D5*G5 -> 0 | I5: =J46 -> 0 | J5: =D5*I5 -> 0 | K5: =E5+G5+I5 -> 0 | L5: =F5+H5+J5 -> 0 | Q5: 1 | R5: =D5*R46 -> 0 | S5: =D5*S46 -> 0 | T5: =D5*T46 -> 0 | U5: =D5*U46 -> 0 | V5: =D5*V46 -> 0 | W5: =D5*W46 -> 0 | X5: =D5*X46 -> 0 | Y5: =D5*Y46 -> 0 | Z5: =D5*Z46 -> 0 | AA5: =D5*AA46 -> 0 | AB5: =D5*AB46 -> 0 | AC5: =D5*AC46 -> 0 | AD5: =D5*AD46 -> 0 | AE5: =D5*AE46 -> 0 | AF5: =D5*AF46 -> 0 | AG5: =D5*AG46 -> 0 | AH5: =D5*AH46 -> 0 | AI5: =D5*AI46 -> 0 | AJ5: =D5*AJ46 -> 0 | AK5: =D5*AK46 -> 0 | AL5: =D5*AL46 -> 0 | AM5: =D5*AM46 -> 0 | AN5: =D5*AN46 -> 0 | AO5: =D5*AO46 -> 0 | AP5: =D5*AP46 -> 0 | AQ5: =D5*AQ46 -> 0 | AR5: =D5*AR46 -> 0 | AS5: =D5*AS46 -> 0 | AT5: =D5*AT46 -> 0 | AU5: =D5*AU46 -> 0 | AV5: =D5*AV46 -> 0
A6: 02. 설비공사 | C6: 식 | D6: 1 | E6: =F67 -> 0 | F6: =D6*E6 -> 0 | G6: =H67 -> 0 | H6: =D6*G6 -> 0 | I6: =J67 -> 0 | J6: =D6*I6 -> 0 | K6: =E6+G6+I6 -> 0 | L6: =F6+H6+J6 -> 0 | Q6: 1 | R6: =D6*R67 -> 0 | S6: =D6*S67 -> 0 | T6: =D6*T67 -> 0 | U6: =D6*U67 -> 0 | V6: =D6*V67 -> 0 | W6: =D6*W67 -> 0 | X6: =D6*X67 -> 0 | Y6: =D6*Y67 -> 0 | Z6: =D6*Z67 -> 0 | AA6: =D6*AA67 -> 0 | AB6: =D6*AB67 -> 0 | AC6: =D6*AC67 -> 0 | AD6: =D6*AD67 -> 0 | AE6: =D6*AE67 -> 0 | AF6: =D6*AF67 -> 0 | AG6: =D6*AG67 -> 0 | AH6: =D6*AH67 -> 0 | AI6: =D6*AI67 -> 0 | AJ6: =D6*AJ67 -> 0 | AK6: =D6*AK67 -> 0 | AL6: =D6*AL67 -> 0 | AM6: =D6*AM67 -> 0 | AN6: =D6*AN67 -> 0 | AO6: =D6*AO67 -> 0 | AP6: =D6*AP67 -> 0 | AQ6: =D6*AQ67 -> 0 | AR6: =D6*AR67 -> 0 | AS6: =D6*AS67 -> 0 | AT6: =D6*AT67 -> 0 | AU6: =D6*AU67 -> 0 | AV6: =D6*AV67 -> 0
A25: 합 계 | F25: =SUMIF(Q5:Q6, "1", F5:F6) -> 0 | H25: =SUMIF(Q5:Q6, "1", H5:H6) -> 0 | J25: =SUMIF(Q5:Q6, "1", J5:J6) -> 0 | L25: =F25+H25+J25 -> 0 | R25: =SUM(R5:R6) -> 0 | S25: =SUM(S5:S6) -> 0 | T25: =SUM(T5:T6) -> 0 | U25: =SUM(U5:U6) -> 0 | V25: =SUM(V5:V6) -> 0 | W25: =SUM(W5:W6) -> 0 | X25: =SUM(X5:X6) -> 0 | Y25: =SUM(Y5:Y6) -> 0 | ... AY25: =SUM(AY5:AY6) -> 0
A26: 01. 건축공사
A27: 0101. 가설공사 | C27: 식 | D27: 1 | E27: =내역서!F25 -> 0 | F27: =D27*E27 -> 0 | G27: =내역서!H25 -> 0 | H27: =D27*G27 -> 0 | I27: =내역서!J25 -> 0 | J27: =D27*I27 -> 0 | K27: =E27+G27+I27 -> 0 | L27: =F27+H27+J27 -> 0 | Q27: 1 | R27: =D27*내역서!R25 -> 0 | S27: =D27*내역서!S25 -> 0 | T27: =D27*내역서!T25 -> 0 | U27: =D27*내역서!U25 -> 0 | V27: =D27*내역서!V25 -> 0 | W27: =D27*내역서!W25 -> 0 | X27: =D27*내역서!X25 -> 0 | Y27: =D27*내역서!Y25 -> 0 | Z27: =D27*내역서!Z25 -> 0 | AA27: =D27*내역서!AA25 -> 0 | AB27: =D27*내역서!AB25 -> 0 | AC27: =D27*내역서!AC25 -> 0 | AD27: =D27*내역서!AD25 -> 0 | AE27: =D27*내역서!AE25 -> 0 | AF27: =D27*내역서!AF25 -> 0 | AG27: =D27*내역서!AG25 -> 0 | AH27: =D27*내역서!AH25 -> 0 | AI27: =D27*내역서!AI25 -> 0 | AJ27: =D27*내역서!AJ25 -> 0 | AK27: =D27*내역서!AK25 -> 0 | AL27: =D27*내역서!AL25 -> 0 | AM27: =D27*내역서!AM25 -> 0 | AN27: =D27*내역서!AN25 -> 0 | AO27: =D27*내역서!AO25 -> 0 | AP27: =D27*내역서!AP25 -> 0 | AQ27: =D27*내역서!AQ25 -> 0 | AR27: =D27*내역서!AR25 -> 0 | AS27: =D27*내역서!AS25 -> 0 | AT27: =D27*내역서!AT25 -> 0 | AU27: =D27*내역서!AU25 -> 0 | AV27: =D27*내역서!AV25 -> 0
A28: 0102. 조적공사 | C28: 식 | D28: 1 | E28: =내역서!F46 -> 0 | F28: =D28*E28 -> 0 | G28: =내역서!H46 -> 0 | H28: =D28*G28 -> 0 | I28: =내역서!J46 -> 0 | J28: =D28*I28 -> 0 | K28: =E28+G28+I28 -> 0 | L28: =F28+H28+J28 -> 0 | Q28: 1 | R28: =D28*내역서!R46 -> 0 | S28: =D28*내역서!S46 -> 0 | T28: =D28*내역서!T46 -> 0 | U28: =D28*내역서!U46 -> 0 | V28: =D28*내역서!V46 -> 0 | W28: =D28*내역서!W46 -> 0 | X28: =D28*내역서!X46 -> 0 | Y28: =D28*내역서!Y46 -> 0 | Z28: =D28*내역서!Z46 -> 0 | AA28: =D28*내역서!AA46 -> 0 | AB28: =D28*내역서!AB46 -> 0 | AC28: =D28*내역서!AC46 -> 0 | AD28: =D28*내역서!AD46 -> 0 | AE28: =D28*내역서!AE46 -> 0 | AF28: =D28*내역서!AF46 -> 0 | AG28: =D28*내역서!AG46 -> 0 | AH28: =D28*내역서!AH46 -> 0 | AI28: =D28*내역서!AI46 -> 0 | AJ28: =D28*내역서!AJ46 -> 0 | AK28: =D28*내역서!AK46 -> 0 | AL28: =D28*내역서!AL46 -> 0 | AM28: =D28*내역서!AM46 -> 0 | AN28: =D28*내역서!AN46 -> 0 | AO28: =D28*내역서!AO46 -> 0 | AP28: =D28*내역서!AP46 -> 0 | AQ28: =D28*내역서!AQ46 -> 0 | AR28: =D28*내역서!AR46 -> 0 | AS28: =D28*내역서!AS46 -> 0 | AT28: =D28*내역서!AT46 -> 0 | AU28: =D28*내역서!AU46 -> 0 | AV28: =D28*내역서!AV46 -> 0
A29: 0103. 돌및타일공사 | C29: 식 | D29: 1 | E29: =내역서!F67 -> 0 | F29: =D29*E29 -> 0 | G29: =내역서!H67 -> 0 | H29: =D29*G29 -> 0 | I29: =내역서!J67 -> 0 | J29: =D29*I29 -> 0 | K29: =E29+G29+I29 -> 0 | L29: =F29+H29+J29 -> 0 | Q29: 1 | R29: =D29*내역서!R67 -> 0 | S29: =D29*내역서!S67 -> 0 | T29: =D29*내역서!T67 -> 0 | U29: =D29*내역서!U67 -> 0 | V29: =D29*내역서!V67 -> 0 | W29: =D29*내역서!W67 -> 0 | X29: =D29*내역서!X67 -> 0 | Y29: =D29*내역서!Y67 -> 0 | Z29: =D29*내역서!Z67 -> 0 | AA29: =D29*내역서!AA67 -> 0 | AB29: =D29*내역서!AB67 -> 0 | AC29: =D29*내역서!AC67 -> 0 | AD29: =D29*내역서!AD67 -> 0 | AE29: =D29*내역서!AE67 -> 0 | AF29: =D29*내역서!AF67 -> 0 | AG29: =D29*내역서!AG67 -> 0 | AH29: =D29*내역서!AH67 -> 0 | AI29: =D29*내역서!AI67 -> 0 | AJ29: =D29*내역서!AJ67 -> 0 | AK29: =D29*내역서!AK67 -> 0 | AL29: =D29*내역서!AL67 -> 0 | AM29: =D29*내역서!AM67 -> 0 | AN29: =D29*내역서!AN67 -> 0 | AO29: =D29*내역서!AO67 -> 0 | AP29: =D29*내역서!AP67 -> 0 | AQ29: =D29*내역서!AQ67 -> 0 | AR29: =D29*내역서!AR67 -> 0 | AS29: =D29*내역서!AS67 -> 0 | AT29: =D29*내역서!AT67 -> 0 | AU29: =D29*내역서!AU67 -> 0 | AV29: =D29*내역서!AV67 -> 0
A30: 0104. 목 공 사 | C30: 식 | D30: 1 | E30: =내역서!F88 -> 0 | F30: =D30*E30 -> 0 | G30: =내역서!H88 -> 0 | H30: =D30*G30 -> 0 | I30: =내역서!J88 -> 0 | J30: =D30*I30 -> 0 | K30: =E30+G30+I30 -> 0 | L30: =F30+H30+J30 -> 0 | Q30: 1 | R30: =D30*내역서!R88 -> 0 | S30: =D30*내역서!S88 -> 0 | T30: =D30*내역서!T88 -> 0 | U30: =D30*내역서!U88 -> 0 | V30: =D30*내역서!V88 -> 0 | W30: =D30*내역서!W88 -> 0 | X30: =D30*내역서!X88 -> 0 | Y30: =D30*내역서!Y88 -> 0 | Z30: =D30*내역서!Z88 -> 0 | AA30: =D30*내역서!AA88 -> 0 | AB30: =D30*내역서!AB88 -> 0 | AC30: =D30*내역서!AC88 -> 0 | AD30: =D30*내역서!AD88 -> 0 | AE30: =D30*내역서!AE88 -> 0 | AF30: =D30*내역서!AF88 -> 0 | AG30: =D30*내역서!AG88 -> 0 | AH30: =D30*내역서!AH88 -> 0 | AI30: =D30*내역서!AI88 -> 0 | AJ30: =D30*내역서!AJ88 -> 0 | AK30: =D30*내역서!AK88 -> 0 | AL30: =D30*내역서!AL88 -> 0 | AM30: =D30*내역서!AM88 -> 0 | AN30: =D30*내역서!AN88 -> 0 | AO30: =D30*내역서!AO88 -> 0 | AP30: =D30*내역서!AP88 -> 0 | AQ30: =D30*내역서!AQ88 -> 0 | AR30: =D30*내역서!AR88 -> 0 | AS30: =D30*내역서!AS88 -> 0 | AT30: =D30*내역서!AT88 -> 0 | AU30: =D30*내역서!AU88 -> 0 | AV30: =D30*내역서!AV88 -> 0
A31: 0105. 금속공사 | C31: 식 | D31: 1 | E31: =내역서!F109 -> 0 | F31: =D31*E31 -> 0 | G31: =내역서!H109 -> 0 | H31: =D31*G31 -> 0 | I31: =내역서!J109 -> 0 | J31: =D31*I31 -> 0 | K31: =E31+G31+I31 -> 0 | L31: =F31+H31+J31 -> 0 | Q31: 1 | R31: =D31*내역서!R109 -> 0 | S31: =D31*내역서!S109 -> 0 | T31: =D31*내역서!T109 -> 0 | U31: =D31*내역서!U109 -> 0 | V31: =D31*내역서!V109 -> 0 | W31: =D31*내역서!W109 -> 0 | X31: =D31*내역서!X109 -> 0 | Y31: =D31*내역서!Y109 -> 0 | Z31: =D31*내역서!Z109 -> 0 | AA31: =D31*내역서!AA109 -> 0 | AB31: =D31*내역서!AB109 -> 0 | AC31: =D31*내역서!AC109 -> 0 | AD31: =D31*내역서!AD109 -> 0 | AE31: =D31*내역서!AE109 -> 0 | AF31: =D31*내역서!AF109 -> 0 | AG31: =D31*내역서!AG109 -> 0 | AH31: =D31*내역서!AH109 -> 0 | AI31: =D31*내역서!AI109 -> 0 | AJ31: =D31*내역서!AJ109 -> 0 | AK31: =D31*내역서!AK109 -> 0 | AL31: =D31*내역서!AL109 -> 0 | AM31: =D31*내역서!AM109 -> 0 | AN31: =D31*내역서!AN109 -> 0 | AO31: =D31*내역서!AO109 -> 0 | AP31: =D31*내역서!AP109 -> 0 | AQ31: =D31*내역서!AQ109 -> 0 | AR31: =D31*내역서!AR109 -> 0 | AS31: =D31*내역서!AS109 -> 0 | AT31: =D31*내역서!AT109 -> 0 | AU31: =D31*내역서!AU109 -> 0 | AV31: =D31*내역서!AV109 -> 0
A32: 0106. 미장공사 | C32: 식 | D32: 1 | E32: =내역서!F130 -> 0 | F32: =D32*E32 -> 0 | G32: =내역서!H130 -> 0 | H32: =D32*G32 -> 0 | I32: =내역서!J130 -> 0 | J32: =D32*I32 -> 0 | K32: =E32+G32+I32 -> 0 | L32: =F32+H32+J32 -> 0 | Q32: 1 | R32: =D32*내역서!R130 -> 0 | S32: =D32*내역서!S130 -> 0 | T32: =D32*내역서!T130 -> 0 | U32: =D32*내역서!U130 -> 0 | V32: =D32*내역서!V130 -> 0 | W32: =D32*내역서!W130 -> 0 | X32: =D32*내역서!X130 -> 0 | Y32: =D32*내역서!Y130 -> 0 | Z32: =D32*내역서!Z130 -> 0 | AA32: =D32*내역서!AA130 -> 0 | AB32: =D32*내역서!AB130 -> 0 | AC32: =D32*내역서!AC130 -> 0 | AD32: =D32*내역서!AD130 -> 0 | AE32: =D32*내역서!AE130 -> 0 | AF32: =D32*내역서!AF130 -> 0 | AG32: =D32*내역서!AG130 -> 0 | AH32: =D32*내역서!AH130 -> 0 | AI32: =D32*내역서!AI130 -> 0 | AJ32: =D32*내역서!AJ130 -> 0 | AK32: =D32*내역서!AK130 -> 0 | AL32: =D32*내역서!AL130 -> 0 | AM32: =D32*내역서!AM130 -> 0 | AN32: =D32*내역서!AN130 -> 0 | AO32: =D32*내역서!AO130 -> 0 | AP32: =D32*내역서!AP130 -> 0 | AQ32: =D32*내역서!AQ130 -> 0 | AR32: =D32*내역서!AR130 -> 0 | AS32: =D32*내역서!AS130 -> 0 | AT32: =D32*내역서!AT130 -> 0 | AU32: =D32*내역서!AU130 -> 0 | AV32: =D32*내역서!AV130 -> 0
A33: 0107. 창호공사 | C33: 식 | D33: 1 | E33: =내역서!F151 -> 0 | F33: =D33*E33 -> 0 | G33: =내역서!H151 -> 0 | H33: =D33*G33 -> 0 | I33: =내역서!J151 -> 0 | J33: =D33*I33 -> 0 | K33: =E33+G33+I33 -> 0 | L33: =F33+H33+J33 -> 0 | Q33: 1 | R33: =D33*내역서!R151 -> 0 | S33: =D33*내역서!S151 -> 0 | T33: =D33*내역서!T151 -> 0 | U33: =D33*내역서!U151 -> 0 | V33: =D33*내역서!V151 -> 0 | W33: =D33*내역서!W151 -> 0 | X33: =D33*내역서!X151 -> 0 | Y33: =D33*내역서!Y151 -> 0 | Z33: =D33*내역서!Z151 -> 0 | AA33: =D33*내역서!AA151 -> 0 | AB33: =D33*내역서!AB151 -> 0 | AC33: =D33*내역서!AC151 -> 0 | AD33: =D33*내역서!AD151 -> 0 | AE33: =D33*내역서!AE151 -> 0 | AF33: =D33*내역서!AF151 -> 0 | AG33: =D33*내역서!AG151 -> 0 | AH33: =D33*내역서!AH151 -> 0 | AI33: =D33*내역서!AI151 -> 0 | AJ33: =D33*내역서!AJ151 -> 0 | AK33: =D33*내역서!AK151 -> 0 | AL33: =D33*내역서!AL151 -> 0 | AM33: =D33*내역서!AM151 -> 0 | AN33: =D33*내역서!AN151 -> 0 | AO33: =D33*내역서!AO151 -> 0 | AP33: =D33*내역서!AP151 -> 0 | AQ33: =D33*내역서!AQ151 -> 0 | AR33: =D33*내역서!AR151 -> 0 | AS33: =D33*내역서!AS151 -> 0 | AT33: =D33*내역서!AT151 -> 0 | AU33: =D33*내역서!AU151 -> 0 | AV33: =D33*내역서!AV151 -> 0
A34: 0108. 유리공사 | C34: 식 | D34: 1 | E34: =내역서!F172 -> 0 | F34: =D34*E34 -> 0 | G34: =내역서!H172 -> 0 | H34: =D34*G34 -> 0 | I34: =내역서!J172 -> 0 | J34: =D34*I34 -> 0 | K34: =E34+G34+I34 -> 0 | L34: =F34+H34+J34 -> 0 | Q34: 1 | R34: =D34*내역서!R172 -> 0 | S34: =D34*내역서!S172 -> 0 | T34: =D34*내역서!T172 -> 0 | U34: =D34*내역서!U172 -> 0 | V34: =D34*내역서!V172 -> 0 | W34: =D34*내역서!W172 -> 0 | X34: =D34*내역서!X172 -> 0 | Y34: =D34*내역서!Y172 -> 0 | Z34: =D34*내역서!Z172 -> 0 | AA34: =D34*내역서!AA172 -> 0 | AB34: =D34*내역서!AB172 -> 0 | AC34: =D34*내역서!AC172 -> 0 | AD34: =D34*내역서!AD172 -> 0 | AE34: =D34*내역서!AE172 -> 0 | AF34: =D34*내역서!AF172 -> 0 | AG34: =D34*내역서!AG172 -> 0 | AH34: =D34*내역서!AH172 -> 0 | AI34: =D34*내역서!AI172 -> 0 | AJ34: =D34*내역서!AJ172 -> 0 | AK34: =D34*내역서!AK172 -> 0 | AL34: =D34*내역서!AL172 -> 0 | AM34: =D34*내역서!AM172 -> 0 | AN34: =D34*내역서!AN172 -> 0 | AO34: =D34*내역서!AO172 -> 0 | AP34: =D34*내역서!AP172 -> 0 | AQ34: =D34*내역서!AQ172 -> 0 | AR34: =D34*내역서!AR172 -> 0 | AS34: =D34*내역서!AS172 -> 0 | AT34: =D34*내역서!AT172 -> 0 | AU34: =D34*내역서!AU172 -> 0 | AV34: =D34*내역서!AV172 -> 0
A35: 0109. 도장공사 | C35: 식 | D35: 1 | E35: =내역서!F193 -> 0 | F35: =D35*E35 -> 0 | G35: =내역서!H193 -> 0 | H35: =D35*G35 -> 0 | I35: =내역서!J193 -> 0 | J35: =D35*I35 -> 0 | K35: =E35+G35+I35 -> 0 | L35: =F35+H35+J35 -> 0 | Q35: 1 | R35: =D35*내역서!R193 -> 0 | S35: =D35*내역서!S193 -> 0 | T35: =D35*내역서!T193 -> 0 | U35: =D35*내역서!U193 -> 0 | V35: =D35*내역서!V193 -> 0 | W35: =D35*내역서!W193 -> 0 | X35: =D35*내역서!X193 -> 0 | Y35: =D35*내역서!Y193 -> 0 | Z35: =D35*내역서!Z193 -> 0 | AA35: =D35*내역서!AA193 -> 0 | AB35: =D35*내역서!AB193 -> 0 | AC35: =D35*내역서!AC193 -> 0 | AD35: =D35*내역서!AD193 -> 0 | AE35: =D35*내역서!AE193 -> 0 | AF35: =D35*내역서!AF193 -> 0 | AG35: =D35*내역서!AG193 -> 0 | AH35: =D35*내역서!AH193 -> 0 | AI35: =D35*내역서!AI193 -> 0 | AJ35: =D35*내역서!AJ193 -> 0 | AK35: =D35*내역서!AK193 -> 0 | AL35: =D35*내역서!AL193 -> 0 | AM35: =D35*내역서!AM193 -> 0 | AN35: =D35*내역서!AN193 -> 0 | AO35: =D35*내역서!AO193 -> 0 | AP35: =D35*내역서!AP193 -> 0 | AQ35: =D35*내역서!AQ193 -> 0 | AR35: =D35*내역서!AR193 -> 0 | AS35: =D35*내역서!AS193 -> 0 | AT35: =D35*내역서!AT193 -> 0 | AU35: =D35*내역서!AU193 -> 0 | AV35: =D35*내역서!AV193 -> 0
A36: 0110. 수장공사 | C36: 식 | D36: 1 | E36: =내역서!F214 -> 0 | F36: =D36*E36 -> 0 | G36: =내역서!H214 -> 0 | H36: =D36*G36 -> 0 | I36: =내역서!J214 -> 0 | J36: =D36*I36 -> 0 | K36: =E36+G36+I36 -> 0 | L36: =F36+H36+J36 -> 0 | Q36: 1 | R36: =D36*내역서!R214 -> 0 | S36: =D36*내역서!S214 -> 0 | T36: =D36*내역서!T214 -> 0 | U36: =D36*내역서!U214 -> 0 | V36: =D36*내역서!V214 -> 0 | W36: =D36*내역서!W214 -> 0 | X36: =D36*내역서!X214 -> 0 | Y36: =D36*내역서!Y214 -> 0 | Z36: =D36*내역서!Z214 -> 0 | AA36: =D36*내역서!AA214 -> 0 | AB36: =D36*내역서!AB214 -> 0 | AC36: =D36*내역서!AC214 -> 0 | AD36: =D36*내역서!AD214 -> 0 | AE36: =D36*내역서!AE214 -> 0 | AF36: =D36*내역서!AF214 -> 0 | AG36: =D36*내역서!AG214 -> 0 | AH36: =D36*내역서!AH214 -> 0 | AI36: =D36*내역서!AI214 -> 0 | AJ36: =D36*내역서!AJ214 -> 0 | AK36: =D36*내역서!AK214 -> 0 | AL36: =D36*내역서!AL214 -> 0 | AM36: =D36*내역서!AM214 -> 0 | AN36: =D36*내역서!AN214 -> 0 | AO36: =D36*내역서!AO214 -> 0 | AP36: =D36*내역서!AP214 -> 0 | AQ36: =D36*내역서!AQ214 -> 0 | AR36: =D36*내역서!AR214 -> 0 | AS36: =D36*내역서!AS214 -> 0 | AT36: =D36*내역서!AT214 -> 0 | AU36: =D36*내역서!AU214 -> 0 | AV36: =D36*내역서!AV214 -> 0
A37: 0111. 기타공사 | C37: 식 | D37: 1 | E37: =내역서!F235 -> 0 | F37: =D37*E37 -> 0 | G37: =내역서!H235 -> 0 | H37: =D37*G37 -> 0 | I37: =내역서!J235 -> 0 | J37: =D37*I37 -> 0 | K37: =E37+G37+I37 -> 0 | L37: =F37+H37+J37 -> 0 | Q37: 1 | R37: =D37*내역서!R235 -> 0 | S37: =D37*내역서!S235 -> 0 | T37: =D37*내역서!T235 -> 0 | U37: =D37*내역서!U235 -> 0 | V37: =D37*내역서!V235 -> 0 | W37: =D37*내역서!W235 -> 0 | X37: =D37*내역서!X235 -> 0 | Y37: =D37*내역서!Y235 -> 0 | Z37: =D37*내역서!Z235 -> 0 | AA37: =D37*내역서!AA235 -> 0 | AB37: =D37*내역서!AB235 -> 0 | AC37: =D37*내역서!AC235 -> 0 | AD37: =D37*내역서!AD235 -> 0 | AE37: =D37*내역서!AE235 -> 0 | AF37: =D37*내역서!AF235 -> 0 | AG37: =D37*내역서!AG235 -> 0 | AH37: =D37*내역서!AH235 -> 0 | AI37: =D37*내역서!AI235 -> 0 | AJ37: =D37*내역서!AJ235 -> 0 | AK37: =D37*내역서!AK235 -> 0 | AL37: =D37*내역서!AL235 -> 0 | AM37: =D37*내역서!AM235 -> 0 | AN37: =D37*내역서!AN235 -> 0 | AO37: =D37*내역서!AO235 -> 0 | AP37: =D37*내역서!AP235 -> 0 | AQ37: =D37*내역서!AQ235 -> 0 | AR37: =D37*내역서!AR235 -> 0 | AS37: =D37*내역서!AS235 -> 0 | AT37: =D37*내역서!AT235 -> 0 | AU37: =D37*내역서!AU235 -> 0 | AV37: =D37*내역서!AV235 -> 0
A38: 0112. 철거공사 | C38: 식 | D38: 1 | E38: =내역서!F256 -> 0 | F38: =D38*E38 -> 0 | G38: =내역서!H256 -> 0 | H38: =D38*G38 -> 0 | I38: =내역서!J256 -> 0 | J38: =D38*I38 -> 0 | K38: =E38+G38+I38 -> 0 | L38: =F38+H38+J38 -> 0 | Q38: 1 | R38: =D38*내역서!R256 -> 0 | S38: =D38*내역서!S256 -> 0 | T38: =D38*내역서!T256 -> 0 | U38: =D38*내역서!U256 -> 0 | V38: =D38*내역서!V256 -> 0 | W38: =D38*내역서!W256 -> 0 | X38: =D38*내역서!X256 -> 0 | Y38: =D38*내역서!Y256 -> 0 | Z38: =D38*내역서!Z256 -> 0 | AA38: =D38*내역서!AA256 -> 0 | AB38: =D38*내역서!AB256 -> 0 | AC38: =D38*내역서!AC256 -> 0 | AD38: =D38*내역서!AD256 -> 0 | AE38: =D38*내역서!AE256 -> 0 | AF38: =D38*내역서!AF256 -> 0 | AG38: =D38*내역서!AG256 -> 0 | AH38: =D38*내역서!AH256 -> 0 | AI38: =D38*내역서!AI256 -> 0 | AJ38: =D38*내역서!AJ256 -> 0 | AK38: =D38*내역서!AK256 -> 0 | AL38: =D38*내역서!AL256 -> 0 | AM38: =D38*내역서!AM256 -> 0 | AN38: =D38*내역서!AN256 -> 0 | AO38: =D38*내역서!AO256 -> 0 | AP38: =D38*내역서!AP256 -> 0 | AQ38: =D38*내역서!AQ256 -> 0 | AR38: =D38*내역서!AR256 -> 0 | AS38: =D38*내역서!AS256 -> 0 | AT38: =D38*내역서!AT256 -> 0 | AU38: =D38*내역서!AU256 -> 0 | AV38: =D38*내역서!AV256 -> 0
A39: 0113. 골 재 대 | C39: 식 | D39: 1 | E39: =내역서!F277 -> 0 | F39: =D39*E39 -> 0 | G39: =내역서!H277 -> 0 | H39: =D39*G39 -> 0 | I39: =내역서!J277 -> 0 | J39: =D39*I39 -> 0 | K39: =E39+G39+I39 -> 0 | L39: =F39+H39+J39 -> 0 | Q39: 1 | R39: =D39*내역서!R277 -> 0 | S39: =D39*내역서!S277 -> 0 | T39: =D39*내역서!T277 -> 0 | U39: =D39*내역서!U277 -> 0 | V39: =D39*내역서!V277 -> 0 | W39: =D39*내역서!W277 -> 0 | X39: =D39*내역서!X277 -> 0 | Y39: =D39*내역서!Y277 -> 0 | Z39: =D39*내역서!Z277 -> 0 | AA39: =D39*내역서!AA277 -> 0 | AB39: =D39*내역서!AB277 -> 0 | AC39: =D39*내역서!AC277 -> 0 | AD39: =D39*내역서!AD277 -> 0 | AE39: =D39*내역서!AE277 -> 0 | AF39: =D39*내역서!AF277 -> 0 | AG39: =D39*내역서!AG277 -> 0 | AH39: =D39*내역서!AH277 -> 0 | AI39: =D39*내역서!AI277 -> 0 | AJ39: =D39*내역서!AJ277 -> 0 | AK39: =D39*내역서!AK277 -> 0 | AL39: =D39*내역서!AL277 -> 0 | AM39: =D39*내역서!AM277 -> 0 | AN39: =D39*내역서!AN277 -> 0 | AO39: =D39*내역서!AO277 -> 0 | AP39: =D39*내역서!AP277 -> 0 | AQ39: =D39*내역서!AQ277 -> 0 | AR39: =D39*내역서!AR277 -> 0 | AS39: =D39*내역서!AS277 -> 0 | AT39: =D39*내역서!AT277 -> 0 | AU39: =D39*내역서!AU277 -> 0 | AV39: =D39*내역서!AV277 -> 0
A40: 0114. 폐기물처리비(일반) | C40: 식 | D40: 1 | E40: =내역서!F298 -> 0 | F40: =D40*E40 -> 0 | G40: =내역서!H298 -> 0 | H40: =D40*G40 -> 0 | I40: =내역서!J298 -> 0 | J40: =D40*I40 -> 0 | K40: =E40+G40+I40 -> 0 | L40: =F40+H40+J40 -> 0 | M40: 합계제외 | R40: =D40*내역서!R298 -> 0 | S40: =D40*내역서!S298 -> 0 | T40: =D40*내역서!T298 -> 0 | U40: =D40*내역서!U298 -> 0 | V40: =D40*내역서!V298 -> 0 | W40: =D40*내역서!W298 -> 0 | X40: =D40*내역서!X298 -> 0 | Y40: =D40*내역서!Y298 -> 0 | Z40: =D40*내역서!Z298 -> 0 | AA40: =D40*내역서!AA298 -> 0 | AB40: =D40*내역서!AB298 -> 0 | AC40: =D40*내역서!AC298 -> 0 | AD40: =D40*내역서!AD298 -> 0 | AE40: =D40*내역서!AE298 -> 0 | AF40: =D40*내역서!AF298 -> 0 | AG40: =D40*내역서!AG298 -> 0 | AH40: =D40*내역서!AH298 -> 0 | AI40: =D40*내역서!AI298 -> 0 | AJ40: =D40*내역서!AJ298 -> 0 | AK40: =D40*내역서!AK298 -> 0 | AL40: =D40*내역서!AL298 -> 0 | AM40: =D40*내역서!AM298 -> 0 | AN40: =D40*내역서!AN298 -> 0 | AO40: =D40*내역서!AO298 -> 0 | AP40: =D40*내역서!AP298 -> 0 | AQ40: =D40*내역서!AQ298 -> 0 | AR40: =D40*내역서!AR298 -> 0 | AS40: =D40*내역서!AS298 -> 0 | AT40: =D40*내역서!AT298 -> 0 | AU40: =D40*내역서!AU298 -> 0 | AV40: =D40*내역서!AV298 -> 0
A46: 합 계 | F46: =SUMIF(Q27:Q40, "1", F27:F40) -> 0 | H46: =SUMIF(Q27:Q40, "1", H27:H40) -> 0 | J46: =SUMIF(Q27:Q40, "1", J27:J40) -> 0 | L46: =F46+H46+J46 -> 0 | R46: =SUM(R27:R40) -> 0 | S46: =SUM(S27:S40) -> 0 | T46: =SUM(T27:T40) -> 0 | U46: =SUM(U27:U40) -> 0 | V46: =SUM(V27:V40) -> 0 | W46: =SUM(W27:W40) -> 0 | X46: =SUM(X27:X40) -> 0 | Y46: =SUM(Y27:Y40) -> 0 | ... AY46: =SUM(AY27:AY40) -> 0
A47: 02. 설비공사
A48: 0201. 설비공사 | C48: 식 | D48: 1 | E48: =내역서!F319 -> 0 | F48: =D48*E48 -> 0 | G48: =내역서!H319 -> 0 | H48: =D48*G48 -> 0 | I48: =내역서!J319 -> 0 | J48: =D48*I48 -> 0 | K48: =E48+G48+I48 -> 0 | L48: =F48+H48+J48 -> 0 | Q48: 1 | R48: =D48*내역서!R319 -> 0 | S48: =D48*내역서!S319 -> 0 | T48: =D48*내역서!T319 -> 0 | U48: =D48*내역서!U319 -> 0 | V48: =D48*내역서!V319 -> 0 | W48: =D48*내역서!W319 -> 0 | X48: =D48*내역서!X319 -> 0 | Y48: =D48*내역서!Y319 -> 0 | Z48: =D48*내역서!Z319 -> 0 | AA48: =D48*내역서!AA319 -> 0 | AB48: =D48*내역서!AB319 -> 0 | AC48: =D48*내역서!AC319 -> 0 | AD48: =D48*내역서!AD319 -> 0 | AE48: =D48*내역서!AE319 -> 0 | AF48: =D48*내역서!AF319 -> 0 | AG48: =D48*내역서!AG319 -> 0 | AH48: =D48*내역서!AH319 -> 0 | AI48: =D48*내역서!AI319 -> 0 | AJ48: =D48*내역서!AJ319 -> 0 | AK48: =D48*내역서!AK319 -> 0 | AL48: =D48*내역서!AL319 -> 0 | AM48: =D48*내역서!AM319 -> 0 | AN48: =D48*내역서!AN319 -> 0 | AO48: =D48*내역서!AO319 -> 0 | AP48: =D48*내역서!AP319 -> 0 | AQ48: =D48*내역서!AQ319 -> 0 | AR48: =D48*내역서!AR319 -> 0 | AS48: =D48*내역서!AS319 -> 0 | AT48: =D48*내역서!AT319 -> 0 | AU48: =D48*내역서!AU319 -> 0 | AV48: =D48*내역서!AV319 -> 0
A67: 합 계 | F67: =SUMIF(Q48:Q48, "1", F48:F48) -> 0 | H67: =SUMIF(Q48:Q48, "1", H48:H48) -> 0 | J67: =SUMIF(Q48:Q48, "1", J48:J48) -> 0 | L67: =F67+H67+J67 -> 0 | R67: =SUM(R48:R48) -> 0 | S67: =SUM(S48:S48) -> 0 | T67: =SUM(T48:T48) -> 0 | U67: =SUM(U48:U48) -> 0 | V67: =SUM(V48:V48) -> 0 | W67: =SUM(W48:W48) -> 0 | X67: =SUM(X48:X48) -> 0 | Y67: =SUM(Y48:Y48) -> 0 | ... AY67: =SUM(AY48:AY48) -> 0

Sheet 내역서
A1: 내 역 서
A2: 공사명 : 칠곡 시니어클럽 기능 보강공사
A3: 품 명 | B3: 규 격 | C3: 단위 | D3: 수 량 | E3: 재 료 비 | G3: 노 무 비 | I3: 경 비 | K3: 합 계 | M3: 비고
E4: 단 가 | F4: 금 액 | G4: 단 가 | H4: 금 액 | I4: 단 가 | J4: 금 액 | K4: 단 가 | L4: 금 액 | N4: 손료요율 | O4: 손료구분 | P4: 적용구분 | Q4: 합계구분 | R4: 기계경비 | S4: 운반비 | T4: 작업부산물 | U4: 관급 | V4: 외주비 | W4: 장비비 | X4: 폐기물처리비 | Y4: 가설비 | Z4: 잡비제외분 | AA4: 사급자재대 | AB4: 관급자재대 | AC4: 사용자항목1 | AD4: 사용자항목2 | AE4: 안전관리비 | AF4: 품질관리비 | AG4: 작업부산물(철거해체) | AH4: 사용자항목6 | AI4: 사용자항목7 | AJ4: 관급자재대(도급자) | AK4: 관급자재대(관급자) | AL4: 사용자항목10 | AM4: 폐기물처리비(일반) | AN4: 폐기물처리비(지정) | AO4: 사용자항목13 | AP4: 사용자항목14 | AQ4: 사용자항목15 | AR4: 사용자항목16 | AS4: 사용자항목17 | AT4: 사용자항목18 | AU4: 사용자항목19 | AV4: 간접재료비 | AW4: 품목구분 | AX4: 조달코드 | AY4: 구분
A5: 0101. 가설공사
A6: 이동식강관말비계 | B6: 1개월,1단(2m) | C6: 1대 | D6: 1 | F6: =ROUNDDOWN(D6*E6, 0) -> 0 | H6: =ROUNDDOWN(D6*G6, 0) -> 0 | J6: =ROUNDDOWN(D6*I6, 0) -> 0 | K6: =E6+G6+I6 -> 0 | L6: =F6+H6+J6 -> 0 | O6: ="" | P6: 기계경비 | Q6: 1 | R6: =IF(P6="기계경비", J6, 0) -> 0 | S6: =IF(P6="운반비", L6, 0) -> 0 | T6: =IF(P6="작업부산물", F6, 0) -> 0 | U6: =IF(P6="관급", F6, 0) -> 0 | V6: =IF(P6="외주비", J6, 0) -> 0 | W6: =IF(P6="장비비", J6, 0) -> 0 | X6: =IF(P6="폐기물처리비", L6, 0) -> 0 | Y6: =IF(P6="가설비", J6, 0) -> 0 | Z6: =IF(P6="잡비제외분", F6, 0) -> 0 | AA6: =IF(P6="사급자재대", L6, 0) -> 0 | AB6: =IF(P6="관급자재대", L6, 0) -> 0 | AC6: =IF(P6="사용자항목1", L6, 0) -> 0 | AD6: =IF(P6="사용자항목2", L6, 0) -> 0 | AE6: =IF(P6="안전관리비", L6, 0) -> 0 | AF6: =IF(P6="품질관리비", L6, 0) -> 0 | AG6: =IF(P6="작업부산물(철거해체)", L6, 0) -> 0 | AH6: =IF(P6="사용자항목6", L6, 0) -> 0 | AI6: =IF(P6="사용자항목7", L6, 0) -> 0 | AJ6: =IF(P6="관급자재대(도급자)", L6, 0) -> 0 | AK6: =IF(P6="관급자재대(관급자)", L6, 0) -> 0 | AL6: =IF(P6="사용자항목10", L6, 0) -> 0 | AM6: =IF(P6="폐기물처리비(일반)", L6, 0) -> 0 | AN6: =IF(P6="폐기물처리비(지정)", L6, 0) -> 0 | AO6: =IF(P6="사용자항목13", L6, 0) -> 0 | AP6: =IF(P6="사용자항목14", L6, 0) -> 0 | AQ6: =IF(P6="사용자항목15", L6, 0) -> 0 | AR6: =IF(P6="사용자항목16", L6, 0) -> 0 | AS6: =IF(P6="사용자항목17", L6, 0) -> 0 | AT6: =IF(P6="사용자항목18", L6, 0) -> 0 | AU6: =IF(P6="사용자항목19", L6, 0) -> 0
A7: 건축물 현장정리 | B7: 개보수, 복합공정 | C7: M2 | D7: 283.3 | F7: =ROUNDDOWN(D7*E7, 0) -> 0 | H7: =ROUNDDOWN(D7*G7, 0) -> 0 | J7: =ROUNDDOWN(D7*I7, 0) -> 0 | K7: =E7+G7+I7 -> 0 | L7: =F7+H7+J7 -> 0 | O7: ="" | P7: 기계경비 | Q7: 1 | R7: =IF(P7="기계경비", J7, 0) -> 0 | S7: =IF(P7="운반비", L7, 0) -> 0 | T7: =IF(P7="작업부산물", F7, 0) -> 0 | U7: =IF(P7="관급", F7, 0) -> 0 | V7: =IF(P7="외주비", J7, 0) -> 0 | W7: =IF(P7="장비비", J7, 0) -> 0 | X7: =IF(P7="폐기물처리비", L7, 0) -> 0 | Y7: =IF(P7="가설비", J7, 0) -> 0 | Z7: =IF(P7="잡비제외분", F7, 0) -> 0 | AA7: =IF(P7="사급자재대", L7, 0) -> 0 | AB7: =IF(P7="관급자재대", L7, 0) -> 0 | AC7: =IF(P7="사용자항목1", L7, 0) -> 0 | AD7: =IF(P7="사용자항목2", L7, 0) -> 0 | AE7: =IF(P7="안전관리비", L7, 0) -> 0 | AF7: =IF(P7="품질관리비", L7, 0) -> 0 | AG7: =IF(P7="작업부산물(철거해체)", L7, 0) -> 0 | AH7: =IF(P7="사용자항목6", L7, 0) -> 0 | AI7: =IF(P7="사용자항목7", L7, 0) -> 0 | AJ7: =IF(P7="관급자재대(도급자)", L7, 0) -> 0 | AK7: =IF(P7="관급자재대(관급자)", L7, 0) -> 0 | AL7: =IF(P7="사용자항목10", L7, 0) -> 0 | AM7: =IF(P7="폐기물처리비(일반)", L7, 0) -> 0 | AN7: =IF(P7="폐기물처리비(지정)", L7, 0) -> 0 | AO7: =IF(P7="사용자항목13", L7, 0) -> 0 | AP7: =IF(P7="사용자항목14", L7, 0) -> 0 | AQ7: =IF(P7="사용자항목15", L7, 0) -> 0 | AR7: =IF(P7="사용자항목16", L7, 0) -> 0 | AS7: =IF(P7="사용자항목17", L7, 0) -> 0 | AT7: =IF(P7="사용자항목18", L7, 0) -> 0 | AU7: =IF(P7="사용자항목19", L7, 0) -> 0
A25: 합 계 | F25: =ROUNDDOWN(SUMIF(Q6:Q24, "1", F6:F24), 0) -> 0 | H25: =ROUNDDOWN(SUMIF(Q6:Q24, "1", H6:H24), 0) -> 0 | J25: =ROUNDDOWN(SUMIF(Q6:Q24, "1", J6:J24), 0) -> 0 | L25: =F25+H25+J25 -> 0 | R25: =ROUNDDOWN(SUM(R6:R7), 0) -> 0 | S25: =ROUNDDOWN(SUM(S6:S7), 0) -> 0 | T25: =ROUNDDOWN(SUM(T6:T7), 0) -> 0 | U25: =ROUNDDOWN(SUM(U6:U7), 0) -> 0 | V25: =ROUNDDOWN(SUM(V6:V7), 0) -> 0 | W25: =ROUNDDOWN(SUM(W6:W7), 0) -> 0 | X25: =ROUNDDOWN(SUM(X6:X7), 0) -> 0 | Y25: =ROUNDDOWN(SUM(Y6:Y7), 0) -> 0 | ... AY25: =ROUNDDOWN(SUM(AY6:AY7), 0) -> 0
A26: 0102. 조적공사
A27: 콘크리트벽돌 | B27: 콘크리트벽돌, 190×57×90mm, C종2급 | C27: 매 | D27: 814 | F27: =ROUNDDOWN(D27*E27, 0) -> 0 | H27: =ROUNDDOWN(D27*G27, 0) -> 0 | J27: =ROUNDDOWN(D27*I27, 0) -> 0 | K27: =E27+G27+I27 -> 0 | L27: =F27+H27+J27 -> 0 | O27: ="01" -> 01 | P27: 기계경비 | Q27: 1 | R27: =IF(P27="기계경비", J27, 0) -> 0 | S27: =IF(P27="운반비", L27, 0) -> 0 | T27: =IF(P27="작업부산물", F27, 0) -> 0 | U27: =IF(P27="관급", F27, 0) -> 0 | V27: =IF(P27="외주비", J27, 0) -> 0 | W27: =IF(P27="장비비", J27, 0) -> 0 | X27: =IF(P27="폐기물처리비", L27, 0) -> 0 | Y27: =IF(P27="가설비", J27, 0) -> 0 | Z27: =IF(P27="잡비제외분", F27, 0) -> 0 | AA27: =IF(P27="사급자재대", L27, 0) -> 0 | AB27: =IF(P27="관급자재대", L27, 0) -> 0 | AC27: =IF(P27="사용자항목1", L27, 0) -> 0 | AD27: =IF(P27="사용자항목2", L27, 0) -> 0 | AE27: =IF(P27="안전관리비", L27, 0) -> 0 | AF27: =IF(P27="품질관리비", L27, 0) -> 0 | AG27: =IF(P27="작업부산물(철거해체)", L27, 0) -> 0 | AH27: =IF(P27="사용자항목6", L27, 0) -> 0 | AI27: =IF(P27="사용자항목7", L27, 0) -> 0 | AJ27: =IF(P27="관급자재대(도급자)", L27, 0) -> 0 | AK27: =IF(P27="관급자재대(관급자)", L27, 0) -> 0 | AL27: =IF(P27="사용자항목10", L27, 0) -> 0 | AM27: =IF(P27="폐기물처리비(일반)", L27, 0) -> 0 | AN27: =IF(P27="폐기물처리비(지정)", L27, 0) -> 0 | AO27: =IF(P27="사용자항목13", L27, 0) -> 0 | AP27: =IF(P27="사용자항목14", L27, 0) -> 0 | AQ27: =IF(P27="사용자항목15", L27, 0) -> 0 | AR27: =IF(P27="사용자항목16", L27, 0) -> 0 | AS27: =IF(P27="사용자항목17", L27, 0) -> 0 | AT27: =IF(P27="사용자항목18", L27, 0) -> 0 | AU27: =IF(P27="사용자항목19", L27, 0) -> 0
A28: 시멘트벽돌 쌓기 | B28: 1.0B, 3.6m 이하 | C28: M2 | D28: 5.2 | F28: =ROUNDDOWN(D28*E28, 0) -> 0 | H28: =ROUNDDOWN(D28*G28, 0) -> 0 | J28: =ROUNDDOWN(D28*I28, 0) -> 0 | K28: =E28+G28+I28 -> 0 | L28: =F28+H28+J28 -> 0 | O28: ="" | P28: 기계경비 | Q28: 1 | R28: =IF(P28="기계경비", J28, 0) -> 0 | S28: =IF(P28="운반비", L28, 0) -> 0 | T28: =IF(P28="작업부산물", F28, 0) -> 0 | U28: =IF(P28="관급", F28, 0) -> 0 | V28: =IF(P28="외주비", J28, 0) -> 0 | W28: =IF(P28="장비비", J28, 0) -> 0 | X28: =IF(P28="폐기물처리비", L28, 0) -> 0 | Y28: =IF(P28="가설비", J28, 0) -> 0 | Z28: =IF(P28="잡비제외분", F28, 0) -> 0 | AA28: =IF(P28="사급자재대", L28, 0) -> 0 | AB28: =IF(P28="관급자재대", L28, 0) -> 0 | AC28: =IF(P28="사용자항목1", L28, 0) -> 0 | AD28: =IF(P28="사용자항목2", L28, 0) -> 0 | AE28: =IF(P28="안전관리비", L28, 0) -> 0 | AF28: =IF(P28="품질관리비", L28, 0) -> 0 | AG28: =IF(P28="작업부산물(철거해체)", L28, 0) -> 0 | AH28: =IF(P28="사용자항목6", L28, 0) -> 0 | AI28: =IF(P28="사용자항목7", L28, 0) -> 0 | AJ28: =IF(P28="관급자재대(도급자)", L28, 0) -> 0 | AK28: =IF(P28="관급자재대(관급자)", L28, 0) -> 0 | AL28: =IF(P28="사용자항목10", L28, 0) -> 0 | AM28: =IF(P28="폐기물처리비(일반)", L28, 0) -> 0 | AN28: =IF(P28="폐기물처리비(지정)", L28, 0) -> 0 | AO28: =IF(P28="사용자항목13", L28, 0) -> 0 | AP28: =IF(P28="사용자항목14", L28, 0) -> 0 | AQ28: =IF(P28="사용자항목15", L28, 0) -> 0 | AR28: =IF(P28="사용자항목16", L28, 0) -> 0 | AS28: =IF(P28="사용자항목17", L28, 0) -> 0 | AT28: =IF(P28="사용자항목18", L28, 0) -> 0 | AU28: =IF(P28="사용자항목19", L28, 0) -> 0 | AY28: 무성적산
A29: 벽돌소운반 | B29: 인력, 1층 | C29: 천매 | D29: 0.813 | F29: =ROUNDDOWN(D29*E29, 0) -> 0 | H29: =ROUNDDOWN(D29*G29, 0) -> 0 | J29: =ROUNDDOWN(D29*I29, 0) -> 0 | K29: =E29+G29+I29 -> 0 | L29: =F29+H29+J29 -> 0 | O29: ="" | P29: 기계경비 | Q29: 1 | R29: =IF(P29="기계경비", J29, 0) -> 0 | S29: =IF(P29="운반비", L29, 0) -> 0 | T29: =IF(P29="작업부산물", F29, 0) -> 0 | U29: =IF(P29="관급", F29, 0) -> 0 | V29: =IF(P29="외주비", J29, 0) -> 0 | W29: =IF(P29="장비비", J29, 0) -> 0 | X29: =IF(P29="폐기물처리비", L29, 0) -> 0 | Y29: =IF(P29="가설비", J29, 0) -> 0 | Z29: =IF(P29="잡비제외분", F29, 0) -> 0 | AA29: =IF(P29="사급자재대", L29, 0) -> 0 | AB29: =IF(P29="관급자재대", L29, 0) -> 0 | AC29: =IF(P29="사용자항목1", L29, 0) -> 0 | AD29: =IF(P29="사용자항목2", L29, 0) -> 0 | AE29: =IF(P29="안전관리비", L29, 0) -> 0 | AF29: =IF(P29="품질관리비", L29, 0) -> 0 | AG29: =IF(P29="작업부산물(철거해체)", L29, 0) -> 0 | AH29: =IF(P29="사용자항목6", L29, 0) -> 0 | AI29: =IF(P29="사용자항목7", L29, 0) -> 0 | AJ29: =IF(P29="관급자재대(도급자)", L29, 0) -> 0 | AK29: =IF(P29="관급자재대(관급자)", L29, 0) -> 0 | AL29: =IF(P29="사용자항목10", L29, 0) -> 0 | AM29: =IF(P29="폐기물처리비(일반)", L29, 0) -> 0 | AN29: =IF(P29="폐기물처리비(지정)", L29, 0) -> 0 | AO29: =IF(P29="사용자항목13", L29, 0) -> 0 | AP29: =IF(P29="사용자항목14", L29, 0) -> 0 | AQ29: =IF(P29="사용자항목15", L29, 0) -> 0 | AR29: =IF(P29="사용자항목16", L29, 0) -> 0 | AS29: =IF(P29="사용자항목17", L29, 0) -> 0 | AT29: =IF(P29="사용자항목18", L29, 0) -> 0 | AU29: =IF(P29="사용자항목19", L29, 0) -> 0
A46: 합 계 | F46: =ROUNDDOWN(SUMIF(Q27:Q45, "1", F27:F45), 0) -> 0 | H46: =ROUNDDOWN(SUMIF(Q27:Q45, "1", H27:H45), 0) -> 0 | J46: =ROUNDDOWN(SUMIF(Q27:Q45, "1", J27:J45), 0) -> 0 | L46: =F46+H46+J46 -> 0 | R46: =ROUNDDOWN(SUM(R27:R29), 0) -> 0 | S46: =ROUNDDOWN(SUM(S27:S29), 0) -> 0 | T46: =ROUNDDOWN(SUM(T27:T29), 0) -> 0 | U46: =ROUNDDOWN(SUM(U27:U29), 0) -> 0 | V46: =ROUNDDOWN(SUM(V27:V29), 0) -> 0 | W46: =ROUNDDOWN(SUM(W27:W29), 0) -> 0 | X46: =ROUNDDOWN(SUM(X27:X29), 0) -> 0 | Y46: =ROUNDDOWN(SUM(Y27:Y29), 0) -> 0 | ... AY46: =ROUNDDOWN(SUM(AY27:AY29), 0) -> 0
A47: 0103. 돌및타일공사
A48: 화강석붙임(바닥,습식) | B48: 잔다듬,거창석 30mm, 모르타르 30mm | C48: M2 | D48: 0.2 | F48: =ROUNDDOWN(D48*E48, 0) -> 0 | H48: =ROUNDDOWN(D48*G48, 0) -> 0 | J48: =ROUNDDOWN(D48*I48, 0) -> 0 | K48: =E48+G48+I48 -> 0 | L48: =F48+H48+J48 -> 0 | O48: ="" | P48: 기계경비 | Q48: 1 | R48: =IF(P48="기계경비", J48, 0) -> 0 | S48: =IF(P48="운반비", L48, 0) -> 0 | T48: =IF(P48="작업부산물", F48, 0) -> 0 | U48: =IF(P48="관급", F48, 0) -> 0 | V48: =IF(P48="외주비", J48, 0) -> 0 | W48: =IF(P48="장비비", J48, 0) -> 0 | X48: =IF(P48="폐기물처리비", L48, 0) -> 0 | Y48: =IF(P48="가설비", J48, 0) -> 0 | Z48: =IF(P48="잡비제외분", F48, 0) -> 0 | AA48: =IF(P48="사급자재대", L48, 0) -> 0 | AB48: =IF(P48="관급자재대", L48, 0) -> 0 | AC48: =IF(P48="사용자항목1", L48, 0) -> 0 | AD48: =IF(P48="사용자항목2", L48, 0) -> 0 | AE48: =IF(P48="안전관리비", L48, 0) -> 0 | AF48: =IF(P48="품질관리비", L48, 0) -> 0 | AG48: =IF(P48="작업부산물(철거해체)", L48, 0) -> 0 | AH48: =IF(P48="사용자항목6", L48, 0) -> 0 | AI48: =IF(P48="사용자항목7", L48, 0) -> 0 | AJ48: =IF(P48="관급자재대(도급자)", L48, 0) -> 0 | AK48: =IF(P48="관급자재대(관급자)", L48, 0) -> 0 | AL48: =IF(P48="사용자항목10", L48, 0) -> 0 | AM48: =IF(P48="폐기물처리비(일반)", L48, 0) -> 0 | AN48: =IF(P48="폐기물처리비(지정)", L48, 0) -> 0 | AO48: =IF(P48="사용자항목13", L48, 0) -> 0 | AP48: =IF(P48="사용자항목14", L48, 0) -> 0 | AQ48: =IF(P48="사용자항목15", L48, 0) -> 0 | AR48: =IF(P48="사용자항목16", L48, 0) -> 0 | AS48: =IF(P48="사용자항목17", L48, 0) -> 0 | AT48: =IF(P48="사용자항목18", L48, 0) -> 0 | AU48: =IF(P48="사용자항목19", L48, 0) -> 0 | AY48: 무성적산
A49: 점자블록 | B49: 300×300×35 고강도세라믹 친환경인증 | C49: 개 | D49: 19 | F49: =ROUNDDOWN(D49*E49, 0) -> 0 | H49: =ROUNDDOWN(D49*G49, 0) -> 0 | J49: =ROUNDDOWN(D49*I49, 0) -> 0 | K49: =E49+G49+I49 -> 0 | L49: =F49+H49+J49 -> 0 | O49: ="01" -> 01 | P49: 기계경비 | Q49: 1 | R49: =IF(P49="기계경비", J49, 0) -> 0 | S49: =IF(P49="운반비", L49, 0) -> 0 | T49: =IF(P49="작업부산물", F49, 0) -> 0 | U49: =IF(P49="관급", F49, 0) -> 0 | V49: =IF(P49="외주비", J49, 0) -> 0 | W49: =IF(P49="장비비", J49, 0) -> 0 | X49: =IF(P49="폐기물처리비", L49, 0) -> 0 | Y49: =IF(P49="가설비", J49, 0) -> 0 | Z49: =IF(P49="잡비제외분", F49, 0) -> 0 | AA49: =IF(P49="사급자재대", L49, 0) -> 0 | AB49: =IF(P49="관급자재대", L49, 0) -> 0 | AC49: =IF(P49="사용자항목1", L49, 0) -> 0 | AD49: =IF(P49="사용자항목2", L49, 0) -> 0 | AE49: =IF(P49="안전관리비", L49, 0) -> 0 | AF49: =IF(P49="품질관리비", L49, 0) -> 0 | AG49: =IF(P49="작업부산물(철거해체)", L49, 0) -> 0 | AH49: =IF(P49="사용자항목6", L49, 0) -> 0 | AI49: =IF(P49="사용자항목7", L49, 0) -> 0 | AJ49: =IF(P49="관급자재대(도급자)", L49, 0) -> 0 | AK49: =IF(P49="관급자재대(관급자)", L49, 0) -> 0 | AL49: =IF(P49="사용자항목10", L49, 0) -> 0 | AM49: =IF(P49="폐기물처리비(일반)", L49, 0) -> 0 | AN49: =IF(P49="폐기물처리비(지정)", L49, 0) -> 0 | AO49: =IF(P49="사용자항목13", L49, 0) -> 0 | AP49: =IF(P49="사용자항목14", L49, 0) -> 0 | AQ49: =IF(P49="사용자항목15", L49, 0) -> 0 | AR49: =IF(P49="사용자항목16", L49, 0) -> 0 | AS49: =IF(P49="사용자항목17", L49, 0) -> 0 | AT49: =IF(P49="사용자항목18", L49, 0) -> 0 | AU49: =IF(P49="사용자항목19", L49, 0) -> 0
A67: 합 계 | F67: =ROUNDDOWN(SUMIF(Q48:Q66, "1", F48:F66), 0) -> 0 | H67: =ROUNDDOWN(SUMIF(Q48:Q66, "1", H48:H66), 0) -> 0 | J67: =ROUNDDOWN(SUMIF(Q48:Q66, "1", J48:J66), 0) -> 0 | L67: =F67+H67+J67 -> 0 | R67: =ROUNDDOWN(SUM(R48:R49), 0) -> 0 | S67: =ROUNDDOWN(SUM(S48:S49), 0) -> 0 | T67: =ROUNDDOWN(SUM(T48:T49), 0) -> 0 | U67: =ROUNDDOWN(SUM(U48:U49), 0) -> 0 | V67: =ROUNDDOWN(SUM(V48:V49), 0) -> 0 | W67: =ROUNDDOWN(SUM(W48:W49), 0) -> 0 | X67: =ROUNDDOWN(SUM(X48:X49), 0) -> 0 | Y67: =ROUNDDOWN(SUM(Y48:Y49), 0) -> 0 | ... AY67: =ROUNDDOWN(SUM(AY48:AY49), 0) -> 0
A68: 0104. 목 공 사
A69: 걸레받이 설치 | B69: MDF H100×12mm,랩핑(방염) | C69: M | D69: 3.6 | F69: =ROUNDDOWN(D69*E69, 0) -> 0 | H69: =ROUNDDOWN(D69*G69, 0) -> 0 | J69: =ROUNDDOWN(D69*I69, 0) -> 0 | K69: =E69+G69+I69 -> 0 | L69: =F69+H69+J69 -> 0 | O69: ="" | P69: 기계경비 | Q69: 1 | R69: =IF(P69="기계경비", J69, 0) -> 0 | S69: =IF(P69="운반비", L69, 0) -> 0 | T69: =IF(P69="작업부산물", F69, 0) -> 0 | U69: =IF(P69="관급", F69, 0) -> 0 | V69: =IF(P69="외주비", J69, 0) -> 0 | W69: =IF(P69="장비비", J69, 0) -> 0 | X69: =IF(P69="폐기물처리비", L69, 0) -> 0 | Y69: =IF(P69="가설비", J69, 0) -> 0 | Z69: =IF(P69="잡비제외분", F69, 0) -> 0 | AA69: =IF(P69="사급자재대", L69, 0) -> 0 | AB69: =IF(P69="관급자재대", L69, 0) -> 0 | AC69: =IF(P69="사용자항목1", L69, 0) -> 0 | AD69: =IF(P69="사용자항목2", L69, 0) -> 0 | AE69: =IF(P69="안전관리비", L69, 0) -> 0 | AF69: =IF(P69="품질관리비", L69, 0) -> 0 | AG69: =IF(P69="작업부산물(철거해체)", L69, 0) -> 0 | AH69: =IF(P69="사용자항목6", L69, 0) -> 0 | AI69: =IF(P69="사용자항목7", L69, 0) -> 0 | AJ69: =IF(P69="관급자재대(도급자)", L69, 0) -> 0 | AK69: =IF(P69="관급자재대(관급자)", L69, 0) -> 0 | AL69: =IF(P69="사용자항목10", L69, 0) -> 0 | AM69: =IF(P69="폐기물처리비(일반)", L69, 0) -> 0 | AN69: =IF(P69="폐기물처리비(지정)", L69, 0) -> 0 | AO69: =IF(P69="사용자항목13", L69, 0) -> 0 | AP69: =IF(P69="사용자항목14", L69, 0) -> 0 | AQ69: =IF(P69="사용자항목15", L69, 0) -> 0 | AR69: =IF(P69="사용자항목16", L69, 0) -> 0 | AS69: =IF(P69="사용자항목17", L69, 0) -> 0 | AT69: =IF(P69="사용자항목18", L69, 0) -> 0 | AU69: =IF(P69="사용자항목19", L69, 0) -> 0 | AY69: 무성적산
A70: 벽,MDF 붙임 | B70: MDF 12T+무늬목,방염 | C70: M2 | D70: 122.1 | F70: =ROUNDDOWN(D70*E70, 0) -> 0 | H70: =ROUNDDOWN(D70*G70, 0) -> 0 | J70: =ROUNDDOWN(D70*I70, 0) -> 0 | K70: =E70+G70+I70 -> 0 | L70: =F70+H70+J70 -> 0 | O70: ="" | P70: 기계경비 | Q70: 1 | R70: =IF(P70="기계경비", J70, 0) -> 0 | S70: =IF(P70="운반비", L70, 0) -> 0 | T70: =IF(P70="작업부산물", F70, 0) -> 0 | U70: =IF(P70="관급", F70, 0) -> 0 | V70: =IF(P70="외주비", J70, 0) -> 0 | W70: =IF(P70="장비비", J70, 0) -> 0 | X70: =IF(P70="폐기물처리비", L70, 0) -> 0 | Y70: =IF(P70="가설비", J70, 0) -> 0 | Z70: =IF(P70="잡비제외분", F70, 0) -> 0 | AA70: =IF(P70="사급자재대", L70, 0) -> 0 | AB70: =IF(P70="관급자재대", L70, 0) -> 0 | AC70: =IF(P70="사용자항목1", L70, 0) -> 0 | AD70: =IF(P70="사용자항목2", L70, 0) -> 0 | AE70: =IF(P70="안전관리비", L70, 0) -> 0 | AF70: =IF(P70="품질관리비", L70, 0) -> 0 | AG70: =IF(P70="작업부산물(철거해체)", L70, 0) -> 0 | AH70: =IF(P70="사용자항목6", L70, 0) -> 0 | AI70: =IF(P70="사용자항목7", L70, 0) -> 0 | AJ70: =IF(P70="관급자재대(도급자)", L70, 0) -> 0 | AK70: =IF(P70="관급자재대(관급자)", L70, 0) -> 0 | AL70: =IF(P70="사용자항목10", L70, 0) -> 0 | AM70: =IF(P70="폐기물처리비(일반)", L70, 0) -> 0 | AN70: =IF(P70="폐기물처리비(지정)", L70, 0) -> 0 | AO70: =IF(P70="사용자항목13", L70, 0) -> 0 | AP70: =IF(P70="사용자항목14", L70, 0) -> 0 | AQ70: =IF(P70="사용자항목15", L70, 0) -> 0 | AR70: =IF(P70="사용자항목16", L70, 0) -> 0 | AS70: =IF(P70="사용자항목17", L70, 0) -> 0 | AT70: =IF(P70="사용자항목18", L70, 0) -> 0 | AU70: =IF(P70="사용자항목19", L70, 0) -> 0 | AY70: 무성적산
A88: 합 계 | F88: =ROUNDDOWN(SUMIF(Q69:Q87, "1", F69:F87), 0) -> 0 | H88: =ROUNDDOWN(SUMIF(Q69:Q87, "1", H69:H87), 0) -> 0 | J88: =ROUNDDOWN(SUMIF(Q69:Q87, "1", J69:J87), 0) -> 0 | L88: =F88+H88+J88 -> 0 | R88: =ROUNDDOWN(SUM(R69:R70), 0) -> 0 | S88: =ROUNDDOWN(SUM(S69:S70), 0) -> 0 | T88: =ROUNDDOWN(SUM(T69:T70), 0) -> 0 | U88: =ROUNDDOWN(SUM(U69:U70), 0) -> 0 | V88: =ROUNDDOWN(SUM(V69:V70), 0) -> 0 | W88: =ROUNDDOWN(SUM(W69:W70), 0) -> 0 | X88: =ROUNDDOWN(SUM(X69:X70), 0) -> 0 | Y88: =ROUNDDOWN(SUM(Y69:Y70), 0) -> 0 | ... AY88: =ROUNDDOWN(SUM(AY69:AY70), 0) -> 0
A89: 0105. 금속공사
A90: 칼라강판 설치 | B90: 칼라강판,0.5T | C90: M2 | D90: 1.4 | F90: =ROUNDDOWN(D90*E90, 0) -> 0 | H90: =ROUNDDOWN(D90*G90, 0) -> 0 | J90: =ROUNDDOWN(D90*I90, 0) -> 0 | K90: =E90+G90+I90 -> 0 | L90: =F90+H90+J90 -> 0 | O90: ="" | P90: 기계경비 | Q90: 1 | R90: =IF(P90="기계경비", J90, 0) -> 0 | S90: =IF(P90="운반비", L90, 0) -> 0 | T90: =IF(P90="작업부산물", F90, 0) -> 0 | U90: =IF(P90="관급", F90, 0) -> 0 | V90: =IF(P90="외주비", J90, 0) -> 0 | W90: =IF(P90="장비비", J90, 0) -> 0 | X90: =IF(P90="폐기물처리비", L90, 0) -> 0 | Y90: =IF(P90="가설비", J90, 0) -> 0 | Z90: =IF(P90="잡비제외분", F90, 0) -> 0 | AA90: =IF(P90="사급자재대", L90, 0) -> 0 | AB90: =IF(P90="관급자재대", L90, 0) -> 0 | AC90: =IF(P90="사용자항목1", L90, 0) -> 0 | AD90: =IF(P90="사용자항목2", L90, 0) -> 0 | AE90: =IF(P90="안전관리비", L90, 0) -> 0 | AF90: =IF(P90="품질관리비", L90, 0) -> 0 | AG90: =IF(P90="작업부산물(철거해체)", L90, 0) -> 0 | AH90: =IF(P90="사용자항목6", L90, 0) -> 0 | AI90: =IF(P90="사용자항목7", L90, 0) -> 0 | AJ90: =IF(P90="관급자재대(도급자)", L90, 0) -> 0 | AK90: =IF(P90="관급자재대(관급자)", L90, 0) -> 0 | AL90: =IF(P90="사용자항목10", L90, 0) -> 0 | AM90: =IF(P90="폐기물처리비(일반)", L90, 0) -> 0 | AN90: =IF(P90="폐기물처리비(지정)", L90, 0) -> 0 | AO90: =IF(P90="사용자항목13", L90, 0) -> 0 | AP90: =IF(P90="사용자항목14", L90, 0) -> 0 | AQ90: =IF(P90="사용자항목15", L90, 0) -> 0 | AR90: =IF(P90="사용자항목16", L90, 0) -> 0 | AS90: =IF(P90="사용자항목17", L90, 0) -> 0 | AT90: =IF(P90="사용자항목18", L90, 0) -> 0 | AU90: =IF(P90="사용자항목19", L90, 0) -> 0 | AY90: 무성적산
A91: 펜트레이 설치 | B91: SUS,1.5t×(8+55+100+55+8mm) | C91: M | D91: 2.4 | F91: =ROUNDDOWN(D91*E91, 0) -> 0 | H91: =ROUNDDOWN(D91*G91, 0) -> 0 | J91: =ROUNDDOWN(D91*I91, 0) -> 0 | K91: =E91+G91+I91 -> 0 | L91: =F91+H91+J91 -> 0 | O91: ="" | P91: 기계경비 | Q91: 1 | R91: =IF(P91="기계경비", J91, 0) -> 0 | S91: =IF(P91="운반비", L91, 0) -> 0 | T91: =IF(P91="작업부산물", F91, 0) -> 0 | U91: =IF(P91="관급", F91, 0) -> 0 | V91: =IF(P91="외주비", J91, 0) -> 0 | W91: =IF(P91="장비비", J91, 0) -> 0 | X91: =IF(P91="폐기물처리비", L91, 0) -> 0 | Y91: =IF(P91="가설비", J91, 0) -> 0 | Z91: =IF(P91="잡비제외분", F91, 0) -> 0 | AA91: =IF(P91="사급자재대", L91, 0) -> 0 | AB91: =IF(P91="관급자재대", L91, 0) -> 0 | AC91: =IF(P91="사용자항목1", L91, 0) -> 0 | AD91: =IF(P91="사용자항목2", L91, 0) -> 0 | AE91: =IF(P91="안전관리비", L91, 0) -> 0 | AF91: =IF(P91="품질관리비", L91, 0) -> 0 | AG91: =IF(P91="작업부산물(철거해체)", L91, 0) -> 0 | AH91: =IF(P91="사용자항목6", L91, 0) -> 0 | AI91: =IF(P91="사용자항목7", L91, 0) -> 0 | AJ91: =IF(P91="관급자재대(도급자)", L91, 0) -> 0 | AK91: =IF(P91="관급자재대(관급자)", L91, 0) -> 0 | AL91: =IF(P91="사용자항목10", L91, 0) -> 0 | AM91: =IF(P91="폐기물처리비(일반)", L91, 0) -> 0 | AN91: =IF(P91="폐기물처리비(지정)", L91, 0) -> 0 | AO91: =IF(P91="사용자항목13", L91, 0) -> 0 | AP91: =IF(P91="사용자항목14", L91, 0) -> 0 | AQ91: =IF(P91="사용자항목15", L91, 0) -> 0 | AR91: =IF(P91="사용자항목16", L91, 0) -> 0 | AS91: =IF(P91="사용자항목17", L91, 0) -> 0 | AT91: =IF(P91="사용자항목18", L91, 0) -> 0 | AU91: =IF(P91="사용자항목19", L91, 0) -> 0 | AY91: 무성적산
A109: 합 계 | F109: =ROUNDDOWN(SUMIF(Q90:Q108, "1", F90:F108), 0) -> 0 | H109: =ROUNDDOWN(SUMIF(Q90:Q108, "1", H90:H108), 0) -> 0 | J109: =ROUNDDOWN(SUMIF(Q90:Q108, "1", J90:J108), 0) -> 0 | L109: =F109+H109+J109 -> 0 | R109: =ROUNDDOWN(SUM(R90:R91), 0) -> 0 | S109: =ROUNDDOWN(SUM(S90:S91), 0) -> 0 | T109: =ROUNDDOWN(SUM(T90:T91), 0) -> 0 | U109: =ROUNDDOWN(SUM(U90:U91), 0) -> 0 | V109: =ROUNDDOWN(SUM(V90:V91), 0) -> 0 | W109: =ROUNDDOWN(SUM(W90:W91), 0) -> 0 | X109: =ROUNDDOWN(SUM(X90:X91), 0) -> 0 | Y109: =ROUNDDOWN(SUM(Y90:Y91), 0) -> 0 | ... AY109: =ROUNDDOWN(SUM(AY90:AY91), 0) -> 0
A110: 0106. 미장공사
A111: 모르타르 바름 | B111: 내벽,18mm(초벌+정벌),3.6m 이하 | C111: M2 | D111: 10.4 | F111: =ROUNDDOWN(D111*E111, 0) -> 0 | H111: =ROUNDDOWN(D111*G111, 0) -> 0 | J111: =ROUNDDOWN(D111*I111, 0) -> 0 | K111: =E111+G111+I111 -> 0 | L111: =F111+H111+J111 -> 0 | O111: ="" | P111: 기계경비 | Q111: 1 | R111: =IF(P111="기계경비", J111, 0) -> 0 | S111: =IF(P111="운반비", L111, 0) -> 0 | T111: =IF(P111="작업부산물", F111, 0) -> 0 | U111: =IF(P111="관급", F111, 0) -> 0 | V111: =IF(P111="외주비", J111, 0) -> 0 | W111: =IF(P111="장비비", J111, 0) -> 0 | X111: =IF(P111="폐기물처리비", L111, 0) -> 0 | Y111: =IF(P111="가설비", J111, 0) -> 0 | Z111: =IF(P111="잡비제외분", F111, 0) -> 0 | AA111: =IF(P111="사급자재대", L111, 0) -> 0 | AB111: =IF(P111="관급자재대", L111, 0) -> 0 | AC111: =IF(P111="사용자항목1", L111, 0) -> 0 | AD111: =IF(P111="사용자항목2", L111, 0) -> 0 | AE111: =IF(P111="안전관리비", L111, 0) -> 0 | AF111: =IF(P111="품질관리비", L111, 0) -> 0 | AG111: =IF(P111="작업부산물(철거해체)", L111, 0) -> 0 | AH111: =IF(P111="사용자항목6", L111, 0) -> 0 | AI111: =IF(P111="사용자항목7", L111, 0) -> 0 | AJ111: =IF(P111="관급자재대(도급자)", L111, 0) -> 0 | AK111: =IF(P111="관급자재대(관급자)", L111, 0) -> 0 | AL111: =IF(P111="사용자항목10", L111, 0) -> 0 | AM111: =IF(P111="폐기물처리비(일반)", L111, 0) -> 0 | AN111: =IF(P111="폐기물처리비(지정)", L111, 0) -> 0 | AO111: =IF(P111="사용자항목13", L111, 0) -> 0 | AP111: =IF(P111="사용자항목14", L111, 0) -> 0 | AQ111: =IF(P111="사용자항목15", L111, 0) -> 0 | AR111: =IF(P111="사용자항목16", L111, 0) -> 0 | AS111: =IF(P111="사용자항목17", L111, 0) -> 0 | AT111: =IF(P111="사용자항목18", L111, 0) -> 0 | AU111: =IF(P111="사용자항목19", L111, 0) -> 0 | AY111: 무성적산
A112: 창호주위 모르타르 충전 | C112: M | D112: 2.6 | F112: =ROUNDDOWN(D112*E112, 0) -> 0 | H112: =ROUNDDOWN(D112*G112, 0) -> 0 | J112: =ROUNDDOWN(D112*I112, 0) -> 0 | K112: =E112+G112+I112 -> 0 | L112: =F112+H112+J112 -> 0 | O112: ="" | P112: 기계경비 | Q112: 1 | R112: =IF(P112="기계경비", J112, 0) -> 0 | S112: =IF(P112="운반비", L112, 0) -> 0 | T112: =IF(P112="작업부산물", F112, 0) -> 0 | U112: =IF(P112="관급", F112, 0) -> 0 | V112: =IF(P112="외주비", J112, 0) -> 0 | W112: =IF(P112="장비비", J112, 0) -> 0 | X112: =IF(P112="폐기물처리비", L112, 0) -> 0 | Y112: =IF(P112="가설비", J112, 0) -> 0 | Z112: =IF(P112="잡비제외분", F112, 0) -> 0 | AA112: =IF(P112="사급자재대", L112, 0) -> 0 | AB112: =IF(P112="관급자재대", L112, 0) -> 0 | AC112: =IF(P112="사용자항목1", L112, 0) -> 0 | AD112: =IF(P112="사용자항목2", L112, 0) -> 0 | AE112: =IF(P112="안전관리비", L112, 0) -> 0 | AF112: =IF(P112="품질관리비", L112, 0) -> 0 | AG112: =IF(P112="작업부산물(철거해체)", L112, 0) -> 0 | AH112: =IF(P112="사용자항목6", L112, 0) -> 0 | AI112: =IF(P112="사용자항목7", L112, 0) -> 0 | AJ112: =IF(P112="관급자재대(도급자)", L112, 0) -> 0 | AK112: =IF(P112="관급자재대(관급자)", L112, 0) -> 0 | AL112: =IF(P112="사용자항목10", L112, 0) -> 0 | AM112: =IF(P112="폐기물처리비(일반)", L112, 0) -> 0 | AN112: =IF(P112="폐기물처리비(지정)", L112, 0) -> 0 | AO112: =IF(P112="사용자항목13", L112, 0) -> 0 | AP112: =IF(P112="사용자항목14", L112, 0) -> 0 | AQ112: =IF(P112="사용자항목15", L112, 0) -> 0 | AR112: =IF(P112="사용자항목16", L112, 0) -> 0 | AS112: =IF(P112="사용자항목17", L112, 0) -> 0 | AT112: =IF(P112="사용자항목18", L112, 0) -> 0 | AU112: =IF(P112="사용자항목19", L112, 0) -> 0 | AY112: AGH11000020S
A130: 합 계 | F130: =ROUNDDOWN(SUMIF(Q111:Q129, "1", F111:F129), 0) -> 0 | H130: =ROUNDDOWN(SUMIF(Q111:Q129, "1", H111:H129), 0) -> 0 | J130: =ROUNDDOWN(SUMIF(Q111:Q129, "1", J111:J129), 0) -> 0 | L130: =F130+H130+J130 -> 0 | R130: =ROUNDDOWN(SUM(R111:R112), 0) -> 0 | S130: =ROUNDDOWN(SUM(S111:S112), 0) -> 0 | T130: =ROUNDDOWN(SUM(T111:T112), 0) -> 0 | U130: =ROUNDDOWN(SUM(U111:U112), 0) -> 0 | V130: =ROUNDDOWN(SUM(V111:V112), 0) -> 0 | W130: =ROUNDDOWN(SUM(W111:W112), 0) -> 0 | X130: =ROUNDDOWN(SUM(X111:X112), 0) -> 0 | Y130: =ROUNDDOWN(SUM(Y111:Y112), 0) -> 0 | ... AY130: =ROUNDDOWN(SUM(AY111:AY112), 0) -> 0
A131: 0107. 창호공사
A132: SSD - 2 | B132: 5,800 × 2,600 (100×45×1.2T) | C132: 개소 | D132: 1 | F132: =ROUNDDOWN(D132*E132, 0) -> 0 | H132: =ROUNDDOWN(D132*G132, 0) -> 0 | J132: =ROUNDDOWN(D132*I132, 0) -> 0 | K132: =E132+G132+I132 -> 0 | L132: =F132+H132+J132 -> 0 | O132: ="" | P132: 기계경비 | Q132: 1 | R132: =IF(P132="기계경비", J132, 0) -> 0 | S132: =IF(P132="운반비", L132, 0) -> 0 | T132: =IF(P132="작업부산물", F132, 0) -> 0 | U132: =IF(P132="관급", F132, 0) -> 0 | V132: =IF(P132="외주비", J132, 0) -> 0 | W132: =IF(P132="장비비", J132, 0) -> 0 | X132: =IF(P132="폐기물처리비", L132, 0) -> 0 | Y132: =IF(P132="가설비", J132, 0) -> 0 | Z132: =IF(P132="잡비제외분", F132, 0) -> 0 | AA132: =IF(P132="사급자재대", L132, 0) -> 0 | AB132: =IF(P132="관급자재대", L132, 0) -> 0 | AC132: =IF(P132="사용자항목1", L132, 0) -> 0 | AD132: =IF(P132="사용자항목2", L132, 0) -> 0 | AE132: =IF(P132="안전관리비", L132, 0) -> 0 | AF132: =IF(P132="품질관리비", L132, 0) -> 0 | AG132: =IF(P132="작업부산물(철거해체)", L132, 0) -> 0 | AH132: =IF(P132="사용자항목6", L132, 0) -> 0 | AI132: =IF(P132="사용자항목7", L132, 0) -> 0 | AJ132: =IF(P132="관급자재대(도급자)", L132, 0) -> 0 | AK132: =IF(P132="관급자재대(관급자)", L132, 0) -> 0 | AL132: =IF(P132="사용자항목10", L132, 0) -> 0 | AM132: =IF(P132="폐기물처리비(일반)", L132, 0) -> 0 | AN132: =IF(P132="폐기물처리비(지정)", L132, 0) -> 0 | AO132: =IF(P132="사용자항목13", L132, 0) -> 0 | AP132: =IF(P132="사용자항목14", L132, 0) -> 0 | AQ132: =IF(P132="사용자항목15", L132, 0) -> 0 | AR132: =IF(P132="사용자항목16", L132, 0) -> 0 | AS132: =IF(P132="사용자항목17", L132, 0) -> 0 | AT132: =IF(P132="사용자항목18", L132, 0) -> 0 | AU132: =IF(P132="사용자항목19", L132, 0) -> 0
A133: S D - 1 | B133: 2,100 × 2,600 (45×250×1.6T)+PVC 랩핑(방염) | C133: 개소 | D133: 1 | F133: =ROUNDDOWN(D133*E133, 0) -> 0 | H133: =ROUNDDOWN(D133*G133, 0) -> 0 | J133: =ROUNDDOWN(D133*I133, 0) -> 0 | K133: =E133+G133+I133 -> 0 | L133: =F133+H133+J133 -> 0 | O133: ="" | P133: 기계경비 | Q133: 1 | R133: =IF(P133="기계경비", J133, 0) -> 0 | S133: =IF(P133="운반비", L133, 0) -> 0 | T133: =IF(P133="작업부산물", F133, 0) -> 0 | U133: =IF(P133="관급", F133, 0) -> 0 | V133: =IF(P133="외주비", J133, 0) -> 0 | W133: =IF(P133="장비비", J133, 0) -> 0 | X133: =IF(P133="폐기물처리비", L133, 0) -> 0 | Y133: =IF(P133="가설비", J133, 0) -> 0 | Z133: =IF(P133="잡비제외분", F133, 0) -> 0 | AA133: =IF(P133="사급자재대", L133, 0) -> 0 | AB133: =IF(P133="관급자재대", L133, 0) -> 0 | AC133: =IF(P133="사용자항목1", L133, 0) -> 0 | AD133: =IF(P133="사용자항목2", L133, 0) -> 0 | AE133: =IF(P133="안전관리비", L133, 0) -> 0 | AF133: =IF(P133="품질관리비", L133, 0) -> 0 | AG133: =IF(P133="작업부산물(철거해체)", L133, 0) -> 0 | AH133: =IF(P133="사용자항목6", L133, 0) -> 0 | AI133: =IF(P133="사용자항목7", L133, 0) -> 0 | AJ133: =IF(P133="관급자재대(도급자)", L133, 0) -> 0 | AK133: =IF(P133="관급자재대(관급자)", L133, 0) -> 0 | AL133: =IF(P133="사용자항목10", L133, 0) -> 0 | AM133: =IF(P133="폐기물처리비(일반)", L133, 0) -> 0 | AN133: =IF(P133="폐기물처리비(지정)", L133, 0) -> 0 | AO133: =IF(P133="사용자항목13", L133, 0) -> 0 | AP133: =IF(P133="사용자항목14", L133, 0) -> 0 | AQ133: =IF(P133="사용자항목15", L133, 0) -> 0 | AR133: =IF(P133="사용자항목16", L133, 0) -> 0 | AS133: =IF(P133="사용자항목17", L133, 0) -> 0 | AT133: =IF(P133="사용자항목18", L133, 0) -> 0 | AU133: =IF(P133="사용자항목19", L133, 0) -> 0 | AY133: 무성적산
A134: S D - 2 | B134: 1,100 × 2,600 (45×250×1.6T)+PVC 랩핑(방염) | C134: 개소 | D134: 3 | F134: =ROUNDDOWN(D134*E134, 0) -> 0 | H134: =ROUNDDOWN(D134*G134, 0) -> 0 | J134: =ROUNDDOWN(D134*I134, 0) -> 0 | K134: =E134+G134+I134 -> 0 | L134: =F134+H134+J134 -> 0 | O134: ="" | P134: 기계경비 | Q134: 1 | R134: =IF(P134="기계경비", J134, 0) -> 0 | S134: =IF(P134="운반비", L134, 0) -> 0 | T134: =IF(P134="작업부산물", F134, 0) -> 0 | U134: =IF(P134="관급", F134, 0) -> 0 | V134: =IF(P134="외주비", J134, 0) -> 0 | W134: =IF(P134="장비비", J134, 0) -> 0 | X134: =IF(P134="폐기물처리비", L134, 0) -> 0 | Y134: =IF(P134="가설비", J134, 0) -> 0 | Z134: =IF(P134="잡비제외분", F134, 0) -> 0 | AA134: =IF(P134="사급자재대", L134, 0) -> 0 | AB134: =IF(P134="관급자재대", L134, 0) -> 0 | AC134: =IF(P134="사용자항목1", L134, 0) -> 0 | AD134: =IF(P134="사용자항목2", L134, 0) -> 0 | AE134: =IF(P134="안전관리비", L134, 0) -> 0 | AF134: =IF(P134="품질관리비", L134, 0) -> 0 | AG134: =IF(P134="작업부산물(철거해체)", L134, 0) -> 0 | AH134: =IF(P134="사용자항목6", L134, 0) -> 0 | AI134: =IF(P134="사용자항목7", L134, 0) -> 0 | AJ134: =IF(P134="관급자재대(도급자)", L134, 0) -> 0 | AK134: =IF(P134="관급자재대(관급자)", L134, 0) -> 0 | AL134: =IF(P134="사용자항목10", L134, 0) -> 0 | AM134: =IF(P134="폐기물처리비(일반)", L134, 0) -> 0 | AN134: =IF(P134="폐기물처리비(지정)", L134, 0) -> 0 | AO134: =IF(P134="사용자항목13", L134, 0) -> 0 | AP134: =IF(P134="사용자항목14", L134, 0) -> 0 | AQ134: =IF(P134="사용자항목15", L134, 0) -> 0 | AR134: =IF(P134="사용자항목16", L134, 0) -> 0 | AS134: =IF(P134="사용자항목17", L134, 0) -> 0 | AT134: =IF(P134="사용자항목18", L134, 0) -> 0 | AU134: =IF(P134="사용자항목19", L134, 0) -> 0 | AY134: 무성적산
A135: S D - 3 | B135: 1,100 × 2,600 (45×250×1.6T)+PVC 랩핑(방염) | C135: 개소 | D135: 1 | F135: =ROUNDDOWN(D135*E135, 0) -> 0 | H135: =ROUNDDOWN(D135*G135, 0) -> 0 | J135: =ROUNDDOWN(D135*I135, 0) -> 0 | K135: =E135+G135+I135 -> 0 | L135: =F135+H135+J135 -> 0 | O135: ="" | P135: 기계경비 | Q135: 1 | R135: =IF(P135="기계경비", J135, 0) -> 0 | S135: =IF(P135="운반비", L135, 0) -> 0 | T135: =IF(P135="작업부산물", F135, 0) -> 0 | U135: =IF(P135="관급", F135, 0) -> 0 | V135: =IF(P135="외주비", J135, 0) -> 0 | W135: =IF(P135="장비비", J135, 0) -> 0 | X135: =IF(P135="폐기물처리비", L135, 0) -> 0 | Y135: =IF(P135="가설비", J135, 0) -> 0 | Z135: =IF(P135="잡비제외분", F135, 0) -> 0 | AA135: =IF(P135="사급자재대", L135, 0) -> 0 | AB135: =IF(P135="관급자재대", L135, 0) -> 0 | AC135: =IF(P135="사용자항목1", L135, 0) -> 0 | AD135: =IF(P135="사용자항목2", L135, 0) -> 0 | AE135: =IF(P135="안전관리비", L135, 0) -> 0 | AF135: =IF(P135="품질관리비", L135, 0) -> 0 | AG135: =IF(P135="작업부산물(철거해체)", L135, 0) -> 0 | AH135: =IF(P135="사용자항목6", L135, 0) -> 0 | AI135: =IF(P135="사용자항목7", L135, 0) -> 0 | AJ135: =IF(P135="관급자재대(도급자)", L135, 0) -> 0 | AK135: =IF(P135="관급자재대(관급자)", L135, 0) -> 0 | AL135: =IF(P135="사용자항목10", L135, 0) -> 0 | AM135: =IF(P135="폐기물처리비(일반)", L135, 0) -> 0 | AN135: =IF(P135="폐기물처리비(지정)", L135, 0) -> 0 | AO135: =IF(P135="사용자항목13", L135, 0) -> 0 | AP135: =IF(P135="사용자항목14", L135, 0) -> 0 | AQ135: =IF(P135="사용자항목15", L135, 0) -> 0 | AR135: =IF(P135="사용자항목16", L135, 0) -> 0 | AS135: =IF(P135="사용자항목17", L135, 0) -> 0 | AT135: =IF(P135="사용자항목18", L135, 0) -> 0 | AU135: =IF(P135="사용자항목19", L135, 0) -> 0
A136: S D - 4 (헛문틀) | B136: 1,300 × 3,000 (30×250×1.6T GALV)+PVC 랩핑(방염) | C136: 개소 | D136: 1 | F136: =ROUNDDOWN(D136*E136, 0) -> 0 | H136: =ROUNDDOWN(D136*G136, 0) -> 0 | J136: =ROUNDDOWN(D136*I136, 0) -> 0 | K136: =E136+G136+I136 -> 0 | L136: =F136+H136+J136 -> 0 | O136: ="" | P136: 기계경비 | Q136: 1 | R136: =IF(P136="기계경비", J136, 0) -> 0 | S136: =IF(P136="운반비", L136, 0) -> 0 | T136: =IF(P136="작업부산물", F136, 0) -> 0 | U136: =IF(P136="관급", F136, 0) -> 0 | V136: =IF(P136="외주비", J136, 0) -> 0 | W136: =IF(P136="장비비", J136, 0) -> 0 | X136: =IF(P136="폐기물처리비", L136, 0) -> 0 | Y136: =IF(P136="가설비", J136, 0) -> 0 | Z136: =IF(P136="잡비제외분", F136, 0) -> 0 | AA136: =IF(P136="사급자재대", L136, 0) -> 0 | AB136: =IF(P136="관급자재대", L136, 0) -> 0 | AC136: =IF(P136="사용자항목1", L136, 0) -> 0 | AD136: =IF(P136="사용자항목2", L136, 0) -> 0 | AE136: =IF(P136="안전관리비", L136, 0) -> 0 | AF136: =IF(P136="품질관리비", L136, 0) -> 0 | AG136: =IF(P136="작업부산물(철거해체)", L136, 0) -> 0 | AH136: =IF(P136="사용자항목6", L136, 0) -> 0 | AI136: =IF(P136="사용자항목7", L136, 0) -> 0 | AJ136: =IF(P136="관급자재대(도급자)", L136, 0) -> 0 | AK136: =IF(P136="관급자재대(관급자)", L136, 0) -> 0 | AL136: =IF(P136="사용자항목10", L136, 0) -> 0 | AM136: =IF(P136="폐기물처리비(일반)", L136, 0) -> 0 | AN136: =IF(P136="폐기물처리비(지정)", L136, 0) -> 0 | AO136: =IF(P136="사용자항목13", L136, 0) -> 0 | AP136: =IF(P136="사용자항목14", L136, 0) -> 0 | AQ136: =IF(P136="사용자항목15", L136, 0) -> 0 | AR136: =IF(P136="사용자항목16", L136, 0) -> 0 | AS136: =IF(P136="사용자항목17", L136, 0) -> 0 | AT136: =IF(P136="사용자항목18", L136, 0) -> 0 | AU136: =IF(P136="사용자항목19", L136, 0) -> 0
A137: 자동문 | B137: 쌍도아 | C137: SET | D137: 1 | F137: =ROUNDDOWN(D137*E137, 0) -> 0 | H137: =ROUNDDOWN(D137*G137, 0) -> 0 | J137: =ROUNDDOWN(D137*I137, 0) -> 0 | K137: =E137+G137+I137 -> 0 | L137: =F137+H137+J137 -> 0 | O137: ="01" -> 01 | P137: 기계경비 | Q137: 1 | R137: =IF(P137="기계경비", J137, 0) -> 0 | S137: =IF(P137="운반비", L137, 0) -> 0 | T137: =IF(P137="작업부산물", F137, 0) -> 0 | U137: =IF(P137="관급", F137, 0) -> 0 | V137: =IF(P137="외주비", J137, 0) -> 0 | W137: =IF(P137="장비비", J137, 0) -> 0 | X137: =IF(P137="폐기물처리비", L137, 0) -> 0 | Y137: =IF(P137="가설비", J137, 0) -> 0 | Z137: =IF(P137="잡비제외분", F137, 0) -> 0 | AA137: =IF(P137="사급자재대", L137, 0) -> 0 | AB137: =IF(P137="관급자재대", L137, 0) -> 0 | AC137: =IF(P137="사용자항목1", L137, 0) -> 0 | AD137: =IF(P137="사용자항목2", L137, 0) -> 0 | AE137: =IF(P137="안전관리비", L137, 0) -> 0 | AF137: =IF(P137="품질관리비", L137, 0) -> 0 | AG137: =IF(P137="작업부산물(철거해체)", L137, 0) -> 0 | AH137: =IF(P137="사용자항목6", L137, 0) -> 0 | AI137: =IF(P137="사용자항목7", L137, 0) -> 0 | AJ137: =IF(P137="관급자재대(도급자)", L137, 0) -> 0 | AK137: =IF(P137="관급자재대(관급자)", L137, 0) -> 0 | AL137: =IF(P137="사용자항목10", L137, 0) -> 0 | AM137: =IF(P137="폐기물처리비(일반)", L137, 0) -> 0 | AN137: =IF(P137="폐기물처리비(지정)", L137, 0) -> 0 | AO137: =IF(P137="사용자항목13", L137, 0) -> 0 | AP137: =IF(P137="사용자항목14", L137, 0) -> 0 | AQ137: =IF(P137="사용자항목15", L137, 0) -> 0 | AR137: =IF(P137="사용자항목16", L137, 0) -> 0 | AS137: =IF(P137="사용자항목17", L137, 0) -> 0 | AT137: =IF(P137="사용자항목18", L137, 0) -> 0 | AU137: =IF(P137="사용자항목19", L137, 0) -> 0
A138: 단열 스테인리스 시스템세이프도어 | B138: 900×2,600mm, 헤어라인 | C138: EA | D138: 2 | F138: =ROUNDDOWN(D138*E138, 0) -> 0 | H138: =ROUNDDOWN(D138*G138, 0) -> 0 | J138: =ROUNDDOWN(D138*I138, 0) -> 0 | K138: =E138+G138+I138 -> 0 | L138: =F138+H138+J138 -> 0 | O138: ="01" -> 01 | P138: 기계경비 | Q138: 1 | R138: =IF(P138="기계경비", J138, 0) -> 0 | S138: =IF(P138="운반비", L138, 0) -> 0 | T138: =IF(P138="작업부산물", F138, 0) -> 0 | U138: =IF(P138="관급", F138, 0) -> 0 | V138: =IF(P138="외주비", J138, 0) -> 0 | W138: =IF(P138="장비비", J138, 0) -> 0 | X138: =IF(P138="폐기물처리비", L138, 0) -> 0 | Y138: =IF(P138="가설비", J138, 0) -> 0 | Z138: =IF(P138="잡비제외분", F138, 0) -> 0 | AA138: =IF(P138="사급자재대", L138, 0) -> 0 | AB138: =IF(P138="관급자재대", L138, 0) -> 0 | AC138: =IF(P138="사용자항목1", L138, 0) -> 0 | AD138: =IF(P138="사용자항목2", L138, 0) -> 0 | AE138: =IF(P138="안전관리비", L138, 0) -> 0 | AF138: =IF(P138="품질관리비", L138, 0) -> 0 | AG138: =IF(P138="작업부산물(철거해체)", L138, 0) -> 0 | AH138: =IF(P138="사용자항목6", L138, 0) -> 0 | AI138: =IF(P138="사용자항목7", L138, 0) -> 0 | AJ138: =IF(P138="관급자재대(도급자)", L138, 0) -> 0 | AK138: =IF(P138="관급자재대(관급자)", L138, 0) -> 0 | AL138: =IF(P138="사용자항목10", L138, 0) -> 0 | AM138: =IF(P138="폐기물처리비(일반)", L138, 0) -> 0 | AN138: =IF(P138="폐기물처리비(지정)", L138, 0) -> 0 | AO138: =IF(P138="사용자항목13", L138, 0) -> 0 | AP138: =IF(P138="사용자항목14", L138, 0) -> 0 | AQ138: =IF(P138="사용자항목15", L138, 0) -> 0 | AR138: =IF(P138="사용자항목16", L138, 0) -> 0 | AS138: =IF(P138="사용자항목17", L138, 0) -> 0 | AT138: =IF(P138="사용자항목18", L138, 0) -> 0 | AU138: =IF(P138="사용자항목19", L138, 0) -> 0 | AY138: 유리별도
A139: 유리문 | B139: 유리문, 12×1,050×2,300mm, 손보호, 투명, 강화유리문 | C139: 개 | D139: 2 | F139: =ROUNDDOWN(D139*E139, 0) -> 0 | H139: =ROUNDDOWN(D139*G139, 0) -> 0 | J139: =ROUNDDOWN(D139*I139, 0) -> 0 | K139: =E139+G139+I139 -> 0 | L139: =F139+H139+J139 -> 0 | O139: ="01" -> 01 | P139: 기계경비 | Q139: 1 | R139: =IF(P139="기계경비", J139, 0) -> 0 | S139: =IF(P139="운반비", L139, 0) -> 0 | T139: =IF(P139="작업부산물", F139, 0) -> 0 | U139: =IF(P139="관급", F139, 0) -> 0 | V139: =IF(P139="외주비", J139, 0) -> 0 | W139: =IF(P139="장비비", J139, 0) -> 0 | X139: =IF(P139="폐기물처리비", L139, 0) -> 0 | Y139: =IF(P139="가설비", J139, 0) -> 0 | Z139: =IF(P139="잡비제외분", F139, 0) -> 0 | AA139: =IF(P139="사급자재대", L139, 0) -> 0 | AB139: =IF(P139="관급자재대", L139, 0) -> 0 | AC139: =IF(P139="사용자항목1", L139, 0) -> 0 | AD139: =IF(P139="사용자항목2", L139, 0) -> 0 | AE139: =IF(P139="안전관리비", L139, 0) -> 0 | AF139: =IF(P139="품질관리비", L139, 0) -> 0 | AG139: =IF(P139="작업부산물(철거해체)", L139, 0) -> 0 | AH139: =IF(P139="사용자항목6", L139, 0) -> 0 | AI139: =IF(P139="사용자항목7", L139, 0) -> 0 | AJ139: =IF(P139="관급자재대(도급자)", L139, 0) -> 0 | AK139: =IF(P139="관급자재대(관급자)", L139, 0) -> 0 | AL139: =IF(P139="사용자항목10", L139, 0) -> 0 | AM139: =IF(P139="폐기물처리비(일반)", L139, 0) -> 0 | AN139: =IF(P139="폐기물처리비(지정)", L139, 0) -> 0 | AO139: =IF(P139="사용자항목13", L139, 0) -> 0 | AP139: =IF(P139="사용자항목14", L139, 0) -> 0 | AQ139: =IF(P139="사용자항목15", L139, 0) -> 0 | AR139: =IF(P139="사용자항목16", L139, 0) -> 0 | AS139: =IF(P139="사용자항목17", L139, 0) -> 0 | AT139: =IF(P139="사용자항목18", L139, 0) -> 0 | AU139: =IF(P139="사용자항목19", L139, 0) -> 0 | AY139: 무성적산
