Workbook

Sheet 원가계산서
A1: 공 사 원 가 계 산 서
A2: 공사명 : 칠곡 시니어클럽 기능 보강공사
A3: 구 분 비 목 | D3: 구 성 비 | E3: 금 액 | F3: 비 고
A5: 순 공 사 원 가 | B5: 재료비 | C5: 직 접 재 료 비 | E5: =ROUNDDOWN(집계표!F25-집계표!AV25, 0) -> 0 | G5: A1 | H5: 0 | I5: =E5 -> 0
C6: 간 접 재 료 비 | E6: =ROUNDDOWN(E5*H6, 0) -> 0 | G6: A2 | H6: 0 | I6: =E6 -> 0
C7: 작업설.부산물 등(△) | E7: =집계표!T25 -> 0 | G7: A3 | H7: 0 | I7: =E7 -> 0
C8: 소 계 | E8: =SUM(E5:E6)-ABS(E7) -> 0 | G8: A | H8: 0 | I8: =E8 -> 0
B9: 노무비 | C9: 직 접 노 무 비 | E9: =ROUNDDOWN(집계표!H25, 0) -> 0 | G9: B1 | H9: 0 | I9: =E9 -> 0
C10: 간 접 노 무 비 | D10: ="직.노*"&H10*100&"%" -> 직.노*4% | E10: =ROUNDDOWN(E9*H10, 0) -> 0 | G10: B2 | H10: 0.04 | I10: =E10 -> 0
C11: 소 계 | E11: =SUM(E9:E10) -> 0 | G11: B | H11: 0 | I11: =E11 -> 0
B12: 경 비 | C12: 기 계 경 비 | E12: =ROUNDDOWN(집계표!J25, 0) -> 0 | G12: C4 | H12: 0 | I12: =E12 -> 0
C13: 산 재 보 험 료 | D13: ="(노)*"&H13*100&"%" -> (노)*3.56% | E13: =ROUNDDOWN((E11)*H13, 0) -> 0 | G13: C10 | H13: 0.0356 | I13: =E13 -> 0
C14: 고 용 보 험 료 | D14: ="(노)*"&H14*100&"%" -> (노)*1.01% | E14: =ROUNDDOWN((E11)*H14, 0) -> 0 | G14: C11 | H14: 0.0101 | I14: =E14 -> 0
C15: 건 강 보 험 료 | D15: ="(직.노)*"&H15*100&"%" -> (직.노)*3.595% | E15: =ROUNDDOWN((E9)*H15, 0) -> 0 | G15: C12 | H15: 0.03595 | I15: =E15 -> 0
C16: 연 금 보 험 료 | D16: ="(직.노)*"&H16*100&"%" -> (직.노)*4.75% | E16: =ROUNDDOWN((E9)*H16, 0) -> 0 | G16: C13 | H16: 0.0475 | I16: =E16 -> 0
C17: 노인 장기 요양보험료 | D17: ="(건강보험료)*"&H17*100&"%" -> (건강보험료)*13.14% | E17: =ROUNDDOWN((E15)*H17, 0) -> 0 | G17: C14 | H17: 0.1314 | I17: =E17 -> 0
C18: 퇴 직 공 제 부 금 비 | D18: ="(직.노)*"&H18*100&"%" -> (직.노)*2.3% | E18: =ROUNDDOWN((E9)*H18, 0) -> 0 | G18: C15 | H18: 0.023 | I18: =E18 -> 0
C19: 산업 안전 보건관리비 | D19: ="(재+직.노+(-0)/1.1)*"&H19*100&"%"&" < (재+직.노)*3.11%*1.2" -> (재+직.노+(-0)/1.1)*3.11% < (재+직.노)*3.11%*1.2 | E19: =ROUNDDOWN((E8+E9+(0-0)/1.1)*H19, 0) -> 0 | G19: C16 | H19: 0.0311 | I19: =E19 -> 0
C20: 기 타 경 비 | D20: ="(재+노)*"&H20*100&"%" -> (재+노)*5% | E20: =ROUNDDOWN((E8+E11)*H20, 0) -> 0 | G20: C20 | H20: 0.05 | I20: =E20 -> 0
C21: 환 경 보 전 비 | D21: ="(재+직.노+기.경)*"&H21*100&"%" -> (재+직.노+기.경)*0.5% | E21: =ROUNDDOWN((E8+E9+E12)*H21, 0) -> 0 | G21: C25 | H21: 0.005 | I21: =E21 -> 0
C22: 건설하도급보증수수료 | D22: ="(재+직.노+기.경)*"&H22*100&"%" -> (재+직.노+기.경)*0.081% | E22: =ROUNDDOWN((E8+E9+E12)*H22, 0) -> 0 | G22: C30 | H22: 0.00081 | I22: =E22 -> 0
C23: 공사 이행 보증수수료 | D23: ="(재+직.노+기.경)*"&H23*100&"%"&"*(6/12)" -> (재+직.노+기.경)*0.0108%*(6/12) | E23: =ROUNDDOWN((E8+E9+E12)*H23*(6/12), 0) -> 0 | G23: C31 | H23: 0.000108 | I23: =E23 -> 0
C24: 건설기계대여보증수수료 | D24: ="(재+직.노+기.경)*"&H24*100&"%" -> (재+직.노+기.경)*0.07% | E24: =ROUNDDOWN((E8+E9+E12)*H24, 0) -> 0 | G24: C32 | H24: 0.0007 | I24: =E24 -> 0
C25: 안 전 관 리 비 | E25: =집계표!AE25 -> 0 | G25: C17 | H25: 0 | I25: =E25 -> 0
C26: 품 질 관 리 비 | E26: =집계표!AF25 -> 0 | G26: C18 | H26: 0 | I26: =E26 -> 0
C27: 석 면 분 담 금 | D27: ="노*"&H27*100&"%" -> 노*0.006% | E27: =ROUNDDOWN(E11*H27, 0) -> 0 | G27: C21 | H27: 6e-05 | I27: =E27 -> 0
C28: 임 금 채 권 부 담 금 | D28: ="노*"&H28*100&"%" -> 노*0.09% | E28: =ROUNDDOWN(E11*H28, 0) -> 0 | G28: C22 | H28: 0.0009 | I28: =E28 -> 0
C29: 소 계 | E29: =SUM(E12:E28) -> 0 | G29: C | H29: 0 | I29: =E29 -> 0
B30: 계 | E30: =E8+E11+E29 -> 0 | G30: X | H30: 0 | I30: =E30 -> 0
A31: 일 반 관 리 비 | D31: ="(재+노+경)*"&H31*100&"%" -> (재+노+경)*2% | E31: =ROUNDDOWN((E8+E11+E29)*H31, 0) -> 0 | G31: D | H31: 0.02 | I31: =E31 -> 0
A32: 이 윤 | D32: ="(노+경+일)*"&H32*100&"%" -> (노+경+일)*7% | E32: =E36-E35-E34-E33-E31-E30 -> 0 | G32: E | H32: 0.07 | I32: =(I11+I29+I31)*H32 -> 0
A33: 작업설.부산물 등(△) | E33: =집계표!AG25 -> 0 | G33: M2 | H33: 0 | I33: =E33 -> 0
A34: 폐기물 처리비 (일반) | E34: =ROUNDDOWN(집계표!AM25, 0) -> 0 | G34: L4 | H34: 0 | I34: =E34 -> 0
A35: 폐기물 처리비 (지정) | E35: =집계표!AN25 -> 0 | G35: L5 | H35: 0 | I35: =E35 -> 0
A36: 총 원 가 | E36: =ROUNDDOWN(E38-E37, 0) -> 0 | G36: F | H36: 0 | I36: =SUM(I30:I35) -> 0
A37: 부 가 가 치 세 | D37: ="(총원가)*"&H37*100&"%" -> (총원가)*10% | E37: =ROUNDDOWN(((E38)/110)*10, 0) -> 0 | G37: H | H37: 0.1 | I37: =ROUNDDOWN((I36)*H37, 0) -> 0
A38: 도 급 금 액 | E38: =INT(I38/1000)*1000 -> 0 | G38: Y | H38: 0 | I38: =I36+I37 -> 0
A39: 재해 예방 기술지도비 | E39: =집계표!AH25 -> 0 | G39: M3 | H39: 0 | I39: =E39 -> 0
A40: 관급 자재대 (도급자) | E40: =집계표!AJ25 -> 0 | G40: L1 | H40: 0 | I40: =E40 -> 0
A41: 관급 자재대 (관급자) | E41: =집계표!AK25 -> 0 | G41: L2 | H41: 0 | I41: =E41 -> 0
A42: 총 공 사 금 액 | E42: =ROUNDDOWN(E38+E39+E40+E41, 0) -> 0 | H42: 0 | I42: =I38+I39+I40+I41 -> 0

Sheet 집계표
A1: 집 계 표
A2: 공사명 : 칠곡 시니어클럽 기능 보강공사
A3: 품 명 | B3: 규 격 | C3: 단위 | D3: 수 량 | E3: 재 료 비 | G3: 노 무 비 | I3: 경 비 | K3: 합 계 | M3: 비고
E4: 단 가 | F4: 금 액 | G4: 단 가 | H4: 금 액 | I4: 단 가 | J4: 금 액 | K4: 단 가 | L4: 금 액 | N4: 손료요율 | O4: 손료구분 | P4: 적용구분 | Q4: 합계구분 | R4: 기계경비 | S4: 운반비 | T4: 작업부산물 | U4: 관급 | V4: 외주비 | W4: 장비비 | X4: 폐기물처리비 | Y4: 가설비 | Z4: 잡비제외분 | AA4: 사급자재대 | AB4: 관급자재대 | AC4: 사용자항목1 | AD4: 사용자항목2 | AE4: 안전관리비 | AF4: 품질관리비 | AG4: 작업부산물(철거해체) | AH4: 사용자항목6 | AI4: 사용자항목7 | AJ4: 관급자재대(도급자) | AK4: 관급자재대(관급자) | AL4: 사용자항목10 | AM4: 폐기물처리비(일반) | AN4: 폐기물처리비(지정) | AO4: 사용자항목13 | AP4: 사용자항목14 | AQ4: 사용자항목15 | AR4: 사용자항목16 | AS4: 사용자항목17 | AT4: 사용자항목18 | AU4: 사용자항목19 | AV4: 간접재료비 | AW4: 품목구분 | AX4: 조달코드 | AY4: 구분
A5: 01. 건축공사 | C5: 식 | D5: 1 | E5: =F46 -> 0 | F5: =D5*E5 -> 0 | G5: =H46 -> 0 | H5: =D5*G5 -> 0 | I5: =J46 -> 0 | J5: =D5*I5 -> 0 | K5: =E5+G5+I5 -> 0 | L5: =F5+H5+J5 -> 0 | Q5: 1 | R5: =D5*R46 -> 0 | S5: =D5*S46 -> 0 | T5: =D5*T46 -> 0 | U5: =D5*U46 -> 0 | V5: =D5*V46 -> 0 | W5: =D5*W46 -> 0 | X5: =D5*X46 -> 0 | Y5: =D5*Y46 -> 0 | Z5: =D5*Z46 -> 0 | AA5: =D5*AA46 -> 0 | AB5: =D5*AB46 -> 0 | AC5: =D5*AC46 -> 0 | AD5: =D5*AD46 -> 0 | AE5: =D5*AE46 -> 0 | AF5: =D5*AF46 -> 0 | AG5: =D5*AG46 -> 0 | AH5: =D5*AH46 -> 0 | AI5: =D5*AI46 -> 0 | AJ5: =D5*AJ46 -> 0 | AK5: =D5*AK46 -> 0 | AL5: =D5*AL46 -> 0 | AM5: =D5*AM46 -> 0 | AN5: =D5*AN46 -> 0 | AO5: =D5*AO46 -> 0 | AP5: =D5*AP46 -> 0 | AQ5: =D5*AQ46 -> 0 | AR5: =D5*AR46 -> 0 | AS5: =D5*AS46 -> 0 | AT5: =D5*AT46 -> 0 | AU5: =D5*AU46 -> 0 | AV5: =D5*AV46 -> 0
A6: 02. 설비공사 | C6: 식 | D6: 1 | E6: =F67 -> 0 | F6: =D6*E6 -> 0 | G6: =H67 -> 0 | H6: =D6*G6 -> 0 | I6: =J67 -> 0 | J6: =D6*I6 -> 0 | K6: =E6+G6+I6 -> 0 | L6: =F6+H6+J6 -> 0 | Q6: 1 | R6: =D6*R67 -> 0 | S6: =D6*S67 -> 0 | T6: =D6*T67 -> 0 | U6: =D6*U67 -> 0 | V6: =D6*V67 -> 0 | W6: =D6*W67 -> 0 | X6: =D6*X67 -> 0 | Y6: =D6*Y67 -> 0 | Z6: =D6*Z67 -> 0 | AA6: =D6*AA67 -> 0 | AB6: =D6*AB67 -> 0 | AC6: =D6*AC67 -> 0 | AD6: =D6*AD67 -> 0 | AE6: =D6*AE67 -> 0 | AF6: =D6*AF67 -> 0 | AG6: =D6*AG67 -> 0 | AH6: =D6*AH67 -> 0 | AI6: =D6*AI67 -> 0 | AJ6: =D6*AJ67 -> 0 | AK6: =D6*AK67 -> 0 | AL6: =D6*AL67 -> 0 | AM6: =D6*AM67 -> 0 | AN6: =D6*AN67 -> 0 | AO6: =D6*AO67 -> 0 | AP6: =D6*AP67 -> 0 | AQ6: =D6*AQ67 -> 0 | AR6: =D6*AR67 -> 0 | AS6: =D6*AS67 -> 0 | AT6: =D6*AT67 -> 0 | AU6: =D6*AU67 -> 0 | AV6: =D6*AV67 -> 0
A25: 합 계 | F25: =SUMIF(Q5:Q6, "1", F5:F6) -> 0 | H25: =SUMIF(Q5:Q6, "1", H5:H6) -> 0 | J25: =SUMIF(Q5:Q6, "1", J5:J6) -> 0 | L25: =F25+H25+J25 -> 0 | R25: =SUM(R5:R6) -> 0 | S25: =SUM(S5:S6) -> 0 | T25: =SUM(T5:T6) -> 0 | U25: =SUM(U5:U6) -> 0 | V25: =SUM(V5:V6) -> 0 | W25: =SUM(W5:W6) -> 0 | X25: =SUM(X5:X6) -> 0 | Y25: =SUM(Y5:Y6) -> 0 | ... AY25: =SUM(AY5:AY6) -> 0
A26: 01. 건축공사
A27: 0101. 가설공사 | C27: 식 | D27: 1 | E27: =내역서!F25 -> 0 | F27: =D27*E27 -> 0 | G27: =내역서!H25 -> 0 | H27: =D27*G27 -> 0 | I27: =내역서!J25 -> 0 | J27: =D27*I27 -> 0 | K27: =E27+G27+I27 -> 0 | L27: =F27+H27+J27 -> 0 | Q27: 1 | R27: =D27*내역서!R25 -> 0 | S27: =D27*내역서!S25 -> 0 | T27: =D27*내역서!T25 -> 0 | U27: =D27*내역서!U25 -> 0 | V27: =D27*내역서!V25 -> 0 | W27: =D27*내역서!W25 -> 0 | X27: =D27*내역서!X25 -> 0 | Y27: =D27*내역서!Y25 -> 0 | Z27: =D27*내역서!Z25 -> 0 | AA27: =D27*내역서!AA25 -> 0 | AB27: =D27*내역서!AB25 -> 0 | AC27: =D27*내역서!AC25 -> 0 | AD27: =D27*내역서!AD25 -> 0 | AE27: =D27*내역서!AE25 -> 0 | AF27: =D27*내역서!AF25 -> 0 | AG27: =D27*내역서!AG25 -> 0 | AH27: =D27*내역서!AH25 -> 0 | AI27: =D27*내역서!AI25 -> 0 | AJ27: =D27*내역서!AJ25 -> 0 | AK27: =D27*내역서!AK25 -> 0 | AL27: =D27*내역서!AL25 -> 0 | AM27: =D27*내역서!AM25 -> 0 | AN27: =D27*내역서!AN25 -> 0 | AO27: =D27*내역서!AO25 -> 0 | AP27: =D27*내역서!AP25 -> 0 | AQ27: =D27*내역서!AQ25 -> 0 | AR27: =D27*내역서!AR25 -> 0 | AS27: =D27*내역서!AS25 -> 0 | AT27: =D27*내역서!AT25 -> 0 | AU27: =D27*내역서!AU25 -> 0 | AV27: =D27*내역서!AV25 -> 0
A28: 0102. 조적공사 | C28: 식 | D28: 1 | E28: =내역서!F46 -> 0 | F28: =D28*E28 -> 0 | G28: =내역서!H46 -> 0 | H28: =D28*G28 -> 0 | I28: =내역서!J46 -> 0 | J28: =D28*I28 -> 0 | K28: =E28+G28+I28 -> 0 | L28: =F28+H28+J28 -> 0 | Q28: 1 | R28: =D28*내역서!R46 -> 0 | S28: =D28*내역서!S46 -> 0 | T28: =D28*내역서!T46 -> 0 | U28: =D28*내역서!U46 -> 0 | V28: =D28*내역서!V46 -> 0 | W28: =D28*내역서!W46 -> 0 | X28: =D28*내역서!X46 -> 0 | Y28: =D28*내역서!Y46 -> 0 | Z28: =D28*내역서!Z46 -> 0 | AA28: =D28*내역서!AA46 -> 0 | AB28: =D28*내역서!AB46 -> 0 | AC28: =D28*내역서!AC46 -> 0 | AD28: =D28*내역서!AD46 -> 0 | AE28: =D28*내역서!AE46 -> 0 | AF28: =D28*내역서!AF46 -> 0 | AG28: =D28*내역서!AG46 -> 0 | AH28: =D28*내역서!AH46 -> 0 | AI28: =D28*내역서!AI46 -> 0 | AJ28: =D28*내역서!AJ46 -> 0 | AK28: =D28*내역서!AK46 -> 0 | AL28: =D28*내역서!AL46 -> 0 | AM28: =D28*내역서!AM46 -> 0 | AN28: =D28*내역서!AN46 -> 0 | AO28: =D28*내역서!AO46 -> 0 | AP28: =D28*내역서!AP46 -> 0 | AQ28: =D28*내역서!AQ46 -> 0 | AR28: =D28*내역서!AR46 -> 0 | AS28: =D28*내역서!AS46 -> 0 | AT28: =D28*내역서!AT46 -> 0 | AU28: =D28*내역서!AU46 -> 0 | AV28: =D28*내역서!AV46 -> 0
A29: 0103. 돌및타일공사 | C29: 식 | D29: 1 | E29: =내역서!F67 -> 0 | F29: =D29*E29 -> 0 | G29: =내역서!H67 -> 0 | H29: =D29*G29 -> 0 | I29: =내역서!J67 -> 0 | J29: =D29*I29 -> 0 | K29: =E29+G29+I29 -> 0 | L29: =F29+H29+J29 -> 0 | Q29: 1 | R29: =D29*내역서!R67 -> 0 | S29: =D29*내역서!S67 -> 0 | T29: =D29*내역서!T67 -> 0 | U29: =D29*내역서!U67 -> 0 | V29: =D29*내역서!V67 -> 0 | W29: =D29*내역서!W67 -> 0 | X29: =D29*내역서!X67 -> 0 | Y29: =D29*내역서!Y67 -> 0 | Z29: =D29*내역서!Z67 -> 0 | AA29: =D29*내역서!AA67 -> 0 | AB29: =D29*내역서!AB67 -> 0 | AC29: =D29*내역서!AC67 -> 0 | AD29: =D29*내역서!AD67 -> 0 | AE29: =D29*내역서!AE67 -> 0 | AF29: =D29*내역서!AF67 -> 0 | AG29: =D29*내역서!AG67 -> 0 | AH29: =D29*내역서!AH67 -> 0 | AI29: =D29*내역서!AI67 -> 0 | AJ29: =D29*내역서!AJ67 -> 0 | AK29: =D29*내역서!AK67 -> 0 | AL29: =D29*내역서!AL67 -> 0 | AM29: =D29*내역서!AM67 -> 0 | AN29: =D29*내역서!AN67 -> 0 | AO29: =D29*내역서!AO67 -> 0 | AP29: =D29*내역서!AP67 -> 0 | AQ29: =D29*내역서!AQ67 -> 0 | AR29: =D29*내역서!AR67 -> 0 | AS29: =D29*내역서!AS67 -> 0 | AT29: =D29*내역서!AT67 -> 0 | AU29: =D29*내역서!AU67 -> 0 | AV29: =D29*내역서!AV67 -> 0
A30: 0104. 목 공 사 | C30: 식 | D30: 1 | E30: =내역서!F88 -> 0 | F30: =D30*E30 -> 0 | G30: =내역서!H88 -> 0 | H30: =D30*G30 -> 0 | I30: =내역서!J88 -> 0 | J30: =D30*I30 -> 0 | K30: =E30+G30+I30 -> 0 | L30: =F30+H30+J30 -> 0 | Q30: 1 | R30: =D30*내역서!R88 -> 0 | S30: =D30*내역서!S88 -> 0 | T30: =D30*내역서!T88 -> 0 | U30: =D30*내역서!U88 -> 0 | V30: =D30*내역서!V88 -> 0 | W30: =D30*내역서!W88 -> 0 | X30: =D30*내역서!X88 -> 0 | Y30: =D30*내역서!Y88 -> 0 | Z30: =D30*내역서!Z88 -> 0 | AA30: =D30*내역서!AA88 -> 0 | AB30: =D30*내역서!AB88 -> 0 | AC30: =D30*내역서!AC88 -> 0 | AD30: =D30*내역서!AD88 -> 0 | AE30: =D30*내역서!AE88 -> 0 | AF30: =D30*내역서!AF88 -> 0 | AG30: =D30*내역서!AG88 -> 0 | AH30: =D30*내역서!AH88 -> 0 | AI30: =D30*내역서!AI88 -> 0 | AJ30: =D30*내역서!AJ88 -> 0 | AK30: =D30*내역서!AK88 -> 0 | AL30: =D30*내역서!AL88 -> 0 | AM30: =D30*내역서!AM88 -> 0 | AN30: =D30*내역서!AN88 -> 0 | AO30: =D30*내역서!AO88 -> 0 | AP30: =D30*내역서!AP88 -> 0 | AQ30: =D30*내역서!AQ88 -> 0 | AR30: =D30*내역서!AR88 -> 0 | AS30: =D30*내역서!AS88 -> 0 | AT30: =D30*내역서!AT88 -> 0 | AU30: =D30*내역서!AU88 -> 0 | AV30: =D30*내역서!AV88 -> 0
A31: 0105. 금속공사 | C31: 식 | D31: 1 | E31: =내역서!F109 -> 0 | F31: =D31*E31 -> 0 | G31: =내역서!H109 -> 0 | H31: =D31*G31 -> 0 | I31: =내역서!J109 -> 0 | J31: =D31*I31 -> 0 | K31: =E31+G31+I31 -> 0 | L31: =F31+H31+J31 -> 0 | Q31: 1 | R31: =D31*내역서!R109 -> 0 | S31: =D31*내역서!S109 -> 0 | T31: =D31*내역서!T109 -> 0 | U31: =D31*내역서!U109 -> 0 | V31: =D31*내역서!V109 -> 0 | W31: =D31*내역서!W109 -> 0 | X31: =D31*내역서!X109 -> 0 | Y31: =D31*내역서!Y109 -> 0 | Z31: =D31*내역서!Z109 -> 0 | AA31: =D31*내역서!AA109 -> 0 | AB31: =D31*내역서!AB109 -> 0 | AC31: =D31*내역서!AC109 -> 0 | AD31: =D31*내역서!AD109 -> 0 | AE31: =D31*내역서!AE109 -> 0 | AF31: =D31*내역서!AF109 -> 0 | AG31: =D31*내역서!AG109 -> 0 | AH31: =D31*내역서!AH109 -> 0 | AI31: =D31*내역서!AI109 -> 0 | AJ31: =D31*내역서!AJ109 -> 0 | AK31: =D31*내역서!AK109 -> 0 | AL31: =D31*내역서!AL109 -> 0 | AM31: =D31*내역서!AM109 -> 0 | AN31: =D31*내역서!AN109 -> 0 | AO31: =D31*내역서!AO109 -> 0 | AP31: =D31*내역서!AP109 -> 0 | AQ31: =D31*내역서!AQ109 -> 0 | AR31: =D31*내역서!AR109 -> 0 | AS31: =D31*내역서!AS109 -> 0 | AT31: =D31*내역서!AT109 -> 0 | AU31: =D31*내역서!AU109 -> 0 | AV31: =D31*내역서!AV109 -> 0
A32: 0106. 미장공사 | C32: 식 | D32: 1 | E32: =내역서!F130 -> 0 | F32: =D32*E32 -> 0 | G32: =내역서!H130 -> 0 | H32: =D32*G32 -> 0 | I32: =내역서!J130 -> 0 | J32: =D32*I32 -> 0 | K32: =E32+G32+I32 -> 0 | L32: =F32+H32+J32 -> 0 | Q32: 1 | R32: =D32*내역서!R130 -> 0 | S32: =D32*내역서!S130 -> 0 | T32: =D32*내역서!T130 -> 0 | U32: =D32*내역서!U130 -> 0 | V32: =D32*내역서!V130 -> 0 | W32: =D32*내역서!W130 -> 0 | X32: =D32*내역서!X130 -> 0 | Y32: =D32*내역서!Y130 -> 0 | Z32: =D32*내역서!Z130 -> 0 | AA32: =D32*내역서!AA130 -> 0 | AB32: =D32*내역서!AB130 -> 0 | AC32: =D32*내역서!AC130 -> 0 | AD32: =D32*내역서!AD130 -> 0 | AE32: =D32*내역서!AE130 -> 0 | AF32: =D32*내역서!AF130 -> 0 | AG32: =D32*내역서!AG130 -> 0 | AH32: =D32*내역서!AH130 -> 0 | AI32: =D32*내역서!AI130 -> 0 | AJ32: =D32*내역서!AJ130 -> 0 | AK32: =D32*내역서!AK130 -> 0 | AL32: =D32*내역서!AL130 -> 0 | AM32: =D32*내역서!AM130 -> 0 | AN32: =D32*내역서!AN130 -> 0 | AO32: =D32*내역서!AO130 -> 0 | AP32: =D32*내역서!AP130 -> 0 | AQ32: =D32*내역서!AQ130 -> 0 | AR32: =D32*내역서!AR130 -> 0 | AS32: =D32*내역서!AS130 -> 0 | AT32: =D32*내역서!AT130 -> 0 | AU32: =D32*내역서!AU130 -> 0 | AV32: =D32*내역서!AV130 -> 0
A33: 0107. 창호공사 | C33: 식 | D33: 1 | E33: =내역서!F151 -> 0 | F33: =D33*E33 -> 0 | G33: =내역서!H151 -> 0 | H33: =D33*G33 -> 0 | I33: =내역서!J151 -> 0 | J33: =D33*I33 -> 0 | K33: =E33+G33+I33 -> 0 | L33: =F33+H33+J33 -> 0 | Q33: 1 | R33: =D33*내역서!R151 -> 0 | S33: =D33*내역서!S151 -> 0 | T33: =D33*내역서!T151 -> 0 | U33: =D33*내역서!U151 -> 0 | V33: =D33*내역서!V151 -> 0 | W33: =D33*내역서!W151 -> 0 | X33: =D33*내역서!X151 -> 0 | Y33: =D33*내역서!Y151 -> 0 | Z33: =D33*내역서!Z151 -> 0 | AA33: =D33*내역서!AA151 -> 0 | AB33: =D33*내역서!AB151 -> 0 | AC33: =D33*내역서!AC151 -> 0 | AD33: =D33*내역서!AD151 -> 0 | AE33: =D33*내역서!AE151 -> 0 | AF33: =D33*내역서!AF151 -> 0 | AG33: =D33*내역서!AG151 -> 0 | AH33: =D33*내역서!AH151 -> 0 | AI33: =D33*내역서!AI151 -> 0 | AJ33: =D33*내역서!AJ151 -> 0 | AK33: =D33*내역서!AK151 -> 0 | AL33: =D33*내역서!AL151 -> 0 | AM33: =D33*내역서!AM151 -> 0 | AN33: =D33*내역서!AN151 -> 0 | AO33: =D33*내역서!AO151 -> 0 | AP33: =D33*내역서!AP151 -> 0 | AQ33: =D33*내역서!AQ151 -> 0 | AR33: =D33*내역서!AR151 -> 0 | AS33: =D33*내역서!AS151 -> 0 | AT33: =D33*내역서!AT151 -> 0 | AU33: =D33*내역서!AU151 -> 0 | AV33: =D33*내역서!AV151 -> 0
A34: 0108. 유리공사 | C34: 식 | D34: 1 | E34: =내역서!F172 -> 0 | F34: =D34*E34 -> 0 | G34: =내역서!H172 -> 0 | H34: =D34*G34 -> 0 | I34: =내역서!J172 -> 0 | J34: =D34*I34 -> 0 | K34: =E34+G34+I34 -> 0 | L34: =F34+H34+J34 -> 0 | Q34: 1 | R34: =D34*내역서!R172 -> 0 | S34: =D34*내역서!S172 -> 0 | T34: =D34*내역서!T172 -> 0 | U34: =D34*내역서!U172 -> 0 | V34: =D34*내역서!V172 -> 0 | W34: =D34*내역서!W172 -> 0 | X34: =D34*내역서!X172 -> 0 | Y34: =D34*내역서!Y172 -> 0 | Z34: =D34*내역서!Z172 -> 0 | AA34: =D34*내역서!AA172 -> 0 | AB34: =D34*내역서!AB172 -> 0 | AC34: =D34*내역서!AC172 -> 0 | AD34: =D34*내역서!AD172 -> 0 | AE34: =D34*내역서!AE172 -> 0 | AF34: =D34*내역서!AF172 -> 0 | AG34: =D34*내역서!AG172 -> 0 | AH34: =D34*내역서!AH172 -> 0 | AI34: =D34*내역서!AI172 -> 0 | AJ34: =D34*내역서!AJ172 -> 0 | AK34: =D34*내역서!AK172 -> 0 | AL34: =D34*내역서!AL172 -> 0 | AM34: =D34*내역서!AM172 -> 0 | AN34: =D34*내역서!AN172 -> 0 | AO34: =D34*내역서!AO172 -> 0 | AP34: =D34*내역서!AP172 -> 0 | AQ34: =D34*내역서!AQ172 -> 0 | AR34: =D34*내역서!AR172 -> 0 | AS34: =D34*내역서!AS172 -> 0 | AT34: =D34*내역서!AT172 -> 0 | AU34: =D34*내역서!AU172 -> 0 | AV34: =D34*내역서!AV172 -> 0
A35: 0109. 도장공사 | C35: 식 | D35: 1 | E35: =내역서!F193 -> 0 | F35: =D35*E35 -> 0 | G35: =내역서!H193 -> 0 | H35: =D35*G35 -> 0 | I35: =내역서!J193 -> 0 | J35: =D35*I35 -> 0 | K35: =E35+G35+I35 -> 0 | L35: =F35+H35+J35 -> 0 | Q35: 1 | R35: =D35*내역서!R193 -> 0 | S35: =D35*내역서!S193 -> 0 | T35: =D35*내역서!T193 -> 0 | U35: =D35*내역서!U193 -> 0 | V35: =D35*내역서!V193 -> 0 | W35: =D35*내역서!W193 -> 0 | X35: =D35*내역서!X193 -> 0 | Y35: =D35*내역서!Y193 -> 0 | Z35: =D35*내역서!Z193 -> 0 | AA35: =D35*내역서!AA193 -> 0 | AB35: =D35*내역서!AB193 -> 0 | AC35: =D35*내역서!AC193 -> 0 | AD35: =D35*내역서!AD193 -> 0 | AE35: =D35*내역서!AE193 -> 0 | AF35: =D35*내역서!AF193 -> 0 | AG35: =D35*내역서!AG193 -> 0 | AH35: =D35*내역서!AH193 -> 0 | AI35: =D35*내역서!AI193 -> 0 | AJ35: =D35*내역서!AJ193 -> 0 | AK35: =D35*내역서!AK193 -> 0 | AL35: =D35*내역서!AL193 -> 0 | AM35: =D35*내역서!AM193 -> 0 | AN35: =D35*내역서!AN193 -> 0 | AO35: =D35*내역서!AO193 -> 0 | AP35: =D35*내역서!AP193 -> 0 | AQ35: =D35*내역서!AQ193 -> 0 | AR35: =D35*내역서!AR193 -> 0 | AS35: =D35*내역서!AS193 -> 0 | AT35: =D35*내역서!AT193 -> 0 | AU35: =D35*내역서!AU193 -> 0 | AV35: =D35*내역서!AV193 -> 0
A36: 0110. 수장공사 | C36: 식 | D36: 1 | E36: =내역서!F214 -> 0 | F36: =D36*E36 -> 0 | G36: =내역서!H214 -> 0 | H36: =D36*G36 -> 0 | I36: =내역서!J214 -> 0 | J36: =D36*I36 -> 0 | K36: =E36+G36+I36 -> 0 | L36: =F36+H36+J36 -> 0 | Q36: 1 | R36: =D36*내역서!R214 -> 0 | S36: =D36*내역서!S214 -> 0 | T36: =D36*내역서!T214 -> 0 | U36: =D36*내역서!U214 -> 0 | V36: =D36*내역서!V214 -> 0 | W36: =D36*내역서!W214 -> 0 | X36: =D36*내역서!X214 -> 0 | Y36: =D36*내역서!Y214 -> 0 | Z36: =D36*내역서!Z214 -> 0 | AA36: =D36*내역서!AA214 -> 0 | AB36: =D36*내역서!AB214 -> 0 | AC36: =D36*내역서!AC214 -> 0 | AD36: =D36*내역서!AD214 -> 0 | AE36: =D36*내역서!AE214 -> 0 | AF36: =D36*내역서!AF214 -> 0 | AG36: =D36*내역서!AG214 -> 0 | AH36: =D36*내역서!AH214 -> 0 | AI36: =D36*내역서!AI214 -> 0 | AJ36: =D36*내역서!AJ214 -> 0 | AK36: =D36*내역서!AK214 -> 0 | AL36: =D36*내역서!AL214 -> 0 | AM36: =D36*내역서!AM214 -> 0 | AN36: =D36*내역서!AN214 -> 0 | AO36: =D36*내역서!AO214 -> 0 | AP36: =D36*내역서!AP214 -> 0 | AQ36: =D36*내역서!AQ214 -> 0 | AR36: =D36*내역서!AR214 -> 0 | AS36: =D36*내역서!AS214 -> 0 | AT36: =D36*내역서!AT214 -> 0 | AU36: =D36*내역서!AU214 -> 0 | AV36: =D36*내역서!AV214 -> 0
A37: 0111. 기타공사 | C37: 식 | D37: 1 | E37: =내역서!F235 -> 0 | F37: =D37*E37 -> 0 | G37: =내역서!H235 -> 0 | H37: =D37*G37 -> 0 | I37: =내역서!J235 -> 0 | J37: =D37*I37 -> 0 | K37: =E37+G37+I37 -> 0 | L37: =F37+H37+J37 -> 0 | Q37: 1 | R37: =D37*내역서!R235 -> 0 | S37: =D37*내역서!S235 -> 0 | T37: =D37*내역서!T235 -> 0 | U37: =D37*내역서!U235 -> 0 | V37: =D37*내역서!V235 -> 0 | W37: =D37*내역서!W235 -> 0 | X37: =D37*내역서!X235 -> 0 | Y37: =D37*내역서!Y235 -> 0 | Z37: =D37*내역서!Z235 -> 0 | AA37: =D37*내역서!AA235 -> 0 | AB37: =D37*내역서!AB235 -> 0 | AC37: =D37*내역서!AC235 -> 0 | AD37: =D37*내역서!AD235 -> 0 | AE37: =D37*내역서!AE235 -> 0 | AF37: =D37*내역서!AF235 -> 0 | AG37: =D37*내역서!AG235 -> 0 | AH37: =D37*내역서!AH235 -> 0 | AI37: =D37*내역서!AI235 -> 0 | AJ37: =D37*내역서!AJ235 -> 0 | AK37: =D37*내역서!AK235 -> 0 | AL37: =D37*내역서!AL235 -> 0 | AM37: =D37*내역서!AM235 -> 0 | AN37: =D37*내역서!AN235 -> 0 | AO37: =D37*내역서!AO235 -> 0 | AP37: =D37*내역서!AP235 -> 0 | AQ37: =D37*내역서!AQ235 -> 0 | AR37: =D37*내역서!AR235 -> 0 | AS37: =D37*내역서!AS235 -> 0 | AT37: =D37*내역서!AT235 -> 0 | AU37: =D37*내역서!AU235 -> 0 | AV37: =D37*내역서!AV235 -> 0
A38: 0112. 철거공사 | C38: 식 | D38: 1 | E38: =내역서!F256 -> 0 | F38: =D38*E38 -> 0 | G38: =내역서!H256 -> 0 | H38: =D38*G38 -> 0 | I38: =내역서!J256 -> 0 | J38: =D38*I38 -> 0 | K38: =E38+G38+I38 -> 0 | L38: =F38+H38+J38 -> 0 | Q38: 1 | R38: =D38*내역서!R256 -> 0 | S38: =D38*내역서!S256 -> 0 | T38: =D38*내역서!T256 -> 0 | U38: =D38*내역서!U256 -> 0 | V38: =D38*내역서!V256 -> 0 | W38: =D38*내역서!W256 -> 0 | X38: =D38*내역서!X256 -> 0 | Y38: =D38*내역서!Y256 -> 0 | Z38: =D38*내역서!Z256 -> 0 | AA38: =D38*내역서!AA256 -> 0 | AB38: =D38*내역서!AB256 -> 0 | AC38: =D38*내역서!AC256 -> 0 | AD38: =D38*내역서!AD256 -> 0 | AE38: =D38*내역서!AE256 -> 0 | AF38: =D38*내역서!AF256 -> 0 | AG38: =D38*내역서!AG256 -> 0 | AH38: =D38*내역서!AH256 -> 0 | AI38: =D38*내역서!AI256 -> 0 | AJ38: =D38*내역서!AJ256 -> 0 | AK38: =D38*내역서!AK256 -> 0 | AL38: =D38*내역서!AL256 -> 0 | AM38: =D38*내역서!AM256 -> 0 | AN38: =D38*내역서!AN256 -> 0 | AO38: =D38*내역서!AO256 -> 0 | AP38: =D38*내역서!AP256 -> 0 | AQ38: =D38*내역서!AQ256 -> 0 | AR38: =D38*내역서!AR256 -> 0 | AS38: =D38*내역서!AS256 -> 0 | AT38: =D38*내역서!AT256 -> 0 | AU38: =D38*내역서!AU256 -> 0 | AV38: =D38*내역서!AV256 -> 0
A39: 0113. 골 재 대 | C39: 식 | D39: 1 | E39: =내역서!F277 -> 0 | F39: =D39*E39 -> 0 | G39: =내역서!H277 -> 0 | H39: =D39*G39 -> 0 | I39: =내역서!J277 -> 0 | J39: =D39*I39 -> 0 | K39: =E39+G39+I39 -> 0 | L39: =F39+H39+J39 -> 0 | Q39: 1 | R39: =D39*내역서!R277 -> 0 | S39: =D39*내역서!S277 -> 0 | T39: =D39*내역서!T277 -> 0 | U39: =D39*내역서!U277 -> 0 | V39: =D39*내역서!V277 -> 0 | W39: =D39*내역서!W277 -> 0 | X39: =D39*내역서!X277 -> 0 | Y39: =D39*내역서!Y277 -> 0 | Z39: =D39*내역서!Z277 -> 0 | AA39: =D39*내역서!AA277 -> 0 | AB39: =D39*내역서!AB277 -> 0 | AC39: =D39*내역서!AC277 -> 0 | AD39: =D39*내역서!AD277 -> 0 | AE39: =D39*내역서!AE277 -> 0 | AF39: =D39*내역서!AF277 -> 0 | AG39: =D39*내역서!AG277 -> 0 | AH39: =D39*내역서!AH277 -> 0 | AI39: =D39*내역서!AI277 -> 0 | AJ39: =D39*내역서!AJ277 -> 0 | AK39: =D39*내역서!AK277 -> 0 | AL39: =D39*내역서!AL277 -> 0 | AM39: =D39*내역서!AM277 -> 0 | AN39: =D39*내역서!AN277 -> 0 | AO39: =D39*내역서!AO277 -> 0 | AP39: =D39*내역서!AP277 -> 0 | AQ39: =D39*내역서!AQ277 -> 0 | AR39: =D39*내역서!AR277 -> 0 | AS39: =D39*내역서!AS277 -> 0 | AT39: =D39*내역서!AT277 -> 0 | AU39: =D39*내역서!AU277 -> 0 | AV39: =D39*내역서!AV277 -> 0
A40: 0114. 폐기물처리비(일반) | C40: 식 | D40: 1 | E40: =내역서!F298 -> 0 | F40: =D40*E40 -> 0 | G40: =내역서!H298 -> 0 | H40: =D40*G40 -> 0 | I40: =내역서!J298 -> 0 | J40: =D40*I40 -> 0 | K40: =E40+G40+I40 -> 0 | L40: =F40+H40+J40 -> 0 | M40: 합계제외 | R40: =D40*내역서!R298 -> 0 | S40: =D40*내역서!S298 -> 0 | T40: =D40*내역서!T298 -> 0 | U40: =D40*내역서!U298 -> 0 | V40: =D40*내역서!V298 -> 0 | W40: =D40*내역서!W298 -> 0 | X40: =D40*내역서!X298 -> 0 | Y40: =D40*내역서!Y298 -> 0 | Z40: =D40*내역서!Z298 -> 0 | AA40: =D40*내역서!AA298 -> 0 | AB40: =D40*내역서!AB298 -> 0 | AC40: =D40*내역서!AC298 -> 0 | AD40: =D40*내역서!AD298 -> 0 | AE40: =D40*내역서!AE298 -> 0 | AF40: =D40*내역서!AF298 -> 0 | AG40: =D40*내역서!AG298 -> 0 | AH40: =D40*내역서!AH298 -> 0 | AI40: =D40*내역서!AI298 -> 0 | AJ40: =D40*내역서!AJ298 -> 0 | AK40: =D40*내역서!AK298 -> 0 | AL40: =D40*내역서!AL298 -> 0 | AM40: =D40*내역서!AM298 -> 0 | AN40: =D40*내역서!AN298 -> 0 | AO40: =D40*내역서!AO298 -> 0 | AP40: =D40*내역서!AP298 -> 0 | AQ40: =D40*내역서!AQ298 -> 0 | AR40: =D40*내역서!AR298 -> 0 | AS40: =D40*내역서!AS298 -> 0 | AT40: =D40*내역서!AT298 -> 0 | AU40: =D40*내역서!AU298 -> 0 | AV40: =D40*내역서!AV298 -> 0
A46: 합 계 | F46: =SUMIF(Q27:Q40, "1", F27:F40) -> 0 | H46: =SUMIF(Q27:Q40, "1", H27:H40) -> 0 | J46: =SUMIF(Q27:Q40, "1", J27:J40) -> 0 | L46: =F46+H46+J46 -> 0 | R46: =SUM(R27:R40) -> 0 | S46: =SUM(S27:S40) -> 0 | T46: =SUM(T27:T40) -> 0 | U46: =SUM(U27:U40) -> 0 | V46: =SUM(V27:V40) -> 0 | W46: =SUM(W27:W40) -> 0 | X46: =SUM(X27:X40) -> 0 | Y46: =SUM(Y27:Y40) -> 0 | ... AY46: =SUM(AY27:AY40) -> 0
A47: 02. 설비공사
A48: 0201. 설비공사 | C48: 식 | D48: 1 | E48: =내역서!F319 -> 0 | F48: =D48*E48 -> 0 | G48: =내역서!H319 -> 0 | H48: =D48*G48 -> 0 | I48: =내역서!J319 -> 0 | J48: =D48*I48 -> 0 | K48: =E48+G48+I48 -> 0 | L48: =F48+H48+J48 -> 0 | Q48: 1 | R48: =D48*내역서!R319 -> 0 | S48: =D48*내역서!S319 -> 0 | T48: =D48*내역서!T319 -> 0 | U48: =D48*내역서!U319 -> 0 | V48: =D48*내역서!V319 -> 0 | W48: =D48*내역서!W319 -> 0 | X48: =D48*내역서!X319 -> 0 | Y48: =D48*내역서!Y319 -> 0 | Z48: =D48*내역서!Z319 -> 0 | AA48: =D48*내역서!AA319 -> 0 | AB48: =D48*내역서!AB319 -> 0 | AC48: =D48*내역서!AC319 -> 0 | AD48: =D48*내역서!AD319 -> 0 | AE48: =D48*내역서!AE319 -> 0 | AF48: =D48*내역서!AF319 -> 0 | AG48: =D48*내역서!AG319 -> 0 | AH48: =D48*내역서!AH319 -> 0 | AI48: =D48*내역서!AI319 -> 0 | AJ48: =D48*내역서!AJ319 -> 0 | AK48: =D48*내역서!AK319 -> 0 | AL48: =D48*내역서!AL319 -> 0 | AM48: =D48*내역서!AM319 -> 0 | AN48: =D48*내역서!AN319 -> 0 | AO48: =D48*내역서!AO319 -> 0 | AP48: =D48*내역서!AP319 -> 0 | AQ48: =D48*내역서!AQ319 -> 0 | AR48: =D48*내역서!AR319 -> 0 | AS48: =D48*내역서!AS319 -> 0 | AT48: =D48*내역서!AT319 -> 0 | AU48: =D48*내역서!AU319 -> 0 | AV48: =D48*내역서!AV319 -> 0
A67: 합 계 | F67: =SUMIF(Q48:Q48, "1", F48:F48) -> 0 | H67: =SUMIF(Q48:Q48, "1", H48:H48) -> 0 | J67: =SUMIF(Q48:Q48, "1", J48:J48) -> 0 | L67: =F67+H67+J67 -> 0 | R67: =SUM(R48:R48) -> 0 | S67: =SUM(S48:S48) -> 0 | T67: =SUM(T48:T48) -> 0 | U67: =SUM(U48:U48) -> 0 | V67: =SUM(V48:V48) -> 0 | W67: =SUM(W48:W48) -> 0 | X67: =SUM(X48:X48) -> 0 | Y67: =SUM(Y48:Y48) -> 0 | ... AY67: =SUM(AY48:AY48) -> 0

Sheet 내역서
A1: 내 역 서
A2: 공사명 : 칠곡 시니어클럽 기능 보강공사
A3: 품 명 | B3: 규 격 | C3: 단위 | D3: 수 량 | E3: 재 료 비 | G3: 노 무 비 | I3: 경 비 | K3: 합 계 | M3: 비고
E4: 단 가 | F4: 금 액 | G4: 단 가 | H4: 금 액 | I4: 단 가 | J4: 금 액 | K4: 단 가 | L4: 금 액 | N4: 손료요율 | O4: 손료구분 | P4: 적용구분 | Q4: 합계구분 | R4: 기계경비 | S4: 운반비 | T4: 작업부산물 | U4: 관급 | V4: 외주비 | W4: 장비비 | X4: 폐기물처리비 | Y4: 가설비 | Z4: 잡비제외분 | AA4: 사급자재대 | AB4: 관급자재대 | AC4: 사용자항목1 | AD4: 사용자항목2 | AE4: 안전관리비 | AF4: 품질관리비 | AG4: 작업부산물(철거해체) | AH4: 사용자항목6 | AI4: 사용자항목7 | AJ4: 관급자재대(도급자) | AK4: 관급자재대(관급자) | AL4: 사용자항목10 | AM4: 폐기물처리비(일반) | AN4: 폐기물처리비(지정) | AO4: 사용자항목13 | AP4: 사용자항목14 | AQ4: 사용자항목15 | AR4: 사용자항목16 | AS4: 사용자항목17 | AT4: 사용자항목18 | AU4: 사용자항목19 | AV4: 간접재료비 | AW4: 품목구분 | AX4: 조달코드 | AY4: 구분
A5: 0101. 가설공사
A6: 이동식강관말비계 | B6: 1개월,1단(2m) | C6: 1대 | D6: 1 | F6: =ROUNDDOWN(D6*E6, 0) -> 0 | H6: =ROUNDDOWN(D6*G6, 0) -> 0 | J6: =ROUNDDOWN(D6*I6, 0) -> 0 | K6: =E6+G6+I6 -> 0 | L6: =F6+H6+J6 -> 0 | O6: ="" | P6: 기계경비 | Q6: 1 | R6: =IF(P6="기계경비", J6, 0) -> 0 | S6: =IF(P6="운반비", L6, 0) -> 0 | T6: =IF(P6="작업부산물", F6, 0) -> 0 | U6: =IF(P6="관급", F6, 0) -> 0 | V6: =IF(P6="외주비", J6, 0) -> 0 | W6: =IF(P6="장비비", J6, 0) -> 0 | X6: =IF(P6="폐기물처리비", L6, 0) -> 0 | Y6: =IF(P6="가설비", J6, 0) -> 0 | Z6: =IF(P6="잡비제외분", F6, 0) -> 0 | AA6: =IF(P6="사급자재대", L6, 0) -> 0 | AB6: =IF(P6="관급자재대", L6, 0) -> 0 | AC6: =IF(P6="사용자항목1", L6, 0) -> 0 | AD6: =IF(P6="사용자항목2", L6, 0) -> 0 | AE6: =IF(P6="안전관리비", L6, 0) -> 0 | AF6: =IF(P6="품질관리비", L6, 0) -> 0 | AG6: =IF(P6="작업부산물(철거해체)", L6, 0) -> 0 | AH6: =IF(P6="사용자항목6", L6, 0) -> 0 | AI6: =IF(P6="사용자항목7", L6, 0) -> 0 | AJ6: =IF(P6="관급자재대(도급자)", L6, 0) -> 0 | AK6: =IF(P6="관급자재대(관급자)", L6, 0) -> 0 | AL6: =IF(P6="사용자항목10", L6, 0) -> 0 | AM6: =IF(P6="폐기물처리비(일반)", L6, 0) -> 0 | AN6: =IF(P6="폐기물처리비(지정)", L6, 0) -> 0 | AO6: =IF(P6="사용자항목13", L6, 0) -> 0 | AP6: =IF(P6="사용자항목14", L6, 0) -> 0 | AQ6: =IF(P6="사용자항목15", L6, 0) -> 0 | AR6: =IF(P6="사용자항목16", L6, 0) -> 0 | AS6: =IF(P6="사용자항목17", L6, 0) -> 0 | AT6: =IF(P6="사용자항목18", L6, 0) -> 0 | AU6: =IF(P6="사용자항목19", L6, 0) -> 0
A7: 건축물 현장정리 | B7: 개보수, 복합공정 | C7: M2 | D7: 283.3 | F7: =ROUNDDOWN(D7*E7, 0) -> 0 | H7: =ROUNDDOWN(D7*G7, 0) -> 0 | J7: =ROUNDDOWN(D7*I7, 0) -> 0 | K7: =E7+G7+I7 -> 0 | L7: =F7+H7+J7 -> 0 | O7: ="" | P7: 기계경비 | Q7: 1 | R7: =IF(P7="기계경비", J7, 0) -> 0 | S7: =IF(P7="운반비", L7, 0) -> 0 | T7: =IF(P7="작업부산물", F7, 0) -> 0 | U7: =IF(P7="관급", F7, 0) -> 0 | V7: =IF(P7="외주비", J7, 0) -> 0 | W7: =IF(P7="장비비", J7, 0) -> 0 | X7: =IF(P7="폐기물처리비", L7, 0) -> 0 | Y7: =IF(P7="가설비", J7, 0) -> 0 | Z7: =IF(P7="잡비제외분", F7, 0) -> 0 | AA7: =IF(P7="사급자재대", L7, 0) -> 0 | AB7: =IF(P7="관급자재대", L7, 0) -> 0 | AC7: =IF(P7="사용자항목1", L7, 0) -> 0 | AD7: =IF(P7="사용자항목2", L7, 0) -> 0 | AE7: =IF(P7="안전관리비", L7, 0) -> 0 | AF7: =IF(P7="품질관리비", L7, 0) -> 0 | AG7: =IF(P7="작업부산물(철거해체)", L7, 0) -> 0 | AH7: =IF(P7="사용자항목6", L7, 0) -> 0 | AI7: =IF(P7="사용자항목7", L7, 0) -> 0 | AJ7: =IF(P7="관급자재대(도급자)", L7, 0) -> 0 | AK7: =IF(P7="관급자재대(관급자)", L7, 0) -> 0 | AL7: =IF(P7="사용자항목10", L7, 0) -> 0 | AM7: =IF(P7="폐기물처리비(일반)", L7, 0) -> 0 | AN7: =IF(P7="폐기물처리비(지정)", L7, 0) -> 0 | AO7: =IF(P7="사용자항목13", L7, 0) -> 0 | AP7: =IF(P7="사용자항목14", L7, 0) -> 0 | AQ7: =IF(P7="사용자항목15", L7, 0) -> 0 | AR7: =IF(P7="사용자항목16", L7, 0) -> 0 | AS7: =IF(P7="사용자항목17", L7, 0) -> 0 | AT7: =IF(P7="사용자항목18", L7, 0) -> 0 | AU7: =IF(P7="사용자항목19", L7, 0) -> 0
A25: 합 계 | F25: =ROUNDDOWN(SUMIF(Q6:Q24, "1", F6:F24), 0) -> 0 | H25: =ROUNDDOWN(SUMIF(Q6:Q24, "1", H6:H24), 0) -> 0 | J25: =ROUNDDOWN(SUMIF(Q6:Q24, "1", J6:J24), 0) -> 0 | L25: =F25+H25+J25 -> 0 | R25: =ROUNDDOWN(SUM(R6:R7), 0) -> 0 | S25: =ROUNDDOWN(SUM(S6:S7), 0) -> 0 | T25: =ROUNDDOWN(SUM(T6:T7), 0) -> 0 | U25: =ROUNDDOWN(SUM(U6:U7), 0) -> 0 | V25: =ROUNDDOWN(SUM(V6:V7), 0) -> 0 | W25: =ROUNDDOWN(SUM(W6:W7), 0) -> 0 | X25: =ROUNDDOWN(SUM(X6:X7), 0) -> 0 | Y25: =ROUNDDOWN(SUM(Y6:Y7), 0) -> 0 | ... AY25: =ROUNDDOWN(SUM(AY6:AY7), 0) -> 0
A26: 0102. 조적공사
A27: 콘크리트벽돌 | B27: 콘크리트벽돌, 190×57×90mm, C종2급 | C27: 매 | D27: 814 | F27: =ROUNDDOWN(D27*E27, 0) -> 0 | H27: =ROUNDDOWN(D27*G27, 0) -> 0 | J27: =ROUNDDOWN(D27*I27, 0) -> 0 | K27: =E27+G27+I27 -> 0 | L27: =F27+H27+J27 -> 0 | O27: ="01" -> 01 | P27: 기계경비 | Q27: 1 | R27: =IF(P27="기계경비", J27, 0) -> 0 | S27: =IF(P27="운반비", L27, 0) -> 0 | T27: =IF(P27="작업부산물", F27, 0) -> 0 | U27: =IF(P27="관급", F27, 0) -> 0 | V27: =IF(P27="외주비", J27, 0) -> 0 | W27: =IF(P27="장비비", J27, 0) -> 0 | X27: =IF(P27="폐기물처리비", L27, 0) -> 0 | Y27: =IF(P27="가설비", J27, 0) -> 0 | Z27: =IF(P27="잡비제외분", F27, 0) -> 0 | AA27: =IF(P27="사급자재대", L27, 0) -> 0 | AB27: =IF(P27="관급자재대", L27, 0) -> 0 | AC27: =IF(P27="사용자항목1", L27, 0) -> 0 | AD27: =IF(P27="사용자항목2", L27, 0) -> 0 | AE27: =IF(P27="안전관리비", L27, 0) -> 0 | AF27: =IF(P27="품질관리비", L27, 0) -> 0 | AG27: =IF(P27="작업부산물(철거해체)", L27, 0) -> 0 | AH27: =IF(P27="사용자항목6", L27, 0) -> 0 | AI27: =IF(P27="사용자항목7", L27, 0) -> 0 | AJ27: =IF(P27="관급자재대(도급자)", L27, 0) -> 0 | AK27: =IF(P27="관급자재대(관급자)", L27, 0) -> 0 | AL27: =IF(P27="사용자항목10", L27, 0) -> 0 | AM27: =IF(P27="폐기물처리비(일반)", L27, 0) -> 0 | AN27: =IF(P27="폐기물처리비(지정)", L27, 0) -> 0 | AO27: =IF(P27="사용자항목13", L27, 0) -> 0 | AP27: =IF(P27="사용자항목14", L27, 0) -> 0 | AQ27: =IF(P27="사용자항목15", L27, 0) -> 0 | AR27: =IF(P27="사용자항목16", L27, 0) -> 0 | AS27: =IF(P27="사용자항목17", L27, 0) -> 0 | AT27: =IF(P27="사용자항목18", L27, 0) -> 0 | AU27: =IF(P27="사용자항목19", L27, 0) -> 0
A28: 시멘트벽돌 쌓기 | B28: 1.0B, 3.6m 이하 | C28: M2 | D28: 5.2 | F28: =ROUNDDOWN(D28*E28, 0) -> 0 | H28: =ROUNDDOWN(D28*G28, 0) -> 0 | J28: =ROUNDDOWN(D28*I28, 0) -> 0 | K28: =E28+G28+I28 -> 0 | L28: =F28+H28+J28 -> 0 | O28: ="" | P28: 기계경비 | Q28: 1 | R28: =IF(P28="기계경비", J28, 0) -> 0 | S28: =IF(P28="운반비", L28, 0) -> 0 | T28: =IF(P28="작업부산물", F28, 0) -> 0 | U28: =IF(P28="관급", F28, 0) -> 0 | V28: =IF(P28="외주비", J28, 0) -> 0 | W28: =IF(P28="장비비", J28, 0) -> 0 | X28: =IF(P28="폐기물처리비", L28, 0) -> 0 | Y28: =IF(P28="가설비", J28, 0) -> 0 | Z28: =IF(P28="잡비제외분", F28, 0) -> 0 | AA28: =IF(P28="사급자재대", L28, 0) -> 0 | AB28: =IF(P28="관급자재대", L28, 0) -> 0 | AC28: =IF(P28="사용자항목1", L28, 0) -> 0 | AD28: =IF(P28="사용자항목2", L28, 0) -> 0 | AE28: =IF(P28="안전관리비", L28, 0) -> 0 | AF28: =IF(P28="품질관리비", L28, 0) -> 0 | AG28: =IF(P28="작업부산물(철거해체)", L28, 0) -> 0 | AH28: =IF(P28="사용자항목6", L28, 0) -> 0 | AI28: =IF(P28="사용자항목7", L28, 0) -> 0 | AJ28: =IF(P28="관급자재대(도급자)", L28, 0) -> 0 | AK28: =IF(P28="관급자재대(관급자)", L28, 0) -> 0 | AL28: =IF(P28="사용자항목10", L28, 0) -> 0 | AM28: =IF(P28="폐기물처리비(일반)", L28, 0) -> 0 | AN28: =IF(P28="폐기물처리비(지정)", L28, 0) -> 0 | AO28: =IF(P28="사용자항목13", L28, 0) -> 0 | AP28: =IF(P28="사용자항목14", L28, 0) -> 0 | AQ28: =IF(P28="사용자항목15", L28, 0) -> 0 | AR28: =IF(P28="사용자항목16", L28, 0) -> 0 | AS28: =IF(P28="사용자항목17", L28, 0) -> 0 | AT28: =IF(P28="사용자항목18", L28, 0) -> 0 | AU28: =IF(P28="사용자항목19", L28, 0) -> 0 | AY28: 무성적산
A29: 벽돌소운반 | B29: 인력, 1층 | C29: 천매 | D29: 0.813 | F29: =ROUNDDOWN(D29*E29, 0) -> 0 | H29: =ROUNDDOWN(D29*G29, 0) -> 0 | J29: =ROUNDDOWN(D29*I29, 0) -> 0 | K29: =E29+G29+I29 -> 0 | L29: =F29+H29+J29 -> 0 | O29: ="" | P29: 기계경비 | Q29: 1 | R29: =IF(P29="기계경비", J29, 0) -> 0 | S29: =IF(P29="운반비", L29, 0) -> 0 | T29: =IF(P29="작업부산물", F29, 0) -> 0 | U29: =IF(P29="관급", F29, 0) -> 0 | V29: =IF(P29="외주비", J29, 0) -> 0 | W29: =IF(P29="장비비", J29, 0) -> 0 | X29: =IF(P29="폐기물처리비", L29, 0) -> 0 | Y29: =IF(P29="가설비", J29, 0) -> 0 | Z29: =IF(P29="잡비제외분", F29, 0) -> 0 | AA29: =IF(P29="사급자재대", L29, 0) -> 0 | AB29: =IF(P29="관급자재대", L29, 0) -> 0 | AC29: =IF(P29="사용자항목1", L29, 0) -> 0 | AD29: =IF(P29="사용자항목2", L29, 0) -> 0 | AE29: =IF(P29="안전관리비", L29, 0) -> 0 | AF29: =IF(P29="품질관리비", L29, 0) -> 0 | AG29: =IF(P29="작업부산물(철거해체)", L29, 0) -> 0 | AH29: =IF(P29="사용자항목6", L29, 0) -> 0 | AI29: =IF(P29="사용자항목7", L29, 0) -> 0 | AJ29: =IF(P29="관급자재대(도급자)", L29, 0) -> 0 | AK29: =IF(P29="관급자재대(관급자)", L29, 0) -> 0 | AL29: =IF(P29="사용자항목10", L29, 0) -> 0 | AM29: =IF(P29="폐기물처리비(일반)", L29, 0) -> 0 | AN29: =IF(P29="폐기물처리비(지정)", L29, 0) -> 0 | AO29: =IF(P29="사용자항목13", L29, 0) -> 0 | AP29: =IF(P29="사용자항목14", L29, 0) -> 0 | AQ29: =IF(P29="사용자항목15", L29, 0) -> 0 | AR29: =IF(P29="사용자항목16", L29, 0) -> 0 | AS29: =IF(P29="사용자항목17", L29, 0) -> 0 | AT29: =IF(P29="사용자항목18", L29, 0) -> 0 | AU29: =IF(P29="사용자항목19", L29, 0) -> 0
A46: 합 계 | F46: =ROUNDDOWN(SUMIF(Q27:Q45, "1", F27:F45), 0) -> 0 | H46: =ROUNDDOWN(SUMIF(Q27:Q45, "1", H27:H45), 0) -> 0 | J46: =ROUNDDOWN(SUMIF(Q27:Q45, "1", J27:J45), 0) -> 0 | L46: =F46+H46+J46 -> 0 | R46: =ROUNDDOWN(SUM(R27:R29), 0) -> 0 | S46: =ROUNDDOWN(SUM(S27:S29), 0) -> 0 | T46: =ROUNDDOWN(SUM(T27:T29), 0) -> 0 | U46: =ROUNDDOWN(SUM(U27:U29), 0) -> 0 | V46: =ROUNDDOWN(SUM(V27:V29), 0) -> 0 | W46: =ROUNDDOWN(SUM(W27:W29), 0) -> 0 | X46: =ROUNDDOWN(SUM(X27:X29), 0) -> 0 | Y46: =ROUNDDOWN(SUM(Y27:Y29), 0) -> 0 | ... AY46: =ROUNDDOWN(SUM(AY27:AY29), 0) -> 0
A47: 0103. 돌및타일공사
A48: 화강석붙임(바닥,습식) | B48: 잔다듬,거창석 30mm, 모르타르 30mm | C48: M2 | D48: 0.2 | F48: =ROUNDDOWN(D48*E48, 0) -> 0 | H48: =ROUNDDOWN(D48*G48, 0) -> 0 | J48: =ROUNDDOWN(D48*I48, 0) -> 0 | K48: =E48+G48+I48 -> 0 | L48: =F48+H48+J48 -> 0 | O48: ="" | P48: 기계경비 | Q48: 1 | R48: =IF(P48="기계경비", J48, 0) -> 0 | S48: =IF(P48="운반비", L48, 0) -> 0 | T48: =IF(P48="작업부산물", F48, 0) -> 0 | U48: =IF(P48="관급", F48, 0) -> 0 | V48: =IF(P48="외주비", J48, 0) -> 0 | W48: =IF(P48="장비비", J48, 0) -> 0 | X48: =IF(P48="폐기물처리비", L48, 0) -> 0 | Y48: =IF(P48="가설비", J48, 0) -> 0 | Z48: =IF(P48="잡비제외분", F48, 0) -> 0 | AA48: =IF(P48="사급자재대", L48, 0) -> 0 | AB48: =IF(P48="관급자재대", L48, 0) -> 0 | AC48: =IF(P48="사용자항목1", L48, 0) -> 0 | AD48: =IF(P48="사용자항목2", L48, 0) -> 0 | AE48: =IF(P48="안전관리비", L48, 0) -> 0 | AF48: =IF(P48="품질관리비", L48, 0) -> 0 | AG48: =IF(P48="작업부산물(철거해체)", L48, 0) -> 0 | AH48: =IF(P48="사용자항목6", L48, 0) -> 0 | AI48: =IF(P48="사용자항목7", L48, 0) -> 0 | AJ48: =IF(P48="관급자재대(도급자)", L48, 0) -> 0 | AK48: =IF(P48="관급자재대(관급자)", L48, 0) -> 0 | AL48: =IF(P48="사용자항목10", L48, 0) -> 0 | AM48: =IF(P48="폐기물처리비(일반)", L48, 0) -> 0 | AN48: =IF(P48="폐기물처리비(지정)", L48, 0) -> 0 | AO48: =IF(P48="사용자항목13", L48, 0) -> 0 | AP48: =IF(P48="사용자항목14", L48, 0) -> 0 | AQ48: =IF(P48="사용자항목15", L48, 0) -> 0 | AR48: =IF(P48="사용자항목16", L48, 0) -> 0 | AS48: =IF(P48="사용자항목17", L48, 0) -> 0 | AT48: =IF(P48="사용자항목18", L48, 0) -> 0 | AU48: =IF(P48="사용자항목19", L48, 0) -> 0 | AY48: 무성적산
A49: 점자블록 | B49: 300×300×35 고강도세라믹 친환경인증 | C49: 개 | D49: 19 | F49: =ROUNDDOWN(D49*E49, 0) -> 0 | H49: =ROUNDDOWN(D49*G49, 0) -> 0 | J49: =ROUNDDOWN(D49*I49, 0) -> 0 | K49: =E49+G49+I49 -> 0 | L49: =F49+H49+J49 -> 0 | O49: ="01" -> 01 | P49: 기계경비 | Q49: 1 | R49: =IF(P49="기계경비", J49, 0) -> 0 | S49: =IF(P49="운반비", L49, 0) -> 0 | T49: =IF(P49="작업부산물", F49, 0) -> 0 | U49: =IF(P49="관급", F49, 0) -> 0 | V49: =IF(P49="외주비", J49, 0) -> 0 | W49: =IF(P49="장비비", J49, 0) -> 0 | X49: =IF(P49="폐기물처리비", L49, 0) -> 0 | Y49: =IF(P49="가설비", J49, 0) -> 0 | Z49: =IF(P49="잡비제외분", F49, 0) -> 0 | AA49: =IF(P49="사급자재대", L49, 0) -> 0 | AB49: =IF(P49="관급자재대", L49, 0) -> 0 | AC49: =IF(P49="사용자항목1", L49, 0) -> 0 | AD49: =IF(P49="사용자항목2", L49, 0) -> 0 | AE49: =IF(P49="안전관리비", L49, 0) -> 0 | AF49: =IF(P49="품질관리비", L49, 0) -> 0 | AG49: =IF(P49="작업부산물(철거해체)", L49, 0) -> 0 | AH49: =IF(P49="사용자항목6", L49, 0) -> 0 | AI49: =IF(P49="사용자항목7", L49, 0) -> 0 | AJ49: =IF(P49="관급자재대(도급자)", L49, 0) -> 0 | AK49: =IF(P49="관급자재대(관급자)", L49, 0) -> 0 | AL49: =IF(P49="사용자항목10", L49, 0) -> 0 | AM49: =IF(P49="폐기물처리비(일반)", L49, 0) -> 0 | AN49: =IF(P49="폐기물처리비(지정)", L49, 0) -> 0 | AO49: =IF(P49="사용자항목13", L49, 0) -> 0 | AP49: =IF(P49="사용자항목14", L49, 0) -> 0 | AQ49: =IF(P49="사용자항목15", L49, 0) -> 0 | AR49: =IF(P49="사용자항목16", L49, 0) -> 0 | AS49: =IF(P49="사용자항목17", L49, 0) -> 0 | AT49: =IF(P49="사용자항목18", L49, 0) -> 0 | AU49: =IF(P49="사용자항목19", L49, 0) -> 0
A67: 합 계 | F67: =ROUNDDOWN(SUMIF(Q48:Q66, "1", F48:F66), 0) -> 0 | H67: =ROUNDDOWN(SUMIF(Q48:Q66, "1", H48:H66), 0) -> 0 | J67: =ROUNDDOWN(SUMIF(Q48:Q66, "1", J48:J66), 0) -> 0 | L67: =F67+H67+J67 -> 0 | R67: =ROUNDDOWN(SUM(R48:R49), 0) -> 0 | S67: =ROUNDDOWN(SUM(S48:S49), 0) -> 0 | T67: =ROUNDDOWN(SUM(T48:T49), 0) -> 0 | U67: =ROUNDDOWN(SUM(U48:U49), 0) -> 0 | V67: =ROUNDDOWN(SUM(V48:V49), 0) -> 0 | W67: =ROUNDDOWN(SUM(W48:W49), 0) -> 0 | X67: =ROUNDDOWN(SUM(X48:X49), 0) -> 0 | Y67: =ROUNDDOWN(SUM(Y48:Y49), 0) -> 0 | ... AY67: =ROUNDDOWN(SUM(AY48:AY49), 0) -> 0
A68: 0104. 목 공 사
A69: 걸레받이 설치 | B69: MDF H100×12mm,랩핑(방염) | C69: M | D69: 3.6 | F69: =ROUNDDOWN(D69*E69, 0) -> 0 | H69: =ROUNDDOWN(D69*G69, 0) -> 0 | J69: =ROUNDDOWN(D69*I69, 0) -> 0 | K69: =E69+G69+I69 -> 0 | L69: =F69+H69+J69 -> 0 | O69: ="" | P69: 기계경비 | Q69: 1 | R69: =IF(P69="기계경비", J69, 0) -> 0 | S69: =IF(P69="운반비", L69, 0) -> 0 | T69: =IF(P69="작업부산물", F69, 0) -> 0 | U69: =IF(P69="관급", F69, 0) -> 0 | V69: =IF(P69="외주비", J69, 0) -> 0 | W69: =IF(P69="장비비", J69, 0) -> 0 | X69: =IF(P69="폐기물처리비", L69, 0) -> 0 | Y69: =IF(P69="가설비", J69, 0) -> 0 | Z69: =IF(P69="잡비제외분", F69, 0) -> 0 | AA69: =IF(P69="사급자재대", L69, 0) -> 0 | AB69: =IF(P69="관급자재대", L69, 0) -> 0 | AC69: =IF(P69="사용자항목1", L69, 0) -> 0 | AD69: =IF(P69="사용자항목2", L69, 0) -> 0 | AE69: =IF(P69="안전관리비", L69, 0) -> 0 | AF69: =IF(P69="품질관리비", L69, 0) -> 0 | AG69: =IF(P69="작업부산물(철거해체)", L69, 0) -> 0 | AH69: =IF(P69="사용자항목6", L69, 0) -> 0 | AI69: =IF(P69="사용자항목7", L69, 0) -> 0 | AJ69: =IF(P69="관급자재대(도급자)", L69, 0) -> 0 | AK69: =IF(P69="관급자재대(관급자)", L69, 0) -> 0 | AL69: =IF(P69="사용자항목10", L69, 0) -> 0 | AM69: =IF(P69="폐기물처리비(일반)", L69, 0) -> 0 | AN69: =IF(P69="폐기물처리비(지정)", L69, 0) -> 0 | AO69: =IF(P69="사용자항목13", L69, 0) -> 0 | AP69: =IF(P69="사용자항목14", L69, 0) -> 0 | AQ69: =IF(P69="사용자항목15", L69, 0) -> 0 | AR69: =IF(P69="사용자항목16", L69, 0) -> 0 | AS69: =IF(P69="사용자항목17", L69, 0) -> 0 | AT69: =IF(P69="사용자항목18", L69, 0) -> 0 | AU69: =IF(P69="사용자항목19", L69, 0) -> 0 | AY69: 무성적산
A70: 벽,MDF 붙임 | B70: MDF 12T+무늬목,방염 | C70: M2 | D70: 122.1 | F70: =ROUNDDOWN(D70*E70, 0) -> 0 | H70: =ROUNDDOWN(D70*G70, 0) -> 0 | J70: =ROUNDDOWN(D70*I70, 0) -> 0 | K70: =E70+G70+I70 -> 0 | L70: =F70+H70+J70 -> 0 | O70: ="" | P70: 기계경비 | Q70: 1 | R70: =IF(P70="기계경비", J70, 0) -> 0 | S70: =IF(P70="운반비", L70, 0) -> 0 | T70: =IF(P70="작업부산물", F70, 0) -> 0 | U70: =IF(P70="관급", F70, 0) -> 0 | V70: =IF(P70="외주비", J70, 0) -> 0 | W70: =IF(P70="장비비", J70, 0) -> 0 | X70: =IF(P70="폐기물처리비", L70, 0) -> 0 | Y70: =IF(P70="가설비", J70, 0) -> 0 | Z70: =IF(P70="잡비제외분", F70, 0) -> 0 | AA70: =IF(P70="사급자재대", L70, 0) -> 0 | AB70: =IF(P70="관급자재대", L70, 0) -> 0 | AC70: =IF(P70="사용자항목1", L70, 0) -> 0 | AD70: =IF(P70="사용자항목2", L70, 0) -> 0 | AE70: =IF(P70="안전관리비", L70, 0) -> 0 | AF70: =IF(P70="품질관리비", L70, 0) -> 0 | AG70: =IF(P70="작업부산물(철거해체)", L70, 0) -> 0 | AH70: =IF(P70="사용자항목6", L70, 0) -> 0 | AI70: =IF(P70="사용자항목7", L70, 0) -> 0 | AJ70: =IF(P70="관급자재대(도급자)", L70, 0) -> 0 | AK70: =IF(P70="관급자재대(관급자)", L70, 0) -> 0 | AL70: =IF(P70="사용자항목10", L70, 0) -> 0 | AM70: =IF(P70="폐기물처리비(일반)", L70, 0) -> 0 | AN70: =IF(P70="폐기물처리비(지정)", L70, 0) -> 0 | AO70: =IF(P70="사용자항목13", L70, 0) -> 0 | AP70: =IF(P70="사용자항목14", L70, 0) -> 0 | AQ70: =IF(P70="사용자항목15", L70, 0) -> 0 | AR70: =IF(P70="사용자항목16", L70, 0) -> 0 | AS70: =IF(P70="사용자항목17", L70, 0) -> 0 | AT70: =IF(P70="사용자항목18", L70, 0) -> 0 | AU70: =IF(P70="사용자항목19", L70, 0) -> 0 | AY70: 무성적산
A88: 합 계 | F88: =ROUNDDOWN(SUMIF(Q69:Q87, "1", F69:F87), 0) -> 0 | H88: =ROUNDDOWN(SUMIF(Q69:Q87, "1", H69:H87), 0) -> 0 | J88: =ROUNDDOWN(SUMIF(Q69:Q87, "1", J69:J87), 0) -> 0 | L88: =F88+H88+J88 -> 0 | R88: =ROUNDDOWN(SUM(R69:R70), 0) -> 0 | S88: =ROUNDDOWN(SUM(S69:S70), 0) -> 0 | T88: =ROUNDDOWN(SUM(T69:T70), 0) -> 0 | U88: =ROUNDDOWN(SUM(U69:U70), 0) -> 0 | V88: =ROUNDDOWN(SUM(V69:V70), 0) -> 0 | W88: =ROUNDDOWN(SUM(W69:W70), 0) -> 0 | X88: =ROUNDDOWN(SUM(X69:X70), 0) -> 0 | Y88: =ROUNDDOWN(SUM(Y69:Y70), 0) -> 0 | ... AY88: =ROUNDDOWN(SUM(AY69:AY70), 0) -> 0
A89: 0105. 금속공사
A90: 칼라강판 설치 | B90: 칼라강판,0.5T | C90: M2 | D90: 1.4 | F90: =ROUNDDOWN(D90*E90, 0) -> 0 | H90: =ROUNDDOWN(D90*G90, 0) -> 0 | J90: =ROUNDDOWN(D90*I90, 0) -> 0 | K90: =E90+G90+I90 -> 0 | L90: =F90+H90+J90 -> 0 | O90: ="" | P90: 기계경비 | Q90: 1 | R90: =IF(P90="기계경비", J90, 0) -> 0 | S90: =IF(P90="운반비", L90, 0) -> 0 | T90: =IF(P90="작업부산물", F90, 0) -> 0 | U90: =IF(P90="관급", F90, 0) -> 0 | V90: =IF(P90="외주비", J90, 0) -> 0 | W90: =IF(P90="장비비", J90, 0) -> 0 | X90: =IF(P90="폐기물처리비", L90, 0) -> 0 | Y90: =IF(P90="가설비", J90, 0) -> 0 | Z90: =IF(P90="잡비제외분", F90, 0) -> 0 | AA90: =IF(P90="사급자재대", L90, 0) -> 0 | AB90: =IF(P90="관급자재대", L90, 0) -> 0 | AC90: =IF(P90="사용자항목1", L90, 0) -> 0 | AD90: =IF(P90="사용자항목2", L90, 0) -> 0 | AE90: =IF(P90="안전관리비", L90, 0) -> 0 | AF90: =IF(P90="품질관리비", L90, 0) -> 0 | AG90: =IF(P90="작업부산물(철거해체)", L90, 0) -> 0 | AH90: =IF(P90="사용자항목6", L90, 0) -> 0 | AI90: =IF(P90="사용자항목7", L90, 0) -> 0 | AJ90: =IF(P90="관급자재대(도급자)", L90, 0) -> 0 | AK90: =IF(P90="관급자재대(관급자)", L90, 0) -> 0 | AL90: =IF(P90="사용자항목10", L90, 0) -> 0 | AM90: =IF(P90="폐기물처리비(일반)", L90, 0) -> 0 | AN90: =IF(P90="폐기물처리비(지정)", L90, 0) -> 0 | AO90: =IF(P90="사용자항목13", L90, 0) -> 0 | AP90: =IF(P90="사용자항목14", L90, 0) -> 0 | AQ90: =IF(P90="사용자항목15", L90, 0) -> 0 | AR90: =IF(P90="사용자항목16", L90, 0) -> 0 | AS90: =IF(P90="사용자항목17", L90, 0) -> 0 | AT90: =IF(P90="사용자항목18", L90, 0) -> 0 | AU90: =IF(P90="사용자항목19", L90, 0) -> 0 | AY90: 무성적산
A91: 펜트레이 설치 | B91: SUS,1.5t×(8+55+100+55+8mm) | C91: M | D91: 2.4 | F91: =ROUNDDOWN(D91*E91, 0) -> 0 | H91: =ROUNDDOWN(D91*G91, 0) -> 0 | J91: =ROUNDDOWN(D91*I91, 0) -> 0 | K91: =E91+G91+I91 -> 0 | L91: =F91+H91+J91 -> 0 | O91: ="" | P91: 기계경비 | Q91: 1 | R91: =IF(P91="기계경비", J91, 0) -> 0 | S91: =IF(P91="운반비", L91, 0) -> 0 | T91: =IF(P91="작업부산물", F91, 0) -> 0 | U91: =IF(P91="관급", F91, 0) -> 0 | V91: =IF(P91="외주비", J91, 0) -> 0 | W91: =IF(P91="장비비", J91, 0) -> 0 | X91: =IF(P91="폐기물처리비", L91, 0) -> 0 | Y91: =IF(P91="가설비", J91, 0) -> 0 | Z91: =IF(P91="잡비제외분", F91, 0) -> 0 | AA91: =IF(P91="사급자재대", L91, 0) -> 0 | AB91: =IF(P91="관급자재대", L91, 0) -> 0 | AC91: =IF(P91="사용자항목1", L91, 0) -> 0 | AD91: =IF(P91="사용자항목2", L91, 0) -> 0 | AE91: =IF(P91="안전관리비", L91, 0) -> 0 | AF91: =IF(P91="품질관리비", L91, 0) -> 0 | AG91: =IF(P91="작업부산물(철거해체)", L91, 0) -> 0 | AH91: =IF(P91="사용자항목6", L91, 0) -> 0 | AI91: =IF(P91="사용자항목7", L91, 0) -> 0 | AJ91: =IF(P91="관급자재대(도급자)", L91, 0) -> 0 | AK91: =IF(P91="관급자재대(관급자)", L91, 0) -> 0 | AL91: =IF(P91="사용자항목10", L91, 0) -> 0 | AM91: =IF(P91="폐기물처리비(일반)", L91, 0) -> 0 | AN91: =IF(P91="폐기물처리비(지정)", L91, 0) -> 0 | AO91: =IF(P91="사용자항목13", L91, 0) -> 0 | AP91: =IF(P91="사용자항목14", L91, 0) -> 0 | AQ91: =IF(P91="사용자항목15", L91, 0) -> 0 | AR91: =IF(P91="사용자항목16", L91, 0) -> 0 | AS91: =IF(P91="사용자항목17", L91, 0) -> 0 | AT91: =IF(P91="사용자항목18", L91, 0) -> 0 | AU91: =IF(P91="사용자항목19", L91, 0) -> 0 | AY91: 무성적산
A109: 합 계 | F109: =ROUNDDOWN(SUMIF(Q90:Q108, "1", F90:F108), 0) -> 0 | H109: =ROUNDDOWN(SUMIF(Q90:Q108, "1", H90:H108), 0) -> 0 | J109: =ROUNDDOWN(SUMIF(Q90:Q108, "1", J90:J108), 0) -> 0 | L109: =F109+H109+J109 -> 0 | R109: =ROUNDDOWN(SUM(R90:R91), 0) -> 0 | S109: =ROUNDDOWN(SUM(S90:S91), 0) -> 0 | T109: =ROUNDDOWN(SUM(T90:T91), 0) -> 0 | U109: =ROUNDDOWN(SUM(U90:U91), 0) -> 0 | V109: =ROUNDDOWN(SUM(V90:V91), 0) -> 0 | W109: =ROUNDDOWN(SUM(W90:W91), 0) -> 0 | X109: =ROUNDDOWN(SUM(X90:X91), 0) -> 0 | Y109: =ROUNDDOWN(SUM(Y90:Y91), 0) -> 0 | ... AY109: =ROUNDDOWN(SUM(AY90:AY91), 0) -> 0
A110: 0106. 미장공사
A111: 모르타르 바름 | B111: 내벽,18mm(초벌+정벌),3.6m 이하 | C111: M2 | D111: 10.4 | F111: =ROUNDDOWN(D111*E111, 0) -> 0 | H111: =ROUNDDOWN(D111*G111, 0) -> 0 | J111: =ROUNDDOWN(D111*I111, 0) -> 0 | K111: =E111+G111+I111 -> 0 | L111: =F111+H111+J111 -> 0 | O111: ="" | P111: 기계경비 | Q111: 1 | R111: =IF(P111="기계경비", J111, 0) -> 0 | S111: =IF(P111="운반비", L111, 0) -> 0 | T111: =IF(P111="작업부산물", F111, 0) -> 0 | U111: =IF(P111="관급", F111, 0) -> 0 | V111: =IF(P111="외주비", J111, 0) -> 0 | W111: =IF(P111="장비비", J111, 0) -> 0 | X111: =IF(P111="폐기물처리비", L111, 0) -> 0 | Y111: =IF(P111="가설비", J111, 0) -> 0 | Z111: =IF(P111="잡비제외분", F111, 0) -> 0 | AA111: =IF(P111="사급자재대", L111, 0) -> 0 | AB111: =IF(P111="관급자재대", L111, 0) -> 0 | AC111: =IF(P111="사용자항목1", L111, 0) -> 0 | AD111: =IF(P111="사용자항목2", L111, 0) -> 0 | AE111: =IF(P111="안전관리비", L111, 0) -> 0 | AF111: =IF(P111="품질관리비", L111, 0) -> 0 | AG111: =IF(P111="작업부산물(철거해체)", L111, 0) -> 0 | AH111: =IF(P111="사용자항목6", L111, 0) -> 0 | AI111: =IF(P111="사용자항목7", L111, 0) -> 0 | AJ111: =IF(P111="관급자재대(도급자)", L111, 0) -> 0 | AK111: =IF(P111="관급자재대(관급자)", L111, 0) -> 0 | AL111: =IF(P111="사용자항목10", L111, 0) -> 0 | AM111: =IF(P111="폐기물처리비(일반)", L111, 0) -> 0 | AN111: =IF(P111="폐기물처리비(지정)", L111, 0) -> 0 | AO111: =IF(P111="사용자항목13", L111, 0) -> 0 | AP111: =IF(P111="사용자항목14", L111, 0) -> 0 | AQ111: =IF(P111="사용자항목15", L111, 0) -> 0 | AR111: =IF(P111="사용자항목16", L111, 0) -> 0 | AS111: =IF(P111="사용자항목17", L111, 0) -> 0 | AT111: =IF(P111="사용자항목18", L111, 0) -> 0 | AU111: =IF(P111="사용자항목19", L111, 0) -> 0 | AY111: 무성적산
A112: 창호주위 모르타르 충전 | C112: M | D112: 2.6 | F112: =ROUNDDOWN(D112*E112, 0) -> 0 | H112: =ROUNDDOWN(D112*G112, 0) -> 0 | J112: =ROUNDDOWN(D112*I112, 0) -> 0 | K112: =E112+G112+I112 -> 0 | L112: =F112+H112+J112 -> 0 | O112: ="" | P112: 기계경비 | Q112: 1 | R112: =IF(P112="기계경비", J112, 0) -> 0 | S112: =IF(P112="운반비", L112, 0) -> 0 | T112: =IF(P112="작업부산물", F112, 0) -> 0 | U112: =IF(P112="관급", F112, 0) -> 0 | V112: =IF(P112="외주비", J112, 0) -> 0 | W112: =IF(P112="장비비", J112, 0) -> 0 | X112: =IF(P112="폐기물처리비", L112, 0) -> 0 | Y112: =IF(P112="가설비", J112, 0) -> 0 | Z112: =IF(P112="잡비제외분", F112, 0) -> 0 | AA112: =IF(P112="사급자재대", L112, 0) -> 0 | AB112: =IF(P112="관급자재대", L112, 0) -> 0 | AC112: =IF(P112="사용자항목1", L112, 0) -> 0 | AD112: =IF(P112="사용자항목2", L112, 0) -> 0 | AE112: =IF(P112="안전관리비", L112, 0) -> 0 | AF112: =IF(P112="품질관리비", L112, 0) -> 0 | AG112: =IF(P112="작업부산물(철거해체)", L112, 0) -> 0 | AH112: =IF(P112="사용자항목6", L112, 0) -> 0 | AI112: =IF(P112="사용자항목7", L112, 0) -> 0 | AJ112: =IF(P112="관급자재대(도급자)", L112, 0) -> 0 | AK112: =IF(P112="관급자재대(관급자)", L112, 0) -> 0 | AL112: =IF(P112="사용자항목10", L112, 0) -> 0 | AM112: =IF(P112="폐기물처리비(일반)", L112, 0) -> 0 | AN112: =IF(P112="폐기물처리비(지정)", L112, 0) -> 0 | AO112: =IF(P112="사용자항목13", L112, 0) -> 0 | AP112: =IF(P112="사용자항목14", L112, 0) -> 0 | AQ112: =IF(P112="사용자항목15", L112, 0) -> 0 | AR112: =IF(P112="사용자항목16", L112, 0) -> 0 | AS112: =IF(P112="사용자항목17", L112, 0) -> 0 | AT112: =IF(P112="사용자항목18", L112, 0) -> 0 | AU112: =IF(P112="사용자항목19", L112, 0) -> 0 | AY112: AGH11000020S
A130: 합 계 | F130: =ROUNDDOWN(SUMIF(Q111:Q129, "1", F111:F129), 0) -> 0 | H130: =ROUNDDOWN(SUMIF(Q111:Q129, "1", H111:H129), 0) -> 0 | J130: =ROUNDDOWN(SUMIF(Q111:Q129, "1", J111:J129), 0) -> 0 | L130: =F130+H130+J130 -> 0 | R130: =ROUNDDOWN(SUM(R111:R112), 0) -> 0 | S130: =ROUNDDOWN(SUM(S111:S112), 0) -> 0 | T130: =ROUNDDOWN(SUM(T111:T112), 0) -> 0 | U130: =ROUNDDOWN(SUM(U111:U112), 0) -> 0 | V130: =ROUNDDOWN(SUM(V111:V112), 0) -> 0 | W130: =ROUNDDOWN(SUM(W111:W112), 0) -> 0 | X130: =ROUNDDOWN(SUM(X111:X112), 0) -> 0 | Y130: =ROUNDDOWN(SUM(Y111:Y112), 0) -> 0 | ... AY130: =ROUNDDOWN(SUM(AY111:AY112), 0) -> 0
A131: 0107. 창호공사
A132: SSD - 2 | B132: 5,800 × 2,600 (100×45×1.2T) | C132: 개소 | D132: 1 | F132: =ROUNDDOWN(D132*E132, 0) -> 0 | H132: =ROUNDDOWN(D132*G132, 0) -> 0 | J132: =ROUNDDOWN(D132*I132, 0) -> 0 | K132: =E132+G132+I132 -> 0 | L132: =F132+H132+J132 -> 0 | O132: ="" | P132: 기계경비 | Q132: 1 | R132: =IF(P132="기계경비", J132, 0) -> 0 | S132: =IF(P132="운반비", L132, 0) -> 0 | T132: =IF(P132="작업부산물", F132, 0) -> 0 | U132: =IF(P132="관급", F132, 0) -> 0 | V132: =IF(P132="외주비", J132, 0) -> 0 | W132: =IF(P132="장비비", J132, 0) -> 0 | X132: =IF(P132="폐기물처리비", L132, 0) -> 0 | Y132: =IF(P132="가설비", J132, 0) -> 0 | Z132: =IF(P132="잡비제외분", F132, 0) -> 0 | AA132: =IF(P132="사급자재대", L132, 0) -> 0 | AB132: =IF(P132="관급자재대", L132, 0) -> 0 | AC132: =IF(P132="사용자항목1", L132, 0) -> 0 | AD132: =IF(P132="사용자항목2", L132, 0) -> 0 | AE132: =IF(P132="안전관리비", L132, 0) -> 0 | AF132: =IF(P132="품질관리비", L132, 0) -> 0 | AG132: =IF(P132="작업부산물(철거해체)", L132, 0) -> 0 | AH132: =IF(P132="사용자항목6", L132, 0) -> 0 | AI132: =IF(P132="사용자항목7", L132, 0) -> 0 | AJ132: =IF(P132="관급자재대(도급자)", L132, 0) -> 0 | AK132: =IF(P132="관급자재대(관급자)", L132, 0) -> 0 | AL132: =IF(P132="사용자항목10", L132, 0) -> 0 | AM132: =IF(P132="폐기물처리비(일반)", L132, 0) -> 0 | AN132: =IF(P132="폐기물처리비(지정)", L132, 0) -> 0 | AO132: =IF(P132="사용자항목13", L132, 0) -> 0 | AP132: =IF(P132="사용자항목14", L132, 0) -> 0 | AQ132: =IF(P132="사용자항목15", L132, 0) -> 0 | AR132: =IF(P132="사용자항목16", L132, 0) -> 0 | AS132: =IF(P132="사용자항목17", L132, 0) -> 0 | AT132: =IF(P132="사용자항목18", L132, 0) -> 0 | AU132: =IF(P132="사용자항목19", L132, 0) -> 0
A133: S D - 1 | B133: 2,100 × 2,600 (45×250×1.6T)+PVC 랩핑(방염) | C133: 개소 | D133: 1 | F133: =ROUNDDOWN(D133*E133, 0) -> 0 | H133: =ROUNDDOWN(D133*G133, 0) -> 0 | J133: =ROUNDDOWN(D133*I133, 0) -> 0 | K133: =E133+G133+I133 -> 0 | L133: =F133+H133+J133 -> 0 | O133: ="" | P133: 기계경비 | Q133: 1 | R133: =IF(P133="기계경비", J133, 0) -> 0 | S133: =IF(P133="운반비", L133, 0) -> 0 | T133: =IF(P133="작업부산물", F133, 0) -> 0 | U133: =IF(P133="관급", F133, 0) -> 0 | V133: =IF(P133="외주비", J133, 0) -> 0 | W133: =IF(P133="장비비", J133, 0) -> 0 | X133: =IF(P133="폐기물처리비", L133, 0) -> 0 | Y133: =IF(P133="가설비", J133, 0) -> 0 | Z133: =IF(P133="잡비제외분", F133, 0) -> 0 | AA133: =IF(P133="사급자재대", L133, 0) -> 0 | AB133: =IF(P133="관급자재대", L133, 0) -> 0 | AC133: =IF(P133="사용자항목1", L133, 0) -> 0 | AD133: =IF(P133="사용자항목2", L133, 0) -> 0 | AE133: =IF(P133="안전관리비", L133, 0) -> 0 | AF133: =IF(P133="품질관리비", L133, 0) -> 0 | AG133: =IF(P133="작업부산물(철거해체)", L133, 0) -> 0 | AH133: =IF(P133="사용자항목6", L133, 0) -> 0 | AI133: =IF(P133="사용자항목7", L133, 0) -> 0 | AJ133: =IF(P133="관급자재대(도급자)", L133, 0) -> 0 | AK133: =IF(P133="관급자재대(관급자)", L133, 0) -> 0 | AL133: =IF(P133="사용자항목10", L133, 0) -> 0 | AM133: =IF(P133="폐기물처리비(일반)", L133, 0) -> 0 | AN133: =IF(P133="폐기물처리비(지정)", L133, 0) -> 0 | AO133: =IF(P133="사용자항목13", L133, 0) -> 0 | AP133: =IF(P133="사용자항목14", L133, 0) -> 0 | AQ133: =IF(P133="사용자항목15", L133, 0) -> 0 | AR133: =IF(P133="사용자항목16", L133, 0) -> 0 | AS133: =IF(P133="사용자항목17", L133, 0) -> 0 | AT133: =IF(P133="사용자항목18", L133, 0) -> 0 | AU133: =IF(P133="사용자항목19", L133, 0) -> 0 | AY133: 무성적산
A134: S D - 2 | B134: 1,100 × 2,600 (45×250×1.6T)+PVC 랩핑(방염) | C134: 개소 | D134: 3 | F134: =ROUNDDOWN(D134*E134, 0) -> 0 | H134: =ROUNDDOWN(D134*G134, 0) -> 0 | J134: =ROUNDDOWN(D134*I134, 0) -> 0 | K134: =E134+G134+I134 -> 0 | L134: =F134+H134+J134 -> 0 | O134: ="" | P134: 기계경비 | Q134: 1 | R134: =IF(P134="기계경비", J134, 0) -> 0 | S134: =IF(P134="운반비", L134, 0) -> 0 | T134: =IF(P134="작업부산물", F134, 0) -> 0 | U134: =IF(P134="관급", F134, 0) -> 0 | V134: =IF(P134="외주비", J134, 0) -> 0 | W134: =IF(P134="장비비", J134, 0) -> 0 | X134: =IF(P134="폐기물처리비", L134, 0) -> 0 | Y134: =IF(P134="가설비", J134, 0) -> 0 | Z134: =IF(P134="잡비제외분", F134, 0) -> 0 | AA134: =IF(P134="사급자재대", L134, 0) -> 0 | AB134: =IF(P134="관급자재대", L134, 0) -> 0 | AC134: =IF(P134="사용자항목1", L134, 0) -> 0 | AD134: =IF(P134="사용자항목2", L134, 0) -> 0 | AE134: =IF(P134="안전관리비", L134, 0) -> 0 | AF134: =IF(P134="품질관리비", L134, 0) -> 0 | AG134: =IF(P134="작업부산물(철거해체)", L134, 0) -> 0 | AH134: =IF(P134="사용자항목6", L134, 0) -> 0 | AI134: =IF(P134="사용자항목7", L134, 0) -> 0 | AJ134: =IF(P134="관급자재대(도급자)", L134, 0) -> 0 | AK134: =IF(P134="관급자재대(관급자)", L134, 0) -> 0 | AL134: =IF(P134="사용자항목10", L134, 0) -> 0 | AM134: =IF(P134="폐기물처리비(일반)", L134, 0) -> 0 | AN134: =IF(P134="폐기물처리비(지정)", L134, 0) -> 0 | AO134: =IF(P134="사용자항목13", L134, 0) -> 0 | AP134: =IF(P134="사용자항목14", L134, 0) -> 0 | AQ134: =IF(P134="사용자항목15", L134, 0) -> 0 | AR134: =IF(P134="사용자항목16", L134, 0) -> 0 | AS134: =IF(P134="사용자항목17", L134, 0) -> 0 | AT134: =IF(P134="사용자항목18", L134, 0) -> 0 | AU134: =IF(P134="사용자항목19", L134, 0) -> 0 | AY134: 무성적산
A135: S D - 3 | B135: 1,100 × 2,600 (45×250×1.6T)+PVC 랩핑(방염) | C135: 개소 | D135: 1 | F135: =ROUNDDOWN(D135*E135, 0) -> 0 | H135: =ROUNDDOWN(D135*G135, 0) -> 0 | J135: =ROUNDDOWN(D135*I135, 0) -> 0 | K135: =E135+G135+I135 -> 0 | L135: =F135+H135+J135 -> 0 | O135: ="" | P135: 기계경비 | Q135: 1 | R135: =IF(P135="기계경비", J135, 0) -> 0 | S135: =IF(P135="운반비", L135, 0) -> 0 | T135: =IF(P135="작업부산물", F135, 0) -> 0 | U135: =IF(P135="관급", F135, 0) -> 0 | V135: =IF(P135="외주비", J135, 0) -> 0 | W135: =IF(P135="장비비", J135, 0) -> 0 | X135: =IF(P135="폐기물처리비", L135, 0) -> 0 | Y135: =IF(P135="가설비", J135, 0) -> 0 | Z135: =IF(P135="잡비제외분", F135, 0) -> 0 | AA135: =IF(P135="사급자재대", L135, 0) -> 0 | AB135: =IF(P135="관급자재대", L135, 0) -> 0 | AC135: =IF(P135="사용자항목1", L135, 0) -> 0 | AD135: =IF(P135="사용자항목2", L135, 0) -> 0 | AE135: =IF(P135="안전관리비", L135, 0) -> 0 | AF135: =IF(P135="품질관리비", L135, 0) -> 0 | AG135: =IF(P135="작업부산물(철거해체)", L135, 0) -> 0 | AH135: =IF(P135="사용자항목6", L135, 0) -> 0 | AI135: =IF(P135="사용자항목7", L135, 0) -> 0 | AJ135: =IF(P135="관급자재대(도급자)", L135, 0) -> 0 | AK135: =IF(P135="관급자재대(관급자)", L135, 0) -> 0 | AL135: =IF(P135="사용자항목10", L135, 0) -> 0 | AM135: =IF(P135="폐기물처리비(일반)", L135, 0) -> 0 | AN135: =IF(P135="폐기물처리비(지정)", L135, 0) -> 0 | AO135: =IF(P135="사용자항목13", L135, 0) -> 0 | AP135: =IF(P135="사용자항목14", L135, 0) -> 0 | AQ135: =IF(P135="사용자항목15", L135, 0) -> 0 | AR135: =IF(P135="사용자항목16", L135, 0) -> 0 | AS135: =IF(P135="사용자항목17", L135, 0) -> 0 | AT135: =IF(P135="사용자항목18", L135, 0) -> 0 | AU135: =IF(P135="사용자항목19", L135, 0) -> 0
A136: S D - 4 (헛문틀) | B136: 1,300 × 3,000 (30×250×1.6T GALV)+PVC 랩핑(방염) | C136: 개소 | D136: 1 | F136: =ROUNDDOWN(D136*E136, 0) -> 0 | H136: =ROUNDDOWN(D136*G136, 0) -> 0 | J136: =ROUNDDOWN(D136*I136, 0) -> 0 | K136: =E136+G136+I136 -> 0 | L136: =F136+H136+J136 -> 0 | O136: ="" | P136: 기계경비 | Q136: 1 | R136: =IF(P136="기계경비", J136, 0) -> 0 | S136: =IF(P136="운반비", L136, 0) -> 0 | T136: =IF(P136="작업부산물", F136, 0) -> 0 | U136: =IF(P136="관급", F136, 0) -> 0 | V136: =IF(P136="외주비", J136, 0) -> 0 | W136: =IF(P136="장비비", J136, 0) -> 0 | X136: =IF(P136="폐기물처리비", L136, 0) -> 0 | Y136: =IF(P136="가설비", J136, 0) -> 0 | Z136: =IF(P136="잡비제외분", F136, 0) -> 0 | AA136: =IF(P136="사급자재대", L136, 0) -> 0 | AB136: =IF(P136="관급자재대", L136, 0) -> 0 | AC136: =IF(P136="사용자항목1", L136, 0) -> 0 | AD136: =IF(P136="사용자항목2", L136, 0) -> 0 | AE136: =IF(P136="안전관리비", L136, 0) -> 0 | AF136: =IF(P136="품질관리비", L136, 0) -> 0 | AG136: =IF(P136="작업부산물(철거해체)", L136, 0) -> 0 | AH136: =IF(P136="사용자항목6", L136, 0) -> 0 | AI136: =IF(P136="사용자항목7", L136, 0) -> 0 | AJ136: =IF(P136="관급자재대(도급자)", L136, 0) -> 0 | AK136: =IF(P136="관급자재대(관급자)", L136, 0) -> 0 | AL136: =IF(P136="사용자항목10", L136, 0) -> 0 | AM136: =IF(P136="폐기물처리비(일반)", L136, 0) -> 0 | AN136: =IF(P136="폐기물처리비(지정)", L136, 0) -> 0 | AO136: =IF(P136="사용자항목13", L136, 0) -> 0 | AP136: =IF(P136="사용자항목14", L136, 0) -> 0 | AQ136: =IF(P136="사용자항목15", L136, 0) -> 0 | AR136: =IF(P136="사용자항목16", L136, 0) -> 0 | AS136: =IF(P136="사용자항목17", L136, 0) -> 0 | AT136: =IF(P136="사용자항목18", L136, 0) -> 0 | AU136: =IF(P136="사용자항목19", L136, 0) -> 0
A137: 자동문 | B137: 쌍도아 | C137: SET | D137: 1 | F137: =ROUNDDOWN(D137*E137, 0) -> 0 | H137: =ROUNDDOWN(D137*G137, 0) -> 0 | J137: =ROUNDDOWN(D137*I137, 0) -> 0 | K137: =E137+G137+I137 -> 0 | L137: =F137+H137+J137 -> 0 | O137: ="01" -> 01 | P137: 기계경비 | Q137: 1 | R137: =IF(P137="기계경비", J137, 0) -> 0 | S137: =IF(P137="운반비", L137, 0) -> 0 | T137: =IF(P137="작업부산물", F137, 0) -> 0 | U137: =IF(P137="관급", F137, 0) -> 0 | V137: =IF(P137="외주비", J137, 0) -> 0 | W137: =IF(P137="장비비", J137, 0) -> 0 | X137: =IF(P137="폐기물처리비", L137, 0) -> 0 | Y137: =IF(P137="가설비", J137, 0) -> 0 | Z137: =IF(P137="잡비제외분", F137, 0) -> 0 | AA137: =IF(P137="사급자재대", L137, 0) -> 0 | AB137: =IF(P137="관급자재대", L137, 0) -> 0 | AC137: =IF(P137="사용자항목1", L137, 0) -> 0 | AD137: =IF(P137="사용자항목2", L137, 0) -> 0 | AE137: =IF(P137="안전관리비", L137, 0) -> 0 | AF137: =IF(P137="품질관리비", L137, 0) -> 0 | AG137: =IF(P137="작업부산물(철거해체)", L137, 0) -> 0 | AH137: =IF(P137="사용자항목6", L137, 0) -> 0 | AI137: =IF(P137="사용자항목7", L137, 0) -> 0 | AJ137: =IF(P137="관급자재대(도급자)", L137, 0) -> 0 | AK137: =IF(P137="관급자재대(관급자)", L137, 0) -> 0 | AL137: =IF(P137="사용자항목10", L137, 0) -> 0 | AM137: =IF(P137="폐기물처리비(일반)", L137, 0) -> 0 | AN137: =IF(P137="폐기물처리비(지정)", L137, 0) -> 0 | AO137: =IF(P137="사용자항목13", L137, 0) -> 0 | AP137: =IF(P137="사용자항목14", L137, 0) -> 0 | AQ137: =IF(P137="사용자항목15", L137, 0) -> 0 | AR137: =IF(P137="사용자항목16", L137, 0) -> 0 | AS137: =IF(P137="사용자항목17", L137, 0) -> 0 | AT137: =IF(P137="사용자항목18", L137, 0) -> 0 | AU137: =IF(P137="사용자항목19", L137, 0) -> 0
A138: 단열 스테인리스 시스템세이프도어 | B138: 900×2,600mm, 헤어라인 | C138: EA | D138: 2 | F138: =ROUNDDOWN(D138*E138, 0) -> 0 | H138: =ROUNDDOWN(D138*G138, 0) -> 0 | J138: =ROUNDDOWN(D138*I138, 0) -> 0 | K138: =E138+G138+I138 -> 0 | L138: =F138+H138+J138 -> 0 | O138: ="01" -> 01 | P138: 기계경비 | Q138: 1 | R138: =IF(P138="기계경비", J138, 0) -> 0 | S138: =IF(P138="운반비", L138, 0) -> 0 | T138: =IF(P138="작업부산물", F138, 0) -> 0 | U138: =IF(P138="관급", F138, 0) -> 0 | V138: =IF(P138="외주비", J138, 0) -> 0 | W138: =IF(P138="장비비", J138, 0) -> 0 | X138: =IF(P138="폐기물처리비", L138, 0) -> 0 | Y138: =IF(P138="가설비", J138, 0) -> 0 | Z138: =IF(P138="잡비제외분", F138, 0) -> 0 | AA138: =IF(P138="사급자재대", L138, 0) -> 0 | AB138: =IF(P138="관급자재대", L138, 0) -> 0 | AC138: =IF(P138="사용자항목1", L138, 0) -> 0 | AD138: =IF(P138="사용자항목2", L138, 0) -> 0 | AE138: =IF(P138="안전관리비", L138, 0) -> 0 | AF138: =IF(P138="품질관리비", L138, 0) -> 0 | AG138: =IF(P138="작업부산물(철거해체)", L138, 0) -> 0 | AH138: =IF(P138="사용자항목6", L138, 0) -> 0 | AI138: =IF(P138="사용자항목7", L138, 0) -> 0 | AJ138: =IF(P138="관급자재대(도급자)", L138, 0) -> 0 | AK138: =IF(P138="관급자재대(관급자)", L138, 0) -> 0 | AL138: =IF(P138="사용자항목10", L138, 0) -> 0 | AM138: =IF(P138="폐기물처리비(일반)", L138, 0) -> 0 | AN138: =IF(P138="폐기물처리비(지정)", L138, 0) -> 0 | AO138: =IF(P138="사용자항목13", L138, 0) -> 0 | AP138: =IF(P138="사용자항목14", L138, 0) -> 0 | AQ138: =IF(P138="사용자항목15", L138, 0) -> 0 | AR138: =IF(P138="사용자항목16", L138, 0) -> 0 | AS138: =IF(P138="사용자항목17", L138, 0) -> 0 | AT138: =IF(P138="사용자항목18", L138, 0) -> 0 | AU138: =IF(P138="사용자항목19", L138, 0) -> 0 | AY138: 유리별도
A139: 유리문 | B139: 유리문, 12×1,050×2,300mm, 손보호, 투명, 강화유리문 | C139: 개 | D139: 2 | F139: =ROUNDDOWN(D139*E139, 0) -> 0 | H139: =ROUNDDOWN(D139*G139, 0) -> 0 | J139: =ROUNDDOWN(D139*I139, 0) -> 0 | K139: =E139+G139+I139 -> 0 | L139: =F139+H139+J139 -> 0 | O139: ="01" -> 01 | P139: 기계경비 | Q139: 1 | R139: =IF(P139="기계경비", J139, 0) -> 0 | S139: =IF(P139="운반비", L139, 0) -> 0 | T139: =IF(P139="작업부산물", F139, 0) -> 0 | U139: =IF(P139="관급", F139, 0) -> 0 | V139: =IF(P139="외주비", J139, 0) -> 0 | W139: =IF(P139="장비비", J139, 0) -> 0 | X139: =IF(P139="폐기물처리비", L139, 0) -> 0 | Y139: =IF(P139="가설비", J139, 0) -> 0 | Z139: =IF(P139="잡비제외분", F139, 0) -> 0 | AA139: =IF(P139="사급자재대", L139, 0) -> 0 | AB139: =IF(P139="관급자재대", L139, 0) -> 0 | AC139: =IF(P139="사용자항목1", L139, 0) -> 0 | AD139: =IF(P139="사용자항목2", L139, 0) -> 0 | AE139: =IF(P139="안전관리비", L139, 0) -> 0 | AF139: =IF(P139="품질관리비", L139, 0) -> 0 | AG139: =IF(P139="작업부산물(철거해체)", L139, 0) -> 0 | AH139: =IF(P139="사용자항목6", L139, 0) -> 0 | AI139: =IF(P139="사용자항목7", L139, 0) -> 0 | AJ139: =IF(P139="관급자재대(도급자)", L139, 0) -> 0 | AK139: =IF(P139="관급자재대(관급자)", L139, 0) -> 0 | AL139: =IF(P139="사용자항목10", L139, 0) -> 0 | AM139: =IF(P139="폐기물처리비(일반)", L139, 0) -> 0 | AN139: =IF(P139="폐기물처리비(지정)", L139, 0) -> 0 | AO139: =IF(P139="사용자항목13", L139, 0) -> 0 | AP139: =IF(P139="사용자항목14", L139, 0) -> 0 | AQ139: =IF(P139="사용자항목15", L139, 0) -> 0 | AR139: =IF(P139="사용자항목16", L139, 0) -> 0 | AS139: =IF(P139="사용자항목17", L139, 0) -> 0 | AT139: =IF(P139="사용자항목18", L139, 0) -> 0 | AU139: =IF(P139="사용자항목19", L139, 0) -> 0 | AY139: 무성적산
A140: 유리문 | B140: 유리문, 12×1100×2300mm, 투명, 세이프강화도어(고급형) | C140: 개 | D140: 1 | F140: =ROUNDDOWN(D140*E140, 0) -> 0 | H140: =ROUNDDOWN(D140*G140, 0) -> 0 | J140: =ROUNDDOWN(D140*I140, 0) -> 0 | K140: =E140+G140+I140 -> 0 | L140: =F140+H140+J140 -> 0 | O140: ="01" -> 01 | P140: 기계경비 | Q140: 1 | R140: =IF(P140="기계경비", J140, 0) -> 0 | S140: =IF(P140="운반비", L140, 0) -> 0 | T140: =IF(P140="작업부산물", F140, 0) -> 0 | U140: =IF(P140="관급", F140, 0) -> 0 | V140: =IF(P140="외주비", J140, 0) -> 0 | W140: =IF(P140="장비비", J140, 0) -> 0 | X140: =IF(P140="폐기물처리비", L140, 0) -> 0 | Y140: =IF(P140="가설비", J140, 0) -> 0 | Z140: =IF(P140="잡비제외분", F140, 0) -> 0 | AA140: =IF(P140="사급자재대", L140, 0) -> 0 | AB140: =IF(P140="관급자재대", L140, 0) -> 0 | AC140: =IF(P140="사용자항목1", L140, 0) -> 0 | AD140: =IF(P140="사용자항목2", L140, 0) -> 0 | AE140: =IF(P140="안전관리비", L140, 0) -> 0 | AF140: =IF(P140="품질관리비", L140, 0) -> 0 | AG140: =IF(P140="작업부산물(철거해체)", L140, 0) -> 0 | AH140: =IF(P140="사용자항목6", L140, 0) -> 0 | AI140: =IF(P140="사용자항목7", L140, 0) -> 0 | AJ140: =IF(P140="관급자재대(도급자)", L140, 0) -> 0 | AK140: =IF(P140="관급자재대(관급자)", L140, 0) -> 0 | AL140: =IF(P140="사용자항목10", L140, 0) -> 0 | AM140: =IF(P140="폐기물처리비(일반)", L140, 0) -> 0 | AN140: =IF(P140="폐기물처리비(지정)", L140, 0) -> 0 | AO140: =IF(P140="사용자항목13", L140, 0) -> 0 | AP140: =IF(P140="사용자항목14", L140, 0) -> 0 | AQ140: =IF(P140="사용자항목15", L140, 0) -> 0 | AR140: =IF(P140="사용자항목16", L140, 0) -> 0 | AS140: =IF(P140="사용자항목17", L140, 0) -> 0 | AT140: =IF(P140="사용자항목18", L140, 0) -> 0 | AU140: =IF(P140="사용자항목19", L140, 0) -> 0 | AY140: 무성적산
A141: 피벗힌지 | B141: 피벗힌지, 80kg이하, K1200 | C141: 조 | D141: 6 | F141: =ROUNDDOWN(D141*E141, 0) -> 0 | H141: =ROUNDDOWN(D141*G141, 0) -> 0 | J141: =ROUNDDOWN(D141*I141, 0) -> 0 | K141: =E141+G141+I141 -> 0 | L141: =F141+H141+J141 -> 0 | O141: ="01" -> 01 | P141: 기계경비 | Q141: 1 | R141: =IF(P141="기계경비", J141, 0) -> 0 | S141: =IF(P141="운반비", L141, 0) -> 0 | T141: =IF(P141="작업부산물", F141, 0) -> 0 | U141: =IF(P141="관급", F141, 0) -> 0 | V141: =IF(P141="외주비", J141, 0) -> 0 | W141: =IF(P141="장비비", J141, 0) -> 0 | X141: =IF(P141="폐기물처리비", L141, 0) -> 0 | Y141: =IF(P141="가설비", J141, 0) -> 0 | Z141: =IF(P141="잡비제외분", F141, 0) -> 0 | AA141: =IF(P141="사급자재대", L141, 0) -> 0 | AB141: =IF(P141="관급자재대", L141, 0) -> 0 | AC141: =IF(P141="사용자항목1", L141, 0) -> 0 | AD141: =IF(P141="사용자항목2", L141, 0) -> 0 | AE141: =IF(P141="안전관리비", L141, 0) -> 0 | AF141: =IF(P141="품질관리비", L141, 0) -> 0 | AG141: =IF(P141="작업부산물(철거해체)", L141, 0) -> 0 | AH141: =IF(P141="사용자항목6", L141, 0) -> 0 | AI141: =IF(P141="사용자항목7", L141, 0) -> 0 | AJ141: =IF(P141="관급자재대(도급자)", L141, 0) -> 0 | AK141: =IF(P141="관급자재대(관급자)", L141, 0) -> 0 | AL141: =IF(P141="사용자항목10", L141, 0) -> 0 | AM141: =IF(P141="폐기물처리비(일반)", L141, 0) -> 0 | AN141: =IF(P141="폐기물처리비(지정)", L141, 0) -> 0 | AO141: =IF(P141="사용자항목13", L141, 0) -> 0 | AP141: =IF(P141="사용자항목14", L141, 0) -> 0 | AQ141: =IF(P141="사용자항목15", L141, 0) -> 0 | AR141: =IF(P141="사용자항목16", L141, 0) -> 0 | AS141: =IF(P141="사용자항목17", L141, 0) -> 0 | AT141: =IF(P141="사용자항목18", L141, 0) -> 0 | AU141: =IF(P141="사용자항목19", L141, 0) -> 0
A142: 플로어힌지 설치 | B142: 강화유리문용 | C142: 개소 | D142: 3 | F142: =ROUNDDOWN(D142*E142, 0) -> 0 | H142: =ROUNDDOWN(D142*G142, 0) -> 0 | J142: =ROUNDDOWN(D142*I142, 0) -> 0 | K142: =E142+G142+I142 -> 0 | L142: =F142+H142+J142 -> 0 | O142: ="" | P142: 기계경비 | Q142: 1 | R142: =IF(P142="기계경비", J142, 0) -> 0 | S142: =IF(P142="운반비", L142, 0) -> 0 | T142: =IF(P142="작업부산물", F142, 0) -> 0 | U142: =IF(P142="관급", F142, 0) -> 0 | V142: =IF(P142="외주비", J142, 0) -> 0 | W142: =IF(P142="장비비", J142, 0) -> 0 | X142: =IF(P142="폐기물처리비", L142, 0) -> 0 | Y142: =IF(P142="가설비", J142, 0) -> 0 | Z142: =IF(P142="잡비제외분", F142, 0) -> 0 | AA142: =IF(P142="사급자재대", L142, 0) -> 0 | AB142: =IF(P142="관급자재대", L142, 0) -> 0 | AC142: =IF(P142="사용자항목1", L142, 0) -> 0 | AD142: =IF(P142="사용자항목2", L142, 0) -> 0 | AE142: =IF(P142="안전관리비", L142, 0) -> 0 | AF142: =IF(P142="품질관리비", L142, 0) -> 0 | AG142: =IF(P142="작업부산물(철거해체)", L142, 0) -> 0 | AH142: =IF(P142="사용자항목6", L142, 0) -> 0 | AI142: =IF(P142="사용자항목7", L142, 0) -> 0 | AJ142: =IF(P142="관급자재대(도급자)", L142, 0) -> 0 | AK142: =IF(P142="관급자재대(관급자)", L142, 0) -> 0 | AL142: =IF(P142="사용자항목10", L142, 0) -> 0 | AM142: =IF(P142="폐기물처리비(일반)", L142, 0) -> 0 | AN142: =IF(P142="폐기물처리비(지정)", L142, 0) -> 0 | AO142: =IF(P142="사용자항목13", L142, 0) -> 0 | AP142: =IF(P142="사용자항목14", L142, 0) -> 0 | AQ142: =IF(P142="사용자항목15", L142, 0) -> 0 | AR142: =IF(P142="사용자항목16", L142, 0) -> 0 | AS142: =IF(P142="사용자항목17", L142, 0) -> 0 | AT142: =IF(P142="사용자항목18", L142, 0) -> 0 | AU142: =IF(P142="사용자항목19", L142, 0) -> 0 | AY142: 무성적산
A143: 도어체크 설치 | B143: 보통용 | C143: 개소 | D143: 6 | F143: =ROUNDDOWN(D143*E143, 0) -> 0 | H143: =ROUNDDOWN(D143*G143, 0) -> 0 | J143: =ROUNDDOWN(D143*I143, 0) -> 0 | K143: =E143+G143+I143 -> 0 | L143: =F143+H143+J143 -> 0 | O143: ="" | P143: 기계경비 | Q143: 1 | R143: =IF(P143="기계경비", J143, 0) -> 0 | S143: =IF(P143="운반비", L143, 0) -> 0 | T143: =IF(P143="작업부산물", F143, 0) -> 0 | U143: =IF(P143="관급", F143, 0) -> 0 | V143: =IF(P143="외주비", J143, 0) -> 0 | W143: =IF(P143="장비비", J143, 0) -> 0 | X143: =IF(P143="폐기물처리비", L143, 0) -> 0 | Y143: =IF(P143="가설비", J143, 0) -> 0 | Z143: =IF(P143="잡비제외분", F143, 0) -> 0 | AA143: =IF(P143="사급자재대", L143, 0) -> 0 | AB143: =IF(P143="관급자재대", L143, 0) -> 0 | AC143: =IF(P143="사용자항목1", L143, 0) -> 0 | AD143: =IF(P143="사용자항목2", L143, 0) -> 0 | AE143: =IF(P143="안전관리비", L143, 0) -> 0 | AF143: =IF(P143="품질관리비", L143, 0) -> 0 | AG143: =IF(P143="작업부산물(철거해체)", L143, 0) -> 0 | AH143: =IF(P143="사용자항목6", L143, 0) -> 0 | AI143: =IF(P143="사용자항목7", L143, 0) -> 0 | AJ143: =IF(P143="관급자재대(도급자)", L143, 0) -> 0 | AK143: =IF(P143="관급자재대(관급자)", L143, 0) -> 0 | AL143: =IF(P143="사용자항목10", L143, 0) -> 0 | AM143: =IF(P143="폐기물처리비(일반)", L143, 0) -> 0 | AN143: =IF(P143="폐기물처리비(지정)", L143, 0) -> 0 | AO143: =IF(P143="사용자항목13", L143, 0) -> 0 | AP143: =IF(P143="사용자항목14", L143, 0) -> 0 | AQ143: =IF(P143="사용자항목15", L143, 0) -> 0 | AR143: =IF(P143="사용자항목16", L143, 0) -> 0 | AS143: =IF(P143="사용자항목17", L143, 0) -> 0 | AT143: =IF(P143="사용자항목18", L143, 0) -> 0 | AU143: =IF(P143="사용자항목19", L143, 0) -> 0 | AY143: 무성적산
A144: 도어부자재 | B144: 스텐손잡이(고급형) | C144: EA | D144: 3 | F144: =ROUNDDOWN(D144*E144, 0) -> 0 | H144: =ROUNDDOWN(D144*G144, 0) -> 0 | J144: =ROUNDDOWN(D144*I144, 0) -> 0 | K144: =E144+G144+I144 -> 0 | L144: =F144+H144+J144 -> 0 | O144: ="01" -> 01 | P144: 기계경비 | Q144: 1 | R144: =IF(P144="기계경비", J144, 0) -> 0 | S144: =IF(P144="운반비", L144, 0) -> 0 | T144: =IF(P144="작업부산물", F144, 0) -> 0 | U144: =IF(P144="관급", F144, 0) -> 0 | V144: =IF(P144="외주비", J144, 0) -> 0 | W144: =IF(P144="장비비", J144, 0) -> 0 | X144: =IF(P144="폐기물처리비", L144, 0) -> 0 | Y144: =IF(P144="가설비", J144, 0) -> 0 | Z144: =IF(P144="잡비제외분", F144, 0) -> 0 | AA144: =IF(P144="사급자재대", L144, 0) -> 0 | AB144: =IF(P144="관급자재대", L144, 0) -> 0 | AC144: =IF(P144="사용자항목1", L144, 0) -> 0 | AD144: =IF(P144="사용자항목2", L144, 0) -> 0 | AE144: =IF(P144="안전관리비", L144, 0) -> 0 | AF144: =IF(P144="품질관리비", L144, 0) -> 0 | AG144: =IF(P144="작업부산물(철거해체)", L144, 0) -> 0 | AH144: =IF(P144="사용자항목6", L144, 0) -> 0 | AI144: =IF(P144="사용자항목7", L144, 0) -> 0 | AJ144: =IF(P144="관급자재대(도급자)", L144, 0) -> 0 | AK144: =IF(P144="관급자재대(관급자)", L144, 0) -> 0 | AL144: =IF(P144="사용자항목10", L144, 0) -> 0 | AM144: =IF(P144="폐기물처리비(일반)", L144, 0) -> 0 | AN144: =IF(P144="폐기물처리비(지정)", L144, 0) -> 0 | AO144: =IF(P144="사용자항목13", L144, 0) -> 0 | AP144: =IF(P144="사용자항목14", L144, 0) -> 0 | AQ144: =IF(P144="사용자항목15", L144, 0) -> 0 | AR144: =IF(P144="사용자항목16", L144, 0) -> 0 | AS144: =IF(P144="사용자항목17", L144, 0) -> 0 | AT144: =IF(P144="사용자항목18", L144, 0) -> 0 | AU144: =IF(P144="사용자항목19", L144, 0) -> 0
A145: 도아록 설치 | B145: 일반도어록 레바형(강재창호) | C145: 개소 | D145: 5 | F145: =ROUNDDOWN(D145*E145, 0) -> 0 | H145: =ROUNDDOWN(D145*G145, 0) -> 0 | J145: =ROUNDDOWN(D145*I145, 0) -> 0 | K145: =E145+G145+I145 -> 0 | L145: =F145+H145+J145 -> 0 | O145: ="" | P145: 기계경비 | Q145: 1 | R145: =IF(P145="기계경비", J145, 0) -> 0 | S145: =IF(P145="운반비", L145, 0) -> 0 | T145: =IF(P145="작업부산물", F145, 0) -> 0 | U145: =IF(P145="관급", F145, 0) -> 0 | V145: =IF(P145="외주비", J145, 0) -> 0 | W145: =IF(P145="장비비", J145, 0) -> 0 | X145: =IF(P145="폐기물처리비", L145, 0) -> 0 | Y145: =IF(P145="가설비", J145, 0) -> 0 | Z145: =IF(P145="잡비제외분", F145, 0) -> 0 | AA145: =IF(P145="사급자재대", L145, 0) -> 0 | AB145: =IF(P145="관급자재대", L145, 0) -> 0 | AC145: =IF(P145="사용자항목1", L145, 0) -> 0 | AD145: =IF(P145="사용자항목2", L145, 0) -> 0 | AE145: =IF(P145="안전관리비", L145, 0) -> 0 | AF145: =IF(P145="품질관리비", L145, 0) -> 0 | AG145: =IF(P145="작업부산물(철거해체)", L145, 0) -> 0 | AH145: =IF(P145="사용자항목6", L145, 0) -> 0 | AI145: =IF(P145="사용자항목7", L145, 0) -> 0 | AJ145: =IF(P145="관급자재대(도급자)", L145, 0) -> 0 | AK145: =IF(P145="관급자재대(관급자)", L145, 0) -> 0 | AL145: =IF(P145="사용자항목10", L145, 0) -> 0 | AM145: =IF(P145="폐기물처리비(일반)", L145, 0) -> 0 | AN145: =IF(P145="폐기물처리비(지정)", L145, 0) -> 0 | AO145: =IF(P145="사용자항목13", L145, 0) -> 0 | AP145: =IF(P145="사용자항목14", L145, 0) -> 0 | AQ145: =IF(P145="사용자항목15", L145, 0) -> 0 | AR145: =IF(P145="사용자항목16", L145, 0) -> 0 | AS145: =IF(P145="사용자항목17", L145, 0) -> 0 | AT145: =IF(P145="사용자항목18", L145, 0) -> 0 | AU145: =IF(P145="사용자항목19", L145, 0) -> 0 | AY145: 무성적산
A146: 도아록 설치 | B146: 일반도어록 레버형공정(강재창호) | C146: 개소 | D146: 1 | F146: =ROUNDDOWN(D146*E146, 0) -> 0 | H146: =ROUNDDOWN(D146*G146, 0) -> 0 | J146: =ROUNDDOWN(D146*I146, 0) -> 0 | K146: =E146+G146+I146 -> 0 | L146: =F146+H146+J146 -> 0 | O146: ="" | P146: 기계경비 | Q146: 1 | R146: =IF(P146="기계경비", J146, 0) -> 0 | S146: =IF(P146="운반비", L146, 0) -> 0 | T146: =IF(P146="작업부산물", F146, 0) -> 0 | U146: =IF(P146="관급", F146, 0) -> 0 | V146: =IF(P146="외주비", J146, 0) -> 0 | W146: =IF(P146="장비비", J146, 0) -> 0 | X146: =IF(P146="폐기물처리비", L146, 0) -> 0 | Y146: =IF(P146="가설비", J146, 0) -> 0 | Z146: =IF(P146="잡비제외분", F146, 0) -> 0 | AA146: =IF(P146="사급자재대", L146, 0) -> 0 | AB146: =IF(P146="관급자재대", L146, 0) -> 0 | AC146: =IF(P146="사용자항목1", L146, 0) -> 0 | AD146: =IF(P146="사용자항목2", L146, 0) -> 0 | AE146: =IF(P146="안전관리비", L146, 0) -> 0 | AF146: =IF(P146="품질관리비", L146, 0) -> 0 | AG146: =IF(P146="작업부산물(철거해체)", L146, 0) -> 0 | AH146: =IF(P146="사용자항목6", L146, 0) -> 0 | AI146: =IF(P146="사용자항목7", L146, 0) -> 0 | AJ146: =IF(P146="관급자재대(도급자)", L146, 0) -> 0 | AK146: =IF(P146="관급자재대(관급자)", L146, 0) -> 0 | AL146: =IF(P146="사용자항목10", L146, 0) -> 0 | AM146: =IF(P146="폐기물처리비(일반)", L146, 0) -> 0 | AN146: =IF(P146="폐기물처리비(지정)", L146, 0) -> 0 | AO146: =IF(P146="사용자항목13", L146, 0) -> 0 | AP146: =IF(P146="사용자항목14", L146, 0) -> 0 | AQ146: =IF(P146="사용자항목15", L146, 0) -> 0 | AR146: =IF(P146="사용자항목16", L146, 0) -> 0 | AS146: =IF(P146="사용자항목17", L146, 0) -> 0 | AT146: =IF(P146="사용자항목18", L146, 0) -> 0 | AU146: =IF(P146="사용자항목19", L146, 0) -> 0 | AY146: 무성적산
A147: 인테리어표면마감재 | B147: 0.42*1220mm FW (목무늬방염) | C147: M2 | D147: 10.5 | F147: =ROUNDDOWN(D147*E147, 0) -> 0 | H147: =ROUNDDOWN(D147*G147, 0) -> 0 | J147: =ROUNDDOWN(D147*I147, 0) -> 0 | K147: =E147+G147+I147 -> 0 | L147: =F147+H147+J147 -> 0 | O147: ="01" -> 01 | P147: 기계경비 | Q147: 1 | R147: =IF(P147="기계경비", J147, 0) -> 0 | S147: =IF(P147="운반비", L147, 0) -> 0 | T147: =IF(P147="작업부산물", F147, 0) -> 0 | U147: =IF(P147="관급", F147, 0) -> 0 | V147: =IF(P147="외주비", J147, 0) -> 0 | W147: =IF(P147="장비비", J147, 0) -> 0 | X147: =IF(P147="폐기물처리비", L147, 0) -> 0 | Y147: =IF(P147="가설비", J147, 0) -> 0 | Z147: =IF(P147="잡비제외분", F147, 0) -> 0 | AA147: =IF(P147="사급자재대", L147, 0) -> 0 | AB147: =IF(P147="관급자재대", L147, 0) -> 0 | AC147: =IF(P147="사용자항목1", L147, 0) -> 0 | AD147: =IF(P147="사용자항목2", L147, 0) -> 0 | AE147: =IF(P147="안전관리비", L147, 0) -> 0 | AF147: =IF(P147="품질관리비", L147, 0) -> 0 | AG147: =IF(P147="작업부산물(철거해체)", L147, 0) -> 0 | AH147: =IF(P147="사용자항목6", L147, 0) -> 0 | AI147: =IF(P147="사용자항목7", L147, 0) -> 0 | AJ147: =IF(P147="관급자재대(도급자)", L147, 0) -> 0 | AK147: =IF(P147="관급자재대(관급자)", L147, 0) -> 0 | AL147: =IF(P147="사용자항목10", L147, 0) -> 0 | AM147: =IF(P147="폐기물처리비(일반)", L147, 0) -> 0 | AN147: =IF(P147="폐기물처리비(지정)", L147, 0) -> 0 | AO147: =IF(P147="사용자항목13", L147, 0) -> 0 | AP147: =IF(P147="사용자항목14", L147, 0) -> 0 | AQ147: =IF(P147="사용자항목15", L147, 0) -> 0 | AR147: =IF(P147="사용자항목16", L147, 0) -> 0 | AS147: =IF(P147="사용자항목17", L147, 0) -> 0 | AT147: =IF(P147="사용자항목18", L147, 0) -> 0 | AU147: =IF(P147="사용자항목19", L147, 0) -> 0
A148: 안전필름 | B148: 유리엣칭효과, 비산방지, 엠보싱 | C148: M2 | D148: 0.4 | F148: =ROUNDDOWN(D148*E148, 0) -> 0 | H148: =ROUNDDOWN(D148*G148, 0) -> 0 | J148: =ROUNDDOWN(D148*I148, 0) -> 0 | K148: =E148+G148+I148 -> 0 | L148: =F148+H148+J148 -> 0 | O148: ="01" -> 01 | P148: 기계경비 | Q148: 1 | R148: =IF(P148="기계경비", J148, 0) -> 0 | S148: =IF(P148="운반비", L148, 0) -> 0 | T148: =IF(P148="작업부산물", F148, 0) -> 0 | U148: =IF(P148="관급", F148, 0) -> 0 | V148: =IF(P148="외주비", J148, 0) -> 0 | W148: =IF(P148="장비비", J148, 0) -> 0 | X148: =IF(P148="폐기물처리비", L148, 0) -> 0 | Y148: =IF(P148="가설비", J148, 0) -> 0 | Z148: =IF(P148="잡비제외분", F148, 0) -> 0 | AA148: =IF(P148="사급자재대", L148, 0) -> 0 | AB148: =IF(P148="관급자재대", L148, 0) -> 0 | AC148: =IF(P148="사용자항목1", L148, 0) -> 0 | AD148: =IF(P148="사용자항목2", L148, 0) -> 0 | AE148: =IF(P148="안전관리비", L148, 0) -> 0 | AF148: =IF(P148="품질관리비", L148, 0) -> 0 | AG148: =IF(P148="작업부산물(철거해체)", L148, 0) -> 0 | AH148: =IF(P148="사용자항목6", L148, 0) -> 0 | AI148: =IF(P148="사용자항목7", L148, 0) -> 0 | AJ148: =IF(P148="관급자재대(도급자)", L148, 0) -> 0 | AK148: =IF(P148="관급자재대(관급자)", L148, 0) -> 0 | AL148: =IF(P148="사용자항목10", L148, 0) -> 0 | AM148: =IF(P148="폐기물처리비(일반)", L148, 0) -> 0 | AN148: =IF(P148="폐기물처리비(지정)", L148, 0) -> 0 | AO148: =IF(P148="사용자항목13", L148, 0) -> 0 | AP148: =IF(P148="사용자항목14", L148, 0) -> 0 | AQ148: =IF(P148="사용자항목15", L148, 0) -> 0 | AR148: =IF(P148="사용자항목16", L148, 0) -> 0 | AS148: =IF(P148="사용자항목17", L148, 0) -> 0 | AT148: =IF(P148="사용자항목18", L148, 0) -> 0 | AU148: =IF(P148="사용자항목19", L148, 0) -> 0
A149: 수밀코킹(실리콘) | B149: 10mm, 창호주위(양면) | C149: M | D149: 50.8 | F149: =ROUNDDOWN(D149*E149, 0) -> 0 | H149: =ROUNDDOWN(D149*G149, 0) -> 0 | J149: =ROUNDDOWN(D149*I149, 0) -> 0 | K149: =E149+G149+I149 -> 0 | L149: =F149+H149+J149 -> 0 | O149: ="" | P149: 기계경비 | Q149: 1 | R149: =IF(P149="기계경비", J149, 0) -> 0 | S149: =IF(P149="운반비", L149, 0) -> 0 | T149: =IF(P149="작업부산물", F149, 0) -> 0 | U149: =IF(P149="관급", F149, 0) -> 0 | V149: =IF(P149="외주비", J149, 0) -> 0 | W149: =IF(P149="장비비", J149, 0) -> 0 | X149: =IF(P149="폐기물처리비", L149, 0) -> 0 | Y149: =IF(P149="가설비", J149, 0) -> 0 | Z149: =IF(P149="잡비제외분", F149, 0) -> 0 | AA149: =IF(P149="사급자재대", L149, 0) -> 0 | AB149: =IF(P149="관급자재대", L149, 0) -> 0 | AC149: =IF(P149="사용자항목1", L149, 0) -> 0 | AD149: =IF(P149="사용자항목2", L149, 0) -> 0 | AE149: =IF(P149="안전관리비", L149, 0) -> 0 | AF149: =IF(P149="품질관리비", L149, 0) -> 0 | AG149: =IF(P149="작업부산물(철거해체)", L149, 0) -> 0 | AH149: =IF(P149="사용자항목6", L149, 0) -> 0 | AI149: =IF(P149="사용자항목7", L149, 0) -> 0 | AJ149: =IF(P149="관급자재대(도급자)", L149, 0) -> 0 | AK149: =IF(P149="관급자재대(관급자)", L149, 0) -> 0 | AL149: =IF(P149="사용자항목10", L149, 0) -> 0 | AM149: =IF(P149="폐기물처리비(일반)", L149, 0) -> 0 | AN149: =IF(P149="폐기물처리비(지정)", L149, 0) -> 0 | AO149: =IF(P149="사용자항목13", L149, 0) -> 0 | AP149: =IF(P149="사용자항목14", L149, 0) -> 0 | AQ149: =IF(P149="사용자항목15", L149, 0) -> 0 | AR149: =IF(P149="사용자항목16", L149, 0) -> 0 | AS149: =IF(P149="사용자항목17", L149, 0) -> 0 | AT149: =IF(P149="사용자항목18", L149, 0) -> 0 | AU149: =IF(P149="사용자항목19", L149, 0) -> 0 | AY149: 무성적산
A151: 합 계 | F151: =ROUNDDOWN(SUMIF(Q132:Q150, "1", F132:F150), 0) -> 0 | H151: =ROUNDDOWN(SUMIF(Q132:Q150, "1", H132:H150), 0) -> 0 | J151: =ROUNDDOWN(SUMIF(Q132:Q150, "1", J132:J150), 0) -> 0 | L151: =F151+H151+J151 -> 0 | R151: =ROUNDDOWN(SUM(R132:R149), 0) -> 0 | S151: =ROUNDDOWN(SUM(S132:S149), 0) -> 0 | T151: =ROUNDDOWN(SUM(T132:T149), 0) -> 0 | U151: =ROUNDDOWN(SUM(U132:U149), 0) -> 0 | V151: =ROUNDDOWN(SUM(V132:V149), 0) -> 0 | W151: =ROUNDDOWN(SUM(W132:W149), 0) -> 0 | X151: =ROUNDDOWN(SUM(X132:X149), 0) -> 0 | Y151: =ROUNDDOWN(SUM(Y132:Y149), 0) -> 0 | ... AY151: =ROUNDDOWN(SUM(AY132:AY149), 0) -> 0
A152: 0108. 유리공사
A153: 강화유리 | B153: 강화유리, 투명, 8mm | C153: ㎡ | D153: 6.2 | F153: =ROUNDDOWN(D153*E153, 0) -> 0 | H153: =ROUNDDOWN(D153*G153, 0) -> 0 | J153: =ROUNDDOWN(D153*I153, 0) -> 0 | K153: =E153+G153+I153 -> 0 | L153: =F153+H153+J153 -> 0 | O153: ="01" -> 01 | P153: 기계경비 | Q153: 1 | R153: =IF(P153="기계경비", J153, 0) -> 0 | S153: =IF(P153="운반비", L153, 0) -> 0 | T153: =IF(P153="작업부산물", F153, 0) -> 0 | U153: =IF(P153="관급", F153, 0) -> 0 | V153: =IF(P153="외주비", J153, 0) -> 0 | W153: =IF(P153="장비비", J153, 0) -> 0 | X153: =IF(P153="폐기물처리비", L153, 0) -> 0 | Y153: =IF(P153="가설비", J153, 0) -> 0 | Z153: =IF(P153="잡비제외분", F153, 0) -> 0 | AA153: =IF(P153="사급자재대", L153, 0) -> 0 | AB153: =IF(P153="관급자재대", L153, 0) -> 0 | AC153: =IF(P153="사용자항목1", L153, 0) -> 0 | AD153: =IF(P153="사용자항목2", L153, 0) -> 0 | AE153: =IF(P153="안전관리비", L153, 0) -> 0 | AF153: =IF(P153="품질관리비", L153, 0) -> 0 | AG153: =IF(P153="작업부산물(철거해체)", L153, 0) -> 0 | AH153: =IF(P153="사용자항목6", L153, 0) -> 0 | AI153: =IF(P153="사용자항목7", L153, 0) -> 0 | AJ153: =IF(P153="관급자재대(도급자)", L153, 0) -> 0 | AK153: =IF(P153="관급자재대(관급자)", L153, 0) -> 0 | AL153: =IF(P153="사용자항목10", L153, 0) -> 0 | AM153: =IF(P153="폐기물처리비(일반)", L153, 0) -> 0 | AN153: =IF(P153="폐기물처리비(지정)", L153, 0) -> 0 | AO153: =IF(P153="사용자항목13", L153, 0) -> 0 | AP153: =IF(P153="사용자항목14", L153, 0) -> 0 | AQ153: =IF(P153="사용자항목15", L153, 0) -> 0 | AR153: =IF(P153="사용자항목16", L153, 0) -> 0 | AS153: =IF(P153="사용자항목17", L153, 0) -> 0 | AT153: =IF(P153="사용자항목18", L153, 0) -> 0 | AU153: =IF(P153="사용자항목19", L153, 0) -> 0
A154: 더블로이복층유리 | B154: 24mm,SKN 154Ⅱ (반강화)+SWS+투명(HS)) (5+14+5) | C154: M2 | D154: 4.3 | F154: =ROUNDDOWN(D154*E154, 0) -> 0 | H154: =ROUNDDOWN(D154*G154, 0) -> 0 | J154: =ROUNDDOWN(D154*I154, 0) -> 0 | K154: =E154+G154+I154 -> 0 | L154: =F154+H154+J154 -> 0 | O154: ="01" -> 01 | P154: 기계경비 | Q154: 1 | R154: =IF(P154="기계경비", J154, 0) -> 0 | S154: =IF(P154="운반비", L154, 0) -> 0 | T154: =IF(P154="작업부산물", F154, 0) -> 0 | U154: =IF(P154="관급", F154, 0) -> 0 | V154: =IF(P154="외주비", J154, 0) -> 0 | W154: =IF(P154="장비비", J154, 0) -> 0 | X154: =IF(P154="폐기물처리비", L154, 0) -> 0 | Y154: =IF(P154="가설비", J154, 0) -> 0 | Z154: =IF(P154="잡비제외분", F154, 0) -> 0 | AA154: =IF(P154="사급자재대", L154, 0) -> 0 | AB154: =IF(P154="관급자재대", L154, 0) -> 0 | AC154: =IF(P154="사용자항목1", L154, 0) -> 0 | AD154: =IF(P154="사용자항목2", L154, 0) -> 0 | AE154: =IF(P154="안전관리비", L154, 0) -> 0 | AF154: =IF(P154="품질관리비", L154, 0) -> 0 | AG154: =IF(P154="작업부산물(철거해체)", L154, 0) -> 0 | AH154: =IF(P154="사용자항목6", L154, 0) -> 0 | AI154: =IF(P154="사용자항목7", L154, 0) -> 0 | AJ154: =IF(P154="관급자재대(도급자)", L154, 0) -> 0 | AK154: =IF(P154="관급자재대(관급자)", L154, 0) -> 0 | AL154: =IF(P154="사용자항목10", L154, 0) -> 0 | AM154: =IF(P154="폐기물처리비(일반)", L154, 0) -> 0 | AN154: =IF(P154="폐기물처리비(지정)", L154, 0) -> 0 | AO154: =IF(P154="사용자항목13", L154, 0) -> 0 | AP154: =IF(P154="사용자항목14", L154, 0) -> 0 | AQ154: =IF(P154="사용자항목15", L154, 0) -> 0 | AR154: =IF(P154="사용자항목16", L154, 0) -> 0 | AS154: =IF(P154="사용자항목17", L154, 0) -> 0 | AT154: =IF(P154="사용자항목18", L154, 0) -> 0 | AU154: =IF(P154="사용자항목19", L154, 0) -> 0 | AY154: 무성적산
A155: 창호유리설치 / 판유리 | B155: 유리두께 9mm 이하 | C155: M2 | D155: 6.2 | F155: =ROUNDDOWN(D155*E155, 0) -> 0 | H155: =ROUNDDOWN(D155*G155, 0) -> 0 | J155: =ROUNDDOWN(D155*I155, 0) -> 0 | K155: =E155+G155+I155 -> 0 | L155: =F155+H155+J155 -> 0 | O155: ="" | P155: 기계경비 | Q155: 1 | R155: =IF(P155="기계경비", J155, 0) -> 0 | S155: =IF(P155="운반비", L155, 0) -> 0 | T155: =IF(P155="작업부산물", F155, 0) -> 0 | U155: =IF(P155="관급", F155, 0) -> 0 | V155: =IF(P155="외주비", J155, 0) -> 0 | W155: =IF(P155="장비비", J155, 0) -> 0 | X155: =IF(P155="폐기물처리비", L155, 0) -> 0 | Y155: =IF(P155="가설비", J155, 0) -> 0 | Z155: =IF(P155="잡비제외분", F155, 0) -> 0 | AA155: =IF(P155="사급자재대", L155, 0) -> 0 | AB155: =IF(P155="관급자재대", L155, 0) -> 0 | AC155: =IF(P155="사용자항목1", L155, 0) -> 0 | AD155: =IF(P155="사용자항목2", L155, 0) -> 0 | AE155: =IF(P155="안전관리비", L155, 0) -> 0 | AF155: =IF(P155="품질관리비", L155, 0) -> 0 | AG155: =IF(P155="작업부산물(철거해체)", L155, 0) -> 0 | AH155: =IF(P155="사용자항목6", L155, 0) -> 0 | AI155: =IF(P155="사용자항목7", L155, 0) -> 0 | AJ155: =IF(P155="관급자재대(도급자)", L155, 0) -> 0 | AK155: =IF(P155="관급자재대(관급자)", L155, 0) -> 0 | AL155: =IF(P155="사용자항목10", L155, 0) -> 0 | AM155: =IF(P155="폐기물처리비(일반)", L155, 0) -> 0 | AN155: =IF(P155="폐기물처리비(지정)", L155, 0) -> 0 | AO155: =IF(P155="사용자항목13", L155, 0) -> 0 | AP155: =IF(P155="사용자항목14", L155, 0) -> 0 | AQ155: =IF(P155="사용자항목15", L155, 0) -> 0 | AR155: =IF(P155="사용자항목16", L155, 0) -> 0 | AS155: =IF(P155="사용자항목17", L155, 0) -> 0 | AT155: =IF(P155="사용자항목18", L155, 0) -> 0 | AU155: =IF(P155="사용자항목19", L155, 0) -> 0 | AY155: ALG00000030S
A156: 창호유리설치 / 복층유리 | B156: 유리두께 24mm 이하 | C156: M2 | D156: 4.3 | F156: =ROUNDDOWN(D156*E156, 0) -> 0 | H156: =ROUNDDOWN(D156*G156, 0) -> 0 | J156: =ROUNDDOWN(D156*I156, 0) -> 0 | K156: =E156+G156+I156 -> 0 | L156: =F156+H156+J156 -> 0 | O156: ="" | P156: 기계경비 | Q156: 1 | R156: =IF(P156="기계경비", J156, 0) -> 0 | S156: =IF(P156="운반비", L156, 0) -> 0 | T156: =IF(P156="작업부산물", F156, 0) -> 0 | U156: =IF(P156="관급", F156, 0) -> 0 | V156: =IF(P156="외주비", J156, 0) -> 0 | W156: =IF(P156="장비비", J156, 0) -> 0 | X156: =IF(P156="폐기물처리비", L156, 0) -> 0 | Y156: =IF(P156="가설비", J156, 0) -> 0 | Z156: =IF(P156="잡비제외분", F156, 0) -> 0 | AA156: =IF(P156="사급자재대", L156, 0) -> 0 | AB156: =IF(P156="관급자재대", L156, 0) -> 0 | AC156: =IF(P156="사용자항목1", L156, 0) -> 0 | AD156: =IF(P156="사용자항목2", L156, 0) -> 0 | AE156: =IF(P156="안전관리비", L156, 0) -> 0 | AF156: =IF(P156="품질관리비", L156, 0) -> 0 | AG156: =IF(P156="작업부산물(철거해체)", L156, 0) -> 0 | AH156: =IF(P156="사용자항목6", L156, 0) -> 0 | AI156: =IF(P156="사용자항목7", L156, 0) -> 0 | AJ156: =IF(P156="관급자재대(도급자)", L156, 0) -> 0 | AK156: =IF(P156="관급자재대(관급자)", L156, 0) -> 0 | AL156: =IF(P156="사용자항목10", L156, 0) -> 0 | AM156: =IF(P156="폐기물처리비(일반)", L156, 0) -> 0 | AN156: =IF(P156="폐기물처리비(지정)", L156, 0) -> 0 | AO156: =IF(P156="사용자항목13", L156, 0) -> 0 | AP156: =IF(P156="사용자항목14", L156, 0) -> 0 | AQ156: =IF(P156="사용자항목15", L156, 0) -> 0 | AR156: =IF(P156="사용자항목16", L156, 0) -> 0 | AS156: =IF(P156="사용자항목17", L156, 0) -> 0 | AT156: =IF(P156="사용자항목18", L156, 0) -> 0 | AU156: =IF(P156="사용자항목19", L156, 0) -> 0 | AY156: ALH00500010S
A157: 유리주위 코킹 | B157: 5×5, 실리콘(양면) | C157: M | D157: 37.6 | F157: =ROUNDDOWN(D157*E157, 0) -> 0 | H157: =ROUNDDOWN(D157*G157, 0) -> 0 | J157: =ROUNDDOWN(D157*I157, 0) -> 0 | K157: =E157+G157+I157 -> 0 | L157: =F157+H157+J157 -> 0 | O157: ="" | P157: 기계경비 | Q157: 1 | R157: =IF(P157="기계경비", J157, 0) -> 0 | S157: =IF(P157="운반비", L157, 0) -> 0 | T157: =IF(P157="작업부산물", F157, 0) -> 0 | U157: =IF(P157="관급", F157, 0) -> 0 | V157: =IF(P157="외주비", J157, 0) -> 0 | W157: =IF(P157="장비비", J157, 0) -> 0 | X157: =IF(P157="폐기물처리비", L157, 0) -> 0 | Y157: =IF(P157="가설비", J157, 0) -> 0 | Z157: =IF(P157="잡비제외분", F157, 0) -> 0 | AA157: =IF(P157="사급자재대", L157, 0) -> 0 | AB157: =IF(P157="관급자재대", L157, 0) -> 0 | AC157: =IF(P157="사용자항목1", L157, 0) -> 0 | AD157: =IF(P157="사용자항목2", L157, 0) -> 0 | AE157: =IF(P157="안전관리비", L157, 0) -> 0 | AF157: =IF(P157="품질관리비", L157, 0) -> 0 | AG157: =IF(P157="작업부산물(철거해체)", L157, 0) -> 0 | AH157: =IF(P157="사용자항목6", L157, 0) -> 0 | AI157: =IF(P157="사용자항목7", L157, 0) -> 0 | AJ157: =IF(P157="관급자재대(도급자)", L157, 0) -> 0 | AK157: =IF(P157="관급자재대(관급자)", L157, 0) -> 0 | AL157: =IF(P157="사용자항목10", L157, 0) -> 0 | AM157: =IF(P157="폐기물처리비(일반)", L157, 0) -> 0 | AN157: =IF(P157="폐기물처리비(지정)", L157, 0) -> 0 | AO157: =IF(P157="사용자항목13", L157, 0) -> 0 | AP157: =IF(P157="사용자항목14", L157, 0) -> 0 | AQ157: =IF(P157="사용자항목15", L157, 0) -> 0 | AR157: =IF(P157="사용자항목16", L157, 0) -> 0 | AS157: =IF(P157="사용자항목17", L157, 0) -> 0 | AT157: =IF(P157="사용자항목18", L157, 0) -> 0 | AU157: =IF(P157="사용자항목19", L157, 0) -> 0 | AY157: 무성적산
A158: 유리주위 코킹 | B158: 복층유리 5×5,실리콘(양면) | C158: M | D158: 17 | F158: =ROUNDDOWN(D158*E158, 0) -> 0 | H158: =ROUNDDOWN(D158*G158, 0) -> 0 | J158: =ROUNDDOWN(D158*I158, 0) -> 0 | K158: =E158+G158+I158 -> 0 | L158: =F158+H158+J158 -> 0 | O158: ="" | P158: 기계경비 | Q158: 1 | R158: =IF(P158="기계경비", J158, 0) -> 0 | S158: =IF(P158="운반비", L158, 0) -> 0 | T158: =IF(P158="작업부산물", F158, 0) -> 0 | U158: =IF(P158="관급", F158, 0) -> 0 | V158: =IF(P158="외주비", J158, 0) -> 0 | W158: =IF(P158="장비비", J158, 0) -> 0 | X158: =IF(P158="폐기물처리비", L158, 0) -> 0 | Y158: =IF(P158="가설비", J158, 0) -> 0 | Z158: =IF(P158="잡비제외분", F158, 0) -> 0 | AA158: =IF(P158="사급자재대", L158, 0) -> 0 | AB158: =IF(P158="관급자재대", L158, 0) -> 0 | AC158: =IF(P158="사용자항목1", L158, 0) -> 0 | AD158: =IF(P158="사용자항목2", L158, 0) -> 0 | AE158: =IF(P158="안전관리비", L158, 0) -> 0 | AF158: =IF(P158="품질관리비", L158, 0) -> 0 | AG158: =IF(P158="작업부산물(철거해체)", L158, 0) -> 0 | AH158: =IF(P158="사용자항목6", L158, 0) -> 0 | AI158: =IF(P158="사용자항목7", L158, 0) -> 0 | AJ158: =IF(P158="관급자재대(도급자)", L158, 0) -> 0 | AK158: =IF(P158="관급자재대(관급자)", L158, 0) -> 0 | AL158: =IF(P158="사용자항목10", L158, 0) -> 0 | AM158: =IF(P158="폐기물처리비(일반)", L158, 0) -> 0 | AN158: =IF(P158="폐기물처리비(지정)", L158, 0) -> 0 | AO158: =IF(P158="사용자항목13", L158, 0) -> 0 | AP158: =IF(P158="사용자항목14", L158, 0) -> 0 | AQ158: =IF(P158="사용자항목15", L158, 0) -> 0 | AR158: =IF(P158="사용자항목16", L158, 0) -> 0 | AS158: =IF(P158="사용자항목17", L158, 0) -> 0 | AT158: =IF(P158="사용자항목18", L158, 0) -> 0 | AU158: =IF(P158="사용자항목19", L158, 0) -> 0 | AY158: 무성적산
A172: 합 계 | F172: =ROUNDDOWN(SUMIF(Q153:Q171, "1", F153:F171), 0) -> 0 | H172: =ROUNDDOWN(SUMIF(Q153:Q171, "1", H153:H171), 0) -> 0 | J172: =ROUNDDOWN(SUMIF(Q153:Q171, "1", J153:J171), 0) -> 0 | L172: =F172+H172+J172 -> 0 | R172: =ROUNDDOWN(SUM(R153:R158), 0) -> 0 | S172: =ROUNDDOWN(SUM(S153:S158), 0) -> 0 | T172: =ROUNDDOWN(SUM(T153:T158), 0) -> 0 | U172: =ROUNDDOWN(SUM(U153:U158), 0) -> 0 | V172: =ROUNDDOWN(SUM(V153:V158), 0) -> 0 | W172: =ROUNDDOWN(SUM(W153:W158), 0) -> 0 | X172: =ROUNDDOWN(SUM(X153:X158), 0) -> 0 | Y172: =ROUNDDOWN(SUM(Y153:Y158), 0) -> 0 | ... AY172: =ROUNDDOWN(SUM(AY153:AY158), 0) -> 0
A173: 0109. 도장공사
A174: 걸레받이용 페인트칠 | B174: 세라민페인트, 붓칠 2회, H:100, GB면 줄퍼티 | C174: M | D174: 13.1 | F174: =ROUNDDOWN(D174*E174, 0) -> 0 | H174: =ROUNDDOWN(D174*G174, 0) -> 0 | J174: =ROUNDDOWN(D174*I174, 0) -> 0 | K174: =E174+G174+I174 -> 0 | L174: =F174+H174+J174 -> 0 | O174: ="" | P174: 기계경비 | Q174: 1 | R174: =IF(P174="기계경비", J174, 0) -> 0 | S174: =IF(P174="운반비", L174, 0) -> 0 | T174: =IF(P174="작업부산물", F174, 0) -> 0 | U174: =IF(P174="관급", F174, 0) -> 0 | V174: =IF(P174="외주비", J174, 0) -> 0 | W174: =IF(P174="장비비", J174, 0) -> 0 | X174: =IF(P174="폐기물처리비", L174, 0) -> 0 | Y174: =IF(P174="가설비", J174, 0) -> 0 | Z174: =IF(P174="잡비제외분", F174, 0) -> 0 | AA174: =IF(P174="사급자재대", L174, 0) -> 0 | AB174: =IF(P174="관급자재대", L174, 0) -> 0 | AC174: =IF(P174="사용자항목1", L174, 0) -> 0 | AD174: =IF(P174="사용자항목2", L174, 0) -> 0 | AE174: =IF(P174="안전관리비", L174, 0) -> 0 | AF174: =IF(P174="품질관리비", L174, 0) -> 0 | AG174: =IF(P174="작업부산물(철거해체)", L174, 0) -> 0 | AH174: =IF(P174="사용자항목6", L174, 0) -> 0 | AI174: =IF(P174="사용자항목7", L174, 0) -> 0 | AJ174: =IF(P174="관급자재대(도급자)", L174, 0) -> 0 | AK174: =IF(P174="관급자재대(관급자)", L174, 0) -> 0 | AL174: =IF(P174="사용자항목10", L174, 0) -> 0 | AM174: =IF(P174="폐기물처리비(일반)", L174, 0) -> 0 | AN174: =IF(P174="폐기물처리비(지정)", L174, 0) -> 0 | AO174: =IF(P174="사용자항목13", L174, 0) -> 0 | AP174: =IF(P174="사용자항목14", L174, 0) -> 0 | AQ174: =IF(P174="사용자항목15", L174, 0) -> 0 | AR174: =IF(P174="사용자항목16", L174, 0) -> 0 | AS174: =IF(P174="사용자항목17", L174, 0) -> 0 | AT174: =IF(P174="사용자항목18", L174, 0) -> 0 | AU174: =IF(P174="사용자항목19", L174, 0) -> 0
A175: 세라민페인트칠 | B175: 내벽 2회, GB면 줄퍼티 | C175: M2 | D175: 36.6 | F175: =ROUNDDOWN(D175*E175, 0) -> 0 | H175: =ROUNDDOWN(D175*G175, 0) -> 0 | J175: =ROUNDDOWN(D175*I175, 0) -> 0 | K175: =E175+G175+I175 -> 0 | L175: =F175+H175+J175 -> 0 | O175: ="" | P175: 기계경비 | Q175: 1 | R175: =IF(P175="기계경비", J175, 0) -> 0 | S175: =IF(P175="운반비", L175, 0) -> 0 | T175: =IF(P175="작업부산물", F175, 0) -> 0 | U175: =IF(P175="관급", F175, 0) -> 0 | V175: =IF(P175="외주비", J175, 0) -> 0 | W175: =IF(P175="장비비", J175, 0) -> 0 | X175: =IF(P175="폐기물처리비", L175, 0) -> 0 | Y175: =IF(P175="가설비", J175, 0) -> 0 | Z175: =IF(P175="잡비제외분", F175, 0) -> 0 | AA175: =IF(P175="사급자재대", L175, 0) -> 0 | AB175: =IF(P175="관급자재대", L175, 0) -> 0 | AC175: =IF(P175="사용자항목1", L175, 0) -> 0 | AD175: =IF(P175="사용자항목2", L175, 0) -> 0 | AE175: =IF(P175="안전관리비", L175, 0) -> 0 | AF175: =IF(P175="품질관리비", L175, 0) -> 0 | AG175: =IF(P175="작업부산물(철거해체)", L175, 0) -> 0 | AH175: =IF(P175="사용자항목6", L175, 0) -> 0 | AI175: =IF(P175="사용자항목7", L175, 0) -> 0 | AJ175: =IF(P175="관급자재대(도급자)", L175, 0) -> 0 | AK175: =IF(P175="관급자재대(관급자)", L175, 0) -> 0 | AL175: =IF(P175="사용자항목10", L175, 0) -> 0 | AM175: =IF(P175="폐기물처리비(일반)", L175, 0) -> 0 | AN175: =IF(P175="폐기물처리비(지정)", L175, 0) -> 0 | AO175: =IF(P175="사용자항목13", L175, 0) -> 0 | AP175: =IF(P175="사용자항목14", L175, 0) -> 0 | AQ175: =IF(P175="사용자항목15", L175, 0) -> 0 | AR175: =IF(P175="사용자항목16", L175, 0) -> 0 | AS175: =IF(P175="사용자항목17", L175, 0) -> 0 | AT175: =IF(P175="사용자항목18", L175, 0) -> 0 | AU175: =IF(P175="사용자항목19", L175, 0) -> 0 | AY175: 무성적산
A176: 재도장 친환경수성페인트 롤러칠 | B176: 콘크리트·모르타르면, 내벽 2회 + 바탕처리 | C176: M2 | D176: 86.8 | F176: =ROUNDDOWN(D176*E176, 0) -> 0 | H176: =ROUNDDOWN(D176*G176, 0) -> 0 | J176: =ROUNDDOWN(D176*I176, 0) -> 0 | K176: =E176+G176+I176 -> 0 | L176: =F176+H176+J176 -> 0 | O176: ="" | P176: 기계경비 | Q176: 1 | R176: =IF(P176="기계경비", J176, 0) -> 0 | S176: =IF(P176="운반비", L176, 0) -> 0 | T176: =IF(P176="작업부산물", F176, 0) -> 0 | U176: =IF(P176="관급", F176, 0) -> 0 | V176: =IF(P176="외주비", J176, 0) -> 0 | W176: =IF(P176="장비비", J176, 0) -> 0 | X176: =IF(P176="폐기물처리비", L176, 0) -> 0 | Y176: =IF(P176="가설비", J176, 0) -> 0 | Z176: =IF(P176="잡비제외분", F176, 0) -> 0 | AA176: =IF(P176="사급자재대", L176, 0) -> 0 | AB176: =IF(P176="관급자재대", L176, 0) -> 0 | AC176: =IF(P176="사용자항목1", L176, 0) -> 0 | AD176: =IF(P176="사용자항목2", L176, 0) -> 0 | AE176: =IF(P176="안전관리비", L176, 0) -> 0 | AF176: =IF(P176="품질관리비", L176, 0) -> 0 | AG176: =IF(P176="작업부산물(철거해체)", L176, 0) -> 0 | AH176: =IF(P176="사용자항목6", L176, 0) -> 0 | AI176: =IF(P176="사용자항목7", L176, 0) -> 0 | AJ176: =IF(P176="관급자재대(도급자)", L176, 0) -> 0 | AK176: =IF(P176="관급자재대(관급자)", L176, 0) -> 0 | AL176: =IF(P176="사용자항목10", L176, 0) -> 0 | AM176: =IF(P176="폐기물처리비(일반)", L176, 0) -> 0 | AN176: =IF(P176="폐기물처리비(지정)", L176, 0) -> 0 | AO176: =IF(P176="사용자항목13", L176, 0) -> 0 | AP176: =IF(P176="사용자항목14", L176, 0) -> 0 | AQ176: =IF(P176="사용자항목15", L176, 0) -> 0 | AR176: =IF(P176="사용자항목16", L176, 0) -> 0 | AS176: =IF(P176="사용자항목17", L176, 0) -> 0 | AT176: =IF(P176="사용자항목18", L176, 0) -> 0 | AU176: =IF(P176="사용자항목19", L176, 0) -> 0
A177: 친환경수성페인트 롤러칠 | B177: 내벽 2회, 친환경, GB면 줄퍼티 | C177: M2 | D177: 89.7 | F177: =ROUNDDOWN(D177*E177, 0) -> 0 | H177: =ROUNDDOWN(D177*G177, 0) -> 0 | J177: =ROUNDDOWN(D177*I177, 0) -> 0 | K177: =E177+G177+I177 -> 0 | L177: =F177+H177+J177 -> 0 | O177: ="" | P177: 기계경비 | Q177: 1 | R177: =IF(P177="기계경비", J177, 0) -> 0 | S177: =IF(P177="운반비", L177, 0) -> 0 | T177: =IF(P177="작업부산물", F177, 0) -> 0 | U177: =IF(P177="관급", F177, 0) -> 0 | V177: =IF(P177="외주비", J177, 0) -> 0 | W177: =IF(P177="장비비", J177, 0) -> 0 | X177: =IF(P177="폐기물처리비", L177, 0) -> 0 | Y177: =IF(P177="가설비", J177, 0) -> 0 | Z177: =IF(P177="잡비제외분", F177, 0) -> 0 | AA177: =IF(P177="사급자재대", L177, 0) -> 0 | AB177: =IF(P177="관급자재대", L177, 0) -> 0 | AC177: =IF(P177="사용자항목1", L177, 0) -> 0 | AD177: =IF(P177="사용자항목2", L177, 0) -> 0 | AE177: =IF(P177="안전관리비", L177, 0) -> 0 | AF177: =IF(P177="품질관리비", L177, 0) -> 0 | AG177: =IF(P177="작업부산물(철거해체)", L177, 0) -> 0 | AH177: =IF(P177="사용자항목6", L177, 0) -> 0 | AI177: =IF(P177="사용자항목7", L177, 0) -> 0 | AJ177: =IF(P177="관급자재대(도급자)", L177, 0) -> 0 | AK177: =IF(P177="관급자재대(관급자)", L177, 0) -> 0 | AL177: =IF(P177="사용자항목10", L177, 0) -> 0 | AM177: =IF(P177="폐기물처리비(일반)", L177, 0) -> 0 | AN177: =IF(P177="폐기물처리비(지정)", L177, 0) -> 0 | AO177: =IF(P177="사용자항목13", L177, 0) -> 0 | AP177: =IF(P177="사용자항목14", L177, 0) -> 0 | AQ177: =IF(P177="사용자항목15", L177, 0) -> 0 | AR177: =IF(P177="사용자항목16", L177, 0) -> 0 | AS177: =IF(P177="사용자항목17", L177, 0) -> 0 | AT177: =IF(P177="사용자항목18", L177, 0) -> 0 | AU177: =IF(P177="사용자항목19", L177, 0) -> 0
A193: 합 계 | F193: =ROUNDDOWN(SUMIF(Q174:Q192, "1", F174:F192), 0) -> 0 | H193: =ROUNDDOWN(SUMIF(Q174:Q192, "1", H174:H192), 0) -> 0 | J193: =ROUNDDOWN(SUMIF(Q174:Q192, "1", J174:J192), 0) -> 0 | L193: =F193+H193+J193 -> 0 | R193: =ROUNDDOWN(SUM(R174:R177), 0) -> 0 | S193: =ROUNDDOWN(SUM(S174:S177), 0) -> 0 | T193: =ROUNDDOWN(SUM(T174:T177), 0) -> 0 | U193: =ROUNDDOWN(SUM(U174:U177), 0) -> 0 | V193: =ROUNDDOWN(SUM(V174:V177), 0) -> 0 | W193: =ROUNDDOWN(SUM(W174:W177), 0) -> 0 | X193: =ROUNDDOWN(SUM(X174:X177), 0) -> 0 | Y193: =ROUNDDOWN(SUM(Y174:Y177), 0) -> 0 | ... AY193: =ROUNDDOWN(SUM(AY174:AY177), 0) -> 0
A194: 0110. 수장공사
A195: 비닐타일 깔기 | B195: 데코타일, 3×450×450mm, | C195: M2 | D195: 283.3 | F195: =ROUNDDOWN(D195*E195, 0) -> 0 | H195: =ROUNDDOWN(D195*G195, 0) -> 0 | J195: =ROUNDDOWN(D195*I195, 0) -> 0 | K195: =E195+G195+I195 -> 0 | L195: =F195+H195+J195 -> 0 | O195: ="" | P195: 기계경비 | Q195: 1 | R195: =IF(P195="기계경비", J195, 0) -> 0 | S195: =IF(P195="운반비", L195, 0) -> 0 | T195: =IF(P195="작업부산물", F195, 0) -> 0 | U195: =IF(P195="관급", F195, 0) -> 0 | V195: =IF(P195="외주비", J195, 0) -> 0 | W195: =IF(P195="장비비", J195, 0) -> 0 | X195: =IF(P195="폐기물처리비", L195, 0) -> 0 | Y195: =IF(P195="가설비", J195, 0) -> 0 | Z195: =IF(P195="잡비제외분", F195, 0) -> 0 | AA195: =IF(P195="사급자재대", L195, 0) -> 0 | AB195: =IF(P195="관급자재대", L195, 0) -> 0 | AC195: =IF(P195="사용자항목1", L195, 0) -> 0 | AD195: =IF(P195="사용자항목2", L195, 0) -> 0 | AE195: =IF(P195="안전관리비", L195, 0) -> 0 | AF195: =IF(P195="품질관리비", L195, 0) -> 0 | AG195: =IF(P195="작업부산물(철거해체)", L195, 0) -> 0 | AH195: =IF(P195="사용자항목6", L195, 0) -> 0 | AI195: =IF(P195="사용자항목7", L195, 0) -> 0 | AJ195: =IF(P195="관급자재대(도급자)", L195, 0) -> 0 | AK195: =IF(P195="관급자재대(관급자)", L195, 0) -> 0 | AL195: =IF(P195="사용자항목10", L195, 0) -> 0 | AM195: =IF(P195="폐기물처리비(일반)", L195, 0) -> 0 | AN195: =IF(P195="폐기물처리비(지정)", L195, 0) -> 0 | AO195: =IF(P195="사용자항목13", L195, 0) -> 0 | AP195: =IF(P195="사용자항목14", L195, 0) -> 0 | AQ195: =IF(P195="사용자항목15", L195, 0) -> 0 | AR195: =IF(P195="사용자항목16", L195, 0) -> 0 | AS195: =IF(P195="사용자항목17", L195, 0) -> 0 | AT195: =IF(P195="사용자항목18", L195, 0) -> 0 | AU195: =IF(P195="사용자항목19", L195, 0) -> 0
A196: 친환경텍스 붙임 | B196: 6.0mm×300×600,텍스포함 | C196: M2 | D196: 28.3 | F196: =ROUNDDOWN(D196*E196, 0) -> 0 | H196: =ROUNDDOWN(D196*G196, 0) -> 0 | J196: =ROUNDDOWN(D196*I196, 0) -> 0 | K196: =E196+G196+I196 -> 0 | L196: =F196+H196+J196 -> 0 | O196: ="" | P196: 기계경비 | Q196: 1 | R196: =IF(P196="기계경비", J196, 0) -> 0 | S196: =IF(P196="운반비", L196, 0) -> 0 | T196: =IF(P196="작업부산물", F196, 0) -> 0 | U196: =IF(P196="관급", F196, 0) -> 0 | V196: =IF(P196="외주비", J196, 0) -> 0 | W196: =IF(P196="장비비", J196, 0) -> 0 | X196: =IF(P196="폐기물처리비", L196, 0) -> 0 | Y196: =IF(P196="가설비", J196, 0) -> 0 | Z196: =IF(P196="잡비제외분", F196, 0) -> 0 | AA196: =IF(P196="사급자재대", L196, 0) -> 0 | AB196: =IF(P196="관급자재대", L196, 0) -> 0 | AC196: =IF(P196="사용자항목1", L196, 0) -> 0 | AD196: =IF(P196="사용자항목2", L196, 0) -> 0 | AE196: =IF(P196="안전관리비", L196, 0) -> 0 | AF196: =IF(P196="품질관리비", L196, 0) -> 0 | AG196: =IF(P196="작업부산물(철거해체)", L196, 0) -> 0 | AH196: =IF(P196="사용자항목6", L196, 0) -> 0 | AI196: =IF(P196="사용자항목7", L196, 0) -> 0 | AJ196: =IF(P196="관급자재대(도급자)", L196, 0) -> 0 | AK196: =IF(P196="관급자재대(관급자)", L196, 0) -> 0 | AL196: =IF(P196="사용자항목10", L196, 0) -> 0 | AM196: =IF(P196="폐기물처리비(일반)", L196, 0) -> 0 | AN196: =IF(P196="폐기물처리비(지정)", L196, 0) -> 0 | AO196: =IF(P196="사용자항목13", L196, 0) -> 0 | AP196: =IF(P196="사용자항목14", L196, 0) -> 0 | AQ196: =IF(P196="사용자항목15", L196, 0) -> 0 | AR196: =IF(P196="사용자항목16", L196, 0) -> 0 | AS196: =IF(P196="사용자항목17", L196, 0) -> 0 | AT196: =IF(P196="사용자항목18", L196, 0) -> 0 | AU196: =IF(P196="사용자항목19", L196, 0) -> 0 | AY196: 무성적산
A197: 백페인트글라스보드 | B197: 6,000 ×3,000 (프로젝트 겸용) | C197: 개소 | D197: 1 | F197: =ROUNDDOWN(D197*E197, 0) -> 0 | H197: =ROUNDDOWN(D197*G197, 0) -> 0 | J197: =ROUNDDOWN(D197*I197, 0) -> 0 | K197: =E197+G197+I197 -> 0 | L197: =F197+H197+J197 -> 0 | O197: ="" | P197: 기계경비 | Q197: 1 | R197: =IF(P197="기계경비", J197, 0) -> 0 | S197: =IF(P197="운반비", L197, 0) -> 0 | T197: =IF(P197="작업부산물", F197, 0) -> 0 | U197: =IF(P197="관급", F197, 0) -> 0 | V197: =IF(P197="외주비", J197, 0) -> 0 | W197: =IF(P197="장비비", J197, 0) -> 0 | X197: =IF(P197="폐기물처리비", L197, 0) -> 0 | Y197: =IF(P197="가설비", J197, 0) -> 0 | Z197: =IF(P197="잡비제외분", F197, 0) -> 0 | AA197: =IF(P197="사급자재대", L197, 0) -> 0 | AB197: =IF(P197="관급자재대", L197, 0) -> 0 | AC197: =IF(P197="사용자항목1", L197, 0) -> 0 | AD197: =IF(P197="사용자항목2", L197, 0) -> 0 | AE197: =IF(P197="안전관리비", L197, 0) -> 0 | AF197: =IF(P197="품질관리비", L197, 0) -> 0 | AG197: =IF(P197="작업부산물(철거해체)", L197, 0) -> 0 | AH197: =IF(P197="사용자항목6", L197, 0) -> 0 | AI197: =IF(P197="사용자항목7", L197, 0) -> 0 | AJ197: =IF(P197="관급자재대(도급자)", L197, 0) -> 0 | AK197: =IF(P197="관급자재대(관급자)", L197, 0) -> 0 | AL197: =IF(P197="사용자항목10", L197, 0) -> 0 | AM197: =IF(P197="폐기물처리비(일반)", L197, 0) -> 0 | AN197: =IF(P197="폐기물처리비(지정)", L197, 0) -> 0 | AO197: =IF(P197="사용자항목13", L197, 0) -> 0 | AP197: =IF(P197="사용자항목14", L197, 0) -> 0 | AQ197: =IF(P197="사용자항목15", L197, 0) -> 0 | AR197: =IF(P197="사용자항목16", L197, 0) -> 0 | AS197: =IF(P197="사용자항목17", L197, 0) -> 0 | AT197: =IF(P197="사용자항목18", L197, 0) -> 0 | AU197: =IF(P197="사용자항목19", L197, 0) -> 0
A198: 창호주위 발포우레탄 충전 | B198: 바탕정리, 발포우레탄 충전, 마무리작업 | C198: M | D198: 50.8 | F198: =ROUNDDOWN(D198*E198, 0) -> 0 | H198: =ROUNDDOWN(D198*G198, 0) -> 0 | J198: =ROUNDDOWN(D198*I198, 0) -> 0 | K198: =E198+G198+I198 -> 0 | L198: =F198+H198+J198 -> 0 | O198: ="" | P198: 기계경비 | Q198: 1 | R198: =IF(P198="기계경비", J198, 0) -> 0 | S198: =IF(P198="운반비", L198, 0) -> 0 | T198: =IF(P198="작업부산물", F198, 0) -> 0 | U198: =IF(P198="관급", F198, 0) -> 0 | V198: =IF(P198="외주비", J198, 0) -> 0 | W198: =IF(P198="장비비", J198, 0) -> 0 | X198: =IF(P198="폐기물처리비", L198, 0) -> 0 | Y198: =IF(P198="가설비", J198, 0) -> 0 | Z198: =IF(P198="잡비제외분", F198, 0) -> 0 | AA198: =IF(P198="사급자재대", L198, 0) -> 0 | AB198: =IF(P198="관급자재대", L198, 0) -> 0 | AC198: =IF(P198="사용자항목1", L198, 0) -> 0 | AD198: =IF(P198="사용자항목2", L198, 0) -> 0 | AE198: =IF(P198="안전관리비", L198, 0) -> 0 | AF198: =IF(P198="품질관리비", L198, 0) -> 0 | AG198: =IF(P198="작업부산물(철거해체)", L198, 0) -> 0 | AH198: =IF(P198="사용자항목6", L198, 0) -> 0 | AI198: =IF(P198="사용자항목7", L198, 0) -> 0 | AJ198: =IF(P198="관급자재대(도급자)", L198, 0) -> 0 | AK198: =IF(P198="관급자재대(관급자)", L198, 0) -> 0 | AL198: =IF(P198="사용자항목10", L198, 0) -> 0 | AM198: =IF(P198="폐기물처리비(일반)", L198, 0) -> 0 | AN198: =IF(P198="폐기물처리비(지정)", L198, 0) -> 0 | AO198: =IF(P198="사용자항목13", L198, 0) -> 0 | AP198: =IF(P198="사용자항목14", L198, 0) -> 0 | AQ198: =IF(P198="사용자항목15", L198, 0) -> 0 | AR198: =IF(P198="사용자항목16", L198, 0) -> 0 | AS198: =IF(P198="사용자항목17", L198, 0) -> 0 | AT198: =IF(P198="사용자항목18", L198, 0) -> 0 | AU198: =IF(P198="사용자항목19", L198, 0) -> 0 | AY198: 무성적산
A199: 경량칸막이 설치 (C-STUD 90×45×0.8T,W=150) | B199: 방화 15.0t 2겹 양면+유리면 50mm (DW 1) | C199: M2 | D199: 72.5 | F199: =ROUNDDOWN(D199*E199, 0) -> 0 | H199: =ROUNDDOWN(D199*G199, 0) -> 0 | J199: =ROUNDDOWN(D199*I199, 0) -> 0 | K199: =E199+G199+I199 -> 0 | L199: =F199+H199+J199 -> 0 | O199: ="" | P199: 기계경비 | Q199: 1 | R199: =IF(P199="기계경비", J199, 0) -> 0 | S199: =IF(P199="운반비", L199, 0) -> 0 | T199: =IF(P199="작업부산물", F199, 0) -> 0 | U199: =IF(P199="관급", F199, 0) -> 0 | V199: =IF(P199="외주비", J199, 0) -> 0 | W199: =IF(P199="장비비", J199, 0) -> 0 | X199: =IF(P199="폐기물처리비", L199, 0) -> 0 | Y199: =IF(P199="가설비", J199, 0) -> 0 | Z199: =IF(P199="잡비제외분", F199, 0) -> 0 | AA199: =IF(P199="사급자재대", L199, 0) -> 0 | AB199: =IF(P199="관급자재대", L199, 0) -> 0 | AC199: =IF(P199="사용자항목1", L199, 0) -> 0 | AD199: =IF(P199="사용자항목2", L199, 0) -> 0 | AE199: =IF(P199="안전관리비", L199, 0) -> 0 | AF199: =IF(P199="품질관리비", L199, 0) -> 0 | AG199: =IF(P199="작업부산물(철거해체)", L199, 0) -> 0 | AH199: =IF(P199="사용자항목6", L199, 0) -> 0 | AI199: =IF(P199="사용자항목7", L199, 0) -> 0 | AJ199: =IF(P199="관급자재대(도급자)", L199, 0) -> 0 | AK199: =IF(P199="관급자재대(관급자)", L199, 0) -> 0 | AL199: =IF(P199="사용자항목10", L199, 0) -> 0 | AM199: =IF(P199="폐기물처리비(일반)", L199, 0) -> 0 | AN199: =IF(P199="폐기물처리비(지정)", L199, 0) -> 0 | AO199: =IF(P199="사용자항목13", L199, 0) -> 0 | AP199: =IF(P199="사용자항목14", L199, 0) -> 0 | AQ199: =IF(P199="사용자항목15", L199, 0) -> 0 | AR199: =IF(P199="사용자항목16", L199, 0) -> 0 | AS199: =IF(P199="사용자항목17", L199, 0) -> 0 | AT199: =IF(P199="사용자항목18", L199, 0) -> 0 | AU199: =IF(P199="사용자항목19", L199, 0) -> 0 | AY199: 무성적산
A214: 합 계 | F214: =ROUNDDOWN(SUMIF(Q195:Q213, "1", F195:F213), 0) -> 0 | H214: =ROUNDDOWN(SUMIF(Q195:Q213, "1", H195:H213), 0) -> 0 | J214: =ROUNDDOWN(SUMIF(Q195:Q213, "1", J195:J213), 0) -> 0 | L214: =F214+H214+J214 -> 0 | R214: =ROUNDDOWN(SUM(R195:R199), 0) -> 0 | S214: =ROUNDDOWN(SUM(S195:S199), 0) -> 0 | T214: =ROUNDDOWN(SUM(T195:T199), 0) -> 0 | U214: =ROUNDDOWN(SUM(U195:U199), 0) -> 0 | V214: =ROUNDDOWN(SUM(V195:V199), 0) -> 0 | W214: =ROUNDDOWN(SUM(W195:W199), 0) -> 0 | X214: =ROUNDDOWN(SUM(X195:X199), 0) -> 0 | Y214: =ROUNDDOWN(SUM(Y195:Y199), 0) -> 0 | ... AY214: =ROUNDDOWN(SUM(AY195:AY199), 0) -> 0
A215: 0111. 기타공사
A216: 세면기 | B216: 세면기, 인조대리석, L1200 | C216: 개 | D216: 1 | F216: =ROUNDDOWN(D216*E216, 0) -> 0 | H216: =ROUNDDOWN(D216*G216, 0) -> 0 | J216: =ROUNDDOWN(D216*I216, 0) -> 0 | K216: =E216+G216+I216 -> 0 | L216: =F216+H216+J216 -> 0 | O216: ="01" -> 01 | P216: 기계경비 | Q216: 1 | R216: =IF(P216="기계경비", J216, 0) -> 0 | S216: =IF(P216="운반비", L216, 0) -> 0 | T216: =IF(P216="작업부산물", F216, 0) -> 0 | U216: =IF(P216="관급", F216, 0) -> 0 | V216: =IF(P216="외주비", J216, 0) -> 0 | W216: =IF(P216="장비비", J216, 0) -> 0 | X216: =IF(P216="폐기물처리비", L216, 0) -> 0 | Y216: =IF(P216="가설비", J216, 0) -> 0 | Z216: =IF(P216="잡비제외분", F216, 0) -> 0 | AA216: =IF(P216="사급자재대", L216, 0) -> 0 | AB216: =IF(P216="관급자재대", L216, 0) -> 0 | AC216: =IF(P216="사용자항목1", L216, 0) -> 0 | AD216: =IF(P216="사용자항목2", L216, 0) -> 0 | AE216: =IF(P216="안전관리비", L216, 0) -> 0 | AF216: =IF(P216="품질관리비", L216, 0) -> 0 | AG216: =IF(P216="작업부산물(철거해체)", L216, 0) -> 0 | AH216: =IF(P216="사용자항목6", L216, 0) -> 0 | AI216: =IF(P216="사용자항목7", L216, 0) -> 0 | AJ216: =IF(P216="관급자재대(도급자)", L216, 0) -> 0 | AK216: =IF(P216="관급자재대(관급자)", L216, 0) -> 0 | AL216: =IF(P216="사용자항목10", L216, 0) -> 0 | AM216: =IF(P216="폐기물처리비(일반)", L216, 0) -> 0 | AN216: =IF(P216="폐기물처리비(지정)", L216, 0) -> 0 | AO216: =IF(P216="사용자항목13", L216, 0) -> 0 | AP216: =IF(P216="사용자항목14", L216, 0) -> 0 | AQ216: =IF(P216="사용자항목15", L216, 0) -> 0 | AR216: =IF(P216="사용자항목16", L216, 0) -> 0 | AS216: =IF(P216="사용자항목17", L216, 0) -> 0 | AT216: =IF(P216="사용자항목18", L216, 0) -> 0 | AU216: =IF(P216="사용자항목19", L216, 0) -> 0 | AY216: 무성적산
A217: 싱크대 설치 | C217: set | D217: 1 | F217: =ROUNDDOWN(D217*E217, 0) -> 0 | H217: =ROUNDDOWN(D217*G217, 0) -> 0 | J217: =ROUNDDOWN(D217*I217, 0) -> 0 | K217: =E217+G217+I217 -> 0 | L217: =F217+H217+J217 -> 0 | O217: ="" | P217: 기계경비 | Q217: 1 | R217: =IF(P217="기계경비", J217, 0) -> 0 | S217: =IF(P217="운반비", L217, 0) -> 0 | T217: =IF(P217="작업부산물", F217, 0) -> 0 | U217: =IF(P217="관급", F217, 0) -> 0 | V217: =IF(P217="외주비", J217, 0) -> 0 | W217: =IF(P217="장비비", J217, 0) -> 0 | X217: =IF(P217="폐기물처리비", L217, 0) -> 0 | Y217: =IF(P217="가설비", J217, 0) -> 0 | Z217: =IF(P217="잡비제외분", F217, 0) -> 0 | AA217: =IF(P217="사급자재대", L217, 0) -> 0 | AB217: =IF(P217="관급자재대", L217, 0) -> 0 | AC217: =IF(P217="사용자항목1", L217, 0) -> 0 | AD217: =IF(P217="사용자항목2", L217, 0) -> 0 | AE217: =IF(P217="안전관리비", L217, 0) -> 0 | AF217: =IF(P217="품질관리비", L217, 0) -> 0 | AG217: =IF(P217="작업부산물(철거해체)", L217, 0) -> 0 | AH217: =IF(P217="사용자항목6", L217, 0) -> 0 | AI217: =IF(P217="사용자항목7", L217, 0) -> 0 | AJ217: =IF(P217="관급자재대(도급자)", L217, 0) -> 0 | AK217: =IF(P217="관급자재대(관급자)", L217, 0) -> 0 | AL217: =IF(P217="사용자항목10", L217, 0) -> 0 | AM217: =IF(P217="폐기물처리비(일반)", L217, 0) -> 0 | AN217: =IF(P217="폐기물처리비(지정)", L217, 0) -> 0 | AO217: =IF(P217="사용자항목13", L217, 0) -> 0 | AP217: =IF(P217="사용자항목14", L217, 0) -> 0 | AQ217: =IF(P217="사용자항목15", L217, 0) -> 0 | AR217: =IF(P217="사용자항목16", L217, 0) -> 0 | AS217: =IF(P217="사용자항목17", L217, 0) -> 0 | AT217: =IF(P217="사용자항목18", L217, 0) -> 0 | AU217: =IF(P217="사용자항목19", L217, 0) -> 0
A235: 합 계 | F235: =ROUNDDOWN(SUMIF(Q216:Q234, "1", F216:F234), 0) -> 0 | H235: =ROUNDDOWN(SUMIF(Q216:Q234, "1", H216:H234), 0) -> 0 | J235: =ROUNDDOWN(SUMIF(Q216:Q234, "1", J216:J234), 0) -> 0 | L235: =F235+H235+J235 -> 0 | R235: =ROUNDDOWN(SUM(R216:R217), 0) -> 0 | S235: =ROUNDDOWN(SUM(S216:S217), 0) -> 0 | T235: =ROUNDDOWN(SUM(T216:T217), 0) -> 0 | U235: =ROUNDDOWN(SUM(U216:U217), 0) -> 0 | V235: =ROUNDDOWN(SUM(V216:V217), 0) -> 0 | W235: =ROUNDDOWN(SUM(W216:W217), 0) -> 0 | X235: =ROUNDDOWN(SUM(X216:X217), 0) -> 0 | Y235: =ROUNDDOWN(SUM(Y216:Y217), 0) -> 0 | ... AY235: =ROUNDDOWN(SUM(AY216:AY217), 0) -> 0
A236: 0112. 철거공사
A237: SAW CUT | B237: 콘크리트 | C237: M | D237: 6.3 | F237: =ROUNDDOWN(D237*E237, 0) -> 0 | H237: =ROUNDDOWN(D237*G237, 0) -> 0 | J237: =ROUNDDOWN(D237*I237, 0) -> 0 | K237: =E237+G237+I237 -> 0 | L237: =F237+H237+J237 -> 0 | O237: ="" | P237: 기계경비 | Q237: 1 | R237: =IF(P237="기계경비", J237, 0) -> 0 | S237: =IF(P237="운반비", L237, 0) -> 0 | T237: =IF(P237="작업부산물", F237, 0) -> 0 | U237: =IF(P237="관급", F237, 0) -> 0 | V237: =IF(P237="외주비", J237, 0) -> 0 | W237: =IF(P237="장비비", J237, 0) -> 0 | X237: =IF(P237="폐기물처리비", L237, 0) -> 0 | Y237: =IF(P237="가설비", J237, 0) -> 0 | Z237: =IF(P237="잡비제외분", F237, 0) -> 0 | AA237: =IF(P237="사급자재대", L237, 0) -> 0 | AB237: =IF(P237="관급자재대", L237, 0) -> 0 | AC237: =IF(P237="사용자항목1", L237, 0) -> 0 | AD237: =IF(P237="사용자항목2", L237, 0) -> 0 | AE237: =IF(P237="안전관리비", L237, 0) -> 0 | AF237: =IF(P237="품질관리비", L237, 0) -> 0 | AG237: =IF(P237="작업부산물(철거해체)", L237, 0) -> 0 | AH237: =IF(P237="사용자항목6", L237, 0) -> 0 | AI237: =IF(P237="사용자항목7", L237, 0) -> 0 | AJ237: =IF(P237="관급자재대(도급자)", L237, 0) -> 0 | AK237: =IF(P237="관급자재대(관급자)", L237, 0) -> 0 | AL237: =IF(P237="사용자항목10", L237, 0) -> 0 | AM237: =IF(P237="폐기물처리비(일반)", L237, 0) -> 0 | AN237: =IF(P237="폐기물처리비(지정)", L237, 0) -> 0 | AO237: =IF(P237="사용자항목13", L237, 0) -> 0 | AP237: =IF(P237="사용자항목14", L237, 0) -> 0 | AQ237: =IF(P237="사용자항목15", L237, 0) -> 0 | AR237: =IF(P237="사용자항목16", L237, 0) -> 0 | AS237: =IF(P237="사용자항목17", L237, 0) -> 0 | AT237: =IF(P237="사용자항목18", L237, 0) -> 0 | AU237: =IF(P237="사용자항목19", L237, 0) -> 0
A238: 벽돌및블럭벽 철거 | B238: 소형브레이커(공압식) | C238: M3 | D238: 0.4 | F238: =ROUNDDOWN(D238*E238, 0) -> 0 | H238: =ROUNDDOWN(D238*G238, 0) -> 0 | J238: =ROUNDDOWN(D238*I238, 0) -> 0 | K238: =E238+G238+I238 -> 0 | L238: =F238+H238+J238 -> 0 | O238: ="" | P238: 기계경비 | Q238: 1 | R238: =IF(P238="기계경비", J238, 0) -> 0 | S238: =IF(P238="운반비", L238, 0) -> 0 | T238: =IF(P238="작업부산물", F238, 0) -> 0 | U238: =IF(P238="관급", F238, 0) -> 0 | V238: =IF(P238="외주비", J238, 0) -> 0 | W238: =IF(P238="장비비", J238, 0) -> 0 | X238: =IF(P238="폐기물처리비", L238, 0) -> 0 | Y238: =IF(P238="가설비", J238, 0) -> 0 | Z238: =IF(P238="잡비제외분", F238, 0) -> 0 | AA238: =IF(P238="사급자재대", L238, 0) -> 0 | AB238: =IF(P238="관급자재대", L238, 0) -> 0 | AC238: =IF(P238="사용자항목1", L238, 0) -> 0 | AD238: =IF(P238="사용자항목2", L238, 0) -> 0 | AE238: =IF(P238="안전관리비", L238, 0) -> 0 | AF238: =IF(P238="품질관리비", L238, 0) -> 0 | AG238: =IF(P238="작업부산물(철거해체)", L238, 0) -> 0 | AH238: =IF(P238="사용자항목6", L238, 0) -> 0 | AI238: =IF(P238="사용자항목7", L238, 0) -> 0 | AJ238: =IF(P238="관급자재대(도급자)", L238, 0) -> 0 | AK238: =IF(P238="관급자재대(관급자)", L238, 0) -> 0 | AL238: =IF(P238="사용자항목10", L238, 0) -> 0 | AM238: =IF(P238="폐기물처리비(일반)", L238, 0) -> 0 | AN238: =IF(P238="폐기물처리비(지정)", L238, 0) -> 0 | AO238: =IF(P238="사용자항목13", L238, 0) -> 0 | AP238: =IF(P238="사용자항목14", L238, 0) -> 0 | AQ238: =IF(P238="사용자항목15", L238, 0) -> 0 | AR238: =IF(P238="사용자항목16", L238, 0) -> 0 | AS238: =IF(P238="사용자항목17", L238, 0) -> 0 | AT238: =IF(P238="사용자항목18", L238, 0) -> 0 | AU238: =IF(P238="사용자항목19", L238, 0) -> 0 | AY238: 무성적산
A239: 바닥 철거 | B239: 화강석 철거 | C239: M2 | D239: 0.7 | F239: =ROUNDDOWN(D239*E239, 0) -> 0 | H239: =ROUNDDOWN(D239*G239, 0) -> 0 | J239: =ROUNDDOWN(D239*I239, 0) -> 0 | K239: =E239+G239+I239 -> 0 | L239: =F239+H239+J239 -> 0 | O239: ="" | P239: 기계경비 | Q239: 1 | R239: =IF(P239="기계경비", J239, 0) -> 0 | S239: =IF(P239="운반비", L239, 0) -> 0 | T239: =IF(P239="작업부산물", F239, 0) -> 0 | U239: =IF(P239="관급", F239, 0) -> 0 | V239: =IF(P239="외주비", J239, 0) -> 0 | W239: =IF(P239="장비비", J239, 0) -> 0 | X239: =IF(P239="폐기물처리비", L239, 0) -> 0 | Y239: =IF(P239="가설비", J239, 0) -> 0 | Z239: =IF(P239="잡비제외분", F239, 0) -> 0 | AA239: =IF(P239="사급자재대", L239, 0) -> 0 | AB239: =IF(P239="관급자재대", L239, 0) -> 0 | AC239: =IF(P239="사용자항목1", L239, 0) -> 0 | AD239: =IF(P239="사용자항목2", L239, 0) -> 0 | AE239: =IF(P239="안전관리비", L239, 0) -> 0 | AF239: =IF(P239="품질관리비", L239, 0) -> 0 | AG239: =IF(P239="작업부산물(철거해체)", L239, 0) -> 0 | AH239: =IF(P239="사용자항목6", L239, 0) -> 0 | AI239: =IF(P239="사용자항목7", L239, 0) -> 0 | AJ239: =IF(P239="관급자재대(도급자)", L239, 0) -> 0 | AK239: =IF(P239="관급자재대(관급자)", L239, 0) -> 0 | AL239: =IF(P239="사용자항목10", L239, 0) -> 0 | AM239: =IF(P239="폐기물처리비(일반)", L239, 0) -> 0 | AN239: =IF(P239="폐기물처리비(지정)", L239, 0) -> 0 | AO239: =IF(P239="사용자항목13", L239, 0) -> 0 | AP239: =IF(P239="사용자항목14", L239, 0) -> 0 | AQ239: =IF(P239="사용자항목15", L239, 0) -> 0 | AR239: =IF(P239="사용자항목16", L239, 0) -> 0 | AS239: =IF(P239="사용자항목17", L239, 0) -> 0 | AT239: =IF(P239="사용자항목18", L239, 0) -> 0 | AU239: =IF(P239="사용자항목19", L239, 0) -> 0 | AY239: 무성적산
A240: 바닥 철거 | B240: 비닐타일 | C240: M2 | D240: 287.4 | F240: =ROUNDDOWN(D240*E240, 0) -> 0 | H240: =ROUNDDOWN(D240*G240, 0) -> 0 | J240: =ROUNDDOWN(D240*I240, 0) -> 0 | K240: =E240+G240+I240 -> 0 | L240: =F240+H240+J240 -> 0 | O240: ="" | P240: 기계경비 | Q240: 1 | R240: =IF(P240="기계경비", J240, 0) -> 0 | S240: =IF(P240="운반비", L240, 0) -> 0 | T240: =IF(P240="작업부산물", F240, 0) -> 0 | U240: =IF(P240="관급", F240, 0) -> 0 | V240: =IF(P240="외주비", J240, 0) -> 0 | W240: =IF(P240="장비비", J240, 0) -> 0 | X240: =IF(P240="폐기물처리비", L240, 0) -> 0 | Y240: =IF(P240="가설비", J240, 0) -> 0 | Z240: =IF(P240="잡비제외분", F240, 0) -> 0 | AA240: =IF(P240="사급자재대", L240, 0) -> 0 | AB240: =IF(P240="관급자재대", L240, 0) -> 0 | AC240: =IF(P240="사용자항목1", L240, 0) -> 0 | AD240: =IF(P240="사용자항목2", L240, 0) -> 0 | AE240: =IF(P240="안전관리비", L240, 0) -> 0 | AF240: =IF(P240="품질관리비", L240, 0) -> 0 | AG240: =IF(P240="작업부산물(철거해체)", L240, 0) -> 0 | AH240: =IF(P240="사용자항목6", L240, 0) -> 0 | AI240: =IF(P240="사용자항목7", L240, 0) -> 0 | AJ240: =IF(P240="관급자재대(도급자)", L240, 0) -> 0 | AK240: =IF(P240="관급자재대(관급자)", L240, 0) -> 0 | AL240: =IF(P240="사용자항목10", L240, 0) -> 0 | AM240: =IF(P240="폐기물처리비(일반)", L240, 0) -> 0 | AN240: =IF(P240="폐기물처리비(지정)", L240, 0) -> 0 | AO240: =IF(P240="사용자항목13", L240, 0) -> 0 | AP240: =IF(P240="사용자항목14", L240, 0) -> 0 | AQ240: =IF(P240="사용자항목15", L240, 0) -> 0 | AR240: =IF(P240="사용자항목16", L240, 0) -> 0 | AS240: =IF(P240="사용자항목17", L240, 0) -> 0 | AT240: =IF(P240="사용자항목18", L240, 0) -> 0 | AU240: =IF(P240="사용자항목19", L240, 0) -> 0 | AY240: 무성적산
A241: 벽 철거(AL 시트,강판류) | B241: 해체재 재사용 안 함 | C241: M2 | D241: 1.8 | F241: =ROUNDDOWN(D241*E241, 0) -> 0 | H241: =ROUNDDOWN(D241*G241, 0) -> 0 | J241: =ROUNDDOWN(D241*I241, 0) -> 0 | K241: =E241+G241+I241 -> 0 | L241: =F241+H241+J241 -> 0 | O241: ="" | P241: 기계경비 | Q241: 1 | R241: =IF(P241="기계경비", J241, 0) -> 0 | S241: =IF(P241="운반비", L241, 0) -> 0 | T241: =IF(P241="작업부산물", F241, 0) -> 0 | U241: =IF(P241="관급", F241, 0) -> 0 | V241: =IF(P241="외주비", J241, 0) -> 0 | W241: =IF(P241="장비비", J241, 0) -> 0 | X241: =IF(P241="폐기물처리비", L241, 0) -> 0 | Y241: =IF(P241="가설비", J241, 0) -> 0 | Z241: =IF(P241="잡비제외분", F241, 0) -> 0 | AA241: =IF(P241="사급자재대", L241, 0) -> 0 | AB241: =IF(P241="관급자재대", L241, 0) -> 0 | AC241: =IF(P241="사용자항목1", L241, 0) -> 0 | AD241: =IF(P241="사용자항목2", L241, 0) -> 0 | AE241: =IF(P241="안전관리비", L241, 0) -> 0 | AF241: =IF(P241="품질관리비", L241, 0) -> 0 | AG241: =IF(P241="작업부산물(철거해체)", L241, 0) -> 0 | AH241: =IF(P241="사용자항목6", L241, 0) -> 0 | AI241: =IF(P241="사용자항목7", L241, 0) -> 0 | AJ241: =IF(P241="관급자재대(도급자)", L241, 0) -> 0 | AK241: =IF(P241="관급자재대(관급자)", L241, 0) -> 0 | AL241: =IF(P241="사용자항목10", L241, 0) -> 0 | AM241: =IF(P241="폐기물처리비(일반)", L241, 0) -> 0 | AN241: =IF(P241="폐기물처리비(지정)", L241, 0) -> 0 | AO241: =IF(P241="사용자항목13", L241, 0) -> 0 | AP241: =IF(P241="사용자항목14", L241, 0) -> 0 | AQ241: =IF(P241="사용자항목15", L241, 0) -> 0 | AR241: =IF(P241="사용자항목16", L241, 0) -> 0 | AS241: =IF(P241="사용자항목17", L241, 0) -> 0 | AT241: =IF(P241="사용자항목18", L241, 0) -> 0 | AU241: =IF(P241="사용자항목19", L241, 0) -> 0 | AY241: 무성적산
A242: 벽 철거(인테리어필름 떼내기) | C242: M2 | D242: 4.8 | F242: =ROUNDDOWN(D242*E242, 0) -> 0 | H242: =ROUNDDOWN(D242*G242, 0) -> 0 | J242: =ROUNDDOWN(D242*I242, 0) -> 0 | K242: =E242+G242+I242 -> 0 | L242: =F242+H242+J242 -> 0 | O242: ="" | P242: 기계경비 | Q242: 1 | R242: =IF(P242="기계경비", J242, 0) -> 0 | S242: =IF(P242="운반비", L242, 0) -> 0 | T242: =IF(P242="작업부산물", F242, 0) -> 0 | U242: =IF(P242="관급", F242, 0) -> 0 | V242: =IF(P242="외주비", J242, 0) -> 0 | W242: =IF(P242="장비비", J242, 0) -> 0 | X242: =IF(P242="폐기물처리비", L242, 0) -> 0 | Y242: =IF(P242="가설비", J242, 0) -> 0 | Z242: =IF(P242="잡비제외분", F242, 0) -> 0 | AA242: =IF(P242="사급자재대", L242, 0) -> 0 | AB242: =IF(P242="관급자재대", L242, 0) -> 0 | AC242: =IF(P242="사용자항목1", L242, 0) -> 0 | AD242: =IF(P242="사용자항목2", L242, 0) -> 0 | AE242: =IF(P242="안전관리비", L242, 0) -> 0 | AF242: =IF(P242="품질관리비", L242, 0) -> 0 | AG242: =IF(P242="작업부산물(철거해체)", L242, 0) -> 0 | AH242: =IF(P242="사용자항목6", L242, 0) -> 0 | AI242: =IF(P242="사용자항목7", L242, 0) -> 0 | AJ242: =IF(P242="관급자재대(도급자)", L242, 0) -> 0 | AK242: =IF(P242="관급자재대(관급자)", L242, 0) -> 0 | AL242: =IF(P242="사용자항목10", L242, 0) -> 0 | AM242: =IF(P242="폐기물처리비(일반)", L242, 0) -> 0 | AN242: =IF(P242="폐기물처리비(지정)", L242, 0) -> 0 | AO242: =IF(P242="사용자항목13", L242, 0) -> 0 | AP242: =IF(P242="사용자항목14", L242, 0) -> 0 | AQ242: =IF(P242="사용자항목15", L242, 0) -> 0 | AR242: =IF(P242="사용자항목16", L242, 0) -> 0 | AS242: =IF(P242="사용자항목17", L242, 0) -> 0 | AT242: =IF(P242="사용자항목18", L242, 0) -> 0 | AU242: =IF(P242="사용자항목19", L242, 0) -> 0 | AY242: 무성적산
A243: 천장 철거(천정재,텍스류) | B243: 해체재 재사용 안 함 | C243: M2 | D243: 28.3 | F243: =ROUNDDOWN(D243*E243, 0) -> 0 | H243: =ROUNDDOWN(D243*G243, 0) -> 0 | J243: =ROUNDDOWN(D243*I243, 0) -> 0 | K243: =E243+G243+I243 -> 0 | L243: =F243+H243+J243 -> 0 | O243: ="" | P243: 기계경비 | Q243: 1 | R243: =IF(P243="기계경비", J243, 0) -> 0 | S243: =IF(P243="운반비", L243, 0) -> 0 | T243: =IF(P243="작업부산물", F243, 0) -> 0 | U243: =IF(P243="관급", F243, 0) -> 0 | V243: =IF(P243="외주비", J243, 0) -> 0 | W243: =IF(P243="장비비", J243, 0) -> 0 | X243: =IF(P243="폐기물처리비", L243, 0) -> 0 | Y243: =IF(P243="가설비", J243, 0) -> 0 | Z243: =IF(P243="잡비제외분", F243, 0) -> 0 | AA243: =IF(P243="사급자재대", L243, 0) -> 0 | AB243: =IF(P243="관급자재대", L243, 0) -> 0 | AC243: =IF(P243="사용자항목1", L243, 0) -> 0 | AD243: =IF(P243="사용자항목2", L243, 0) -> 0 | AE243: =IF(P243="안전관리비", L243, 0) -> 0 | AF243: =IF(P243="품질관리비", L243, 0) -> 0 | AG243: =IF(P243="작업부산물(철거해체)", L243, 0) -> 0 | AH243: =IF(P243="사용자항목6", L243, 0) -> 0 | AI243: =IF(P243="사용자항목7", L243, 0) -> 0 | AJ243: =IF(P243="관급자재대(도급자)", L243, 0) -> 0 | AK243: =IF(P243="관급자재대(관급자)", L243, 0) -> 0 | AL243: =IF(P243="사용자항목10", L243, 0) -> 0 | AM243: =IF(P243="폐기물처리비(일반)", L243, 0) -> 0 | AN243: =IF(P243="폐기물처리비(지정)", L243, 0) -> 0 | AO243: =IF(P243="사용자항목13", L243, 0) -> 0 | AP243: =IF(P243="사용자항목14", L243, 0) -> 0 | AQ243: =IF(P243="사용자항목15", L243, 0) -> 0 | AR243: =IF(P243="사용자항목16", L243, 0) -> 0 | AS243: =IF(P243="사용자항목17", L243, 0) -> 0 | AT243: =IF(P243="사용자항목18", L243, 0) -> 0 | AU243: =IF(P243="사용자항목19", L243, 0) -> 0 | AY243: 무성적산
A244: 천장 철거(천정재,텍스+경량철골) | B244: 해체재 재사용 안 함 (6.0T 기준) | C244: M2 | D244: 11.5 | F244: =ROUNDDOWN(D244*E244, 0) -> 0 | H244: =ROUNDDOWN(D244*G244, 0) -> 0 | J244: =ROUNDDOWN(D244*I244, 0) -> 0 | K244: =E244+G244+I244 -> 0 | L244: =F244+H244+J244 -> 0 | O244: ="" | P244: 기계경비 | Q244: 1 | R244: =IF(P244="기계경비", J244, 0) -> 0 | S244: =IF(P244="운반비", L244, 0) -> 0 | T244: =IF(P244="작업부산물", F244, 0) -> 0 | U244: =IF(P244="관급", F244, 0) -> 0 | V244: =IF(P244="외주비", J244, 0) -> 0 | W244: =IF(P244="장비비", J244, 0) -> 0 | X244: =IF(P244="폐기물처리비", L244, 0) -> 0 | Y244: =IF(P244="가설비", J244, 0) -> 0 | Z244: =IF(P244="잡비제외분", F244, 0) -> 0 | AA244: =IF(P244="사급자재대", L244, 0) -> 0 | AB244: =IF(P244="관급자재대", L244, 0) -> 0 | AC244: =IF(P244="사용자항목1", L244, 0) -> 0 | AD244: =IF(P244="사용자항목2", L244, 0) -> 0 | AE244: =IF(P244="안전관리비", L244, 0) -> 0 | AF244: =IF(P244="품질관리비", L244, 0) -> 0 | AG244: =IF(P244="작업부산물(철거해체)", L244, 0) -> 0 | AH244: =IF(P244="사용자항목6", L244, 0) -> 0 | AI244: =IF(P244="사용자항목7", L244, 0) -> 0 | AJ244: =IF(P244="관급자재대(도급자)", L244, 0) -> 0 | AK244: =IF(P244="관급자재대(관급자)", L244, 0) -> 0 | AL244: =IF(P244="사용자항목10", L244, 0) -> 0 | AM244: =IF(P244="폐기물처리비(일반)", L244, 0) -> 0 | AN244: =IF(P244="폐기물처리비(지정)", L244, 0) -> 0 | AO244: =IF(P244="사용자항목13", L244, 0) -> 0 | AP244: =IF(P244="사용자항목14", L244, 0) -> 0 | AQ244: =IF(P244="사용자항목15", L244, 0) -> 0 | AR244: =IF(P244="사용자항목16", L244, 0) -> 0 | AS244: =IF(P244="사용자항목17", L244, 0) -> 0 | AT244: =IF(P244="사용자항목18", L244, 0) -> 0 | AU244: =IF(P244="사용자항목19", L244, 0) -> 0 | AY244: 무성적산
A245: 목재난간 철거 | B245: 벽부착,H=200,기준(목재+합성목재) | C245: M | D245: 61.1 | F245: =ROUNDDOWN(D245*E245, 0) -> 0 | H245: =ROUNDDOWN(D245*G245, 0) -> 0 | J245: =ROUNDDOWN(D245*I245, 0) -> 0 | K245: =E245+G245+I245 -> 0 | L245: =F245+H245+J245 -> 0 | O245: ="" | P245: 기계경비 | Q245: 1 | R245: =IF(P245="기계경비", J245, 0) -> 0 | S245: =IF(P245="운반비", L245, 0) -> 0 | T245: =IF(P245="작업부산물", F245, 0) -> 0 | U245: =IF(P245="관급", F245, 0) -> 0 | V245: =IF(P245="외주비", J245, 0) -> 0 | W245: =IF(P245="장비비", J245, 0) -> 0 | X245: =IF(P245="폐기물처리비", L245, 0) -> 0 | Y245: =IF(P245="가설비", J245, 0) -> 0 | Z245: =IF(P245="잡비제외분", F245, 0) -> 0 | AA245: =IF(P245="사급자재대", L245, 0) -> 0 | AB245: =IF(P245="관급자재대", L245, 0) -> 0 | AC245: =IF(P245="사용자항목1", L245, 0) -> 0 | AD245: =IF(P245="사용자항목2", L245, 0) -> 0 | AE245: =IF(P245="안전관리비", L245, 0) -> 0 | AF245: =IF(P245="품질관리비", L245, 0) -> 0 | AG245: =IF(P245="작업부산물(철거해체)", L245, 0) -> 0 | AH245: =IF(P245="사용자항목6", L245, 0) -> 0 | AI245: =IF(P245="사용자항목7", L245, 0) -> 0 | AJ245: =IF(P245="관급자재대(도급자)", L245, 0) -> 0 | AK245: =IF(P245="관급자재대(관급자)", L245, 0) -> 0 | AL245: =IF(P245="사용자항목10", L245, 0) -> 0 | AM245: =IF(P245="폐기물처리비(일반)", L245, 0) -> 0 | AN245: =IF(P245="폐기물처리비(지정)", L245, 0) -> 0 | AO245: =IF(P245="사용자항목13", L245, 0) -> 0 | AP245: =IF(P245="사용자항목14", L245, 0) -> 0 | AQ245: =IF(P245="사용자항목15", L245, 0) -> 0 | AR245: =IF(P245="사용자항목16", L245, 0) -> 0 | AS245: =IF(P245="사용자항목17", L245, 0) -> 0 | AT245: =IF(P245="사용자항목18", L245, 0) -> 0 | AU245: =IF(P245="사용자항목19", L245, 0) -> 0 | AY245: 무성적산
A246: 창호 철거 | B246: 스텐 창호 | C246: M2 | D246: 4.6 | F246: =ROUNDDOWN(D246*E246, 0) -> 0 | H246: =ROUNDDOWN(D246*G246, 0) -> 0 | J246: =ROUNDDOWN(D246*I246, 0) -> 0 | K246: =E246+G246+I246 -> 0 | L246: =F246+H246+J246 -> 0 | O246: ="" | P246: 기계경비 | Q246: 1 | R246: =IF(P246="기계경비", J246, 0) -> 0 | S246: =IF(P246="운반비", L246, 0) -> 0 | T246: =IF(P246="작업부산물", F246, 0) -> 0 | U246: =IF(P246="관급", F246, 0) -> 0 | V246: =IF(P246="외주비", J246, 0) -> 0 | W246: =IF(P246="장비비", J246, 0) -> 0 | X246: =IF(P246="폐기물처리비", L246, 0) -> 0 | Y246: =IF(P246="가설비", J246, 0) -> 0 | Z246: =IF(P246="잡비제외분", F246, 0) -> 0 | AA246: =IF(P246="사급자재대", L246, 0) -> 0 | AB246: =IF(P246="관급자재대", L246, 0) -> 0 | AC246: =IF(P246="사용자항목1", L246, 0) -> 0 | AD246: =IF(P246="사용자항목2", L246, 0) -> 0 | AE246: =IF(P246="안전관리비", L246, 0) -> 0 | AF246: =IF(P246="품질관리비", L246, 0) -> 0 | AG246: =IF(P246="작업부산물(철거해체)", L246, 0) -> 0 | AH246: =IF(P246="사용자항목6", L246, 0) -> 0 | AI246: =IF(P246="사용자항목7", L246, 0) -> 0 | AJ246: =IF(P246="관급자재대(도급자)", L246, 0) -> 0 | AK246: =IF(P246="관급자재대(관급자)", L246, 0) -> 0 | AL246: =IF(P246="사용자항목10", L246, 0) -> 0 | AM246: =IF(P246="폐기물처리비(일반)", L246, 0) -> 0 | AN246: =IF(P246="폐기물처리비(지정)", L246, 0) -> 0 | AO246: =IF(P246="사용자항목13", L246, 0) -> 0 | AP246: =IF(P246="사용자항목14", L246, 0) -> 0 | AQ246: =IF(P246="사용자항목15", L246, 0) -> 0 | AR246: =IF(P246="사용자항목16", L246, 0) -> 0 | AS246: =IF(P246="사용자항목17", L246, 0) -> 0 | AT246: =IF(P246="사용자항목18", L246, 0) -> 0 | AU246: =IF(P246="사용자항목19", L246, 0) -> 0 | AY246: 무성적산
A247: 창호 철거 | B247: 헛창틀(목재) | C247: M2 | D247: 38.5 | F247: =ROUNDDOWN(D247*E247, 0) -> 0 | H247: =ROUNDDOWN(D247*G247, 0) -> 0 | J247: =ROUNDDOWN(D247*I247, 0) -> 0 | K247: =E247+G247+I247 -> 0 | L247: =F247+H247+J247 -> 0 | O247: ="" | P247: 기계경비 | Q247: 1 | R247: =IF(P247="기계경비", J247, 0) -> 0 | S247: =IF(P247="운반비", L247, 0) -> 0 | T247: =IF(P247="작업부산물", F247, 0) -> 0 | U247: =IF(P247="관급", F247, 0) -> 0 | V247: =IF(P247="외주비", J247, 0) -> 0 | W247: =IF(P247="장비비", J247, 0) -> 0 | X247: =IF(P247="폐기물처리비", L247, 0) -> 0 | Y247: =IF(P247="가설비", J247, 0) -> 0 | Z247: =IF(P247="잡비제외분", F247, 0) -> 0 | AA247: =IF(P247="사급자재대", L247, 0) -> 0 | AB247: =IF(P247="관급자재대", L247, 0) -> 0 | AC247: =IF(P247="사용자항목1", L247, 0) -> 0 | AD247: =IF(P247="사용자항목2", L247, 0) -> 0 | AE247: =IF(P247="안전관리비", L247, 0) -> 0 | AF247: =IF(P247="품질관리비", L247, 0) -> 0 | AG247: =IF(P247="작업부산물(철거해체)", L247, 0) -> 0 | AH247: =IF(P247="사용자항목6", L247, 0) -> 0 | AI247: =IF(P247="사용자항목7", L247, 0) -> 0 | AJ247: =IF(P247="관급자재대(도급자)", L247, 0) -> 0 | AK247: =IF(P247="관급자재대(관급자)", L247, 0) -> 0 | AL247: =IF(P247="사용자항목10", L247, 0) -> 0 | AM247: =IF(P247="폐기물처리비(일반)", L247, 0) -> 0 | AN247: =IF(P247="폐기물처리비(지정)", L247, 0) -> 0 | AO247: =IF(P247="사용자항목13", L247, 0) -> 0 | AP247: =IF(P247="사용자항목14", L247, 0) -> 0 | AQ247: =IF(P247="사용자항목15", L247, 0) -> 0 | AR247: =IF(P247="사용자항목16", L247, 0) -> 0 | AS247: =IF(P247="사용자항목17", L247, 0) -> 0 | AT247: =IF(P247="사용자항목18", L247, 0) -> 0 | AU247: =IF(P247="사용자항목19", L247, 0) -> 0 | AY247: 무성적산
A248: 건설폐기물수집운반비(상차비) | B248: 16톤암롤 트럭, 혼합건설폐재류 | C248: TON | D248: 4.4 | F248: =ROUNDDOWN(D248*E248, 0) -> 0 | H248: =ROUNDDOWN(D248*G248, 0) -> 0 | J248: =ROUNDDOWN(D248*I248, 0) -> 0 | K248: =E248+G248+I248 -> 0 | L248: =F248+H248+J248 -> 0 | O248: ="03" -> 03 | P248: 기계경비 | Q248: 1 | R248: =IF(P248="기계경비", J248, 0) -> 0 | S248: =IF(P248="운반비", L248, 0) -> 0 | T248: =IF(P248="작업부산물", F248, 0) -> 0 | U248: =IF(P248="관급", F248, 0) -> 0 | V248: =IF(P248="외주비", J248, 0) -> 0 | W248: =IF(P248="장비비", J248, 0) -> 0 | X248: =IF(P248="폐기물처리비", L248, 0) -> 0 | Y248: =IF(P248="가설비", J248, 0) -> 0 | Z248: =IF(P248="잡비제외분", F248, 0) -> 0 | AA248: =IF(P248="사급자재대", L248, 0) -> 0 | AB248: =IF(P248="관급자재대", L248, 0) -> 0 | AC248: =IF(P248="사용자항목1", L248, 0) -> 0 | AD248: =IF(P248="사용자항목2", L248, 0) -> 0 | AE248: =IF(P248="안전관리비", L248, 0) -> 0 | AF248: =IF(P248="품질관리비", L248, 0) -> 0 | AG248: =IF(P248="작업부산물(철거해체)", L248, 0) -> 0 | AH248: =IF(P248="사용자항목6", L248, 0) -> 0 | AI248: =IF(P248="사용자항목7", L248, 0) -> 0 | AJ248: =IF(P248="관급자재대(도급자)", L248, 0) -> 0 | AK248: =IF(P248="관급자재대(관급자)", L248, 0) -> 0 | AL248: =IF(P248="사용자항목10", L248, 0) -> 0 | AM248: =IF(P248="폐기물처리비(일반)", L248, 0) -> 0 | AN248: =IF(P248="폐기물처리비(지정)", L248, 0) -> 0 | AO248: =IF(P248="사용자항목13", L248, 0) -> 0 | AP248: =IF(P248="사용자항목14", L248, 0) -> 0 | AQ248: =IF(P248="사용자항목15", L248, 0) -> 0 | AR248: =IF(P248="사용자항목16", L248, 0) -> 0 | AS248: =IF(P248="사용자항목17", L248, 0) -> 0 | AT248: =IF(P248="사용자항목18", L248, 0) -> 0 | AU248: =IF(P248="사용자항목19", L248, 0) -> 0
A249: 철강설 | B249: 철강설, 고철, 작업설부산물 | C249: kg | D249: 55 | F249: =ROUNDDOWN(D249*E249, 0) -> 0 | H249: =ROUNDDOWN(D249*G249, 0) -> 0 | J249: =ROUNDDOWN(D249*I249, 0) -> 0 | K249: =E249+G249+I249 -> 0 | L249: =F249+H249+J249 -> 0 | O249: ="01" -> 01 | P249: 기계경비 | Q249: 1 | R249: =IF(P249="기계경비", J249, 0) -> 0 | S249: =IF(P249="운반비", L249, 0) -> 0 | T249: =IF(P249="작업부산물", F249, 0) -> 0 | U249: =IF(P249="관급", F249, 0) -> 0 | V249: =IF(P249="외주비", J249, 0) -> 0 | W249: =IF(P249="장비비", J249, 0) -> 0 | X249: =IF(P249="폐기물처리비", L249, 0) -> 0 | Y249: =IF(P249="가설비", J249, 0) -> 0 | Z249: =IF(P249="잡비제외분", F249, 0) -> 0 | AA249: =IF(P249="사급자재대", L249, 0) -> 0 | AB249: =IF(P249="관급자재대", L249, 0) -> 0 | AC249: =IF(P249="사용자항목1", L249, 0) -> 0 | AD249: =IF(P249="사용자항목2", L249, 0) -> 0 | AE249: =IF(P249="안전관리비", L249, 0) -> 0 | AF249: =IF(P249="품질관리비", L249, 0) -> 0 | AG249: =IF(P249="작업부산물(철거해체)", L249, 0) -> 0 | AH249: =IF(P249="사용자항목6", L249, 0) -> 0 | AI249: =IF(P249="사용자항목7", L249, 0) -> 0 | AJ249: =IF(P249="관급자재대(도급자)", L249, 0) -> 0 | AK249: =IF(P249="관급자재대(관급자)", L249, 0) -> 0 | AL249: =IF(P249="사용자항목10", L249, 0) -> 0 | AM249: =IF(P249="폐기물처리비(일반)", L249, 0) -> 0 | AN249: =IF(P249="폐기물처리비(지정)", L249, 0) -> 0 | AO249: =IF(P249="사용자항목13", L249, 0) -> 0 | AP249: =IF(P249="사용자항목14", L249, 0) -> 0 | AQ249: =IF(P249="사용자항목15", L249, 0) -> 0 | AR249: =IF(P249="사용자항목16", L249, 0) -> 0 | AS249: =IF(P249="사용자항목17", L249, 0) -> 0 | AT249: =IF(P249="사용자항목18", L249, 0) -> 0 | AU249: =IF(P249="사용자항목19", L249, 0) -> 0
A250: 철강설 | B250: 철강설, 스텐레스, 작업설부산물 | C250: kg | D250: 19.8 | F250: =ROUNDDOWN(D250*E250, 0) -> 0 | H250: =ROUNDDOWN(D250*G250, 0) -> 0 | J250: =ROUNDDOWN(D250*I250, 0) -> 0 | K250: =E250+G250+I250 -> 0 | L250: =F250+H250+J250 -> 0 | O250: ="01" -> 01 | P250: 기계경비 | Q250: 1 | R250: =IF(P250="기계경비", J250, 0) -> 0 | S250: =IF(P250="운반비", L250, 0) -> 0 | T250: =IF(P250="작업부산물", F250, 0) -> 0 | U250: =IF(P250="관급", F250, 0) -> 0 | V250: =IF(P250="외주비", J250, 0) -> 0 | W250: =IF(P250="장비비", J250, 0) -> 0 | X250: =IF(P250="폐기물처리비", L250, 0) -> 0 | Y250: =IF(P250="가설비", J250, 0) -> 0 | Z250: =IF(P250="잡비제외분", F250, 0) -> 0 | AA250: =IF(P250="사급자재대", L250, 0) -> 0 | AB250: =IF(P250="관급자재대", L250, 0) -> 0 | AC250: =IF(P250="사용자항목1", L250, 0) -> 0 | AD250: =IF(P250="사용자항목2", L250, 0) -> 0 | AE250: =IF(P250="안전관리비", L250, 0) -> 0 | AF250: =IF(P250="품질관리비", L250, 0) -> 0 | AG250: =IF(P250="작업부산물(철거해체)", L250, 0) -> 0 | AH250: =IF(P250="사용자항목6", L250, 0) -> 0 | AI250: =IF(P250="사용자항목7", L250, 0) -> 0 | AJ250: =IF(P250="관급자재대(도급자)", L250, 0) -> 0 | AK250: =IF(P250="관급자재대(관급자)", L250, 0) -> 0 | AL250: =IF(P250="사용자항목10", L250, 0) -> 0 | AM250: =IF(P250="폐기물처리비(일반)", L250, 0) -> 0 | AN250: =IF(P250="폐기물처리비(지정)", L250, 0) -> 0 | AO250: =IF(P250="사용자항목13", L250, 0) -> 0 | AP250: =IF(P250="사용자항목14", L250, 0) -> 0 | AQ250: =IF(P250="사용자항목15", L250, 0) -> 0 | AR250: =IF(P250="사용자항목16", L250, 0) -> 0 | AS250: =IF(P250="사용자항목17", L250, 0) -> 0 | AT250: =IF(P250="사용자항목18", L250, 0) -> 0 | AU250: =IF(P250="사용자항목19", L250, 0) -> 0
A256: 합 계 | F256: =ROUNDDOWN(SUMIF(Q237:Q255, "1", F237:F255), 0) -> 0 | H256: =ROUNDDOWN(SUMIF(Q237:Q255, "1", H237:H255), 0) -> 0 | J256: =ROUNDDOWN(SUMIF(Q237:Q255, "1", J237:J255), 0) -> 0 | L256: =F256+H256+J256 -> 0 | R256: =ROUNDDOWN(SUM(R237:R250), 0) -> 0 | S256: =ROUNDDOWN(SUM(S237:S250), 0) -> 0 | T256: =ROUNDDOWN(SUM(T237:T250), 0) -> 0 | U256: =ROUNDDOWN(SUM(U237:U250), 0) -> 0 | V256: =ROUNDDOWN(SUM(V237:V250), 0) -> 0 | W256: =ROUNDDOWN(SUM(W237:W250), 0) -> 0 | X256: =ROUNDDOWN(SUM(X237:X250), 0) -> 0 | Y256: =ROUNDDOWN(SUM(Y237:Y250), 0) -> 0 | ... AY256: =ROUNDDOWN(SUM(AY237:AY250), 0) -> 0
A257: 0113. 골 재 대
A258: 시멘트 | B258: 40kg 포장품 | C258: 포 | D258: 6 | F258: =ROUNDDOWN(D258*E258, 0) -> 0 | H258: =ROUNDDOWN(D258*G258, 0) -> 0 | J258: =ROUNDDOWN(D258*I258, 0) -> 0 | K258: =E258+G258+I258 -> 0 | L258: =F258+H258+J258 -> 0 | O258: ="01" -> 01 | P258: 기계경비 | Q258: 1 | R258: =IF(P258="기계경비", J258, 0) -> 0 | S258: =IF(P258="운반비", L258, 0) -> 0 | T258: =IF(P258="작업부산물", F258, 0) -> 0 | U258: =IF(P258="관급", F258, 0) -> 0 | V258: =IF(P258="외주비", J258, 0) -> 0 | W258: =IF(P258="장비비", J258, 0) -> 0 | X258: =IF(P258="폐기물처리비", L258, 0) -> 0 | Y258: =IF(P258="가설비", J258, 0) -> 0 | Z258: =IF(P258="잡비제외분", F258, 0) -> 0 | AA258: =IF(P258="사급자재대", L258, 0) -> 0 | AB258: =IF(P258="관급자재대", L258, 0) -> 0 | AC258: =IF(P258="사용자항목1", L258, 0) -> 0 | AD258: =IF(P258="사용자항목2", L258, 0) -> 0 | AE258: =IF(P258="안전관리비", L258, 0) -> 0 | AF258: =IF(P258="품질관리비", L258, 0) -> 0 | AG258: =IF(P258="작업부산물(철거해체)", L258, 0) -> 0 | AH258: =IF(P258="사용자항목6", L258, 0) -> 0 | AI258: =IF(P258="사용자항목7", L258, 0) -> 0 | AJ258: =IF(P258="관급자재대(도급자)", L258, 0) -> 0 | AK258: =IF(P258="관급자재대(관급자)", L258, 0) -> 0 | AL258: =IF(P258="사용자항목10", L258, 0) -> 0 | AM258: =IF(P258="폐기물처리비(일반)", L258, 0) -> 0 | AN258: =IF(P258="폐기물처리비(지정)", L258, 0) -> 0 | AO258: =IF(P258="사용자항목13", L258, 0) -> 0 | AP258: =IF(P258="사용자항목14", L258, 0) -> 0 | AQ258: =IF(P258="사용자항목15", L258, 0) -> 0 | AR258: =IF(P258="사용자항목16", L258, 0) -> 0 | AS258: =IF(P258="사용자항목17", L258, 0) -> 0 | AT258: =IF(P258="사용자항목18", L258, 0) -> 0 | AU258: =IF(P258="사용자항목19", L258, 0) -> 0 | AY258: 관급
A259: 모래 | B259: 도착도 | C259: M3 | D259: 0.6 | F259: =ROUNDDOWN(D259*E259, 0) -> 0 | H259: =ROUNDDOWN(D259*G259, 0) -> 0 | J259: =ROUNDDOWN(D259*I259, 0) -> 0 | K259: =E259+G259+I259 -> 0 | L259: =F259+H259+J259 -> 0 | O259: ="01" -> 01 | P259: 기계경비 | Q259: 1 | R259: =IF(P259="기계경비", J259, 0) -> 0 | S259: =IF(P259="운반비", L259, 0) -> 0 | T259: =IF(P259="작업부산물", F259, 0) -> 0 | U259: =IF(P259="관급", F259, 0) -> 0 | V259: =IF(P259="외주비", J259, 0) -> 0 | W259: =IF(P259="장비비", J259, 0) -> 0 | X259: =IF(P259="폐기물처리비", L259, 0) -> 0 | Y259: =IF(P259="가설비", J259, 0) -> 0 | Z259: =IF(P259="잡비제외분", F259, 0) -> 0 | AA259: =IF(P259="사급자재대", L259, 0) -> 0 | AB259: =IF(P259="관급자재대", L259, 0) -> 0 | AC259: =IF(P259="사용자항목1", L259, 0) -> 0 | AD259: =IF(P259="사용자항목2", L259, 0) -> 0 | AE259: =IF(P259="안전관리비", L259, 0) -> 0 | AF259: =IF(P259="품질관리비", L259, 0) -> 0 | AG259: =IF(P259="작업부산물(철거해체)", L259, 0) -> 0 | AH259: =IF(P259="사용자항목6", L259, 0) -> 0 | AI259: =IF(P259="사용자항목7", L259, 0) -> 0 | AJ259: =IF(P259="관급자재대(도급자)", L259, 0) -> 0 | AK259: =IF(P259="관급자재대(관급자)", L259, 0) -> 0 | AL259: =IF(P259="사용자항목10", L259, 0) -> 0 | AM259: =IF(P259="폐기물처리비(일반)", L259, 0) -> 0 | AN259: =IF(P259="폐기물처리비(지정)", L259, 0) -> 0 | AO259: =IF(P259="사용자항목13", L259, 0) -> 0 | AP259: =IF(P259="사용자항목14", L259, 0) -> 0 | AQ259: =IF(P259="사용자항목15", L259, 0) -> 0 | AR259: =IF(P259="사용자항목16", L259, 0) -> 0 | AS259: =IF(P259="사용자항목17", L259, 0) -> 0 | AT259: =IF(P259="사용자항목18", L259, 0) -> 0 | AU259: =IF(P259="사용자항목19", L259, 0) -> 0 | AY259: 경북
A277: 합 계 | F277: =ROUNDDOWN(SUMIF(Q258:Q276, "1", F258:F276), 0) -> 0 | H277: =ROUNDDOWN(SUMIF(Q258:Q276, "1", H258:H276), 0) -> 0 | J277: =ROUNDDOWN(SUMIF(Q258:Q276, "1", J258:J276), 0) -> 0 | L277: =F277+H277+J277 -> 0 | R277: =ROUNDDOWN(SUM(R258:R259), 0) -> 0 | S277: =ROUNDDOWN(SUM(S258:S259), 0) -> 0 | T277: =ROUNDDOWN(SUM(T258:T259), 0) -> 0 | U277: =ROUNDDOWN(SUM(U258:U259), 0) -> 0 | V277: =ROUNDDOWN(SUM(V258:V259), 0) -> 0 | W277: =ROUNDDOWN(SUM(W258:W259), 0) -> 0 | X277: =ROUNDDOWN(SUM(X258:X259), 0) -> 0 | Y277: =ROUNDDOWN(SUM(Y258:Y259), 0) -> 0 | ... AY277: =ROUNDDOWN(SUM(AY258:AY259), 0) -> 0
A278: 0114. 폐기물처리비(일반)
A279: 폐자재처리수수료 | B279: 건설폐재류(재건축,폐콘크리트,폐벽돌,폐기와) | C279: 톤 | D279: 0.9 | F279: =ROUNDDOWN(D279*E279, 0) -> 0 | H279: =ROUNDDOWN(D279*G279, 0) -> 0 | J279: =ROUNDDOWN(D279*I279, 0) -> 0 | K279: =E279+G279+I279 -> 0 | L279: =F279+H279+J279 -> 0 | O279: ="03" -> 03 | P279: 폐기물처리비(일반) | Q279: 1 | R279: =IF(P279="기계경비", J279, 0) -> 0 | S279: =IF(P279="운반비", L279, 0) -> 0 | T279: =IF(P279="작업부산물", F279, 0) -> 0 | U279: =IF(P279="관급", F279, 0) -> 0 | V279: =IF(P279="외주비", J279, 0) -> 0 | W279: =IF(P279="장비비", J279, 0) -> 0 | X279: =IF(P279="폐기물처리비", L279, 0) -> 0 | Y279: =IF(P279="가설비", J279, 0) -> 0 | Z279: =IF(P279="잡비제외분", F279, 0) -> 0 | AA279: =IF(P279="사급자재대", L279, 0) -> 0 | AB279: =IF(P279="관급자재대", L279, 0) -> 0 | AC279: =IF(P279="사용자항목1", L279, 0) -> 0 | AD279: =IF(P279="사용자항목2", L279, 0) -> 0 | AE279: =IF(P279="안전관리비", L279, 0) -> 0 | AF279: =IF(P279="품질관리비", L279, 0) -> 0 | AG279: =IF(P279="작업부산물(철거해체)", L279, 0) -> 0 | AH279: =IF(P279="사용자항목6", L279, 0) -> 0 | AI279: =IF(P279="사용자항목7", L279, 0) -> 0 | AJ279: =IF(P279="관급자재대(도급자)", L279, 0) -> 0 | AK279: =IF(P279="관급자재대(관급자)", L279, 0) -> 0 | AL279: =IF(P279="사용자항목10", L279, 0) -> 0 | AM279: =IF(P279="폐기물처리비(일반)", L279, 0) -> 0 | AN279: =IF(P279="폐기물처리비(지정)", L279, 0) -> 0 | AO279: =IF(P279="사용자항목13", L279, 0) -> 0 | AP279: =IF(P279="사용자항목14", L279, 0) -> 0 | AQ279: =IF(P279="사용자항목15", L279, 0) -> 0 | AR279: =IF(P279="사용자항목16", L279, 0) -> 0 | AS279: =IF(P279="사용자항목17", L279, 0) -> 0 | AT279: =IF(P279="사용자항목18", L279, 0) -> 0 | AU279: =IF(P279="사용자항목19", L279, 0) -> 0
A280: 폐자재처리수수료 | B280: 혼합건설폐기물(가연성 건설폐기물,소각5%이하) | C280: 톤 | D280: 2.3 | F280: =ROUNDDOWN(D280*E280, 0) -> 0 | H280: =ROUNDDOWN(D280*G280, 0) -> 0 | J280: =ROUNDDOWN(D280*I280, 0) -> 0 | K280: =E280+G280+I280 -> 0 | L280: =F280+H280+J280 -> 0 | O280: ="03" -> 03 | P280: 폐기물처리비(일반) | Q280: 1 | R280: =IF(P280="기계경비", J280, 0) -> 0 | S280: =IF(P280="운반비", L280, 0) -> 0 | T280: =IF(P280="작업부산물", F280, 0) -> 0 | U280: =IF(P280="관급", F280, 0) -> 0 | V280: =IF(P280="외주비", J280, 0) -> 0 | W280: =IF(P280="장비비", J280, 0) -> 0 | X280: =IF(P280="폐기물처리비", L280, 0) -> 0 | Y280: =IF(P280="가설비", J280, 0) -> 0 | Z280: =IF(P280="잡비제외분", F280, 0) -> 0 | AA280: =IF(P280="사급자재대", L280, 0) -> 0 | AB280: =IF(P280="관급자재대", L280, 0) -> 0 | AC280: =IF(P280="사용자항목1", L280, 0) -> 0 | AD280: =IF(P280="사용자항목2", L280, 0) -> 0 | AE280: =IF(P280="안전관리비", L280, 0) -> 0 | AF280: =IF(P280="품질관리비", L280, 0) -> 0 | AG280: =IF(P280="작업부산물(철거해체)", L280, 0) -> 0 | AH280: =IF(P280="사용자항목6", L280, 0) -> 0 | AI280: =IF(P280="사용자항목7", L280, 0) -> 0 | AJ280: =IF(P280="관급자재대(도급자)", L280, 0) -> 0 | AK280: =IF(P280="관급자재대(관급자)", L280, 0) -> 0 | AL280: =IF(P280="사용자항목10", L280, 0) -> 0 | AM280: =IF(P280="폐기물처리비(일반)", L280, 0) -> 0 | AN280: =IF(P280="폐기물처리비(지정)", L280, 0) -> 0 | AO280: =IF(P280="사용자항목13", L280, 0) -> 0 | AP280: =IF(P280="사용자항목14", L280, 0) -> 0 | AQ280: =IF(P280="사용자항목15", L280, 0) -> 0 | AR280: =IF(P280="사용자항목16", L280, 0) -> 0 | AS280: =IF(P280="사용자항목17", L280, 0) -> 0 | AT280: =IF(P280="사용자항목18", L280, 0) -> 0 | AU280: =IF(P280="사용자항목19", L280, 0) -> 0
A281: 폐자재처리수수료 | B281: 폐합성수지(장판,스티로폼,비닐 시멘트 포대등) | C281: M3 | D281: 0.8 | F281: =ROUNDDOWN(D281*E281, 0) -> 0 | H281: =ROUNDDOWN(D281*G281, 0) -> 0 | J281: =ROUNDDOWN(D281*I281, 0) -> 0 | K281: =E281+G281+I281 -> 0 | L281: =F281+H281+J281 -> 0 | O281: ="03" -> 03 | P281: 폐기물처리비(일반) | Q281: 1 | R281: =IF(P281="기계경비", J281, 0) -> 0 | S281: =IF(P281="운반비", L281, 0) -> 0 | T281: =IF(P281="작업부산물", F281, 0) -> 0 | U281: =IF(P281="관급", F281, 0) -> 0 | V281: =IF(P281="외주비", J281, 0) -> 0 | W281: =IF(P281="장비비", J281, 0) -> 0 | X281: =IF(P281="폐기물처리비", L281, 0) -> 0 | Y281: =IF(P281="가설비", J281, 0) -> 0 | Z281: =IF(P281="잡비제외분", F281, 0) -> 0 | AA281: =IF(P281="사급자재대", L281, 0) -> 0 | AB281: =IF(P281="관급자재대", L281, 0) -> 0 | AC281: =IF(P281="사용자항목1", L281, 0) -> 0 | AD281: =IF(P281="사용자항목2", L281, 0) -> 0 | AE281: =IF(P281="안전관리비", L281, 0) -> 0 | AF281: =IF(P281="품질관리비", L281, 0) -> 0 | AG281: =IF(P281="작업부산물(철거해체)", L281, 0) -> 0 | AH281: =IF(P281="사용자항목6", L281, 0) -> 0 | AI281: =IF(P281="사용자항목7", L281, 0) -> 0 | AJ281: =IF(P281="관급자재대(도급자)", L281, 0) -> 0 | AK281: =IF(P281="관급자재대(관급자)", L281, 0) -> 0 | AL281: =IF(P281="사용자항목10", L281, 0) -> 0 | AM281: =IF(P281="폐기물처리비(일반)", L281, 0) -> 0 | AN281: =IF(P281="폐기물처리비(지정)", L281, 0) -> 0 | AO281: =IF(P281="사용자항목13", L281, 0) -> 0 | AP281: =IF(P281="사용자항목14", L281, 0) -> 0 | AQ281: =IF(P281="사용자항목15", L281, 0) -> 0 | AR281: =IF(P281="사용자항목16", L281, 0) -> 0 | AS281: =IF(P281="사용자항목17", L281, 0) -> 0 | AT281: =IF(P281="사용자항목18", L281, 0) -> 0 | AU281: =IF(P281="사용자항목19", L281, 0) -> 0 | AY281: 무성적산
A282: 건설폐기물수집운반비(운반비) | B282: 16톤 암롤트럭, 혼합건설폐기물, 30km | C282: TON | D282: 4.4 | F282: =ROUNDDOWN(D282*E282, 0) -> 0 | H282: =ROUNDDOWN(D282*G282, 0) -> 0 | J282: =ROUNDDOWN(D282*I282, 0) -> 0 | K282: =E282+G282+I282 -> 0 | L282: =F282+H282+J282 -> 0 | O282: ="03" -> 03 | P282: 폐기물처리비(일반) | Q282: 1 | R282: =IF(P282="기계경비", J282, 0) -> 0 | S282: =IF(P282="운반비", L282, 0) -> 0 | T282: =IF(P282="작업부산물", F282, 0) -> 0 | U282: =IF(P282="관급", F282, 0) -> 0 | V282: =IF(P282="외주비", J282, 0) -> 0 | W282: =IF(P282="장비비", J282, 0) -> 0 | X282: =IF(P282="폐기물처리비", L282, 0) -> 0 | Y282: =IF(P282="가설비", J282, 0) -> 0 | Z282: =IF(P282="잡비제외분", F282, 0) -> 0 | AA282: =IF(P282="사급자재대", L282, 0) -> 0 | AB282: =IF(P282="관급자재대", L282, 0) -> 0 | AC282: =IF(P282="사용자항목1", L282, 0) -> 0 | AD282: =IF(P282="사용자항목2", L282, 0) -> 0 | AE282: =IF(P282="안전관리비", L282, 0) -> 0 | AF282: =IF(P282="품질관리비", L282, 0) -> 0 | AG282: =IF(P282="작업부산물(철거해체)", L282, 0) -> 0 | AH282: =IF(P282="사용자항목6", L282, 0) -> 0 | AI282: =IF(P282="사용자항목7", L282, 0) -> 0 | AJ282: =IF(P282="관급자재대(도급자)", L282, 0) -> 0 | AK282: =IF(P282="관급자재대(관급자)", L282, 0) -> 0 | AL282: =IF(P282="사용자항목10", L282, 0) -> 0 | AM282: =IF(P282="폐기물처리비(일반)", L282, 0) -> 0 | AN282: =IF(P282="폐기물처리비(지정)", L282, 0) -> 0 | AO282: =IF(P282="사용자항목13", L282, 0) -> 0 | AP282: =IF(P282="사용자항목14", L282, 0) -> 0 | AQ282: =IF(P282="사용자항목15", L282, 0) -> 0 | AR282: =IF(P282="사용자항목16", L282, 0) -> 0 | AS282: =IF(P282="사용자항목17", L282, 0) -> 0 | AT282: =IF(P282="사용자항목18", L282, 0) -> 0 | AU282: =IF(P282="사용자항목19", L282, 0) -> 0
A298: 합 계 | F298: =ROUNDDOWN(SUMIF(Q279:Q297, "1", F279:F297), 0) -> 0 | H298: =ROUNDDOWN(SUMIF(Q279:Q297, "1", H279:H297), 0) -> 0 | J298: =ROUNDDOWN(SUMIF(Q279:Q297, "1", J279:J297), 0) -> 0 | L298: =F298+H298+J298 -> 0 | R298: =ROUNDDOWN(SUM(R279:R282), 0) -> 0 | S298: =ROUNDDOWN(SUM(S279:S282), 0) -> 0 | T298: =ROUNDDOWN(SUM(T279:T282), 0) -> 0 | U298: =ROUNDDOWN(SUM(U279:U282), 0) -> 0 | V298: =ROUNDDOWN(SUM(V279:V282), 0) -> 0 | W298: =ROUNDDOWN(SUM(W279:W282), 0) -> 0 | X298: =ROUNDDOWN(SUM(X279:X282), 0) -> 0 | Y298: =ROUNDDOWN(SUM(Y279:Y282), 0) -> 0 | ... AY298: =ROUNDDOWN(SUM(AY279:AY282), 0) -> 0
...

Sheet Sheet1
