Workbook

Sheet 표지
L2: 2026. 08
C7: 지동양수장 외 4개소 물관리자동화시스템 보수 및 CCTV 신설공사
C9: 설 계 내 역 서
F17: 한국농어촌공사 안동지사

Sheet 시스템총
A1: =표지!C7 -> 지동양수장 외 4개소 물관리자동화시스템 보수 및 CCTV 신설공사
A2: 공 사 비 총 괄 표
G4: < > : | H4: 통신수수료 : 외서(부가세 포함, 입찰제외분)
A5: 일금 : | C5: =G33 -> 32912000 | D5: 원 | G5: ( ) : | H5: 관급자재 : 내서(부가세, 조달수수료 포함)
D6: 공 종 별 | G6: 지동양수장 | J6: 합 계
A7: 구 분
A8: 통 신 수 수 료 | G8: 0 | J8: =G8+H8 -> 0 | K8: KT선로가설비(견적)
B9: 재 | C9: 직접 재료비 | G9: =' 시스템설치일반총'!J25 -> 17674304 | J9: =G9+H9 -> 17674304
B10: 료 | C10: 간접 재료비 | J10: =G10+H10 -> 0
A11: 순 | B11: 비 | C11: 계 | G11: =INT(G9) -> 17674304 | J11: =G11+H11 -> 17674304
B12: 노 | C12: 직접 노무비 | G12: =' 시스템설치일반총'!H25 -> 5469747 | J12: =G12+H12 -> 5469747
B13: 무 | C13: 간접 노무비 | D13: ( | E13: 0.165 | F13: ) | G13: =INT(G12*$E13) -> 902508 | J13: =G13+H13 -> 902508 | K13: 6개월 이하
A14: 공 | B14: 비 | C14: 계 | G14: =INT(G12+G13) -> 6372255 | J14: =G14+H14 -> 6372255
C15: 경 비 | G15: =' 시스템설치일반총'!L25 -> 164090 | J15: =G15+H15 -> 164090
B16: 경 | C16: 산재보험료 | D16: ( | E16: 0.0356 | F16: ) | G16: =TRUNC(G14*$E16) -> 226852 | J16: =G16+H16 -> 226852
A17: 사 | C17: 고용보험료 | D17: ( | E17: 0.0101 | F17: ) | G17: =TRUNC(G14*$E17) -> 64359 | J17: =G17+H17 -> 64359
C18: 건강보험료 | D18: ( | E18: 0.03595 | F18: ) | G18: 0 | J18: =G18+H18 -> 0 | K18: 1개월 이상
C19: 연금보험료 | D19: ( | E19: 0.0475 | F19: ) | G19: 0 | J19: =G19+H19 -> 0 | K19: 1개월 이상
C20: 노인장기요양보험료 | D20: ( | E20: 0.1314 | F20: ) | G20: =INT(G18*$E20) -> 0 | J20: =G20+H20 -> 0 | K20: 1개월 이상
C21: 퇴직공제부금비 | D21: ( | E21: 0.023 | F21: ) | G21: 0 | J21: =G21+H21 -> 0 | K21: 추정금액 1억 이상
B22: 비 | C22: 산업안전보건관리비 | D22: ( | E22: 0.0207 | F22: ) | G22: =TRUNC((G12+G11)*$E22) -> 479081 | J22: =G22+H22 -> 479081 | K22: 2천만 이상
C23: 기타 경비 | D23: ( | E23: 0.052 | F23: ) | G23: =TRUNC((G11+G14)*$E23) -> 1250421 | J23: =G23+H23 -> 1250421 | K23: =K13 -> 6개월 이하
C24: 계 | G24: =INT(SUM(G15:G23)) -> 2184803 | J24: =G24+H24 -> 2184803
B25: 소 계 | G25: =INT(G11+G14+G24) -> 26231362 | J25: =G25+H25 -> 26231362
A26: 일 반 관 리 비 | D26: ( | E26: 0.08 | F26: ) | G26: =INT(G25*$E26) -> 2098508 | J26: =G26+H26 -> 2098508 | K26: 5억미만
A27: 계 | G27: =G25+G26 -> 28329870 | J27: =G27+H27 -> 28329870
A28: 이 윤 | D28: ( | E28: 0.15 | F28: ) | G28: =G29-G27 -> 1590130 | J28: =G28+H28 -> 1590130
A29: 계 | G29: =TRUNC((((G27-G11)*$E28)+G27),-4) -> 29920000 | J29: =G29+H29 -> 29920000
A30: 부 가 가 치 세 | D30: ( | E30: 0.1 | F30: ) | G30: =INT(G29*$E30) -> 2992000 | J30: =G30+H30 -> 2992000
A31: 합 계 | G31: =SUM(G29:G30) -> 32912000 | H31: =SUM(H29:H30) -> 0 | J31: =G31+H31 -> 32912000
A32: ( 주 요 자 재 ) | G32: =[1]주요자재!E22 -> 0 | J32: =G32+H32 -> 0
A33: 공 사 원 가 | G33: =G32+G31 -> 32912000 | J33: =SUM(G33:I33) -> 32912000
G36: =G9+G12+G15 -> 23308141 | H36: (직접비) | J36: =[2]시스템총!$L$35 -> 0
G37: =G13+G16+G17+G23+G26+G28 -> 6132778 | H37: (제경비)
G38: =SUM(G36:G37) -> 29440919 | H38: 계
G39: =G38-G29 -> -479081

Sheet  시스템설치일반총
F2: 공 사 비 명 세 서
A4: 일금 | B4: =F25 -> 23308141 | C4: 원
A5: 품 명 | C5: 재료 또는 치수 | D5: 원수 | E5: 단위 | F5: 총 액 | G5: 노 무 비 | I5: 재 료 비 | K5: 경 비 | M5: 비 고
G6: 단 가 | H6: 금 액 | I6: 단 가 | J6: 금 액 | K6: 단 가 | L6: 금 액
A7: 1. 지동양수장 | C7: CCTV 1대, VPN 설치 | D7: 1 | E7: 식 | F7: =원격소설치!F43 -> 15165102 | H7: =원격소설치!H43 -> 2270556 | J7: =원격소설치!J43 -> 12826430 | L7: =원격소설치!L43 -> 68116
A8: 2. 만운저수지 | C8: CCTV 1대 교체 | D8: 1 | E8: 식 | F8: =원격소설치!F54 -> 2125202 | H8: =원격소설치!H54 -> 525439 | J8: =원격소설치!J54 -> 1584000 | L8: =원격소설치!L54 -> 15763
A9: 3. 안교배수장 | C9: PLC A/I 카드 교체 | D9: 1 | E9: 식 | F9: =원격소설치!F64 -> 1315909 | H9: =원격소설치!H64 -> 437776 | J9: =원격소설치!J64 -> 865000 | L9: =원격소설치!L64 -> 13133
A10: 4. 호명간선분기밸브 | C10: 신호분배기 교체 | D10: 1 | E10: 식 | F10: =원격소설치!F81 -> 351621 | H10: =원격소설치!H81 -> 127788 | J10: =원격소설치!J81 -> 220000 | L10: =원격소설치!L81 -> 3833
A11: 5. 도촌저수지 | C11: 수문 자동운전 | D11: 1 | E11: 식 | F11: =원격소설치!F108 -> 4350307 | H11: =원격소설치!H108 -> 2108188 | J11: =원격소설치!J108 -> 2178874 | L11: =원격소설치!L108 -> 63245
A25: 합 계 | F25: =H25+J25+L25 -> 23308141 | H25: =INT(SUM(H7:H24)) -> 5469747 | J25: =INT(SUM(J7:J24)) -> 17674304 | L25: =INT(SUM(L7:L24)) -> 164090 | N25: =F25-H25-J25-L25 -> 0

Sheet 원격소설치
A2: 공 사 비 명 세 서
A4: 일금 | B4: =F43 -> 15165102 | C4: 원
A5: 품 명 | C5: 재료 또는 치수 | D5: 원수 | E5: 단위 | F5: 총 액 | G5: 노 무 비 | I5: 재 료 비 | K5: 경 비 | M5: 비 고
G6: 단 가 | H6: 금 액 | I6: 단 가 | J6: 금 액 | K6: 단 가 | L6: 금 액
A7: =' 시스템설치일반총'!A7 -> 1. 지동양수장
A8: VPN (원격소용) | C8: FW410 | D8: 1 | E8: 대 | F8: =H8+J8 -> 3500000 | I8: ='단가표(2026年)'!$N$18 -> 3500000 | J8: =TRUNC(I8*$D8) -> 3500000
A9: 스피드돔카메라(IR) | C9: 200만화소 이상, 36배 광학줌, 하우징일체, TTA인증 | D9: 1 | E9: 대 | F9: =J9 -> 5346000 | I9: ='단가표(2026年)'!$N$56 -> 5346000 | J9: =TRUNC(I9*$D9) -> 5346000
A10: CCTV CAMERA POLE | C10: STS, 2.0t, 3M Φ152 | D10: =D9 -> 1 | E10: 개 | F10: =J10 -> 1200000 | I10: ='단가표(2026年)'!$N$61 -> 1200000 | J10: =TRUNC(I10*$D10) -> 1200000
A11: 카메라 BRACKET | C11: STS, 2T | D11: =D9 -> 1 | E11: 개 | F11: =J11 -> 150000 | I11: ='단가표(2026年)'!$N$60 -> 150000 | J11: =TRUNC(I11*$D11) -> 150000
A12: CCTV POLE PANEL | C12: STS. 2.0t (W)300*(H)400*(D)300 | D12: =D9 -> 1 | E12: 개 | F12: =J12 -> 850000 | I12: ='단가표(2026年)'!$N$64 -> 850000 | J12: =TRUNC(I12*$D12) -> 850000
A13: 촬영안내판 | C13: 안내표지판, 200X300mm이상 | D13: =D9 -> 1 | E13: 개 | F13: =J13 -> 180000 | I13: ='단가표(2026年)'!$N$69 -> 180000 | J13: =TRUNC(I13*$D13) -> 180000
A14: 기초베이스 | C14: 기초앙카 | D14: =D9 -> 1 | E14: 개 | F14: =J14 -> 360700 | I14: ='단가표(2026年)'!$N$72 -> 360700 | J14: =TRUNC(I14*$D14) -> 360700
A15: SURGE PROTECTOR | C15: 일체형(전원 및 통신용) | D15: =D9 -> 1 | E15: 개 | F15: =J15 -> 700000 | I15: ='단가표(2026年)'!$N$68 -> 700000 | J15: =TRUNC(I15*$D15) -> 700000
A16: VMS License (1CH) | C16: 카메라 접속라이센스 (채널당) | D16: =D9 -> 1 | E16: 개 | F16: =J16 -> 430000 | I16: ='단가표(2026年)'!$N$47 -> 430000 | J16: =TRUNC(I16*$D16) -> 430000
A17: 전력케이블 | C17: 0.6/1KV F-CV 2.5㎟*3C | D17: =물량산출서!E32 -> 21 | E17: M | F17: =J17 -> 47775 | I17: ='단가표(2026年)'!$N$77 -> 2275 | J17: =TRUNC(I17*$D17) -> 47775
A18: 통신케이블 | C18: UTP CAT.6 | D18: =물량산출서!E33 -> 21 | E18: M | F18: =J18 -> 28770 | I18: ='단가표(2026年)'!$N$106 -> 1370 | J18: =TRUNC(I18*$D18) -> 28770
A19: 강제전선관 | C19: ST 28㎜ | D19: =물량산출서!E36 -> 2 | E19: M | F19: =J19 -> 9540 | I19: ='단가표(2026年)'!$N$110 -> 4770 | J19: =TRUNC(I19*$D19) -> 9540
A20: 가요전선관 | C20: 고장력방수 28㎜ | D20: =물량산출서!E38 -> 2 | E20: M | F20: =H20+J20 -> 3900 | I20: ='단가표(2026年)'!$N$119 -> 1950 | J20: =TRUNC(I20*$D20) -> 3900
A21: 가요전선관콘넥터 | C21: 황동방수 28mm | D21: =물량산출서!E40 -> 2 | E21: 개 | F21: =H21+J21 -> 3000 | I21: ='단가표(2026年)'!$N$123 -> 1500 | J21: =TRUNC(I21*$D21) -> 3000
A22: 파상형경질PE관 | C22: 40mm(0.384kg) | D22: 10 | E22: M | F22: =H22+J22 -> 5500 | I22: ='단가표(2026年)'!$N$114 -> 550 | J22: =TRUNC(I22*$D22) -> 5500
A23: 풀박스 | C23: 200*200*150 | D23: =물량산출서!E42 -> 1 | E23: 개 | F23: =H23+J23 -> 4730 | I23: ='단가표(2026年)'!$N$130 -> 4730 | J23: =TRUNC(I23*$D23) -> 4730
A24: 전선관부속 | C24: 관의 15% | D24: 1 | E24: 식 | F24: =J24 -> 2016 | I24: =TRUNC(SUM(J19:J20)*15%) -> 2016 | J24: =TRUNC(I24*$D24) -> 2016
A25: 기타잡재 | C25: 0.05 | D25: 1 | E25: 식 | F25: =J25 -> 4499 | I25: =TRUNC(SUM(J17:J20)*5%) -> 4499 | J25: =TRUNC(I25*$D25) -> 4499
A27: 소 계 | F27: =H27+J27+L27 -> 12826430 | J27: =SUM(J8:J25) -> 12826430
A28: 품 명 | C28: 재료 또는 치수 | D28: 원수 | E28: 단위 | F28: 총 액 | G28: 노 무 비 | I28: 재 료 비 | K28: 경 비 | M28: 비 고
G29: 단 가 | H29: 금 액 | I29: 단 가 | J29: 금 액 | K29: 단 가 | L29: 금 액
A30: < 설치노무비 >
A31: 통신관련산업기사 | D31: =원격소설치근!F23 -> 0.74 | E31: 인 | F31: =H31 -> 225336 | G31: ='단가표(2026年)'!$O$192 -> 304509 | H31: =TRUNC(G31*$D31) -> 225336 | M31: 산.근
A32: S/W시험사 | D32: =원격소설치근!H23 -> 0.39 | E32: 인 | F32: =H32 -> 174079 | G32: ='단가표(2026年)'!$O$189 -> 446358 | H32: =TRUNC(G32*$D32) -> 174079 | M32: 산.근
A33: H/W시험사 | D33: =원격소설치근!J23 -> 0.39 | E33: 인 | F33: =H33 -> 153305 | G33: ='단가표(2026年)'!$O$190 -> 393090 | H33: =TRUNC(G33*$D33) -> 153305 | M33: 산.근
A34: 통신설비공 | D34: =원격소설치근!L23 -> 1.46 | E34: 인 | F34: =H34 -> 460670 | G34: ='단가표(2026年)'!$O$193 -> 315528 | H34: =TRUNC(G34*$D34) -> 460670 | M34: 산.근
A35: 저압케이블공 | D35: =원격소설치근!N23 -> 0.68 | E35: 인 | F35: =H35 -> 206826 | G35: ='단가표(2026年)'!$O$199 -> 304156 | H35: =TRUNC(G35*$D35) -> 206826 | M35: 산.근
A36: 내선전공 | D36: =원격소설치근!P23 -> 2.14 | E36: 인 | F36: =H36 -> 585666 | G36: ='단가표(2026年)'!$O$198 -> 273676 | H36: =TRUNC(G36*$D36) -> 585666 | M36: 산.근
A37: 특별인부 | D37: =원격소설치근!R23 -> 0.32 | E37: 인 | F37: =H37 -> 72359 | G37: ='단가표(2026年)'!$O$196 -> 226122 | H37: =TRUNC(G37*$D37) -> 72359 | M37: 산.근
A38: 보통인부 | D38: =원격소설치근!T23 -> 2.28 | E38: 인 | F38: =H38 -> 392315 | G38: ='단가표(2026年)'!$O$194 -> 172068 | H38: =TRUNC(G38*$D38) -> 392315 | M38: 산.근
A39: <경 비>
A40: 공구손료 | C40: 직접노무비의 3% | D40: 1 | E40: 식 | F40: =L40 -> 68116 | K40: =TRUNC(SUM(H31:H38)*3%) -> 68116 | L40: =TRUNC(K40*$D40) -> 68116
A41: 소 계 | F41: =H41+J41+L41 -> 2338672 | H41: =SUM(H31:H40) -> 2270556 | L41: =SUM(L40) -> 68116
A43: 계 | F43: =H43+J43+L43 -> 15165102 | H43: =H41 -> 2270556 | J43: =J27 -> 12826430 | L43: =L41 -> 68116
A45: =' 시스템설치일반총'!A8 -> 2. 만운저수지
A46: 메가픽셀 적외선카메라 | C46: 2M, 3배 광학줌, 돔형(하우징일체형) | D46: 1 | E46: 대 | F46: =J46 -> 1584000 | I46: ='단가표(2026年)'!$N$59 -> 1584000 | J46: =TRUNC(I46*$D46) -> 1584000
A47: < 설치노무비 >
A48: 통신관련산업기사 | D48: =원격소설치근!F31 -> 0.56 | E48: 인 | F48: =H48 -> 170525 | G48: ='단가표(2026年)'!$O$192 -> 304509 | H48: =TRUNC(G48*$D48) -> 170525 | M48: 산.근
A49: 통신설비공 | D49: =원격소설치근!L31 -> 0.96 | E49: 인 | F49: =H49 -> 302906 | G49: ='단가표(2026年)'!$O$193 -> 315528 | H49: =TRUNC(G49*$D49) -> 302906 | M49: 산.근
A50: 특별인부 | D50: =원격소설치근!R31 -> 0.23 | E50: 인 | F50: =H50 -> 52008 | G50: ='단가표(2026年)'!$O$196 -> 226122 | H50: =TRUNC(G50*$D50) -> 52008 | M50: 산.근
A51: <경 비>
A52: 공구손료 | C52: 직접노무비의 3% | D52: 1 | E52: 식 | F52: =L52 -> 15763 | K52: =TRUNC(SUM(H48:H50)*3%) -> 15763 | L52: =TRUNC(K52*$D52) -> 15763
A54: 계 | F54: =H54+J54+L54 -> 2125202 | H54: =SUM(H48:H53) -> 525439 | J54: =SUM(J46:J53) -> 1584000 | L54: =SUM(L52:L53) -> 15763
A55: =' 시스템설치일반총'!A9 -> 3. 안교배수장
A56: 아날로그 입력모듈 | C56: 8P (PLC) | D56: 1 | E56: 개 | F56: =J56 -> 865000 | I56: ='단가표(2026年)'!$N$31 -> 865000 | J56: =TRUNC(I56*$D56) -> 865000
A57: < 설치노무비 >
A58: 통신관련산업기사 | D58: =원격소설치근!F37 -> 0.6 | E58: 인 | F58: =H58 -> 182705 | G58: ='단가표(2026年)'!$O$192 -> 304509 | H58: =TRUNC(G58*$D58) -> 182705 | M58: 산.근
A59: H/W시험사 | D59: =원격소설치근!J37 -> 0.6 | E59: 인 | F59: =H59 -> 235854 | G59: ='단가표(2026年)'!$O$190 -> 393090 | H59: =TRUNC(G59*$D59) -> 235854 | M59: 산.근
A60: 통신설비공 | D60: =원격소설치근!L37 -> 0.05 | E60: 인 | F60: =H60 -> 15776 | G60: ='단가표(2026年)'!$O$193 -> 315528 | H60: =TRUNC(G60*$D60) -> 15776 | M60: 산.근
A61: 보통인부 | D61: =원격소설치근!T37 -> 0.02 | E61: 인 | F61: =H61 -> 3441 | G61: ='단가표(2026年)'!$O$194 -> 172068 | H61: =TRUNC(G61*$D61) -> 3441 | M61: 산.근
A62: <경 비>
A63: 공구손료 | C63: 직접노무비의 3% | D63: 1 | E63: 식 | F63: =L63 -> 13133 | K63: =TRUNC(SUM(H58:H61)*3%) -> 13133 | L63: =TRUNC(K63*$D63) -> 13133
A64: 계 | F64: =H64+J64+L64 -> 1315909 | H64: =SUM(H58:H63) -> 437776 | J64: =SUM(J56:J63) -> 865000 | L64: =SUM(L63:L63) -> 13133
A66: =' 시스템설치일반총'!A10 -> 4. 호명간선분기밸브
A67: 신호분배기(개도용) | C67: 1채널 입력, 2채널 출력:4~20mA | D67: 1 | E67: 개 | F67: =J67 -> 220000 | I67: ='단가표(2026年)'!$N$38 -> 220000 | J67: =TRUNC(I67*$D67) -> 220000
A68: < 설치노무비 >
A69: 통신설비공 | D69: =원격소설치근!L42 -> 0.405 | E69: 인 | F69: =H69 -> 127788 | G69: ='단가표(2026年)'!$O$193 -> 315528 | H69: =TRUNC(G69*$D69) -> 127788 | M69: 산.근
A70: <경 비>
A71: 공구손료 | C71: 직접노무비의 3% | D71: 1 | E71: 식 | F71: =L71 -> 3833 | K71: =TRUNC(SUM(H69:H69)*3%) -> 3833 | L71: =TRUNC(K71*$D71) -> 3833
A81: 계 | F81: =H81+J81+L81 -> 351621 | H81: =SUM(H69:H71) -> 127788 | J81: =SUM(J67:J71) -> 220000 | L81: =SUM(L71:L71) -> 3833
A82: =' 시스템설치일반총'!A11 -> 5. 도촌저수지
A83: KRC-HMI S/W FEE | C83: 자동운전 화면구성 | D83: 1 | E83: 개 | F83: =J83 -> 536000 | I83: ='단가표(2026年)'!N6 -> 536000 | J83: =TRUNC(I83*$D83) -> 536000
A84: RTU S/W FEE | C84: DIGITAL INPUT/OUTPUT | D84: ='도촌IO LIST'!AX19+'도촌IO LIST'!AX20 -> 20 | E84: 점 | F84: =J84 -> 1260000 | I84: ='단가표(2026年)'!N35 -> 63000 | J84: =TRUNC(I84*$D84) -> 1260000
A85: RTU S/W FEE | C85: ANALOG INPUT/OUTPUT | D85: ='도촌IO LIST'!AX21 -> 2 | E85: 점 | F85: =J85 -> 252000 | I85: ='단가표(2026年)'!N36 -> 126000 | J85: =TRUNC(I85*$D85) -> 252000
A86: CONTROL RELAY | C86: 2A,2B(AC용) | D86: ='도촌IO LIST'!F7+'도촌IO LIST'!V7+'도촌IO LIST'!X8 -> 8 | E86: 개 | F86: =J86 -> 109600 | I86: ='단가표(2026年)'!N41 -> 13700 | J86: =TRUNC(I86*$D86) -> 109600
A87: BACK WIRE | C87: KIV 1.5㎟ | D87: =TRUNC((D84+D85)*2*1.05,0) -> 46 | E87: M | F87: =J87 -> 15042 | I87: ='단가표(2026年)'!N103 -> 327 | J87: =TRUNC(I87*$D87) -> 15042
A88: 기타잡재 | C88: 0.05 | D88: 1 | E88: 식 | F88: =J88 -> 6232 | I88: =TRUNC(SUM(J86:J87)*5%) -> 6232 | J88: =TRUNC(I88*$D88) -> 6232
A89: <설치노무비>
A90: 통신관련산업기사 | D90: =원격소설치근!F53 -> 1.33 | E90: 인 | F90: =H90 -> 404996 | G90: ='단가표(2026年)'!$O$192 -> 304509 | H90: =TRUNC(G90*$D90) -> 404996
A91: 통신설비공 | D91: =원격소설치근!L53 -> 1.33 | E91: 인 | F91: =H91 -> 419652 | G91: ='단가표(2026年)'!$O$193 -> 315528 | H91: =TRUNC(G91*$D91) -> 419652
A92: 내선전공 | D92: =원격소설치근!P53 -> 4.69 | E92: 인 | F92: =H92 -> 1283540 | G92: ='단가표(2026年)'!$O$198 -> 273676 | H92: =TRUNC(G92*$D92) -> 1283540 | M92: 산.근
A93: <경 비>
A94: 공구손료 | C94: 직접노무비의 3% | D94: 1 | E94: 식 | F94: =L94 -> 63245 | K94: =TRUNC(SUM(H90:H92)*3%) -> 63245 | L94: =TRUNC(K94*$D94) -> 63245
A108: 계 | F108: =H108+J108+L108 -> 4350307 | H108: =SUM(H90:H107) -> 2108188 | J108: =SUM(J83:J107) -> 2178874 | L108: =SUM(L94:L107) -> 63245

Sheet 원격소설치근
A1: 시스템 설치노무비 산출근거
A2: 종 별 | B2: 재료 또는 | C2: 원 수 | D2: 단 위 | E2: 통신관련산업기사 | G2: S/W 시험사 | I2: H/W 시험사 | K2: 통신설비공 | M2: 저압케이블공 | O2: 내선전공 | Q2: 특별인부 | S2: 보통인부 | U2: 비 고
B3: 치 수 | E3: 인 수 | F3: 계 | G3: 인 수 | H3: 계 | I3: 인 수 | J3: 계 | K3: 인 수 | L3: 계 | M3: 인 수 | N3: 계 | O3: 인 수 | P3: 계 | Q3: 인 수 | R3: 계 | S3: 인 수 | T3: 계
A4: =' 시스템설치일반총'!A7 -> 1. 지동양수장
A5: CAMERA 설치 | B5: 스피드돔형 | C5: =원격소설치!D9 -> 1 | D5: 대 | K5: 0.32 | L5: =$C5*K5 -> 0.32 | Q5: 0.32 | R5: =$C5*Q5 -> 0.32 | U5: 통9-2-1-1
A6: 브라켓 설치 | B6: 일반형 | C6: =C5 -> 1 | D6: 개 | K6: 0.23 | L6: =$C6*K6 -> 0.23 | S6: 0.23 | T6: =$C6*S6 -> 0.23 | U6: 통9-2-1-1
A7: 감시부 설치 | B7: 영상저장장치 | C7: =C6 -> 1 | D7: 대 | E7: 0.18 | F7: =$C7*E7 -> 0.18 | K7: 0.18 | L7: =$C7*K7 -> 0.18 | U7: 통9-2-1-1
A8: 송수신 제어신호 및 영상LEVEL조정 | C8: =C6 -> 1 | D8: Set | E8: 0.52 | F8: =$C8*E8 -> 0.52 | K8: 0.65 | L8: =$C8*K8 -> 0.65 | U8: 통9-2-1-1
A9: 종합 시험 | C9: =C6 -> 1 | D9: 대 | E9: 0.04 | F9: =$C9*E9 -> 0.04 | K9: 0.08 | L9: =$C9*K9 -> 0.08 | U9: 통9-2-1-1
A10: VPN 설치 | B10: 원격소용 | C10: =C7 -> 1 | D10: 대 | G10: =0.39 -> 0.39 | H10: =G10*$C10 -> 0.39 | I10: =0.39 -> 0.39 | J10: =I10*$C10 -> 0.39 | U10: 통8-1-5
A11: 서지보호기 | B11: (전원+통신용) | C11: =원격소설치!D15 -> 1 | D11: 개 | O11: 0.24 | P11: =$C11*O11 -> 0.24 | U11: 전5-45-2
A12: 카메라 POLE 설치 | B12: SUS 4M, 설치 | C12: =C5 -> 1 | D12: 개 | O12: =0.5 -> 0.5 | P12: =$C12*O12 -> 0.5 | S12: =0.56 -> 0.56 | T12: =$C12*S12 -> 0.56 | U12: 통9-2-1-3
A13: 함체설치 | C13: =C12 -> 1 | D13: 면 | O13: 0.11 | P13: =$C13*O13 -> 0.11 | U13: 통3-4-9
A14: 기초설치 | B14: 앙카볼트 | C14: =4*C12 -> 4 | D14: 개소 | O14: 0.12 | P14: =$C14*O14 -> 0.48 | U14: 통3-7-1
A15: 전력케이블 | B15: 0.6/1KV F-CV 4.0sq/2C | D15: M | M15: 0.016 | N15: =$C15*M15 -> 0 | U15: 전5-13⑤
A16: 전력케이블 | B16: 0.6/1KV F-CV 2.5sq/3C | C16: =물량산출서!G32 -> 20 | D16: M | M16: 0.019 | N16: =$C16*M16 -> 0.38 | U16: 전5-13⑤
A17: 통신케이블 | B17: UTP CAT.5 | C17: =물량산출서!G33 -> 20 | D17: M | M17: =0.015 -> 0.015 | N17: =$C17*M17 -> 0.3 | U17: 전5-13⑤
A18: 전선관 | B18: ST 28㎜ | C18: =물량산출서!G36 -> 2 | D18: M | O18: =0.14*1.2 -> 0.168 | P18: =$C18*O18 -> 0.336 | U18: 전5-1②
A19: 가요전선관 | B19: 고장력방수 28㎜ | C19: =물량산출서!G38 -> 2 | D19: M | O19: 0.064 | P19: =$C19*O19 -> 0.128 | U19: 전5-1
A20: 파상형경질PE관 | B20: 30mm | C20: =물량산출서!G41 -> 10 | D20: M | O20: 0.006 | P20: =$C20*O20 -> 0.06 | S20: 0.014 | T20: =$C20*S20 -> 0.14 | U20: 전4-31
A21: 풀박스 | B21: 200*200*100 | C21: =물량산출서!G42 -> 1 | D21: 개 | O21: 0.29 | P21: =$C21*O21 -> 0.29 | U21: 전5-3
A22: 터파기,되메우기 | B22: 깊이 1m 미만 | C22: =(((0.4+0.6)*0.75)/2)*C20 -> 3.75 | D22: ㎥ | S22: =0.26+0.1 -> 0.36 | T22: =$C22*S22 -> 1.35 | U22: 통2-1-8-1
A23: 인공계 | F23: =TRUNC(SUM(F5:F22),2) -> 0.74 | H23: =TRUNC(SUM(H5:H22),2) -> 0.39 | J23: =TRUNC(SUM(J5:J22),2) -> 0.39 | L23: =TRUNC(SUM(L5:L22),2) -> 1.46 | N23: =TRUNC(SUM(N5:N22),2) -> 0.68 | P23: =TRUNC(SUM(P5:P22),2) -> 2.14 | R23: =TRUNC(SUM(R5:R22),2) -> 0.32 | T23: =TRUNC(SUM(T5:T22),2) -> 2.28
A25: =' 시스템설치일반총'!A8 -> 2. 만운저수지
A26: CAMERA 설치 | B26: 돔형, 교체 | C26: 1 | D26: 대 | K26: =0.18*130% -> 0.234 | L26: =$C26*K26 -> 0.234 | Q26: =0.18*130% -> 0.234 | R26: =$C26*Q26 -> 0.234 | U26: 통9-2-1-1
A27: 송수신 제어신호 및 영상LEVEL조정 | C27: =C26 -> 1 | D27: Set | E27: 0.52 | F27: =$C27*E27 -> 0.52 | K27: 0.65 | L27: =$C27*K27 -> 0.65 | U27: 통9-2-1-1
A28: 종합 시험 | C28: =C26 -> 1 | D28: 대 | E28: 0.04 | F28: =$C28*E28 -> 0.04 | K28: 0.08 | L28: =$C28*K28 -> 0.08 | U28: 통9-2-1-1
A31: 인공계 | F31: =TRUNC(SUM(F26:F30),2) -> 0.56 | L31: =TRUNC(SUM(L26:L30),2) -> 0.96 | R31: =TRUNC(SUM(R26:R30),2) -> 0.23
A32: 종 별 | B32: 재료 또는 | C32: 원 수 | D32: 단 위 | E32: 통신관련산업기사 | G32: S/W 시험사 | I32: H/W 시험사 | K32: 통신설비공 | M32: 저압케이블공 | O32: 내선전공 | Q32: 특별인부 | S32: 보통인부 | U32: 비 고
B33: 치 수 | E33: 인 수 | F33: 계 | G33: 인 수 | H33: 계 | I33: 인 수 | J33: 계 | K33: 인 수 | L33: 계 | M33: 인 수 | N33: 계 | O33: 인 수 | P33: 계 | Q33: 인 수 | R33: 계 | S33: 인 수 | T33: 계
A34: =원격소설치!A55 -> 3. 안교배수장
A35: 아날로그 입력모듈 | B35: 카드삽입 및 점검 | C35: 1 | D35: 개 | K35: 0.05 | L35: =$C35*K35 -> 0.05 | S35: 0.02 | T35: =$C35*S35 -> 0.02 | U35: 통8-4-7-5
B36: 시험 및 조정 | C36: 1 | D36: 개 | E36: 0.6 | F36: =$C36*E36 -> 0.6 | I36: 0.6 | J36: =$C36*I36 -> 0.6 | U36: 통8-4-7-5
A37: 인공계 | F37: =SUM(F35:F36) -> 0.6 | J37: =SUM(J35:J36) -> 0.6 | L37: =SUM(L35:L36) -> 0.05 | T37: =SUM(T35:T36) -> 0.02
A39: =' 시스템설치일반총'!A10 -> 4. 호명간선분기밸브
A40: 신호분배기(개도용) | B40: 교체 | C40: 1 | D40: 개 | K40: =0.27*150% -> 0.405 | L40: =$C40*K40 -> 0.405 | S40: 0.02 | T40: =$C40*S40 -> 0.02 | U40: 전3-34
A42: 인공계 | L42: =SUM(L40:L41) -> 0.405
A44: =' 시스템설치일반총'!A11 -> 5. 도촌저수지
A45: RTU 설치공사비
A46: -종합점검 및 시험 | B46: 조정 및 시험 | C46: 1 | D46: 개소 | E46: 0.6 | F46: =$C46*E46 -> 0.6 | K46: 0.6 | L46: =$C46*K46 -> 0.6 | U46: 통8-4-7-5
B47: 포인트연동(감시)시험 | C47: ='도촌IO LIST'!AX19+'도촌IO LIST'!AX21 -> 15 | D47: 포인트 | E47: 0.03 | F47: =$C47*E47 -> 0.45 | K47: 0.03 | L47: =$C47*K47 -> 0.45 | U47: 통8-4-7-5
B48: 포인트연동(제어)시험 | C48: ='도촌IO LIST'!AX20 -> 7 | D48: 포인트 | E48: 0.04 | F48: =$C48*E48 -> 0.28 | K48: 0.04 | L48: =$C48*K48 -> 0.28 | U48: 통8-4-7-5
A49: 보조릴레이 | B49: 2A,2B(AC용) | C49: =원격소설치!D86 -> 8 | D49: 개 | O49: =0.18*150% -> 0.27 | P49: =$C49*O49 -> 2.16 | U49: 전3-34
A50: 기기용 비닐절연전선 | B50: 450/700V KIV 2.5㎟ | C50: =원격소설치!D87 -> 46 | D50: M | O50: 0.055 | P50: =$C50*O50 -> 2.53 | U50: 전3-34
A53: 인공계 | F53: =SUM(F46:F52) -> 1.33 | L53: =SUM(L46:L52) -> 1.33 | P53: =SUM(P46:P52) -> 4.69

Sheet 참고(산근)        >>>

Sheet IO LIST
A1: INPUT/OUTPUT POINTS SCHEDULE
A2: I/O 구분 | B2: DIGITAL OUTPUT | G2: DIGITAL INPUT | Z2: ANALOG INPUT | AL2: 비 고
B3: CONTROL | G3: STATUS | L3: ALARM | Z3: 4 ~ 20mA
A4: 설 비 명 | B4: On/Off | C4: Open/STOP/Close | D4: Run/Stop | E4: Reset | F4: =J4 -> Local/Remote | G4: On/Off | H4: Open/Close | I4: F.O/F.C | J4: Local/Remote | K4: 통신이상 | L4: OCR | M4: OCGR | N4: OVR | O4: UVR | P4: OVGR | Q4: POR | R4: SGR | S4: 전원(UPS)이상 | T4: Buzzer | U4: EOCR | V4: 수위(H/L) | W4: Door Open | X4: Fault | Y4: 모터침수(W.C/O.C) | Z4: 전압(V) | AA4: 전류(A) | AB4: 전력(kW) | AC4: 무효전력량(Var) | AD4: 영상전압(Vo) | AE4: 역률(PF) | AF4: 주파수(F) | AG4: 수위 | AH4: 개도 | AI4: 온도(변압기, R/S/T) | AJ4: 온도(권선, 베어링) | AK4: 유량(순시,적산)
A5: 밸브 (2대) | AN5: 2
A6: RTU | E6: 1 | K6: 1 | S6: 1
A7: 수위 | AG7: 1
AQ21: DI | AR21: =G23 -> 2
AQ22: DO | AR22: =B23 -> 1
A23: 소 계 | B23: =SUM(B5:F7) -> 1 | G23: =SUM(G5:Y7) -> 2 | Z23: =SUM(Z5:AK7) -> 1 | AN23: 감시 | AO23: =G23+Z23 -> 3 | AQ23: DI/DO | AR23: =B23+G23 -> 3
A24: SPARE | B24: =B25-B23 -> 15 | G24: =G25-G23 -> 14 | Z24: =Z25-Z23 -> 7 | AN24: 제어 | AO24: =B23 -> 1 | AQ24: AI | AR24: =Z23 -> 1
A25: 합 계 | B25: 16 | G25: 16 | Z25: 8 | AN25: 총POINTS | AO25: =AO23+AO24 -> 4 | AR25: =SUM(AR23:AR24) -> 4
B27: 모듈 | D27: 16P | E27: -- | F27: =B25/16 -> 1 | N27: 모듈 | P27: 16P | Q27: -- | R27: =G25/16 -> 1 | AC27: 모듈 | AE27: 8P | AF27: -- | AG27: =Z25/8 -> 1

Sheet 물량산출서
A1: 영상감시장치 수량산출서
A2: =시스템총!A1 -> 지동양수장 외 4개소 물관리자동화시스템 보수 및 CCTV 신설공사
A3: 회로명 | B3: 산출목록 | C3: 규격 | D3: 단위 | E3: 합계 | F3: 할증 | G3: 계 | M3: 산 | O3: 출 | Q3: 근
A4: =' 시스템설치일반총'!A7 -> 1. 지동양수장
A5: RTU장치 ~ CCTV | B5: 전원케이블 | C5: 0.6/1KV F-CV 2.5㎟*3C | D5: M | E5: =TRUNC(G5+G5*F5,0) -> 21 | F5: 0.05 | G5: =SUM(I5:O5) -> 20 | H5: ( | I5: 2 | J5: + | K5: 16 | L5: + | M5: 2 | N5: + | P5: ) | R5: : | S5: 옥외Pole TYPE 1대
B6: 통신케이블 | C6: UTP CAT.6 | D6: M | E6: =TRUNC(G6+G6*F6,0) -> 21 | F6: 0.05 | G6: =SUM(I6:O6) -> 20 | H6: ( | I6: =I5 -> 2 | J6: + | K6: =K5 -> 16 | L6: + | M6: =M5 -> 2 | N6: + | P6: )
B7: 전선관 | C7: ST 28㎜ | D7: M | E7: =TRUNC(G7+G7*F7,0) -> 2 | F7: 0.05 | G7: =SUM(I7:O7) -> 2 | H7: ( | J7: + | K7: 2 | L7: + | N7: + | P7: )
B8: 가요전선관 | C8: 고장력방수 28㎜ | D8: M | E8: =TRUNC(G8+G8*F8,0) -> 2 | F8: 0.05 | G8: =SUM(I8:O8) -> 2 | H8: ( | J8: + | K8: 2 | L8: + | N8: + | P8: )
B9: 가요전선관콘넥터 | C9: 황동방수 28mm | D9: 개 | E9: =TRUNC(G9+G9*F9,0) -> 2 | G9: =SUM(I9:O9) -> 2 | H9: ( | J9: + | K9: 2 | L9: + | N9: + | P9: )
B10: 파상형경질PE관 | C10: 40mm | D10: M | E10: =TRUNC(G10+G10*F10,0) -> 10 | F10: 0.05 | G10: =SUM(I10:O10) -> 10 | H10: ( | J10: + | K10: 10 | L10: + | N10: + | P10: )
B11: 풀박스 | C11: 200*200*150 | D11: 개 | E11: =G11 -> 1 | G11: =SUM(I11:O11) -> 1 | H11: ( | J11: + | K11: 1 | L11: + | N11: + | P11: )
A30: 합 계
B31: 전원케이블 | C31: 0.6/1KV F-CV 4.0㎟*2C | D31: M | E31: =TRUNC(G31+G31*F31,0) -> 0 | F31: 0.05 | G31: =SUMIF($C$5:$C$29,C31,$G$5:$G$29) -> 0
B32: =B31 -> 전원케이블 | C32: 0.6/1KV F-CV 2.5㎟*3C | D32: =D31 -> M | E32: =TRUNC(G32+G32*F32,0) -> 21 | F32: 0.05 | G32: =SUMIF($C$5:$C$29,C32,$G$5:$G$29) -> 20
B33: 통신케이블 | C33: UTP CAT.6 | D33: M | E33: =TRUNC(G33+G33*F33,0) -> 21 | F33: 0.05 | G33: =SUMIF($C$5:$C$29,C33,$G$5:$G$29) -> 20
B34: 접지케이블 | C34: 0.6/1KV F-GV 4.0㎟ | D34: M | E34: =TRUNC(G34+G34*F34,0) -> 0 | F34: 0.05 | G34: =SUMIF($C$5:$C$29,C34,$G$5:$G$29) -> 0
B35: 전선관 | C35: ST 22㎜ | D35: M | E35: =TRUNC(G35+G35*F35,0) -> 0 | F35: 0.05 | G35: =SUMIF($C$5:$C$29,C35,$G$5:$G$29) -> 0
B36: 전선관 | C36: ST 28㎜ | D36: M | E36: =TRUNC(G36+G36*F36,0) -> 2 | F36: 0.05 | G36: =SUMIF($C$5:$C$29,C36,$G$5:$G$29) -> 2
B37: 가요전선관 | C37: 고장력방수 22㎜ | D37: M | E37: =TRUNC(G37+G37*F37,0) -> 0 | F37: 0.05 | G37: =SUMIF($C$5:$C$29,C37,$G$5:$G$29) -> 0
B38: 가요전선관 | C38: 고장력방수 28㎜ | D38: M | E38: =TRUNC(G38+G38*F38,0) -> 2 | F38: 0.05 | G38: =SUMIF($C$5:$C$29,C38,$G$5:$G$29) -> 2
B39: 가요전선관콘넥터 | C39: 황동방수 22mm | D39: 개 | E39: =TRUNC(G39+G39*F39,0) -> 0 | G39: =SUMIF($C$5:$C$29,C39,$G$5:$G$29) -> 0
B40: 가요전선관콘넥터 | C40: 황동방수 28mm | D40: 개 | E40: =TRUNC(G40+G40*F40,0) -> 2 | G40: =SUMIF($C$5:$C$29,C40,$G$5:$G$29) -> 2
B41: 파상형경질PE관 | C41: 40mm | D41: M | E41: =TRUNC(G41+G41*F41,0) -> 10 | G41: =SUMIF($C$5:$C$29,C41,$G$5:$G$29) -> 10
B42: 풀박스 | C42: 200*200*150 | D42: 개 | E42: =TRUNC(G42+G42*F42,0) -> 1 | G42: =SUMIF($C$5:$C$29,C42,$G$5:$G$29) -> 1
B51: 접지케이블 | C51: 0.6/1KV F-GV 4.0㎟ | D51: M | E51: =TRUNC(G51+G51*F51,0) -> #REF! | F51: 0.05 | G51: =SUM(I51:O51)*2 -> #REF! | H51: ( | I51: =#REF! -> #REF! | J51: + | K51: =#REF! -> #REF! | L51: + | M51: =#REF! -> #REF! | N51: + | P51: ) | Q51: * | S51: 2대
A54: 자동화시스템 수량산출서
A55: 회로명 | B55: 산출목록 | C55: 규격 | D55: 단위 | E55: 합계 | F55: 할증 | G55: 계 | M55: 산 | O55: 출 | Q55: 근
A56: 2. 대원1호 방수문 | C56: (CCTV 1대)
A57: CCTV ~ RTU | B57: 전원케이블 | C57: 0.6/1KV F-CV 2.5㎟/3C | D57: M | E57: =TRUNC(G57+G57*F57,0) -> 26 | F57: 0.05 | G57: =SUM(I57:O57) -> 25 | H57: ( | I57: 2 | J57: + | K57: 15 | L57: + | M57: 6 | N57: + | O57: 2 | P57: )
B58: 접지케이블 | C58: 0.6/1KV F-GV 4.0㎟ | D58: M | E58: =TRUNC(G58+G58*F58,0) -> 26 | F58: 0.05 | G58: =SUM(I58:O58) -> 25 | H58: ( | I58: =I57 -> 2 | J58: + | K58: =K57 -> 15 | L58: + | M58: =M57 -> 6 | N58: + | O58: =O57 -> 2 | P58: )
B59: 통신케이블 | C59: UTP CAT.5, 4P | D59: M | E59: =TRUNC(G59+G59*F59,0) -> 26 | F59: 0.05 | G59: =SUM(I59:O59) -> 25 | H59: ( | I59: =I57 -> 2 | J59: + | K59: =K57 -> 15 | L59: + | M59: =M57 -> 6 | N59: + | O59: =O57 -> 2 | P59: )
B60: 전선관 | C60: ST 28㎜ | D60: M | E60: =TRUNC(G60+G60*F60,0) -> 5 | F60: 0.05 | G60: =SUM(I60:O60) -> 5 | H60: ( | J60: + | K60: 5 | L60: + | N60: + | P60: )
B61: 가요전선관 | C61: 고장력방수 28㎜ | D61: M | E61: =TRUNC(G61+G61*F61,0) -> 2 | F61: 0.05 | G61: =SUM(I61:O61) -> 2 | H61: ( | J61: + | K61: 2 | L61: + | N61: + | P61: )
B62: 가요전선관콘넥터 | C62: 황동방수 28mm | D62: 개 | E62: =TRUNC(G62+G62*F62,0) -> 2 | G62: =SUM(I62:O62) -> 2 | H62: ( | J62: + | K62: 2 | L62: + | N62: + | P62: )
B63: 파상형경질PE관 | C63: 50mm | D63: M | E63: =TRUNC(G63+G63*F63,0) -> 5 | F63: 0.05 | G63: =SUM(I63:O63) -> 5 | H63: ( | J63: + | K63: 5 | L63: + | N63: + | P63: )
A65: 합 계
B66: 전원케이블 | C66: 0.6/1KV F-CV 2.5㎟/3C | D66: M | E66: =TRUNC(G66+G66*F66,0) -> 26 | F66: 0.05 | G66: =SUMIF($C$57:$C$64,C66,$G$57:$G$64) -> 25
B67: 통신케이블 | C67: UTP CAT.5, 4P | D67: M | E67: =TRUNC(G67+G67*F67,0) -> 26 | F67: 0.05 | G67: =SUMIF($C$57:$C$64,C67,$G$57:$G$64) -> 25
B68: 접지케이블 | C68: 0.6/1KV F-GV 4.0㎟ | D68: M | E68: =TRUNC(G68+G68*F68,0) -> 26 | F68: 0.05 | G68: =SUMIF($C$57:$C$64,C68,$G$57:$G$64) -> 25
B69: 전선관 | C69: ST 28㎜ | D69: M | E69: =TRUNC(G69+G69*F69,0) -> 5 | F69: 0.05 | G69: =SUMIF($C$57:$C$64,C69,$G$57:$G$64) -> 5
B70: 가요전선관 | C70: 고장력방수 28㎜ | D70: M | E70: =TRUNC(G70+G70*F70,0) -> 2 | F70: 0.05 | G70: =SUMIF($C$57:$C$64,C70,$G$57:$G$64) -> 2
B71: 가요전선관콘넥터 | C71: 황동방수 28mm | D71: 개 | E71: =TRUNC(G71+G71*F71,0) -> 2 | G71: =SUMIF($C$57:$C$64,C71,$G$57:$G$64) -> 2
B72: 파상형경질PE관 | C72: 50mm | D72: M | E72: =TRUNC(G72+G72*F72,0) -> 5 | F72: 0.05 | G72: =SUMIF($C$57:$C$64,C72,$G$57:$G$64) -> 5

Sheet 단가표(2026年)
A1: 단 가 대 비 표
A2: [ 자동화 시스템 ]
A3: 품 명 | B3: 규격 | C3: 단위 | D3: 재 료 비 ( 2026年 2月) | O3: 노 무 비 (2026年) | P3: 경 비 | U3: 비 고 | V3: 품목구분 | W3: 노임구분 | X3: 소수점처리
D4: 물가자료 | E4: PAGE | F4: 유통물가 | G4: PAGE | H4: 물가정보 | I4: PAGE | J4: 한국농어촌공사 | K4: PAGE | L4: 조사가격 | M4: 조사가격 | N4: 적용단가 | P4: 물가자료 | Q4: 유통물가 | R4: 물가정보 | S4: 한국농어촌공사 | T4: 적용단가
A5: < SYSTEM SOFTWARE >
A6: KRC-HMI SOFTWARE FEE | B6: 표준화면 구성 | C6: 화면 | D6: 1138000 | E6: 1180 | H6: 1138000 | I6: 1257 | J6: 536000 | K6: M084738 | N6: =SMALL((D6,F6,H6,J6,L6),COUNTIF(D6:L6,0)+1) -> 536000 | W6: 449000 | X6: =N6-W6 -> 87000 | Z6: 557000
A7: KRC-HMI SOFTWARE FEE | B7: 트렌드화면 구성 | C7: 화면 | D7: 1391000 | E7: 1180 | H7: 1391000 | I7: 1257 | J7: 658000 | K7: M084739 | N7: =SMALL((D7,F7,H7,J7,L7),COUNTIF(D7:L7,0)+1) -> 658000 | W7: 550000 | X7: =N7-W7 -> 108000 | Z7: 683000
A8: KRC-HMI SOFTWARE FEE | B8: 레포트화면 구성 | C8: 화면 | D8: 1391000 | E8: 1180 | H8: 1391000 | I8: 1257 | J8: 659000 | K8: M084741 | N8: =SMALL((D8,F8,H8,J8,L8),COUNTIF(D8:L8,0)+1) -> 659000 | W8: 550000 | X8: =N8-W8 -> 109000 | Z8: 684000
A9: KRC-HMI 3D그래픽작업 | B9: 수원공:저수지,양배수장 | C9: 화면 | J9: 896000 | K9: M084742 | N9: =SMALL((D9,F9,H9,J9,L9),COUNTIF(D9:L9,0)+1) -> 896000
A10: < 통신제어장치 >
A11: FIU MAIN PROCESS UNIT | B11: CPU(32bit, 200MHz, 16MB),TCP/IP | C11: 개 | J11: 7800000 | K11: M084840 | N11: =SMALL((D11,F11,H11,J11,L11),COUNTIF(D11:L11,0)+1) -> 7800000 | W11: 7200000 | X11: =N11-W11 -> 600000 | Z11: 7500000
A12: 무선송수신기(RADIO 10W) | B12: 전원, RF카드, VHF INTERFACE | C12: 개 | J12: 3120000 | K12: M084810 | N12: =SMALL((D12,F12,H12,J12,L12),COUNTIF(D12:L12,0)+1) -> 3120000 | W12: 2600000 | X12: =N12-W12 -> 520000 | Z12: 3120000
A13: SWITCH HUB UNIT | B13: 10/100/1000Mbps,S/W,24P | C13: 대 | J13: 450000 | K13: M084800 | N13: =SMALL((D13,F13,H13,J13,L13),COUNTIF(D13:L13,0)+1) -> 450000 | W13: 370000 | X13: =N13-W13 -> 80000 | Z13: 390000
A14: SWITCH HUB UNIT | B14: 10/100/1000Mbps,S/W,8P | C14: 대 | F14: 118270 | G14: 1219 | H14: 300000 | I14: 1416 | N14: =SMALL((D14,F14,H14,J14,L14),COUNTIF(D14:L14,0)+1) -> 118270 | W14: 135000 | X14: =N14-W14 -> -16730 | Z14: 112050
A15: SWITCH HUB UNIT | B15: 10/100Mbps,S/W,4P 이상 | C15: 대 | F15: 44400 | G15: 1219 | N15: =SMALL((D15,F15,H15,J15,L15),COUNTIF(D15:L15,0)+1) -> 44400 | W15: 37000 | X15: =N15-W15 -> 7400 | Z15: 36500
A16: POE HUB | B16: 10/100Mbps, 48V | C16: 대 | L16: 99700 | M16: 130000 | N16: =SMALL((D16,F16,H16,J16,L16),COUNTIF(D16:L16,0)+1) -> 99700 | Z16: 99700
A17: VPN (XTM-365X)-원격소용 | B17: Main memory DDR-Ⅱ 512MB | C17: 개 | J17: 3000000 | K17: TIG코리아 | N17: =SMALL((D17,F17,H17,J17,L17),COUNTIF(D17:L17,0)+1) -> 3000000 | W17: 2500000 | X17: =W17-N17 -> -500000 | Z17: 3000000
A18: VPN (FW410)-원격소용 | B18: Main memory DDR-Ⅲ 2GB | C18: 개 | F18: 3850000 | G18: 1082 | H18: 3850000 | I18: 1326 | J18: 3500000 | K18: TIG코리아 | N18: =SMALL((D18,F18,H18,J18,L18),COUNTIF(D18:L18,0)+1) -> 3500000 | W18: 3000000 | X18: =N18-W18 -> 500000 | Z18: 3500000
A19: VPN (FW2500)-지소용 | B19: Intel 1.6GHz (Quad Core) 8GB | C19: 개 | F19: 22000000 | G19: 1082 | H19: 22000000 | I19: 1326 | J19: 20000000 | K19: TIG코리아 | N19: =SMALL((D19,F19,H19,J19,L19),COUNTIF(D19:L19,0)+1) -> 20000000 | W19: 20000000 | X19: =N19-W19 -> 0 | Z19: 20000000
A20: VPN (FW4500)-지사용 | B20: Intel® 2.2GHz (8Core)CPU, DDR-Ⅲ 8GB | C20: 개 | F20: 44000000 | G20: 1082 | H20: 44000000 | I20: 1326 | J20: 40000000 | K20: TIG코리아 | N20: =SMALL((D20,F20,H20,J20,L20),COUNTIF(D20:L20,0)+1) -> 40000000 | Z20: 40000000
A21: SSL VPN | B21: 333MHz(Single Core) CPU | C21: 개 | F21: 2750000 | G21: 1082 | H21: 2750000 | I21: 1326 | J21: 2500000 | K21: TIG코리아 | N21: =SMALL((D21,F21,H21,J21,L21),COUNTIF(D21:L21,0)+1) -> 2500000 | W21: 1500000 | X21: =N21-W21 -> 1000000 | Z21: 2000000
A22: SSL VPN LICENSE | B22: Smart Phone Client | C22: 개 | H22: 750000 | I22: 1255 | J22: 350000 | K22: TIG코리아 | N22: =SMALL((D22,F22,H22,J22,L22),COUNTIF(D22:L22,0)+1) -> 350000 | W22: 300000 | X22: =N22-W22 -> 50000 | Z22: 330000
A23: IP공유기 | B23: 1Gbps, WAN 1/LAN 4포트 이상 | C23: 개 | F23: 49500 | G23: 1219 | N23: =SMALL((D23,F23,H23,J23,L23),COUNTIF(D23:L23,0)+1) -> 49500 | W23: 129000 | X23: =N23-W23 -> -79500 | Z23: 129000
A24: < PLC 장치 >
A25: 전원 모듈 (PLC) | B25: DC 5V/24V, 3.5A 이상 | C25: 개 | J25: 188000 | K25: M084900 | N25: =SMALL((D25,F25,H25,J25,L25),COUNTIF(D25:L25,0)+1) -> 188000
A26: CPU 모듈 (PLC) | B26: 75ns/Step 이하, 128kB, 2,000점 이상 | C26: 개 | H26: 1146000 | I26: 1258 | J26: 969000 | K26: M084917 | N26: =SMALL((D26,F26,H26,J26,L26),COUNTIF(D26:L26,0)+1) -> 969000
A27: 통신 모듈 (PLC) | B27: ETHERNET, TCP/IP | C27: 개 | J27: 1064000 | K27: M084903 | N27: =SMALL((D27,F27,H27,J27,L27),COUNTIF(D27:L27,0)+1) -> 1064000
A28: 통신 모듈 (PLC) | B28: RS-232C, RS-422 | C28: 개 | J28: 423000 | K28: M084904 | N28: =SMALL((D28,F28,H28,J28,L28),COUNTIF(D28:L28,0)+1) -> 423000
A29: 디지털 입력 모듈 (PLC) | B29: 16P | C29: 개 | H29: 157000 | I29: 1258 | J29: 135000 | K29: M084905 | N29: =SMALL((D29,F29,H29,J29,L29),COUNTIF(D29:L29,0)+1) -> 135000
A30: 디지털 출력 모듈 (PLC) | B30: 16P, 릴레이 출력 | C30: 개 | H30: 251000 | I30: 1258 | J30: 162000 | K30: M084907 | N30: =SMALL((D30,F30,H30,J30,L30),COUNTIF(D30:L30,0)+1) -> 162000
A31: 아날로그 입력 모듈 (PLC) | B31: 8P | C31: 개 | H31: 1002000 | I31: 1258 | J31: 865000 | K31: M084910 | N31: =SMALL((D31,F31,H31,J31,L31),COUNTIF(D31:L31,0)+1) -> 865000
A32: 기본, 증설 베이스 (PLC) | B32: 8모듈 장착용 | C32: 개 | J32: 253000 | K32: M084912 | N32: =SMALL((D32,F32,H32,J32,L32),COUNTIF(D32:L32,0)+1) -> 253000
A33: DUMMY MODULE | B33: 슬롯방진용 | C33: 개 | D33: 11000 | E33: 1182 | F33: 11000 | G33: 915 | H33: 11000 | I33: 1258 | N33: =SMALL((D33,F33,H33,J33,L33),COUNTIF(D33:L33,0)+1) -> 11000
A34: I/O LINK | B34: I/O LINK 단자대 32점, 40P | C34: 개 | D34: 51000 | E34: 1182 | F34: 51000 | G34: 915 | H34: 51000 | I34: 1258 | N34: =SMALL((D34,F34,H34,J34,L34),COUNTIF(D34:L34,0)+1) -> 51000
A35: RTU SOFTWARE FEE | B35: DIGITAL INPUT/OUTPUT | C35: 점 | H35: 63000 | I35: 1257 | J35: 63000 | K35: M084890 | N35: =SMALL((D35,F35,H35,J35,L35),COUNTIF(D35:L35,0)+1) -> 63000
A36: RTU SOFTWARE FEE | B36: ANALOG INPUT/OUTPUT | C36: 점 | H36: 126000 | I36: 1257 | J36: 126000 | K36: M084891 | N36: =SMALL((D36,F36,H36,J36,L36),COUNTIF(D36:L36,0)+1) -> 126000
A37: RTU SOFTWARE FEE | B37: 통신(RS485/RS232C/ETHERNET) | C37: 점 | H37: 379000 | I37: 1257 | J37: 379000 | K37: M084892 | N37: =SMALL((D37,F37,H37,J37,L37),COUNTIF(D37:L37,0)+1) -> 379000
A38: 신호분배기 | B38: 1채널 입력, 2채널 출력:4~20mA | C38: 개 | H38: 280000 | I38: 1264 | J38: 220000 | K38: M079141 | N38: =SMALL((D38,F38,H38,J38,L38),COUNTIF(D38:L38,0)+1) -> 220000
A39: 디지털표시기 | B39: 입력:4~20mA, 4 Digit | C39: 개 | H39: 160000 | I39: 1252 | J39: 150000 | K39: M079142 | N39: =SMALL((D39,F39,H39,J39,L39),COUNTIF(D39:L39,0)+1) -> 150000
A40: 디지털표시기(출력1CH) | B40: 입력:4~20mA, 4 Digit, 출력1CH | C40: 개 | D40: 270000 | E40: 1201 | H40: 220000 | I40: 1248 | N40: =SMALL((D40,F40,H40,J40,L40),COUNTIF(D40:L40,0)+1) -> 220000
A41: 보조릴레이 | B41: 2A,2B(AC용) | C41: 개 | J41: 13700 | K41: M080500 | N41: =SMALL((D41,F41,H41,J41,L41),COUNTIF(D41:L41,0)+1) -> 13700
A43: < 영상통합관리시스템 >
A44: 저장분배서버 | B44: 3.7GHz 4CoreDDR4 16GB, 256GB SSD x 2 (RAID-1) | C44: 대 | H44: 26566000 | I44: 1417 | J44: 37800000 | K44: 견적 | N44: =SMALL((D44,F44,H44,J44,L44),COUNTIF(D44:L44,0)+1) -> 26566000 | W44: 37800000 | X44: =N44-W44 -> -11234000 | Z44: 26566000
A45: VMS CLIENT S/W (경북) | B45: Leopard Client V2.1 | J45: 1540000 | K45: 23907053 | N45: =SMALL((D45,F45,H45,J45,L45),COUNTIF(D45:L45,0)+1) -> 1540000 | U45: 조달청디지탈서비스몰 | Z45: 1540000
A46: VMS CLIENT S/W (충청) | B46: Voost VMS v1.1 | J46: 1050000 | K46: 23499978 | N46: =SMALL((D46,F46,H46,J46,L46),COUNTIF(D46:L46,0)+1) -> 1050000 | U46: 조달청디지탈서비스몰 | Z46: 1050000
A47: VMS License (1CH) | B47: 카메라 접속라이센스 (채널당) | C47: CH | H47: 480000 | I47: 1417 | J47: 430000 | K47: 23499976 | N47: =SMALL((D47,F47,H47,J47,L47),COUNTIF(D47:L47,0)+1) -> 430000 | U47: 조달청디지탈서비스몰 | W47: 480000 | Z47: 430000
A48: < CCTV장치 >
A49: N.V.R | B49: 16CH, FuLL HD, 4TB 이상 | C49: 대 | D49: 5175000 | E49: 1269 | F49: 6500000 | G49: 1068 | H49: 5175000 | I49: 1412 | N49: =SMALL((D49,F49,H49,J49,L49),COUNTIF(D49:L49,0)+1) -> 5175000 | W49: 6850000 | X49: =N49-W49 -> -1675000 | Z49: 4500000
A50: N.V.R | B50: 32CH, FuLL HD, 8TB 이상,TTA인증 | C50: 대 | D50: 14490000 | E50: 1269 | F50: 9600000 | G50: 1068 | H50: 14490000 | I50: 1412 | N50: =SMALL((D50,F50,H50,J50,L50),COUNTIF(D50:L50,0)+1) -> 9600000 | U50: 디비시스 | W50: 9920000 | X50: =N50-W50 -> -320000 | Z50: 8100000
A51: N.V.R | B51: 64CH, FuLL HD, 60TB,TTA인증 | C51: 대 | D51: 18873000 | E51: 1269 | F51: 27000000 | G51: 1068 | H51: 18873000 | I51: 1412 | N51: =SMALL((D51,F51,H51,J51,L51),COUNTIF(D51:L51,0)+1) -> 18873000 | W51: 6850000 | X51: =N51-W51 -> 12023000 | Z51: 12000000
A52: N.V.R 용 HDD | B52: 3.5"HDD, 6TB | C52: 개 | H52: 1251000 | I52: 1413 | N52: =SMALL((D52,F52,H52,J52,L52),COUNTIF(D52:L52,0)+1) -> 1251000 | W52: 6850000 | X52: =N52-W52 -> -5599000 | Z52: 1056000
A53: BULLET CAMERA (IR),TTA인증 | B53: 200만화소, 4배 광학줌 이상, 블렛형 | C53: 대 | D53: 2034000 | E53: 1268 | F53: 1980000 | G53: 1071 | H53: 2034000 | I53: 1412 | N53: =SMALL((D53,F53,H53,J53,L53),COUNTIF(D53:L53,0)+1) -> 1980000 | W53: 3000000 | X53: =N53-W53 -> -1020000 | Z53: 1848000
A54: DOME CAMERA (IR),TTA인증 | B54: 200만화소, 4배 광학줌 이상, 돔형 | C54: 대 | D54: 2001000 | E54: 1268 | F54: 1818000 | G54: 1071 | H54: 2001000 | I54: 1412 | N54: =SMALL((D54,F54,H54,J54,L54),COUNTIF(D54:L54,0)+1) -> 1818000 | W54: 1920000 | X54: =N54-W54 -> -102000 | Z54: 1818000
A55: SPEED DOME CAMERA (IR),TTA인증 | B55: 200만화소 이상, 36배 광학줌, 하우징일체 | C55: 대 | D55: 5589000 | E55: 1267 | F55: 5082000 | G55: 1071 | H55: 5589000 | I55: 1411 | N55: =SMALL((D55,F55,H55,J55,L55),COUNTIF(D55:L55,0)+1) -> 5082000 | W55: 3200000 | X55: =N55-W55 -> 1882000 | Z55: 5082000
A56: SPEED DOME CAMERA (IR) | B56: 200만화소 이상, 36배 광학줌, 하우징일체 | C56: 대 | J56: 5346000 | K56: M085066 | N56: =SMALL((D56,F56,H56,J56,L56),COUNTIF(D56:L56,0)+1) -> 5346000 | W56: 3800000 | X56: =N56-W56 -> 1546000 | Z56: 4860000
A57: SPEED DOME CAMERA (IR) | B57: 200만화소 이상, 36배 광학줌, 하우징일체, Wiper | C57: 대 | J57: 5500000 | K57: M085067 | N57: =SMALL((D57,F57,H57,J57,L57),COUNTIF(D57:L57,0)+1) -> 5500000 | W57: 3800000 | X57: =N57-W57 -> 1700000 | Z57: 5500000
A58: 메가픽셀 적외선 카메라(뷸렛) | B58: 200만화소 이상, 4배 광학줌, 하우징일체 | C58: 대 | J58: 1452000 | K58: M085068 | N58: =SMALL((D58,F58,H58,J58,L58),COUNTIF(D58:L58,0)+1) -> 1452000 | W58: 1400000 | X58: =N58-W58 -> 52000 | Z58: 1320000
A59: 메가픽셀 적외선 카메라(돔형) | B59: 200만화소 이상, 3배 광학줌, 하우징일체 | C59: 대 | J59: 1584000 | K59: M085069 | N59: =SMALL((D59,F59,H59,J59,L59),COUNTIF(D59:L59,0)+1) -> 1584000 | W59: 1220000 | X59: =N59-W59 -> 364000 | Z59: 1200000
A60: 카메라 BRACKET | B60: STS, 2T | C60: 개 | D60: 150000 | E60: 1261 | H60: 160000 | I60: 1418 | N60: =SMALL((D60,F60,H60,J60,L60),COUNTIF(D60:L60,0)+1) -> 150000 | W60: 145000 | X60: =N60-W60 -> 5000 | Z60: 145000
A61: 카메라 POLE | B61: STS. 2.0t, 4M Φ152 | C61: 개 | J61: 1200000 | K61: M085070 | N61: =SMALL((D61,F61,H61,J61,L61),COUNTIF(D61:L61,0)+1) -> 1200000 | W61: 1000000 | X61: =N61-W61 -> 200000 | Z61: 1125000
A62: 카메라 POLE | B62: STS 2.0t, 2M Φ80 | C62: 개 | L62: 700000 | N62: =SMALL((D62,F62,H62,J62,L62),COUNTIF(D62:L62,0)+1) -> 700000 | W62: 500000 | X62: =N62-W62 -> 200000 | Z62: 700000
A63: 카메라 ARM | B63: STS 제작형, 1.5M 이내 | C63: 개 | L63: 460000 | N63: =SMALL((D63,F63,H63,J63,L63),COUNTIF(D63:L63,0)+1) -> 460000 | W63: 450000 | X63: =N63-W63 -> 10000 | Z63: 450000
A64: CCTV POLE PANEL | B64: STS. 2.0t (W)300*(H)400*(D)300 | C64: EA | J64: 850000 | K64: M085071 | N64: =SMALL((D64,F64,H64,J64,L64),COUNTIF(D64:L64,0)+1) -> 850000 | W64: 800000 | X64: =N64-W64 -> 50000 | Z64: 800000
A65: CCTV POLE PANEL | B65: STS. 2.0t (W)600*(H)700*(D)500, 이중단열판 | C65: EA | J65: 1254000 | K65: M085072 | N65: =SMALL((D65,F65,H65,J65,L65),COUNTIF(D65:L65,0)+1) -> 1254000 | W65: 1200000 | X65: =N65-W65 -> 54000 | Z65: 1000000
A66: SURGE PROTECTOR | B66: 전원용 | C66: 개 | D66: 300000 | E66: 1263 | F66: 360000 | G66: 1064 | N66: =SMALL((D66,F66,H66,J66,L66),COUNTIF(D66:L66,0)+1) -> 300000 | W66: 300000 | X66: =N66-W66 -> 0 | Z66: 300000
A67: SURGE PROTECTOR | B67: 통신용 | C67: 개 | D67: 260000 | E67: 1263 | F67: 320000 | G67: 1064 | N67: =SMALL((D67,F67,H67,J67,L67),COUNTIF(D67:L67,0)+1) -> 260000 | W67: 260000 | X67: =N67-W67 -> 0 | Z67: 260000
A68: SURGE PROTECTOR | B68: 일체형(전원 및 통신용) | C68: 개 | D68: 750000 | E68: 1263 | F68: 700000 | G68: 1064 | N68: =SMALL((D68,F68,H68,J68,L68),COUNTIF(D68:L68,0)+1) -> 700000 | W68: 750000 | X68: =N68-W68 -> -50000 | Z68: 700000
A69: 촬영안내판 | B69: 안내표지판, 200X300mm이상 | C69: 개 | L69: 180000 | N69: =SMALL((D69,F69,H69,J69,L69),COUNTIF(D69:L69,0)+1) -> 180000 | W69: 180000 | X69: =N69-W69 -> 0 | Z69: 180000
A70: SHF통신장비(5GHz대역) | B70: 무선네트워크접속, 최대 150Mbps, 2km 이내 | C70: 대 | F70: 1750000 | G70: 1068 | J70: 1500000 | K70: M084816 | N70: =SMALL((D70,F70,H70,J70,L70),COUNTIF(D70:L70,0)+1) -> 1500000 | W70: 1500000 | X70: =N70-W70 -> 0 | Z70: 1500000
A71: BRACKET (SHF안테나용) | B71: SUS 지지대, BEND | C71: 개 | D71: 40000 | E71: 1275 | F71: 40000 | G71: 1076 | N71: =SMALL((D71,F71,H71,J71,L71),COUNTIF(D71:L71,0)+1) -> 40000 | Z71: 40000
A72: 폴기초 베이스 | C72: 개 | H72: 360700 | I72: 1299 | N72: =SMALL((D72,F72,H72,J72,L72),COUNTIF(D72:L72,0)+1) -> 360700 | W72: 380000 | X72: =N72-W72 -> -19300 | Z72: 360000
A73: < 설치일반 >
A74: 난연 전력케이블(0.197kg) | B74: 0.6/1kV F-CV 2C*4.0㎟ | C74: M | J74: 2305 | K74: M060916 | N74: =SMALL((D74,F74,H74,J74,L74),COUNTIF(D74:L74,0)+1) -> 2305 | W74: 1880 | X74: =N74-W74 -> 425 | Z74: 2138
A75: 난연 전력케이블(0.252kg) | B75: 0.6/1kV F-CV 2C*6.0㎟ | C75: M | J75: 3101 | K75: M060917 | N75: =SMALL((D75,F75,H75,J75,L75),COUNTIF(D75:L75,0)+1) -> 3101 | W75: 2416 | X75: =N75-W75 -> 685 | Z75: 2892
A76: 난연 전력케이블(0.153kg) | B76: 0.6/1kV F-CV 2C*2.5㎟ | C76: M | J76: 1697 | K76: M060915 | N76: =SMALL((D76,F76,H76,J76,L76),COUNTIF(D76:L76,0)+1) -> 1697 | W76: 1316 | X76: =N76-W76 -> 381 | Z76: 1539
A77: 난연 전력케이블(0.189kg) | B77: 0.6/1kV F-CV 3C*2.5㎟ | C77: M | J77: 2275 | K77: M060918 | N77: =SMALL((D77,F77,H77,J77,L77),COUNTIF(D77:L77,0)+1) -> 2275 | W77: 1790 | X77: =N77-W77 -> 485 | Z77: 2001
A78: 난연 전력케이블(0.245kg) | B78: 0.6/1kV F-CV 3C*4㎟ | C78: M | J78: 3165 | K78: M060919 | N78: =SMALL((D78,F78,H78,J78,L78),COUNTIF(D78:L78,0)+1) -> 3165 | W78: 2642 | X78: =N78-W78 -> 523 | Z78: 2831
A79: 난연 전력케이블(0.245kg) | B79: 0.6/1kV F-CV 3C*6㎟ | C79: M | J79: 4308 | K79: M060920 | N79: =SMALL((D79,F79,H79,J79,L79),COUNTIF(D79:L79,0)+1) -> 4308 | W79: 3601 | X79: =N79-W79 -> 707 | Z79: 3908
A80: 난연 전력케이블(0.397kg) | B80: 0.6/1kV F-CV 4C*6㎟ | C80: M | J80: 5581 | K80: M060935 | N80: =SMALL((D80,F80,H80,J80,L80),COUNTIF(D80:L80,0)+1) -> 5581 | W80: 4786 | X80: =N80-W80 -> 795 | Z80: 5031
A81: 난연 전력케이블(0.197kg) | B81: 0.6/1kV F-CV 4C*10㎟ | C81: M | J81: 8995 | K81: M060936 | N81: =SMALL((D81,F81,H81,J81,L81),COUNTIF(D81:L81,0)+1) -> 8995 | W81: 7681 | X81: =N81-W81 -> 1314 | Z81: 7985
A82: 난연 전력케이블(0.197kg) | B82: 0.6/1kV F-CV 4C*16㎟ | C82: M | J82: 13153 | K82: M060937 | N82: =SMALL((D82,F82,H82,J82,L82),COUNTIF(D82:L82,0)+1) -> 13153 | W82: 10097 | X82: =N82-W82 -> 3056 | Z82: 12843
A83: 제어케이블(0.196kg) | B83: F-CVV-SB 2.5㎟*2C | C83: M | J83: 2414 | K83: M061277 | N83: =SMALL((D83,F83,H83,J83,L83),COUNTIF(D83:L83,0)+1) -> 2414 | W83: 1974 | X83: =N83-W83 -> 440 | Z83: 2366
A84: 제어케이블(0.237kg) | B84: F-CVV-SB 2.5㎟*3C | C84: M | J84: 2966 | K84: M061278 | N84: =SMALL((D84,F84,H84,J84,L84),COUNTIF(D84:L84,0)+1) -> 2966 | W84: 2398 | X84: =N84-W84 -> 568 | Z84: 2840
A85: 제어케이블(0.336kg) | B85: F-CVV-SB 2.5㎟*5C | C85: M | J85: 3969 | K85: M061280 | N85: =SMALL((D85,F85,H85,J85,L85),COUNTIF(D85:L85,0)+1) -> 3969 | W85: 3287 | X85: =N85-W85 -> 682 | Z85: 3873
... A98: 제어케이블(0.724kg) | B98: F-CVV-SB 1.5㎟*20C | C98: M | J98: 8839 | K98: M061251 | N98: =SMALL((D98,F98,H98,J98,L98),COUNTIF(D98:L98,0)+1) -> 8839 | W98: 7457 | X98: =N98-W98 -> 1382 | Z98: 8025
A99: 0.6/1kV 트레이용 절연난연 제어용케이블(F-CVV) | B99: 10C 1.5㎟ | C99: M | D99: 5022 | E99: 1076 | N99: =SMALL((D99,F99,H99,J99,L99),COUNTIF(D99:L99,0)+1) -> 5022 | W99: 3732 | X99: =N99-W99 -> 1290 | Z99: 4475
A100: 0.6/1kV 트레이용 절연난연 제어용케이블(F-CVV) | B100: 15C 1.5㎟ | C100: M | D100: 7066 | E100: 1076 | N100: =SMALL((D100,F100,H100,J100,L100),COUNTIF(D100:L100,0)+1) -> 7066 | W100: 5252 | X100: =N100-W100 -> 1814 | Z100: 6298
A101: 0.6/1kV 트레이용 절연난연 제어용케이블(F-CVV) | B101: 20C 1.5㎟ | C101: M | D101: 9175 | E101: 1076 | N101: =SMALL((D101,F101,H101,J101,L101),COUNTIF(D101:L101,0)+1) -> 9175 | W101: 6820 | X101: =N101-W101 -> 2355 | Z101: 8177
A102: 내열비닐절연전선 | B102: HIV 단선 2.5㎟(0.032kg) | C102: M | J102: 454 | K102: M060702 | N102: =SMALL((D102,F102,H102,J102,L102),COUNTIF(D102:L102,0)+1) -> 454 | W102: 300 | X102: =N102-W102 -> 154 | Z102: 423
A103: 기기용 비닐절연전선 | B103: 450/700V KIV 1.5㎟ | C103: M | J103: 327 | K103: M060706 | N103: =SMALL((D103,F103,H103,J103,L103),COUNTIF(D103:L103,0)+1) -> 327 | W103: 236 | X103: =N103-W103 -> 91 | Z103: 312
A104: 기기용 비닐절연전선 | B104: 450/700V KIV 2.5㎟ | C104: M | J104: 524 | K104: M060707 | N104: =SMALL((D104,F104,H104,J104,L104),COUNTIF(D104:L104,0)+1) -> 524 | W104: 382 | X104: =N104-W104 -> 142 | Z104: 507
A105: 기기용 비닐절연전선 | B105: 450/700V KIV 4㎟ | C105: M | J105: 810 | K105: M060708 | N105: =SMALL((D105,F105,H105,J105,L105),COUNTIF(D105:L105,0)+1) -> 810 | W105: 551 | X105: =N105-W105 -> 259 | Z105: 785
A106: LAN(UTP) 케이블 | B106: UTP.CAT.5E 4P | C106: M | F106: 1900 | G106: 845 | J106: 1370 | K106: M061050 | N106: =SMALL((D106,F106,H106,J106,L106),COUNTIF(D106:L106,0)+1) -> 1370 | W106: 1100 | X106: =N106-W106 -> 270 | Z106: 1100
A107: 통신케이블 | B107: RS485, AWG24X2P | C107: M | F107: 7200 | G107: 845 | N107: =SMALL((D107,F107,H107,J107,L107),COUNTIF(D107:L107,0)+1) -> 7200 | W107: 9100 | X107: =N107-W107 -> -1900 | Z107: 7200
A108: 강제전선관 | B108: 아연도금 16mm(1.06kg) | C108: M | J108: 2830 | K108: M051719 | N108: =SMALL((D108,F108,H108,J108,L108),COUNTIF(D108:L108,0)+1) -> 2830 | W108: 2830 | X108: =N108-W108 -> 0 | Z108: 2880
A109: 강제전선관 | B109: 아연도금 22mm(1.37kg) | C109: M | J109: 3660 | K109: M051720 | N109: =SMALL((D109,F109,H109,J109,L109),COUNTIF(D109:L109,0)+1) -> 3660 | W109: 3690 | X109: =N109-W109 -> -30 | Z109: 3730
A110: 강제전선관 | B110: 아연도금 28mm(1.9kg) | C110: M | J110: 4770 | K110: M051721 | N110: =SMALL((D110,F110,H110,J110,L110),COUNTIF(D110:L110,0)+1) -> 4770 | W110: 4761 | X110: =N110-W110 -> 9 | Z110: 4860
A111: 강제전선관 | B111: 아연도금 36mm(2.43kg) | C111: M | J111: 6100 | K111: M051722 | N111: =SMALL((D111,F111,H111,J111,L111),COUNTIF(D111:L111,0)+1) -> 6100 | W111: 6010 | X111: =N111-W111 -> 90 | Z111: 6220
A112: 강제전선관 | B112: 아연도금 42mm(2.79kg) | C112: M | J112: 7010 | K112: M051723 | N112: =SMALL((D112,F112,H112,J112,L112),COUNTIF(D112:L112,0)+1) -> 7010 | W112: 6867 | X112: =N112-W112 -> 143 | Z112: 7150
A113: 강제전선관 | B113: 아연도금 54mm(2.79kg) | C113: M | J113: 9850 | K113: M051724 | N113: =SMALL((D113,F113,H113,J113,L113),COUNTIF(D113:L113,0)+1) -> 9850 | W113: 6867 | X113: =N113-W113 -> 2983 | Z113: 10040
...

Sheet 공사단가(26)
A1: 2020 코 드 | B1: 자 재 명 | C1: 단위 | D1: 2020단가 | F1: 비고
A2: 코 드 | B2: 자 재 명 | C2: 단위 | D2: 2025단가 | E2: 2026년 단가 | F2: 비고 | G2: 분류
A3: M032301 | B3: 경질비닐전선관(PVC) | C3: m | D3: 332 | E3: 332 | G3: 전선관로재(물가)
B4: 16mm(0.18kg)
A5: M032302 | B5: 경질비닐전선관(PVC) | C5: m | D5: 400 | E5: 400 | G5: 전선관로재(물가)
B6: 22mm(0.216kg)
A7: M032303 | B7: 경질비닐전선관(PVC) | C7: m | D7: 774 | E7: 774 | G7: 전선관로재(물가)
B8: 28mm(0.418kg)
A9: M032304 | B9: 경질비닐전선관(PVC) | C9: m | D9: 1121 | E9: 1121 | G9: 전선관로재(물가)
B10: 36mm(0.605kg)
A11: M032305 | B11: 경질비닐전선관(PVC) | C11: m | D11: 1466 | E11: 1466 | G11: 전선관로재(물가)
B12: 42mm(0.79kg)
A13: M032306 | B13: 경질비닐전선관(PVC) | C13: m | D13: 2081 | E13: 2081 | G13: 전선관로재(물가)
B14: 54mm(1.122kg)
A15: M032307 | B15: 경질비닐전선관(PVC) | C15: m | D15: 2680 | E15: 2680 | G15: 전선관로재(물가)
B16: 70mm(1.445kg)
A17: M032308 | B17: 경질비닐전선관(PVC) | C17: m | D17: 4084 | E17: 4084 | G17: 전선관로재(물가)
B18: 82mm(2.202kg)
A19: M032309 | B19: 경질비닐전선관(PVC) | C19: m | D19: 4834 | E19: 4834 | G19: 전선관로재(물가)
B20: 104mm(2.602kg)
A21: M032318 | B21: 파상형경질PE전선관 | C21: m | D21: 360 | E21: 360 | G21: 전선관로재(물가)
B22: 30mm(0.288kg)
A23: M032319 | B23: 파상형경질PE전선관 | C23: m | D23: 550 | E23: 550 | G23: 전선관로재(물가)
B24: 40mm(0.384kg)
A25: M032320 | B25: 파상형경질PE전선관 | C25: m | D25: 730 | E25: 730 | G25: 전선관로재(물가)
B26: 50mm(0.48kg)
A27: M032321 | B27: 파상형경질PE전선관 | C27: m | D27: 1090 | E27: 1090 | G27: 전선관로재(물가)
B28: 65mm(0.72kg)
A29: M032322 | B29: 파상형경질PE전선관 | C29: m | D29: 1450 | E29: 1450 | G29: 전선관로재(물가)
B30: 80mm(0.96kg)
A31: M032323 | B31: 파상형경질PE전선관 | C31: m | D31: 1980 | E31: 1980 | G31: 전선관로재(물가)
B32: 100mm(1.20kg)
A33: M032324 | B33: 파상형경질PE전선관 | C33: m | D33: 3040 | E33: 3040 | G33: 전선관로재(물가)
B34: 125mm(1.80kg)
A35: M032325 | B35: 파상형경질PE전선관 | C35: m | D35: 3906 | E35: 3906 | G35: 전선관로재(물가)
B36: 150mm(2.06kg)
A37: M032326 | B37: 파상형경질PE전선관 | C37: m | D37: 7500 | E37: 7500 | G37: 전선관로재(물가)
B38: 175mm(3.36kg)
A39: M032327 | B39: 파상형경질PE전선관 | C39: m | D39: 8030 | E39: 8030 | G39: 전선관로재(물가)
B40: 200mm(4.32kg)
A41: M032328 | B41: 노말밴드(PVC) | C41: 개 | D41: 900 | E41: 900 | G41: 전선관로재(물가)
B42: KS.16㎜
A43: M032329 | B43: 노말밴드(PVC) | C43: 개 | D43: 950 | E43: 950 | G43: 전선관로재(물가)
B44: KS.22㎜
A45: M032330 | B45: 노말밴드(PVC) | C45: 개 | D45: 1000 | E45: 1000 | G45: 전선관로재(물가)
B46: KS.28㎜
A47: M032331 | B47: 노말밴드(PVC) | C47: 개 | D47: 1200 | E47: 1200 | G47: 전선관로재(물가)
B48: KS.36㎜
A49: M032332 | B49: 노말밴드(PVC) | C49: 개 | D49: 1400 | E49: 1400 | G49: 전선관로재(물가)
B50: KS.42㎜
A51: M032333 | B51: 노말밴드(PVC) | C51: 개 | D51: 2300 | E51: 2300 | G51: 전선관로재(물가)
B52: KS.54㎜
A53: M032334 | B53: 노말밴드(PVC) | C53: 개 | D53: 4500 | E53: 4500 | G53: 전선관로재(물가)
B54: KS.70㎜
A55: M032335 | B55: 노말밴드(PVC) | C55: 개 | D55: 5000 | E55: 5000 | G55: 전선관로재(물가)
B56: KS.82㎜
A57: M032336 | B57: 노말밴드(PVC) | C57: 개 | D57: 8800 | E57: 8800 | G57: 전선관로재(물가)
B58: KS.104㎜
A59: M036101 | B59: 폴리에틸렌전선관(PE) | C59: m | D59: 319 | E59: 319 | G59: 전선관로재(물가)
B60: 16mm(0.14kg)
A61: M036102 | B61: 폴리에틸렌전선관(PE) | C61: m | D61: 371 | E61: 371 | G61: 전선관로재(물가)
B62: 22mm(0.183kg)
A63: M036103 | B63: 폴리에틸렌전선관(PE) | C63: m | D63: 548 | E63: 548 | G63: 전선관로재(물가)
B64: 28mm(0.227kg)
A65: M036104 | B65: 폴리에틸렌전선관(PE) | C65: m | D65: 822 | E65: 822 | G65: 전선관로재(물가)
B66: 36mm(0.402kg)
A67: M036105 | B67: 폴리에틸렌전선관(PE) | C67: m | D67: 1112 | E67: 1112 | G67: 전선관로재(물가)
B68: 42mm(0.525kg)
A69: M036106 | B69: 폴리에틸렌전선관(PE) | C69: m | D69: 1640 | E69: 1640 | G69: 전선관로재(물가)
B70: 54mm(0.745kg)
A71: M036107 | B71: 폴리에틸렌전선관(PE) | C71: m | D71: 2481 | E71: 2481 | G71: 전선관로재(물가)
B72: 70mm(0.96kg)
A73: M036108 | B73: 폴리에틸렌전선관(PE) | C73: m | D73: 3445 | E73: 3445 | G73: 전선관로재(물가)
B74: 82mm(1.463kg)
A75: M036109 | B75: 폴리에틸렌전선관(PE) | C75: m | D75: 4849 | E75: 4849 | G75: 전선관로재(물가)
B76: 100mm(1.78kg)
A77: M043260 | B77: 콘크리트전주(통신용) | C77: 본 | D77: 119376 | E77: 119376 | G77: 송배전자재(물가)
B78: 7m*140mm*200kg(370kg)
A79: M043263 | B79: 콘크리트전주 | C79: 본 | D79: 252205 | E79: 252205 | G79: 송배전자재(물가)
B80: 10m*190mm*350kg(860kg)
A81: M043266 | B81: 콘크리크전주 | C81: 본 | D81: 302845 | E81: 309691 | G81: 송배전자재(물가)
B82: 12m*190mm*500kg(1130kg)
A83: M043267 | B83: 콘크리트전주 | C83: 본 | D83: 381117 | E83: 381117 | G83: 송배전자재(물가)
B84: 14m*190mm*500kg(1520kg)
A85: M043269 | B85: 콘크리트전주 | C85: 본 | D85: 553256 | E85: 553256 | G85: 송배전자재(물가)
B86: 16m*190mm*500kg(1960kg)
A87: M043302 | B87: 콘크리트근가(지선용) | C87: 본 | D87: 8000 | E87: 10000 | G87: 송배전자재(물가)
B88: 0.7m(52kg)
A89: M043304 | B89: 콘크리트근가(전주용) | C89: 본 | D89: 12000 | E89: 16000 | G89: 송배전자재(물가)
B90: 1.2m(61kg)
A91: M043320 | B91: 현수애자(5kg) | C91: 개 | D91: 27900 | E91: 27900 | G91: 송배전자재(물가)
B92: 254mm 15000LBS
A93: M043321 | B93: 현수애자(5kg) | C93: 개 | D93: 20100 | E93: 20100 | G93: 송배전자재(물가)
B94: 191mm 15000LBS
A95: M043322 | B95: 폴리머현수애자(내염형) | C95: 개 | D95: 18000 | E95: 18000 | G95: 송배전자재(물가)
B96: 25kV
A97: M043330 | B97: 라인포스트애자(5kg) | C97: 개 | D97: 17600 | E97: 17600 | G97: 송배전자재(물가)
B98: 23kV, 152*304mm
A99: M043356 | B99: 저압인류애자 | C99: 개 | D99: 1320 | E99: 1320 | G99: 송배전자재(물가)
B100: 110*95mm
...

Sheet 도촌IO LIST
A2: INPUT/OUTPUT POINTS SCHEDULE
A4: I/O 구분 | B4: DIGITAL OUTPUT | H4: DIGITAL INPUT | AC4: ANALOG INPUT | AO4: A/O | AR4: 비 고
B5: CONTROL | H5: STATUS | N5: ALARM | AC5: 4 ~ 20mA | AO5: 4~20mA
A6: 설 비 명 | B6: On/Off | C6: Open/STOP/Close | D6: Open/Close | E6: RESET | F6: 수동/자동 | G6: 현장/원격 | H6: On/Off | I6: VCS ON/OFF | J6: Open/Close | K6: Run/Stop | L6: =G6 -> 현장/원격 | M6: F.O/F.C | N6: OCR | O6: OCGR | P6: OVR | Q6: UVR | R6: OVGR | S6: POR | T6: SGR | U6: UPS(전원)이상 | V6: 수동/자동 | W6: EOCR | X6: 저수위(HH/H/L/LL) | Y6: Door Open | Z6: Fault | AA6: MCU(O.C/W.C) | AC6: 전압(V) | AD6: 전류(A) | AE6: 전력(kW) | AF6: 역률(PF) | AG6: 무효전력량(Var) | AH6: 영상전압(Vo) | AI6: 수위 | AJ6: 개도 | AK6: 압력 | AL6: 온도(R/S/T) | AM6: 온도(권선, 베어링) | AN6: 유량(순시/적산) | AO6: =AJ6 -> 개도
A7: 사통 수문 (1대)-2호기 | C7: =3 -> 3 | F7: 2 | J7: 2 | M7: =J7 -> 2 | V7: 2 | Z7: 1 | AJ7: 1 | AT7: 12C, 2C
A8: 수위계 (복통) | X8: 4 | AI8: 1
A9: RTU | G9: 2 | L9: 2
AW19: DI | AX19: =H21 -> 13
AW20: DO | AX20: =B21 -> 7
A21: 계 | B21: =SUM(B7:G9) -> 7 | H21: =SUM(H7:AB9) -> 13 | AC21: =SUM(AC7:AN9) -> 2 | AO21: =AO23-AO20 -> 0 | AW21: AI | AX21: =AC21 -> 2
A22: SPARE | AO22: =AO24-#REF! -> #REF!
A23: 합 계 | B23: 16 | H23: 16 | AC23: 8
AT24: 총POINTS | AX24: =SUM(AX19:AX21) -> 22
