Workbook

Sheet 제출방법
A1: (건축설계자 사업수행능력평가서 제출요령)
A3: 1. 각 시트의 출력물 1부씩을 다음의 순서대로 좌철(1권)하여 제출
A4: 1) 사업수행능력평가신청서
A5: ※ 낙찰예정자로 결정된후 원본서류 제출대상자는 반드시 G2B(나라장터)에서 출 력한 경쟁입찰참가자격등록증(사본)을 출력하여 첨부할것[공동도급(공동이행, 분담이행 )]사의 경쟁입찰참가자격등록증 사본도 동시 제출
A6: 2) 자기평가기술서 - 점수결과표는 별도 1부를 추가로 출력하여 평가신청서 사이에 끼워넣어 제출
A7: 3) 공동수급협정체결현황
A8: 4) 참여기술자 자격 현황
A9: 4-1. 담당건축사 경력현황
A10: 4-2. 담당건축사 실적
A11: 4-3. 참여건축사(보) 경력현황
A12: 4-3. 참여건축사(보) 실적
A13: 5) 유사용역수행실적
... A25: 3. 공동수급협정서는 반드시 나라장터시스템을 이용.

Sheet 1.사업수행능력평가신청서
A2: 접수번호
A4: 건축설계자 용역업자 사업수행능력 평가서(용역참여 신청서)
A6: 수 신 : 조달청장
A7: 참 조 : 기술서비스국 건설기술계약과
A8: 제 목 : 건축설계자 사업수행능력평가서 제출 | K8: 접 수 인
A9: 아래 용역에 대한 "건축설계자 수행능력평가서"를 붙임과 같이 제출합니다.
A11: ======= 아 래 =======
A12: 관 리 번 호 : | B12: 0 0 0 0 0 0 0 - 0 0
A13: 용 역 명 : | B13: 0000 청사 신축공사 설계용역
A14: 수 요 기 관 : | B14: 000000000000기관
A15: 입찰공고일 : | D15: 평가서마감 일시 :
A16: 사업자등록번호 : | B16: 111-81-00000 | D16: 입 찰 일 시 :
A18: 붙 임 : | B18: 사업수행능력평가서 1부
A19: 업 체 명 : | B19: ㈜ㅇㅇㅇ종합건축사
A20: 대 표 자 : | B20: 홍길동 | C20: (인) | E20: 주 소 :
A21: 전 화 번 호 : | B21: 031) 0000-0000 | E21: FAX 번 호 : | G21: 031) 0000-0001
A22: 평가서 작성자 : | B22: ㅇㅇㅇ | E22: 구내전화 : | F22: 100

Sheet 2.자기평가기술서(건축)
A1: 2-1. 설계용역 자기평가기술서(건축설계-ㅇㅇㅇㅇ시설)
A2: 1. 관 리 번 호 : | E2: ='1.사업수행능력평가신청서'!B12 -> 0 0 0 0 0 0 0 - 0 0 | M2: ='1.사업수행능력평가신청서'!B19 -> ㈜ㅇㅇㅇ종합건축사
A3: 2. 용 역 명 : | E3: ='1.사업수행능력평가신청서'!B13 -> 0000 청사 신축공사 설계용역 | M3: ='1.사업수행능력평가신청서'!B20 -> 홍길동
A4: 3. 수 요 기 관 : | E4: ='1.사업수행능력평가신청서'!B14 -> 000000000000기관
A5: 4. 조달청등록번호 : | E5: ='1.사업수행능력평가신청서'!B16 -> 111-81-00000
A6: 5. 평가서 작성자 : | E6: ='1.사업수행능력평가신청서'!B22 -> ㅇㅇㅇ | H6: ='1.사업수행능력평가신청서'!A21 -> 전 화 번 호 : | O6: ='1.사업수행능력평가신청서'!E22 -> 구내전화 :
A8: 참여기술자 (55) | K8: 보유건축사 (보) 현황 (5) | M8: 유사용역실적 (20) | O8: 신용도 (10) | Q8: 업무중복도 (10) | S8: 계 (100)
A9: 회사명 | B9: 구분 | C9: 이름 | D9: 분야 | E9: 등급 | F9: 경력년수 | G9: 점수 | H9: 실적건수 | I9: 점수 | J9: 소계 | K9: 보유인력 자격점수 | L9: 점수 | M9: 금액(원) | N9: 점수 | O9: 업무정지 및 벌점 | P9: 신용등급 | Q9: 건수 | R9: 점수
B10: 대표자 | C10: ㅇㅇㅇ | J10: =SUM(J11:J12) -> 55 | K10: 14 | L10: 5 | M10: 18345 | N10: 18 | O10: 7 | P10: 3 | R10: 10 | S10: =J10+L10+N10+P10+O10+R10 -> 98
A11: ㈜ㅇㅇㅇ종합건축사사무소 | B11: 담당건축사 | C11: ㅇㅇㅇ | D11: 건축 | E11: 건축사 | F11: 22 | G11: 18 | H11: 17 | I11: 12 | J11: =G11+I11 -> 30 | R11: 6
B12: 참여건축사(보) | C12: ㅇㅇㅇ | D12: 건축 | E12: 특급 | F12: 21 | G12: 15 | H12: 17 | I12: 10 | J12: =G12+I12 -> 25 | R12: 4

Sheet 3. 공동수급체결 협정현황
A1: 3. 공동수급협정 체결현황
A3: 구분 | B3: 업 체 명 | C3: 면허요구 | E3: 면허내용 | F3: 대표자 | G3: 전화 | H3: 출자비율 | J3: 비고
A4: 공동이행 | B4: 입찰공고시 요구한 면허사항 기재
B5: ='2.자기평가기술서(건축)'!M2 -> ㈜ㅇㅇㅇ종합건축사 | C5: 건축 설계 | E5: 건축사사무소 개설 | F5: ='2.자기평가기술서(건축)'!M3 -> 홍길동 | H5: 1
C6: 전력설계업 1종이상 | E6: 전력설계업 1종
C7: 정보통신분야 설계 | E7: 엔지니어링활동주체 신고 또는 기술사사무소 개설
C8: 소방설계업 2급 이상 | E8: 소방설계업 2급 - 전기 소방설계업 2급 - 기계
A12: 구분 | B12: 업 체 명 | C12: 면허사항 | F12: 대표자 | G12: 전화 | H12: 분담내용 | J12: 비고
H13: 업종 | I13: 비율
B14: 입찰공고시 요구한 면허사항 기재
A15: 분담이행 | B15: =#REF! -> #REF! | C15: 건축 설계 | E15: 건축사사무소 개설 | F15: =#REF! -> #REF! | H15: 건축
B16: 전력분야 설계회사명 | C16: 전력설계업 1종이상 | E16: 전력설계업 1종 | H16: 전기
A22: 계
A24: 붙임 : 1. 공동수급협정서(나라장터 시스템으로 승인 처리한 출력물) 1부.
A25: 2. 단독이행시는 첨부물 필요없음.

Sheet 4. 참여기술자 자격 현황
A1: 4. 참여기술자 경력현황
A2: 회사명 | B2: 구분 | C2: 참 여 기 술 자
C3: 성 명 | D3: 자격내용 | F3: 참여분야 | G3: 등 급 | H3: 설계경력 | J3: 설계실적
D4: 자격명 | E4: 취득일 | H4: 일수 | I4: 년수 | J4: 건수
A5: ='1.사업수행능력평가신청서'!B19 -> ㈜ㅇㅇㅇ종합건축사 | B5: 담당건축사 | C5: ㅇㅇㅇ | F5: 건축 | G5: 건축사 | I5: =H5/365 -> 0
B6: 참여건축사(보) | C6: ㅇㅇㅇ | F6: 건축 | G6: 특급 | I6: =H6/365 -> 0
I7: =H7/365 -> 0
I8: =H8/365 -> 0
I9: =H9/365 -> 0
A12: 주의사항
A13: - 설계경력은 건축분야 설계 총경력 일수 및 년수를 기재

Sheet 4-1. 담당건축사 경력현황
A1: 4-1. 담당건축사 경력 현황
A3: 이 름 | B3: 용역명 | C3: 발주처 | D3: 참여기간 | F3: 참여일수
B4: (건축분야 설계경력 기재)
A5: 홍길동 | D5: 37256 | E5: 37621 | F5: =(E5-D5)+1 -> 366
D6: 37622 | E6: 37986 | F6: =(E6-D6)+1 -> 365
F7: =(E7-D7)+1 -> 1
F8: =(E8-D8)+1 -> 1
F9: =(E9-D9)+1 -> 1
F10: =(E10-D10)+1 -> 1
F11: =(E11-D11)+1 -> 1
F12: =(E12-D12)+1 -> 1
F13: =(E13-D13)+1 -> 1
F14: =(E14-D14)+1 -> 1
F15: =(E15-D15)+1 -> 1
F16: =(E16-D16)+1 -> 1
F17: =(E17-D17)+1 -> 1
F18: =(E18-D18)+1 -> 1
... F24: =(E24-D24)+1 -> 1
A25: 계 | F25: =SUM(F4:F24) -> 749
B28: 참여기간 입력시 기간 중복이 발생하지 않도록 입력하시기 바람.

Sheet 4-2. 담당건축사 실적
A1: 4-2. 담당건축사 실적
A3: 이 름 | B3: 순번 | C3: 용역명 | D3: 발주처 | E3: 참여기간 | G3: 참여일수
C4: (최근 10년간 건축분야 설계실적 기재)
A5: 홍길동 | B5: 1 | E5: 37256 | F5: 37621 | G5: =(F5-E5)+1 -> 366
B6: 2 | E6: 37622 | F6: 37986 | G6: =(F6-E6)+1 -> 365
B7: 3 | G7: =(F7-E7)+1 -> 1
B8: 4 | G8: =(F8-E8)+1 -> 1
B9: 5 | G9: =(F9-E9)+1 -> 1
B10: 6 | G10: =(F10-E10)+1 -> 1
B11: 7 | G11: =(F11-E11)+1 -> 1
B12: 8 | G12: =(F12-E12)+1 -> 1
B13: 9 | G13: =(F13-E13)+1 -> 1
B14: 0 | G14: =(F14-E14)+1 -> 1
B15: 10 | G15: =(F15-E15)+1 -> 1
B16: 11 | G16: =(F16-E16)+1 -> 1
B17: 12 | G17: =(F17-E17)+1 -> 1
B18: 13 | G18: =(F18-E18)+1 -> 1
... B20: 15 | G20: =(F20-E20)+1 -> 1
B21: 16
B22: 17
B23: 18
B24: 19
B25: 20

Sheet 4-3. 참여건축사(보) 경력현황
A1: 4-2. 참여건축사(보) 경력 현황
A3: 이 름 | B3: 용역명 | C3: 발주처 | D3: 참여기간 | F3: 참여일수
B4: (건축분야 설계경력 기재)
A5: 아무개 | D5: 37256 | E5: 37621 | F5: =(E5-D5)+1 -> 366
D6: 37622 | E6: 37986 | F6: =(E6-D6)+1 -> 365
F7: =(E7-D7)+1 -> 1
F8: =(E8-D8)+1 -> 1
F9: =(E9-D9)+1 -> 1
F10: =(E10-D10)+1 -> 1
F11: =(E11-D11)+1 -> 1
F12: =(E12-D12)+1 -> 1
F13: =(E13-D13)+1 -> 1
F14: =(E14-D14)+1 -> 1
F15: =(E15-D15)+1 -> 1
F16: =(E16-D16)+1 -> 1
F17: =(E17-D17)+1 -> 1
F18: =(E18-D18)+1 -> 1
... F24: =(E24-D24)+1 -> 1
A25: 계 | F25: =SUM(F4:F24) -> 749
B27: 참여기간 입력시 기간 중복이 발생하지 않도록 입력하시기 바람.

Sheet 4-4. 참여건축사(보) 실적
A1: 4-4. 참여건축사(보) 실적
A3: 이 름 | B3: 순번 | C3: 용역명 | D3: 발주처 | E3: 참여기간 | G3: 참여일수
C4: (최근 10년간 건축분야 설계실적 기재)
A5: 아무개 | B5: 1 | E5: 37256 | F5: 37621 | G5: =(F5-E5)+1 -> 366
B6: 2 | E6: 37622 | F6: 37986 | G6: =(F6-E6)+1 -> 365
B7: 3 | G7: =(F7-E7)+1 -> 1
B8: 4 | G8: =(F8-E8)+1 -> 1
B9: 5 | G9: =(F9-E9)+1 -> 1
B10: 6 | G10: =(F10-E10)+1 -> 1
B11: 7 | G11: =(F11-E11)+1 -> 1
B12: 8 | G12: =(F12-E12)+1 -> 1
B13: 9 | G13: =(F13-E13)+1 -> 1
B14: 0 | G14: =(F14-E14)+1 -> 1
B15: 10 | G15: =(F15-E15)+1 -> 1
B16: 11 | G16: =(F16-E16)+1 -> 1
B17: 12 | G17: =(F17-E17)+1 -> 1
B18: 13 | G18: =(F18-E18)+1 -> 1
... B20: 15 | G20: =(F20-E20)+1 -> 1
B21: 16
B22: 17
B23: 18
B24: 19
B25: 20

Sheet 5. 유사용역수행실적
A1: 5. 유사용역 수행실적(공고일 기준 최근 5년간)
A3: 가. 교육연구 및 복지시설
A4: 대표건축사 | B4: 용역명 | C4: 발주처 | D4: 용역만료기간 | E4: 금액(원)
A5: ㅇㅇㅇ | E5: 12000
B8: (주의 : 반드시 경력증명서에 기재되어 있는 용역에 대한 실적을 기재하시고 경력증명서에 형광펜으로
B9: 표기하시기 바라며, (대표건축사에 대한 실적만 평가)
B10: 복합건물인 경우 건축물관리대장 또는 건축허가신청서를 첨부하면 용도별 실적을 인정,
B11: 공동이행 용역에 대하여는 반드시 자기 지분율을 정확히 기재하여 제출하세요. 차후, 사실과
A12: ㅇㅇㅇ | B12: 상이할 경우 동건에 대하여는 모든 실적을 절대 인정하지 않고 허위서류 제출자로 간주하여
B13: 실격처리 되며, 관련법에 의해 처리될 수 있습니다.
B14: 기본설계만 수행한 실적 과 마스타플랜 실적은 평가하지 않으니 기재하지 마시기 바랍니다.
A19: 계 | E19: =SUM(E5:E18) -> 12000
A20: 합 계
A22: 나. 문화 및 집회시설
A23: 대표건축사 | B23: 용역명 | C23: 발주처 | D23: 용역만료기간 | E23: 금액(원)
A29: 계
A32: 다. 업무시설
A33: 대표건축사 | B33: 용역명 | C33: 발주처 | D33: 용역만료기간 | E33: 금액(원)
A39: 소 계
A42: 라. 운동시설
A43: 대표건축사 | B43: 용역명 | C43: 발주처 | D43: 용역만료기간 | E43: 금액(원)
A49: 소 계
A51: 붙임 : 가. 건축사협회 실적증명서
A52: 나. 발주청의 실적증명서 | H52: 금액(원)
A53: * 용역기간, 용역면적, 이행비율, 발급일자, 발급자의 연락처 등은 반드시 기재
A54: 다. 건축물관리대장 또는 건축허가서
A55: 라. 민간회사 실적은 계약서, 세금계산서 등 관련 증빙서류 첨부
A56: 마. 대표건축사의 경력증명서
A57: 주) 1. 조달청에 실적을 확인 받기 위해서는 용역수행실적증명서를 반드시 첨부하여 제출
A58: 2. 위 서류를 제출치 않을 경우 평가에서 제외합니다.

Sheet 5-1.용역실적증명서
A1: 기술용역 실적증명서
A3: 신청인 | B3: 업체명(상호) | E3: 대 표 자
B4: 영업 소재지 | E4: 전 화 번 호
B5: 사업자 번호 | E5: 조달청등록번호
B6: 증명서 용도 | C6: 심사신청용 | E6: 제 출 처 | G6: 조 달 청
A7: 용역 이행 실적 내용 | B7: 용 역 명 | E7: 구분 | F7: 설계( ) : 감리( ) : 기타( ) :
B8: 용 역 개 요
B9: 계 약 번 호 | C9: 용역금액 | D9: 계약기간 | E9: 금액(원) | F9: 이행실적 (단독 ),(공동) | H9: 비고
F10: 공동비율 | G10: 실적
A12: 증 명 서 발 급 기 관 | B12: 위 사실을 증명함 년 월 일
B13: 기 관 명 : (인) (전화번호 : )
B14: 주 소 : (팩스번호 : )
B15: 발급부서 : 담당자 : (인)
A17: ※【 주 】
A18: 1. 민간회사실적은 세금계산서, 건축물관리대장, 계약서 등 증빙자료를 첨부하여야 함.
A19: 2. 기술용역실적을 공동계약으로 이행하였을 경우 비율과 이행실적을 기재하여야 함
A20: 3. 이행실적란은 기재후 투명접착테이프를 붙여 증명을 받아야 함
A21: 4. 공동비율란은 반드시 단독인지 공동이행인지 표시 하여야 함.
A22: 5. 복합공종 건축인 경우 용도별로 분류(용역 개요란에 표기)하기 바람.

Sheet 6.보유건축사(보) 현황
A1: 6. 보유건축사(보) 현황
A3: 회 사 명 | B3: 성 명 | C3: 생년월일 | D3: 구 분 (건축사 또는 건축사보) | E3: 점 수 | F3: 비 고 (지분율)
A4: ㅇㅇㅇㅇㅇㅇㅇㅇ | F4: ㅇㅇ%
A9: 소 계 | F9: =E9*F4 -> #VALUE!
A10: ㅁㅁㅁㅁㅁㅁㅁㅁ | F10: ㅇㅇ%
A15: 소 계 | F15: =E15*F10 -> #VALUE!
A16: 계
A19: - 건설기술자 실적관리수탁기관의 증명서를 제출. 단, 필요시 자격증 사본 등을 추가제출
A20: - 건축사는 2점, 건축사보는 1점으로 기재
A21: - 공동이행 시 공동수급체 구성원 각각의 실적에 참여지분율을 곱하여 산정한 후 이를 합산하여 평가

Sheet 7.업무정지 및 부정당업자
A1: 7. 입찰참가제한 및 업무정지, 자격정지 현황
A3: 업체명 및 기술자 성명 | B3: 정지 및 제재기간 | C3: 기간(월) | D3: 조치기관명 | E3: 사유요약 | F3: 점수(감점)
B4: ∼
B5: ∼
B6: ∼
A9: ※ 각 관련협회의 확인을 받아 제출
A10: 붙임 : 각 관련협회의 확인서

Sheet 7-1.부실벌점
A1: 7-1. 부실벌점 확인서
A3: 업체명 및 기술자 성명 | B3: 부여일자 | C3: 측정기간 | D3: 측정대상사업명 | E3: 공사준공일 | F3: 부실벌점 | G3: 부실점수 합계
A13: ※ 각 관련협회의 확인을 받아 제출
A14: 붙임 : 각 관련협회의 확인서
A16: 주)건설기술관리법 시행규칙 제13조의 6의 규정에 의함

Sheet 8. 재정상태
A1: 8. 재정상태
A2: 1. 회 사 명 :
A3: 2. 설 립 년 도 :
A4: (재정상태 건실도)
A5: 신용정보업체 | B5: 신용평가등급 | C5: 등급평가일 | D5: 등급유효기간 | E5: 재무결산기준일 | F5: 평점
C6: A0 | F6: 3

Sheet 9.업무중복도
A2: 9. 참여기술자의 업무중복도
A4: 참 여 기술자 | B4: 구분 | C4: 용 역 명 | D4: 용역기간 | E4: 건수 | F4: 감점
B5: 책임기술자
B9: 분야별기술자
A13: 합계
A16: * 현재 수행중인 해당용역명을 기재
A17: - 해당없을 경우 "해당없음" 기재

Sheet 10. 해외설계
A1: 10. 해외설계수행실적
A3: 발주국 | B3: 계약기간 | D3: 용 역 명 | E3: 용역비 (억 원) | F3: 점수계산식 | I3: 점수
B4: 착수일 | C4: 완료일 | F4: 건당 배점 | G4: 가중치 | H4: 이행 비율
A13: 평점
A15: 주) | B15: 1. 설계, 감리용역을 공동수주한 경우에는 용역별 금액을 별도 분리하여 제출하여야 함.
B16: 2. 해외건설협회 발행 증빙서류를 첨부하여야 함

Sheet 11. 서약서
A1: 11. 서 약 서
A3: 관리번호
A5: 용 역 명
A7: 입찰일시
A9: 본 업체는 귀 청에서 발주하는 상기용역의 사업수행능력 평가자료를
A10: 제출함에 있어 평가자료의 허위기재 또는 부실한 자료작성 및 중대한
A11: 오류(부정당업자 제재 및 부실벌점 등 평가점수와 중대한 관계가 있는
A12: 서류에 하자가 발생할 경우)로 인하여 초래되는 평가상의 불이익은
A13: 물론 평가대상에서 제외, 입찰참가대상에서 제외 등 귀청의 어떠한
A14: 처분에도 이의를 제기하지 않을 것임을 서약합니다.
D17: 2014. . .
C21: 주 소
C23: 업체명
C25: 대표자 인
A30: 조달청장 귀하
