Workbook

Sheet 제조원가계산서
A1: (별표1) 제조원가계산서
A2: 품명: 이중회전자 구조 전동기 시제품 제작 | C2: 생산량: 1
A3: 규격: 1MW | C3: 단위: Set | G3: 제조기간: 1년
A4: 구 분 | D4: 1차년도 | E4: 2차년도 | F4: 합계 금액 | G4: 구성비 | H4: 비고
A5: 비 목
A6: 제조원가 | B6: 재료비 | C6: 직접재료비 | D6: ='비목별 산출내역서(상세)'!E13 -> 0 | E6: ='비목별 산출내역서(상세)'!F13 -> 0 | F6: =SUM(D6:E6) -> 0 | G6: =F6/$F$33*100 -> #DIV/0!
C7: 간접재료비 | G7: =F7/$F$33*100 -> #DIV/0!
C8: 작업설․부산물 등(△) | G8: =F8/$F$33*100 -> #DIV/0!
C9: 소계 | D9: =SUM(D6:D8) -> 0 | E9: =SUM(E6:E8) -> 0 | F9: =SUM(D9:E9) -> 0 | G9: =F9/$F$33*100 -> #DIV/0!
B10: 노무비 | C10: 직접노무비 | D10: ='비목별 산출내역서(상세)'!E25 -> 0 | E10: ='비목별 산출내역서(상세)'!F25 -> 0 | F10: =SUM(D10:E10) -> 0 | G10: =F10/$F$33*100 -> #DIV/0!
C11: 간접노무비 | G11: =F11/$F$33*100 -> #DIV/0!
C12: 소계 | D12: =SUM(D10:D11) -> 0 | E12: =SUM(E10:E11) -> 0 | F12: =SUM(D12:E12) -> 0 | G12: =F12/$F$33*100 -> #DIV/0!
B13: 경비 | C13: 전력비 | G13: =F13/$F$33*100 -> #DIV/0!
C14: 수도광열비 | G14: =F14/$F$33*100 -> #DIV/0!
C15: 운반비 | D15: ='비목별 산출내역서(상세)'!E31 -> 0 | E15: ='비목별 산출내역서(상세)'!F31 -> 0 | F15: =SUM(D15:E15) -> 0 | G15: =F15/$F$33*100 -> #DIV/0!
C16: 감가상각비 | G16: =F16/$F$33*100 -> #DIV/0!
C17: 수리수선비 | G17: =F17/$F$33*100 -> #DIV/0!
C18: 특허권사용료 | G18: =F18/$F$33*100 -> #DIV/0!
C19: 기술료 | G19: =F19/$F$33*100 -> #DIV/0!
C20: 연구개발비 | G20: =F20/$F$33*100 -> #DIV/0!
C21: 시험검사비 | G21: =F21/$F$33*100 -> #DIV/0!
C22: 지급임차료 | G22: =F22/$F$33*100 -> #DIV/0!
C23: 보험료 | G23: =F23/$F$33*100 -> #DIV/0!
C24: 복리후생비 | G24: =F24/$F$33*100 -> #DIV/0!
C25: 보관비 | G25: =F25/$F$33*100 -> #DIV/0!
C26: 외주가공비 | G26: =F26/$F$33*100 -> #DIV/0!
C27: 산업안전보건관리비 | G27: =F27/$F$33*100 -> #DIV/0!
C28: 소계 | D28: =SUM(D13:D27) -> 0 | E28: =SUM(E13:E27) -> 0 | F28: =SUM(D28:E28) -> 0 | G28: =F28/$F$33*100 -> #DIV/0!
A29: 일반관리비 [(재료비+노무비+경비)*(6.5)%] | D29: =(D9+D12+D28)*6.5% -> 0 | E29: =(E9+E12+E28)*6.5% -> 0 | F29: =SUM(D29:E29) -> 0 | G29: =F29/$F$33*100 -> #DIV/0!
A30: 이윤 [(노무비+경비+일반관리비)*(10)%] | D30: =(D12+D28+D29)*10% -> 0 | E30: =(E12+E28+E29)*10% -> 0 | F30: =SUM(D30:E30) -> 0 | G30: =F30/$F$33*100 -> #DIV/0!
A31: 총원가 | D31: =D9+D12+D28+D29+D30 -> 0 | E31: =E9+E12+E28+E29+E30 -> 0 | F31: =SUM(D31:E31) -> 0 | G31: =F31/$F$33*100 -> #DIV/0!
A32: 부가가치세 10% | D32: =D31*10% -> 0 | E32: =E31*10% -> 0 | F32: =SUM(D32:E32) -> 0 | G32: =F32/$F$33*100 -> #DIV/0!
A33: 부가가치세를 포함한 총금액 | D33: =ROUNDDOWN(D31+D32,-6) -> 0 | E33: =ROUNDDOWN(E31+E32,-6) -> 0 | F33: =SUM(D33:E33) -> 0 | G33: =F33/$F$33*100 -> #DIV/0! | H33: 백만단위 이하 절사
A37: 물품제조 노임단가: 중소기업협동조합중앙회
A39: (별표3) 일반관리비율
A40: 업 종 | B40: 일반관리비율(%)
A41: ◦제조업
A42: 음․식료품의 제조․구매 | B42: 14
A43: 섬유․의복․가죽제품의 제조․구매 | B43: 8
A44: 나무․나무제품의 제조․구매 | B44: 9
...

Sheet 비목별 산출내역서(상세)
A1: 2. 비목별 산출내역서 (상세)
A2: (1) 재료비 | G2: (단위 : 원)
A3: 품명 | B3: 산출근거 | E3: 1차년도 | F3: 2차년도 | G3: 소계
B4: 수량 | C4: 단위 | D4: 단가
A5: 권선조립체, 고정자 | B5: 1 | C5: 식 | F5: =D5*B5 -> 0 | G5: =SUM(E5:F5) -> 0
A6: 매칭코어, 고정자 | B6: 1 | C6: 식 | F6: =D6 -> 0 | G6: =SUM(E6:F6) -> 0
A7: 부자재, 고정자 조립 | B7: 1 | C7: 식 | F7: =D7 -> 0 | G7: =SUM(E7:F7) -> 0
A8: 프레임-브래킷 조립체 | B8: 1 | C8: 식 | F8: =D8 -> 0 | G8: =SUM(E8:F8) -> 0
A9: 축-코어조립체, 회전자 | B9: 1 | C9: 식 | F9: =D9 -> 0 | G9: =SUM(E9:F9) -> 0
A10: 영구자석조립체 | B10: 1 | C10: 식 | E10: 8000000 | G10: =SUM(E10:F10) -> 8000000
A11: 자재/지그, 총조립 | B11: 1 | C11: 식 | F11: =D11 -> 0 | G11: =SUM(E11:F11) -> 0
A12: 기타 자재(포장재, 명판 외) | B12: 1 | C12: 식 | F12: =D12 -> 0 | G12: =SUM(E12:F12) -> 0
A13: 소계 | E13: =SUM(E5:E12)-8000000 -> 0 | F13: =SUM(F5:F12) -> 0 | G13: =SUM(E13:F13) -> 0
A15: (2) 노무비
A16: 구분 | B16: 인원수 | C16: 단가 ('26년 평균임율) | D16: 참여기간(MH) | E16: 1차년도 | F16: 2차년도 | G16: 소계
A17: 설계 (Rotor-Brg. Sys) | B17: 3 | D17: 440 | E17: =D17*C17*B17 -> 0 | F17: - | G17: =SUM(E17:F17) -> 0
A18: 설계 (Fr/Brkt., St., Rt., Cooler 등) | B18: 3 | D18: 480 | E18: =440*C18*B18 -> 0 | F18: =40*B18*C18 -> 0 | G18: =SUM(E18:F18) -> 0
A19: 회전자 가공 및 조립 | B19: 3 | D19: 120 | F19: =D19*C19*B19 -> 0 | G19: =SUM(E19:F19) -> 0
A20: 고정자 가공 및 조립 | B20: 3 | D20: 120 | F20: =D20*C20*B20 -> 0 | G20: =SUM(E20:F20) -> 0
A21: 베어링조립 | B21: 3 | D21: 80 | F21: =D21*C21*B21 -> 0 | G21: =SUM(E21:F21) -> 0
A22: 총조립 및 도장 | B22: 3 | D22: 120 | F22: =D22*C22*B22 -> 0 | G22: =SUM(E22:F22) -> 0
A23: 기타 조립(부속품 외) | B23: 3 | D23: 40 | F23: =D23*C23*B23 -> 0 | G23: =SUM(E23:F23) -> 0
A24: 기본시험 및 기술지원 | B24: 5 | D24: 160 | F24: =D24*C24*B24 -> 0 | G24: =SUM(E24:F24) -> 0
A25: 소계 | E25: =SUM(E17:E24) -> 0 | F25: =SUM(F17:F24) -> 0 | G25: =SUM(G17:G24) -> 0
A27: (3) 경비
A28: ① 운반비 | G28: (단위 : 원)
A29: 항목 | B29: 산출근거 | E29: 1차년도 | F29: 2차년도 | G29: 소계
A30: 시제품 운송비 | B30: - | E30: - | F30: 1000000 | G30: =SUM(E30:F30) -> 1000000
A31: 소계 | E31: =SUM(E30) -> 0 | F31: =SUM(F30)-1000000 -> 0 | G31: =SUM(E31:F31) -> 0
A33: ② 시험검사비 | G33: (단위 : 원)
A34: 항목 | B34: 산출근거 | E34: 1차년도 | F34: 2차년도 | G34: 소계
A35: - | B35: - | E35: - | F35: - | G35: =SUM(E35:F35) -> 0
A36: 소계 | E36: =SUM(E35) -> 0 | F36: =SUM(F35) -> 0 | G36: =SUM(E36:F36) -> 0
A38: (4) 일반관리비 | G38: (단위 : 원)
A39: 내역 | B39: 산출근거 | E39: 1차년도 | F39: 2차년도 | G39: 소계
A40: 일반관리비 | B40: (재료비 + 노무비 + 경비) × 6.5% | E40: =(E25+E31+E36+E13)*6.5% -> 0 | F40: =(F25+F31+F36+F13)*6.5% -> 0 | G40: =(G25+G31+G36+G13)*6.5% -> 0
A41: 소계 | E41: =SUM(E40) -> 0 | F41: =SUM(F40) -> 0 | G41: =SUM(E41:F41) -> 0
A43: (5) 이윤 | G43: (단위 : 원)
A44: 내역 | B44: 산출근거 | E44: 1차년도 | F44: 2차년도 | G44: 소계
A45: 이윤 | B45: (노무비 + 경비 + 일반관리비) × 10% | E45: =(E25+E31+E36+E41)*10% -> 0 | F45: =(F25+F31+F36+F41)*10% -> 0 | G45: =(G25+G31+G36+G41)*10% -> 0
...
