Workbook
Name \c: #REF!
Name \d: #REF!

Sheet 관급자재
A1: =+[1]공종별내역!A1 -> [ 금호일반산업단지 용수공급 시설공사(전기 및 계측제어) ]
A2: 공종 | B2: 품 명 | C2: 규 격 | D2: 수량 | E2: 단위 | F2: 합 계 | H2: 재 료 비 | J2: 노 무 비 | L2: 경 비 | N2: 비 고
F3: 단 가 | G3: 금 액 | H3: 단 가 | I3: 금 액 | J3: 단 가 | K3: 금 액 | L3: 단 가 | M3: 금 액
A4: 2 | B4: 관급자재 집계표
A5: 2.1 | B5: 전기설비
A6: 1) | B6: =+B27 -> 보안등설비 | D6: 1 | E6: 식 | G6: =+G47 -> 1550000
B7: 소 계 | G7: =SUM(G6) -> 1550000
A8: 2.2 | B8: 계측제어설비
A9: 1) | B9: =관급자재!B49 -> 현장계측제어반(ICP-GH1) | D9: 1 | E9: 식 | G9: =관급자재!G157 -> 87700000 | I9: =관급자재!K157 -> 0 | K9: =관급자재!I157 -> 0 | M9: =관급자재!M157 -> 0
A10: 2) | B10: =+B158 -> 현장계측제어반(ICP-GH2) | D10: 1 | E10: 식 | G10: =+G245 -> 39930000 | I10: =관급자재!K246 -> 0 | K10: =관급자재!I246 -> 0 | M10: =관급자재!M246 -> 0
A11: 3) | B11: =관급자재!B246 -> 계측제어설비(DCS 및 PLC) 구입 및 설치 | D11: 1 | E11: 식 | G11: =관급자재!G267 -> 36650000 | I11: =관급자재!K267 -> 0 | K11: =관급자재!I267 -> 0 | M11: =관급자재!M267 -> 0
A12: 4) | B12: =관급자재!B268 -> 현장계측기 | D12: 1 | E12: 식 | G12: =관급자재!G289 -> 18240000 | I12: =관급자재!K289 -> 0 | K12: =관급자재!I289 -> 0 | M12: =관급자재!M289 -> 0
B13: 소 계 | G13: =SUM(G9:G12) -> 1.8252e+08
B14: 계 | G14: =SUM(G7+G13) -> 1.8407e+08
B25: [ 합 계 ] | G25: =+G14 -> 1.8407e+08
A26: 2.1 | B26: 전기설비
A27: 1) | B27: 보안등설비
B28: 보안등주 | C28: 스테인리스(5m, LED 60W) | D28: =+'[1]수량(1)'!F92+'[1]수량(1)'!F177 -> 5 | E28: 본 | F28: =SUM(J28,H28,L28) -> 1180000 | G28: =SUM(K28,I28,M28) -> 1180000 | H28: =+[1]가격조사!I80 -> 1180000 | I28: =INT(H28) -> 1180000 | N28: =+[1]가격조사!N80 -> 24603909
B29: LED 보안등기구 | C29: LED 60W(AL, 538×260×125㎜) | D29: =+'[1]수량(1)'!F93+'[1]수량(1)'!F178 -> 5 | E29: 개 | F29: =SUM(J29,H29,L29) -> 320000 | G29: =SUM(K29,I29,M29) -> 320000 | H29: =+[1]가격조사!I81 -> 320000 | I29: =INT(H29) -> 320000 | N29: =+[1]가격조사!N81 -> 23731093
B30: 베이스커버 | C30: STS 분리형(Φ320×190㎜) | D30: =+'[1]수량(1)'!F94+'[1]수량(1)'!F179 -> 5 | E30: 개 | F30: =SUM(J30,H30,L30) -> 40000 | G30: =SUM(K30,I30,M30) -> 40000 | H30: =+[1]가격조사!I82 -> 40000 | I30: =INT(H30) -> 40000 | N30: =+[1]가격조사!N82 -> 25032830
B31: 소 계 | G31: =SUM(G28:G30) -> 1540000 | I31: =SUM(I28:I30) -> 1540000
B32: 조달수수료 | C32: 소계의 0.54% | D32: 0.54 | E32: % | G32: =INT(G31*D32%) -> 8316
B33: 단 수 조 정 | G33: 1684
B47: [ 합 계 ] | G47: =SUM(G31:G33) -> 1550000
A48: 2.2 | B48: 계측제어설비
A49: 1) | B49: ='[1]수량(2)'!B4 -> 현장계측제어반(ICP-GH1)
A50: ⑴ | B50: 자재비
B51: =+'[1]공량(2)'!B5 -> LOCKER(STS, 옥외형) | C51: =+'[1]공량(2)'!C5 -> STS, 1,000×1,800×600, 1.5t(117㎏) | D51: =+'[1]공량(2)'!D5 -> 1 | E51: =+'[1]공량(2)'!E5 -> 면 | F51: =SUM(J51,H51,L51) -> 3744000 | G51: =SUM(K51,I51,M51) -> 3744000 | H51: =+[1]가격조사!M93 -> 3744000 | I51: =INT(H51*D51) -> 3744000
B52: =+'[1]공량(2)'!B6 -> DOOR HANDLE(W/KEY) | C52: =+'[1]공량(2)'!C6 -> (L) | D52: =+'[1]공량(2)'!D6 -> 2 | E52: =+'[1]공량(2)'!E6 -> 개 | F52: =SUM(J52,H52,L52) -> 5690 | G52: =SUM(K52,I52,M52) -> 11380 | H52: =+[1]가격조사!M95 -> 5690 | I52: =INT(H52*D52) -> 11380
B53: =+'[1]공량(2)'!B7 -> DOOR STOPPER | C53: =+'[1]공량(2)'!C7 -> STS | D53: =+'[1]공량(2)'!D7 -> 2 | E53: =+'[1]공량(2)'!E7 -> 개 | F53: =SUM(J53,H53,L53) -> 10000 | G53: =SUM(K53,I53,M53) -> 20000 | H53: =+[1]가격조사!M96 -> 10000 | I53: =INT(H53*D53) -> 20000
B54: =+'[1]공량(2)'!B8 -> NAME PLATE | C54: =+'[1]공량(2)'!C8 -> ACRYL(L) | D54: =+'[1]공량(2)'!D8 -> 1 | E54: =+'[1]공량(2)'!E8 -> 개 | F54: =SUM(J54,H54,L54) -> 5690 | G54: =SUM(K54,I54,M54) -> 5690 | H54: =+[1]가격조사!M97 -> 5690 | I54: =INT(H54*D54) -> 5690
B55: =+'[1]공량(2)'!B9 -> NAME PLATE | C55: =+'[1]공량(2)'!C9 -> ACRYL(S) | D55: =+'[1]공량(2)'!D9 -> 97 | E55: =+'[1]공량(2)'!E9 -> 개 | F55: =SUM(J55,H55,L55) -> 3000 | G55: =SUM(K55,I55,M55) -> 291000 | H55: =+[1]가격조사!M98 -> 3000 | I55: =INT(H55*D55) -> 291000
B56: =+'[1]공량(2)'!B10 -> MCCB | C56: =+'[1]공량(2)'!C10 -> 4P 225AF | D56: =+'[1]공량(2)'!D10 -> 1 | E56: =+'[1]공량(2)'!E10 -> 개 | F56: =SUM(J56,H56,L56) -> 310900 | G56: =SUM(K56,I56,M56) -> 310900 | H56: =+[1]가격조사!M99 -> 310900 | I56: =INT(H56*D56) -> 310900
B57: =+'[1]공량(2)'!B11 -> MCCB | C57: =+'[1]공량(2)'!C11 -> 4P 50AF | D57: =+'[1]공량(2)'!D11 -> 1 | E57: =+'[1]공량(2)'!E11 -> 개 | F57: =SUM(J57,H57,L57) -> 72300 | G57: =SUM(K57,I57,M57) -> 72300 | H57: =+[1]가격조사!M100 -> 72300 | I57: =INT(H57*D57) -> 72300
B58: =+'[1]공량(2)'!B12 -> DIGITAL MULTIMETER | C58: =+'[1]공량(2)'!C12 -> 3Φ4W, RS-485 | D58: =+'[1]공량(2)'!D12 -> 1 | E58: =+'[1]공량(2)'!E12 -> 개 | F58: =SUM(J58,H58,L58) -> 900000 | G58: =SUM(K58,I58,M58) -> 900000 | H58: =+[1]가격조사!M101 -> 900000 | I58: =INT(H58*D58) -> 900000
B59: =+'[1]공량(2)'!B13 -> SPD | C59: =+'[1]공량(2)'!C13 -> 3Φ4W, 400㎄ | D59: =+'[1]공량(2)'!D13 -> 1 | E59: =+'[1]공량(2)'!E13 -> 개 | F59: =SUM(J59,H59,L59) -> 1700000 | G59: =SUM(K59,I59,M59) -> 1700000 | H59: =+[1]가격조사!M102 -> 1700000 | I59: =INT(H59*D59) -> 1700000
B60: =+'[1]공량(2)'!B14 -> ARRESTER(통신용) | C60: =+'[1]공량(2)'!C14 -> 통신용(Ethernet) | D60: =+'[1]공량(2)'!D14 -> 3 | E60: =+'[1]공량(2)'!E14 -> 개 | F60: =SUM(J60,H60,L60) -> 250000 | G60: =SUM(K60,I60,M60) -> 750000 | H60: =+[1]가격조사!M103 -> 250000 | I60: =INT(H60*D60) -> 750000
B61: =+'[1]공량(2)'!B15 -> ARRESTER(통신용) | C61: =+'[1]공량(2)'!C15 -> RS-232C, RS-485 | D61: =+'[1]공량(2)'!D15 -> 10 | E61: =+'[1]공량(2)'!E15 -> 개 | F61: =SUM(J61,H61,L61) -> 250000 | G61: =SUM(K61,I61,M61) -> 2500000 | H61: =+[1]가격조사!M104 -> 250000 | I61: =INT(H61*D61) -> 2500000
B62: =+'[1]공량(2)'!B16 -> ARRESTER(신호제어용) | C62: =+'[1]공량(2)'!C16 -> 4~20㎃DC | D62: =+'[1]공량(2)'!D16 -> 2 | E62: =+'[1]공량(2)'!E16 -> 개 | F62: =SUM(J62,H62,L62) -> 250000 | G62: =SUM(K62,I62,M62) -> 500000 | H62: =+[1]가격조사!M105 -> 250000 | I62: =INT(H62*D62) -> 500000
B63: =+'[1]공량(2)'!B17 -> PT | C63: =+'[1]공량(2)'!C17 -> 440/110V, 50VA | D63: =+'[1]공량(2)'!D17 -> 3 | E63: =+'[1]공량(2)'!E17 -> 개 | F63: =SUM(J63,H63,L63) -> 90000 | G63: =SUM(K63,I63,M63) -> 270000 | H63: =+[1]가격조사!M106 -> 90000 | I63: =INT(H63*D63) -> 270000
... B73: =+'[1]공량(2)'!B27 -> BUZZER | C73: =+'[1]공량(2)'!C27 -> AC 65㎜ | D73: =+'[1]공량(2)'!D27 -> 1 | E73: =+'[1]공량(2)'!E27 -> 개 | F73: =SUM(J73,H73,L73) -> 5100 | G73: =SUM(K73,I73,M73) -> 5100 | H73: =+[1]가격조사!M116 -> 5100 | I73: =INT(H73*D73) -> 5100
B74: =+'[1]공량(2)'!B28 -> MCCB | C74: =+'[1]공량(2)'!C28 -> 3P 100AF | D74: =+'[1]공량(2)'!D28 -> 3 | E74: =+'[1]공량(2)'!E28 -> 개 | F74: =SUM(J74,H74,L74) -> 112800 | G74: =SUM(K74,I74,M74) -> 338400 | H74: =+[1]가격조사!M118 -> 112800 | I74: =INT(H74*D74) -> 338400
B75: =+'[1]공량(2)'!B29 -> MCCB | C75: =+'[1]공량(2)'!C29 -> 3P 50AF | D75: =+'[1]공량(2)'!D29 -> 3 | E75: =+'[1]공량(2)'!E29 -> 개 | F75: =SUM(J75,H75,L75) -> 57900 | G75: =SUM(K75,I75,M75) -> 173700 | H75: =+[1]가격조사!M119 -> 57900 | I75: =INT(H75*D75) -> 173700
B76: =+'[1]공량(2)'!B30 -> MCCB | C76: =+'[1]공량(2)'!C30 -> 3P 30AF | D76: =+'[1]공량(2)'!D30 -> 10 | E76: =+'[1]공량(2)'!E30 -> 개 | F76: =SUM(J76,H76,L76) -> 53200 | G76: =SUM(K76,I76,M76) -> 532000 | H76: =+[1]가격조사!M120 -> 53200 | I76: =INT(H76*D76) -> 532000
B77: =+'[1]공량(2)'!B31 -> MCCB | C77: =+'[1]공량(2)'!C31 -> 2P 30AF | D77: =+'[1]공량(2)'!D31 -> 4 | E77: =+'[1]공량(2)'!E31 -> 개 | F77: =SUM(J77,H77,L77) -> 32500 | G77: =SUM(K77,I77,M77) -> 130000 | H77: =+[1]가격조사!M121 -> 32500 | I77: =INT(H77*D77) -> 130000
B78: =+'[1]공량(2)'!B32 -> ELCB | C78: =+'[1]공량(2)'!C32 -> 2P 30AF | D78: =+'[1]공량(2)'!D32 -> 7 | E78: =+'[1]공량(2)'!E32 -> 개 | F78: =SUM(J78,H78,L78) -> 30500 | G78: =SUM(K78,I78,M78) -> 213500 | H78: =+[1]가격조사!M122 -> 30500 | I78: =INT(H78*D78) -> 213500
B79: =+'[1]공량(2)'!B33 -> PLC BASE | C79: =+'[1]공량(2)'!C33 -> 12SLOT | D79: =+'[1]공량(2)'!D33 -> 1 | E79: =+'[1]공량(2)'!E33 -> 개 | F79: =SUM(J79,H79,L79) -> 407000 | G79: =SUM(K79,I79,M79) -> 407000 | H79: =+[1]가격조사!M123 -> 407000 | I79: =INT(H79*D79) -> 407000
B80: =+'[1]공량(2)'!B34 -> PLC POWER MODULE | C80: =+'[1]공량(2)'!C34 -> AC220V, DC5V/8.5A | D80: =+'[1]공량(2)'!D34 -> 1 | E80: =+'[1]공량(2)'!E34 -> 개 | F80: =SUM(J80,H80,L80) -> 238000 | G80: =SUM(K80,I80,M80) -> 238000 | H80: =+[1]가격조사!M124 -> 238000 | I80: =INT(H80*D80) -> 238000
B81: =+'[1]공량(2)'!B35 -> PLC CPU MODULE | C81: =+'[1]공량(2)'!C35 -> I/O 6144Point, 128Mbyte | D81: =+'[1]공량(2)'!D35 -> 1 | E81: =+'[1]공량(2)'!E35 -> 개 | F81: =SUM(J81,H81,L81) -> 1146000 | G81: =SUM(K81,I81,M81) -> 1146000 | H81: =+[1]가격조사!M125 -> 1146000 | I81: =INT(H81*D81) -> 1146000
B82: =+'[1]공량(2)'!B36 -> PLC ENET MODULE | C82: =+'[1]공량(2)'!C36 -> Ethernet/IP | D82: =+'[1]공량(2)'!D36 -> 1 | E82: =+'[1]공량(2)'!E36 -> 개 | F82: =SUM(J82,H82,L82) -> 1291000 | G82: =SUM(K82,I82,M82) -> 1291000 | H82: =+[1]가격조사!M126 -> 1291000 | I82: =INT(H82*D82) -> 1291000
B83: =+'[1]공량(2)'!B37 -> PLC CNET MODULE | C83: =+'[1]공량(2)'!C37 -> RS-422/485 2CH | D83: =+'[1]공량(2)'!D37 -> 6 | E83: =+'[1]공량(2)'!E37 -> 개 | F83: =SUM(J83,H83,L83) -> 491000 | G83: =SUM(K83,I83,M83) -> 2946000 | H83: =+[1]가격조사!M127 -> 491000 | I83: =INT(H83*D83) -> 2946000
B84: =+'[1]공량(2)'!B38 -> PLC DI MODULE | C84: =+'[1]공량(2)'!C38 -> 16Point, DC24V(Sink/Source) | D84: =+'[1]공량(2)'!D38 -> 2 | E84: =+'[1]공량(2)'!E38 -> 개 | F84: =SUM(J84,H84,L84) -> 157000 | G84: =SUM(K84,I84,M84) -> 314000 | H84: =+[1]가격조사!M128 -> 157000 | I84: =INT(H84*D84) -> 314000
B85: =+'[1]공량(2)'!B39 -> PLC DO MODULE | C85: =+'[1]공량(2)'!C39 -> 16Point, Relay 2A | D85: =+'[1]공량(2)'!D39 -> 1 | E85: =+'[1]공량(2)'!E39 -> 개 | F85: =SUM(J85,H85,L85) -> 251000 | G85: =SUM(K85,I85,M85) -> 251000 | H85: =+[1]가격조사!M129 -> 251000 | I85: =INT(H85*D85) -> 251000
... B87: =+'[1]공량(2)'!B41 -> PLC AO MODULE | C87: =+'[1]공량(2)'!C41 -> 8CH, 전압, 전류출력 | D87: =+'[1]공량(2)'!D41 -> 1 | E87: =+'[1]공량(2)'!E41 -> 개 | F87: =SUM(J87,H87,L87) -> 1158000 | G87: =SUM(K87,I87,M87) -> 1158000 | H87: =+[1]가격조사!M131 -> 1158000 | I87: =INT(H87*D87) -> 1158000
B88: =+'[1]공량(2)'!B42 -> INVERTER(VVVF) | C88: =+'[1]공량(2)'!C42 -> 3P 440V 30㎾ | D88: =+'[1]공량(2)'!D42 -> 3 | E88: =+'[1]공량(2)'!E42 -> 개 | F88: =SUM(J88,H88,L88) -> 4350000 | G88: =SUM(K88,I88,M88) -> 13050000 | H88: =+[1]가격조사!M133 -> 4350000 | I88: =INT(H88*D88) -> 13050000
B89: =+'[1]공량(2)'!B43 -> INVERTER(VVVF) | C89: =+'[1]공량(2)'!C43 -> 3P 440V 11㎾ | D89: =+'[1]공량(2)'!D43 -> 3 | E89: =+'[1]공량(2)'!E43 -> 개 | F89: =SUM(J89,H89,L89) -> 2505000 | G89: =SUM(K89,I89,M89) -> 7515000 | H89: =+[1]가격조사!M134 -> 2505000 | I89: =INT(H89*D89) -> 7515000
B90: =+'[1]공량(2)'!B44 -> MC | C90: =+'[1]공량(2)'!C44 -> 37㎾(75A) | D90: =+'[1]공량(2)'!D44 -> 3 | E90: =+'[1]공량(2)'!E44 -> 개 | F90: =SUM(J90,H90,L90) -> 107400 | G90: =SUM(K90,I90,M90) -> 322200 | H90: =+[1]가격조사!M135 -> 107400 | I90: =INT(H90*D90) -> 322200
B91: =+'[1]공량(2)'!B45 -> MC | C91: =+'[1]공량(2)'!C45 -> 15㎾(32A) | D91: =+'[1]공량(2)'!D45 -> 3 | E91: =+'[1]공량(2)'!E45 -> 개 | F91: =SUM(J91,H91,L91) -> 45700 | G91: =SUM(K91,I91,M91) -> 137100 | H91: =+[1]가격조사!M136 -> 45700 | I91: =INT(H91*D91) -> 137100
B92: =+'[1]공량(2)'!B46 -> MC | C92: =+'[1]공량(2)'!C46 -> 3㎾(7A) | D92: =+'[1]공량(2)'!D46 -> 3 | E92: =+'[1]공량(2)'!E46 -> 개 | F92: =SUM(J92,H92,L92) -> 13300 | G92: =SUM(K92,I92,M92) -> 39900 | H92: =+[1]가격조사!M137 -> 13300 | I92: =INT(H92*D92) -> 39900
B93: =+'[1]공량(2)'!B47 -> 모터보호계전기(전류형) | C93: =+'[1]공량(2)'!C47 -> 기본(컨버터+메타) | D93: =+'[1]공량(2)'!D47 -> 3 | E93: =+'[1]공량(2)'!E47 -> 개 | F93: =SUM(J93,H93,L93) -> 168380 | G93: =SUM(K93,I93,M93) -> 505140 | H93: =+[1]가격조사!M138 -> 168380 | I93: =INT(H93*D93) -> 505140
B94: =+'[1]공량(2)'!B48 -> 콘트롤릴레이 | C94: =+'[1]공량(2)'!C48 -> 4P LED(AC220V) | D94: =+'[1]공량(2)'!D48 -> 63 | E94: =+'[1]공량(2)'!E48 -> 개 | F94: =SUM(J94,H94,L94) -> 4100 | G94: =SUM(K94,I94,M94) -> 258300 | H94: =+[1]가격조사!M139 -> 4100 | I94: =INT(H94*D94) -> 258300
B95: =+'[1]공량(2)'!B49 -> 콘트롤릴레이 소켓 | C95: =+'[1]공량(2)'!C49 -> 12PIN | D95: =+'[1]공량(2)'!D49 -> 63 | E95: =+'[1]공량(2)'!E49 -> 개 | F95: =SUM(J95,H95,L95) -> 3000 | G95: =SUM(K95,I95,M95) -> 189000 | H95: =+[1]가격조사!M140 -> 3000 | I95: =INT(H95*D95) -> 189000
B96: =+'[1]공량(2)'!B50 -> TOGGLE SWITCH BOX | C96: =+'[1]공량(2)'!C50 -> AC220V, DC24V / 5P | D96: =+'[1]공량(2)'!D50 -> 4 | E96: =+'[1]공량(2)'!E50 -> 개 | F96: =SUM(J96,H96,L96) -> 40000 | G96: =SUM(K96,I96,M96) -> 160000 | H96: =+[1]가격조사!M141 -> 40000 | I96: =INT(H96*D96) -> 160000
B97: =+'[1]공량(2)'!B51 -> THERMOSTAT | C97: =+'[1]공량(2)'!C51 -> 0~90℃, 1a1b | D97: =+'[1]공량(2)'!D51 -> 2 | E97: =+'[1]공량(2)'!E51 -> 개 | F97: =SUM(J97,H97,L97) -> 15970 | G97: =SUM(K97,I97,M97) -> 31940 | H97: =+[1]가격조사!M142 -> 15970 | I97: =INT(H97*D97) -> 31940
B98: =+'[1]공량(2)'!B52 -> MICRO SWITCH | C98: =+'[1]공량(2)'!C52 -> 1P-10A 로라레버푸쉬형 | D98: =+'[1]공량(2)'!D52 -> 2 | E98: =+'[1]공량(2)'!E52 -> 개 | F98: =SUM(J98,H98,L98) -> 6100 | G98: =SUM(K98,I98,M98) -> 12200 | H98: =+[1]가격조사!M143 -> 6100 | I98: =INT(H98*D98) -> 12200
B99: =+'[1]공량(2)'!B53 -> FAN | C99: =+'[1]공량(2)'!C53 -> AC220V 150㎜ | D99: =+'[1]공량(2)'!D53 -> 4 | E99: =+'[1]공량(2)'!E53 -> 개 | F99: =SUM(J99,H99,L99) -> 30000 | G99: =SUM(K99,I99,M99) -> 120000 | H99: =+[1]가격조사!M144 -> 30000 | I99: =INT(H99*D99) -> 120000
... B116: =+'[1]공량(2)'!B70 -> 반내배선 | C116: =+'[1]공량(2)'!C70 -> KIV 1.5㎟ | D116: =+'[1]공량(2)'!D70 -> 400 | E116: =+'[1]공량(2)'!E70 -> m | F116: =SUM(J116,H116,L116) -> 397 | G116: =SUM(K116,I116,M116) -> 158800 | H116: =+[1]가격조사!M161 -> 397 | I116: =INT(H116*D116) -> 158800
B117: =+'[1]공량(2)'!B71 -> 반내배선 | C117: =+'[1]공량(2)'!C71 -> RS-485 2P/24AWG | D117: =+'[1]공량(2)'!D71 -> 30 | E117: =+'[1]공량(2)'!E71 -> m | F117: =SUM(J117,H117,L117) -> 6800 | G117: =SUM(K117,I117,M117) -> 204000 | H117: =+[1]가격조사!M15 -> 6800 | I117: =INT(H117*D117) -> 204000
B118: =+'[1]공량(2)'!B72 -> 반내배선 | C118: =+'[1]공량(2)'!C72 -> F-CVV-SB 2C/1.5㎟ | D118: =+'[1]공량(2)'!D72 -> 5 | E118: =+'[1]공량(2)'!E72 -> m | F118: =SUM(J118,H118,L118) -> 2794 | G118: =SUM(K118,I118,M118) -> 13970 | H118: =+[1]가격조사!M13 -> 2794 | I118: =INT(H118*D118) -> 13970
B119: =+'[1]공량(2)'!B73 -> 잡재료비 | C119: =+'[1]공량(2)'!C73 -> 재료비의 2% | D119: =+'[1]공량(2)'!D73 -> 1 | E119: =+'[1]공량(2)'!E73 -> 식 | F119: =SUM(J119,H119,L119) -> 0 | G119: =SUM(K119,I119,M119) -> 924016 | I119: =INT(N119*2%) -> 924016 | N119: =SUM(I51:I118) -> 46200818
B120: 자재비 계 | G120: =SUM(G51:G119) -> 47124834 | I120: =SUM(I51:I119) -> 47124834
B121: 산출노무비 | C121: 전기기계조립원 | D121: ='[1]공량(2)'!G80 -> 60.512 | E121: 인 | F121: =SUM(J121,H121,L121) -> 122522 | G121: =SUM(K121,I121,M121) -> 7414051 | J121: ='[1]2026년(상)노임단가'!G23 -> 122522 | K121: =INT(J121*D121) -> 7414051
C122: 통신기계조립원 | D122: ='[1]공량(2)'!K80 -> 0.59 | E122: 인 | F122: =SUM(J122,H122,L122) -> 100701 | G122: =SUM(K122,I122,M122) -> 59413 | J122: ='[1]2026년(상)노임단가'!G25 -> 100701 | K122: =INT(J122*D122) -> 59413
C123: 전선원 | D123: ='[1]공량(2)'!M80 -> 34.285 | E123: 인 | F123: =SUM(J123,H123,L123) -> 99248 | G123: =SUM(K123,I123,M123) -> 3402717 | J123: ='[1]2026년(상)노임단가'!G27 -> 99248 | K123: =INT(J123*D123) -> 3402717
C124: 단순노무종사원 | D124: =+'[1]공량(2)'!S80 -> 0.38 | E124: 인 | F124: =SUM(J124,H124,L124) -> 90694 | G124: =SUM(K124,I124,M124) -> 34463 | J124: ='[1]2026년(상)노임단가'!G26 -> 90694 | K124: =INT(J124*D124) -> 34463
B125: 산출노무비 계 | G125: =SUM(G121:G124) -> 10910644 | K125: =SUM(K121:K124) -> 10910644
B126: 직접노무비 | C126: 산출노무비의 (122.12%) | D126: 122.12 | E126: % | G126: =SUM(K126,I126,M126) -> 13324078 | K126: =INT(K125*122.12%) -> 13324078
B127: 간접노무비 | C127: 직접노무비의 (33.85%) | D127: 33.85 | E127: % | G127: =SUM(K127,I127,M127) -> 4510200 | K127: =INT(K126*33.85%) -> 4510200
B128: 노무비 계 | G128: =SUM(G126:G127) -> 17834278 | K128: =SUM(K126:K127) -> 17834278
B129: 경비 | C129: 재료비의 (5.39%) | D129: 0.0539 | G129: =SUM(K129,I129,M129) -> 2540028 | M129: =INT(G120*5.39%) -> 2540028
B130: 경비 계 | G130: =SUM(G129) -> 2540028 | M130: =SUM(M129) -> 2540028
B131: 순 제조원가 | G131: =SUM(G120+G128+G130) -> 67499140 | I131: =SUM(I120+I128+I130) -> 47124834 | K131: =SUM(K120+K128+K130) -> 17834278 | M131: =SUM(M120+M128+M130) -> 2540028
B132: 일반관리비 | C132: 순 제조원가의 (7%) | D132: 7 | E132: % | G132: =INT(G131*7%) -> 4724939
B133: 계 | G133: =SUM(G131:G132) -> 72224079
B134: 이윤 | C134: 노+경+일반관리비의 (25%) | D134: 25 | E134: % | G134: =INT((G128+G130+G132)*25%) -> 6274811
B135: 총 원 가 | G135: =SUM(G133:G134) -> 78498890
A136: ⑵ | B136: 설치비
B137: =+'[1]공량(2)'!B74 -> ICP-GH1 설치 | C137: =+'[1]공량(2)'!C74 -> 1.08㎥, 500㎏이하 | D137: =+'[1]공량(2)'!D74 -> 1 | E137: =+'[1]공량(2)'!E74 -> 면 | N137: 3-35
C138: 내선전공 | D138: 1.5 | E138: 인 | F138: =SUM(J138,H138,L138) -> 273676 | G138: =SUM(K138,I138,M138) -> 410514 | J138: =+'[1]2026년(상)노임단가'!G10 -> 273676 | K138: =INT(J138*D138) -> 410514
C139: 비계공 | D139: 0.65 | E139: 인 | F139: =SUM(J139,H139,L139) -> 281939 | G139: =SUM(K139,I139,M139) -> 183260 | J139: =+'[1]2026년(상)노임단가'!G8 -> 281939 | K139: =INT(J139*D139) -> 183260
C140: 보통인부 | D140: 1.2 | E140: 인 | F140: =SUM(J140,H140,L140) -> 172068 | G140: =SUM(K140,I140,M140) -> 206481 | J140: =+'[1]2026년(상)노임단가'!G6 -> 172068 | K140: =INT(J140*D140) -> 206481
B141: 소 계 | G141: =SUM(G138:G140) -> 800255 | K141: =SUM(K138:K140) -> 800255
B142: 계 | G142: =+G135+G141 -> 79299145
B143: 부가가치세 | C143: 소계의 10% | D143: 10 | E143: % | G143: =INT(G142*10%) -> 7929914
B144: 소 계 | G144: =SUM(G142:G143) -> 87229059
B145: 조달수수료 | C145: 소계의 0.54% | D145: 0.54 | E145: % | G145: =INT(G144*D145%) -> 471036
B146: 단 수 조 정 | G146: -95
B157: [ 합 계 ] | G157: =SUM(G144:G146) -> 87700000
A158: 2) | B158: =+'[1]공량(2)'!B81 -> 현장계측제어반(ICP-GH2)
A159: ⑴ | B159: 자재비
...
