Workbook
Name \c: #REF!
Name \d: #REF!

Sheet 관급자재
A1: =+[1]공종별내역!A1 -> [ 금호일반산업단지 용수공급 시설공사(전기 및 계측제어) ]
A2: 공종 | B2: 품 명 | C2: 규 격 | D2: 수량 | E2: 단위 | F2: 합 계 | H2: 재 료 비 | J2: 노 무 비 | L2: 경 비 | N2: 비 고
F3: 단 가 | G3: 금 액 | H3: 단 가 | I3: 금 액 | J3: 단 가 | K3: 금 액 | L3: 단 가 | M3: 금 액
A4: 2 | B4: 관급자재 집계표
A5: 2.1 | B5: 전기설비
A6: 1) | B6: =+B27 -> 보안등설비 | D6: 1 | E6: 식 | G6: =+G47 -> 1550000
B7: 소 계 | G7: =SUM(G6) -> 1550000
A8: 2.2 | B8: 계측제어설비
A9: 1) | B9: =관급자재!B49 -> 현장계측제어반(ICP-GH1) | D9: 1 | E9: 식 | G9: =관급자재!G157 -> 87700000 | I9: =관급자재!K157 -> 0 | K9: =관급자재!I157 -> 0 | M9: =관급자재!M157 -> 0
A10: 2) | B10: =+B158 -> 현장계측제어반(ICP-GH2) | D10: 1 | E10: 식 | G10: =+G245 -> 39930000 | I10: =관급자재!K246 -> 0 | K10: =관급자재!I246 -> 0 | M10: =관급자재!M246 -> 0
A11: 3) | B11: =관급자재!B246 -> 계측제어설비(DCS 및 PLC) 구입 및 설치 | D11: 1 | E11: 식 | G11: =관급자재!G267 -> 36650000 | I11: =관급자재!K267 -> 0 | K11: =관급자재!I267 -> 0 | M11: =관급자재!M267 -> 0
A12: 4) | B12: =관급자재!B268 -> 현장계측기 | D12: 1 | E12: 식 | G12: =관급자재!G289 -> 18240000 | I12: =관급자재!K289 -> 0 | K12: =관급자재!I289 -> 0 | M12: =관급자재!M289 -> 0
B13: 소 계 | G13: =SUM(G9:G12) -> 1.8252e+08
B14: 계 | G14: =SUM(G7+G13) -> 1.8407e+08
B25: [ 합 계 ] | G25: =+G14 -> 1.8407e+08
A26: 2.1 | B26: 전기설비
A27: 1) | B27: 보안등설비
B28: 보안등주 | C28: 스테인리스(5m, LED 60W) | D28: =+'[1]수량(1)'!F92+'[1]수량(1)'!F177 -> 5 | E28: 본 | F28: =SUM(J28,H28,L28) -> 1180000 | G28: =SUM(K28,I28,M28) -> 1180000 | H28: =+[1]가격조사!I80 -> 1180000 | I28: =INT(H28) -> 1180000 | N28: =+[1]가격조사!N80 -> 24603909
B29: LED 보안등기구 | C29: LED 60W(AL, 538×260×125㎜) | D29: =+'[1]수량(1)'!F93+'[1]수량(1)'!F178 -> 5 | E29: 개 | F29: =SUM(J29,H29,L29) -> 320000 | G29: =SUM(K29,I29,M29) -> 320000 | H29: =+[1]가격조사!I81 -> 320000 | I29: =INT(H29) -> 320000 | N29: =+[1]가격조사!N81 -> 23731093
B30: 베이스커버 | C30: STS 분리형(Φ320×190㎜) | D30: =+'[1]수량(1)'!F94+'[1]수량(1)'!F179 -> 5 | E30: 개 | F30: =SUM(J30,H30,L30) -> 40000 | G30: =SUM(K30,I30,M30) -> 40000 | H30: =+[1]가격조사!I82 -> 40000 | I30: =INT(H30) -> 40000 | N30: =+[1]가격조사!N82 -> 25032830
B31: 소 계 | G31: =SUM(G28:G30) -> 1540000 | I31: =SUM(I28:I30) -> 1540000
B32: 조달수수료 | C32: 소계의 0.54% | D32: 0.54 | E32: % | G32: =INT(G31*D32%) -> 8316
B33: 단 수 조 정 | G33: 1684
B47: [ 합 계 ] | G47: =SUM(G31:G33) -> 1550000
A48: 2.2 | B48: 계측제어설비
A49: 1) | B49: ='[1]수량(2)'!B4 -> 현장계측제어반(ICP-GH1)
A50: ⑴ | B50: 자재비
B51: =+'[1]공량(2)'!B5 -> LOCKER(STS, 옥외형) | C51: =+'[1]공량(2)'!C5 -> STS, 1,000×1,800×600, 1.5t(117㎏) | D51: =+'[1]공량(2)'!D5 -> 1 | E51: =+'[1]공량(2)'!E5 -> 면 | F51: =SUM(J51,H51,L51) -> 3744000 | G51: =SUM(K51,I51,M51) -> 3744000 | H51: =+[1]가격조사!M93 -> 3744000 | I51: =INT(H51*D51) -> 3744000
B52: =+'[1]공량(2)'!B6 -> DOOR HANDLE(W/KEY) | C52: =+'[1]공량(2)'!C6 -> (L) | D52: =+'[1]공량(2)'!D6 -> 2 | E52: =+'[1]공량(2)'!E6 -> 개 | F52: =SUM(J52,H52,L52) -> 5690 | G52: =SUM(K52,I52,M52) -> 11380 | H52: =+[1]가격조사!M95 -> 5690 | I52: =INT(H52*D52) -> 11380
B53: =+'[1]공량(2)'!B7 -> DOOR STOPPER | C53: =+'[1]공량(2)'!C7 -> STS | D53: =+'[1]공량(2)'!D7 -> 2 | E53: =+'[1]공량(2)'!E7 -> 개 | F53: =SUM(J53,H53,L53) -> 10000 | G53: =SUM(K53,I53,M53) -> 20000 | H53: =+[1]가격조사!M96 -> 10000 | I53: =INT(H53*D53) -> 20000
B54: =+'[1]공량(2)'!B8 -> NAME PLATE | C54: =+'[1]공량(2)'!C8 -> ACRYL(L) | D54: =+'[1]공량(2)'!D8 -> 1 | E54: =+'[1]공량(2)'!E8 -> 개 | F54: =SUM(J54,H54,L54) -> 5690 | G54: =SUM(K54,I54,M54) -> 5690 | H54: =+[1]가격조사!M97 -> 5690 | I54: =INT(H54*D54) -> 5690
B55: =+'[1]공량(2)'!B9 -> NAME PLATE | C55: =+'[1]공량(2)'!C9 -> ACRYL(S) | D55: =+'[1]공량(2)'!D9 -> 97 | E55: =+'[1]공량(2)'!E9 -> 개 | F55: =SUM(J55,H55,L55) -> 3000 | G55: =SUM(K55,I55,M55) -> 291000 | H55: =+[1]가격조사!M98 -> 3000 | I55: =INT(H55*D55) -> 291000
B56: =+'[1]공량(2)'!B10 -> MCCB | C56: =+'[1]공량(2)'!C10 -> 4P 225AF | D56: =+'[1]공량(2)'!D10 -> 1 | E56: =+'[1]공량(2)'!E10 -> 개 | F56: =SUM(J56,H56,L56) -> 310900 | G56: =SUM(K56,I56,M56) -> 310900 | H56: =+[1]가격조사!M99 -> 310900 | I56: =INT(H56*D56) -> 310900
B57: =+'[1]공량(2)'!B11 -> MCCB | C57: =+'[1]공량(2)'!C11 -> 4P 50AF | D57: =+'[1]공량(2)'!D11 -> 1 | E57: =+'[1]공량(2)'!E11 -> 개 | F57: =SUM(J57,H57,L57) -> 72300 | G57: =SUM(K57,I57,M57) -> 72300 | H57: =+[1]가격조사!M100 -> 72300 | I57: =INT(H57*D57) -> 72300
B58: =+'[1]공량(2)'!B12 -> DIGITAL MULTIMETER | C58: =+'[1]공량(2)'!C12 -> 3Φ4W, RS-485 | D58: =+'[1]공량(2)'!D12 -> 1 | E58: =+'[1]공량(2)'!E12 -> 개 | F58: =SUM(J58,H58,L58) -> 900000 | G58: =SUM(K58,I58,M58) -> 900000 | H58: =+[1]가격조사!M101 -> 900000 | I58: =INT(H58*D58) -> 900000
B59: =+'[1]공량(2)'!B13 -> SPD | C59: =+'[1]공량(2)'!C13 -> 3Φ4W, 400㎄ | D59: =+'[1]공량(2)'!D13 -> 1 | E59: =+'[1]공량(2)'!E13 -> 개 | F59: =SUM(J59,H59,L59) -> 1700000 | G59: =SUM(K59,I59,M59) -> 1700000 | H59: =+[1]가격조사!M102 -> 1700000 | I59: =INT(H59*D59) -> 1700000
B60: =+'[1]공량(2)'!B14 -> ARRESTER(통신용) | C60: =+'[1]공량(2)'!C14 -> 통신용(Ethernet) | D60: =+'[1]공량(2)'!D14 -> 3 | E60: =+'[1]공량(2)'!E14 -> 개 | F60: =SUM(J60,H60,L60) -> 250000 | G60: =SUM(K60,I60,M60) -> 750000 | H60: =+[1]가격조사!M103 -> 250000 | I60: =INT(H60*D60) -> 750000
B61: =+'[1]공량(2)'!B15 -> ARRESTER(통신용) | C61: =+'[1]공량(2)'!C15 -> RS-232C, RS-485 | D61: =+'[1]공량(2)'!D15 -> 10 | E61: =+'[1]공량(2)'!E15 -> 개 | F61: =SUM(J61,H61,L61) -> 250000 | G61: =SUM(K61,I61,M61) -> 2500000 | H61: =+[1]가격조사!M104 -> 250000 | I61: =INT(H61*D61) -> 2500000
B62: =+'[1]공량(2)'!B16 -> ARRESTER(신호제어용) | C62: =+'[1]공량(2)'!C16 -> 4~20㎃DC | D62: =+'[1]공량(2)'!D16 -> 2 | E62: =+'[1]공량(2)'!E16 -> 개 | F62: =SUM(J62,H62,L62) -> 250000 | G62: =SUM(K62,I62,M62) -> 500000 | H62: =+[1]가격조사!M105 -> 250000 | I62: =INT(H62*D62) -> 500000
B63: =+'[1]공량(2)'!B17 -> PT | C63: =+'[1]공량(2)'!C17 -> 440/110V, 50VA | D63: =+'[1]공량(2)'!D17 -> 3 | E63: =+'[1]공량(2)'!E17 -> 개 | F63: =SUM(J63,H63,L63) -> 90000 | G63: =SUM(K63,I63,M63) -> 270000 | H63: =+[1]가격조사!M106 -> 90000 | I63: =INT(H63*D63) -> 270000
...
