Workbook
Name _12: #N/A
Name _13: #N/A
Name _15_3_0Crite: #REF!
Name _16_3_0Crite: #REF!
Name _19_3_0Criteria: #REF!
Name _1월: #REF!
Name _2: #N/A
Name _2._날_개_벽: #REF!
Name _20_3_0Criteria: #REF!
Name _22_3__Crite: #REF!
Name _24_3__Criteria: #REF!
Name _26a1234_: #REF!
Name _28a16385_: #REF!
Name _2월: #REF!
Name _3: #N/A
Name _31G_0Extr: #REF!
Name _32G_0Extr: #REF!
Name _35G_0Extract: #REF!
Name _36G_0Extract: #REF!
Name _38G__Extr: #REF!
Name _3월: #REF!
Name _4: #REF!
Name _40G__Extract: #REF!
Name _43p1_: #REF!
Name _4월: #REF!
Name _5: #REF!
Name _56단: #REF!
Name _5월: #REF!
Name _6: #REF!
Name _6월: #REF!
Name _8: #REF!
Name _9: #REF!
Name _H600000: #REF!
Name _KT1: #REF!
Name _KT2: #N/A
Name _PVC100: #REF!
Name _PVC125: #REF!
Name _PVC150: #REF!
Name \0: #REF!
Name \a: #REF!
Name \b: #REF!
Name \c: #N/A
Name \d: #N/A
Name \e: #N/A
Name \f: #REF!
Name \g: #REF!
Name \i: #N/A
Name \j: #N/A
Name \k: #REF!
Name \l: #N/A
Name \m: #N/A
Name \n: #N/A
Name \o: #REF!
Name \p: #REF!
Name \q: #REF!
Name \r: #REF!
Name \s: #REF!
Name \t: #REF!
Name \u: #N/A
Name \w: #REF!

Sheet 원가계산서
B2: 원 가 계 산 서
B4: 공사명 : | D4: 개천지 수질보전대책(사이펀 설치) 공사
B5: 일 금 : | D5: =K33 -> 50611000 | G5: 원정 | O5: 26.05
B6: 공종별 구분 | K6: 공사비
B8: 순공사비 원가 | C8: 노무비 | D8: 직접 노무비 | K8: =내역서!I10 -> 11813109
D9: 간접 노무비 | G9: ( | H9: 19.1 | I9: % | J9: ) | K9: =INT(($H$9/100)*K8) -> 2256303
D10: 노 무 비 계 | K10: =SUM(K8:K9) -> 14069412
C11: 재 료 비 | K11: =내역서!K10 -> 20892127
C12: 경 비 | D12: 경 비 | K12: =내역서!M10 -> 1016244
D13: 보험료 | E13: 산재보험료 | G13: ( | H13: 3.56 | I13: % | J13: ) | K13: =INT(($H$13/100)*K10) -> 500871
E14: 고용보험료 | G14: ( | H14: 1.01 | I14: % | J14: ) | K14: =INT(($H$14/100)*K10) -> 142101
E15: 퇴직공제부금 | G15: ( | H15: 0 | I15: % | J15: ) | K15: =INT((H15/100)*K8) -> 0
E16: 건강보험료 | G16: ( | H16: 0 | I16: % | J16: ) | K16: =INT((H16/100)*K9) -> 0
E17: 노인장기요양보험료 | G17: ( | H17: 0 | I17: % | J17: ) | K17: =INT((H17/100)*K16) -> 0
E18: 연금보험료 | G18: ( | H18: 0 | I18: % | J18: ) | K18: =INT((H18/100)*K8) -> 0
G19: 계 | K19: =SUM(K13:K18) -> 642972
D20: 안전 관리비 | G20: ( | H20: 3.15 | I20: % | J20: ) | K20: =INT((K8+K11)*H20%) -> 1030214
H21: 기초액 | K21: =ROUND((0)*K20,0) -> 0
G22: 소계 | K22: =SUM(K20:K21) -> 1030214
D23: 기 타 경 비 | G23: ( | H23: 5.5 | I23: % | J23: ) | K23: =INT(($H$23/100)*(K10+K11)) -> 1922884
D24: 건설하도금대금지급보증서발급수수료(0.081%) | K24: =INT((K8+K11+K12)*0) -> 0
D25: 경 비 계 | K25: =K12+K19+K22+K23+K24 -> 4612314
B26: 소 계 | K26: =K10+K11+K25 -> 39573853
B27: 환경보전비 | G27: ( | I27: % | J27: )
B28: 일반관리비 | G28: ( | H28: 8 | I28: % | J28: ) | K28: =INT(($H$28/100)*(K10+K11+K25)) -> 3165908
B29: 합 계 | K29: =SUM(K26:K28) -> 42739761
B30: 이 윤 | G30: ( | H30: 15 | I30: % | J30: ) | K30: =(K29-K11)*0.15 -> 3277145.1
B31: 총 원 가 | K31: =TRUNC((((H30/100)*($K$29-K11))+K29),-4) -> 46010000
B32: 부 가 세 | G32: ( | H32: 10 | I32: % | J32: ) | K32: =INT(K31*0.1) -> 4601000
B33: 총 계 | K33: =SUM(K31:K32) -> 50611000

Sheet 내역서
B1: 공 사 비 내 역 서
B3: 공사명: 개천지 수질보전대책(사이펀 설치) 공사
B4: 종 별 | C4: 재료또는 치 수 | D4: 원수 | E4: 단위 | F4: 총 액 | H4: 노무비 | J4: 재료비 | L4: 경 비 | N4: 비 고
F5: 단가 | G5: 금액 | H5: 단가 | I5: 금액 | J5: 단가 | K5: 금액 | L5: 단가 | M5: 금액
B6: 1.개천지 수질보전대책(사이펀 설치) 공사
B7: 1-1.재료비 | D7: 1 | E7: 식 | G7: =I7+K7+M7 -> 20155353 | K7: =K62 -> 20155353
B8: 1-2.설치비 | D8: 1 | E8: 식 | G8: =I8+K8+M8 -> 13566127 | I8: =I81 -> 11813109 | K8: =K81 -> 736774 | M8: =M81 -> 1016244
B10: 소 계 | G10: =I10+K10+M10 -> 33721480 | I10: =SUM(I7:I9) -> 11813109 | K10: =SUM(K7:K9) -> 20892127 | M10: =SUM(M7:M9) -> 1016244
B28: 종 별 | C28: 재료또는 치 수 | D28: 원수 | E28: 단위 | F28: 총 액 | H28: 노무비 | J28: 재료비 | L28: 경 비 | N28: 비 고
F29: 단가 | G29: 금액 | H29: 단가 | I29: 금액 | J29: 단가 | K29: 금액 | L29: 단가 | M29: 금액
B30: 1.개천지 수질보전대책(사이펀 설치) 공사
B31: 1-1.재료비
B32: 배관용탄소강관 | C32: 250A | D32: =6*20 -> 120 | E32: M | F32: =H32+J32+L32 -> 73820 | G32: =I32+K32+M32 -> 8858400 | J32: =단가대비표!O6 -> 73820 | K32: =INT(J32*$D32) -> 8858400
B33: 배관용탄소강관 | C33: 200A | D33: =(6*4)*2 -> 48 | E33: M | F33: =H33+J33+L33 -> 51970 | G33: =I33+K33+M33 -> 2494560 | J33: =단가대비표!O7 -> 51970 | K33: =INT(J33*$D33) -> 2494560
B34: 배관용탄소강관 | C34: 80A | D34: 6 | E34: M | F34: =H34+J34+L34 -> 14500 | G34: =I34+K34+M34 -> 87000 | J34: =단가대비표!O8 -> 14500 | K34: =INT(J34*$D34) -> 87000
B35: 배관용탄소강관 | C35: 50A | D35: =6+6*2 -> 18 | E35: M | F35: =H35+J35+L35 -> 8730 | G35: =I35+K35+M35 -> 157140 | J35: =단가대비표!O9 -> 8730 | K35: =INT(J35*$D35) -> 157140
B36: 백용접엘보 | C36: 250A | D36: 10 | E36: EA | F36: =H36+J36+L36 -> 179980 | G36: =I36+K36+M36 -> 1799800 | J36: =단가대비표!O10 -> 179980 | K36: =INT(J36*$D36) -> 1799800
B37: 백용접엘보 | C37: 200A | D37: 2 | E37: EA | F37: =H37+J37+L37 -> 68240 | G37: =I37+K37+M37 -> 136480 | J37: =단가대비표!O11 -> 68240 | K37: =INT(J37*$D37) -> 136480
B38: 백용접엘보 | C38: 50A | D38: 3 | E38: EA | F38: =H38+J38+L38 -> 3870 | G38: =I38+K38+M38 -> 11610 | J38: =단가대비표!O12 -> 3870 | K38: =INT(J38*$D38) -> 11610
B39: 백용접T | C39: 250A*200A | D39: 2 | E39: EA | F39: =H39+J39+L39 -> 140800 | G39: =I39+K39+M39 -> 281600 | J39: =단가대비표!O13 -> 140800 | K39: =INT(J39*$D39) -> 281600
B40: 제수밸브 | C40: 250A, 10K, 소프트실 | D40: 1 | E40: EA | F40: =H40+J40+L40 -> 1482000 | G40: =I40+K40+M40 -> 1482000 | J40: =단가대비표!O14 -> 1482000 | K40: =INT(J40*$D40) -> 1482000
B41: 제수밸브 | C41: 200A, 10K, 소프트실 | D41: 2 | E41: EA | F41: =H41+J41+L41 -> 1020000 | G41: =I41+K41+M41 -> 2040000 | J41: =단가대비표!O15 -> 1020000 | K41: =INT(J41*$D41) -> 2040000
B42: 후드밸브 | C42: 200A, 10K, 주철 | D42: 2 | E42: EA | F42: =H42+J42+L42 -> 385680 | G42: =I42+K42+M42 -> 771360 | J42: =단가대비표!O16 -> 385680 | K42: =INT(J42*$D42) -> 771360
B43: 플랜지 | C43: 250A, 10K | D43: 2 | E43: EA | F43: =H43+J43+L43 -> 53550 | G43: =I43+K43+M43 -> 107100 | J43: =단가대비표!O17 -> 53550 | K43: =INT(J43*$D43) -> 107100
B44: 플랜지 | C44: 200A, 10K | D44: 6 | E44: EA | F44: =H44+J44+L44 -> 33860 | G44: =I44+K44+M44 -> 203160 | J44: =단가대비표!O18 -> 33860 | K44: =INT(J44*$D44) -> 203160
B45: 조립볼트,너트 | C45: M22*90L | D45: =12*2 -> 24 | E45: 조 | F45: =H45+J45+L45 -> 1248.5 | G45: =I45+K45+M45 -> 29964 | J45: =단가대비표!O19 -> 1248.5 | K45: =INT(J45*$D45) -> 29964
B46: 조립볼트,너트 | C46: M20*80L | D46: =12*6 -> 72 | E46: 조 | F46: =H46+J46+L46 -> 934.5 | G46: =I46+K46+M46 -> 67284 | J46: =단가대비표!O20 -> 934.5 | K46: =INT(J46*$D46) -> 67284
B47: 고무패킹 | C47: 250A | D47: 2 | E47: EA | F47: =H47+J47+L47 -> 3900 | G47: =I47+K47+M47 -> 7800 | J47: =단가대비표!O21 -> 3900 | K47: =INT(J47*$D47) -> 7800
B48: 고무패킹 | C48: 200A | D48: 6 | E48: EA | F48: =H48+J48+L48 -> 3000 | G48: =I48+K48+M48 -> 18000 | J48: =단가대비표!O22 -> 3000 | K48: =INT(J48*$D48) -> 18000
B49: 볼밸브 | C49: 80A, 황동 | D49: 1 | E49: EA | F49: =H49+J49+L49 -> 168340 | G49: =I49+K49+M49 -> 168340 | J49: =단가대비표!O23 -> 168340 | K49: =INT(J49*$D49) -> 168340
B50: 볼밸브 | C50: 50A, 황동 | D50: 1 | E50: EA | F50: =H50+J50+L50 -> 52330 | G50: =I50+K50+M50 -> 52330 | J50: =단가대비표!O24 -> 52330 | K50: =INT(J50*$D50) -> 52330
B51: 니플 | C51: 80A | D51: 2 | E51: EA | F51: =H51+J51+L51 -> 8880 | G51: =I51+K51+M51 -> 17760 | J51: =단가대비표!O25 -> 8880 | K51: =INT(J51*$D51) -> 17760
B52: 니플 | C52: 50A | D52: 1 | E52: EA | F52: =H52+J52+L52 -> 3880 | G52: =I52+K52+M52 -> 3880 | J52: =단가대비표!O26 -> 3880 | K52: =INT(J52*$D52) -> 3880
B53: 백용접레듀샤 | C53: 300*80A | D53: 1 | E53: EA | F53: =H53+J53+L53 -> 54210 | G53: =I53+K53+M53 -> 54210 | J53: =단가대비표!O27 -> 54210 | K53: =INT(J53*$D53) -> 54210
B54: 관지지용ㄱ형강 | C54: ㄱ65*6T,SS275 | D54: =5.91*(2*30) -> 354.6 | E54: kg | F54: =H54+J54+L54 -> 1030 | G54: =I54+K54+M54 -> 365238 | J54: =단가대비표!O28 -> 1030 | K54: =INT(J54*$D54) -> 365238
B55: 수중펌프 | C55: 50A,0.75kw | D55: 1 | E55: 대 | F55: =H55+J55+L55 -> 527000 | G55: =I55+K55+M55 -> 527000 | J55: =단가대비표!O29 -> 527000 | K55: =INT(J55*$D55) -> 527000
B56: 종 별 | C56: 재료또는 치 수 | D56: 원수 | E56: 단위 | F56: 총 액 | H56: 노무비 | J56: 재료비 | L56: 경 비 | N56: 비 고
F57: 단가 | G57: 금액 | H57: 단가 | I57: 금액 | J57: 단가 | K57: 금액 | L57: 단가 | M57: 금액
B58: 전선릴 | C58: 50M | D58: 1 | E58: 개 | F58: =H58+J58+L58 -> 95000 | G58: =I58+K58+M58 -> 95000 | J58: =단가대비표!O30 -> 95000 | K58: =INT(J58*$D58) -> 95000
B59: 고압호스 | C59: 50A | D59: 10 | E59: M | F59: =H59+J59+L59 -> 4278 | G59: =I59+K59+M59 -> 42780 | J59: =단가대비표!O31 -> 4278 | K59: =INT(J59*$D59) -> 42780
...

Sheet 일위대가
A2: 기계설비 일위대가 총괄표
A4: 종 별 | B4: 재료또는 | C4: 원 수 | D4: 단위 | E4: 총 액 | G4: 노 무 비 | I4: 재 료 비 | K4: 경 비 | M4: 비 고
B5: 치 수 | E5: 단가 | F5: 금 액 | G5: 단가 | H5: 금 액 | I5: 단가 | J5: 금 액 | K5: 단가 | L5: 금 액
A6: 【1호표.강관 부설 ( 6M기준 1본당)】 | F6: ※ 건설 표준품셈(토목부문) 6-3-1 적용
F7: ※ 6m이하는 비례길이로 적용한다.
A8: ▶ Φ250
A9: 배 관 공 | C9: 0.182 | D9: 인 | F9: =H9+J9+L9 -> 45117.2 | G9: =단가대비표!P38 -> 247897 | H9: =TRUNC($C9*G9,1) -> 45117.2
A10: 보 통 인 부 | C10: 0.091 | D10: 인 | F10: =H10+J10+L10 -> 15658.1 | G10: =단가대비표!P39 -> 172068 | H10: =TRUNC($C10*G10,1) -> 15658.1
A11: 크 레 인 | B11: 10 ton | C11: 0.727 | D11: hr | F11: =H11+J11+L11 -> 66393.9 | G11: 49778 | H11: =TRUNC($C11*G11,1) -> 36188.6 | I11: 17753 | J11: =TRUNC($C11*I11,1) -> 12906.4 | K11: 23795 | L11: =TRUNC($C11*K11,1) -> 17298.9
A12: 공 구 손 료 | B12: 3 % | C12: 1 | D12: 식 | F12: =H12+J12+L12 -> 1823.2 | K12: =TRUNC((H9+H10)*0.03,1) -> 1823.2 | L12: =TRUNC($C12*K12,1) -> 1823.2
A13: 소 계 | F13: =H13+J13+L13 -> 128991 | H13: =INT(SUM(H9:H12)) -> 96963 | J13: =INT(SUM(J9:J12)) -> 12906 | L13: =INT(SUM(L9:L12)) -> 19122
A15: 【2호표.강관 부설 ( 6M기준 1본당)】 | F15: ※ 건설 표준품셈(토목부문) 6-3-1 적용
F16: ※ 6m이하는 비례길이로 적용한다.
A17: ▶ Φ200
A18: 배 관 공 | C18: 0.167 | D18: 인 | F18: =H18+J18+L18 -> 41398.7 | G18: =단가대비표!P38 -> 247897 | H18: =TRUNC($C18*G18,1) -> 41398.7
A19: 보 통 인 부 | C19: 0.083 | D19: 인 | F19: =H19+J19+L19 -> 14281.6 | G19: =단가대비표!P39 -> 172068 | H19: =TRUNC($C19*G19,1) -> 14281.6
A20: 크 레 인 | B20: 10 ton | C20: 0.667 | D20: hr | F20: =H20+J20+L20 -> 60914.3 | G20: 49778 | H20: =TRUNC($C20*G20,1) -> 33201.9 | I20: 17753 | J20: =TRUNC($C20*I20,1) -> 11841.2 | K20: 23795 | L20: =TRUNC($C20*K20,1) -> 15871.2
A21: 공 구 손 료 | B21: 3 % | C21: 1 | D21: 식 | F21: =H21+J21+L21 -> 1670.4 | K21: =TRUNC((H18+H19)*0.03,1) -> 1670.4 | L21: =TRUNC($C21*K21,1) -> 1670.4
A22: 소 계 | F22: =H22+J22+L22 -> 118264 | H22: =INT(SUM(H18:H21)) -> 88882 | J22: =INT(SUM(J18:J21)) -> 11841 | L22: =INT(SUM(L18:L21)) -> 17541
A24: 【3호표.강관 배관 ( 용접식 ) ( M 당 )】 | F24: ※ 건설공사표준품셈(기계설비부문) 1-1-2 적용, 배관용 탄소강관(KSD 3507) 배관
F25: * 인서트, 지지철물설치, 절단, 배관(가용접), 배관시험을 포함. * 용접접합은 제외됨
A26: ▶ Φ80 (옥외)
A27: 배 관 공 | C27: 0.108 | D27: 인 | F27: =H27+J27+L27 -> 26772 | G27: =단가대비표!P38 -> 247897 | H27: =INT(G27*C27) -> 26772
A28: 보 통 인 부 | C28: 0.036 | D28: 인 | F28: =H28+J28+L28 -> 6194 | G28: =단가대비표!P39 -> 172068 | H28: =INT(G28*C28) -> 6194
A29: 공 구 손 료 | B29: 0.02 | C29: 1 | D29: 식 | F29: =H29+J29+L29 -> 659 | K29: =INT(H30*0.02) -> 659 | L29: =INT(K29*C29) -> 659
A30: 소 계 | F30: =H30+J30+L30 -> 33625 | H30: =INT(SUM(H27:H29)) -> 32966 | L30: =INT(SUM(L26:L29)) -> 659
A32: 【4호표.강관 배관 ( 용접식 ) ( M 당 )】 | F32: ※ 건설공사표준품셈(기계설비부문) 1-1-2 적용, 배관용 탄소강관(KSD 3507) 배관
F33: * 인서트, 지지철물설치, 절단, 배관(가용접), 배관시험을 포함. * 용접접합은 제외됨
A34: ▶ Φ50 (옥외)
A35: 배 관 공 | C35: 0.073 | D35: 인 | F35: =H35+J35+L35 -> 18096 | G35: =단가대비표!P38 -> 247897 | H35: =INT(G35*C35) -> 18096
A36: 보 통 인 부 | C36: 0.024 | D36: 인 | F36: =H36+J36+L36 -> 4129 | G36: =단가대비표!P39 -> 172068 | H36: =INT(G36*C36) -> 4129
A37: 공 구 손 료 | B37: 0.02 | C37: 1 | D37: 식 | F37: =H37+J37+L37 -> 444 | K37: =INT(H38*0.02) -> 444 | L37: =INT(K37*C37) -> 444
A38: 소 계 | F38: =H38+J38+L38 -> 22669 | H38: =INT(SUM(H35:H37)) -> 22225 | L38: =INT(SUM(L34:L37)) -> 444
A40: 【5호표. 강관절단 (개소당)】 | F40: ※ 건설공사 표준품셈 6-4-3 적용
A41: ▶ Ф250
A42: 용 접 공 | C42: 0.16 | D42: 인 | F42: =H42+J42+L42 -> 45205.7 | G42: =단가대비표!P40 -> 282536 | H42: =TRUNC(G42*$C42,1) -> 45205.7
A43: 공 구 손 료 | B43: 0.02 | C43: 1 | D43: 식 | F43: =H43+J43+L43 -> 904.1 | L43: =TRUNC(H44*0.02,1) -> 904.1
A44: 소 계 | F44: =H44+J44+L44 -> 46109 | H44: =INT(SUM(H42:H43)) -> 45205 | L44: =INT(SUM(L42:L43)) -> 904
A46: 【6호표.강관 용접접합 (용접개소당)】 | F46: ※ 건설공사표준품셈(기계설비부문) 1-1-1 적용, 배관용 탄소강관(KSD 3507) 배관
F47: * 부설(배관) 제외
...

Sheet 단가대비표
B1: 단 가 대 비 표
B3: 품 명 | C3: 규격 | D3: 단위 | E3: 재 료 비 | P3: 노무비 26년상반기 | Q3: 번호 | R3: 비고
E4: 물가자료(26.05) | G4: 유통물가(26.05) | I4: 공사단가 | K4: 조사가격1 | M4: 조사가격1 | O4: 적용단가
E5: 단가 | F5: PAGE | G5: 단가 | H5: PAGE | I5: 단가 | J5: PAGE | K5: 단가 | L5: PAGE | M5: 단가 | N5: PAGE
B6: 배관용탄소강관 | C6: 250A | D6: M | E6: 73820 | F6: 706 | G6: 78333 | H6: 522 | O6: =MIN(E6,G6,I6,K6,M6) -> 73820
B7: 배관용탄소강관 | C7: 200A | D7: M | E7: 51970 | F7: 706 | G7: 55481 | H7: 522 | O7: =MIN(E7,G7,I7,K7,M7) -> 51970
B8: 배관용탄소강관 | C8: 80A | D8: M | E8: 14500 | F8: 706 | G8: 15523 | H8: 522 | O8: =MIN(E8,G8,I8,K8,M8) -> 14500
B9: 배관용탄소강관 | C9: 50A | D9: M | E9: 8730 | F9: 706 | G9: 9349 | H9: 522 | O9: =MIN(E9,G9,I9,K9,M9) -> 8730
B10: 백용접엘보 | C10: 250A | D10: EA | G10: 179980 | H10: 527 | O10: =MIN(E10,G10,I10,K10,M10) -> 179980
B11: 백용접엘보 | C11: 200A | D11: EA | E11: 68240 | F11: 719 | G11: 70750 | H11: 525 | O11: =MIN(E11,G11,I11,K11,M11) -> 68240
B12: 백용접엘보 | C12: 50A | D12: EA | E12: 3870 | F12: 719 | G12: 4000 | H12: 525 | O12: =MIN(E12,G12,I12,K12,M12) -> 3870
B13: 백용접T | C13: 250A*200A | D13: EA | E13: 140800 | F13: 719 | G13: 145990 | H13: 525 | O13: =MIN(E13,G13,I13,K13,M13) -> 140800
B14: 제수밸브 | C14: 250A, 10K, 소프트실 | D14: EA | E14: 1716400 | F14: 826 | G14: 1482000 | H14: 614 | O14: =MIN(E14,G14,I14,K14,M14) -> 1482000
B15: 제수밸브 | C15: 200A, 10K, 소프트실 | D15: EA | E15: 1164800 | F15: 826 | G15: 1020000 | H15: 614 | O15: =MIN(E15,G15,I15,K15,M15) -> 1020000
B16: 후드밸브 | C16: 200A, 10K, 주철 | D16: EA | E16: 385680 | F16: 850 | G16: 497340 | H16: 592 | O16: =MIN(E16,G16,I16,K16,M16) -> 385680
B17: 플랜지 | C17: 250A, 10K | D17: EA | E17: 53550 | F17: 718 | G17: 53550 | H17: 538 | O17: =MIN(E17,G17,I17,K17,M17) -> 53550
B18: 플랜지 | C18: 200A, 10K | D18: EA | E18: 33860 | F18: 718 | G18: 33860 | H18: 538 | O18: =MIN(E18,G18,I18,K18,M18) -> 33860
B19: 조립볼트,너트 | C19: M22*90L | D19: 조 | E19: =1287+228.3 -> 1515.3 | F19: 47,51 | G19: =1089+159.5 -> 1248.5 | H19: 49,56 | O19: =MIN(E19,G19,I19,K19,M19) -> 1248.5
B20: 조립볼트,너트 | C20: M20*80L | D20: 조 | E20: =947+179.3 -> 1126.3 | F20: 47,51 | G20: =804+130.5 -> 934.5 | H20: 49,56 | O20: =MIN(E20,G20,I20,K20,M20) -> 934.5
B21: 고무패킹 | C21: 250A | D21: EA | I21: 3900 | J21: M032905 | O21: =MIN(E21,G21,I21,K21,M21) -> 3900
B22: 고무패킹 | C22: 200A | D22: EA | I22: 3000 | J22: M032904 | O22: =MIN(E22,G22,I22,K22,M22) -> 3000
B23: 볼밸브 | C23: 80A, 황동 | D23: EA | E23: 213280 | F23: 823 | G23: 168340 | H23: 596 | O23: =MIN(E23,G23,I23,K23,M23) -> 168340
B24: 볼밸브 | C24: 50A, 황동 | D24: EA | E24: 57070 | F24: 823 | G24: 52330 | H24: 596 | O24: =MIN(E24,G24,I24,K24,M24) -> 52330
B25: 니플 | C25: 80A | D25: EA | E25: 8880 | F25: 711 | G25: 8880 | H25: 528 | O25: =MIN(E25,G25,I25,K25,M25) -> 8880
B26: 니플 | C26: 50A | D26: EA | E26: 3880 | F26: 711 | G26: 3880 | H26: 528 | O26: =MIN(E26,G26,I26,K26,M26) -> 3880
B27: 백용접레듀샤 | C27: 300*80A | D27: EA | E27: 54210 | F27: 720 | G27: 54210 | H27: 525 | O27: =MIN(E27,G27,I27,K27,M27) -> 54210
B28: 관지지용ㄱ형강 | C28: ㄱ65*6T,SS275 | D28: kg | E28: 1030 | F28: 7 | G28: 1190 | H28: 21 | O28: =MIN(E28,G28,I28,K28,M28) -> 1030
B29: 수중펌프 | C29: 50A,0.75kw | D29: 대 | E29: 527000 | F29: 1374 | G29: 980000 | H29: 646 | O29: =MIN(E29,G29,I29,K29,M29) -> 527000
B30: 전선릴 | C30: 50M | D30: 개 | K30: 95000 | O30: =MIN(E30,G30,I30,K30,M30) -> 95000
B31: 고압호스 | C31: 50A | D31: M | G31: =213900/50 -> 4278 | H31: 1158 | O31: =MIN(E31,G31,I31,K31,M31) -> 4278
B32: 호스연결부속 | C32: 캠록C+F | D32: 조 | K32: 38000 | O32: =MIN(E32,G32,I32,K32,M32) -> 38000
B33: 용 접 봉 | C33: 3.2mm,연강용 | D33: kg | I33: 3197 | J33: 공사단가 | O33: =MIN(E33,G33,I33,K33,M33) -> 3197
B34: 전 력 | C34: 한전, 일반용갑, 저압 | D34: KWH | I34: 114.43 | J34: 공사단가 | O34: =MIN(E34,G34,I34,K34,M34) -> 114.43
B35: 기구손료 | D35: hr | I35: 116 | J35: 공사단가 | O35: =MIN(E35,G35,I35,K35,M35) -> 116
B36: 트럭탑재형크레인 | C36: 0.5ton | D36: 대 | E36: 42791000 | F36: 하161 | G36: 42791000 | H36: 1327 | O36: =MIN(E36,G36,I36,K36,M36) -> 42791000
B37: 경 유 | C37: 저유황 0.003% | D37: ℓ | E37: 1920 | F37: 하32 | G37: 1923 | H37: 1189 | O37: =MIN(E37,G37,I37,K37,M37) -> 1920
B38: 배 관 공 | C38: 일반공사 직종 | D38: 인 | P38: 247897
B39: 보 통 인 부 | C39: " | D39: 인 | P39: 172068
B40: 용 접 공 | C40: " | D40: 인 | P40: 282536
B41: 특 별 인 부 | C41: " | D41: 인 | P41: 226122
...
