Workbook
Name _1: '[1]2000시행총괄'!#REF!
Name _1: '[1]2000시행총괄'!#REF!
Name _12: #REF!
Name _12: #REF!
Name _13: [1]청하배수!#REF!
Name _13: [1]청하배수!#REF!
Name ¸Þ´º: #N/A
Name \0: #REF!
Name \0: #REF!
Name \a: #N/A
Name \b: #REF!
Name \b: #REF!
Name \c: #N/A
Name \d: #N/A
Name \e: #REF!
Name \e: #REF!
Name \f: #REF!
Name \f: #REF!
Name \m: #N/A
Name \n: #N/A
Name \p: #REF!
Name \p: #REF!
Name \q: #REF!
Name \q: #REF!
Name \s: #REF!
Name \s: #REF!
Name \w: #REF!
Name \w: #REF!
Name \x: #REF!
Name \x: #REF!
Name \z: #REF!
Name \z: #REF!
Name ¾_½_: #N/A
Name A: #REF!
Name A: #REF!
Name AB: #N/A
Name as: #REF!
Name as: #REF!
Name BLT: #REF!
Name BLT: #REF!
Name BV: #REF!
Name BV: #REF!
Name CR: #REF!
Name CR: #REF!
Name DATA: #N/A
Name dfdkjf: #REF!
Name dfdkjf: #REF!
Name DSVP: #REF!
Name DSVP: #REF!
Name HAF: #REF!
Name HAF: #REF!
Name HBV: #REF!
Name HBV: #REF!
Name HCR: #REF!
Name HCR: #REF!
Name HDATA: #N/A
Name HDSVP: #REF!
Name HDSVP: #REF!
Name HHAF: #REF!
Name HHAF: #REF!

Sheet VXXXXX

Sheet VXXX

Sheet 표지
A1: 충청남도 서천군 | K1: 2026. 8.
A7: ="공사명 : "&'총괄표 '!B2 -> 공사명 : 공공임대용 농지매입사업 훼손농지 복구공사
A16: 한국농어촌공사 서천지사

Sheet 총괄표 
A2: 신기용수지선 말 수로관 공사 | B2: =공사비명세서!B3&"공사" -> 공공임대용 농지매입사업 훼손농지 복구공사 | D2: 공 사 비 총 괄 표
B3: 일 금 | C3: =H23 -> 26089000
A4: 공종 | C4: =공사비명세서!B3 -> 공공임대용 농지매입사업 훼손농지 복구 | H4: 계
A5: 내역
A6: 노무비 | B6: 직접노무비 | C6: =공사비명세서!J27 -> 4073000 | H6: =E6+D6+C6+F6+G6 -> 4073000
B7: 간접노무비(16.5%) | C7: =INT((C6*0.165)/1000)*1000 -> 672000 | H7: =E7+D7+C7+F7+G7 -> 672000
A8: 고용보험료(1.01%) | C8: =INT(((C6+C7)*0.0101)/1000)*1000 -> 47000 | H8: =E8+D8+C8+F8+G8 -> 47000
A9: 환경보전비(0.80%) | C9: =INT(((C11+C6+C12)*0.008)/1000)*1000 -> 145000 | H9: =E9+D9+C9+F9+G9 -> 145000
A10: 산재보험료(3.56%) | C10: =INT(((C6+C7)*0.0356)/1000)*1000 -> 168000 | H10: =E10+D10+C10+F10+G10 -> 168000
A11: 재 료 비 | C11: =공사비명세서!H27 -> 13379000 | H11: =E11+D11+C11+F11+G11 -> 13379000
A12: 경 비 | C12: =공사비명세서!L27 -> 737000 | H12: =E12+D12+C12+F12+G12 -> 737000
A13: 순 공 사 비 | C13: =INT((C6+C7+C8+C9+C10+C11+C12)/1000)*1000 -> 19221000 | H13: =E13+D13+C13+F13+G13 -> 19221000
A14: 산업안전보건관리비(3.15%) | C14: =ROUNDUP((C11+C6)*0.0315,-3) -> 550000 | H14: =E14+D14+C14+F14+G14 -> 550000 | J14: 관급자재포함 2천만원 이상 적용
A15: 기 타 경 비(5.20％) | C15: =INT(((C6+C7+C11)*0.052)/1000)*1000 -> 942000 | H15: =E15+D15+C15+F15+G15 -> 942000
A16: 소 계 | C16: =C13+C15+C14 -> 20713000 | H16: =E16+D16+C16+F16+G16 -> 20713000
A17: 일반관리비 (8.00%) | C17: =INT((C16*0.08)/1000)*1000 -> 1657000 | H17: =E17+D17+C17+F17+G17 -> 1657000
A18: 공 사 비 계 | C18: =C16+C17 -> 22370000 | H18: =E18+D18+C18+F18+G18 -> 22370000
A19: 이 윤(15.00%) | C19: =INT(((C18-C11)*0.15)/1000)*1000 -> 1348000 | H19: =E19+D19+C19+F19+G19 -> 1348000
A20: 총 원 가 | C20: =C18+C19 -> 23718000 | H20: =E20+D20+C20+F20+G20 -> 23718000
A21: 총 계 | C21: =C20 -> 23718000 | H21: =E21+D21+C21+F21+G21 -> 23718000
A22: 부 가 가 치 세(10%) | C22: =INT((C21*0.1)/1000)*1000 -> 2371000 | H22: =E22+D22+C22+F22+G22 -> 2371000
A23: 총 공 사 비 | C23: =C22+C21 -> 26089000 | H23: =E23+D23+C23+F23+G23 -> 26089000

Sheet 공사비명세서
A2: 공 사 비 명 세 서
A3: 공사명 : | B3: 공공임대용 농지매입사업 훼손농지 복구
B4: 일 금 : | C4: =F27 -> 18189000 | F4: 원정
A5: 종 류 | B5: 재료또는치수 | C5: 원수 | D5: 단위 | E5: 총 액 | G5: 재 료 비 | I5: 노 무 비 | K5: 경 비 | M5: 비 고
E6: 단 가 | F6: 금 액 | G6: 단 가 | H6: 금 액 | I6: 단 가 | J6: 금 액 | K6: 단 가 | L6: 금 액
A7: =재료계산서!B3 -> 표토제거 | B7: =재료계산서!C3 -> BH0.7㎥ | C7: =재료계산서!X3 -> 326.2 | D7: =재료계산서!Y3 -> ㎥ | E7: =G7+I7+K7 -> 2064 | F7: =H7+J7+L7 -> 673276 | G7: =단가표!H9 -> 390 | H7: =INT(G7*C7)/1 -> 127218 | I7: =단가표!J9 -> 1182 | J7: =INT(I7*C7)/1 -> 385568 | K7: =단가표!L9 -> 492 | L7: =INT(K7*C7)/1 -> 160490
A8: =재료계산서!B4 -> 성토 | B8: =재료계산서!C4 -> 순성토 운반 및 포설 | C8: =재료계산서!X4 -> 978.6 | D8: =재료계산서!Y4 -> ㎥ | E8: =G8+I8+K8 -> 4275 | F8: =H8+J8+L8 -> 4183515 | G8: =단가표!H37 -> 4275 | H8: =INT(G8*C8)/1 -> 4183515 | J8: =INT(I8*C8)/1 -> 0 | L8: =INT(K8*C8)/1 -> 0
A9: =재료계산서!B5 -> 다짐 | B9: =재료계산서!C5 -> 타이어롤러 | C9: =재료계산서!X5 -> 978.6 | D9: =재료계산서!Y5 -> ㎥ | E9: =G9+I9+K9 -> 451 | F9: =H9+J9+L9 -> 441347 | G9: =단가표!H41 -> 66 | H9: =INT(G9*C9)/1 -> 64587 | I9: =단가표!J41 -> 291 | J9: =INT(I9*C9)/1 -> 284772 | K9: =단가표!L41 -> 94 | L9: =INT(K9*C9)/1 -> 91988
A10: =재료계산서!B6 -> 살수차 운행 | B10: =재료계산서!C6 -> 5,500ℓ | C10: =재료계산서!X6 -> 18 | D10: =재료계산서!Y6 -> hr | E10: =G10+I10+K10 -> 110916 | F10: =H10+J10+L10 -> 1996488 | G10: =단가표!H26 -> 86344 | H10: =INT(G10*C10)/1 -> 1554192 | I10: =단가표!J26 -> 20950 | J10: =INT(I10*C10)/1 -> 377100 | K10: =단가표!L26 -> 3622 | L10: =INT(K10*C10)/1 -> 65196
A11: =재료계산서!B7 -> 신호수 | B11: =재료계산서!C7 -> 교통정리원 | C11: =재료계산서!X7 -> 6 | D11: =재료계산서!Y7 -> 일 | E11: =G11+I11+K11 -> 173784 | F11: =H11+J11+L11 -> 1042704 | H11: =INT(G11*C11)/1 -> 0 | I11: =단가표!J49 -> 173784 | J11: =INT(I11*C11)/1 -> 1042704 | L11: =INT(K11*C11)/1 -> 0
A12: =재료계산서!B9 -> 터파기 | B12: =재료계산서!C9 -> BH0.7㎥ | C12: =재료계산서!X9+재료계산서!X13 -> 108.64 | D12: =재료계산서!Y9 -> ㎥ | E12: =G12+I12+K12 -> 2064 | F12: =H12+J12+L12 -> 224231 | G12: =G7 -> 390 | H12: =INT(G12*C12)/1 -> 42369 | I12: =I7 -> 1182 | J12: =INT(I12*C12)/1 -> 128412 | K12: =K7 -> 492 | L12: =INT(K12*C12)/1 -> 53450
A13: =재료계산서!B10 -> 되메우기 | B13: =재료계산서!C10 -> BH0.7㎥ | C13: =재료계산서!X10+재료계산서!X14 -> 98.72 | D13: =재료계산서!Y10 -> ㎥ | E13: =G13+I13+K13 -> 1980 | F13: =H13+J13+L13 -> 195464 | G13: =단가표!H18 -> 357 | H13: =INT(G13*C13)/1 -> 35243 | I13: =단가표!J18 -> 1143 | J13: =INT(I13*C13)/1 -> 112836 | K13: =단가표!L18 -> 480 | L13: =INT(K13*C13)/1 -> 47385
A14: =재료계산서!B11 -> 배수로 설치 | B14: =재료계산서!C11 -> 벤치플륨관 400C | C14: =재료계산서!X11 -> 50 | D14: =재료계산서!Y11 -> 본 | E14: =G14+I14+K14 -> 110916 | F14: =H14+J14+L14 -> 5545800 | G14: =단가표!H26 -> 86344 | H14: =INT(G14*C14)/1 -> 4317200 | I14: =단가표!J26 -> 20950 | J14: =INT(I14*C14)/1 -> 1047500 | K14: =단가표!L26 -> 3622 | L14: =INT(K14*C14)/1 -> 181100
A15: =재료계산서!B15 -> 콘크리트 절단 | B15: =재료계산서!C15 -> 컷팅기 | C15: =재료계산서!X15 -> 6 | D15: =재료계산서!Y15 -> m | E15: =G15+I15+K15 -> 2942 | F15: =H15+J15+L15 -> 17652 | G15: =단가표!H53 -> 1214 | H15: =INT(G15*C15)/1 -> 7284 | I15: =단가표!J53 -> 1619 | J15: =INT(I15*C15)/1 -> 9714 | K15: =단가표!L53 -> 109 | L15: =INT(K15*C15)/1 -> 654
A16: =재료계산서!B16 -> 콘크리트 헐기 | B16: =재료계산서!C16 -> BH0.7㎥ | C16: =재료계산서!X16 -> 0.48 | D16: =재료계산서!Y16 -> ㎥ | E16: =G16+I16+K16 -> 47224 | F16: =H16+J16+L16 -> 22666 | G16: =단가표!H57 -> 8455 | H16: =INT(G16*C16)/1 -> 4058 | I16: =단가표!J57 -> 24089 | J16: =INT(I16*C16)/1 -> 11562 | K16: =단가표!L57 -> 14680 | L16: =INT(K16*C16)/1 -> 7046
A17: =재료계산서!B17 -> 폐기물 상차 | B17: =재료계산서!C17 -> BH0.7㎥ | C17: =재료계산서!X17 -> 0.48 | D17: =재료계산서!Y17 -> ㎥ | E17: =G17+I17+K17 -> 2064 | F17: =H17+J17+L17 -> 990 | G17: =G12 -> 390 | H17: =INT(G17*C17)/1 -> 187 | I17: =I12 -> 1182 | J17: =INT(I17*C17)/1 -> 567 | K17: =K12 -> 492 | L17: =INT(K17*C17)/1 -> 236
A18: =재료계산서!B18 -> 폐기물 처리 | B18: =재료계산서!C18 -> 무근콘크리트 | C18: =재료계산서!X18 -> 1.104 | D18: =재료계산서!Y18 -> ton | E18: =G18+I18+K18 -> 43818 | F18: =H18+J18+L18 -> 48373 | G18: =단가표!H61 -> 5168 | H18: =INT(G18*C18)/1 -> 5705 | I18: =단가표!J61 -> 7911 | J18: =INT(I18*C18)/1 -> 8733 | K18: =단가표!L61 -> 30739 | L18: =INT(K18*C18)/1 -> 33935
A19: =재료계산서!B19 -> 배수처리 | B19: =재료계산서!C19 -> 사석부설,(D0.45m) | C19: =재료계산서!X19 -> 11 | D19: =재료계산서!Y19 -> ㎥ | E19: =G19+I19+K19 -> 47467.708 | F19: =H19+J19+L19 -> 522143 | G19: =단가표!H32 -> 39623 | H19: =INT(G19*C19)/1 -> 435853 | I19: =단가표!J32 -> 2229.351 | J19: =INT(I19*C19)/1 -> 24522 | K19: =단가표!L32 -> 5615.357 | L19: =INT(K19*C19)/1 -> 61768
A20: =재료계산서!B20 -> 배수로 설치 | B20: =재료계산서!C20 -> 유공관D0.15m, 소켓 포함 | C20: =재료계산서!X20 -> 14 | D20: =재료계산서!Y20 -> 본 | E20: =G20+I20+K20 -> 205650 | F20: =H20+J20+L20 -> 2879100 | G20: =단가표!H67 -> 164520 | H20: =INT(G20*C20)/1 -> 2303280 | I20: =단가표!J67 -> 41130 | J20: =INT(I20*C20)/1 -> 575820 | K20: =단가표!L67 -> 0 | L20: =INT(K20*C20)/1 -> 0
A21: =재료계산서!B21 -> 배수로 설치 | B21: =재료계산서!C21 -> PVC D0.15m | C21: =재료계산서!X21 -> 1 | D21: =재료계산서!Y21 -> 본 | E21: =G21+I21+K21 -> 190780.76 | F21: =H21+J21+L21 -> 190780 | G21: =단가표!H73 -> 190305 | H21: =INT(G21*C21)/1 -> 190305 | I21: =단가표!J73 -> 475.7625 | J21: =INT(I21*C21)/1 -> 475 | L21: =INT(K21*C21)/1 -> 0
A22: =재료계산서!B23 -> 농로 복구(거푸집) | B22: =재료계산서!C23 -> 유로폼 | C22: =재료계산서!X23 -> 0.32 | D22: =재료계산서!Y23 -> ㎡ | E22: =G22+I22+K22 -> 36994.874 | F22: =H22+J22+L22 -> 11836 | G22: =단가표!H80 -> 5096.4 | H22: =INT(G22*C22)/1 -> 1630 | I22: =단가표!J80 -> 31880 | J22: =INT(I22*C22)/1 -> 10201 | K22: =단가표!L80 -> 18.47424 | L22: =INT(K22*C22)/1 -> 5
A23: =재료계산서!B24 -> 농로 복구(Con,c타설) | B23: =재료계산서!C24 -> 25-21-120, 소규모 | C23: =재료계산서!X24 -> 1 | D23: =재료계산서!Y24 -> 개 | E23: =G23+I23+K23 -> 193770.8 | F23: =H23+J23+L23 -> 193770 | G23: =단가표!H86 -> 107086.8 | H23: =INT(G23*C23)/1 -> 107086 | I23: =단가표!J86 -> 52619 | J23: =INT(I23*C23)/1 -> 52619 | K23: =단가표!L86 -> 34065 | L23: =INT(K23*C23)/1 -> 34065
A26: 계 | F26: =H26+J26+L26 -> 18190135 | H26: =SUM(H7:H25) -> 13379712 | J26: =SUM(J7:J25) -> 4073105 | L26: =SUM(L7:L25) -> 737318
A27: ≒ | F27: =H27+J27+L27 -> 18189000 | H27: =INT(H26/1000)*1000 -> 13379000 | J27: =INT(J26/1000)*1000 -> 4073000 | L27: =INT(L26/1000)*1000 -> 737000

Sheet 재료계산서
A1: 재 료 계 산 서
A2: 구분 | B2: 공 종 | C2: 구 분 | D2: 산 출 근 거 | X2: 수 량
A3: 토공 | B3: 표토제거 | C3: BH0.7㎥ | E3: 1631 | G3: ㎡ | H3: × | I3: 0.2 | K3: m | U3: = | V3: =E3*I3 -> 326.2 | W3: =W9 -> ㎥ | X3: =V3 -> 326.2 | Y3: =W3 -> ㎥
B4: 성토 | C4: 순성토 운반 및 포설 | E4: 1631 | G4: ㎡ | H4: × | I4: 0.6 | K4: m | U4: = | V4: =I4*E4 -> 978.6 | W4: ㎥ | X4: =V4 -> 978.6 | Y4: =W4 -> ㎥
B5: 다짐 | C5: 타이어롤러 | E5: 순성토와 같음. | U5: = | V5: =V4 -> 978.6 | W5: =W4 -> ㎥ | X5: =V5 -> 978.6 | Y5: =W5 -> ㎥
B6: 살수차 운행 | C6: 5,500ℓ | E6: 3 | G6: hr | H6: × | I6: 6 | K6: 일 | U6: = | V6: =I6*E6 -> 18 | W6: hr | X6: =V6 -> 18 | Y6: hr
B7: 신호수 | C7: 교통정리원 | E7: 살수차 운행일수와 같음. | U7: = | V7: 6 | W7: 일 | X7: =V7 -> 6 | Y7: =W7 -> 일
A9: 배수공 | B9: 터파기 | C9: BH0.7㎥ | E9: 0.73 | G9: ㎥ | H9: × | I9: 100 | K9: m | U9: = | V9: =E9*I9 -> 73 | W9: ㎥ | X9: =V9 -> 73 | Y9: =W9 -> ㎥
B10: 되메우기 | C10: BH0.7㎥ | E10: 터파기와 같음. | U10: = | V10: =V9 -> 73 | W10: ㎥ | X10: =V10 -> 73 | Y10: =W10 -> ㎥
B11: 배수로 설치 | C11: 벤치플륨관 400C | E11: 100 | G11: m | H11: ÷ | I11: 2 | K11: m | U11: = | V11: =E11/I11 -> 50 | W11: 본 | X11: =V11 -> 50 | Y11: =W11 -> 본
A13: 배수공 | B13: 터파기 | C13: BH0.7㎥ | E13: =0.585 -> 0.585 | G13: ㎥ | H13: × | I13: 56 | K13: m | L13: + | M13: 0.72 | O13: ㎥ | P13: × | Q13: 4 | S13: m | U13: = | V13: =E13*I13+M13*Q13 -> 35.64 | W13: ㎥ | X13: =V13 -> 35.64 | Y13: =W13 -> ㎥
B14: 되메우기 | C14: BH0.7㎥ | E14: =0.42 -> 0.42 | G14: ㎥ | H14: × | I14: 56 | K14: m | L14: + | M14: 0.55 | O14: ㎥ | P14: × | Q14: 4 | S14: m | U14: =U13 -> = | V14: =E14*I14+M14*Q14 -> 25.72 | W14: =W13 -> ㎥ | X14: =V14 -> 25.72 | Y14: =W14 -> ㎥
B15: 콘크리트 절단 | C15: 컷팅기 | E15: 3 | G15: m | H15: × | I15: 2 | K15: 줄 | U15: =U14 -> = | V15: =E15*I15 -> 6 | W15: m | X15: =V15 -> 6 | Y15: =W15 -> m
B16: 콘크리트 헐기 | C16: BH0.7㎥ | E16: =0.2*0.8 -> 0.16 | G16: ㎥ | H16: × | I16: 3 | K16: m | U16: =U15 -> = | V16: =E16*I16 -> 0.48 | W16: =W14 -> ㎥ | X16: =V16 -> 0.48 | Y16: =W16 -> ㎥
B17: 폐기물 상차 | C17: BH0.7㎥ | E17: 헐기와 같음. | U17: =U16 -> = | V17: =V16 -> 0.48 | W17: =W16 -> ㎥ | X17: =V17 -> 0.48 | Y17: =W17 -> ㎥
B18: 폐기물 처리 | C18: 무근콘크리트 | E18: =V17 -> 0.48 | G18: ㎥ | H18: × | I18: 2.3 | K18: ton | U18: =U17 -> = | V18: =E18*I18 -> 1.104 | W18: ton | X18: =V18 -> 1.104 | Y18: =W18 -> ton
B19: 배수처리 | C19: 사석부설,(D0.45m) | E19: 0.18 | G19: ㎥ | H19: × | I19: 56 | K19: m | U19: =U18 -> = | V19: =ROUNDUP(E19*I19,0) -> 11 | W19: =G19 -> ㎥ | X19: =V19 -> 11 | Y19: =W19 -> ㎥
B20: 배수로 설치 | C20: 유공관D0.15m, 소켓 포함 | E20: 56 | G20: m | H20: ÷ | I20: 4 | K20: m | U20: =U19 -> = | V20: =E20/I20 -> 14 | W20: 본 | X20: =V20 -> 14 | Y20: =W20 -> 본
B21: 배수로 설치 | C21: PVC D0.15m | E21: 6 | G21: m | H21: ÷ | I21: 6 | K21: m | U21: =U20 -> = | V21: =E21/I21 -> 1 | W21: 본 | X21: =V21 -> 1 | Y21: =W21 -> 본
B22: 밸브 | C22: PVC역류방지 밸브 0.15m | E22: 1 | G22: 개 | U22: = | V22: =E22 -> 1 | W22: 개 | X22: =V22 -> 1 | Y22: =W22 -> 개
B23: 농로 복구(거푸집) | C23: 유로폼 | E23: =0.8*0.2 -> 0.16 | G23: ㎡ | H23: × | I23: 2 | K23: 면 | U23: = | V23: =I23*E23 -> 0.32 | W23: =G23 -> ㎡ | X23: =V23 -> 0.32 | Y23: =W23 -> ㎡
B24: 농로 복구(Con,c타설) | C24: 25-21-120, 소규모 | E24: =E23 -> 0.16 | G24: ㎡ | H24: × | I24: 3 | K24: m | U24: = | V24: =ROUNDUP(I24*E24,0) -> 1 | W24: =W22 -> 개 | X24: =V24 -> 1 | Y24: =W24 -> 개

Sheet 위치도

Sheet 도면
AR98: 0

Sheet 단가표
A2: 단 가 표
A4: 종 류 | B4: 재료또는치수 | C4: 원수 | D4: 단위 | E4: 총 액 | G4: 재 료 비 | I4: 노 무 비 | K4: 경 비 | M4: 비 고
E5: 단 가 | F5: 금 액 | G5: 단 가 | H5: 금 액 | I5: 단 가 | J5: 금 액 | K5: 단 가 | L5: 금 액
B7: 제1호표 표토제거(토사) 1㎥당
A8: 표토제거 | B8: (모래,사질토) | C8: 1 | D8: ㎥ | E8: =G8+I8+K8 -> 2064 | F8: =H8+J8+L8 -> 2064 | G8: 390 | H8: =$C$8*G8 -> 390 | I8: 1182 | J8: =INT($C$8*I8) -> 1182 | K8: 492 | L8: =$C$8*K8 -> 492
A9: 계 | F9: =H9+J9+L9 -> 2064 | H9: =H8 -> 390 | J9: =J8 -> 1182 | L9: =L8 -> 492
B11: 제2호표 터파기(토사) 1㎥당
A12: 터파기 | B12: (모래,사질토) | C12: 1 | D12: ㎥ | E12: =G12+I12+K12 -> 1980 | F12: =H12+J12+L12 -> 1980 | G12: 357 | H12: =$C$12*G12 -> 357 | I12: 1143 | J12: =INT($C$12*I12) -> 1143 | K12: 480 | L12: =$C$8*K12 -> 480
A13: 계 | F13: =H13+J13+L13 -> 1980 | H13: =H12 -> 357 | J13: =J12 -> 1143 | L13: =L12 -> 480
B15: 제3호표 되메우기(토사) 1㎥당
A16: 되메우기 | B16: (모래,사질토) | C16: 1 | D16: ㎥ | E16: =G16+I16+K16 -> 1980 | F16: =H16+J16+L16 -> 1980 | G16: 357 | H16: =$C$16*G16 -> 357 | I16: 1143 | J16: =INT($C$16*I16) -> 1143 | K16: 480 | L16: =$C$16*K16 -> 480
A18: 계 | F18: =H18+J18+L18 -> 1980 | H18: =H16 -> 357 | J18: =J16 -> 1143 | L18: =L16 -> 480
B20: 제4호표 수로관 설치(굴삭기(무한궤도)0.6㎥) 1본당
A21: 수로관 설치 | B21: 특별인부 | C21: 0.038 | D21: 인 | E21: =G21+I21+K21 -> 226529 | F21: =H21+J21+L21 -> 8607 | H21: =INT(C21*G21) -> 0 | I21: 226122 | J21: =INT(C21*I21) -> 8592 | K21: 407 | L21: =INT(C21*K21) -> 15
B22: 보통인부 | C22: 0.019 | D22: 인 | E22: =G22+I22+K22 -> 172068 | F22: =H22+J22+L22 -> 3269 | H22: =INT(C22*G22) -> 0 | I22: 172068 | J22: =INT(C22*I22) -> 3269 | L22: =INT(C22*K22) -> 0
B23: 철근콘크리트 벤치플륨관(Ⅱ) | C23: 2.06 | D23: m | E23: =G23+I23+K23 -> 36950 | F23: =H23+J23+L23 -> 76117 | G23: 36950 | H23: =INT(C23*G23) -> 76117 | J23: =INT(C23*I23) -> 0 | L23: =INT(C23*K23) -> 0
B24: 잡재료 및 소모재료(모르타르 등) | C24: 8 | D24: % | E24: =G24+I24+K24 -> 948.88 | F24: =H24+J24+L24 -> 7591 | G24: =(J21+J22)*C24/100 -> 948.88 | H24: =INT(C24*G24) -> 7591 | J24: =INT(C24*I24) -> 0 | L24: =INT(C24*K24) -> 0
B25: 굴착기(무한궤도) | C25: 0.154 | D25: HR | E25: =G25+I25+K25 -> 99565 | F25: =H25+J25+L25 -> 15332 | G25: 17122 | H25: =INT(C25*G25) -> 2636 | I25: 59020 | J25: =INT(C25*I25) -> 9089 | K25: 23423 | L25: =INT(C25*K25) -> 3607
A26: 계 | F26: =H26+J26+L26 -> 110916 | H26: =SUM(H21:H25) -> 86344 | J26: =SUM(J21:J25) -> 20950 | L26: =SUM(L21:L25) -> 3622
B28: 제3호표 암석포설 1㎥당
A29: 사석부설 | B29: 사석D0.45m(운반포함) | C29: 1 | D29: ㎡ | E29: =G29+I29+K29 -> 44200 | F29: =H29+J29+L29 -> 44200 | G29: 39200 | H29: =INT($C$29*G29) -> 39200 | J29: =C29*I29 -> 0 | K29: 5000 | L29: =C29*K29 -> 5000
B30: 굴삭기1.0㎥ | C30: 0.027 | D30: hr | E30: =G30+I30+K30 -> 95559 | F30: =H30+J30+L30 -> 2579.436 | G30: 15691 | H30: =INT($C$30*G30) -> 423 | I30: 57077 | J30: =C30*I30 -> 1541.079 | K30: 22791 | L30: =C30*K30 -> 615.357
B31: 보통인부 | C31: 0.004 | D31: 인 | E31: =G31+I31+K31 -> 172068 | F31: =H31+J31+L31 -> 688.272 | H31: =INT($C$31*G31) -> 0 | I31: 172068 | J31: =C31*I31 -> 688.272 | L31: =C31*K31 -> 0
F32: =H32+J32+L32 -> 47467.708 | H32: =H30+H31+H29 -> 39623 | J32: =J30+J31+J29 -> 2229.351 | L32: =L30+L31+L29 -> 5615.357
B34: 제5호표 순성토(굴삭기(무한궤도) + 트럭) 1㎥당
A35: 순성토(95%) | B35: 굴삭기+트럭 | C35: 1 | D35: ㎥ | E35: =G35+I35+K35 -> 10040 | F35: =H35+J35+L35 -> 10040 | G35: 4000 | H35: =C35*G35 -> 4000 | I35: 3860 | J35: =C35*I35 -> 3860 | K35: 2180 | L35: =C35*K35 -> 2180
A36: 포설 | B36: 굴삭기(0.70㎥) | C36: 1 | D36: =D35 -> ㎥ | E36: =G36+I36+K36 -> 1357 | F36: =H36+J36+L36 -> 1357 | G36: 275 | H36: =C36*G36 -> 275 | I36: 762 | J36: =C36*I36 -> 762 | K36: 320 | L36: =C36*K36 -> 320
A37: 계 | F37: =H37+J37+L37 -> 11397 | H37: =H35+H36 -> 4275 | J37: =J35+J36 -> 4622 | L37: =L35+L36 -> 2500
B39: 제6호표 다짐(타이어롤러) 1㎥당
A40: 다짐 | B40: t=0.3 | C40: 1 | D40: ㎥ | E40: =G40+I40+K40 -> 451 | F40: =H40+J40+L40 -> 451 | G40: 66 | H40: =C40*G40 -> 66 | I40: 291 | J40: =$C$40*I40 -> 291 | K40: 94 | L40: =$C$40*K40 -> 94
A41: 계 | F41: =H41+J41+L41 -> 451 | H41: =H40 -> 66 | J41: =J40 -> 291 | L41: =L40 -> 94
B43: 제7호표 살수차운행 1hr 당
A44: 살수차운행 | B44: 5,500ℓ | C44: 1 | D44: hr | E44: =G44+I44+K44 -> 76362 | F44: =H44+J44+L44 -> 76362 | G44: 17118 | H44: =C44*G44 -> 17118 | I44: 49479 | J44: =C44*I44 -> 49479 | K44: 9765 | L44: =$C$44*K44 -> 9765
A45: 계 | F45: =H45+J45+L45 -> 76362 | H45: =H44 -> 17118 | J45: =J44 -> 49479 | L45: =L44 -> 9765
B47: 제8호표 신호수 1일 당
A48: 신호수 | B48: 교통정리원 | C48: 1 | D48: 일 | E48: =G48+I48+K48 -> 173784 | F48: =H48+J48+L48 -> 173784 | G48: 0 | H48: =C48*G48 -> 0 | I48: 173784 | J48: =C48*I48 -> 173784 | K48: 0 | L48: =C48*K48 -> 0
A49: 계 | F49: =H49+J49+L49 -> 173784 | H49: =H48 -> 0 | J49: =J48 -> 173784 | L49: =L48 -> 0
B51: 제9호표 포장절단(콘크리트) 1m
A52: 포장절단 | B52: 콘크리트 | C52: 1 | D52: m | E52: =G52+I52+K52 -> 2942 | F52: =H52+J52+L52 -> 2942 | G52: 1214 | H52: =C52*G52 -> 1214 | I52: 1619 | J52: =C52*I52 -> 1619 | K52: 109 | L52: =C52*K52 -> 109
A53: 계 | F53: =H53+J53+L53 -> 2942 | H53: =SUM(H52:H52) -> 1214 | J53: =SUM(J52:J52) -> 1619 | L53: =SUM(L52:L52) -> 109
...

Sheet 시방서
K1: 2021. 11.
A3: 일 반 시 방 서
A8: 본 공사는 다음의 시방서에 의거 공사를 시공하여야 하며, 시방서에 내용이 없는 사항은 감독관의 지시에 따라
A10: 시행하여야 한다.
A14: 1.본 공사는 설계도서, 건설공사 품질시험 규정,동 시행규칙 및 산업안전 보건법 및 시행령과 다음 시방서의
A16: 해당조건에 의거 시공하여야 한다
A18: 1) 토목공사 일반표준 시방서
A20: 2) 토목공사 표준시방서 및 도로포장설계 시공지침
A22: 3) 콘크리트 표준시방서 (철근,무근)
A26: 2.일반사항
A28: 1) 현장확인
A30: 현장대리인은 공사 착공과 동시에 시공측량등을 실시하여야 하며, 본 설계도서 내용과 현장을 확인하여야 한다.
A33: 2) 시공세부계획서 제출
... A148: (10) 시행청은 다음 각호에 해당하는 사항이 발생시에는 도급자에 대하여 필요하다고
B150: 인정되는 기간동안 공사의 일부 또는 전부의 시행중지 명을 할 수 있다.
B152: ① 기상관계로 인하여 공사의 시행이 부적당하다고 판단될 때
B154: ② 공사에 종사하는 종업원의 안전을 위하여 필요하다고 판단될 때
B156: ③ 공사 종업원의 기술 미숙으로 조잡한 공사가 우려될 때
B158: ④ 공사용 소요부지의 취득이 지연될 때
A160: (11) 도급자는 본 공사 시행과정에서 토석채취 및 기초 터파기등을 실시후 원상 복구토록 하여야 하며, 이로인해 발생되는 제반문제는 도급자
A162: 부담으로 조치하여야 한다.
A166: 5.보안관리
A168: 본 설계도서의 보안관리에 철저를 기하여야 하며 공사착공후 다음과 같이 보안대책을 이행하여야 한다.
D173: ◀ 다 음 ▶
B175: ① 설계도서는 보관함을 감독 지시에 따라 제작하여 보관하여야 한다.

Sheet 공사기간 적정성 검토
