Workbook

Sheet 표지
A1: 충청남도 서천군 | K1: 2026. 8.
A7: 2026년 배다리양수장 수중펌프 수리 용역
A16: 한국농어촌공사 서천지사

Sheet 사업개요
A1: 사 업 계 획 개 요
B3: Ⅰ. 구 역 : 충청남도 서천군 일원
B5: ="Ⅱ. 공 사 명 : "&표지!A7 -> Ⅱ. 공 사 명 : 2026년 배다리양수장 수중펌프 수리 용역
B7: Ⅲ. 주 요 사 업 내 역
C8: 양흡입 펌프 수리
C9: 수중펌프 수리
B22: Ⅳ. 사 업 비 : | D22: =총괄표!L31 -> 4565000 | E22: 원, 지급자재 ( | F22: =총괄표!L6 -> 0 | G22: )원 포함
B24: Ⅴ. 사 업 효 과
B25: ㅇ 보수가 필요한 농업생산기반시설을 수리보강하여, 급수기 안정적인 농업용수배수로 농업인의 영농편익증진 및
B26: 시설물의 선량한 유지관리 제고.
B28: Ⅵ. 사 업 기 간 : 착수일로부터 10일
B30: Ⅶ. 사업시행자 : 한국농어촌공사 서천지사

Sheet 시방서
A1: 양수장 및 수문 유지관리보수 시방서
A2: [개 요]
A3: 본 공사는 우리지사 기계설비의 유지관리공사로서 원할한 영농급수를 위해 기일을 엄수하여 공사를 완료하여야 한다.
A5: [보 수 세 칙]
A6: 1. 기계일반 시방서 적용.
A8: 2. 모든 기계류 보수에 앞서 설계도서를 숙지하고 모든 수리 부품은 설계도서에 명시된 규격 및 재질을 사용 하여야 한다.
A10: 3. 기계류 분해조립시 기체에 손상이 가지 않도록 신중이 취급하여야 하며 만일 기체 손상시에는 시공자가 변상 책임져야 한다.
A12: 4. 본 공사의 현장대리인은 시공시 현장에서 이탈을 금하며 공사기간중 고의 또는 과실로 인하여 인명 사고가 발생시에는 시공자.
A14: 책임하에 수습되도록 하여야 하며 우리공사에서는 일체 책임을 지지 않는다
A16: 5. 시공시 모든기계 부품을 현장에서 외부로 반출시에는 감독원의 입회하에 실시하여야 한다.
A18: 6. 모든 기계부품 조립설치시에는 감독원의 입회하에 조립작업을 실시하고 기계시운전은 동력부활후 감독원의 입회하에 실시한다.
A20: 7. 기타 모든 공사 시공시 문제점에 대하여 공사감독자와 협의 처리 한다.
... A26: 10. 도급자는 계약과 동시에 공정표를 제출하며 공정계획대로 완전 시공이 될 수 있도록 한다.

Sheet 공사기간 산정
A1: ="["&표지!A7&"]" -> [2026년 배다리양수장 수중펌프 수리 용역]
A2: 적정 공사기간 산정
A3: □ 산정기준
A4: ○ ｢공공 건설공사의 공사기간 산정기준(국토교통부 훈령)｣
A5: ○ 공사기간 산출
B6: 공사기간 | C6: = | D6: 준비기간 | E6: + | F6: 비작업일수 | G6: + | H6: 작업일수 | I6: + | J6: 정리기간
B7: - 준비기간 : 도면검토, 자재 준비 등 공사 착수 준비에 필요한 기간
B8: - 비작업 일수 : 건설현장의 공사 진행이 불가능한 날짜
B9: ∙ 법정공휴일수 + 기상조건으로 인한 비작업일수 – 중복일수
B10: - 작업일수 : 당해 공사의 공종별 수량을 시공하는 데 필요한 총 작업일수
B11: - 정리기간 : 준공검사를 위한 행정절차 및 현장 정리에 소요되는 기간
A13: □ 공사기간 산정방법
A14: ○ 준비기간 : 1일 적용
A15: ○ 비작업일수 : 일 적용
B16: - 법정 공휴일수 : 6일(3주 ✕ 2일) + 0일() = 6일 적용 | O16: =2+6+20+2 -> 30
B17: - 기후여건으로 작업이 불가능한 일수 : 0일 적용
B18: - 중복일수 : 0일 적용
A19: ○ 작업일수 : 8일
A21: ○ 정리기간 : 1일 적용
A23: □ 산정결과
A24: ○ 공사기간 = 1일 + 8일 + 1일 = 10일 적용

Sheet 사진대지
B2: 사 진 대 지
B8: 시 설 명 | D8: 배다리양수장
B9: 사진설명 | D9: 모터권선 소손으로 권선교체 필요
B14: 시 설 명 | D14: 배다리양수장
B15: 사진설명 | D15: 모터권선 소손으로 권선교체 필요

Sheet 총괄표
A2: 기 계 공 사 비 총 괄 표
B3: =표지!A7 -> 2026년 배다리양수장 수중펌프 수리 용역
A4: 일 금: | C4: =L30 -> 4565000 | D4: 원
A5: 구 분 | G5: 배다리양수장 | L5: 계
A6: 지 급 자 재 대 | L6: =SUM(G6:K6) -> 0
B7: 노 | C7: 직접노무비 | G7: =양수장!H30 -> 600000 | L7: =SUM(G7:K7) -> 600000
A8: 순 | B8: 무 | C8: 간접노무비 | D8: ( | F8: ) | G8: =INT(G7*$E8) -> 0 | J8: =INT(J7*$E8) -> 0 | K8: =INT(K7*$E8) -> 0 | L8: =SUM(G8:K8) -> 0
B9: 비 | C9: 소 계 | G9: =G7+G8 -> 600000 | J9: =J7+J8 -> 0 | K9: =K7+K8 -> 0 | L9: =SUM(G9:K9) -> 600000
B10: 재 료 비 | G10: =양수장!J30 -> 3550000 | L10: =SUM(G10:K10) -> 3550000
C11: 경 비 | G11: =양수장!L28 -> 0 | L11: =SUM(G11:K11) -> 0
A12: 공 | C12: 산재보험료 | D12: ( | F12: ) | G12: =INT(G9*$E12) -> 0 | J12: =INT(J9*$E12) -> 0 | K12: =INT(K9*$E12) -> 0 | L12: =SUM(G12:K12) -> 0
B13: 경 | C13: 고용보험료 | D13: ( | F13: ) | G13: =INT(G9*$E13) -> 0 | J13: =INT(J9*$E13) -> 0 | K13: =INT(K9*$E13) -> 0 | L13: =SUM(G13:K13) -> 0
C14: 국민건강보험료 | D14: ( | F14: ) | G14: =INT(G7*$E14) -> 0 | J14: =INT(J7*$E14) -> 0 | K14: =INT(K7*$E14) -> 0 | L14: =SUM(G14:K14) -> 0
C15: 노인장기요양보험료 | D15: ( | F15: ) | G15: =INT(G14*$E15) -> 0 | J15: =INT(J14*$E15) -> 0 | K15: =INT(K14*$E15) -> 0 | L15: =SUM(G15:K15) -> 0
A16: 사 | C16: 국민연금보험료 | D16: ( | F16: ) | G16: =INT(G7*$E16) -> 0 | J16: =INT(J7*$E16) -> 0 | K16: =INT(K7*$E16) -> 0 | L16: =SUM(G16:K16) -> 0
C17: 퇴직공제부금 | D17: ( | F17: ) | G17: =INT(G7*$E17) -> 0 | J17: =INT(J7*$E17) -> 0 | K17: =INT(K7*$E17) -> 0 | L17: =SUM(G17:K17) -> 0
C18: 건설기계대여 | D18: ( | F18: ) | G18: =INT((G10+G7+G11)*$E18) -> 0 | J18: =INT((J10+J7+J11)*$E18) -> 0 | K18: =INT((K10+K7+K11)*$E18) -> 0 | L18: =SUM(G18:K18) -> 0
C19: 산업안전보건관리비 | D19: ( | F19: ) | G19: =INT((G7+G10+G6)*$E19) -> 0 | J19: =INT((J7+J10+J6)*$E19) -> 0 | K19: =INT((K7+K10+K6)*$E19) -> 0 | L19: =SUM(G19:K19) -> 0
C20: 환경보전비 | D20: ( | F20: ) | G20: =INT((G10+G7+G11)*$E20) -> 0 | J20: =INT((J10+J7+J11)*$E20) -> 0 | K20: =INT((K10+K7+K11)*$E20) -> 0 | L20: =SUM(G20:K20) -> 0
A21: 비 | B21: 비 | C21: 하도급수수료 | D21: ( | F21: ) | G21: =INT((G10+G7+G11)*$E21) -> 0 | J21: =INT((J10+J7+J11)*$E21) -> 0 | K21: =INT((K10+K7+K11)*$E21) -> 0 | L21: =SUM(G21:K21) -> 0
C22: 기타 경비 | D22: ( | F22: ) | G22: =INT((G9+G10)*$E22) -> 0 | J22: =INT((J9+J10)*$E22) -> 0 | K22: =INT((K9+K10)*$E22) -> 0 | L22: =SUM(G22:K22) -> 0
C23: 소 계 | G23: =SUM(G11:G22) -> 0 | J23: =SUM(J11:J22) -> 0 | K23: =SUM(K11:K22) -> 0 | L23: =SUM(G23:K23) -> 0
C24: 계 | G24: =G9+G10+G23 -> 4150000 | J24: =J9+J10+J23 -> 0 | K24: =K9+K10+K23 -> 0 | L24: =SUM(G24:K24) -> 4150000
A25: 일 반 관 리 비 | D25: ( | F25: ) | G25: =INT(G24*$E25) -> 0 | J25: =INT(J24*$E25) -> 0 | K25: =INT(K24*$E25) -> 0 | L25: =SUM(G25:K25) -> 0
A26: 공 사 비 계 | G26: =G10+G9+G23+G25 -> 4150000 | J26: =J10+J9+J23+J25 -> 0 | K26: =K10+K9+K23+K25 -> 0 | L26: =SUM(G26:K26) -> 4150000
A27: 이 윤 | D27: ( | F27: ) | G27: =G28-G26 -> 0 | J27: =J28-J26 -> 0 | K27: =K28-K26 -> 0 | L27: =SUM(G27:K27) -> 0
A28: 총 원 가 | G28: =INT((((G26-G10)*$E27)+G26)) -> 4150000 | J28: =INT((((J26-J10)*$E27)+J26)/10000)*10000 -> 0 | K28: =INT((((K26-K10)*$E27)+K26)/10000)*10000 -> 0 | L28: =SUM(G28:K28) -> 4150000
A29: 부 가 가 치 세 | D29: ( | E29: 0.1 | F29: ) | G29: =INT((G28)*$E29) -> 415000 | J29: =INT((J28)*$E29) -> 0 | K29: =INT((K28)*$E29) -> 0 | L29: =SUM(G29:K29) -> 415000
A30: 합 계 | G30: =SUM(G28:G29) -> 4565000 | J30: =SUM(J28:J29) -> 0 | K30: =SUM(K28:K29) -> 0 | L30: =SUM(G30:K30) -> 4565000
A31: 총 계 | G31: =G6+G30 -> 4565000 | J31: =J6+J30 -> 0 | K31: =K6+K30 -> 0 | L31: =SUM(G31:K31) -> 4565000

Sheet 양수장
A2: =총괄표!B3 -> 2026년 배다리양수장 수중펌프 수리 용역
A3: 공 사 비 명 세 서
A5: 일 금 : | B5: =F28 -> 4150000 | C5: 원
A6: 종 별 | B6: 재료 또는 | C6: 원수 | D6: 단위 | E6: 총 액 | G6: 노 무 비 | I6: 재 료 비 | K6: 경 비 | M6: 비고
B7: 치 수 | E7: 단가 | F7: 금 액 | G7: 단 가 | H7: 금 액 | I7: 단 가 | J7: 금 액 | K7: 단 가 | L7: 금 액
A20: □ 용산양수장 수중펌프보수 | L20: =INT($C20*K20) -> 0
A21: 권선교체 | C21: 15 | D21: 개 | I21: 110000 | J21: =INT($C21*I21) -> 1650000
A22: 베어링 | C22: 3 | D22: 개 | I22: 450000 | J22: =INT($C22*I22) -> 1350000
A23: 메카니카 씰 | C23: 1 | D23: 식 | I23: 550000 | J23: =INT($C23*I23) -> 550000
J24: =INT($C24*I24) -> 0 | L24: =INT($C24*K24) -> 0
A25: 분해조립 | C25: 2 | D25: 식 | G25: 300000 | H25: =INT($C25*G25) -> 600000
J26: =INT($C26*I26) -> 0
A28: 소계 | F28: =SUM(H28,J28,L28) -> 4150000 | H28: =SUM(H21:H27) -> 600000 | J28: =SUM(J21:J27) -> 3550000 | L28: =SUM(L15:L27) -> 0
A30: 합계 | F30: =F17+F28 -> 4150000 | H30: =H17+H28 -> 600000 | J30: =J17+J28 -> 3550000

Sheet 노임단가
A1: ◇ 2023년도 상반기 적용 노임단가 | H1: (금액단위:원)
A3: 직종코드 | B3: 직종명 | C3: 규격 | D3: 단위 | E3: 2023년(상) | F3: 2022년(상) | G3: 2021년(상) | H3: 비고
A5: L001010101000001 | B5: 작업반장 | C5: 일반공사 직종 | D5: 인 | E5: 197546 | F5: 189313 | G5: 180013 | H5: 2023년 상반기 | J5: =IF(H5="2023년(상) 증가율","2023년(상) 증가율",IF(H5="2023년도","2023년도",""))
A6: L001010101000002 | B6: 보통인부 | C6: 일반공사 직종 | D6: 인 | E6: 157068 | F6: 148510 | G6: 141096 | H6: 2023년 상반기 | J6: =IF(H6="2023년(상) 증가율","2023년(상) 증가율",IF(H6="2023년도","2023년도",""))
A7: L001010101000003 | B7: 특별인부 | C7: 일반공사 직종 | D7: 인 | E7: 197450 | F7: 187435 | G7: 179203 | H7: 2023년 상반기 | J7: =IF(H7="2023년(상) 증가율","2023년(상) 증가율",IF(H7="2023년도","2023년도",""))
A8: L001010101000004 | B8: 조력공 | C8: 일반공사 직종 | D8: 인 | E8: 165635 | F8: 160048 | G8: 152740 | H8: 2023년 상반기 | J8: =IF(H8="2023년(상) 증가율","2023년(상) 증가율",IF(H8="2023년도","2023년도",""))
A9: L001010101000005 | B9: 제도사 | C9: 일반공사 직종 | D9: 인 | E9: 209231 | F9: 194662 | G9: 186251 | H9: 2023년 상반기 | J9: =IF(H9="2023년(상) 증가율","2023년(상) 증가율",IF(H9="2023년도","2023년도",""))
A10: L001010101000006 | B10: 비계공 | C10: 일반공사 직종 | D10: 인 | E10: 278151 | F10: 262297 | G10: 247977 | H10: 2023년 상반기 | J10: =IF(H10="2023년(상) 증가율","2023년(상) 증가율",IF(H10="2023년도","2023년도",""))
A11: L001010101000007 | B11: 형틀목공 | C11: 일반공사 직종 | D11: 인 | E11: 259126 | F11: 242138 | G11: 226280 | H11: 2023년 상반기 | J11: =IF(H11="2023년(상) 증가율","2023년(상) 증가율",IF(H11="2023년도","2023년도",""))
A12: L001010101000008 | B12: 철근공 | C12: 일반공사 직종 | D12: 인 | E12: 252113 | F12: 236805 | G12: 228896 | H12: 2023년 상반기 | J12: =IF(H12="2023년(상) 증가율","2023년(상) 증가율",IF(H12="2023년도","2023년도",""))
A13: L001010101000009 | B13: 철공 | C13: 일반공사 직종 | D13: 인 | E13: 223124 | F13: 209189 | G13: 200155 | H13: 2023년 상반기 | J13: =IF(H13="2023년(상) 증가율","2023년(상) 증가율",IF(H13="2023년도","2023년도",""))
A14: L001010101000010 | B14: 철판공 | C14: 일반공사 직종 | D14: 인 | E14: 202901 | F14: 188181 | G14: 181604 | H14: 2023년 상반기 | J14: =IF(H14="2023년(상) 증가율","2023년(상) 증가율",IF(H14="2023년도","2023년도",""))
A15: L001010101000011 | B15: 철골공 | C15: 일반공사 직종 | D15: 인 | E15: 230145 | F15: 214374 | G15: 205246 | H15: 2023년 상반기 | J15: =IF(H15="2023년(상) 증가율","2023년(상) 증가율",IF(H15="2023년도","2023년도",""))
A16: L001010101000012 | B16: 용접공 | C16: 일반공사 직종 | D16: 인 | E16: 249748 | F16: 234564 | G16: 225966 | H16: 2023년 상반기 | J16: =IF(H16="2023년(상) 증가율","2023년(상) 증가율",IF(H16="2023년도","2023년도",""))
... A110: L001010301000106 | B110: 화공 | C110: 문화재 직종 | D110: 인 | E110: 258276 | F110: 261905 | G110: 246537 | H110: 2023년(상) 증가율 | J110: =IF(H110="2023년(상) 증가율","2023년(상) 증가율",IF(H110="2023년도","2023년도","")) -> 2023년(상) 증가율
A111: L001010301000500 | B111: 드잡이공편수 | D111: 인 | E111: 325976 | F111: 310528 | G111: 295019 | H111: 2023년(상) 증가율 | J111: =IF(H111="2023년(상) 증가율","2023년(상) 증가율",IF(H111="2023년도","2023년도","")) -> 2023년(상) 증가율
A112: L001010301000600 | B112: 한식미장공편수 | D112: 인 | E112: 325333 | F112: 298667 | G112: 261429 | H112: 2023년 상반기 | J112: =IF(H112="2023년(상) 증가율","2023년(상) 증가율",IF(H112="2023년도","2023년도",""))
A113: L001010301000700 | B113: 한식와공편수 | D113: 인 | E113: 429995 | F113: 409618 | G113: 365113 | H113: 2023년(상) 증가율 | J113: =IF(H113="2023년(상) 증가율","2023년(상) 증가율",IF(H113="2023년도","2023년도","")) -> 2023년(상) 증가율
A114: L001010301000800 | B114: 한식단청공편수 | D114: 인 | E114: 256226 | F114: 260749 | G114: 247727 | H114: 2023년(상) 증가율 | J114: =IF(H114="2023년(상) 증가율","2023년(상) 증가율",IF(H114="2023년도","2023년도","")) -> 2023년(상) 증가율
A115: L001010301000900 | B115: 한식석공조공 | D115: 인 | E115: 308571 | F115: 284211 | G115: 256000 | H115: 2023년 상반기 | J115: =IF(H115="2023년(상) 증가율","2023년(상) 증가율",IF(H115="2023년도","2023년도",""))
A116: L001010301001000 | B116: 한식미장공조공 | D116: 인 | E116: 232971 | F116: 224000 | G116: 220000 | H116: 2023년(상) 증가율 | J116: =IF(H116="2023년(상) 증가율","2023년(상) 증가율",IF(H116="2023년도","2023년도","")) -> 2023년(상) 증가율
A117: L001010401000107 | B117: 원자력플랜트전공 | C117: 원자력 직종 | D117: 인 | E117: 228504 | F117: 221666 | G117: 219796 | H117: 2023년 상반기 | J117: =IF(H117="2023년(상) 증가율","2023년(상) 증가율",IF(H117="2023년도","2023년도",""))
A118: L001010401000108 | B118: 원자력용접공 | C118: 원자력 직종 | D118: 인 | E118: 197956 | F118: 194568 | G118: 201040 | H118: 2023년 상반기 | J118: =IF(H118="2023년(상) 증가율","2023년(상) 증가율",IF(H118="2023년도","2023년도",""))
A119: L001010401000109 | B119: 원자력기계설치공 | C119: 원자력 직종 | D119: 인 | E119: 228419 | F119: 223770 | G119: 214418 | H119: 2023년 상반기 | J119: =IF(H119="2023년(상) 증가율","2023년(상) 증가율",IF(H119="2023년도","2023년도",""))
A120: L001010401000110 | B120: 원자력품질관리사 | C120: 원자력 직종 | D120: 인 | E120: 281198 | F120: 282525 | G120: 261522 | H120: 2023년 상반기 | J120: =IF(H120="2023년(상) 증가율","2023년(상) 증가율",IF(H120="2023년도","2023년도",""))
A121: L001010501000111 | B121: 통신관련기사 | C121: 기타 직종 | D121: 인 | E121: 292454 | F121: 275633 | G121: 257342 | H121: 2023년 상반기 | J121: =IF(H121="2023년(상) 증가율","2023년(상) 증가율",IF(H121="2023년도","2023년도",""))
A122: L001010501000112 | B122: 통신관련산업기사 | C122: 기타 직종 | D122: 인 | E122: 284281 | F122: 268910 | G122: 254403 | H122: 2023년 상반기 | J122: =IF(H122="2023년(상) 증가율","2023년(상) 증가율",IF(H122="2023년도","2023년도",""))
A123: L001010501000113 | B123: 통신관련기능사 | C123: 기타 직종 | D123: 인 | E123: 234222 | F123: 221858 | G123: 206555 | H123: 2023년 상반기 | J123: =IF(H123="2023년(상) 증가율","2023년(상) 증가율",IF(H123="2023년도","2023년도",""))
A124: L001010501000114 | B124: 전기공사기사 | C124: 기타 직종 | D124: 인 | E124: 299140 | F124: 279912 | G124: 263081 | H124: 2023년 상반기 | J124: =IF(H124="2023년(상) 증가율","2023년(상) 증가율",IF(H124="2023년도","2023년도",""))
A125: L001010501000115 | B125: 전기공사산업기사 | C125: 기타 직종 | D125: 인 | E125: 265465 | F125: 249961 | G125: 241167 | H125: 2023년 상반기 | J125: =IF(H125="2023년(상) 증가율","2023년(상) 증가율",IF(H125="2023년도","2023년도",""))
A126: L001010501000116 | B126: 변전전공 | C126: 기타 직종 | D126: 인 | E126: 437936 | F126: 410051 | G126: 369045 | H126: 2023년 상반기 | J126: =IF(H126="2023년(상) 증가율","2023년(상) 증가율",IF(H126="2023년도","2023년도",""))
A127: L001010501000117 | B127: 코킹공 | C127: 기타 직종 | D127: 인 | E127: 194831 | F127: 184209 | G127: 187843 | H127: 2023년 상반기 | J127: =IF(H127="2023년(상) 증가율","2023년(상) 증가율",IF(H127="2023년도","2023년도",""))
A128: L001010501000118 | B128: 특급품질관리기술인 | D128: 인 | E128: 266470 | F128: 260237 | G128: 265082 | H128: 2023년도 | J128: =IF(H128="2023년(상) 증가율","2023년(상) 증가율",IF(H128="2023년도","2023년도","")) -> 2023년도
A129: L001010501000119 | B129: 고급품질관리기술인 | D129: 인 | E129: 216510 | F129: 211437 | G129: 206730 | H129: 2023년도 | J129: =IF(H129="2023년(상) 증가율","2023년(상) 증가율",IF(H129="2023년도","2023년도","")) -> 2023년도
A130: L001010501000120 | B130: 중급품질관리기술인 | D130: 인 | E130: 183604 | F130: 180523 | G130: 180381 | H130: 2023년도 | J130: =IF(H130="2023년(상) 증가율","2023년(상) 증가율",IF(H130="2023년도","2023년도","")) -> 2023년도
A131: L001010501000121 | B131: 초급품질관리기술인 | D131: 인 | E131: 158227 | F131: 155277 | G131: 150360 | H131: 2023년도 | J131: =IF(H131="2023년(상) 증가율","2023년(상) 증가율",IF(H131="2023년도","2023년도","")) -> 2023년도 | L131: 글로텍 직종코드
A132: L001020101000118 | B132: 기술사 | C132: 건설부분 | D132: 인 | E132: 432440 | F132: 390500 | G132: 371891 | H132: 2023년도 | J132: =IF(H132="2023년(상) 증가율","2023년(상) 증가율",IF(H132="2023년도","2023년도","")) -> 2023년도 | L132: L001020701000025
A133: L001020101000119 | B133: 특급기술자 | C133: 건설부분 | D133: 인 | E133: 335638 | F133: 308530 | G133: 292249 | H133: 2023년도 | J133: =IF(H133="2023년(상) 증가율","2023년(상) 증가율",IF(H133="2023년도","2023년도","")) -> 2023년도 | L133: L001020701000026
A134: L001020101000120 | B134: 고급기술자 | C134: 건설부분 | D134: 인 | E134: 282545 | F134: 253985 | G134: 242055 | H134: 2023년도 | J134: =IF(H134="2023년(상) 증가율","2023년(상) 증가율",IF(H134="2023년도","2023년도","")) -> 2023년도 | L134: L001020701000027
A135: L001020101000121 | B135: 중급기술자 | C135: 건설부분 | D135: 인 | E135: 261571 | F135: 231775 | G135: 220497 | H135: 2023년도 | J135: =IF(H135="2023년(상) 증가율","2023년(상) 증가율",IF(H135="2023년도","2023년도","")) -> 2023년도 | L135: L001020701000028
A136: L001020101000122 | B136: 초급기술자 | C136: 건설부분 | D136: 인 | E136: 205686 | F136: 182591 | G136: 172529 | H136: 2023년도 | J136: =IF(H136="2023년(상) 증가율","2023년(상) 증가율",IF(H136="2023년도","2023년도","")) -> 2023년도 | L136: L001020701000029
A137: L001020101000123 | B137: 고급숙련기술자 | C137: 건설부분 | D137: 인 | E137: 240947 | F137: 218613 | G137: 207510 | H137: 2023년도 | J137: =IF(H137="2023년(상) 증가율","2023년(상) 증가율",IF(H137="2023년도","2023년도","")) -> 2023년도 | L137: L001020701000030
A138: L001020101000124 | B138: 중급숙련기술자 | C138: 건설부분 | D138: 인 | E138: 220894 | F138: 194638 | G138: 185073 | H138: 2023년도 | J138: =IF(H138="2023년(상) 증가율","2023년(상) 증가율",IF(H138="2023년도","2023년도","")) -> 2023년도 | L138: L001020701000031
A139: L001020101000125 | B139: 초급숙련기술자 | C139: 건설부분 | D139: 인 | E139: 186909 | F139: 169084 | G139: 162285 | H139: 2023년도 | J139: =IF(H139="2023년(상) 증가율","2023년(상) 증가율",IF(H139="2023년도","2023년도","")) -> 2023년도 | L139: L001020701000032
A140: L001040101000321 | B140: 기술사 | C140: 측량기술계 | D140: 인 | E140: 385893 | F140: 334967 | G140: 320237 | H140: 2023년도 | J140: =IF(H140="2023년(상) 증가율","2023년(상) 증가율",IF(H140="2023년도","2023년도","")) -> 2023년도
A141: L001040101000322 | B141: 특급기술자 | C141: 측량기술계 | D141: 인 | E141: 282163 | F141: 249499 | G141: 236324 | H141: 2023년도 | J141: =IF(H141="2023년(상) 증가율","2023년(상) 증가율",IF(H141="2023년도","2023년도","")) -> 2023년도
A142: L001040101000323 | B142: 고급기술자 | C142: 측량기술계 | D142: 인 | E142: 251261 | F142: 218088 | G142: 212851 | H142: 2023년도 | J142: =IF(H142="2023년(상) 증가율","2023년(상) 증가율",IF(H142="2023년도","2023년도","")) -> 2023년도
A143: L001040101000324 | B143: 중급기술자 | C143: 측량기술계 | D143: 인 | E143: 220054 | F143: 189335 | G143: 183152 | H143: 2023년도 | J143: =IF(H143="2023년(상) 증가율","2023년(상) 증가율",IF(H143="2023년도","2023년도","")) -> 2023년도
A144: L001040101000325 | B144: 초급기술자 | C144: 측량기술계 | D144: 인 | E144: 184612 | F144: 158319 | G144: 155203 | H144: 2023년도 | J144: =IF(H144="2023년(상) 증가율","2023년(상) 증가율",IF(H144="2023년도","2023년도","")) -> 2023년도
A145: L001040201000326 | B145: 고급기능사 | C145: 도화기능계 | D145: 인 | E145: 262206 | F145: 225046 | G145: 207574 | H145: 2023년도 | J145: =IF(H145="2023년(상) 증가율","2023년(상) 증가율",IF(H145="2023년도","2023년도","")) -> 2023년도
A146: L001040201000327 | B146: 중급기능사 | C146: 도화기능계 | D146: 인 | E146: 199067 | F146: 169599 | G146: 162549 | H146: 2023년도 | J146: =IF(H146="2023년(상) 증가율","2023년(상) 증가율",IF(H146="2023년도","2023년도","")) -> 2023년도
A147: L001040201000328 | B147: 초급기능사 | C147: 도화기능계 | D147: 인 | E147: 194386 | F147: 166183 | G147: 153814 | H147: 2023년도 | J147: =IF(H147="2023년(상) 증가율","2023년(상) 증가율",IF(H147="2023년도","2023년도","")) -> 2023년도
A148: L001040301000329 | B148: 고급기능사 | C148: 지도제작기능계 | D148: 인 | E148: 228997 | F148: 200020 | G148: 191849 | H148: 2023년도 | J148: =IF(H148="2023년(상) 증가율","2023년(상) 증가율",IF(H148="2023년도","2023년도","")) -> 2023년도
A149: L001040301000330 | B149: 중급기능사 | C149: 지도제작기능계 | D149: 인 | E149: 203494 | F149: 173748 | G149: 162270 | H149: 2023년도 | J149: =IF(H149="2023년(상) 증가율","2023년(상) 증가율",IF(H149="2023년도","2023년도","")) -> 2023년도
A150: L001040301000331 | B150: 초급기능사 | C150: 지도제작기능계 | D150: 인 | E150: 168619 | F150: 143424 | G150: 131594 | H150: 2023년도 | J150: =IF(H150="2023년(상) 증가율","2023년(상) 증가율",IF(H150="2023년도","2023년도","")) -> 2023년도
A151: L001040401000332 | B151: 고급기능사 | C151: 측량기능계 | D151: 인 | E151: 222786 | F151: 195285 | G151: 182738 | H151: 2023년도 | J151: =IF(H151="2023년(상) 증가율","2023년(상) 증가율",IF(H151="2023년도","2023년도","")) -> 2023년도
... A159: L001040901000340 | B159: 항공정비사 | C159: 기타 | D159: 인 | E159: 245074 | F159: 211010 | G159: 206975 | H159: 2023년도 | J159: =IF(H159="2023년(상) 증가율","2023년(상) 증가율",IF(H159="2023년도","2023년도","")) -> 2023년도
A160: L001040901000341 | B160: 측부 | D160: 인 | E160: 129507 | F160: 112115 | G160: 102112 | H160: 2023년도 | J160: =IF(H160="2023년(상) 증가율","2023년(상) 증가율",IF(H160="2023년도","2023년도","")) -> 2023년도
B161: 기술사 | C161: 기계설비 | D161: 인 | E161: 445789 | F161: 390500 | G161: 371891 | H161: 2023년도 | J161: =IF(H161="2023년(상) 증가율","2023년(상) 증가율",IF(H161="2023년도","2023년도","")) -> 2023년도 | L161: L001020701000025
B162: 특급기술자 | C162: 기계설비 | D162: 인 | E162: 367153 | F162: 308530 | G162: 292249 | H162: 2023년도 | J162: =IF(H162="2023년(상) 증가율","2023년(상) 증가율",IF(H162="2023년도","2023년도","")) -> 2023년도 | L162: L001020701000026
B163: 고급기술자 | C163: 기계설비 | D163: 인 | E163: 313547 | F163: 253985 | G163: 242055 | H163: 2023년도 | J163: =IF(H163="2023년(상) 증가율","2023년(상) 증가율",IF(H163="2023년도","2023년도","")) -> 2023년도 | L163: L001020701000027
B164: 중급기술자 | C164: 기계설비 | D164: 인 | E164: 266506 | F164: 231775 | G164: 220497 | H164: 2023년도 | I164: 기계기사 | J164: =IF(H164="2023년(상) 증가율","2023년(상) 증가율",IF(H164="2023년도","2023년도","")) -> 2023년도 | L164: L001020701000028
B165: 초급기술자 | C165: 기계설비 | D165: 인 | E165: 228792 | F165: 182591 | G165: 172529 | H165: 2023년도 | I165: 기계산업기사 | J165: =IF(H165="2023년(상) 증가율","2023년(상) 증가율",IF(H165="2023년도","2023년도","")) -> 2023년도 | L165: L001020701000029

Sheet 운반비 산출 근거
B2: 기계 운반비 산출 근거
B4: 중기단가 - 덤프트럭(8ton)
B6: 운반 거리 | C6: 10 | D6: km
B7: 화 물 차 | C7: 8000 | D7: kg
B8: 적재운반속도 | C8: 30 | D8: m/hr | F8: 덤프8ton -노무비 | G8: 43526 | H8: 원
B9: 공차운반속도 | C9: 35 | D9: m/hr | F9: 경 비 | G9: 9753 | H9: 원
B11: T1 = | C11: =C7/25*0.82*1/5 -> 52.48 | D11: 분(상차 대기시간-고정값)
B13: T2 = | C13: =(C6/C8+C6/C9)*60 -> 37.142857 | D13: 분(이동 시간)
B15: T3 = | C15: =C11 -> 52.48 | D15: 분(하차 대기시간-고정값)
B17: CM = | C17: =C11+C13+C15+F15 -> 142.10286 | D17: 분 (T1+T2+T3)
B19: Q = | C19: =60*C7*0.9/1000/C17 -> 3.0400515 | D19: ton/hr | E19: (효율 0.9적용)
B21: 산출 노무비 | C21: =G8/C19 -> 14317.521 | D21: 원 | E21: 적용 단가: | F21: =INT(C21+C22) -> 17525 | G21: 원/ton
B22: 산출 경비 | C22: =G9/C19 -> 3208.1694 | D22: 원
B26: 기계 운반비 산출 근거
B28: 중기단가 - 덤프트럭(8ton)
B30: 운반 거리 | C30: 20 | D30: km
B31: 화 물 차 | C31: 8000 | D31: kg
B32: 적재운반속도 | C32: 30 | D32: m/hr | F32: 덤프8ton -노무비 | G32: =G8 -> 43526 | H32: 원
B33: 공차운반속도 | C33: 35 | D33: m/hr | F33: 경 비 | G33: =G9 -> 9753 | H33: 원
B35: T1 = | C35: =C31/25*0.82*1/5 -> 52.48 | D35: 분(상차 대기시간-고정값)
B37: T2 = | C37: =(C30/C32+C30/C33)*60 -> 74.285714 | D37: 분(이동 시간)
B39: T3 = | C39: =C35 -> 52.48 | D39: 분(하차 대기시간-고정값)
B41: CM = | C41: =C35+C37+C39+F39 -> 179.24571 | D41: 분 (T1+T2+T3)
B43: Q = | C43: =60*C31*0.9/1000/C41 -> 2.4100995 | D43: ton/hr | E43: (효율 0.9적용)
B45: 산출 노무비 | C45: =G32/C43 -> 18059.836 | D45: 원 | E45: 적용 단가: | F45: =INT(C45+C46) -> 22106 | G45: 원/ton
B46: 산출 경비 | C46: =G33/C43 -> 4046.721 | D46: 원
B50: 기계 운반비 산출 근거
B52: 중기단가 - 덤프트럭(8ton)
B54: 운반 거리 | C54: 30 | D54: km
B55: 화 물 차 | C55: 8000 | D55: kg
B56: 적재운반속도 | C56: 30 | D56: m/hr | F56: 덤프8ton -노무비 | G56: =G32 -> 43526 | H56: 원
B57: 공차운반속도 | C57: 35 | D57: m/hr | F57: 경 비 | G57: =G33 -> 9753 | H57: 원
B59: T1 = | C59: =C55/25*0.82*1/5 -> 52.48 | D59: 분(상차 대기시간-고정값)
B61: T2 = | C61: =(C54/C56+C54/C57)*60 -> 111.42857 | D61: 분(이동 시간)
B63: T3 = | C63: =C59 -> 52.48 | D63: 분(하차 대기시간-고정값)
B65: CM = | C65: =C59+C61+C63+F63 -> 216.38857 | D65: 분 (T1+T2+T3)
B67: Q = | C67: =60*C55*0.9/1000/C65 -> 1.9964086 | D67: ton/hr | E67: (효율 0.9적용)
B69: 산출 노무비 | C69: =G56/C67 -> 21802.15 | D69: 원 | E69: 적용 단가: | F69: =INT(C69+C70) -> 26687 | G69: 원/ton
B70: 산출 경비 | C70: =G57/C67 -> 4885.2725 | D70: 원
B74: 기계 운반비 산출 근거
B76: 중기단가 - 덤프트럭(8ton)
B78: 운반 거리 | C78: 40 | D78: km
B79: 화 물 차 | C79: 8000 | D79: kg
B80: 적재운반속도 | C80: 30 | D80: m/hr | F80: 덤프8ton -노무비 | G80: =G56 -> 43526 | H80: 원
B81: 공차운반속도 | C81: 35 | D81: m/hr | F81: 경 비 | G81: =G57 -> 9753 | H81: 원
B83: T1 = | C83: =C79/25*0.82*1/5 -> 52.48 | D83: 분(상차 대기시간-고정값)
B85: T2 = | C85: =(C78/C80+C78/C81)*60 -> 148.57143 | D85: 분(이동 시간)
B87: T3 = | C87: =C83 -> 52.48 | D87: 분(하차 대기시간-고정값)
B89: CM = | C89: =C83+C85+C87+F87 -> 253.53143 | D89: 분 (T1+T2+T3)
B91: Q = | C91: =60*C79*0.9/1000/C89 -> 1.7039308 | D91: ton/hr | E91: (효율 0.9적용)
B93: 산출 노무비 | C93: =G80/C91 -> 25544.465 | D93: 원 | E93: 적용 단가: | F93: =INT(C93+C94) -> 31268 | G93: 원/ton
B94: 산출 경비 | C94: =G81/C91 -> 5723.8241 | D94: 원
B98: 기계 운반비 산출 근거
B100: 중기단가 - 덤프트럭(8ton)
B102: 운반 거리 | C102: 50 | D102: km
B103: 화 물 차 | C103: 8000 | D103: kg
B104: 적재운반속도 | C104: 30 | D104: m/hr | F104: 덤프8ton -노무비 | G104: =G80 -> 43526 | H104: 원
B105: 공차운반속도 | C105: 35 | D105: m/hr | F105: 경 비 | G105: =G81 -> 9753 | H105: 원
B107: T1 = | C107: =C103/25*0.82*1/5 -> 52.48 | D107: 분(상차 대기시간-고정값)
B109: T2 = | C109: =(C102/C104+C102/C105)*60 -> 185.71429 | D109: 분(이동 시간)
B111: T3 = | C111: =C107 -> 52.48 | D111: 분(하차 대기시간-고정값)
B113: CM = | C113: =C107+C109+C111+F111 -> 290.67429 | D113: 분 (T1+T2+T3)
B115: Q = | C115: =60*C103*0.9/1000/C113 -> 1.4861996 | D115: ton/hr | E115: (효율 0.9적용)
B117: 산출 노무비 | C117: =G104/C115 -> 29286.78 | D117: 원 | E117: 적용 단가: | F117: =INT(C117+C118) -> 35849 | G117: 원/ton
B118: 산출 경비 | C118: =G105/C115 -> 6562.3757 | D118: 원
B122: 기계 운반비 산출 근거
B124: 중기단가 - 덤프트럭(8ton)
B126: 운반 거리 | C126: 60 | D126: km
B127: 화 물 차 | C127: 8000 | D127: kg
B128: 적재운반속도 | C128: 30 | D128: m/hr | F128: 덤프8ton -노무비 | G128: =G104 -> 43526 | H128: 원
B129: 공차운반속도 | C129: 35 | D129: m/hr | F129: 경 비 | G129: =G105 -> 9753 | H129: 원
B131: T1 = | C131: =C127/25*0.82*1/5 -> 52.48 | D131: 분(상차 대기시간-고정값)
B133: T2 = | C133: =(C126/C128+C126/C129)*60 -> 222.85714 | D133: 분(이동 시간)
B135: T3 = | C135: =C131 -> 52.48 | D135: 분(하차 대기시간-고정값)
B137: CM = | C137: =C131+C133+C135+F135 -> 327.81714 | D137: 분 (T1+T2+T3)
B139: Q = | C139: =60*C127*0.9/1000/C137 -> 1.3178078 | D139: ton/hr | E139: (효율 0.9적용)
B141: 산출 노무비 | C141: =G128/C139 -> 33029.095 | D141: 원 | E141: 적용 단가: | F141: =INT(C141+C142) -> 40430 | G141: 원/ton
B142: 산출 경비 | C142: =G129/C139 -> 7400.9273 | D142: 원
B146: 기계 운반비 산출 근거
B148: 중기단가 - 덤프트럭(8ton)
B150: 운반 거리 | C150: 70 | D150: km
B151: 화 물 차 | C151: 8000 | D151: kg
B152: 적재운반속도 | C152: 30 | D152: m/hr | F152: 덤프8ton -노무비 | G152: =G128 -> 43526 | H152: 원
B153: 공차운반속도 | C153: 35 | D153: m/hr | F153: 경 비 | G153: =G129 -> 9753 | H153: 원
B155: T1 = | C155: =C151/25*0.82*1/5 -> 52.48 | D155: 분(상차 대기시간-고정값)
B157: T2 = | C157: =(C150/C152+C150/C153)*60 -> 260 | D157: 분(이동 시간)
B159: T3 = | C159: =C155 -> 52.48 | D159: 분(하차 대기시간-고정값)
B161: CM = | C161: =C155+C157+C159+F159 -> 364.96 | D161: 분 (T1+T2+T3)
B163: Q = | C163: =60*C151*0.9/1000/C161 -> 1.1836914 | D163: ton/hr | E163: (효율 0.9적용)
B165: 산출 노무비 | C165: =G152/C163 -> 36771.41 | D165: 원 | E165: 적용 단가: | F165: =INT(C165+C166) -> 45010 | G165: 원/ton
B166: 산출 경비 | C166: =G153/C163 -> 8239.4789 | D166: 원
B170: 기계 운반비 산출 근거
B172: 중기단가 - 덤프트럭(8ton)
B174: 운반 거리 | C174: 80 | D174: km
B175: 화 물 차 | C175: 8000 | D175: kg
B176: 적재운반속도 | C176: 30 | D176: m/hr | F176: 덤프8ton -노무비 | G176: =G152 -> 43526 | H176: 원
B177: 공차운반속도 | C177: 35 | D177: m/hr | F177: 경 비 | G177: =G153 -> 9753 | H177: 원
B179: T1 = | C179: =C175/25*0.82*1/5 -> 52.48 | D179: 분(상차 대기시간-고정값)
B181: T2 = | C181: =(C174/C176+C174/C177)*60 -> 297.14286 | D181: 분(이동 시간)
B183: T3 = | C183: =C179 -> 52.48 | D183: 분(하차 대기시간-고정값)
...
