Workbook
Name __________aab42: #REF!
Name _________aab42: #REF!
Name ________aab42: #REF!
Name ________LP1: [1]부하계산서!#REF!
Name ________LP2: [1]부하계산서!#REF!
Name ________LP3: [1]부하계산서!#REF!
Name ________LPB1: #REF!
Name ________LPK1: #REF!
Name ________LU1: [1]부하계산서!#REF!
Name ________LU2: [1]부하계산서!#REF!
Name ________LV01: [1]부하계산서!#REF!
Name ________LV02: #REF!
Name ________UP1: #REF!
Name ________UP2: #REF!
Name _______aab42: #REF!
Name _______ll15: #REF!
Name _______LP1: [1]부하계산서!#REF!
Name _______LP2: [1]부하계산서!#REF!
Name _______LP3: [1]부하계산서!#REF!
Name _______LPB1: #REF!
Name _______LPK1: #REF!
Name _______LU1: [1]부하계산서!#REF!
Name _______LU2: [1]부하계산서!#REF!
Name _______LV01: [1]부하계산서!#REF!
Name _______LV02: #REF!
Name _______UP1: #REF!
Name _______UP2: #REF!
Name ______aab42: #REF!
Name ______ll15: #REF!
Name ______LP1: [1]부하계산서!#REF!
Name ______LP2: [1]부하계산서!#REF!
Name ______LP3: [1]부하계산서!#REF!
Name ______LPB1: #REF!
Name ______LPK1: #REF!
Name ______LU1: [1]부하계산서!#REF!
Name ______LU2: [1]부하계산서!#REF!
Name ______LV01: [1]부하계산서!#REF!
Name ______LV02: #REF!
Name ______UP1: #REF!
Name ______UP2: #REF!
Name _____aab42: #REF!
Name _____ASP1: [2]포장공!#REF!
Name _____CNP1: [3]CON포장수량!#REF!
Name _____ll15: #REF!
Name _____LP1: [1]부하계산서!#REF!
Name _____LP2: [1]부하계산서!#REF!
Name _____LP3: [1]부하계산서!#REF!
Name _____LPB1: #REF!
Name _____LPK1: #REF!
Name _____LU1: [1]부하계산서!#REF!
Name _____LU2: [1]부하계산서!#REF!
Name _____LV01: [1]부하계산서!#REF!
Name _____LV02: #REF!
Name _____SBB1: #REF!
Name _____SBB2: #REF!
Name _____SBB3: #REF!
Name _____SBB4: #REF!
Name _____SBB5: #REF!
Name _____SHH1: #REF!
Name _____SHH2: #REF!

Sheet 갑지
A1: 과장 | E1: 심사 | I1: 설계 | M1: 설계 | N1: 2026년 | O1: 8월 | P1: 일 | Q1: 결 재
M2: 심사 | N2: =N1 -> 2026년 | O2: =O1 -> 8월 | P2: 일 | Q2: 월 일
A4: 설 계 서
B5: 공사명 : 난지물재생센터 UPS 배터리 교체 공사
B6: 구 분 | G6: 금 액 | P6: 비 고
B7: 총 공 사 비 | G7: ="一金 "&NUMBERSTRING(L7,1)&"원 정" -> 一金 영원 정 | L7: =SUM(L11:N12) -> 0 | O7: 원
B8: 도 급 비 | C8: 공 급 가 액 | G8: ="一金 "&NUMBERSTRING(L8,1)&"원 정" -> 一金 영원 정 | L8: =원가계산서!D27 -> 0 | O8: 원
C9: 부가가치세 | G9: ="一金 "&NUMBERSTRING(L9,1)&"원 정" -> 一金 영원 정 | L9: =원가계산서!D28 -> 0 | O9: 원
C10: 손해배상공제료 | G10: ="一金 "&NUMBERSTRING(L10,1)&"원 정" -> 一金 영원 정 | L10: =원가계산서!D29 -> 0 | O10: 원
C11: 계 | G11: ="一金 "&NUMBERSTRING(L11,1)&"원 정" -> 一金 영원 정 | L11: =SUM(L8:N10) -> 0 | O11: 원
B12: 관급자재비 | G12: ="一金 "&NUMBERSTRING(L12,1)&"원 정" -> 一金 영원 정 | O12: 원
B14: 공사개요
B15: ○ 사업위치: 경기도 고양시 덕양구 대덕로 426 난지물재생센터 내
B16: ○ UPS 배터리 교체

Sheet 원가계산서
A1: 공 사 원 가 계 산 서
A2: =갑지!B5 -> 공사명 : 난지물재생센터 UPS 배터리 교체 공사
A3: 비 목 | D3: 금 액 | F3: 구성비 | G3: 적 용 요 율 | H3: 비 고
A4: 순 공 사 원 가 | B4: 재 료 비 | C4: 직 접 재 료 비 | D4: =내역서!G16 -> 0
C5: 간 접 재 료 비
C6: [소 계] | D6: =TRUNC(D4+D5) -> 0 | F6: =D6/$D$30 -> #DIV/0!
B7: 노 무 비 | C7: 직 접 노 무 비 | D7: =내역서!I16 -> 0 | F7: =D7/$D$30 -> #DIV/0!
C8: 간 접 노 무 비 | D8: =TRUNC(D7*G8%) -> 0 | F8: =D8/$D$30 -> #DIV/0! | G8: 19.1
C9: [소 계] | D9: =TRUNC(D7+D8) -> 0 | F9: =D9/$D$30 -> #DIV/0!
B10: 경 비 | C10: 산 출 경 비 | D10: =내역서!K16 -> 0
C11: 산 재 보 험 료 | D11: =TRUNC(D9*G11%) -> 0 | F11: =D11/$D$30 -> #DIV/0! | G11: 3.56
C12: 고 용 보 험 료 | D12: =TRUNC(D9*G12%) -> 0 | F12: =D12/$D$30 -> #DIV/0! | G12: 1.01
C13: 퇴직공제부금비 | D13: =TRUNC(D7*G13%)*0 -> 0 | G13: 2.3 | H13: 1억원 이상 적용
C14: 건 강 보 험 료 | D14: =TRUNC(D7*G14%)*0 -> 0 | G14: 3.595 | H14: 공사기간 1개월 이내
C15: 연 금 보 험 료 | D15: =TRUNC(D7*G15%)*0 -> 0 | G15: 4.75 | H15: 공사기간 1개월 이내
C16: 노인장기요양보험료 | D16: =TRUNC(D14*G16%) -> 0 | G16: 13.14 | H16: 공사기간 1개월 이내
C17: 산업안전보건관리비 | D17: 0 | G17: 2.07 | H17: 2천만원 이상
C18: 환 경 보 전 비 | H18: 전기공사 적용제외
C19: 석 면 분 담 금 | G19: 0.006
C20: 임금채권부담금 | G20: 0.09
C21: 기 타 경 비 | D21: =TRUNC((D6+D9)*G21%) -> 0 | F21: =D21/$D$30 -> #DIV/0! | G21: 5.5
C22: [소 계] | D22: =TRUNC(D10+D11+D12+D13+D14+D15+D16+D17+D18+D21) -> 0 | F22: =D22/$D$30 -> #DIV/0!
A23: 계 | D23: =TRUNC(D6+D9+D22) -> 0 | F23: =D23/$D$30 -> #DIV/0!
A24: 일 반 관 리 비 | D24: =TRUNC((D6+D9+D22)*G24%) -> 0 | F24: =D24/$D$30 -> #DIV/0! | G24: 8
A25: 이 윤 | D25: =TRUNC((D9+D22+D24)*G25%) -> 0 | F25: =D25/$D$30 -> #DIV/0! | G25: 15
A26: 고 재 처 리 비
A27: 공 급 가 액 | D27: =D23+D24+D25+D26 -> 0 | F27: =D27/$D$30 -> #DIV/0!
A28: 부 가 가 치 세 | D28: =TRUNC(D27*G28%) -> 0 | F28: =D28/$D$30 -> #DIV/0! | G28: 10
A29: 손 해 배 상 공 제 료 | D29: =ROUNDDOWN(D27*0.26477%,-2) -> 0 | F29: =D29/$D$30 -> #DIV/0! | G29: 공급가액의 0.26477%
A30: 도 급 비 | D30: =INT(D27+D28+D29) -> 0 | F30: =D30/$D$30 -> #DIV/0!
A31: 관 급 자 재 | E31: =관급자재!F11 -> 0 | F31: =E31/$D$32 -> #DIV/0!
A32: 총 공 사 비 | D32: =INT(D30+E31) -> 0 | F32: =D32/$D$32 -> #DIV/0!

Sheet 내역서
A1: 내 역 서
A2: =원가계산서!A2 -> 공사명 : 난지물재생센터 UPS 배터리 교체 공사
A3: 공 종 명 | B3: 규 격 | C3: 수량 | D3: 단위 | E3: 합 계 | F3: 재 료 비 | H3: 노 무 비 | J3: 경 비 | L3: 비 고
F4: 단 가 | G4: 금 액 | H4: 단 가 | I4: 금 액 | J4: 단 가 | K4: 금 액
A5: 난지물재생센터 UPS 배터리 교체 공사
A6: 1.철거 및 설치
A7: BATTERTY | B7: 무보수무누수액밀폐형 250Ah 12V | C7: 16 | D7: 개
A8: BATTERTY | B8: 무보수무누수액밀폐형 100Ah 12V | C8: 16 | D8: 개
A9: BATTERTY | B9: 무보수무누수액밀폐형 40Ah 12V | C9: 64 | D9: 개
A10: BATTERTY | B10: 무보수무누수액밀폐형 30Ah 12V | C10: 64 | D10: 개
A11: BATTERTY | B11: 무보수무누수액밀폐형 24Ah 12V | C11: 32 | D11: 개
A12: BATTERTY | B12: 무보수무누수액밀폐형 18Ah 12V | C12: 16 | D12: 개
A13: BATTERTY | B13: 무보수무누수액밀폐형 7Ah 12V | C13: 16 | D13: 개
A16: 소 계 | E16: =SUM(E7:E15) -> 0 | I16: =SUM(I7:I15) -> 0

Sheet 관급자재
A1: 관 급 자 재
A2: =갑지!B5 -> 공사명 : 난지물재생센터 UPS 배터리 교체 공사
A3: 품 명 | B3: 규 격 | C3: 단위 | D3: 적용단가 | E3: 수 량 | F3: 금 액 | G3: 비고
A4: BATTERTY | B4: 무보수무누수액밀폐형 250Ah 12V | C4: CELL | E4: 16 | F4: =D4*E4 -> 0 | G4: 수의계약
A5: BATTERTY | B5: 무보수무누수액밀폐형 100Ah 12V | C5: CELL | E5: 16 | F5: =D5*E5 -> 0
A6: BATTERTY | B6: 무보수무누수액밀폐형 40Ah 12V | C6: CELL | E6: 64 | F6: =D6*E6 -> 0
A7: BATTERTY | B7: 무보수무누수액밀폐형 30Ah 12V | C7: CELL | E7: 64 | F7: =D7*E7 -> 0
A8: BATTERTY | B8: 무보수무누수액밀폐형 24Ah 12V | C8: CELL | E8: 32 | F8: =D8*E8 -> 0
A9: BATTERTY | B9: 무보수무누수액밀폐형 18Ah 12V | C9: CELL | E9: 16 | F9: =D9*E9 -> 0
A10: BATTERTY | B10: 무보수무누수액밀폐형 7Ah 12V | C10: CELL | E10: 16 | F10: =D10*E10 -> 0
D11: 합 계 | F11: =SUM(F4:F10) -> 0

Sheet 수량산출
A1: =내역서!A2 -> 공사명 : 난지물재생센터 UPS 배터리 교체 공사
A2: 공 종 명 | B2: 규 격 | C2: 수 량 | D2: 단 위 | E2: 산 출 근 거 | K2: 비 고
A3: 공기유량계 철거 | B3: 600A, 분리형 | C3: 4 | D3: 대 | E3: - 1처리장 공기량계 = 4대
A4: 공기유량계 설치 | B4: 600A, 분리형 | C4: 4 | D4: 대 | E4: - 1처리장 공기량계 = 4대 | K4: 관급자재
A5: 현장변환기반 철거 | B5: 파이프스텐션형 | C5: 4 | D5: 대 | E5: - 1처리장 공기량계 = 4대
A6: 현장변환기반 설치 | B6: 파이프스텐션형 | C6: 4 | D6: 대 | E6: - 1처리장 공기량계 = 4대 | K6: 관급자재
A7: =단가산출!A4 -> 강제전선관 | B7: =단가산출!B4 -> 22mm 아연도금 | C7: 28 | D7: =단가산출!D4 -> M
A8: =단가산출!A5 -> 후렉시블 전선관 | B8: =단가산출!B5 -> 고장력 방수 22mm | C8: 4 | D8: =단가산출!D5 -> M
A9: =단가산출!A7 -> 앵커볼트 | B9: =단가산출!B7 -> STS, 3/8*70L | C9: 32 | D9: =단가산출!D7 -> 개
A10: =단가산출!A8 -> 판넬 베이스 | B10: =단가산출!B8 -> STS304 | C10: 4 | D10: =단가산출!D8 -> 개
A11: =단가산출!A9 -> 고재비 | B11: =단가산출!B9 -> STS304 | C11: 50 | D11: =단가산출!D9 -> kg
A12: =단가산출!A10 -> 고재비 | B12: =단가산출!B10 -> 경량철 | C12: 30 | D12: =단가산출!D10 -> kg

Sheet 일위대가표
A1: 일 위 대 가 표
A2: =원가계산서!A2 -> 공사명 : 난지물재생센터 UPS 배터리 교체 공사
A3: 구 분 | B3: 규 격 | C3: 수 량 | D3: 단 위 | E3: 합 계 | F3: 재 료 비 | H3: 노 무 비 | J3: 경 비 | L3: 비 고
F4: 단 가 | G4: 금 액 | H4: 단 가 | I4: 금 액 | J4: 단 가 | K4: 금 액
A5: 제 1호표 : 배터리 교체/개당 | L5: 전기 4-92-6
A6: 변전전공 | B6: 0.24*2 | C6: =0.24 -> 0.24 | D6: 인 | E6: =G6+I6+K6 -> 99592.32 | H6: ='노임단가표(2026상)'!D29 -> 414968 | I6: =H6*C6 -> 99592.32
A7: 보통인부 | B7: 0.24*2 | C7: =0.24 -> 0.24 | D7: 인 | E7: =G7+I7+K7 -> 41296.32 | H7: ='노임단가표(2026상)'!D4 -> 172068 | I7: =H7*C7 -> 41296.32
A8: 소 계 | E8: =G8+I8+K8 -> 140888.64 | I8: =SUM(I6:I7) -> 140888.64
A10: 제 2호표 : 배터리 철거(400A이하)/대당 | L10: 전기 3-37
A11: 변전전공 | C11: =0.25*1.25 -> 0.3125 | D11: 인 | H11: 483274 | I11: =H11*C11 -> 151023.12 | L11: 철거40% 적용
A12: 보통인부 | C12: =0.3 -> 0.3 | D12: 인 | H12: 171037 | I12: =H12*C12 -> 51311.1 | L12: 철거40% 적용
A13: 소 계 | E13: =G13+I13+K13 -> 202334.23 | I13: =SUM(I11:I12) -> 202334.23
A15: 제 3호표 : 배터리 설치(100A이하)/대당 | L15: 전기 3-37
A16: 변전전공 | C16: =2*0.4 -> 0.8 | D16: 인 | H16: 483274 | I16: =H16*C16 -> 386619.2
A17: 보통인부 | C17: =1.33*0.4 -> 0.532 | D17: 인 | H17: 171037 | I17: =H17*C17 -> 90991.684
A18: 소 계 | E18: =G18+I18+K18 -> 477610.88 | I18: =SUM(I16:I17) -> 477610.88
A20: 제 4호표 : 배터리 철거(100A이하)/대당 | L20: 전기 3-37
A21: 변전전공 | C21: 2 | D21: 인 | H21: 483274 | I21: =H21*C21 -> 966548 | L21: 철거40% 적용
A22: 보통인부 | C22: 1.33 | D22: 인 | H22: 171037 | I22: =H22*C22 -> 227479.21 | L22: 철거40% 적용
A23: 소 계 | E23: =G23+I23+K23 -> 1194027.2 | I23: =SUM(I21:I22) -> 1194027.2
A25: 제 5호표 : 배터리 설치(50A이하)/대당 | L25: 전기 3-37
A26: 변전전공 | C26: 0.11 | D26: 인 | H26: 483274 | I26: =H26*C26 -> 53160.14
A27: 보통인부 | H27: 171037
A28: 소 계 | E28: =G28+I28+K28 -> 53160.14 | I28: =SUM(I26:I26) -> 53160.14
A30: 제 6호표 : 배터리 철거(50A이하)/대당 | L30: 전기 3-37
A31: 변전전공 | C31: 0.06 | D31: 인 | H31: 483274 | I31: =H31*C31 -> 28996.44 | L31: 철거40% 적용
A32: 보통인부 | H32: 171037 | L32: 철거40% 적용
A33: 소 계 | E33: =G33+I33+K33 -> 28996.44 | I33: =SUM(I31:I31) -> 28996.44
A35: 제 7호표 : 배터리 설치(10A이하)/대당 | L35: 전기 3-37
A36: 변전전공 | C36: 0.11 | D36: 인 | H36: 483274 | I36: =H36*C36 -> 53160.14
A37: 보통인부 | H37: 171037
A38: 소 계 | E38: =G38+I38+K38 -> 53160.14 | I38: =SUM(I36:I36) -> 53160.14
A40: 제 8호표 : 배터리 철거(10A이하)/대당 | L40: 전기 3-37
A41: 변전전공 | C41: 0.06 | D41: 인 | H41: 483274 | I41: =H41*C41 -> 28996.44 | L41: 철거40% 적용
A42: 보통인부 | H42: 171037 | L42: 철거40% 적용
A43: 소 계 | E43: =G43+I43+K43 -> 28996.44 | I43: =SUM(I41:I41) -> 28996.44

Sheet 단가산출
A1: =원가계산서!A2 -> 공사명 : 난지물재생센터 UPS 배터리 교체 공사
A2: 품 명 | B2: 규 격 | C2: 수량 | D2: 단위 | E2: 물가자료(4월) | G2: 물가정보(4월) | I2: 견 적 | K2: 적용단가
E3: 페이지 | F3: 단 가 | G3: 페이지 | H3: 단 가 | I3: A | J3: B
A4: 강제전선관 | B4: 22mm 아연도금 | C4: 1 | D4: M | E4: 1-1101P | F4: 4200 | G4: 1-1202P | H4: 4368 | K4: =MIN(F4,H4,I4:J4) -> 4200
A5: 후렉시블 전선관 | B5: 고장력 방수 22mm | C5: 1 | D5: M | E5: 1-1103P | F5: 3550 | G5: 1-1205P | H5: 1716 | K5: =MIN(F5,H5,I5:J5) -> 1716
A6: 찬넬 | B6: 40x40 | C6: 1 | D6: 개 | E6: 1-1104P | F6: 17100 | G6: 1-1203P | H6: 25128 | K6: =MIN(F6,H6,I6:J6) -> 17100
A7: 앵커볼트 | B7: STS, 3/8*70L | C7: 1 | D7: 개 | E7: 1-52P | F7: 710 | G7: 1-48P | H7: 900 | K7: =MIN(F7,H7,I7:J7) -> 710
A8: 판넬 베이스 | B8: STS304 | C8: 1 | D8: 개 | I8: 300000 | J8: 350000 | K8: =MIN(F8,H8,I8:J8) -> 300000
A9: 고재비 | B9: STS304 | C9: 1 | D9: kg | E9: 2-47P | F9: -1550 | G9: 2-84P | H9: -1600 | K9: =MIN(F9,H9,I9:J9) -> -1600
A10: 고재비 | B10: 경량철 | C10: 1 | D10: kg | E10: 2-47P | F10: -305 | G10: 2-84P | H10: -280 | K10: =MIN(F10,H10,I10:J10) -> -305

Sheet 견적서(1)
A1: <A사>

Sheet 견적서(2)
A1: <B사>

Sheet 견적서(3)
A1: <C사>

Sheet 노임단가표(2026상)
A1: 노임단가표(2026년도 상반기 노임 적용)
B3: 구 분 | C3: 직 종 | D3: 노임단가(원) | E3: 직종 해설 | F3: 비 고
A4: 1 | B4: 공사 부분 | C4: 보통인부 | D4: 172068 | E4: 기능을 요하지 않는 경작업인 일반잠역에 종사하면서 단순육체노동을 하는 사람
A5: 2 | B5: 공사 부분 | C5: 특별인부 | D5: 226122 | E5: 보통인부보다 다소 높은 기능정도를 요하며,특수한 작업조건하에서 작업하는 사람
A6: 3 | B6: 공사 부분 | C6: 용접공 | D6: 282536 | E6: 일반철재,일반기기,또는 일반배관등의 용접을하는 사람(난이도 일반수준)
A7: 4 | B7: 공사부분 | C7: 착암공 | D7: 222306 | E7: 착암기를 사용하여 암반의 천공작업을 하는 사람
A8: 5 | B8: 공사 부분 | C8: 창호공 | D8: 247188 | E8: 건물등에서 목재,철재,샷시등으로된 창및문짝을 제작또는 설치하는 사람
A9: 6 | B9: 공사 부분 | C9: 도장공 | D9: 253409 | E9: 도장을 위한 바탕처리작업및페인트류 기타 도료를 구조물등에 칠하는 사람
A10: 7 | B10: 공사 부분 | C10: 판넬조립공 | D10: 237854 | E10: PC판넬이나샌드위치 판넬등에 보온재를 채우거나 자르는등 가공하여 조립부착하는사람
A11: 8 | B11: 공사 부분 | C11: 내장공 | D11: 256883 | E11: 건물의 내부에 수장재를 사용하여 마무리하는 사람
A12: 9 | B12: 공사 부분 | C12: 배관공 | D12: 247897 | E12: 설계압력5 kg/Cm2미만 배관을 시공및보수하는 사람
A13: 10 | B13: 공사 부분 | C13: 덕트공 | D13: 202472 | E13: 금속박판을 가공하여 덕트등을 가공,제작,조립,설치작업에 종사하는 사람
A14: 11 | B14: 공사 부분 | C14: 보온공 | D14: 217012 | E14: 기기및배관류의 보온시공을 하는사람
A15: 12 | B15: 공사 부분 | C15: 건설기계운전사 | D15: 283297 | E15: 각종 건설기계의 운전과 조작을 하는 운전자
... A31: 28 | B31: 공사 부분 | C31: S/W시험사 | D31: 446358 | E31: 전자교환기, 기지국, 컴퓨터시스템의 소프트웨어 및 프로그램 설계, 작성, 입력, 시험, 분석, 설치, 유지보수 등의 업무에 종사하는 사람
A32: 29 | B32: 엔지니어링 | C32: 중급숙련기술자 | D32: 234317 | F32: 엔지니어링사업 노임기준
A33: 30 | B33: 엔지니어링 | C33: 중급기술자 | D33: 283343 | F33: 엔지니어링사업 노임기준
