Workbook
Name ___xlfn.BAHTTEXT: #NAME?
Name __DemandLoad: TRUE
Name __IntlFixup: TRUE
Name __xlfn.BAHTTEXT: #NAME?
Name __xlfn.RTD: #NAME?
Name _17bv3_: BlankMacro1
Name _17bv3_: BlankMacro1
Name _bv3: BlankMacro1
Name _bv3: BlankMacro1
Name _e1: {"Book1","부대-(표지판,데리,가드).xls","부대-(낙,차,중분대).xls"}
Name _e1: {"Book1","부대-(표지판,데리,가드).xls","부대-(낙,차,중분대).xls"}
Name _j1: {"Book1","부대-(표지판,데리,가드).xls","부대-(낙,차,중분대).xls"}
Name _j1: {"Book1","부대-(표지판,데리,가드).xls","부대-(낙,차,중분대).xls"}
Name _Order1: 255
Name _Order1: 0
Name _Order2: 255
Name _Order2: 0
Name _ordr2: 0
Name _ordwre2: 0
Name _q12: BLCH
Name _q12: BLCH
Name _Regression_Int: 1
Name AA: {"Book1","수시.XLS"}
Name AA: {"Book1","수시.XLS"}
Name AAAAAAAAAAAAAAA: BlankMacro1
Name AAAAAAAAAAAAAAA: BlankMacro1
Name ab: 1
Name Access_Button: "KT과금거리_지역좌표_970827_거리계산표_List"
Name Access_Button1: "업체현황_카드발송_List"
Name Access_Button2: "업체현황_카드발송_List"
Name Access_Button3: "카드발송_카드발송_List1"
Name Access_Button4: "업체현황_카드발송_List"
Name AccessDatabase: "D:\공무jaje\98년품의-수불\98146.mdb"
Name anscount: 1
Name APT연면적: 18578
Name ASFE: BlankMacro1
Name ASFE: BlankMacro1
Name box수량집계: {"Book1","토공.xls"}
Name box수량집계: {"Book1","토공.xls"}
Name Button_131: "입찰공고현황_공고_목록"
Name cate: "category"
Name catv: BlankMacro1
Name catv: BlankMacro1
Name CCMS: BlankMacro1
Name CCMS: BlankMacro1
Name CCTV: BlankMacro1
Name CCTV: BlankMacro1
Name cdd: BlankMacro1
Name cdd: BlankMacro1
Name CE팀송: BlankMacro1
Name CE팀송: BlankMacro1
Name CONTROL: {"'PROFORMA'!$A$1:$H$120"}
Name CONTROL: {"'PROFORMA'!$A$1:$H$120"}
Name dddd1: {"Book1","부대-(표지판,데리,가드).xls","부대-(낙,차,중분대).xls"}
Name dddd1: {"Book1","부대-(표지판,데리,가드).xls","부대-(낙,차,중분대).xls"}
Name DDDDA: BlankMacro1
Name DDDDA: BlankMacro1
Name dddddddddddddddddddddddddddddd: BlankMacro1
Name dddddddddddddddddddddddddddddd: BlankMacro1
Name dddddddww: {"Book1","예술의전당.xls"}

Sheet 원가계산서
A1: 원 가 계 산 서
A3: * 물 품 명 : 대동면행정복지센터 및 온누리센터 증축공사(기계) 관급자재(빌딩자동제어장치)
D4: 금 액 | G4: 구 성 비 (%) | H4: 비 고
D5: 제조원가 | E5: 설치원가 | F5: 합 계
A6: 순 공 사 원 가 | B6: 재 료 비 | C6: 직 접 재 료 비 | D6: =SUM(내역서!F5:F19) -> 51200000 | E6: =SUM(내역서!F20:F49) -> 6282699 | F6: =D6+E6 -> 57482699
C7: 간 접 재 료 비 | D7: 0 | E7: 0 | F7: 0
C9: [ 계 ] | D9: =SUM(D6:D8) -> 51200000 | E9: =SUM(E6:E8) -> 6282699 | F9: =SUM(F6:F8) -> 57482699
B10: 노 무 비 | C10: 직 접 노 무 비 | D10: =SUM(내역서!H6:H25) -> 0 | E10: =SUM(내역서!H50:H54) -> 24731291 | F10: =D10+E10 -> 24731291
C11: 간 접 노 무 비 | D11: 0 | E11: 0 | F11: 0
C13: [ 계 ] | D13: =SUM(D10:D12) -> 0 | E13: =SUM(E10:E12) -> 24731291 | F13: =SUM(F10:F12) -> 24731291
B14: 경 비 | C14: 산 출 경 비 | D14: =SUM(내역서!J6:J25) -> 0 | E14: =SUM(내역서!J27:J55) -> 543725 | F14: =D14+E14 -> 543725
C15: 기 타 경 비 | D15: 0 | E15: 0 | F15: =D15+E15 -> 0
C16: 산 재 보 험 료 | D16: 0 | E16: =INT(SUM($E$13)*I16) -> 889089 | F16: =D16+E16 -> 889089 | G16: (노)*3.595% | I16: 0.03595
C17: 고 용 보 험 료 | D17: 0 | E17: =INT(SUM($E$13)*I17) -> 249786 | F17: =D17+E17 -> 249786 | G17: (노)*1.01% | I17: 0.0101
C18: 건 강 보 험 료 | D18: 0 | E18: =INT(SUM($E$10)*I18) -> 889089 | F18: =D18+E18 -> 889089 | G18: (직노)*3.595% | I18: 0.03595
C19: 노 인 장 기 요 양 보 험 료 | D19: 0 | E19: =INT(E18*I19) -> 116826 | F19: =D19+E19 -> 116826 | G19: (국민건강보험료)*13.14% | I19: 0.1314
C20: 연 금 보 험 료 | D20: 0 | E20: =INT(SUM($E$10)*I20) -> 1174736 | F20: =D20+E20 -> 1174736 | G20: (직노)*4.75% | I20: 0.0475
C21: 산 업 안 전 보 건 관 리 비 | D21: 0 | E21: =INT((E9+E10)*I21) -> 964535 | F21: =D21+E21 -> 964535 | G21: (재료비+직노)×3.11% | I21: 0.0311
C22: 환 경 보 전 비 | D22: 0 | E22: 0 | F22: =D22+E22 -> 0
C23: 건설하도급대금지급보증서발급수수료 | D23: 0 | E23: 0 | F23: =D23+E23 -> 0
C24: 건설기계대여대금지급보증서발급수수료 | D24: 0 | E24: 0 | F24: =D24+E24 -> 0
C25: [ 계 ] | D25: =SUM(D14:D24) -> 0 | E25: =SUM(E14:E24) -> 4827786 | F25: =SUM(F14:F24) -> 4827786
A26: [소 계] | D26: =SUM(D25,D13,D9) -> 51200000 | E26: =SUM(E25,E13,E9) -> 35841776 | F26: =SUM(F25,F13,F9) -> 87041776
A27: 공 급 가 액 | D27: =D26 -> 51200000 | E27: =E26 -> 35841776 | F27: =F26 -> 87041776
A28: 부 가 가 치 세 | D28: =TRUNC(D27*0.1) -> 5120000 | E28: =TRUNC(E27*0.1) -> 3584177 | F28: =TRUNC(F27*0.1) -> 8704177
A33: [합 계] | D33: =SUM(D27:D32) -> 56320000 | E33: =SUM(E27:E32) -> 39425953 | F33: =ROUNDDOWN(SUM(F27:F32),-3) -> 95745000 | G33: 천단위이하 절사
F37: =#REF! -> #REF!

Sheet 내역서
A1: * 물 품 명 : 대동면행정복지센터 및 온누리센터 자동제어공사
A2: 품 명 | B2: 규 격 | C2: 단위 | D2: 수량 | E2: 재 료 비 | G2: 노 무 비 | I2: 경 비 | K2: 합 계 | M2: 비 고
E3: 단 가 | F3: 금 액 | G3: 단 가 | H3: 금 액 | I3: 단 가 | J3: 금 액 | K3: 단 가 | L3: 금 액
A4: 01 빌딩자동제어장치
A5: - 관제점 감시 | C5: EA | D5: 1 | E5: 3000000 | F5: =D5*E5 -> 3000000 | K5: =E5+G5+I5 -> 3000000 | L5: =F5+H5+J5 -> 3000000
A6: - 그래픽 감시 및 제어화면 | C6: EA | D6: 1 | E6: 3900000 | F6: =D6*E6 -> 3900000 | K6: =E6+G6+I6 -> 3900000 | L6: =F6+H6+J6 -> 3900000
A7: - 네트워크 통신제어 기능 | C7: EA | D7: 1 | E7: 2900000 | F7: =D7*E7 -> 2900000 | K7: =E7+G7+I7 -> 2900000 | L7: =F7+H7+J7 -> 2900000
A8: - 원격설정 및 개별, 그룹 조작기능 | C8: EA | D8: 1 | E8: 3500000 | F8: =D8*E8 -> 3500000 | K8: =E8+G8+I8 -> 3500000 | L8: =F8+H8+J8 -> 3500000
A9: - 각종 경보 및 알람 기능 | C9: EA | D9: 1 | E9: 2500000 | F9: =D9*E9 -> 2500000 | K9: =E9+G9+I9 -> 2500000 | L9: =F9+H9+J9 -> 2500000
A10: - 텍스트 감시 및 제어화면 | C10: EA | D10: 1 | E10: 4200000 | F10: =D10*E10 -> 4200000 | K10: =E10+G10+I10 -> 4200000 | L10: =F10+H10+J10 -> 4200000
A11: - 데이타베이스 관리 기능 | C11: EA | D11: 1 | E11: 3900000 | F11: =D11*E11 -> 3900000 | K11: =E11+G11+I11 -> 3900000 | L11: =F11+H11+J11 -> 3900000
A12: - 통합데이터베이스 구축 | C12: EA | D12: 1 | E12: 4900000 | F12: =D12*E12 -> 4900000 | K12: =E12+G12+I12 -> 4900000 | L12: =F12+H12+J12 -> 4900000
A13: - 에너지운영관리 | C13: EA | D13: 1 | E13: 3400000 | F13: =D13*E13 -> 3400000 | K13: =E13+G13+I13 -> 3400000 | L13: =F13+H13+J13 -> 3400000
A14: - 분석 및 보고서 | C14: EA | D14: 1 | E14: 2000000 | F14: =D14*E14 -> 2000000 | K14: =E14+G14+I14 -> 2000000 | L14: =F14+H14+J14 -> 2000000
A15: - 포인트리스트 구성 | C15: EA | D15: 1 | E15: 3900000 | F15: =D15*E15 -> 3900000 | K15: =E15+G15+I15 -> 3900000 | L15: =F15+H15+J15 -> 3900000
A16: - 종합에너지맵구성 | C16: EA | D16: 1 | E16: 4000000 | F16: =D16*E16 -> 4000000 | K16: =E16+G16+I16 -> 4000000 | L16: =F16+H16+J16 -> 4000000
A17: 외함 | B17: 800x1400x250 | C17: EA | D17: 1 | E17: 2000000 | F17: =D17*E17 -> 2000000 | K17: =E17+G17+I17 -> 2000000 | L17: =F17+H17+J17 -> 2000000
A18: SNT-EMS PLATFORM | C18: EA | D18: 1 | E18: 4500000 | F18: =D18*E18 -> 4500000 | K18: =E18+G18+I18 -> 4500000 | L18: =F18+H18+J18 -> 4500000
A19: SNT-EMS PLATFORM IOR34 | C19: EA | D19: 2 | E19: 1300000 | F19: =D19*E19 -> 2600000 | K19: =E19+G19+I19 -> 1300000 | L19: =F19+H19+J19 -> 2600000
A20: 솔레노이드밸브(물) | B20: 25A | C20: EA | D20: 1 | E20: 120000 | F20: =D20*E20 -> 120000 | K20: =E20+G20+I20 -> 120000 | L20: =F20+H20+J20 -> 120000
A21: 나사없는 전선관 | B21: E19 | C21: m | D21: 261 | E21: 2547 | F21: =D21*E21 -> 664767 | K21: =E21+G21+I21 -> 2547 | L21: =F21+H21+J21 -> 664767
A22: 나사없는 전선관 | B22: E25 | C22: m | D22: 165 | E22: 3354 | F22: =D22*E22 -> 553410 | K22: =E22+G22+I22 -> 3354 | L22: =F22+H22+J22 -> 553410
A23: 나사없는 전선관 | B23: E31 | C23: m | D23: 160 | E23: 4696 | F23: =D23*E23 -> 751360 | K23: =E23+G23+I23 -> 4696 | L23: =F23+H23+J23 -> 751360
A24: 나사없는 전선관 | B24: E39 | C24: m | D24: 25 | E24: 4697 | F24: =D24*E24 -> 117425 | K24: =E24+G24+I24 -> 4697 | L24: =F24+H24+J24 -> 117425
A25: 전선관 부속 | B25: 20% | C25: 식 | D25: 1 | E25: 393907 | F25: =D25*E25 -> 393907 | K25: =E25+G25+I25 -> 393907 | L25: =F25+H25+J25 -> 393907
A26: 전선 | B26: 2.5sq | C26: m | D26: 212 | E26: 649 | F26: =D26*E26 -> 137588 | K26: =E26+G26+I26 -> 649 | L26: =F26+H26+J26 -> 137588
A27: 케이블 | B27: 1.0 x 2C | C27: m | D27: 158 | E27: 346 | F27: =D27*E27 -> 54668 | K27: =E27+G27+I27 -> 346 | L27: =F27+H27+J27 -> 54668
A28: 케이블 | B28: 1.5 x 2C | C28: m | D28: 239 | E28: 1610 | F28: =D28*E28 -> 384790 | K28: =E28+G28+I28 -> 1610 | L28: =F28+H28+J28 -> 384790
A29: 케이블 | B29: 5E 4P | C29: m | D29: 117 | E29: 1100 | F29: =D29*E29 -> 128700 | K29: =E29+G29+I29 -> 1100 | L29: =F29+H29+J29 -> 128700
A30: 케이블 | B30: 24 x 2P | C30: m | D30: 111 | E30: 1368 | F30: =D30*E30 -> 151848 | K30: =E30+G30+I30 -> 1368 | L30: =F30+H30+J30 -> 151848
A31: 케이블 | B31: 4.0 x 3C | C31: m | D31: 117 | E31: 2551 | F31: =D31*E31 -> 298467 | K31: =E31+G31+I31 -> 2551 | L31: =F31+H31+J31 -> 298467
... A47: 수위조절기 | B47: 4P | C47: EA | D47: 1 | E47: 300000 | F47: =D47*E47 -> 300000 | K47: =E47+G47+I47 -> 300000 | L47: =F47+H47+J47 -> 300000
A48: 누수감지기 | C48: EA | D48: 1 | E48: 37000 | F48: =D48*E48 -> 37000 | K48: =E48+G48+I48 -> 37000 | L48: =F48+H48+J48 -> 37000
A49: 잡자재비 | B49: 3% | C49: 식 | D49: 1 | E49: 107237 | F49: =D49*E49 -> 107237 | K49: =E49+G49+I49 -> 107237 | L49: =F49+H49+J49 -> 107237
A50: 내선전공 | B50: 일반공사 직종 | C50: 인 | D50: 53 | G50: 273676 | H50: =G50*D50 -> 14504828 | K50: =E50+G50+I50 -> 273676 | L50: =F50+H50+J50 -> 14504828
A51: 저압케이블전공 | B51: 일반공사 직종 | C51: 인 | D51: 9 | G51: 304156 | H51: =G51*D51 -> 2737404 | K51: =E51+G51+I51 -> 304156 | L51: =F51+H51+J51 -> 2737404
A52: 계장공 | B52: 일반공사 직종 | C52: 인 | D52: 15 | G52: 319449 | H52: =G52*D52 -> 4791735 | K52: =E52+G52+I52 -> 319449 | L52: =F52+H52+J52 -> 4791735
A53: 통신케이블공 | B53: 일반공사 직종 | C53: 인 | D53: 5 | G53: 436224 | H53: =G53*D53 -> 2181120 | K53: =E53+G53+I53 -> 436224 | L53: =F53+H53+J53 -> 2181120
A54: 보통인부 | B54: 일반공사 직종 | C54: 인 | D54: 3 | G54: 172068 | H54: =G54*D54 -> 516204 | K54: =E54+G54+I54 -> 172068 | L54: =F54+H54+J54 -> 516204
A55: 공구손료 | B55: 인력품의 2% | C55: 식 | D55: 1 | I55: 543725 | J55: =I55*D55 -> 543725 | K55: =E55+G55+I55 -> 543725 | L55: =F55+H55+J55 -> 543725
A69: [ 합 계 ] | F69: =SUM(F5:F68) -> 57482699 | H69: =SUM(H5:H68) -> 24731291 | J69: =SUM(J5:J68) -> 543725 | L69: =SUM(L5:L68) -> 82757715

Sheet 단가대비표
A1: * 물 품 명 : 대동면행정복지센터 및 온누리센터 자동제어공사
A2: 공 종 | D2: 자동제어 시스템 납품 및 설치
A3: 품명 | B3: 규격 | C3: 단위 | D3: 내역단가 | E3: 물가정보 | G3: 조사가격 | J3: 노임단가 | K3: 비 고
E4: 24년12월 | F4: PAGE | G4: A사 | H4: B사 | I4: C사 | J4: 2024년 하반기
A5: 시스템자재
A6: - 관제점 감시 | C6: EA | D6: =MIN(E6,G6,I6) -> 3000000 | G6: 3000000
A7: - 그래픽 감시 및 제어화면 | C7: EA | D7: =MIN(E7,G7,I7) -> 3900000 | G7: 3900000
A8: - 네트워크 통신제어 기능 | C8: EA | D8: =MIN(E8,G8,I8) -> 2900000 | G8: 2900000
A9: - 원격설정 및 개별, 그룹 조작기능 | C9: EA | D9: =MIN(E9,G9,I9) -> 3500000 | G9: 3500000
A10: - 각종 경보 및 알람 기능 | C10: EA | D10: =MIN(E10,G10,I10) -> 2500000 | G10: 2500000
A11: - 텍스트 감시 및 제어화면 | C11: EA | D11: =MIN(E11,G11,I11) -> 4200000 | G11: 4200000
A12: - 데이타베이스 관리 기능 | C12: EA | D12: =MIN(E12,G12,I12) -> 3900000 | G12: 3900000
A13: - 통합데이터베이스 구축 | C13: EA | D13: =MIN(E13,G13,I13) -> 4900000 | G13: 4900000
A14: - 에너지운영관리 | C14: EA | D14: =MIN(E14,G14,I14) -> 3400000 | G14: 3400000
A15: - 분석 및 보고서 | C15: EA | D15: =MIN(E15,G15,I15) -> 2000000 | G15: 2000000
A16: - 포인트리스트 구성 | C16: EA | D16: =MIN(E16,G16,I16) -> 3900000 | G16: 3900000
A17: - 종합에너지맵구성 | C17: EA | D17: =MIN(E17,G17,I17) -> 4000000 | G17: 4000000
A18: 직접디지털제어기(DDC)
A19: 외함 | B19: 800x1400x250 | C19: SET | D19: =MIN(E19,G19,I19) -> 2000000 | G19: 2000000
A20: SNT-EMS PLATFORM | B20: TI AM3352@1GHz, Licensed for 1 Device | C20: EA | D20: =MIN(E20,G20,I20) -> 4500000 | G20: 4500000
A21: SNT-EMS PLATFORM IOR34 | B21: 34POINTS I/O module | C21: EA | D21: =MIN(E21,G21,I21) -> 1300000 | G21: 1300000
A22: 현장제어기기
A23: =공량산출집계!A33 -> 솔레노이드밸브(물) | B23: =공량산출집계!B33 -> 25A | C23: EA | D23: =MIN(E23,G23,I23) -> 120000 | G23: 120000
A24: 내 자 재
A25: =공량산출집계!A5 -> 나사없는 전선관 | B25: =공량산출집계!B5 -> E19 | C25: m | D25: =MIN(E25,G25,I25) -> 2547 | E25: 2547 | F25: 1234
A26: =공량산출집계!A6 -> 나사없는 전선관 | B26: =공량산출집계!B6 -> E25 | C26: m | D26: =MIN(E26,G26,I26) -> 3354 | E26: 3354 | F26: 1234
A27: =공량산출집계!A7 -> 나사없는 전선관 | B27: =공량산출집계!B7 -> E31 | C27: m | D27: =MIN(E27,G27,I27) -> 4696 | E27: 4696 | F27: 1234
A28: =공량산출집계!A8 -> 나사없는 전선관 | B28: =공량산출집계!B8 -> E39 | C28: m | D28: =MIN(E28,G28,I28) -> 4697 | E28: 4697 | F28: 1234
A29: =공량산출집계!A9 -> 전선 | B29: =공량산출집계!B9 -> HFIX 2.5sq | C29: m | D29: =MIN(E29,G29,I29) -> 649 | E29: 649 | F29: 1193
A30: =공량산출집계!A10 -> 케이블 | B30: =공량산출집계!B10 -> TJV 1.0 x 2C | C30: m | D30: =MIN(E30,G30,I30) -> 346 | E30: 346 | F30: 1204
A31: =공량산출집계!A11 -> 케이블 | B31: =공량산출집계!B11 -> F-CVVS 1.5 x 2C | C31: m | D31: =MIN(E31,G31,I31) -> 1610 | E31: 1610 | F31: 1209
A32: =공량산출집계!A12 -> 케이블 | B32: =공량산출집계!B12 -> UTP Cat.5E 4P | C32: m | D32: =MIN(E32,G32,I32) -> 1100 | E32: 1100 | F32: 1207
A33: 케이블 | B33: =공량산출집계!B13 -> AWG24 x 2P | C33: m | D33: =MIN(E33,G33,I33) -> 1368 | E33: 1368 | F33: 1220
A34: 케이블 | B34: =공량산출집계!B14 -> F-CV 4.0 x 3C | C34: m | D34: =MIN(E34,G34,I34) -> 2551 | E34: 2551 | F34: 1207
A35: =공량산출집계!A15 -> FLEX TUBE(방수형) | B35: =공량산출집계!B15 -> 16C | C35: EA | D35: =MIN(E35,G35,I35) -> 2700 | E35: 2700 | F35: 1233
A36: =공량산출집계!A16 -> FLEX TUBE(방수형) | B36: =공량산출집계!B16 -> 22C | C36: EA | D36: =MIN(E36,G36,I36) -> 3550 | E36: 3550 | F36: 1233
A37: =공량산출집계!A17 -> FLEX. CONNECTOR | B37: =공량산출집계!B17 -> 16C | C37: EA | D37: 2260 | E37: 2260 | F37: 1233
A38: =공량산출집계!A18 -> FLEX. CONNECTOR | B38: =공량산출집계!B18 -> 22C | C38: EA | D38: 2880 | E38: 2880 | F38: 1233
A39: =공량산출집계!A19 -> 노말밴드 | B39: =공량산출집계!B19 -> 28C | C39: EA | D39: =MIN(E39,G39,I39) -> 4031 | E39: 4031 | F39: 1231
A40: =공량산출집계!A20 -> 노말밴드 | B40: =공량산출집계!B20 -> 36C | C40: EA | D40: =MIN(E40,G40,I40) -> 5412 | E40: 5412 | F40: 1231
A41: =공량산출집계!A21 -> 앙카볼트 | B41: =공량산출집계!B21 -> 3/8" | C41: EA | D41: =MIN(E41,G41,I41) -> 166 | E41: 166 | F41: 48
A42: =공량산출집계!A22 -> 행가 | B42: =공량산출집계!B22 -> 3/8" x 1m | C42: EA | D42: 801 | E42: 801 | F42: 43
A43: =공량산출집계!A23 -> 찬넬 | B43: =공량산출집계!B23 -> 1.2m | C43: EA | D43: =MIN(E43,G43,I43) -> 5460 | E43: 5460 | F43: 1231
A44: =공량산출집계!A24 -> JOINT BOX | B44: =공량산출집계!B24 -> 100x100x50 | C44: EA | D44: =MIN(E44,G44,I44) -> 2475 | E44: 2475 | F44: 1235
A45: =공량산출집계!A25 -> PULL BOX | B45: =공량산출집계!B25 -> 150x150x100 | C45: EA | D45: =MIN(E45,G45,I45) -> 3245 | E45: 3245 | F45: 1235
A46: =공량산출집계!A26 -> PULL BOX | B46: =공량산출집계!B26 -> 200x200x100 | C46: EA | D46: =MIN(E46,G46,I46) -> 4378 | E46: 4378 | F46: 1235
A47: =공량산출집계!A27 -> PULL BOX | B47: =공량산출집계!B27 -> 300x300x200 | C47: EA | D47: =MIN(E47,G47,I47) -> 11935 | E47: 11935 | F47: 1235
A48: =공량산출집계!A28 -> 수위지시조절기 | B48: =공량산출집계!B28 -> FLOAT (센서*1) | C48: EA | D48: =MIN(E48,G48,I48) -> 320000 | E48: 320000 | F48: 1084
A49: =공량산출집계!A29 -> 수위지시조절기 | B49: =공량산출집계!B29 -> FLOAT (센서*2) | C49: EA | D49: =MIN(E49,G49,I49) -> 720000 | E49: 720000 | F49: 1084
A50: =공량산출집계!A30 -> 수위조절기 | B50: =공량산출집계!B30 -> QUICK 4P | C50: EA | D50: =MIN(E50,G50,I50) -> 300000 | E50: 300000 | F50: 1084
A51: =공량산출집계!A31 -> 누수감지기 | B51: =공량산출집계!B31 -> LOCAL MADE | C51: EA | D51: =MIN(E51,G51,I51) -> 37000 | G51: 37000
A52: 인 건 비
A53: 노무비 | B53: 내선전공 | C53: 인 | J53: 272860 | K53: 2024년 하반기
A54: 노무비 | B54: 저압케이블전공 | C54: 인 | J54: 301374 | K54: 2024년 하반기
A55: 노무비 | B55: 계장공 | C55: 인 | J55: 310890 | K55: 2024년 하반기
A56: 노무비 | B56: 통신케이블공 | C56: 인 | J56: 423830 | K56: 2024년 하반기
A57: 노무비 | B57: 보통인부 | C57: 인 | J57: 167081 | K57: 2024년 하반기

Sheet 공량산출집계
A1: ='[1]실행갑지(최종)'!A7&'[1]실행갑지(최종)'!C7 -> * 물 품 명 : 대동면행정복지센터 및 온누리센터 자동제어공사
A2: 공 종 | C2: 자동제어 시스템 납품 및 설치
A3: 공 량 산 출 | C3: 총 수량 | D3: 할증 | E3: 적용 | F3: 내선전공 | H3: 저압케이블전공 | J3: 계장공 | L3: 통신관련기사 | N3: 보통인부 | P3: 통신케이블공 | R3: 통신설비공 | T3: 근거
A4: 내 자 재 | F4: 공수율 | G4: 계 | H4: 공수율 | I4: 계 | J4: 공수율 | K4: 계 | L4: 공수율 | M4: 계 | N4: 공수율 | O4: 계 | P4: 공수율 | Q4: 계 | R4: 공수율 | S4: 계
A5: =수량산출집계!A5 -> 나사없는 전선관 | B5: =수량산출집계!B5 -> E19 | C5: =수량산출집계!Q5 -> 237 | D5: 0.1 | E5: =ROUNDUP(C5*D5+C5,0) -> 261 | F5: =0.05*1.2 -> 0.06 | G5: =$C5*F5 -> 14.22 | T5: 전기5-1
A6: =수량산출집계!A6 -> 나사없는 전선관 | B6: =수량산출집계!B6 -> E25 | C6: =수량산출집계!Q6 -> 150 | D6: 0.1 | E6: =ROUNDUP(C6*D6+C6,0) -> 165 | F6: =0.06*1.2 -> 0.072 | G6: =$C6*F6 -> 10.8 | T6: 전기5-1
A7: =수량산출집계!A7 -> 나사없는 전선관 | B7: =수량산출집계!B7 -> E31 | C7: =수량산출집계!Q7 -> 145 | D7: 0.1 | E7: =ROUNDUP(C7*D7+C7,0) -> 160 | F7: =0.08*1.2 -> 0.096 | G7: =$C7*F7 -> 13.92 | T7: 전기5-1
A8: =수량산출집계!A8 -> 나사없는 전선관 | B8: =수량산출집계!B8 -> E39 | C8: =수량산출집계!Q8 -> 22 | D8: 0.1 | E8: =ROUNDUP(C8*D8+C8,0) -> 25 | F8: =0.1*1.2 -> 0.12 | G8: =$C8*F8 -> 2.64 | T8: 전기5-1
A9: =수량산출집계!A12 -> 전선 | B9: =수량산출집계!B12 -> HFIX 2.5sq | C9: =수량산출집계!Q12 -> 192 | D9: 0.1 | E9: =ROUNDUP(C9*D9+C9,0) -> 212 | F9: 0.01 | G9: =$C9*F9 -> 1.92 | T9: 전기5-10
A10: =수량산출집계!A13 -> 케이블 | B10: =수량산출집계!B13 -> TJV 1.0 x 2C | C10: =수량산출집계!Q13 -> 150 | D10: 0.05 | E10: =ROUNDUP(C10*D10+C10,0) -> 158 | H10: 0.014 | I10: =$C10*H10 -> 2.1 | T10: 전기5-13
A11: 케이블 | B11: =수량산출집계!B15 -> F-CVVS 1.5 x 2C | C11: =수량산출집계!Q15 -> 227 | D11: 0.05 | E11: =ROUNDUP(C11*D11+C11,0) -> 239 | H11: 0.0168 | I11: =$C11*H11 -> 3.8136 | T11: 전기5-13
A12: 케이블 | B12: =수량산출집계!B17 -> UTP Cat.5E 4P | C12: =수량산출집계!Q17 -> 111 | D12: 0.05 | E12: =ROUNDUP(C12*D12+C12,0) -> 117 | I12: =$C12*H12 -> 0 | P12: 0.018 | Q12: =$C12*P12 -> 1.998 | T12: 정보통신 4-3-1
A13: 케이블 | B13: =수량산출집계!B18 -> AWG24 x 2P | C13: =수량산출집계!Q18 -> 105 | D13: 0.05 | E13: =ROUNDUP(C13*D13+C13,0) -> 111 | P13: 0.0234 | Q13: =$C13*P13 -> 2.457 | T13: 정보통신 4-3-1
A14: 케이블 | B14: =수량산출집계!B20 -> F-CV 4.0 x 3C | C14: =수량산출집계!Q20 -> 111 | D14: 0.05 | E14: =ROUNDUP(C14*D14+C14,0) -> 117 | H14: 0.022 | I14: =$C14*H14 -> 2.442 | T14: 전기5-13
A15: =수량산출집계!A22 -> FLEX TUBE(방수형) | B15: =수량산출집계!B22 -> 16C | C15: =수량산출집계!Q22 -> 3 | D15: 0.1 | E15: =ROUNDUP(C15*D15+C15,0) -> 4 | F15: 0.04 | G15: =$C15*F15 -> 0.12 | T15: 전기5-1
A16: =수량산출집계!A23 -> FLEX TUBE(방수형) | B16: =수량산출집계!B23 -> 22C | C16: =수량산출집계!Q23 -> 5 | D16: 0.1 | E16: =ROUNDUP(C16*D16+C16,0) -> 6 | F16: 0.048 | G16: =$C16*F16 -> 0.24 | T16: 전기5-1
A17: =수량산출집계!A24 -> FLEX. CONNECTOR | B17: =수량산출집계!B24 -> 16C | C17: =수량산출집계!Q24 -> 6 | D17: 0 | E17: =ROUNDUP(C17*D17+C17,0) -> 6
A18: =수량산출집계!A25 -> FLEX. CONNECTOR | B18: =수량산출집계!B25 -> 22C | C18: =수량산출집계!Q25 -> 10 | D18: 0 | E18: =ROUNDUP(C18*D18+C18,0) -> 10
A19: =수량산출집계!A26 -> 노말밴드 | B19: =수량산출집계!B26 -> 28C | C19: =수량산출집계!Q26 -> 2 | D19: 0 | E19: =ROUNDUP(C19*D19+C19,0) -> 2
A20: =수량산출집계!A27 -> 노말밴드 | B20: =수량산출집계!B27 -> 36C | C20: =수량산출집계!Q27 -> 2 | D20: 0 | E20: =ROUNDUP(C20*D20+C20,0) -> 2
A21: =수량산출집계!A28 -> 앙카볼트 | B21: =수량산출집계!B28 -> 3/8" | C21: =수량산출집계!Q28 -> 40 | D21: 0 | E21: =ROUNDUP(C21*D21+C21,0) -> 40 | G21: =$C21*F21 -> 0
A22: =수량산출집계!A29 -> 행가 | B22: =수량산출집계!B29 -> 3/8" x 1m | C22: =수량산출집계!Q29 -> 40 | D22: 0 | E22: =ROUNDUP(C22*D22+C22,0) -> 40
A23: =수량산출집계!A30 -> 찬넬 | B23: =수량산출집계!B30 -> 1.2m | C23: =수량산출집계!Q30 -> 29 | D23: 0 | E23: =ROUNDUP(C23*D23+C23,0) -> 29
A24: =수량산출집계!A31 -> JOINT BOX | B24: =수량산출집계!B31 -> 100x100x50 | C24: =수량산출집계!Q31 -> 16 | D24: 0 | E24: =ROUNDUP(C24*D24+C24,0) -> 16 | F24: 0.24 | G24: =$C24*F24 -> 3.84 | T24: 전기5-3
A25: =수량산출집계!A32 -> PULL BOX | B25: =수량산출집계!B32 -> 150x150x100 | C25: =수량산출집계!Q32 -> 12 | D25: 0 | E25: =ROUNDUP(C25*D25+C25,0) -> 12 | F25: 0.264 | G25: =$C25*F25 -> 3.168 | T25: 전기5-4
A26: =수량산출집계!A33 -> PULL BOX | B26: =수량산출집계!B33 -> 200x200x100 | C26: =수량산출집계!Q33 -> 2 | D26: 0 | E26: =ROUNDUP(C26*D26+C26,0) -> 2 | F26: 0.264 | G26: =$C26*F26 -> 0.528 | T26: 전기5-4
A27: =수량산출집계!A34 -> PULL BOX | B27: =수량산출집계!B34 -> 300x300x200 | C27: =수량산출집계!Q34 -> 2 | D27: 0 | E27: =ROUNDUP(C27*D27+C27,0) -> 2 | F27: 0.42 | G27: =$C27*F27 -> 0.84 | T27: 전기5-4
A28: =수량산출집계!A37 -> 수위지시조절기 | B28: =수량산출집계!B37 -> FLOAT (센서*1) | C28: =수량산출집계!Q37 -> 3 | D28: 0 | E28: =ROUNDUP(C28*D28+C28,0) -> 3 | J28: 1.9 | K28: =$C28*J28 -> 5.7 | T28: 기계12-2-1
A29: =수량산출집계!A38 -> 수위지시조절기 | B29: =수량산출집계!B38 -> FLOAT (센서*2) | C29: =수량산출집계!Q38 -> 1 | D29: 0 | E29: =ROUNDUP(C29*D29+C29,0) -> 1 | J29: 1.9 | K29: =$C29*J29 -> 1.9 | T29: 기계12-2-1
A30: =수량산출집계!A40 -> 수위조절기 | B30: =수량산출집계!B40 -> QUICK 4P | C30: =수량산출집계!Q40 -> 1 | D30: 0 | E30: =ROUNDUP(C30*D30+C30,0) -> 1 | J30: 1.9 | K30: =$C30*J30 -> 1.9 | T30: 기계12-2-1
A31: 누수감지기 | B31: LOCAL MADE | C31: 1 | D31: 0 | E31: =ROUNDUP(C31*D31+C31,0) -> 1 | J31: 0.22 | K31: =$C31*J31 -> 0.22 | O31: =$E31*N31 -> 0 | Q31: =$E31*P31 -> 0 | S31: =$E31*R31 -> 0
A32: 직접디지털제어기 | B32: 외함설치 | C32: 1 | D32: 0 | E32: =ROUNDUP(C32*D32+C32,0) -> 1 | J32: 4.2 | K32: =$C32*J32 -> 4.2 | M32: 0 | N32: 2.8 | O32: =$C32*N32 -> 2.8 | T32: 기계12-1-1
A33: 솔레노이드밸브(물) | B33: 25A | C33: 1 | D33: 0 | E33: =ROUNDUP(C33*D33+C33,0) -> 1 | J33: 0.22 | K33: =$C33*J33 -> 0.22 | T33: 기계12-2-1
A34: 초음파유량계 | B34: 통신타입 | C34: 3 | D34: 0 | E34: =ROUNDUP(C34*D34+C34,0) -> 3 | J34: 0.22 | K34: =$C34*J34 -> 0.66 | T34: 기계12-2-1
A35: 합 계 | F35: =ROUNDUP(SUM(G5:G34),0) -> 53 | H35: =ROUNDUP(SUM(I5:I34),0) -> 9 | J35: =ROUNDUP(SUM(K5:K34),0) -> 15 | L35: =ROUNDUP(SUM(M5:M34),0) -> 0 | N35: =ROUNDUP(SUM(O5:O34),0) -> 3 | P35: =ROUNDUP(SUM(Q5:Q34),0) -> 5 | R35: =ROUNDUP(SUM(S5:S34),0) -> 0

Sheet 수량산출집계
A1: * 물 품 명 : 대동면행정복지센터 및 온누리센터 자동제어공사
A2: 공 종 | C2: 자동제어 시스템 납품 및 설치
A3: 도 면 번 호 | C3: 4 | D3: 7 | E3: 8 | Q3: 총 수량
A4: 도 면 명 | C4: 지상1층 기계실, 지하1층, 지상1층 | D4: 지상2층, 지상3층 | E4: 추가분
A5: =[1]수량산출!A5 -> 나사없는 전선관 | B5: =[1]수량산출!B5 -> E19 | C5: =수량산출!W5 -> 142 | D5: =수량산출!W48 -> 88 | E5: =수량산출!W91 -> 7 | Q5: =SUM(C5:P5) -> 237
A6: =[1]수량산출!A6 -> 나사없는 전선관 | B6: =[1]수량산출!B6 -> E25 | C6: =수량산출!W6 -> 106 | D6: =수량산출!W49 -> 44 | E6: =수량산출!W92 -> 0 | Q6: =SUM(C6:P6) -> 150
A7: =[1]수량산출!A7 -> 나사없는 전선관 | B7: =[1]수량산출!B7 -> E31 | C7: =수량산출!W7 -> 101 | D7: =수량산출!W50 -> 44 | E7: =수량산출!W93 -> 0 | Q7: =SUM(C7:P7) -> 145
A8: =[1]수량산출!A8 -> 나사없는 전선관 | B8: =[1]수량산출!B8 -> E39 | C8: =수량산출!W8 -> 22 | D8: =수량산출!W51 -> 0 | E8: =수량산출!W94 -> 0 | Q8: =SUM(C8:P8) -> 22
A9: =[1]수량산출!A9 -> CD관 | B9: =[1]수량산출!B9 -> 16C | C9: =수량산출!W9 -> 0 | D9: =수량산출!W52 -> 0 | E9: =수량산출!W95 -> 0 | Q9: =SUM(C9:P9) -> 0
A10: =[1]수량산출!A10 -> 지중전선관(ELP) | B10: =[1]수량산출!B10 -> ELP 30 | C10: =수량산출!W10 -> 0 | D10: =수량산출!W53 -> 0 | E10: =수량산출!W96 -> 0 | Q10: =SUM(C10:P10) -> 0
A11: =[1]수량산출!A11 -> 지중전선관(ELP) | B11: =[1]수량산출!B11 -> ELP 50 | C11: =수량산출!W11 -> 0 | D11: =수량산출!W54 -> 0 | E11: =수량산출!W97 -> 0 | Q11: =SUM(C11:P11) -> 0
A12: =[1]수량산출!A12 -> 전선 | B12: =[1]수량산출!B12 -> HFIX 2.5sq | C12: =수량산출!W12 -> 192 | D12: =수량산출!W55 -> 0 | E12: =수량산출!W98 -> 0 | Q12: =SUM(C12:P12) -> 192
A13: =[1]수량산출!A13 -> 케이블 | B13: =[1]수량산출!B13 -> TJV 1.0 x 2C | C13: =수량산출!W13 -> 150 | D13: =수량산출!W56 -> 0 | E13: =수량산출!W99 -> 0 | Q13: =SUM(C13:P13) -> 150
A14: =[1]수량산출!A14 -> 케이블 | B14: =[1]수량산출!B14 -> TJV 1.0 x 3C | C14: =수량산출!W14 -> 0 | D14: =수량산출!W57 -> 0 | E14: =수량산출!W100 -> 0 | Q14: =SUM(C14:P14) -> 0
A15: =[1]수량산출!A15 -> 케이블 | B15: =[1]수량산출!B15 -> F-CVVS 1.5 x 2C | C15: =수량산출!W15 -> 183 | D15: =수량산출!W58 -> 44 | E15: =수량산출!W101 -> 0 | Q15: =SUM(C15:P15) -> 227
A16: =[1]수량산출!A16 -> 케이블 | B16: =[1]수량산출!B16 -> F-CVVS 1.5 x 3C | C16: =수량산출!W16 -> 0 | D16: =수량산출!W59 -> 0 | E16: =수량산출!W102 -> 0 | Q16: =SUM(C16:P16) -> 0
... A43: =[1]수량산출!A43 -> 현장제어반 | B43: =[1]수량산출!B43 -> 300x400X250 | C43: =수량산출!W43 -> 0 | D43: =수량산출!W86 -> 0 | E43: =수량산출!W129 -> 0 | Q43: =SUM(C43:P43) -> 0
A44: =[1]수량산출!A44 -> 현장제어반 | B44: =[1]수량산출!B44 -> 500x600X250 | C44: =[1]수량산출!W44 -> 0 | D44: =[1]수량산출!W87 -> 0 | E44: =[1]수량산출!W130 -> 0 | Q44: =SUM(C44:P44) -> 0

Sheet 수량산출
A1: * 물 품 명 : 대동면행정복지센터 및 온누리센터 자동제어공사
A2: 도면번호 | B2: ='[1]수량산출(1-1)_작업용'!B2 -> 4 | C2: 지상1층 기계실, 지하1층, 지상1층
A3: Cable Schedule | C3: 1 | D3: 2 | E3: 3 | F3: 4 | G3: 5 | H3: 6 | I3: 7 | J3: LIC | K3: LC | L3: LW | M3: WV | N3: BPP | P3: 1 | R3: 1 | S3: 2 | T3: 3 | U3: 4 | V3: 5 | W3: 총 수량
A4: 길이(m) | C4: 6 | D4: 6 | E4: 3 | F4: 2 | G4: 4 | H4: 2 | I4: 8 | J4: 22 | K4: 8 | L4: 5 | M4: 5 | N4: 6 | P4: 14 | R4: 26 | S4: 25 | T4: 20 | U4: 2 | V4: 3 | AA4: =C3 -> 1 | AB4: =D3 -> 2 | AC4: =E3 -> 3 | AD4: =F3 -> 4 | AE4: =G3 -> 5 | AF4: =H3 -> 6 | AG4: =I3 -> 7 | AH4: =J3 -> LIC | ... AT4: =V3 -> 5
A5: ='[1]수량산출(1-1)_작업용'!A5 -> 나사없는 전선관 | B5: ='[1]수량산출(1-1)_작업용'!B5 -> E19 | C5: ='[1]수량산출(1-1)_작업용'!C5 -> 1 | D5: ='[1]수량산출(1-1)_작업용'!D5 -> 0 | E5: ='[1]수량산출(1-1)_작업용'!E5 -> 1 | F5: ='[1]수량산출(1-1)_작업용'!F5 -> 1 | G5: ='[1]수량산출(1-1)_작업용'!G5 -> 1 | H5: ='[1]수량산출(1-1)_작업용'!H5 -> 1 | ... V5: ='[1]수량산출(1-1)_작업용'!V5 -> 1 | W5: =$C$4*C5+$D$4*D5+$E$4*E5+$F$4*F5+$G$4*G5+$H$4*H5+$I$4*I5+$J$4*J5+$K$4*K5+$L$4*L5+$M$4*M5+$N$4*N5+$O$4*O5+$P$4*P5+$Q$4*Q5+$R$4*R5+$S$4*S5+$T$4*T5+$U$4*U5+$V$4*V5 -> 142 | X5: 케이블 스케쥴 기준 | Z5: 16 | AA5: =$Z$5*C5 -> 16 | AB5: =$Z$5*D5 -> 0 | AC5: =$Z$5*E5 -> 16 | AD5: =$Z$5*F5 -> 16 | AE5: =$Z$5*G5 -> 16 | AF5: =$Z$5*H5 -> 16 | AG5: =$Z$5*I5 -> 16 | AH5: =$Z$5*J5 -> 0 | ... AT5: =$Z$5*V5 -> 16
A6: ='[1]수량산출(1-1)_작업용'!A6 -> 나사없는 전선관 | B6: ='[1]수량산출(1-1)_작업용'!B6 -> E25 | C6: ='[1]수량산출(1-1)_작업용'!C6 -> 0 | D6: ='[1]수량산출(1-1)_작업용'!D6 -> 1 | E6: ='[1]수량산출(1-1)_작업용'!E6 -> 1 | F6: ='[1]수량산출(1-1)_작업용'!F6 -> 0 | G6: ='[1]수량산출(1-1)_작업용'!G6 -> 0 | H6: ='[1]수량산출(1-1)_작업용'!H6 -> 1 | ... V6: ='[1]수량산출(1-1)_작업용'!V6 -> 0 | W6: =$C$4*C6+$D$4*D6+$E$4*E6+$F$4*F6+$G$4*G6+$H$4*H6+$I$4*I6+$J$4*J6+$K$4*K6+$L$4*L6+$M$4*M6+$N$4*N6+$O$4*O6+$P$4*P6+$Q$4*Q6+$R$4*R6+$S$4*S6+$T$4*T6+$U$4*U6+$V$4*V6 -> 106 | Z6: 22 | AA6: =$Z$6*C6 -> 0 | AB6: =$Z$6*D6 -> 22 | AC6: =$Z$6*E6 -> 22 | AD6: =$Z$6*F6 -> 0 | AE6: =$Z$6*G6 -> 0 | AF6: =$Z$6*H6 -> 22 | AG6: =$Z$6*I6 -> 22 | AH6: =$Z$6*J6 -> 22 | ... AT6: =$Z$6*V6 -> 0
A7: ='[1]수량산출(1-1)_작업용'!A7 -> 나사없는 전선관 | B7: ='[1]수량산출(1-1)_작업용'!B7 -> E31 | C7: ='[1]수량산출(1-1)_작업용'!C7 -> 2 | D7: ='[1]수량산출(1-1)_작업용'!D7 -> 1 | E7: ='[1]수량산출(1-1)_작업용'!E7 -> 3 | F7: ='[1]수량산출(1-1)_작업용'!F7 -> 1 | G7: ='[1]수량산출(1-1)_작업용'!G7 -> 0 | H7: ='[1]수량산출(1-1)_작업용'!H7 -> 3 | ... V7: ='[1]수량산출(1-1)_작업용'!V7 -> 0 | W7: =$C$4*C7+$D$4*D7+$E$4*E7+$F$4*F7+$G$4*G7+$H$4*H7+$I$4*I7+$J$4*J7+$K$4*K7+$L$4*L7+$M$4*M7+$N$4*N7+$O$4*O7+$P$4*P7+$Q$4*Q7+$R$4*R7+$S$4*S7+$T$4*T7+$U$4*U7+$V$4*V7 -> 101 | Z7: 28 | AA7: =$Z$7*C7 -> 56 | AB7: =$Z$7*D7 -> 28 | AC7: =$Z$7*E7 -> 84 | AD7: =$Z$7*F7 -> 28 | AE7: =$Z$7*G7 -> 0 | AF7: =$Z$7*H7 -> 84 | AG7: =$Z$7*I7 -> 56 | AH7: =$Z$7*J7 -> 0 | ... AT7: =$Z$7*V7 -> 0
A8: ='[1]수량산출(1-1)_작업용'!A8 -> 나사없는 전선관 | B8: ='[1]수량산출(1-1)_작업용'!B8 -> E39 | C8: ='[1]수량산출(1-1)_작업용'!C8 -> 0 | D8: ='[1]수량산출(1-1)_작업용'!D8 -> 0 | E8: ='[1]수량산출(1-1)_작업용'!E8 -> 0 | F8: ='[1]수량산출(1-1)_작업용'!F8 -> 0 | G8: ='[1]수량산출(1-1)_작업용'!G8 -> 1 | H8: ='[1]수량산출(1-1)_작업용'!H8 -> 1 | ... V8: ='[1]수량산출(1-1)_작업용'!V8 -> 0 | W8: =$C$4*C8+$D$4*D8+$E$4*E8+$F$4*F8+$G$4*G8+$H$4*H8+$I$4*I8+$J$4*J8+$K$4*K8+$L$4*L8+$M$4*M8+$N$4*N8+$O$4*O8+$P$4*P8+$Q$4*Q8+$R$4*R8+$S$4*S8+$T$4*T8+$U$4*U8+$V$4*V8 -> 22 | Z8: 32 | AA8: =$Z$8*C8 -> 0 | AB8: =$Z$8*D8 -> 0 | AC8: =$Z$8*E8 -> 0 | AD8: =$Z$8*F8 -> 0 | AE8: =$Z$8*G8 -> 32 | AF8: =$Z$8*H8 -> 32 | AG8: =$Z$8*I8 -> 64 | AH8: =$Z$8*J8 -> 0 | ... AT8: =$Z$8*V8 -> 0
A9: ='[1]수량산출(1-1)_작업용'!A9 -> CD관 | B9: ='[1]수량산출(1-1)_작업용'!B9 -> 16C | C9: ='[1]수량산출(1-1)_작업용'!C9 -> 0 | D9: ='[1]수량산출(1-1)_작업용'!D9 -> 0 | E9: ='[1]수량산출(1-1)_작업용'!E9 -> 0 | F9: ='[1]수량산출(1-1)_작업용'!F9 -> 0 | G9: ='[1]수량산출(1-1)_작업용'!G9 -> 0 | H9: ='[1]수량산출(1-1)_작업용'!H9 -> 0 | ... V9: ='[1]수량산출(1-1)_작업용'!V9 -> 0 | W9: =$C$4*C9+$D$4*D9+$E$4*E9+$F$4*F9+$G$4*G9+$H$4*H9+$I$4*I9+$J$4*J9+$K$4*K9+$L$4*L9+$M$4*M9+$N$4*N9+$O$4*O9+$P$4*P9+$Q$4*Q9+$R$4*R9+$S$4*S9+$T$4*T9+$U$4*U9+$V$4*V9 -> 0
A10: ='[1]수량산출(1-1)_작업용'!A10 -> 지중전선관(ELP) | B10: ='[1]수량산출(1-1)_작업용'!B10 -> ELP 30 | C10: ='[1]수량산출(1-1)_작업용'!C10 -> 0 | D10: ='[1]수량산출(1-1)_작업용'!D10 -> 0 | E10: ='[1]수량산출(1-1)_작업용'!E10 -> 0 | F10: ='[1]수량산출(1-1)_작업용'!F10 -> 0 | G10: ='[1]수량산출(1-1)_작업용'!G10 -> 0 | H10: ='[1]수량산출(1-1)_작업용'!H10 -> 0 | ... V10: ='[1]수량산출(1-1)_작업용'!V10 -> 0 | W10: =$C$4*C10+$D$4*D10+$E$4*E10+$F$4*F10+$G$4*G10+$H$4*H10+$I$4*I10+$J$4*J10+$K$4*K10+$L$4*L10+$M$4*M10+$N$4*N10+$O$4*O10+$P$4*P10+$Q$4*Q10+$R$4*R10+$S$4*S10+$T$4*T10+$U$4*U10+$V$4*V10 -> 0
A11: ='[1]수량산출(1-1)_작업용'!A11 -> 지중전선관(ELP) | B11: ='[1]수량산출(1-1)_작업용'!B11 -> ELP 50 | C11: ='[1]수량산출(1-1)_작업용'!C11 -> 0 | D11: ='[1]수량산출(1-1)_작업용'!D11 -> 0 | E11: ='[1]수량산출(1-1)_작업용'!E11 -> 0 | F11: ='[1]수량산출(1-1)_작업용'!F11 -> 0 | G11: ='[1]수량산출(1-1)_작업용'!G11 -> 0 | H11: ='[1]수량산출(1-1)_작업용'!H11 -> 0 | ... V11: ='[1]수량산출(1-1)_작업용'!V11 -> 0 | W11: =$C$4*C11+$D$4*D11+$E$4*E11+$F$4*F11+$G$4*G11+$H$4*H11+$I$4*I11+$J$4*J11+$K$4*K11+$L$4*L11+$M$4*M11+$N$4*N11+$O$4*O11+$P$4*P11+$Q$4*Q11+$R$4*R11+$S$4*S11+$T$4*T11+$U$4*U11+$V$4*V11 -> 0
A12: ='[1]수량산출(1-1)_작업용'!A12 -> 전선 | B12: ='[1]수량산출(1-1)_작업용'!B12 -> HFIX 2.5sq | C12: ='[1]수량산출(1-1)_작업용'!C12 -> 0 | D12: ='[1]수량산출(1-1)_작업용'!D12 -> 6 | E12: ='[1]수량산출(1-1)_작업용'!E12 -> 6 | F12: ='[1]수량산출(1-1)_작업용'!F12 -> 2 | G12: ='[1]수량산출(1-1)_작업용'!G12 -> 2 | H12: ='[1]수량산출(1-1)_작업용'!H12 -> 10 | ... V12: ='[1]수량산출(1-1)_작업용'!V12 -> 0 | W12: =$C$4*C12+$D$4*D12+$E$4*E12+$F$4*F12+$G$4*G12+$H$4*H12+$I$4*I12+$J$4*J12+$K$4*K12+$L$4*L12+$M$4*M12+$N$4*N12+$O$4*O12+$P$4*P12+$Q$4*Q12+$R$4*R12+$S$4*S12+$T$4*T12+$U$4*U12+$V$4*V12 -> 192 | AA12: =((SUM(C5:C8)-1)*15) -> 30 | AB12: =((SUM(D5:D8)-1)*15) -> 15 | AC12: =((SUM(E5:E8)-1)*15) -> 60 | AD12: =((SUM(F5:F8)-1)*15) -> 15 | AE12: =((SUM(G5:G8)-1)*15) -> 15 | AF12: =((SUM(H5:H8)-1)*15) -> 75 | AG12: =((SUM(I5:I8)-1)*15) -> 75 | AH12: =((SUM(J5:J8)-1)*15) -> 0 | ... AT12: =((SUM(V5:V8)-1)*15) -> 0
A13: ='[1]수량산출(1-1)_작업용'!A13 -> 케이블 | B13: ='[1]수량산출(1-1)_작업용'!B13 -> TJV 1.0 x 2C | C13: ='[1]수량산출(1-1)_작업용'!C13 -> 0 | D13: ='[1]수량산출(1-1)_작업용'!D13 -> 5 | E13: ='[1]수량산출(1-1)_작업용'!E13 -> 5 | F13: ='[1]수량산출(1-1)_작업용'!F13 -> 0 | G13: ='[1]수량산출(1-1)_작업용'!G13 -> 0 | H13: ='[1]수량산출(1-1)_작업용'!H13 -> 5 | ... V13: ='[1]수량산출(1-1)_작업용'!V13 -> 0 | W13: =$C$4*C13+$D$4*D13+$E$4*E13+$F$4*F13+$G$4*G13+$H$4*H13+$I$4*I13+$J$4*J13+$K$4*K13+$L$4*L13+$M$4*M13+$N$4*N13+$O$4*O13+$P$4*P13+$Q$4*Q13+$R$4*R13+$S$4*S13+$T$4*T13+$U$4*U13+$V$4*V13 -> 150 | Z13: 풀박스 | AA13: =SUM(AA5:AA12) -> 102 | AB13: =SUM(AB5:AB12) -> 65 | AC13: =SUM(AC5:AC12) -> 182 | AD13: =SUM(AD5:AD12) -> 59 | AE13: =SUM(AE5:AE12) -> 63 | AF13: =SUM(AF5:AF12) -> 229 | AG13: =SUM(AG5:AG12) -> 233 | AH13: =SUM(AH5:AH12) -> 22 | ... AT13: =SUM(AT5:AT12) -> 16
A14: ='[1]수량산출(1-1)_작업용'!A14 -> 케이블 | B14: ='[1]수량산출(1-1)_작업용'!B14 -> TJV 1.0 x 3C | C14: ='[1]수량산출(1-1)_작업용'!C14 -> 0 | D14: ='[1]수량산출(1-1)_작업용'!D14 -> 0 | E14: ='[1]수량산출(1-1)_작업용'!E14 -> 0 | F14: ='[1]수량산출(1-1)_작업용'!F14 -> 0 | G14: ='[1]수량산출(1-1)_작업용'!G14 -> 0 | H14: ='[1]수량산출(1-1)_작업용'!H14 -> 0 | ... V14: ='[1]수량산출(1-1)_작업용'!V14 -> 0 | W14: =$C$4*C14+$D$4*D14+$E$4*E14+$F$4*F14+$G$4*G14+$H$4*H14+$I$4*I14+$J$4*J14+$K$4*K14+$L$4*L14+$M$4*M14+$N$4*N14+$O$4*O14+$P$4*P14+$Q$4*Q14+$R$4*R14+$S$4*S14+$T$4*T14+$U$4*U14+$V$4*V14 -> 0
A15: ='[1]수량산출(1-1)_작업용'!A15 -> 케이블 | B15: ='[1]수량산출(1-1)_작업용'!B15 -> F-CVVS 1.5 x 2C | C15: ='[1]수량산출(1-1)_작업용'!C15 -> 2 | D15: ='[1]수량산출(1-1)_작업용'!D15 -> 0 | E15: ='[1]수량산출(1-1)_작업용'!E15 -> 2 | F15: ='[1]수량산출(1-1)_작업용'!F15 -> 2 | G15: ='[1]수량산출(1-1)_작업용'!G15 -> 3 | H15: ='[1]수량산출(1-1)_작업용'!H15 -> 5 | ... V15: ='[1]수량산출(1-1)_작업용'!V15 -> 0 | W15: =$C$4*C15+$D$4*D15+$E$4*E15+$F$4*F15+$G$4*G15+$H$4*H15+$I$4*I15+$J$4*J15+$K$4*K15+$L$4*L15+$M$4*M15+$N$4*N15+$O$4*O15+$P$4*P15+$Q$4*Q15+$R$4*R15+$S$4*S15+$T$4*T15+$U$4*U15+$V$4*V15 -> 183
A16: ='[1]수량산출(1-1)_작업용'!A16 -> 케이블 | B16: ='[1]수량산출(1-1)_작업용'!B16 -> F-CVVS 1.5 x 3C | C16: ='[1]수량산출(1-1)_작업용'!C16 -> 0 | D16: ='[1]수량산출(1-1)_작업용'!D16 -> 0 | E16: ='[1]수량산출(1-1)_작업용'!E16 -> 0 | F16: ='[1]수량산출(1-1)_작업용'!F16 -> 0 | G16: ='[1]수량산출(1-1)_작업용'!G16 -> 0 | H16: ='[1]수량산출(1-1)_작업용'!H16 -> 0 | ... V16: ='[1]수량산출(1-1)_작업용'!V16 -> 0 | W16: =$C$4*C16+$D$4*D16+$E$4*E16+$F$4*F16+$G$4*G16+$H$4*H16+$I$4*I16+$J$4*J16+$K$4*K16+$L$4*L16+$M$4*M16+$N$4*N16+$O$4*O16+$P$4*P16+$Q$4*Q16+$R$4*R16+$S$4*S16+$T$4*T16+$U$4*U16+$V$4*V16 -> 0
A17: ='[1]수량산출(1-1)_작업용'!A17 -> 케이블 | B17: ='[1]수량산출(1-1)_작업용'!B17 -> UTP Cat.5E 4P | C17: ='[1]수량산출(1-1)_작업용'!C17 -> 1 | D17: ='[1]수량산출(1-1)_작업용'!D17 -> 0 | E17: ='[1]수량산출(1-1)_작업용'!E17 -> 1 | F17: ='[1]수량산출(1-1)_작업용'!F17 -> 0 | G17: ='[1]수량산출(1-1)_작업용'!G17 -> 0 | H17: ='[1]수량산출(1-1)_작업용'!H17 -> 1 | ... V17: ='[1]수량산출(1-1)_작업용'!V17 -> 0 | W17: =$C$4*C17+$D$4*D17+$E$4*E17+$F$4*F17+$G$4*G17+$H$4*H17+$I$4*I17+$J$4*J17+$K$4*K17+$L$4*L17+$M$4*M17+$N$4*N17+$O$4*O17+$P$4*P17+$Q$4*Q17+$R$4*R17+$S$4*S17+$T$4*T17+$U$4*U17+$V$4*V17 -> 67
A18: ='[1]수량산출(1-1)_작업용'!A18 -> 케이블 | B18: ='[1]수량산출(1-1)_작업용'!B18 -> AWG24 x 2P | C18: ='[1]수량산출(1-1)_작업용'!C18 -> 0 | D18: ='[1]수량산출(1-1)_작업용'!D18 -> 0 | E18: ='[1]수량산출(1-1)_작업용'!E18 -> 0 | F18: ='[1]수량산출(1-1)_작업용'!F18 -> 0 | G18: ='[1]수량산출(1-1)_작업용'!G18 -> 0 | H18: ='[1]수량산출(1-1)_작업용'!H18 -> 0 | ... V18: ='[1]수량산출(1-1)_작업용'!V18 -> 2 | W18: =$C$4*C18+$D$4*D18+$E$4*E18+$F$4*F18+$G$4*G18+$H$4*H18+$I$4*I18+$J$4*J18+$K$4*K18+$L$4*L18+$M$4*M18+$N$4*N18+$O$4*O18+$P$4*P18+$Q$4*Q18+$R$4*R18+$S$4*S18+$T$4*T18+$U$4*U18+$V$4*V18 -> 54
A19: ='[1]수량산출(1-1)_작업용'!A19 -> 케이블 | B19: ='[1]수량산출(1-1)_작업용'!B19 -> MVVS 0.9 x 2C | C19: ='[1]수량산출(1-1)_작업용'!C19 -> 0 | D19: ='[1]수량산출(1-1)_작업용'!D19 -> 0 | E19: ='[1]수량산출(1-1)_작업용'!E19 -> 0 | F19: ='[1]수량산출(1-1)_작업용'!F19 -> 0 | G19: ='[1]수량산출(1-1)_작업용'!G19 -> 0 | H19: ='[1]수량산출(1-1)_작업용'!H19 -> 0 | ... V19: ='[1]수량산출(1-1)_작업용'!V19 -> 0 | W19: =$C$4*C19+$D$4*D19+$E$4*E19+$F$4*F19+$G$4*G19+$H$4*H19+$I$4*I19+$J$4*J19+$K$4*K19+$L$4*L19+$M$4*M19+$N$4*N19+$O$4*O19+$P$4*P19+$Q$4*Q19+$R$4*R19+$S$4*S19+$T$4*T19+$U$4*U19+$V$4*V19 -> 0
A20: ='[1]수량산출(1-1)_작업용'!A20 -> 케이블 | B20: ='[1]수량산출(1-1)_작업용'!B20 -> F-CV 4.0 x 3C | C20: ='[1]수량산출(1-1)_작업용'!C20 -> 1 | D20: ='[1]수량산출(1-1)_작업용'!D20 -> 0 | E20: ='[1]수량산출(1-1)_작업용'!E20 -> 1 | F20: ='[1]수량산출(1-1)_작업용'!F20 -> 0 | G20: ='[1]수량산출(1-1)_작업용'!G20 -> 0 | H20: ='[1]수량산출(1-1)_작업용'!H20 -> 1 | ... V20: ='[1]수량산출(1-1)_작업용'!V20 -> 0 | W20: =$C$4*C20+$D$4*D20+$E$4*E20+$F$4*F20+$G$4*G20+$H$4*H20+$I$4*I20+$J$4*J20+$K$4*K20+$L$4*L20+$M$4*M20+$N$4*N20+$O$4*O20+$P$4*P20+$Q$4*Q20+$R$4*R20+$S$4*S20+$T$4*T20+$U$4*U20+$V$4*V20 -> 67
A21: ='[1]수량산출(1-1)_작업용'!A21 -> 케이블 | B21: ='[1]수량산출(1-1)_작업용'!B21 -> F-CV 6.0 x 3C | C21: ='[1]수량산출(1-1)_작업용'!C21 -> 0 | D21: ='[1]수량산출(1-1)_작업용'!D21 -> 0 | E21: ='[1]수량산출(1-1)_작업용'!E21 -> 0 | F21: ='[1]수량산출(1-1)_작업용'!F21 -> 0 | G21: ='[1]수량산출(1-1)_작업용'!G21 -> 0 | H21: ='[1]수량산출(1-1)_작업용'!H21 -> 0 | ... V21: ='[1]수량산출(1-1)_작업용'!V21 -> 0 | W21: =$C$4*C21+$D$4*D21+$E$4*E21+$F$4*F21+$G$4*G21+$H$4*H21+$I$4*I21+$J$4*J21+$K$4*K21+$L$4*L21+$M$4*M21+$N$4*N21+$O$4*O21+$P$4*P21+$Q$4*Q21+$R$4*R21+$S$4*S21+$T$4*T21+$U$4*U21+$V$4*V21 -> 0
A22: ='[1]수량산출(1-1)_작업용'!A22 -> FLEX TUBE(방수형) | B22: ='[1]수량산출(1-1)_작업용'!B22 -> 16C | C22: ='[1]수량산출(1-1)_작업용'!C22 -> 3 | D22: ='[1]수량산출(1-1)_작업용'!D22 -> 0 | E22: ='[1]수량산출(1-1)_작업용'!E22 -> 0 | F22: ='[1]수량산출(1-1)_작업용'!F22 -> 0 | G22: ='[1]수량산출(1-1)_작업용'!G22 -> 0 | H22: ='[1]수량산출(1-1)_작업용'!H22 -> 0 | ... V22: ='[1]수량산출(1-1)_작업용'!V22 -> 0 | W22: =SUM(C22:V22) -> 3 | X22: 직접 산출
A23: ='[1]수량산출(1-1)_작업용'!A23 -> FLEX TUBE(방수형) | B23: ='[1]수량산출(1-1)_작업용'!B23 -> 22C | C23: ='[1]수량산출(1-1)_작업용'!C23 -> 3 | D23: ='[1]수량산출(1-1)_작업용'!D23 -> 0 | E23: ='[1]수량산출(1-1)_작업용'!E23 -> 0 | F23: ='[1]수량산출(1-1)_작업용'!F23 -> 0 | G23: ='[1]수량산출(1-1)_작업용'!G23 -> 0 | H23: ='[1]수량산출(1-1)_작업용'!H23 -> 0 | ... V23: ='[1]수량산출(1-1)_작업용'!V23 -> 0 | W23: =SUM(C23:V23) -> 5
A24: ='[1]수량산출(1-1)_작업용'!A24 -> FLEX. CONNECTOR | B24: ='[1]수량산출(1-1)_작업용'!B24 -> 16C | C24: ='[1]수량산출(1-1)_작업용'!C24 -> 6 | D24: ='[1]수량산출(1-1)_작업용'!D24 -> 0 | E24: ='[1]수량산출(1-1)_작업용'!E24 -> 0 | F24: ='[1]수량산출(1-1)_작업용'!F24 -> 0 | G24: ='[1]수량산출(1-1)_작업용'!G24 -> 0 | H24: ='[1]수량산출(1-1)_작업용'!H24 -> 0 | ... V24: ='[1]수량산출(1-1)_작업용'!V24 -> 0 | W24: =SUM(C24:V24) -> 6
A25: ='[1]수량산출(1-1)_작업용'!A25 -> FLEX. CONNECTOR | B25: ='[1]수량산출(1-1)_작업용'!B25 -> 22C | C25: ='[1]수량산출(1-1)_작업용'!C25 -> 6 | D25: ='[1]수량산출(1-1)_작업용'!D25 -> 0 | E25: ='[1]수량산출(1-1)_작업용'!E25 -> 0 | F25: ='[1]수량산출(1-1)_작업용'!F25 -> 0 | G25: ='[1]수량산출(1-1)_작업용'!G25 -> 0 | H25: ='[1]수량산출(1-1)_작업용'!H25 -> 0 | ... V25: ='[1]수량산출(1-1)_작업용'!V25 -> 0 | W25: =SUM(C25:V25) -> 10
A26: ='[1]수량산출(1-1)_작업용'!A26 -> 노말밴드 | B26: ='[1]수량산출(1-1)_작업용'!B26 -> 28C | C26: ='[1]수량산출(1-1)_작업용'!C26 -> 2 | D26: ='[1]수량산출(1-1)_작업용'!D26 -> 0 | E26: ='[1]수량산출(1-1)_작업용'!E26 -> 0 | F26: ='[1]수량산출(1-1)_작업용'!F26 -> 0 | G26: ='[1]수량산출(1-1)_작업용'!G26 -> 0 | H26: ='[1]수량산출(1-1)_작업용'!H26 -> 0 | ... V26: ='[1]수량산출(1-1)_작업용'!V26 -> 0 | W26: =SUM(C26:V26) -> 2
A27: ='[1]수량산출(1-1)_작업용'!A27 -> 노말밴드 | B27: ='[1]수량산출(1-1)_작업용'!B27 -> 36C | C27: ='[1]수량산출(1-1)_작업용'!C27 -> 2 | D27: ='[1]수량산출(1-1)_작업용'!D27 -> 0 | E27: ='[1]수량산출(1-1)_작업용'!E27 -> 0 | F27: ='[1]수량산출(1-1)_작업용'!F27 -> 0 | G27: ='[1]수량산출(1-1)_작업용'!G27 -> 0 | H27: ='[1]수량산출(1-1)_작업용'!H27 -> 0 | ... V27: ='[1]수량산출(1-1)_작업용'!V27 -> 0 | W27: =SUM(C27:V27) -> 2
A28: ='[1]수량산출(1-1)_작업용'!A28 -> 앙카볼트 | B28: ='[1]수량산출(1-1)_작업용'!B28 -> 3/8" | C28: =ROUNDUP(SUM(W5:W9)*0.07,0) -> 26 | W28: =SUM(C28:V28) -> 26 | X28: 자동 산출
A29: ='[1]수량산출(1-1)_작업용'!A29 -> 행가 | B29: ='[1]수량산출(1-1)_작업용'!B29 -> 3/8" x 1m | C29: =C28 -> 26 | W29: =SUM(C29:V29) -> 26
A30: ='[1]수량산출(1-1)_작업용'!A30 -> 찬넬 | B30: ='[1]수량산출(1-1)_작업용'!B30 -> 1.2m | C30: =ROUNDUP(SUM(W5:W9)*0.05,0) -> 19 | W30: =SUM(C30:V30) -> 19
A31: ='[1]수량산출(1-1)_작업용'!A31 -> JOINT BOX | B31: ='[1]수량산출(1-1)_작업용'!B31 -> 100x100x50 | C31: ='[1]수량산출(1-1)_작업용'!C31 -> 6 | D31: ='[1]수량산출(1-1)_작업용'!D31 -> 0 | E31: ='[1]수량산출(1-1)_작업용'!E31 -> 0 | F31: ='[1]수량산출(1-1)_작업용'!F31 -> 0 | G31: ='[1]수량산출(1-1)_작업용'!G31 -> 0 | H31: ='[1]수량산출(1-1)_작업용'!H31 -> 0 | ... V31: ='[1]수량산출(1-1)_작업용'!V31 -> 0 | W31: =SUM(C31:V31) -> 14 | X31: 직접 산출
A32: ='[1]수량산출(1-1)_작업용'!A32 -> PULL BOX | B32: ='[1]수량산출(1-1)_작업용'!B32 -> 150x150x100 | C32: ='[1]수량산출(1-1)_작업용'!C32 -> 3 | D32: ='[1]수량산출(1-1)_작업용'!D32 -> 0 | E32: ='[1]수량산출(1-1)_작업용'!E32 -> 0 | F32: ='[1]수량산출(1-1)_작업용'!F32 -> 0 | G32: ='[1]수량산출(1-1)_작업용'!G32 -> 0 | H32: ='[1]수량산출(1-1)_작업용'!H32 -> 0 | ... V32: ='[1]수량산출(1-1)_작업용'!V32 -> 0 | W32: =SUM(C32:V32) -> 9
A33: ='[1]수량산출(1-1)_작업용'!A33 -> PULL BOX | B33: ='[1]수량산출(1-1)_작업용'!B33 -> 200x200x100 | C33: ='[1]수량산출(1-1)_작업용'!C33 -> 2 | D33: ='[1]수량산출(1-1)_작업용'!D33 -> 0 | E33: ='[1]수량산출(1-1)_작업용'!E33 -> 0 | F33: ='[1]수량산출(1-1)_작업용'!F33 -> 0 | G33: ='[1]수량산출(1-1)_작업용'!G33 -> 0 | H33: ='[1]수량산출(1-1)_작업용'!H33 -> 0 | ... V33: ='[1]수량산출(1-1)_작업용'!V33 -> 0 | W33: =SUM(C33:V33) -> 2
A34: ='[1]수량산출(1-1)_작업용'!A34 -> PULL BOX | B34: ='[1]수량산출(1-1)_작업용'!B34 -> 300x300x200 | C34: ='[1]수량산출(1-1)_작업용'!C34 -> 2 | D34: ='[1]수량산출(1-1)_작업용'!D34 -> 0 | E34: ='[1]수량산출(1-1)_작업용'!E34 -> 0 | F34: ='[1]수량산출(1-1)_작업용'!F34 -> 0 | G34: ='[1]수량산출(1-1)_작업용'!G34 -> 0 | H34: ='[1]수량산출(1-1)_작업용'!H34 -> 0 | ... V34: ='[1]수량산출(1-1)_작업용'!V34 -> 0 | W34: =SUM(C34:V34) -> 2
A35: ='[1]수량산출(1-1)_작업용'!A35 -> PULL BOX | B35: ='[1]수량산출(1-1)_작업용'!B35 -> 400x400x300 | C35: ='[1]수량산출(1-1)_작업용'!C35 -> 0 | D35: ='[1]수량산출(1-1)_작업용'!D35 -> 0 | E35: ='[1]수량산출(1-1)_작업용'!E35 -> 0 | F35: ='[1]수량산출(1-1)_작업용'!F35 -> 0 | G35: ='[1]수량산출(1-1)_작업용'!G35 -> 0 | H35: ='[1]수량산출(1-1)_작업용'!H35 -> 0 | ... V35: ='[1]수량산출(1-1)_작업용'!V35 -> 0 | W35: =SUM(C35:V35) -> 0
A36: ='[1]수량산출(1-1)_작업용'!A36 -> PULL BOX | B36: ='[1]수량산출(1-1)_작업용'!B36 -> 500x500x300 | C36: ='[1]수량산출(1-1)_작업용'!C36 -> 0 | D36: ='[1]수량산출(1-1)_작업용'!D36 -> 0 | E36: ='[1]수량산출(1-1)_작업용'!E36 -> 0 | F36: ='[1]수량산출(1-1)_작업용'!F36 -> 0 | G36: ='[1]수량산출(1-1)_작업용'!G36 -> 0 | H36: ='[1]수량산출(1-1)_작업용'!H36 -> 0 | ... V36: ='[1]수량산출(1-1)_작업용'!V36 -> 0 | W36: =SUM(C36:V36) -> 0
A37: ='[1]수량산출(1-1)_작업용'!A37 -> 수위지시조절기 | B37: ='[1]수량산출(1-1)_작업용'!B37 -> FLOAT (센서*1) | C37: ='[1]수량산출(1-1)_작업용'!C37 -> 1 | D37: ='[1]수량산출(1-1)_작업용'!D37 -> 0 | E37: ='[1]수량산출(1-1)_작업용'!E37 -> 0 | F37: ='[1]수량산출(1-1)_작업용'!F37 -> 0 | G37: ='[1]수량산출(1-1)_작업용'!G37 -> 0 | H37: ='[1]수량산출(1-1)_작업용'!H37 -> 0 | ... V37: ='[1]수량산출(1-1)_작업용'!V37 -> 0 | W37: =SUM(C37:V37) -> 3
A38: ='[1]수량산출(1-1)_작업용'!A38 -> 수위지시조절기 | B38: ='[1]수량산출(1-1)_작업용'!B38 -> FLOAT (센서*2) | C38: ='[1]수량산출(1-1)_작업용'!C38 -> 1 | D38: ='[1]수량산출(1-1)_작업용'!D38 -> 0 | E38: ='[1]수량산출(1-1)_작업용'!E38 -> 0 | F38: ='[1]수량산출(1-1)_작업용'!F38 -> 0 | G38: ='[1]수량산출(1-1)_작업용'!G38 -> 0 | H38: ='[1]수량산출(1-1)_작업용'!H38 -> 0 | ... V38: ='[1]수량산출(1-1)_작업용'!V38 -> 0 | W38: =SUM(C38:V38) -> 1
A39: ='[1]수량산출(1-1)_작업용'!A39 -> 수위조절기 | B39: ='[1]수량산출(1-1)_작업용'!B39 -> QUICK 3P | C39: ='[1]수량산출(1-1)_작업용'!C39 -> 0 | D39: ='[1]수량산출(1-1)_작업용'!D39 -> 0 | E39: ='[1]수량산출(1-1)_작업용'!E39 -> 0 | F39: ='[1]수량산출(1-1)_작업용'!F39 -> 0 | G39: ='[1]수량산출(1-1)_작업용'!G39 -> 0 | H39: ='[1]수량산출(1-1)_작업용'!H39 -> 0 | ... V39: ='[1]수량산출(1-1)_작업용'!V39 -> 0 | W39: =SUM(C39:V39) -> 0
A40: ='[1]수량산출(1-1)_작업용'!A40 -> 수위조절기 | B40: ='[1]수량산출(1-1)_작업용'!B40 -> QUICK 4P | C40: ='[1]수량산출(1-1)_작업용'!C40 -> 1 | D40: ='[1]수량산출(1-1)_작업용'!D40 -> 0 | E40: ='[1]수량산출(1-1)_작업용'!E40 -> 0 | F40: ='[1]수량산출(1-1)_작업용'!F40 -> 0 | G40: ='[1]수량산출(1-1)_작업용'!G40 -> 0 | H40: ='[1]수량산출(1-1)_작업용'!H40 -> 0 | ... V40: ='[1]수량산출(1-1)_작업용'!V40 -> 0 | W40: =SUM(C40:V40) -> 1
A41: ='[1]수량산출(1-1)_작업용'!A41 -> 수위조절기 | B41: ='[1]수량산출(1-1)_작업용'!B41 -> QUICK 5P | C41: ='[1]수량산출(1-1)_작업용'!C41 -> 0 | D41: ='[1]수량산출(1-1)_작업용'!D41 -> 0 | E41: ='[1]수량산출(1-1)_작업용'!E41 -> 0 | F41: ='[1]수량산출(1-1)_작업용'!F41 -> 0 | G41: ='[1]수량산출(1-1)_작업용'!G41 -> 0 | H41: ='[1]수량산출(1-1)_작업용'!H41 -> 0 | ... V41: ='[1]수량산출(1-1)_작업용'!V41 -> 0 | W41: =SUM(C41:V41) -> 0
A42: ='[1]수량산출(1-1)_작업용'!A42 -> 백엽상 | B42: ='[1]수량산출(1-1)_작업용'!B42 -> 300x300x300 | C42: ='[1]수량산출(1-1)_작업용'!C42 -> 0 | D42: ='[1]수량산출(1-1)_작업용'!D42 -> 0 | E42: ='[1]수량산출(1-1)_작업용'!E42 -> 0 | F42: ='[1]수량산출(1-1)_작업용'!F42 -> 0 | G42: ='[1]수량산출(1-1)_작업용'!G42 -> 0 | H42: ='[1]수량산출(1-1)_작업용'!H42 -> 0 | ... V42: ='[1]수량산출(1-1)_작업용'!V42 -> 0 | W42: =SUM(C42:V42) -> 0
A43: ='[1]수량산출(1-1)_작업용'!A43 -> 현장제어반 | B43: ='[1]수량산출(1-1)_작업용'!B43 -> 300x400X250 | C43: ='[1]수량산출(1-1)_작업용'!C43 -> 0 | D43: ='[1]수량산출(1-1)_작업용'!D43 -> 0 | E43: ='[1]수량산출(1-1)_작업용'!E43 -> 0 | F43: ='[1]수량산출(1-1)_작업용'!F43 -> 0 | G43: ='[1]수량산출(1-1)_작업용'!G43 -> 0 | H43: ='[1]수량산출(1-1)_작업용'!H43 -> 0 | ... V43: ='[1]수량산출(1-1)_작업용'!V43 -> 0 | W43: =SUM(C43:V43) -> 0
A44: 현장제어반 | B44: 500x600X250 | C44: ='[1]수량산출(1-1)_작업용'!C44 -> 0 | D44: ='[1]수량산출(1-1)_작업용'!D44 -> 0 | E44: ='[1]수량산출(1-1)_작업용'!E44 -> 0 | F44: ='[1]수량산출(1-1)_작업용'!F44 -> 0 | G44: ='[1]수량산출(1-1)_작업용'!G44 -> 0 | H44: ='[1]수량산출(1-1)_작업용'!H44 -> 0 | I44: ='[1]수량산출(1-1)_작업용'!I44 -> 0 | J44: ='[1]수량산출(1-1)_작업용'!J44 -> 0 | ... V44: ='[1]수량산출(1-1)_작업용'!V44 -> 0 | W44: =SUM(C44:V44) -> 0
A45: 도면번호 | B45: 7 | C45: 지상2층, 지상3층
A46: Cable Schedule | C46: 1 | E46: 1 | W46: 총 수량
A47: 길이(m) | C47: 12 | E47: 32 | AA47: =C46 -> 1 | AB47: =D46 -> 0 | AC47: =E46 -> 1 | AD47: =F46 -> 0 | AE47: =G46 -> 0 | AF47: =H46 -> 0 | AG47: =I46 -> 0 | AH47: =J46 -> 0 | ... AT47: =V46 -> 0
A48: ='[1]수량산출(1-1)_작업용'!A48 -> 나사없는 전선관 | B48: ='[1]수량산출(1-1)_작업용'!B48 -> E19 | C48: ='[1]수량산출(1-1)_작업용'!C48 -> 2 | D48: ='[1]수량산출(1-1)_작업용'!D48 -> 0 | E48: ='[1]수량산출(1-1)_작업용'!E48 -> 2 | F48: ='[1]수량산출(1-1)_작업용'!F48 -> 0 | G48: ='[1]수량산출(1-1)_작업용'!G48 -> 0 | H48: ='[1]수량산출(1-1)_작업용'!H48 -> 0 | ... V48: ='[1]수량산출(1-1)_작업용'!V48 -> 0 | W48: =$C$47*C48+$D$47*D48+$E$47*E48+$F$47*F48+$G$47*G48+$H$47*H48+$I$47*I48+$J$47*J48+$K$47*K48+$L$47*L48+$M$47*M48+$N$47*N48+$O$47*O48+$P$47*P48+$Q$47*Q48+$R$47*R48+$S$47*S48+$T$47*T48+$U$47*U48+$V$47*V48 -> 88 | X48: 케이블 스케쥴 기준 | Z48: 16 | AA48: =$Z$5*C48 -> 32 | AB48: =$Z$5*D48 -> 0 | AC48: =$Z$5*E48 -> 32 | AD48: =$Z$5*F48 -> 0 | AE48: =$Z$5*G48 -> 0 | AF48: =$Z$5*H48 -> 0 | AG48: =$Z$5*I48 -> 0 | AH48: =$Z$5*J48 -> 0 | ... AT48: =$Z$5*V48 -> 0
A49: ='[1]수량산출(1-1)_작업용'!A49 -> 나사없는 전선관 | B49: ='[1]수량산출(1-1)_작업용'!B49 -> E25 | C49: ='[1]수량산출(1-1)_작업용'!C49 -> 1 | D49: ='[1]수량산출(1-1)_작업용'!D49 -> 0 | E49: ='[1]수량산출(1-1)_작업용'!E49 -> 1 | F49: ='[1]수량산출(1-1)_작업용'!F49 -> 0 | G49: ='[1]수량산출(1-1)_작업용'!G49 -> 0 | H49: ='[1]수량산출(1-1)_작업용'!H49 -> 0 | ... V49: ='[1]수량산출(1-1)_작업용'!V49 -> 0 | W49: =$C$47*C49+$D$47*D49+$E$47*E49+$F$47*F49+$G$47*G49+$H$47*H49+$I$47*I49+$J$47*J49+$K$47*K49+$L$47*L49+$M$47*M49+$N$47*N49+$O$47*O49+$P$47*P49+$Q$47*Q49+$R$47*R49+$S$47*S49+$T$47*T49+$U$47*U49+$V$47*V49 -> 44 | Z49: 22 | AA49: =$Z$6*C49 -> 22 | AB49: =$Z$6*D49 -> 0 | AC49: =$Z$6*E49 -> 22 | AD49: =$Z$6*F49 -> 0 | AE49: =$Z$6*G49 -> 0 | AF49: =$Z$6*H49 -> 0 | AG49: =$Z$6*I49 -> 0 | AH49: =$Z$6*J49 -> 0 | ... AT49: =$Z$6*V49 -> 0
A50: ='[1]수량산출(1-1)_작업용'!A50 -> 나사없는 전선관 | B50: ='[1]수량산출(1-1)_작업용'!B50 -> E31 | C50: ='[1]수량산출(1-1)_작업용'!C50 -> 1 | D50: ='[1]수량산출(1-1)_작업용'!D50 -> 0 | E50: ='[1]수량산출(1-1)_작업용'!E50 -> 1 | F50: ='[1]수량산출(1-1)_작업용'!F50 -> 0 | G50: ='[1]수량산출(1-1)_작업용'!G50 -> 0 | H50: ='[1]수량산출(1-1)_작업용'!H50 -> 0 | ... V50: ='[1]수량산출(1-1)_작업용'!V50 -> 0 | W50: =$C$47*C50+$D$47*D50+$E$47*E50+$F$47*F50+$G$47*G50+$H$47*H50+$I$47*I50+$J$47*J50+$K$47*K50+$L$47*L50+$M$47*M50+$N$47*N50+$O$47*O50+$P$47*P50+$Q$47*Q50+$R$47*R50+$S$47*S50+$T$47*T50+$U$47*U50+$V$47*V50 -> 44 | Z50: 28 | AA50: =$Z$7*C50 -> 28 | AB50: =$Z$7*D50 -> 0 | AC50: =$Z$7*E50 -> 28 | AD50: =$Z$7*F50 -> 0 | AE50: =$Z$7*G50 -> 0 | AF50: =$Z$7*H50 -> 0 | AG50: =$Z$7*I50 -> 0 | AH50: =$Z$7*J50 -> 0 | ... AT50: =$Z$7*V50 -> 0
A51: ='[1]수량산출(1-1)_작업용'!A51 -> 나사없는 전선관 | B51: ='[1]수량산출(1-1)_작업용'!B51 -> E39 | C51: ='[1]수량산출(1-1)_작업용'!C51 -> 0 | D51: ='[1]수량산출(1-1)_작업용'!D51 -> 0 | E51: ='[1]수량산출(1-1)_작업용'!E51 -> 0 | F51: ='[1]수량산출(1-1)_작업용'!F51 -> 0 | G51: ='[1]수량산출(1-1)_작업용'!G51 -> 0 | H51: ='[1]수량산출(1-1)_작업용'!H51 -> 0 | ... V51: ='[1]수량산출(1-1)_작업용'!V51 -> 0 | W51: =$C$47*C51+$D$47*D51+$E$47*E51+$F$47*F51+$G$47*G51+$H$47*H51+$I$47*I51+$J$47*J51+$K$47*K51+$L$47*L51+$M$47*M51+$N$47*N51+$O$47*O51+$P$47*P51+$Q$47*Q51+$R$47*R51+$S$47*S51+$T$47*T51+$U$47*U51+$V$47*V51 -> 0 | Z51: 32 | AA51: =$Z$8*C51 -> 0 | AB51: =$Z$8*D51 -> 0 | AC51: =$Z$8*E51 -> 0 | AD51: =$Z$8*F51 -> 0 | AE51: =$Z$8*G51 -> 0 | AF51: =$Z$8*H51 -> 0 | AG51: =$Z$8*I51 -> 0 | AH51: =$Z$8*J51 -> 0 | ... AT51: =$Z$8*V51 -> 0
A52: ='[1]수량산출(1-1)_작업용'!A52 -> CD관 | B52: ='[1]수량산출(1-1)_작업용'!B52 -> 16C | C52: ='[1]수량산출(1-1)_작업용'!C52 -> 0 | D52: ='[1]수량산출(1-1)_작업용'!D52 -> 0 | E52: ='[1]수량산출(1-1)_작업용'!E52 -> 0 | F52: ='[1]수량산출(1-1)_작업용'!F52 -> 0 | G52: ='[1]수량산출(1-1)_작업용'!G52 -> 0 | H52: ='[1]수량산출(1-1)_작업용'!H52 -> 0 | ... V52: ='[1]수량산출(1-1)_작업용'!V52 -> 0 | W52: =$C$47*C52+$D$47*D52+$E$47*E52+$F$47*F52+$G$47*G52+$H$47*H52+$I$47*I52+$J$47*J52+$K$47*K52+$L$47*L52+$M$47*M52+$N$47*N52+$O$47*O52+$P$47*P52+$Q$47*Q52+$R$47*R52+$S$47*S52+$T$47*T52+$U$47*U52+$V$47*V52 -> 0
A53: ='[1]수량산출(1-1)_작업용'!A53 -> 지중전선관(ELP) | B53: ='[1]수량산출(1-1)_작업용'!B53 -> ELP 30 | C53: ='[1]수량산출(1-1)_작업용'!C53 -> 0 | D53: ='[1]수량산출(1-1)_작업용'!D53 -> 0 | E53: ='[1]수량산출(1-1)_작업용'!E53 -> 0 | F53: ='[1]수량산출(1-1)_작업용'!F53 -> 0 | G53: ='[1]수량산출(1-1)_작업용'!G53 -> 0 | H53: ='[1]수량산출(1-1)_작업용'!H53 -> 0 | ... V53: ='[1]수량산출(1-1)_작업용'!V53 -> 0 | W53: =$C$47*C53+$D$47*D53+$E$47*E53+$F$47*F53+$G$47*G53+$H$47*H53+$I$47*I53+$J$47*J53+$K$47*K53+$L$47*L53+$M$47*M53+$N$47*N53+$O$47*O53+$P$47*P53+$Q$47*Q53+$R$47*R53+$S$47*S53+$T$47*T53+$U$47*U53+$V$47*V53 -> 0
A54: ='[1]수량산출(1-1)_작업용'!A54 -> 지중전선관(ELP) | B54: ='[1]수량산출(1-1)_작업용'!B54 -> ELP 50 | C54: ='[1]수량산출(1-1)_작업용'!C54 -> 0 | D54: ='[1]수량산출(1-1)_작업용'!D54 -> 0 | E54: ='[1]수량산출(1-1)_작업용'!E54 -> 0 | F54: ='[1]수량산출(1-1)_작업용'!F54 -> 0 | G54: ='[1]수량산출(1-1)_작업용'!G54 -> 0 | H54: ='[1]수량산출(1-1)_작업용'!H54 -> 0 | ... V54: ='[1]수량산출(1-1)_작업용'!V54 -> 0 | W54: =$C$47*C54+$D$47*D54+$E$47*E54+$F$47*F54+$G$47*G54+$H$47*H54+$I$47*I54+$J$47*J54+$K$47*K54+$L$47*L54+$M$47*M54+$N$47*N54+$O$47*O54+$P$47*P54+$Q$47*Q54+$R$47*R54+$S$47*S54+$T$47*T54+$U$47*U54+$V$47*V54 -> 0
A55: ='[1]수량산출(1-1)_작업용'!A55 -> 전선 | B55: ='[1]수량산출(1-1)_작업용'!B55 -> HFIX 2.5sq | C55: ='[1]수량산출(1-1)_작업용'!C55 -> 0 | D55: ='[1]수량산출(1-1)_작업용'!D55 -> 0 | E55: ='[1]수량산출(1-1)_작업용'!E55 -> 0 | F55: ='[1]수량산출(1-1)_작업용'!F55 -> 0 | G55: ='[1]수량산출(1-1)_작업용'!G55 -> 0 | H55: ='[1]수량산출(1-1)_작업용'!H55 -> 0 | ... V55: ='[1]수량산출(1-1)_작업용'!V55 -> 0 | W55: =$C$47*C55+$D$47*D55+$E$47*E55+$F$47*F55+$G$47*G55+$H$47*H55+$I$47*I55+$J$47*J55+$K$47*K55+$L$47*L55+$M$47*M55+$N$47*N55+$O$47*O55+$P$47*P55+$Q$47*Q55+$R$47*R55+$S$47*S55+$T$47*T55+$U$47*U55+$V$47*V55 -> 0 | AA55: =((SUM(C48:C51)-1)*15) -> 45 | AB55: =((SUM(D48:D51)-1)*15) -> -15 | AC55: =((SUM(E48:E51)-1)*15) -> 45 | AD55: =((SUM(F48:F51)-1)*15) -> -15 | AE55: =((SUM(G48:G51)-1)*15) -> -15 | AF55: =((SUM(H48:H51)-1)*15) -> -15 | AG55: =((SUM(I48:I51)-1)*15) -> -15 | AH55: =((SUM(J48:J51)-1)*15) -> -15 | ... AT55: =((SUM(V48:V51)-1)*15) -> -15
A56: ='[1]수량산출(1-1)_작업용'!A56 -> 케이블 | B56: ='[1]수량산출(1-1)_작업용'!B56 -> TJV 1.0 x 2C | C56: ='[1]수량산출(1-1)_작업용'!C56 -> 0 | D56: ='[1]수량산출(1-1)_작업용'!D56 -> 0 | E56: ='[1]수량산출(1-1)_작업용'!E56 -> 0 | F56: ='[1]수량산출(1-1)_작업용'!F56 -> 0 | G56: ='[1]수량산출(1-1)_작업용'!G56 -> 0 | H56: ='[1]수량산출(1-1)_작업용'!H56 -> 0 | ... V56: ='[1]수량산출(1-1)_작업용'!V56 -> 0 | W56: =$C$47*C56+$D$47*D56+$E$47*E56+$F$47*F56+$G$47*G56+$H$47*H56+$I$47*I56+$J$47*J56+$K$47*K56+$L$47*L56+$M$47*M56+$N$47*N56+$O$47*O56+$P$47*P56+$Q$47*Q56+$R$47*R56+$S$47*S56+$T$47*T56+$U$47*U56+$V$47*V56 -> 0 | Z56: 풀박스 | AA56: =SUM(AA48:AA55) -> 127 | AB56: =SUM(AB48:AB55) -> -15 | AC56: =SUM(AC48:AC55) -> 127 | AD56: =SUM(AD48:AD55) -> -15 | AE56: =SUM(AE48:AE55) -> -15 | AF56: =SUM(AF48:AF55) -> -15 | AG56: =SUM(AG48:AG55) -> -15 | AH56: =SUM(AH48:AH55) -> -15 | ... AT56: =SUM(AT48:AT55) -> -15
A57: ='[1]수량산출(1-1)_작업용'!A57 -> 케이블 | B57: ='[1]수량산출(1-1)_작업용'!B57 -> TJV 1.0 x 3C | C57: ='[1]수량산출(1-1)_작업용'!C57 -> 0 | D57: ='[1]수량산출(1-1)_작업용'!D57 -> 0 | E57: ='[1]수량산출(1-1)_작업용'!E57 -> 0 | F57: ='[1]수량산출(1-1)_작업용'!F57 -> 0 | G57: ='[1]수량산출(1-1)_작업용'!G57 -> 0 | H57: ='[1]수량산출(1-1)_작업용'!H57 -> 0 | ... V57: ='[1]수량산출(1-1)_작업용'!V57 -> 0 | W57: =$C$47*C57+$D$47*D57+$E$47*E57+$F$47*F57+$G$47*G57+$H$47*H57+$I$47*I57+$J$47*J57+$K$47*K57+$L$47*L57+$M$47*M57+$N$47*N57+$O$47*O57+$P$47*P57+$Q$47*Q57+$R$47*R57+$S$47*S57+$T$47*T57+$U$47*U57+$V$47*V57 -> 0
A58: ='[1]수량산출(1-1)_작업용'!A58 -> 케이블 | B58: ='[1]수량산출(1-1)_작업용'!B58 -> F-CVVS 1.5 x 2C | C58: ='[1]수량산출(1-1)_작업용'!C58 -> 1 | D58: ='[1]수량산출(1-1)_작업용'!D58 -> 0 | E58: ='[1]수량산출(1-1)_작업용'!E58 -> 1 | F58: ='[1]수량산출(1-1)_작업용'!F58 -> 0 | G58: ='[1]수량산출(1-1)_작업용'!G58 -> 0 | H58: ='[1]수량산출(1-1)_작업용'!H58 -> 0 | ... V58: ='[1]수량산출(1-1)_작업용'!V58 -> 0 | W58: =$C$47*C58+$D$47*D58+$E$47*E58+$F$47*F58+$G$47*G58+$H$47*H58+$I$47*I58+$J$47*J58+$K$47*K58+$L$47*L58+$M$47*M58+$N$47*N58+$O$47*O58+$P$47*P58+$Q$47*Q58+$R$47*R58+$S$47*S58+$T$47*T58+$U$47*U58+$V$47*V58 -> 44
A59: ='[1]수량산출(1-1)_작업용'!A59 -> 케이블 | B59: ='[1]수량산출(1-1)_작업용'!B59 -> F-CVVS 1.5 x 3C | C59: ='[1]수량산출(1-1)_작업용'!C59 -> 0 | D59: ='[1]수량산출(1-1)_작업용'!D59 -> 0 | E59: ='[1]수량산출(1-1)_작업용'!E59 -> 0 | F59: ='[1]수량산출(1-1)_작업용'!F59 -> 0 | G59: ='[1]수량산출(1-1)_작업용'!G59 -> 0 | H59: ='[1]수량산출(1-1)_작업용'!H59 -> 0 | ... V59: ='[1]수량산출(1-1)_작업용'!V59 -> 0 | W59: =$C$47*C59+$D$47*D59+$E$47*E59+$F$47*F59+$G$47*G59+$H$47*H59+$I$47*I59+$J$47*J59+$K$47*K59+$L$47*L59+$M$47*M59+$N$47*N59+$O$47*O59+$P$47*P59+$Q$47*Q59+$R$47*R59+$S$47*S59+$T$47*T59+$U$47*U59+$V$47*V59 -> 0
A60: ='[1]수량산출(1-1)_작업용'!A60 -> 케이블 | B60: ='[1]수량산출(1-1)_작업용'!B60 -> UTP Cat.5E 4P | C60: ='[1]수량산출(1-1)_작업용'!C60 -> 1 | D60: ='[1]수량산출(1-1)_작업용'!D60 -> 0 | E60: ='[1]수량산출(1-1)_작업용'!E60 -> 1 | F60: ='[1]수량산출(1-1)_작업용'!F60 -> 0 | G60: ='[1]수량산출(1-1)_작업용'!G60 -> 0 | H60: ='[1]수량산출(1-1)_작업용'!H60 -> 0 | ... V60: ='[1]수량산출(1-1)_작업용'!V60 -> 0 | W60: =$C$47*C60+$D$47*D60+$E$47*E60+$F$47*F60+$G$47*G60+$H$47*H60+$I$47*I60+$J$47*J60+$K$47*K60+$L$47*L60+$M$47*M60+$N$47*N60+$O$47*O60+$P$47*P60+$Q$47*Q60+$R$47*R60+$S$47*S60+$T$47*T60+$U$47*U60+$V$47*V60 -> 44
A61: ='[1]수량산출(1-1)_작업용'!A61 -> 케이블 | B61: ='[1]수량산출(1-1)_작업용'!B61 -> AWG24 x 2P | C61: ='[1]수량산출(1-1)_작업용'!C61 -> 1 | D61: ='[1]수량산출(1-1)_작업용'!D61 -> 0 | E61: ='[1]수량산출(1-1)_작업용'!E61 -> 1 | F61: ='[1]수량산출(1-1)_작업용'!F61 -> 0 | G61: ='[1]수량산출(1-1)_작업용'!G61 -> 0 | H61: ='[1]수량산출(1-1)_작업용'!H61 -> 0 | ... V61: ='[1]수량산출(1-1)_작업용'!V61 -> 0 | W61: =$C$47*C61+$D$47*D61+$E$47*E61+$F$47*F61+$G$47*G61+$H$47*H61+$I$47*I61+$J$47*J61+$K$47*K61+$L$47*L61+$M$47*M61+$N$47*N61+$O$47*O61+$P$47*P61+$Q$47*Q61+$R$47*R61+$S$47*S61+$T$47*T61+$U$47*U61+$V$47*V61 -> 44
A62: ='[1]수량산출(1-1)_작업용'!A62 -> 케이블 | B62: ='[1]수량산출(1-1)_작업용'!B62 -> MVVS 0.9 x 2C | C62: ='[1]수량산출(1-1)_작업용'!C62 -> 0 | D62: ='[1]수량산출(1-1)_작업용'!D62 -> 0 | E62: ='[1]수량산출(1-1)_작업용'!E62 -> 0 | F62: ='[1]수량산출(1-1)_작업용'!F62 -> 0 | G62: ='[1]수량산출(1-1)_작업용'!G62 -> 0 | H62: ='[1]수량산출(1-1)_작업용'!H62 -> 0 | ... V62: ='[1]수량산출(1-1)_작업용'!V62 -> 0 | W62: =$C$47*C62+$D$47*D62+$E$47*E62+$F$47*F62+$G$47*G62+$H$47*H62+$I$47*I62+$J$47*J62+$K$47*K62+$L$47*L62+$M$47*M62+$N$47*N62+$O$47*O62+$P$47*P62+$Q$47*Q62+$R$47*R62+$S$47*S62+$T$47*T62+$U$47*U62+$V$47*V62 -> 0
A63: ='[1]수량산출(1-1)_작업용'!A63 -> 케이블 | B63: ='[1]수량산출(1-1)_작업용'!B63 -> F-CV 4.0 x 3C | C63: ='[1]수량산출(1-1)_작업용'!C63 -> 1 | D63: ='[1]수량산출(1-1)_작업용'!D63 -> 0 | E63: ='[1]수량산출(1-1)_작업용'!E63 -> 1 | F63: ='[1]수량산출(1-1)_작업용'!F63 -> 0 | G63: ='[1]수량산출(1-1)_작업용'!G63 -> 0 | H63: ='[1]수량산출(1-1)_작업용'!H63 -> 0 | ... V63: ='[1]수량산출(1-1)_작업용'!V63 -> 0 | W63: =$C$47*C63+$D$47*D63+$E$47*E63+$F$47*F63+$G$47*G63+$H$47*H63+$I$47*I63+$J$47*J63+$K$47*K63+$L$47*L63+$M$47*M63+$N$47*N63+$O$47*O63+$P$47*P63+$Q$47*Q63+$R$47*R63+$S$47*S63+$T$47*T63+$U$47*U63+$V$47*V63 -> 44
A64: ='[1]수량산출(1-1)_작업용'!A64 -> 케이블 | B64: ='[1]수량산출(1-1)_작업용'!B64 -> F-CV 6.0 x 3C | C64: ='[1]수량산출(1-1)_작업용'!C64 -> 0 | D64: ='[1]수량산출(1-1)_작업용'!D64 -> 0 | E64: ='[1]수량산출(1-1)_작업용'!E64 -> 0 | F64: ='[1]수량산출(1-1)_작업용'!F64 -> 0 | G64: ='[1]수량산출(1-1)_작업용'!G64 -> 0 | H64: ='[1]수량산출(1-1)_작업용'!H64 -> 0 | ... V64: ='[1]수량산출(1-1)_작업용'!V64 -> 0 | W64: =$C$47*C64+$D$47*D64+$E$47*E64+$F$47*F64+$G$47*G64+$H$47*H64+$I$47*I64+$J$47*J64+$K$47*K64+$L$47*L64+$M$47*M64+$N$47*N64+$O$47*O64+$P$47*P64+$Q$47*Q64+$R$47*R64+$S$47*S64+$T$47*T64+$U$47*U64+$V$47*V64 -> 0
A65: ='[1]수량산출(1-1)_작업용'!A65 -> FLEX TUBE(방수형) | B65: ='[1]수량산출(1-1)_작업용'!B65 -> 16C | C65: ='[1]수량산출(1-1)_작업용'!C65 -> 0 | D65: ='[1]수량산출(1-1)_작업용'!D65 -> 0 | E65: ='[1]수량산출(1-1)_작업용'!E65 -> 0 | F65: ='[1]수량산출(1-1)_작업용'!F65 -> 0 | G65: ='[1]수량산출(1-1)_작업용'!G65 -> 0 | H65: ='[1]수량산출(1-1)_작업용'!H65 -> 0 | ... V65: ='[1]수량산출(1-1)_작업용'!V65 -> 0 | W65: =SUM(C65:V65) -> 0 | X65: 직접 산출
A66: ='[1]수량산출(1-1)_작업용'!A66 -> FLEX TUBE(방수형) | B66: ='[1]수량산출(1-1)_작업용'!B66 -> 22C | C66: ='[1]수량산출(1-1)_작업용'!C66 -> 0 | D66: ='[1]수량산출(1-1)_작업용'!D66 -> 0 | E66: ='[1]수량산출(1-1)_작업용'!E66 -> 0 | F66: ='[1]수량산출(1-1)_작업용'!F66 -> 0 | G66: ='[1]수량산출(1-1)_작업용'!G66 -> 0 | H66: ='[1]수량산출(1-1)_작업용'!H66 -> 0 | ... V66: ='[1]수량산출(1-1)_작업용'!V66 -> 0 | W66: =SUM(C66:V66) -> 0
A67: ='[1]수량산출(1-1)_작업용'!A67 -> FLEX. CONNECTOR | B67: ='[1]수량산출(1-1)_작업용'!B67 -> 16C | C67: ='[1]수량산출(1-1)_작업용'!C67 -> 0 | D67: ='[1]수량산출(1-1)_작업용'!D67 -> 0 | E67: ='[1]수량산출(1-1)_작업용'!E67 -> 0 | F67: ='[1]수량산출(1-1)_작업용'!F67 -> 0 | G67: ='[1]수량산출(1-1)_작업용'!G67 -> 0 | H67: ='[1]수량산출(1-1)_작업용'!H67 -> 0 | ... V67: ='[1]수량산출(1-1)_작업용'!V67 -> 0 | W67: =SUM(C67:V67) -> 0
A68: ='[1]수량산출(1-1)_작업용'!A68 -> FLEX. CONNECTOR | B68: ='[1]수량산출(1-1)_작업용'!B68 -> 22C | C68: ='[1]수량산출(1-1)_작업용'!C68 -> 0 | D68: ='[1]수량산출(1-1)_작업용'!D68 -> 0 | E68: ='[1]수량산출(1-1)_작업용'!E68 -> 0 | F68: ='[1]수량산출(1-1)_작업용'!F68 -> 0 | G68: ='[1]수량산출(1-1)_작업용'!G68 -> 0 | H68: ='[1]수량산출(1-1)_작업용'!H68 -> 0 | ... V68: ='[1]수량산출(1-1)_작업용'!V68 -> 0 | W68: =SUM(C68:V68) -> 0
A69: ='[1]수량산출(1-1)_작업용'!A69 -> 노말밴드 | B69: ='[1]수량산출(1-1)_작업용'!B69 -> 28C | C69: ='[1]수량산출(1-1)_작업용'!C69 -> 0 | D69: ='[1]수량산출(1-1)_작업용'!D69 -> 0 | E69: ='[1]수량산출(1-1)_작업용'!E69 -> 0 | F69: ='[1]수량산출(1-1)_작업용'!F69 -> 0 | G69: ='[1]수량산출(1-1)_작업용'!G69 -> 0 | H69: ='[1]수량산출(1-1)_작업용'!H69 -> 0 | ... V69: ='[1]수량산출(1-1)_작업용'!V69 -> 0 | W69: =SUM(C69:V69) -> 0
A70: ='[1]수량산출(1-1)_작업용'!A70 -> 노말밴드 | B70: ='[1]수량산출(1-1)_작업용'!B70 -> 36C | C70: ='[1]수량산출(1-1)_작업용'!C70 -> 0 | D70: ='[1]수량산출(1-1)_작업용'!D70 -> 0 | E70: ='[1]수량산출(1-1)_작업용'!E70 -> 0 | F70: ='[1]수량산출(1-1)_작업용'!F70 -> 0 | G70: ='[1]수량산출(1-1)_작업용'!G70 -> 0 | H70: ='[1]수량산출(1-1)_작업용'!H70 -> 0 | ... V70: ='[1]수량산출(1-1)_작업용'!V70 -> 0 | W70: =SUM(C70:V70) -> 0
A71: ='[1]수량산출(1-1)_작업용'!A71 -> 앙카볼트 | B71: ='[1]수량산출(1-1)_작업용'!B71 -> 3/8" | C71: =ROUNDUP(SUM(W48:W52)*0.07,0) -> 13 | W71: =SUM(C71:V71) -> 13 | X71: 자동 산출
A72: ='[1]수량산출(1-1)_작업용'!A72 -> 행가 | B72: ='[1]수량산출(1-1)_작업용'!B72 -> 3/8" x 1m | C72: =C71 -> 13 | W72: =SUM(C72:V72) -> 13
A73: ='[1]수량산출(1-1)_작업용'!A73 -> 찬넬 | B73: ='[1]수량산출(1-1)_작업용'!B73 -> 1.2m | C73: =ROUNDUP(SUM(W48:W52)*0.05,0) -> 9 | W73: =SUM(C73:V73) -> 9
A74: ='[1]수량산출(1-1)_작업용'!A74 -> JOINT BOX | B74: ='[1]수량산출(1-1)_작업용'!B74 -> 100x100x50 | C74: ='[1]수량산출(1-1)_작업용'!C74 -> 1 | D74: ='[1]수량산출(1-1)_작업용'!D74 -> 0 | E74: ='[1]수량산출(1-1)_작업용'!E74 -> 1 | F74: ='[1]수량산출(1-1)_작업용'!F74 -> 0 | G74: ='[1]수량산출(1-1)_작업용'!G74 -> 0 | H74: ='[1]수량산출(1-1)_작업용'!H74 -> 0 | ... V74: ='[1]수량산출(1-1)_작업용'!V74 -> 0 | W74: =SUM(C74:V74) -> 2 | X74: 직접 산출
A75: ='[1]수량산출(1-1)_작업용'!A75 -> PULL BOX | B75: ='[1]수량산출(1-1)_작업용'!B75 -> 150x150x100 | C75: ='[1]수량산출(1-1)_작업용'!C75 -> 0 | D75: ='[1]수량산출(1-1)_작업용'!D75 -> 0 | E75: ='[1]수량산출(1-1)_작업용'!E75 -> 3 | F75: ='[1]수량산출(1-1)_작업용'!F75 -> 0 | G75: ='[1]수량산출(1-1)_작업용'!G75 -> 0 | H75: ='[1]수량산출(1-1)_작업용'!H75 -> 0 | ... V75: ='[1]수량산출(1-1)_작업용'!V75 -> 0 | W75: =SUM(C75:V75) -> 3
A76: ='[1]수량산출(1-1)_작업용'!A76 -> PULL BOX | B76: ='[1]수량산출(1-1)_작업용'!B76 -> 200x200x100 | C76: ='[1]수량산출(1-1)_작업용'!C76 -> 0 | D76: ='[1]수량산출(1-1)_작업용'!D76 -> 0 | E76: ='[1]수량산출(1-1)_작업용'!E76 -> 0 | F76: ='[1]수량산출(1-1)_작업용'!F76 -> 0 | G76: ='[1]수량산출(1-1)_작업용'!G76 -> 0 | H76: ='[1]수량산출(1-1)_작업용'!H76 -> 0 | ... V76: ='[1]수량산출(1-1)_작업용'!V76 -> 0 | W76: =SUM(C76:V76) -> 0
A77: ='[1]수량산출(1-1)_작업용'!A77 -> PULL BOX | B77: ='[1]수량산출(1-1)_작업용'!B77 -> 300x300x200 | C77: ='[1]수량산출(1-1)_작업용'!C77 -> 0 | D77: ='[1]수량산출(1-1)_작업용'!D77 -> 0 | E77: ='[1]수량산출(1-1)_작업용'!E77 -> 0 | F77: ='[1]수량산출(1-1)_작업용'!F77 -> 0 | G77: ='[1]수량산출(1-1)_작업용'!G77 -> 0 | H77: ='[1]수량산출(1-1)_작업용'!H77 -> 0 | ... V77: ='[1]수량산출(1-1)_작업용'!V77 -> 0 | W77: =SUM(C77:V77) -> 0
A78: ='[1]수량산출(1-1)_작업용'!A78 -> PULL BOX | B78: ='[1]수량산출(1-1)_작업용'!B78 -> 400x400x300 | C78: ='[1]수량산출(1-1)_작업용'!C78 -> 0 | D78: ='[1]수량산출(1-1)_작업용'!D78 -> 0 | E78: ='[1]수량산출(1-1)_작업용'!E78 -> 0 | F78: ='[1]수량산출(1-1)_작업용'!F78 -> 0 | G78: ='[1]수량산출(1-1)_작업용'!G78 -> 0 | H78: ='[1]수량산출(1-1)_작업용'!H78 -> 0 | ... V78: ='[1]수량산출(1-1)_작업용'!V78 -> 0 | W78: =SUM(C78:V78) -> 0
A79: ='[1]수량산출(1-1)_작업용'!A79 -> PULL BOX | B79: ='[1]수량산출(1-1)_작업용'!B79 -> 500x500x300 | C79: ='[1]수량산출(1-1)_작업용'!C79 -> 0 | D79: ='[1]수량산출(1-1)_작업용'!D79 -> 0 | E79: ='[1]수량산출(1-1)_작업용'!E79 -> 0 | F79: ='[1]수량산출(1-1)_작업용'!F79 -> 0 | G79: ='[1]수량산출(1-1)_작업용'!G79 -> 0 | H79: ='[1]수량산출(1-1)_작업용'!H79 -> 0 | ... V79: ='[1]수량산출(1-1)_작업용'!V79 -> 0 | W79: =SUM(C79:V79) -> 0
A80: ='[1]수량산출(1-1)_작업용'!A80 -> 수위지시조절기 | B80: ='[1]수량산출(1-1)_작업용'!B80 -> FLOAT (센서*1) | C80: ='[1]수량산출(1-1)_작업용'!C80 -> 0 | D80: ='[1]수량산출(1-1)_작업용'!D80 -> 0 | E80: ='[1]수량산출(1-1)_작업용'!E80 -> 0 | F80: ='[1]수량산출(1-1)_작업용'!F80 -> 0 | G80: ='[1]수량산출(1-1)_작업용'!G80 -> 0 | H80: ='[1]수량산출(1-1)_작업용'!H80 -> 0 | ... V80: ='[1]수량산출(1-1)_작업용'!V80 -> 0 | W80: =SUM(C80:V80) -> 0
A81: ='[1]수량산출(1-1)_작업용'!A81 -> 수위지시조절기 | B81: ='[1]수량산출(1-1)_작업용'!B81 -> FLOAT (센서*2) | C81: ='[1]수량산출(1-1)_작업용'!C81 -> 0 | D81: ='[1]수량산출(1-1)_작업용'!D81 -> 0 | E81: ='[1]수량산출(1-1)_작업용'!E81 -> 0 | F81: ='[1]수량산출(1-1)_작업용'!F81 -> 0 | G81: ='[1]수량산출(1-1)_작업용'!G81 -> 0 | H81: ='[1]수량산출(1-1)_작업용'!H81 -> 0 | ... V81: ='[1]수량산출(1-1)_작업용'!V81 -> 0 | W81: =SUM(C81:V81) -> 0
A82: ='[1]수량산출(1-1)_작업용'!A82 -> 수위조절기 | B82: ='[1]수량산출(1-1)_작업용'!B82 -> QUICK 3P | C82: ='[1]수량산출(1-1)_작업용'!C82 -> 0 | D82: ='[1]수량산출(1-1)_작업용'!D82 -> 0 | E82: ='[1]수량산출(1-1)_작업용'!E82 -> 0 | F82: ='[1]수량산출(1-1)_작업용'!F82 -> 0 | G82: ='[1]수량산출(1-1)_작업용'!G82 -> 0 | H82: ='[1]수량산출(1-1)_작업용'!H82 -> 0 | ... V82: ='[1]수량산출(1-1)_작업용'!V82 -> 0 | W82: =SUM(C82:V82) -> 0
A83: ='[1]수량산출(1-1)_작업용'!A83 -> 수위조절기 | B83: ='[1]수량산출(1-1)_작업용'!B83 -> QUICK 4P | C83: ='[1]수량산출(1-1)_작업용'!C83 -> 0 | D83: ='[1]수량산출(1-1)_작업용'!D83 -> 0 | E83: ='[1]수량산출(1-1)_작업용'!E83 -> 0 | F83: ='[1]수량산출(1-1)_작업용'!F83 -> 0 | G83: ='[1]수량산출(1-1)_작업용'!G83 -> 0 | H83: ='[1]수량산출(1-1)_작업용'!H83 -> 0 | ... V83: ='[1]수량산출(1-1)_작업용'!V83 -> 0 | W83: =SUM(C83:V83) -> 0
A84: ='[1]수량산출(1-1)_작업용'!A84 -> 수위조절기 | B84: ='[1]수량산출(1-1)_작업용'!B84 -> QUICK 5P | C84: ='[1]수량산출(1-1)_작업용'!C84 -> 0 | D84: ='[1]수량산출(1-1)_작업용'!D84 -> 0 | E84: ='[1]수량산출(1-1)_작업용'!E84 -> 0 | F84: ='[1]수량산출(1-1)_작업용'!F84 -> 0 | G84: ='[1]수량산출(1-1)_작업용'!G84 -> 0 | H84: ='[1]수량산출(1-1)_작업용'!H84 -> 0 | ... V84: ='[1]수량산출(1-1)_작업용'!V84 -> 0 | W84: =SUM(C84:V84) -> 0
A85: ='[1]수량산출(1-1)_작업용'!A85 -> 백엽상 | B85: ='[1]수량산출(1-1)_작업용'!B85 -> 300x300x300 | C85: ='[1]수량산출(1-1)_작업용'!C85 -> 0 | D85: ='[1]수량산출(1-1)_작업용'!D85 -> 0 | E85: ='[1]수량산출(1-1)_작업용'!E85 -> 0 | F85: ='[1]수량산출(1-1)_작업용'!F85 -> 0 | G85: ='[1]수량산출(1-1)_작업용'!G85 -> 0 | H85: ='[1]수량산출(1-1)_작업용'!H85 -> 0 | ... V85: ='[1]수량산출(1-1)_작업용'!V85 -> 0 | W85: =SUM(C85:V85) -> 0
A86: ='[1]수량산출(1-1)_작업용'!A86 -> 현장제어반 | B86: ='[1]수량산출(1-1)_작업용'!B86 -> 300x400X250 | C86: ='[1]수량산출(1-1)_작업용'!C86 -> 0 | D86: ='[1]수량산출(1-1)_작업용'!D86 -> 0 | E86: ='[1]수량산출(1-1)_작업용'!E86 -> 0 | F86: ='[1]수량산출(1-1)_작업용'!F86 -> 0 | G86: ='[1]수량산출(1-1)_작업용'!G86 -> 0 | H86: ='[1]수량산출(1-1)_작업용'!H86 -> 0 | ... V86: ='[1]수량산출(1-1)_작업용'!V86 -> 0 | W86: =SUM(C86:V86) -> 0
A87: 현장제어반 | B87: 500x600X250 | C87: ='[1]수량산출(1-1)_작업용'!C87 -> 0 | D87: ='[1]수량산출(1-1)_작업용'!D87 -> 0 | E87: ='[1]수량산출(1-1)_작업용'!E87 -> 0 | F87: ='[1]수량산출(1-1)_작업용'!F87 -> 0 | G87: ='[1]수량산출(1-1)_작업용'!G87 -> 0 | H87: ='[1]수량산출(1-1)_작업용'!H87 -> 0 | I87: ='[1]수량산출(1-1)_작업용'!I87 -> 0 | J87: ='[1]수량산출(1-1)_작업용'!J87 -> 0 | ... V87: ='[1]수량산출(1-1)_작업용'!V87 -> 0 | W87: =SUM(C87:V87) -> 0
A88: 도면번호 | B88: 8 | C88: 추가분
A89: Cable Schedule | C89: 8 | D89: 9 | W89: 총 수량
A90: 길이(m) | C90: 4 | D90: 3 | AA90: =C89 -> 8 | AB90: =D89 -> 9 | AC90: =E89 -> 0 | AD90: =F89 -> 0 | AE90: =G89 -> 0 | AF90: =H89 -> 0 | AG90: =I89 -> 0 | AH90: =J89 -> 0 | ... AT90: =V89 -> 0
A91: ='[1]수량산출(1-1)_작업용'!A91 -> 나사없는 전선관 | B91: ='[1]수량산출(1-1)_작업용'!B91 -> E19 | C91: ='[1]수량산출(1-1)_작업용'!C91 -> 1 | D91: ='[1]수량산출(1-1)_작업용'!D91 -> 1 | E91: ='[1]수량산출(1-1)_작업용'!E91 -> 0 | F91: ='[1]수량산출(1-1)_작업용'!F91 -> 0 | G91: ='[1]수량산출(1-1)_작업용'!G91 -> 0 | H91: ='[1]수량산출(1-1)_작업용'!H91 -> 0 | ... V91: ='[1]수량산출(1-1)_작업용'!V91 -> 0 | W91: =$C$90*C91+$D$90*D91+$E$90*E91+$F$90*F91+$G$90*G91+$H$90*H91+$I$90*I91+$J$90*J91+$K$90*K91+$L$90*L91+$M$90*M91+$N$90*N91+$O$90*O91+$P$90*P91+$Q$90*Q91+$R$90*R91+$S$90*S91+$T$90*T91+$U$90*U91+$V$90*V91 -> 7 | X91: 케이블 스케쥴 기준 | Z91: 16 | AA91: =$Z$5*C91 -> 16 | AB91: =$Z$5*D91 -> 16 | AC91: =$Z$5*E91 -> 0 | AD91: =$Z$5*F91 -> 0 | AE91: =$Z$5*G91 -> 0 | AF91: =$Z$5*H91 -> 0 | AG91: =$Z$5*I91 -> 0 | AH91: =$Z$5*J91 -> 0 | ... AT91: =$Z$5*V91 -> 0
A92: ='[1]수량산출(1-1)_작업용'!A92 -> 나사없는 전선관 | B92: ='[1]수량산출(1-1)_작업용'!B92 -> E25 | C92: ='[1]수량산출(1-1)_작업용'!C92 -> 0 | D92: ='[1]수량산출(1-1)_작업용'!D92 -> 0 | E92: ='[1]수량산출(1-1)_작업용'!E92 -> 0 | F92: ='[1]수량산출(1-1)_작업용'!F92 -> 0 | G92: ='[1]수량산출(1-1)_작업용'!G92 -> 0 | H92: ='[1]수량산출(1-1)_작업용'!H92 -> 0 | ... V92: ='[1]수량산출(1-1)_작업용'!V92 -> 0 | W92: =$C$90*C92+$D$90*D92+$E$90*E92+$F$90*F92+$G$90*G92+$H$90*H92+$I$90*I92+$J$90*J92+$K$90*K92+$L$90*L92+$M$90*M92+$N$90*N92+$O$90*O92+$P$90*P92+$Q$90*Q92+$R$90*R92+$S$90*S92+$T$90*T92+$U$90*U92+$V$90*V92 -> 0 | Z92: 22 | AA92: =$Z$6*C92 -> 0 | AB92: =$Z$6*D92 -> 0 | AC92: =$Z$6*E92 -> 0 | AD92: =$Z$6*F92 -> 0 | AE92: =$Z$6*G92 -> 0 | AF92: =$Z$6*H92 -> 0 | AG92: =$Z$6*I92 -> 0 | AH92: =$Z$6*J92 -> 0 | ... AT92: =$Z$6*V92 -> 0
A93: ='[1]수량산출(1-1)_작업용'!A93 -> 나사없는 전선관 | B93: ='[1]수량산출(1-1)_작업용'!B93 -> E31 | C93: ='[1]수량산출(1-1)_작업용'!C93 -> 0 | D93: ='[1]수량산출(1-1)_작업용'!D93 -> 0 | E93: ='[1]수량산출(1-1)_작업용'!E93 -> 0 | F93: ='[1]수량산출(1-1)_작업용'!F93 -> 0 | G93: ='[1]수량산출(1-1)_작업용'!G93 -> 0 | H93: ='[1]수량산출(1-1)_작업용'!H93 -> 0 | ... V93: ='[1]수량산출(1-1)_작업용'!V93 -> 0 | W93: =$C$90*C93+$D$90*D93+$E$90*E93+$F$90*F93+$G$90*G93+$H$90*H93+$I$90*I93+$J$90*J93+$K$90*K93+$L$90*L93+$M$90*M93+$N$90*N93+$O$90*O93+$P$90*P93+$Q$90*Q93+$R$90*R93+$S$90*S93+$T$90*T93+$U$90*U93+$V$90*V93 -> 0 | Z93: 28 | AA93: =$Z$7*C93 -> 0 | AB93: =$Z$7*D93 -> 0 | AC93: =$Z$7*E93 -> 0 | AD93: =$Z$7*F93 -> 0 | AE93: =$Z$7*G93 -> 0 | AF93: =$Z$7*H93 -> 0 | AG93: =$Z$7*I93 -> 0 | AH93: =$Z$7*J93 -> 0 | ... AT93: =$Z$7*V93 -> 0
A94: ='[1]수량산출(1-1)_작업용'!A94 -> 나사없는 전선관 | B94: ='[1]수량산출(1-1)_작업용'!B94 -> E39 | C94: ='[1]수량산출(1-1)_작업용'!C94 -> 0 | D94: ='[1]수량산출(1-1)_작업용'!D94 -> 0 | E94: ='[1]수량산출(1-1)_작업용'!E94 -> 0 | F94: ='[1]수량산출(1-1)_작업용'!F94 -> 0 | G94: ='[1]수량산출(1-1)_작업용'!G94 -> 0 | H94: ='[1]수량산출(1-1)_작업용'!H94 -> 0 | ... V94: ='[1]수량산출(1-1)_작업용'!V94 -> 0 | W94: =$C$90*C94+$D$90*D94+$E$90*E94+$F$90*F94+$G$90*G94+$H$90*H94+$I$90*I94+$J$90*J94+$K$90*K94+$L$90*L94+$M$90*M94+$N$90*N94+$O$90*O94+$P$90*P94+$Q$90*Q94+$R$90*R94+$S$90*S94+$T$90*T94+$U$90*U94+$V$90*V94 -> 0 | Z94: 32 | AA94: =$Z$8*C94 -> 0 | AB94: =$Z$8*D94 -> 0 | AC94: =$Z$8*E94 -> 0 | AD94: =$Z$8*F94 -> 0 | AE94: =$Z$8*G94 -> 0 | AF94: =$Z$8*H94 -> 0 | AG94: =$Z$8*I94 -> 0 | AH94: =$Z$8*J94 -> 0 | ... AT94: =$Z$8*V94 -> 0
A95: ='[1]수량산출(1-1)_작업용'!A95 -> CD관 | B95: ='[1]수량산출(1-1)_작업용'!B95 -> 16C | C95: ='[1]수량산출(1-1)_작업용'!C95 -> 0 | D95: ='[1]수량산출(1-1)_작업용'!D95 -> 0 | E95: ='[1]수량산출(1-1)_작업용'!E95 -> 0 | F95: ='[1]수량산출(1-1)_작업용'!F95 -> 0 | G95: ='[1]수량산출(1-1)_작업용'!G95 -> 0 | H95: ='[1]수량산출(1-1)_작업용'!H95 -> 0 | ... V95: ='[1]수량산출(1-1)_작업용'!V95 -> 0 | W95: =$C$90*C95+$D$90*D95+$E$90*E95+$F$90*F95+$G$90*G95+$H$90*H95+$I$90*I95+$J$90*J95+$K$90*K95+$L$90*L95+$M$90*M95+$N$90*N95+$O$90*O95+$P$90*P95+$Q$90*Q95+$R$90*R95+$S$90*S95+$T$90*T95+$U$90*U95+$V$90*V95 -> 0
A96: ='[1]수량산출(1-1)_작업용'!A96 -> 지중전선관(ELP) | B96: ='[1]수량산출(1-1)_작업용'!B96 -> ELP 30 | C96: ='[1]수량산출(1-1)_작업용'!C96 -> 0 | D96: ='[1]수량산출(1-1)_작업용'!D96 -> 0 | E96: ='[1]수량산출(1-1)_작업용'!E96 -> 0 | F96: ='[1]수량산출(1-1)_작업용'!F96 -> 0 | G96: ='[1]수량산출(1-1)_작업용'!G96 -> 0 | H96: ='[1]수량산출(1-1)_작업용'!H96 -> 0 | ... V96: ='[1]수량산출(1-1)_작업용'!V96 -> 0 | W96: =$C$90*C96+$D$90*D96+$E$90*E96+$F$90*F96+$G$90*G96+$H$90*H96+$I$90*I96+$J$90*J96+$K$90*K96+$L$90*L96+$M$90*M96+$N$90*N96+$O$90*O96+$P$90*P96+$Q$90*Q96+$R$90*R96+$S$90*S96+$T$90*T96+$U$90*U96+$V$90*V96 -> 0
A97: ='[1]수량산출(1-1)_작업용'!A97 -> 지중전선관(ELP) | B97: ='[1]수량산출(1-1)_작업용'!B97 -> ELP 50 | C97: ='[1]수량산출(1-1)_작업용'!C97 -> 0 | D97: ='[1]수량산출(1-1)_작업용'!D97 -> 0 | E97: ='[1]수량산출(1-1)_작업용'!E97 -> 0 | F97: ='[1]수량산출(1-1)_작업용'!F97 -> 0 | G97: ='[1]수량산출(1-1)_작업용'!G97 -> 0 | H97: ='[1]수량산출(1-1)_작업용'!H97 -> 0 | ... V97: ='[1]수량산출(1-1)_작업용'!V97 -> 0 | W97: =$C$90*C97+$D$90*D97+$E$90*E97+$F$90*F97+$G$90*G97+$H$90*H97+$I$90*I97+$J$90*J97+$K$90*K97+$L$90*L97+$M$90*M97+$N$90*N97+$O$90*O97+$P$90*P97+$Q$90*Q97+$R$90*R97+$S$90*S97+$T$90*T97+$U$90*U97+$V$90*V97 -> 0
A98: ='[1]수량산출(1-1)_작업용'!A98 -> 전선 | B98: ='[1]수량산출(1-1)_작업용'!B98 -> HFIX 2.5sq | C98: ='[1]수량산출(1-1)_작업용'!C98 -> 0 | D98: ='[1]수량산출(1-1)_작업용'!D98 -> 0 | E98: ='[1]수량산출(1-1)_작업용'!E98 -> 0 | F98: ='[1]수량산출(1-1)_작업용'!F98 -> 0 | G98: ='[1]수량산출(1-1)_작업용'!G98 -> 0 | H98: ='[1]수량산출(1-1)_작업용'!H98 -> 0 | ... V98: ='[1]수량산출(1-1)_작업용'!V98 -> 0 | W98: =$C$90*C98+$D$90*D98+$E$90*E98+$F$90*F98+$G$90*G98+$H$90*H98+$I$90*I98+$J$90*J98+$K$90*K98+$L$90*L98+$M$90*M98+$N$90*N98+$O$90*O98+$P$90*P98+$Q$90*Q98+$R$90*R98+$S$90*S98+$T$90*T98+$U$90*U98+$V$90*V98 -> 0 | AA98: =((SUM(C91:C94)-1)*15) -> 0 | AB98: =((SUM(D91:D94)-1)*15) -> 0 | AC98: =((SUM(E91:E94)-1)*15) -> -15 | AD98: =((SUM(F91:F94)-1)*15) -> -15 | AE98: =((SUM(G91:G94)-1)*15) -> -15 | AF98: =((SUM(H91:H94)-1)*15) -> -15 | AG98: =((SUM(I91:I94)-1)*15) -> -15 | AH98: =((SUM(J91:J94)-1)*15) -> -15 | ... AT98: =((SUM(V91:V94)-1)*15) -> -15
A99: ='[1]수량산출(1-1)_작업용'!A99 -> 케이블 | B99: ='[1]수량산출(1-1)_작업용'!B99 -> TJV 1.0 x 2C | C99: ='[1]수량산출(1-1)_작업용'!C99 -> 0 | D99: ='[1]수량산출(1-1)_작업용'!D99 -> 0 | E99: ='[1]수량산출(1-1)_작업용'!E99 -> 0 | F99: ='[1]수량산출(1-1)_작업용'!F99 -> 0 | G99: ='[1]수량산출(1-1)_작업용'!G99 -> 0 | H99: ='[1]수량산출(1-1)_작업용'!H99 -> 0 | ... V99: ='[1]수량산출(1-1)_작업용'!V99 -> 0 | W99: =$C$90*C99+$D$90*D99+$E$90*E99+$F$90*F99+$G$90*G99+$H$90*H99+$I$90*I99+$J$90*J99+$K$90*K99+$L$90*L99+$M$90*M99+$N$90*N99+$O$90*O99+$P$90*P99+$Q$90*Q99+$R$90*R99+$S$90*S99+$T$90*T99+$U$90*U99+$V$90*V99 -> 0 | Z99: 풀박스 | AA99: =SUM(AA91:AA98) -> 16 | AB99: =SUM(AB91:AB98) -> 16 | AC99: =SUM(AC91:AC98) -> -15 | AD99: =SUM(AD91:AD98) -> -15 | AE99: =SUM(AE91:AE98) -> -15 | AF99: =SUM(AF91:AF98) -> -15 | AG99: =SUM(AG91:AG98) -> -15 | AH99: =SUM(AH91:AH98) -> -15 | ... AT99: =SUM(AT91:AT98) -> -15
A100: ='[1]수량산출(1-1)_작업용'!A100 -> 케이블 | B100: ='[1]수량산출(1-1)_작업용'!B100 -> TJV 1.0 x 3C | C100: ='[1]수량산출(1-1)_작업용'!C100 -> 0 | D100: ='[1]수량산출(1-1)_작업용'!D100 -> 0 | E100: ='[1]수량산출(1-1)_작업용'!E100 -> 0 | F100: ='[1]수량산출(1-1)_작업용'!F100 -> 0 | G100: ='[1]수량산출(1-1)_작업용'!G100 -> 0 | H100: ='[1]수량산출(1-1)_작업용'!H100 -> 0 | ... V100: ='[1]수량산출(1-1)_작업용'!V100 -> 0 | W100: =$C$90*C100+$D$90*D100+$E$90*E100+$F$90*F100+$G$90*G100+$H$90*H100+$I$90*I100+$J$90*J100+$K$90*K100+$L$90*L100+$M$90*M100+$N$90*N100+$O$90*O100+$P$90*P100+$Q$90*Q100+$R$90*R100+$S$90*S100+$T$90*T100+$U$90*U100+$V$90*V100 -> 0
...
