Workbook

Sheet 원가계산서
B1: 원가계산서
B3: 비 목 | E3: 구분 | F3: 금 액 | G3: 요율 | H3: 산 출 근 거
C4: 재 | D4: 직 접 재 료 비 | E4: 1 | F4: =내역서!H83 -> 0
C5: 료 | D5: 간 접 재 료 비 | E5: 2 | F5: =내역서!L81 -> 0
C6: 비 | D6: 작업설.부산물등(△) | E6: 3
D7: 소 계 | E7: A | F7: =TRUNC((F4+F5+F6),0) -> 0 | H7: (1 + 2 + 3 )
C8: 노 | D8: 직 접 노 무 비 | E8: 4 | F8: =내역서!J81 -> 0
B9: 순 | C9: 무 | D9: 간 접 노 무 비 | E9: 5 | F9: =TRUNC(F8*0.191,0) -> 0 | G9: 19.1% | H9: 4 × 0.191
C10: 비 | D10: 소 계 | E10: B | F10: =TRUNC((F8+F9),0) -> 0 | H10: ( 4 + 5 )
B11: 공 | D11: 산 출 경 비 | E11: 6 | F11: =내역서!N81 -> 0
D12: 산 재 보 험 료 | E12: 7 | F12: =TRUNC(F10*0.0356,0) -> 0 | G12: 3.56% | H12: B × 0.0356
B13: 사 | D13: 고 용 보 험 료 | E13: 8 | F13: =TRUNC(F10*0.0101,0) -> 0 | G13: 1.01% | H13: B × 0.0101
C14: 경 | D14: 건 강 보 험 료 | E14: 9 | F14: =TRUNC(F8*0.03595,0) -> 0 | G14: 3.595% | H14: 4 × 0.03595
B15: 원 | D15: 연 금 보 험 료 | E15: 10 | F15: =TRUNC(F8*0.0475,0) -> 0 | G15: 4.75% | H15: 4 × 0.0475
D16: 노인장기요양 보 험 료 | E16: 11 | F16: =TRUNC(F14*0.1314,0) -> 0 | G16: 13.14% | H16: 9 × 0.1314
B17: 가 | D17: 퇴 직 공 제 부 금 비 | E17: 12 | F17: =TRUNC(F8*0.023,0) -> 0 | G17: 2.3% | H17: 4 × 0.023
D18: 건설기계대여금지급보증서발급액 | E18: 13 | F18: =TRUNC((F7+F8+F11)*0.0051,0) -> 0 | G18: 0.51% | H18: (A + 4 + 6) × 0.0051
D19: 산 업 안 전 보건관리비 | E19: 14 | F19: =TRUNC((F7+F8)*0.0315*1.2,0) -> 0 | G19: 3.15% | H19: (A + 4) × 0.0315 × 1.2
D20: 환 경 보 전 비 | E20: 15 | F20: =TRUNC((F7+F8+F11)*0.005,0) -> 0 | G20: 0.5% | H20: (A + 4 + 6) ×0.005
D21: 공 사 이 행 보증수수료 | E21: 16
C22: 비 | D22: 하도급대금지급보증수수료 | E22: 17
D23: 석 면 분 담 금 | E23: 18 | F23: =TRUNC(F10*0.00006,0) -> 0 | G23: 0.006% | H23: B × 0.00006
D24: 임 금 채 권 부 담 금 | E24: 19 | F24: =TRUNC(F10*0.0009,0) -> 0 | G24: 0.09% | H24: B × 0.0009
D25: 기 타 경 비 | E25: 20 | F25: =TRUNC((F7+F10)*0.055,0) -> 0 | G25: 5.5% | H25: (A + B) × 0.055
D26: 소 계 | E26: C | F26: =TRUNC((F11+F12+F13+F14+F15+F16+F17+F18+F19+F20+F21+F22+F23+F24+F25),0) -> 0 | H26: (6:20)
D27: 순 공 사 원 가 | E27: D | F27: =TRUNC((F7+F10+F26),0) -> 0 | H27: (A + B + C)
D28: 일 반 관 리 비 | E28: E | F28: =TRUNC(F27*0.08,0) -> 0 | G28: 8% | H28: D × 0.08
D29: 이 윤 | E29: F | F29: =TRUNC((F10+F26+F28)*0.15,0)-635 -> -635 | G29: 15% | H29: (B + C + E) ×0.15
D30: 총 원 가 | E30: G | F30: =TRUNC((F27+F28+F29),0) -> -635 | H30: (D + E + F)
D31: 부 가 가 치 세 | E31: H | F31: =IF(L52<> "0.9",TRUNC(F30*0.1,0),TRUNC(F30*0.1,0)+1) -> -63 | G31: 10% | H31: G × 0.1
D32: 도 급 액 | E32: I | F32: =TRUNC((F30+F31),0) -> -698 | H32: (G + H)
D33: 관 급 자 재 대 | E33: J | F33: =내역서!H119 -> 0 | L33: =내역서!H119 -> 0 | M33: =내역서!H125+내역서!H129 -> 0
D34: 총 공 사 비 | E34: K | F34: =TRUNC((F32+F33),3) -> -698 | H34: (I + J)
L52: =RIGHT(F30*0.1,3) -> 3.5

Sheet 내역서
B1: 내역서
B3: 공종 | C3: 품 명 | D3: 규 격 | E3: 수 량 | F3: 단위 | G3: 합 계 | I3: 노 무 비 | K3: 재 료 비 | M3: 경 비 | O3: 비 고
G4: 단 가 | H4: 금 액 | I4: 단 가 | J4: 금 액 | K4: 단 가 | L4: 금 액 | M4: 단 가 | N4: 금 액
B5: 1. | C5: 토 공
B6: 1.1 | C6: 기존구조물깨기
C7: 포장절단 | D7: 1차로(기계) | E7: 812 | F7: M | O7: 단산1참조
C8: 아스팔트포장깨기 | D8: 대형브레이커+0.2㎥ | E8: 42 | F8: ㎥ | O8: 단산2참조
C9: 콘크리트포장깨기 | D9: 대형브레이커+0.2㎥ | E9: 8 | F9: ㎥ | O9: 단산3참조
C10: 폐기물상차 | D10: 백호0.2㎥ | E10: 50 | F10: ㎥ | O10: 단산4참조
B11: 1.2 | C11: 토 공
C12: 터파기 | D12: 백호0.2㎥(기계90%+인력10%) | E12: 255 | F12: ㎥ | O12: 단산5참조
C13: 되메우기 | D13: 백호0.2㎥(기계100%) | E13: 108 | F13: ㎥ | O13: 단산6참조
C14: 사토운반 | D14: 백호0.2㎥+덤프15Ton | E14: 147 | F14: ㎥ | O14: 단산7참조
C15: BOX하월 | D15: 2.0×2.0m | E15: 8 | F15: m | O15: 일위1참조
B16: 1.3 | C16: 석분부설
C17: 석분부설 및 다짐 | D17: 백호0.2㎥(기계90%+인력10%) | E17: 51 | F17: ㎥ | O17: 단산8참조
B19: 2. | C19: 상수도공
B20: 2.1 | C20: 상수도관 접합 및 부설
C21: PE수도관 접합 및 부설 | D21: D90mm | E21: 351 | F21: m | O21: 단산9참조
C22: PE수도관 접합 및 부설 | D22: D25mm | E22: 25 | F22: m | O22: 단산10참조
C23: PE수도관 접합 및 부설 | D23: D20mm | E23: 45 | F23: m | O23: 단산11참조
B25: 2.2 | C25: 이형관접합
C26: KP식PE이형관접합 | D26: D225mm | E26: 3 | F26: 개소 | O26: 단산12참조
C27: KP식PE이형관접합 | D27: D90mm | E27: 11 | F27: 개소 | O27: 단산13참조
C28: PE이형관접합 및 부설 | D28: D50mm | E28: 3 | F28: 개소 | O28: 단산14참조
C29: PE이형관접합 및 부설 | D29: D25mm | E29: 12 | F29: 개소 | O29: 단산15참조
C30: PE이형관접합 및 부설 | D30: D20mm | E30: 12 | F30: 개소 | O30: 단산16참조
B31: 2.3 | C31: 플랜지접합
C32: 플랜지접합 | D32: D200mm | E32: 2 | F32: 개소 | O32: 단산17참조
C33: 플랜지접합 | D33: D80mm | E33: 2 | F33: 개소 | O33: 단산18참조
B34: 2.4 | C34: 새들분기관접합
C35: 부단수천공 새들분수전 분기 | D35: D90×25mm | E35: 2 | F35: 개소 | O35: 단산19참조
B36: 2.5 | C36: 나사조임식이음관접합
C37: 나사조임식이음관접합 | D37: D50mm | E37: 2 | F37: 개소 | O37: 단산20참조
C38: 나사조임식이음관접합 | D38: D25mm | E38: 4 | F38: 개소 | O38: 단산21참조
C39: 나사조임식이음관접합 | D39: D20mm | E39: 8 | F39: 개소 | O39: 단산22참조
B40: 2.6 | C40: 수도계량기및보호통
C41: 수도계량기및보호통 설치 | D41: D40~50mm | E41: 1 | F41: 개소 | O41: 단산23참조
C42: 수도계량기및보호통 설치 | D42: D13~15mm | E42: 4 | F42: 개소 | O42: 단산24참조
B43: 2.7 | C43: 제수밸브 부설
C44: 제수밸브 부설 및 접합 | D44: D200mm | E44: 1 | F44: 개소 | O44: 단산25참조
C45: 제수밸브 부설 및 접합 | D45: D80mm | E45: 1 | F45: 개소 | O45: 단산26참조
B46: 2.8 | C46: 제수변실
C47: 원형밸브실설치 | D47: D900×H1,300mm | E47: 2 | F47: 개소 | O47: 단산27참조
B49: 3. | C49: 포 장 공
B50: 3.1 | C50: 포장복구
C51: 아스콘표층 절삭 후 덧씌우기 | D51: T=5cm | E51: 1190 | F51: ㎡ | O51: 단산28참조
C52: 텍코팅(인력식) | D52: 아스팔트스프레이어400ℓ | E52: 1190 | F52: ㎡ | O52: 단산29참조
C53: 아스팔트 기층 포설및다짐 | D53: 소규모포설,t=7.5cm이하 | E53: 282 | F53: ㎡ | O53: 단산30참조
C54: 프라임코팅(인력식) | D54: 아스팔트스프레이어400ℓ | E54: 282 | F54: ㎡ | O54: 단산31참조
C55: 콘크리트포장(인력포설) | D55: B-Type, t=20cm | E55: 8 | F55: ㎥ | O55: 단산32참조
C56: 보조기층포설및다짐 | D56: 인력식 소규모 장비사용 시공 | E56: 290 | F56: ㎥ | O56: 단산33참조
C57: 보도블럭재포장 | D57: T=6cm | E57: 4 | F57: ㎡ | O57: 일위2참조
B58: 3.2 | C58: 차선도색
C59: 차선도색(융착식,일반형) | D59: 수동식,황색실선 | E59: 6 | F59: ㎡ | O59: 단산36참조
C60: 차선도색(융착식,일반형) | D60: 수동식,백색실선 | E60: 48 | F60: ㎡ | O60: 단산37참조
C61: 차선도색(융착식,일반형) | D61: 수동식,백색파선 | E61: 4 | F61: ㎡ | O61: 단산38참조
C62: 차선도색(융착식,일반형) | D62: 수동식,문자.기호 | E62: 9 | F62: ㎡ | O62: 단산39참조
C63: 차선도색(융착식,일반형) | D63: 수동식,횡단보도.주차장 | E63: 92 | F63: ㎡ | O63: 단산40참조
B65: 4. | C65: 부 대 공
B66: 4.1 | C66: 공사중 교통안전시설
C67: 교통통제및안전처리 | D67: 공구연장500m이상 | E67: 5 | F67: 일 | O67: 단산41참조
C68: 안전시설비 | E68: 1 | F68: 식 | O68: 단산42참조
B69: 4.2 | C69: 운반비
C70: 중기운반 | D70: 트레일러 20Ton | E70: 1 | F70: 식 | O70: 단산43참조
C71: 아스팔트운반 | E71: 3 | F71: D/M | O71: 단산44참조
C72: 보조기층운반 | D72: 덤프트럭 15Ton | E72: 372 | F72: ㎥ | O72: 단산45참조
C73: 석분운반 | D73: 덤프트럭 15Ton | E73: 53 | F73: ㎥ | O73: 단산46참조
C81: 순 공 사 비
B83: ◎ | C83: *사급자재대
C84: 관로경고테이프 | D84: 폭30cm×1m | E84: 351 | F84: M
C85: PE수도관 | D85: D225mm | E85: 1 | F85: M
C86: KP식 이음관 | D86: D90mm | E86: 8 | F86: EA
C87: 소프트실제수밸브 | D87: D200mm,표준형 | E87: 1 | F87: 개
C88: 소프트실제수밸브 | D88: D80mm,표준형 | E88: 1 | F88: 개
C89: KP식소켓플랜지 | D89: D225mm | E89: 2 | F89: EA
C90: KP식소켓플랜지 | D90: D90mm | E90: 1 | F90: EA
C91: KP식정티 | D91: D90mm | E91: 1 | F91: EA
C92: KP식이경소켓 | D92: D225×90mm | E92: 1 | F92: EA
C93: KP식곡관 | D93: 45˚,D90mm | E93: 2 | F93: EA
C94: KP식마감켑 | D94: D90mm | E94: 1 | F94: EA
C95: 플랜지단관 | D95: D90mm | E95: 1 | F95: EA
... C116: 석분 | D116: 5mm이하 | E116: 53 | F116: ㎥
B119: ◎ | C119: 관급자재대
B120: 1. | C120: 수도관자재
C121: 수도용폴리에틸렌관 | D121: D90mm | E121: 351 | F121: m | O121: 관급
C122: 수도용폴리에틸렌관 | D122: D25mm | E122: 25 | F122: m | O122: 관급
C123: 수도용폴리에틸렌관 | D123: D20mm | E123: 45 | F123: m | O123: 관급
C124: 원형밸브실 | D124: D900×H1,300mm | E124: 2 | F124: EA | O124: 관급
C125: 조달수수료 | E125: 0.54 | F125: %
B126: 2. | C126: 포장재
C127: 아스콘(관급, 조합공통품목) | D127: WC-2, 가열, 3등급 | E127: 142 | F127: Ton | O127: 관급
C128: 아스콘(관급, 조합공통품목) | D128: BB-2, 가열, 3등급 | E128: 100 | F128: Ton | O128: 관급
C129: 조달수수료 | E129: 0.54 | F129: %

Sheet 일위대가총괄표
B1: 일위대가총괄표
B3: 호 표 | C3: 품 명 | D3: 규 격 | E3: 단위 | F3: 합 계 | G3: 노무비 | H3: 재료비 | I3: 경 비 | J3: 비 고 | Z3: 당초합계 | AA3: 당초노무비 | AB3: 당초재료비 | AC3: 당초경비
B4: 제1호표 | C4: BOX하월 | D4: 2.0×2.0m | E4: m | F4: =G4+H4+I4 -> 162237 | G4: =일위대가!J5 -> 115544 | H4: =일위대가!L5 -> 39757 | I4: =일위대가!N5 -> 6936 | Z4: 162237 | AA4: 115544 | AB4: 39757 | AC4: 6936
B5: 제2호표 | C5: 보도블럭재포장 | D5: T=6cm | E5: ㎡ | F5: =G5+H5+I5 -> 16378 | G5: =일위대가!J10 -> 14259 | H5: =일위대가!L10 -> 1329 | I5: =일위대가!N10 -> 790 | Z5: 16378 | AA5: 14259 | AB5: 1329 | AC5: 790

Sheet 일위대가
B1: 일위대가
B3: 호 표 | C3: 품 명 | D3: 규 격 | E3: 수 량 | F3: 단위 | G3: 합 계 | I3: 노무비 | K3: 재료비 | M3: 경 비 | O3: 비 고
G4: 단 가 | H4: 금 액 | I4: 단 가 | J4: 금 액 | K4: 단 가 | L4: 금 액 | M4: 단 가 | N4: 금 액
B5: 제1호표 | C5: BOX하월 | D5: 2.0×2.0m | F5: m | H5: =J5+L5+N5 -> 162237 | J5: =TRUNC(J6+J7+J8) -> 115544 | L5: =TRUNC(L6+L7+L8) -> 39757 | N5: =TRUNC(N6+N7+N8) -> 6936
C6: 굴착기(무한궤도) | D6: 0.2㎥ | E6: 0.5 | F6: hr | G6: =I6+K6+M6 -> 83081 | H6: =J6+L6+N6 -> 41540 | I6: =기계경비총괄표!G8 -> 59020 | J6: =TRUNC(E6*I6,0) -> 29510 | K6: =기계경비총괄표!H8 -> 10188 | L6: =TRUNC(E6*K6,0) -> 5094 | M6: =기계경비총괄표!I8 -> 13873 | N6: =TRUNC(E6*M6,0) -> 6936
C7: 보통인부 | E7: 0.5 | F7: 인 | G7: =I7+K7+M7 -> 172068 | H7: =J7+L7+N7 -> 86034 | I7: =노임단가!F5 -> 172068 | J7: =TRUNC(E7*I7,0) -> 86034 | K7: =노임단가!AB5 -> 0 | L7: =TRUNC(E7*K7,0) -> 0 | M7: =노임단가!AC5 -> 0 | N7: =TRUNC(E7*M7,0) -> 0
C8: 잡재료비 | D8: 노무비의 | E8: 30 | F8: % | G8: =I8+K8+M8 -> 115544 | H8: =J8+L8+N8 -> 34663 | J8: =TRUNC(E8*1/100*I8,0) -> 0 | K8: =J7+J6 -> 115544 | L8: =TRUNC(E8*1/100*K8,0) -> 34663 | N8: =TRUNC(E8*1/100*M8,0) -> 0
J9: =TRUNC(E9*I9,0) -> 0 | L9: =TRUNC(E9*K9,0) -> 0 | N9: =TRUNC(E9*M9,0) -> 0
B10: 제2호표 | C10: 보도블럭재포장 | D10: T=6cm | F10: ㎡ | H10: =J10+L10+N10 -> 16378 | J10: =TRUNC(J11+J12) -> 14259 | L10: =TRUNC(L11+L12) -> 1329 | N10: =TRUNC(N11+N12) -> 790
C11: 보도용 블록 인력철거 | D11: A-Type | E11: 1 | F11: ㎡ | G11: =I11+K11+M11 -> 3873 | H11: =J11+L11+N11 -> 3873 | I11: =단가산출총괄표!G37 -> 3580 | J11: =TRUNC(E11*I11,0) -> 3580 | K11: =단가산출총괄표!H37 -> 149 | L11: =TRUNC(E11*K11,0) -> 149 | M11: =단가산출총괄표!I37 -> 144 | N11: =TRUNC(E11*M11,0) -> 144 | O11: 단산34참조
C12: 보도용 블록 재설치(소형) | D12: A-Type, t=8cm이하 | E12: 1 | F12: ㎡ | G12: =I12+K12+M12 -> 12505 | H12: =J12+L12+N12 -> 12505 | I12: =단가산출총괄표!G38 -> 10679 | J12: =TRUNC(E12*I12,0) -> 10679 | K12: =단가산출총괄표!H38 -> 1180 | L12: =TRUNC(E12*K12,0) -> 1180 | M12: =단가산출총괄표!I38 -> 646 | N12: =TRUNC(E12*M12,0) -> 646 | O12: 단산35참조
J13: =TRUNC(E13*I13,0) -> 0 | L13: =TRUNC(E13*K13,0) -> 0 | N13: =TRUNC(E13*M13,0) -> 0
J14: =TRUNC(E14*I14,0) -> 0 | L14: =TRUNC(E14*K14,0) -> 0 | N14: =TRUNC(E14*M14,0) -> 0
J15: =TRUNC(E15*I15,0) -> 0 | L15: =TRUNC(E15*K15,0) -> 0 | N15: =TRUNC(E15*M15,0) -> 0
J16: =TRUNC(E16*I16,0) -> 0 | L16: =TRUNC(E16*K16,0) -> 0 | N16: =TRUNC(E16*M16,0) -> 0
J17: =TRUNC(E17*I17,0) -> 0 | L17: =TRUNC(E17*K17,0) -> 0 | N17: =TRUNC(E17*M17,0) -> 0
J18: =TRUNC(E18*I18,0) -> 0 | L18: =TRUNC(E18*K18,0) -> 0 | N18: =TRUNC(E18*M18,0) -> 0
J19: =TRUNC(E19*I19,0) -> 0 | L19: =TRUNC(E19*K19,0) -> 0 | N19: =TRUNC(E19*M19,0) -> 0
J20: =TRUNC(E20*I20,0) -> 0 | L20: =TRUNC(E20*K20,0) -> 0 | N20: =TRUNC(E20*M20,0) -> 0
J21: =TRUNC(E21*I21,0) -> 0 | L21: =TRUNC(E21*K21,0) -> 0 | N21: =TRUNC(E21*M21,0) -> 0
J22: =TRUNC(E22*I22,0) -> 0 | L22: =TRUNC(E22*K22,0) -> 0 | N22: =TRUNC(E22*M22,0) -> 0
J23: =TRUNC(E23*I23,0) -> 0 | L23: =TRUNC(E23*K23,0) -> 0 | N23: =TRUNC(E23*M23,0) -> 0
J24: =TRUNC(E24*I24,0) -> 0 | L24: =TRUNC(E24*K24,0) -> 0 | N24: =TRUNC(E24*M24,0) -> 0
... J40: =TRUNC(E40*I40,0) -> 0 | L40: =TRUNC(E40*K40,0) -> 0 | N40: =TRUNC(E40*M40,0) -> 0

Sheet 단가산출총괄표
B1: 단가산출총괄표
B3: No | C3: 품 명 | D3: 규 격 | E3: 단위 | F3: 합 계 | G3: 노무비 | H3: 재료비 | I3: 경 비 | J3: 비 고 | Z3: 당초합계 | AA3: 당초노무비 | AB3: 당초재료비 | AC3: 당초경비
B4: 1 | C4: 포장절단 | D4: 1차로(기계) | E4: M | F4: =G4+H4+I4 -> 2331 | G4: =단가산출!D4 -> 1530 | H4: =단가산출!E4 -> 736 | I4: =단가산출!F4 -> 65 | Z4: 2331 | AA4: 1530 | AB4: 736 | AC4: 65
B5: 2 | C5: 아스팔트포장깨기 | D5: 대형브레이커+0.2㎥ | E5: ㎥ | F5: =G5+H5+I5 -> 38831 | G5: =단가산출!D79 -> 28542 | H5: =단가산출!E79 -> 4080 | I5: =단가산출!F79 -> 6209 | Z5: 38831 | AA5: 28542 | AB5: 4080 | AC5: 6209
B6: 3 | C6: 콘크리트포장깨기 | D6: 대형브레이커+0.2㎥ | E6: ㎥ | F6: =G6+H6+I6 -> 74154 | G6: =단가산출!D120 -> 54918 | H6: =단가산출!E120 -> 7497 | I6: =단가산출!F120 -> 11739 | Z6: 74154 | AA6: 54918 | AB6: 7497 | AC6: 11739
B7: 4 | C7: 폐기물상차 | D7: 백호0.2㎥ | E7: ㎥ | F7: =G7+H7+I7 -> 12850 | G7: =단가산출!D161 -> 8901 | H7: =단가산출!E161 -> 1536 | I7: =단가산출!F161 -> 2413 | Z7: 12850 | AA7: 8901 | AB7: 1536 | AC7: 2413
B8: 5 | C8: 터파기 | D8: 백호0.2㎥(기계90%+인력10%) | E8: ㎥ | F8: =G8+H8+I8 -> 7433 | G8: =단가산출!D185 -> 6278 | H8: =단가산출!E185 -> 489 | I8: =단가산출!F185 -> 666 | Z8: 7433 | AA8: 6278 | AB8: 489 | AC8: 666
B9: 6 | C9: 되메우기 | D9: 백호0.2㎥(기계100%) | E9: ㎥ | F9: =G9+H9+I9 -> 2696 | G9: =단가산출!D215 -> 1916 | H9: =단가산출!E215 -> 330 | I9: =단가산출!F215 -> 450 | Z9: 2696 | AA9: 1916 | AB9: 330 | AC9: 450
B10: 7 | C10: 사토운반 | D10: 백호0.2㎥+덤프15Ton | E10: ㎥ | F10: =G10+H10+I10 -> 6521 | G10: =단가산출!D237 -> 3288 | H10: =단가산출!E237 -> 2058 | I10: =단가산출!F237 -> 1175 | Z10: 6521 | AA10: 3288 | AB10: 2058 | AC10: 1175
B11: 8 | C11: 석분부설 및 다짐 | D11: 백호0.2㎥(기계90%+인력10%) | E11: ㎥ | F11: =G11+H11+I11 -> 8810 | G11: =단가산출!D286 -> 7570 | H11: =단가산출!E286 -> 606 | I11: =단가산출!F286 -> 634 | Z11: 8810 | AA11: 7570 | AB11: 606 | AC11: 634
B12: 9 | C12: PE수도관 접합 및 부설 | D12: D90mm | E12: m | F12: =G12+H12+I12 -> 3517 | G12: =단가산출!D332 -> 3517 | H12: =단가산출!E332 -> 0 | I12: =단가산출!F332 -> 0 | Z12: 3517 | AA12: 3517
B13: 10 | C13: PE수도관 접합 및 부설 | D13: D25mm | E13: m | F13: =G13+H13+I13 -> 586 | G13: =단가산출!D349 -> 586 | H13: =단가산출!E349 -> 0 | I13: =단가산출!F349 -> 0 | Z13: 586 | AA13: 586
B14: 11 | C14: PE수도관 접합 및 부설 | D14: D20mm | E14: m | F14: =G14+H14+I14 -> 535 | G14: =단가산출!D366 -> 535 | H14: =단가산출!E366 -> 0 | I14: =단가산출!F366 -> 0 | Z14: 535 | AA14: 535
B15: 12 | C15: KP식PE이형관접합 | D15: D225mm | E15: 개소 | F15: =G15+H15+I15 -> 84604 | G15: =단가산출!D383 -> 33906 | H15: =단가산출!E383 -> 48364 | I15: =단가산출!F383 -> 2334 | Z15: 84604 | AA15: 33906 | AB15: 48364 | AC15: 2334
B16: 13 | C16: KP식PE이형관접합 | D16: D90mm | E16: 개소 | F16: =G16+H16+I16 -> 49323 | G16: =단가산출!D413 -> 23453 | H16: =단가산출!E413 -> 25870 | I16: =단가산출!F413 -> 0 | Z16: 49323 | AA16: 23453 | AB16: 25870
B17: 14 | C17: PE이형관접합 및 부설 | D17: D50mm | E17: 개소 | F17: =G17+H17+I17 -> 9381 | G17: =단가산출!D434 -> 9381 | H17: =단가산출!E434 -> 0 | I17: =단가산출!F434 -> 0 | Z17: 9381 | AA17: 9381
B18: 15 | C18: PE이형관접합 및 부설 | D18: D25mm | E18: 개소 | F18: =G18+H18+I18 -> 7035 | G18: =단가산출!D451 -> 7035 | H18: =단가산출!E451 -> 0 | I18: =단가산출!F451 -> 0 | Z18: 7035 | AA18: 7035
B19: 16 | C19: PE이형관접합 및 부설 | D19: D20mm | E19: 개소 | F19: =G19+H19+I19 -> 6429 | G19: =단가산출!D468 -> 6429 | H19: =단가산출!E468 -> 0 | I19: =단가산출!F468 -> 0 | Z19: 6429 | AA19: 6429
B20: 17 | C20: 플랜지접합 | D20: D200mm | E20: 개소 | F20: =G20+H20+I20 -> 55991 | G20: =단가산출!D485 -> 39207 | H20: =단가산출!E485 -> 16000 | I20: =단가산출!F485 -> 784 | Z20: 55991 | AA20: 39207 | AB20: 16000 | AC20: 784
B21: 18 | C21: 플랜지접합 | D21: D80mm | E21: 개소 | F21: =G21+H21+I21 -> 21791 | G21: =단가산출!D510 -> 16570 | H21: =단가산출!E510 -> 4890 | I21: =단가산출!F510 -> 331 | Z21: 21791 | AA21: 16570 | AB21: 4890 | AC21: 331
B22: 19 | C22: 부단수천공 새들분수전 분기 | D22: D90×25mm | E22: 개소 | F22: =G22+H22+I22 -> 98574 | G22: =단가산출!D535 -> 97611 | H22: =단가산출!E535 -> 0 | I22: =단가산출!F535 -> 963 | Z22: 98574 | AA22: 97611 | AC22: 963
B23: 20 | C23: 나사조임식이음관접합 | D23: D50mm | E23: 개소 | F23: =G23+H23+I23 -> 6835 | G23: =단가산출!D556 -> 6835 | H23: =단가산출!E556 -> 0 | I23: =단가산출!F556 -> 0 | Z23: 6835 | AA23: 6835
B24: 21 | C24: 나사조임식이음관접합 | D24: D25mm | E24: 개소 | F24: =G24+H24+I24 -> 5281 | G24: =단가산출!D573 -> 5281 | H24: =단가산출!E573 -> 0 | I24: =단가산출!F573 -> 0 | Z24: 5281 | AA24: 5281
B25: 22 | C25: 나사조임식이음관접합 | D25: D20mm | E25: 개소 | F25: =G25+H25+I25 -> 5281 | G25: =단가산출!D590 -> 5281 | H25: =단가산출!E590 -> 0 | I25: =단가산출!F590 -> 0 | Z25: 5281 | AA25: 5281
B26: 23 | C26: 수도계량기및보호통 설치 | D26: D40~50mm | E26: 개소 | F26: =G26+H26+I26 -> 166306 | G26: =단가산출!D607 -> 166306 | H26: =단가산출!E607 -> 0 | I26: =단가산출!F607 -> 0 | Z26: 166306 | AA26: 166306
B27: 24 | C27: 수도계량기및보호통 설치 | D27: D13~15mm | E27: 개소 | F27: =G27+H27+I27 -> 101631 | G27: =단가산출!D628 -> 101631 | H27: =단가산출!E628 -> 0 | I27: =단가산출!F628 -> 0 | Z27: 101631 | AA27: 101631
B28: 25 | C28: 제수밸브 부설 및 접합 | D28: D200mm | E28: 개소 | F28: =G28+H28+I28 -> 115289 | G28: =단가산출!D649 -> 101580 | H28: =단가산출!E649 -> 6595 | I28: =단가산출!F649 -> 7114 | Z28: 115289 | AA28: 101580 | AB28: 6595 | AC28: 7114
B29: 26 | C29: 제수밸브 부설 및 접합 | D29: D80mm | E29: 개소 | F29: =G29+H29+I29 -> 52068 | G29: =단가산출!D675 -> 52068 | H29: =단가산출!E675 -> 0 | I29: =단가산출!F675 -> 0 | Z29: 52068 | AA29: 52068
B30: 27 | C30: 원형밸브실설치 | D30: D900×H1,300mm | E30: 개소 | F30: =G30+H30+I30 -> 255793 | G30: =단가산출!D692 -> 206704 | H30: =단가산출!E692 -> 10850 | I30: =단가산출!F692 -> 38239 | Z30: 255793 | AA30: 206704 | AB30: 10850 | AC30: 38239
B31: 28 | C31: 아스콘표층 절삭 후 덧씌우기 | D31: T=5cm | E31: ㎡ | F31: =G31+H31+I31 -> 4294 | G31: =단가산출!D720 -> 1928 | H31: =단가산출!E720 -> 1130 | I31: =단가산출!F720 -> 1236 | Z31: 4294 | AA31: 1928 | AB31: 1130 | AC31: 1236
B32: 29 | C32: 텍코팅(인력식) | D32: 아스팔트스프레이어400ℓ | E32: ㎡ | F32: =G32+H32+I32 -> 81 | G32: =단가산출!D824 -> 79 | H32: =단가산출!E824 -> 2 | I32: =단가산출!F824 -> 0 | Z32: 81 | AA32: 79 | AB32: 2
B33: 30 | C33: 아스팔트 기층 포설및다짐 | D33: 소규모포설,t=7.5cm이하 | E33: ㎡ | F33: =G33+H33+I33 -> 7154 | G33: =단가산출!D850 -> 6155 | H33: =단가산출!E850 -> 622 | I33: =단가산출!F850 -> 377 | Z33: 7154 | AA33: 6155 | AB33: 622 | AC33: 377
B34: 31 | C34: 프라임코팅(인력식) | D34: 아스팔트스프레이어400ℓ | E34: ㎡ | F34: =G34+H34+I34 -> 81 | G34: =단가산출!D910 -> 79 | H34: =단가산출!E910 -> 2 | I34: =단가산출!F910 -> 0 | Z34: 81 | AA34: 79 | AB34: 2
B35: 32 | C35: 콘크리트포장(인력포설) | D35: B-Type, t=20cm | E35: ㎥ | F35: =G35+H35+I35 -> 29609 | G35: =단가산출!D936 -> 28747 | H35: =단가산출!E936 -> 862 | I35: =단가산출!F936 -> 0 | Z35: 29609 | AA35: 28747 | AB35: 862
B36: 33 | C36: 보조기층포설및다짐 | D36: 인력식 소규모 장비사용 시공 | E36: ㎥ | F36: =G36+H36+I36 -> 14068 | G36: =단가산출!D961 -> 11649 | H36: =단가산출!E961 -> 1309 | I36: =단가산출!F961 -> 1110 | Z36: 14068 | AA36: 11649 | AB36: 1309 | AC36: 1110
B37: 34 | C37: 보도용 블록 인력철거 | D37: A-Type | E37: ㎡ | F37: =G37+H37+I37 -> 3873 | G37: =단가산출!D1005 -> 3580 | H37: =단가산출!E1005 -> 149 | I37: =단가산출!F1005 -> 144 | Z37: 3873 | AA37: 3580 | AB37: 149 | AC37: 144
B38: 35 | C38: 보도용 블록 재설치(소형) | D38: A-Type, t=8cm이하 | E38: ㎡ | F38: =G38+H38+I38 -> 12505 | G38: =단가산출!D1037 -> 10679 | H38: =단가산출!E1037 -> 1180 | I38: =단가산출!F1037 -> 646 | Z38: 12505 | AA38: 10679 | AB38: 1180 | AC38: 646
B39: 36 | C39: 차선도색(융착식,일반형) | D39: 수동식,황색실선 | E39: ㎡ | F39: =G39+H39+I39 -> 26645 | G39: =단가산출!D1104 -> 3185 | H39: =단가산출!E1104 -> 23075 | I39: =단가산출!F1104 -> 385 | Z39: 26645 | AA39: 3185 | AB39: 23075 | AC39: 385
B40: 37 | C40: 차선도색(융착식,일반형) | D40: 수동식,백색실선 | E40: ㎡ | F40: =G40+H40+I40 -> 28704 | G40: =단가산출!D1171 -> 3185 | H40: =단가산출!E1171 -> 25134 | I40: =단가산출!F1171 -> 385 | Z40: 28704 | AA40: 3185 | AB40: 25134 | AC40: 385
B41: 38 | C41: 차선도색(융착식,일반형) | D41: 수동식,백색파선 | E41: ㎡ | F41: =G41+H41+I41 -> 32569 | G41: =단가산출!D1238 -> 6371 | H41: =단가산출!E1238 -> 25428 | I41: =단가산출!F1238 -> 770 | Z41: 32569 | AA41: 6371 | AB41: 25428 | AC41: 770
B42: 39 | C42: 차선도색(융착식,일반형) | D42: 수동식,문자.기호 | E42: ㎡ | F42: =G42+H42+I42 -> 46311 | G42: =단가산출!D1305 -> 17698 | H42: =단가산출!E1305 -> 26472 | I42: =단가산출!F1305 -> 2141 | Z42: 46311 | AA42: 17698 | AB42: 26472 | AC42: 2141
B43: 40 | C43: 차선도색(융착식,일반형) | D43: 수동식,횡단보도.주차장 | E43: ㎡ | F43: =G43+H43+I43 -> 35010 | G43: =단가산출!D1373 -> 8383 | H43: =단가산출!E1373 -> 25613 | I43: =단가산출!F1373 -> 1014 | Z43: 35010 | AA43: 8383 | AB43: 25613 | AC43: 1014
B44: 41 | C44: 교통통제및안전처리 | D44: 공구연장500m이상 | E44: 일 | F44: =G44+H44+I44 -> 344136 | G44: =단가산출!D1441 -> 344136 | H44: =단가산출!E1441 -> 0 | I44: =단가산출!F1441 -> 0 | J44: (경비) | Z44: 344136 | AA44: 344136
B45: 42 | C45: 안전시설비 | E45: 식 | F45: =G45+H45+I45 -> 1118250 | G45: =단가산출!D1454 -> 53250 | H45: =단가산출!E1454 -> 1065000 | I45: =단가산출!F1454 -> 0 | J45: (경비) | Z45: 1118250 | AA45: 53250 | AB45: 1065000
B46: 43 | C46: 중기운반 | D46: 트레일러 20Ton | E46: 식 | F46: =G46+H46+I46 -> 867330 | G46: =단가산출!D1510 -> 622640 | H46: =단가산출!E1510 -> 61622 | I46: =단가산출!F1510 -> 183068 | J46: 경비성단가 | Z46: 867330 | AA46: 622640 | AB46: 61622 | AC46: 183068
B47: 44 | C47: 아스팔트운반 | E47: D/M | F47: =G47+H47+I47 -> 3175 | G47: =단가산출!D1595 -> 0 | H47: =단가산출!E1595 -> 0 | I47: =단가산출!F1595 -> 3175 | J47: (경비) | Z47: 3175 | AC47: 3175
B48: 45 | C48: 보조기층운반 | D48: 덤프트럭 15Ton | E48: ㎥ | F48: =G48+H48+I48 -> 12848 | G48: =단가산출!D1616 -> 6478 | H48: =단가산출!E1616 -> 4055 | I48: =단가산출!F1616 -> 2315 | J48: (경비) | Z48: 12848 | AA48: 6478 | AB48: 4055 | AC48: 2315
B49: 46 | C49: 석분운반 | D49: 덤프트럭 15Ton | E49: ㎥ | F49: =G49+H49+I49 -> 12601 | G49: =단가산출!D1654 -> 6353 | H49: =단가산출!E1654 -> 3977 | I49: =단가산출!F1654 -> 2271 | J49: (경비) | Z49: 12601 | AA49: 6353 | AB49: 3977 | AC49: 2271

Sheet 단가산출
B1: 단가산출
B3: 산 출 근 거 | C3: 합 계 | D3: 노무비 | E3: 재료비 | F3: 경 비
B4: 1.포장절단(1차로(기계))[M] | C4: 2331 | D4: 1530 | E4: 736 | F4: 65
B6: < 2017년 품셈 개정(신설) >
B8: ※ 일당 시공량 : Qd = 500m/일
B10: 시간당 시공량 : Q = Qd / 8hr = 500 / 8 = 62.5 m/hr
B12: 1. 아스팔트 절단
B14: 가. 인건비
B16: 특별인부 : 226,122 ×1.0인 ÷ Qd = 226,122 ×1 ÷ 500 = 452.2
B18: 보통인부 : 172,068 ×1.0인 ÷ Qd = 172,068 ×1 ÷ 500 = 344.1
B20: 인부소계 : 796.3 | C20: =D20+E20+F20 -> 796.3 | D20: 796.3
B22: 나. 커터 (320~400mm)
B24: 노무비 : 36,248 ÷ 62.5 = 579.9
B25: 재료비 : 11,417 ÷ 62.5 = 182.6
B26: 경 비 : 2,064 ÷ 62.5 = 33
B27: 소 계 : 795.5 | C27: =D27+E27+F27 -> 795.5 | D27: 579.9 | E27: 182.6 | F27: 33
B29: 다. 동력분무기 (4.85kw)
B31: 노무비 : 0 ÷ 62.5 ×0.5대 = 0
B32: 재료비 : 2,650 ÷ 62.5 ×0.5대 = 21.2
B33: 경 비 : 258 ÷ 62.5 ×0.5대 = 2
B34: 소 계 : 23.2 | C34: =D34+E34+F34 -> 23.2 | E34: 21.2 | F34: 2
B36: 라. 소모재료
B38: 블레이드(14"×3.2mm) 169,800 × 0.27EA ÷ 100m = 458.4 | C38: =D38+E38+F38 -> 458.4 | E38: 458.4
B40: 물 1.26 × 2000ℓ ÷ 100m = 25.2 | C40: =D40+E40+F40 -> 25.2 | E40: 25.2
B42: 마. 소 계
B44: 노무비 : 796.3 + 579.9 = 1,376.2
B45: 재료비 : 182.6 + 21.2 + 458.4 + 25.2 = 687.4
B46: 경 비 : 33 + 2 = 35
B47: 계 : 2,098.6 | C47: =D47+E47+F47 -> 2098.6 | D47: 1376.2 | E47: 687.4 | F47: 35
B49: 2. 물운반(20ℓ소요) : 물탱크 (5500ℓ)
B51: L = 1.0km V = 20km/hr E = 0.9
B53: t1 = 5분(준비) t3 = 10분(흡입)
B55: t4 = 5분(대기) t5 = 20분(살수)
B57: t2 = (L / V)×2×60 = (1 / 20)×2×60 = 6 분 (운반)
B59: Cm = t1 + t2 + t3 + t4 + t5 = 5 + 6 + 10 + 5 + 20 = 46
B61: To = (Cm-t3) / Cm = (46-10) / 46 = 0.78
B63: 60 × 5,500 × E 60 × 5,500 × 0.9
B64: Q = ────────── = ────────── = 6,456.52 ℓ/hr
B65: Cm 46
B67: 노무비 : 49,778 ÷ 6,456.52 ×20ℓ= 154.1
B68: 재료비 : 20,359 ÷ 6,456.52 ×20ℓ×To = 20,359 ÷ 6,456.52 ×20×0.78 = 49.1
B69: 경 비 : 9,986 ÷ 6,456.52 ×20ℓ = 30.9
B70: 소 계 : 234.1 | C70: =D70+E70+F70 -> 234.1 | D70: 154.1 | E70: 49.1 | F70: 30.9
B72: 3. 합 계
B74: 노무비 : 1,376.2 + 154.1 = 1,530
B75: 재료비 : 687.4 + 49.1 = 736
B76: 경 비 : 35 + 30.9 = 65
B77: 계 : 2,331 | C77: =D77+E77+F77 -> 2331 | D77: 1530 | E77: 736 | F77: 65
B79: 2.아스팔트포장깨기(대형브레이커+0.2㎥)[㎥] | C79: 38831 | D79: 28542 | E79: 4080 | F79: 6209
B81: 1. 대형브레이카(+굴착기(0.2㎥) < 공통품셈 8-2-15 >
B83: Q = 4.1 ㎥/hr (20cm이하)
B85: 노무비 : 59,020 ÷ 4.1 = 14,395.1
B86: 재료비 : 9,767 ÷ 4.1 = 2,382.1
B87: 경 비 : 16,882 ÷ 4.1 = 4,117.5
B88: 소 계 : 20,894.7 | C88: =D88+E88+F88 -> 20894.7 | D88: 14395.1 | E88: 2382.1 | F88: 4117.5
B90: 2. 보조인부
B92: 보통인부 : 172,068 × 1인 ÷ (8hr × 4.1) = 5,245.9 | C92: =D92+E92+F92 -> 5245.9 | D92: 5245.9
B94: 3. 치즐소모비
B96: 치즐(0.2㎥) 83,000 × 0.008본 ÷ 4.1 = 161.9 | C96: =D96+E96+F96 -> 161.9 | E96: 161.9
B98: 4. 들어내기 : 굴착기(무한궤도)(0.2㎥)
B100: q = 0.2 f = 1 / 1.5 = 0.67 K = 0.55
B102: E = 0.45 Cm = 18sec (135˚)
B104: 3,600×q×K×f×E 3,600×0.2×0.55×0.67×0.45
B105: Q = ────────── = ─────────────── = 6.63 ㎥/hr
B106: Cm 18
B108: 노무비 : 59,020 ÷ 6.63 = 8,901.9
B109: 재료비 : 10,188 ÷ 6.63 = 1,536.6
B110: 경 비 : 13,873 ÷ 6.63 = 2,092.4
B111: 소 계 : 12,530.9 | C111: =D111+E111+F111 -> 12530.9 | D111: 8901.9 | E111: 1536.6 | F111: 2092.4
B113: 5. 합 계
B115: 노무비 : 14,395.1 + 5,245.9 + 8,901.9 = 28,542
B116: 재료비 : 2,382.1 + 161.9 + 1,536.6 = 4,080
B117: 경 비 : 4,117.5 + 2,092.4 = 6,209
B118: 계 : 38,831 | C118: =D118+E118+F118 -> 38831 | D118: 28542 | E118: 4080 | F118: 6209
B120: 3.콘크리트포장깨기(대형브레이커+0.2㎥)[㎥] | C120: 74154 | D120: 54918 | E120: 7497 | F120: 11739
B122: 1. 대형브레이카(+굴착기(0.2㎥) < 공통품셈 8-2-15 >
B124: Q = 1.75 ㎥/hr
B126: 노무비 : 59,020 ÷ 1.75 = 33,725.7
B127: 재료비 : 9,767 ÷ 1.75 = 5,581.1
B128: 경 비 : 16,882 ÷ 1.75 = 9,646.8
B129: 소 계 : 48,953.6 | C129: =D129+E129+F129 -> 48953.6 | D129: 33725.7 | E129: 5581.1 | F129: 9646.8
B131: 2. 보조인부
B133: 보통인부 : 172,068 × 1인 ÷ (8hr × 1.75) = 12,290.5 | C133: =D133+E133+F133 -> 12290.5 | D133: 12290.5
B135: 3. 치즐소모비
B137: 치즐(0.2㎥) 83,000 × 0.008본 ÷ 1.75 = 379.4 | C137: =D137+E137+F137 -> 379.4 | E137: 379.4
B139: 4. 들어내기 : 굴착기(무한궤도)(0.2㎥)
B141: q = 0.2 f = 1 / 1.5 = 0.67 K = 0.55
B143: E = 0.45 Cm = 18sec (135˚)
B145: 3,600×q×K×f×E 3,600×0.2×0.55×0.67×0.45
B146: Q = ────────── = ─────────────── = 6.63 ㎥/hr
B147: Cm 18
B149: 노무비 : 59,020 ÷ 6.63 = 8,901.9
B150: 재료비 : 10,188 ÷ 6.63 = 1,536.6
B151: 경 비 : 13,873 ÷ 6.63 = 2,092.4
B152: 소 계 : 12,530.9 | C152: =D152+E152+F152 -> 12530.9 | D152: 8901.9 | E152: 1536.6 | F152: 2092.4
B154: 5. 합 계
B156: 노무비 : 33,725.7 + 12,290.5 + 8,901.9 = 54,918
B157: 재료비 : 5,581.1 + 379.4 + 1,536.6 = 7,497
B158: 경 비 : 9,646.8 + 2,092.4 = 11,739
B159: 계 : 74,154 | C159: =D159+E159+F159 -> 74154 | D159: 54918 | E159: 7497 | F159: 11739
...

Sheet 기계경비총괄표
B1: 기계경비총괄표
B3: No | C3: 품 명 | D3: 규 격 | E3: 단위 | F3: 합 계 | G3: 노무비 | H3: 재료비 | I3: 경 비 | Z3: 당초합계 | AA3: 당초노무비 | AB3: 당초재료비 | AC3: 당초경비
B4: 1 | C4: 커 터 | D4: 320~400mm | E4: hr | F4: =G4+H4+I4 -> 49729 | G4: =기계경비!AA4 -> 36248 | H4: =기계경비!AB4 -> 11417 | I4: =기계경비!AC4 -> 2064 | Z4: 49729 | AA4: 36248 | AB4: 11417 | AC4: 2064
B5: 2 | C5: 동력분무기 | D5: 4.85kw | E5: hr | F5: =G5+H5+I5 -> 2908 | G5: =기계경비!AA10 -> 0 | H5: =기계경비!AB10 -> 2650 | I5: =기계경비!AC10 -> 258 | Z5: 2908 | AB5: 2650 | AC5: 258
B6: 3 | C6: 물탱크 | D6: 5500ℓ | E6: hr | F6: =G6+H6+I6 -> 80123 | G6: =기계경비!AA15 -> 49778 | H6: =기계경비!AB15 -> 20359 | I6: =기계경비!AC15 -> 9986 | Z6: 80123 | AA6: 49778 | AB6: 20359 | AC6: 9986
B7: 4 | C7: 대형브레이카 | D7: +굴착기(0.2㎥) | E7: hr | F7: =G7+H7+I7 -> 85669 | G7: =기계경비!AA21 -> 59020 | H7: =기계경비!AB21 -> 9767 | I7: =기계경비!AC21 -> 16882 | Z7: 85669 | AA7: 59020 | AB7: 9767 | AC7: 16882
B8: 5 | C8: 굴착기(무한궤도) | D8: 0.2㎥ | E8: hr | F8: =G8+H8+I8 -> 83081 | G8: =기계경비!AA28 -> 59020 | H8: =기계경비!AB28 -> 10188 | I8: =기계경비!AC28 -> 13873 | Z8: 83081 | AA8: 59020 | AB8: 10188 | AC8: 13873
B9: 6 | C9: 굴착기(무한궤도) | D9: 0.2㎥(발파) | E9: hr | F9: =G9+H9+I9 -> 85210 | G9: =기계경비!AA34 -> 59020 | H9: =기계경비!AB34 -> 10188 | I9: =기계경비!AC34 -> 16002 | Z9: 85210 | AA9: 59020 | AB9: 10188 | AC9: 16002
B10: 7 | C10: 덤프트럭(자동덮개) | D10: 15Ton | E10: hr | F10: =G10+H10+I10 -> 117068 | G10: =기계경비!AA40 -> 59020 | H10: =기계경비!AB40 -> 36950 | I10: =기계경비!AC40 -> 21098 | Z10: 117068 | AA10: 59020 | AB10: 36950 | AC10: 21098
B11: 8 | C11: 진동 로울러(핸드가이드식) | D11: 0.7Ton | E11: hr | F11: =G11+H11+I11 -> 42401 | G11: =기계경비!AA47 -> 36248 | H11: =기계경비!AB47 -> 4186 | I11: =기계경비!AC47 -> 1967 | Z11: 42401 | AA11: 36248 | AB11: 4186 | AC11: 1967
B12: 9 | C12: 트럭탑재형크레인 | D12: 5Ton | E12: hr | F12: =G12+H12+I12 -> 71201 | G12: =기계경비!AA53 -> 49778 | H12: =기계경비!AB53 -> 10306 | I12: =기계경비!AC53 -> 11117 | Z12: 71201 | AA12: 49778 | AB12: 10306 | AC12: 11117
B13: 10 | C13: 크레인(타이어) | D13: 10Ton | E13: hr | F13: =G13+H13+I13 -> 99258 | G13: =기계경비!AA59 -> 59020 | H13: =기계경비!AB59 -> 8894 | I13: =기계경비!AC59 -> 31344 | Z13: 99258 | AA13: 59020 | AB13: 8894 | AC13: 31344
B14: 11 | C14: 노면파쇄기 | D14: 2.0m | E14: hr | F14: =G14+H14+I14 -> 338711 | G14: =기계경비!AA65 -> 59020 | H14: =기계경비!AB65 -> 102946 | I14: =기계경비!AC65 -> 176745 | Z14: 338711 | AA14: 59020 | AB14: 102946 | AC14: 176745
B15: 12 | C15: 로우더(타이어)+소형노면파쇄기 | D15: 0.95㎥ | E15: hr | F15: =G15+H15+I15 -> 95558 | G15: =기계경비!AA71 -> 59020 | H15: =기계경비!AB71 -> 15034 | I15: =기계경비!AC71 -> 21504 | Z15: 95558 | AA15: 59020 | AB15: 15034 | AC15: 21504
B16: 13 | C16: 로우더(타이어) | D16: 0.57㎥ | E16: hr | F16: =G16+H16+I16 -> 75012 | G16: =기계경비!AA78 -> 59020 | H16: =기계경비!AB78 -> 8487 | I16: =기계경비!AC78 -> 7505 | Z16: 75012 | AA16: 59020 | AB16: 8487 | AC16: 7505
B17: 14 | C17: 아스팔트페이버(피니셔) | D17: 3.0m | E17: hr | F17: =G17+H17+I17 -> 141585 | G17: =기계경비!AA84 -> 59020 | H17: =기계경비!AB84 -> 23424 | I17: =기계경비!AC84 -> 59141 | Z17: 141585 | AA17: 59020 | AB17: 23424 | AC17: 59141
B18: 15 | C18: 머캐덤 로울러(자주식) | D18: 10~12Ton | E18: hr | F18: =G18+H18+I18 -> 90357 | G18: =기계경비!AA90 -> 59020 | H18: =기계경비!AB90 -> 18480 | I18: =기계경비!AC90 -> 12857 | Z18: 90357 | AA18: 59020 | AB18: 18480 | AC18: 12857
B19: 16 | C19: 타이어 로울러(자주식) | D19: 8~15Ton | E19: hr | F19: =G19+H19+I19 -> 94726 | G19: =기계경비!AA96 -> 59020 | H19: =기계경비!AB96 -> 16570 | I19: =기계경비!AC96 -> 19136 | Z19: 94726 | AA19: 59020 | AB19: 16570 | AC19: 19136
B20: 17 | C20: 탠덤 로울러(자주식) | D20: 5~8Ton | E20: hr | F20: =G20+H20+I20 -> 77992 | G20: =기계경비!AA102 -> 59020 | H20: =기계경비!AB102 -> 9935 | I20: =기계경비!AC102 -> 9037 | Z20: 77992 | AA20: 59020 | AB20: 9935 | AC20: 9037
B21: 18 | C21: 아스팔트 디스트리뷰터 | D21: 3800ℓ | E21: hr | F21: =G21+H21+I21 -> 98434 | G21: =기계경비!AA108 -> 59020 | H21: =기계경비!AB108 -> 22944 | I21: =기계경비!AC108 -> 16470 | Z21: 98434 | AA21: 59020 | AB21: 22944 | AC21: 16470
B22: 19 | C22: 물탱크 | D22: 16000ℓ | E22: hr | F22: =G22+H22+I22 -> 97172 | G22: =기계경비!AA114 -> 49778 | H22: =기계경비!AB114 -> 28240 | I22: =기계경비!AC114 -> 19154 | Z22: 97172 | AA22: 49778 | AB22: 28240 | AC22: 19154
B23: 20 | C23: 아스팔트 스프레이어 | D23: 400ℓ | E23: hr | F23: =G23+H23+I23 -> 39213 | G23: =기계경비!AA120 -> 36248 | H23: =기계경비!AB120 -> 2161 | I23: =기계경비!AC120 -> 804 | Z23: 39213 | AA23: 36248 | AB23: 2161 | AC23: 804
B24: 21 | C24: 플레이트 콤팩터 | D24: 1.5Ton | E24: hr | F24: =G24+H24+I24 -> 38906 | G24: =기계경비!AA126 -> 36248 | H24: =기계경비!AB126 -> 2038 | I24: =기계경비!AC126 -> 620 | Z24: 38906 | AA24: 36248 | AB24: 2038 | AC24: 620
B25: 22 | C25: 덤프트럭 | D25: 2.5Ton | E25: hr | F25: =G25+H25+I25 -> 63039 | G25: =기계경비!AA132 -> 49778 | H25: =기계경비!AB132 -> 6739 | I25: =기계경비!AC132 -> 6522 | Z25: 63039 | AA25: 49778 | AB25: 6739 | AC25: 6522
B26: 23 | C26: 덤프트럭 | D26: 4.5Ton | E26: hr | F26: =G26+H26+I26 -> 69010 | G26: =기계경비!AA138 -> 49778 | H26: =기계경비!AB138 -> 11619 | I26: =기계경비!AC138 -> 7613 | Z26: 69010 | AA26: 49778 | AB26: 11619 | AC26: 7613
B27: 24 | C27: 트럭트랙터및평판트레일러 | D27: 20Ton | E27: hr | F27: =G27+H27+I27 -> 114956 | G27: =기계경비!AA144 -> 59020 | H27: =기계경비!AB144 -> 38622 | I27: =기계경비!AC144 -> 17314 | Z27: 114956 | AA27: 59020 | AB27: 38622 | AC27: 17314

Sheet 기계경비
B1: 기계경비
B3: 명 칭 | C3: 규 격 | D3: 산 출 근 거 | Z3: 합 계 | AA3: 노무비 | AB3: 재료비 | AC3: 경 비 | AD3: 비 고
B4: 1. 커 터 | C4: 320~400mm | Z4: =AA4+AB4+AC4 -> 49729 | AA4: =TRUNC(AA5+AA6+AA7+AA8) -> 36248 | AB4: =TRUNC(AB5+AB6+AB7+AB8) -> 11417 | AC4: =TRUNC(AC5+AC6+AC7+AC8) -> 2064
B5: 손 료 | D5: 3249000 | I5: ￦× | K5: 6354 | N5: × | O5: 10(-7) | Z5: =AA5+AB5+AC5 -> 2064.4 | AC5: =TRUNC(D5*K5*0.0000001,1) -> 2064.4 | AD5: '26年 개정
B6: 주연료 | C6: 휘발유 | D6: 5.6 | H6: ℓ | I6: × | J6: =자재단가!R5 -> 1699 | Z6: =AA6+AB6+AC6 -> 9514.4 | AB6: =TRUNC(D6*J6,1) -> 9514.4
B7: 잡 품 | C7: 주연료의 | D7: 20 | H7: % | I7: × | J7: =AB6 -> 9514.4 | Z7: =AA7+AB7+AC7 -> 1902.8 | AB7: =TRUNC(D7/100*J7,1) -> 1902.8
B8: 일반기계운전사 | D8: 1 | G8: 인 | H8: × | I8: =노임단가!F6 -> 173995 | M8: × | N8: 1/8*16/12*25/20 | Z8: =AA8+AB8+AC8 -> 36248.9 | AA8: =TRUNC(D8*I8*기계경비적용기준!E21,1) -> 36248.9
B10: 2. 동력분무기 | C10: 4.85kw | Z10: =AA10+AB10+AC10 -> 2908 | AA10: =TRUNC(AA11+AA12+AA13) -> 0 | AB10: =TRUNC(AB11+AB12+AB13) -> 2650 | AC10: =TRUNC(AC11+AC12+AC13) -> 258
B11: 손 료 | D11: 922000 | I11: ￦× | K11: 2799 | N11: × | O11: 10(-7) | Z11: =AA11+AB11+AC11 -> 258 | AC11: =TRUNC(D11*K11*0.0000001,1) -> 258 | AD11: '26年 개정
B12: 주연료 | C12: 휘발유 | D12: 1.3 | H12: ℓ | I12: × | J12: =자재단가!R5 -> 1699 | Z12: =AA12+AB12+AC12 -> 2208.7 | AB12: =TRUNC(D12*J12,1) -> 2208.7
B13: 잡 품 | C13: 주연료의 | D13: 20 | H13: % | I13: × | J13: =AB12 -> 2208.7 | Z13: =AA13+AB13+AC13 -> 441.7 | AB13: =TRUNC(D13/100*J13,1) -> 441.7
B15: 3. 물탱크 | C15: 5500ℓ | Z15: =AA15+AB15+AC15 -> 80123 | AA15: =TRUNC(AA16+AA17+AA18+AA19) -> 49778 | AB15: =TRUNC(AB16+AB17+AB18+AB19) -> 20359 | AC15: =TRUNC(AC16+AC17+AC18+AC19) -> 9986
B16: 손 료 | D16: 47263000 | I16: ￦× | K16: 2113 | N16: × | O16: 10(-7) | Z16: =AA16+AB16+AC16 -> 9986.6 | AC16: =TRUNC(D16*K16*0.0000001,1) -> 9986.6 | AD16: '26年 개정
B17: 주연료 | C17: 경유 | D17: 9.3 | H17: ℓ | I17: × | J17: =자재단가!R8 -> 1684 | Z17: =AA17+AB17+AC17 -> 15661.2 | AB17: =TRUNC(D17*J17,1) -> 15661.2
B18: 잡 품 | C18: 주연료의 | D18: 30 | H18: % | I18: × | J18: =AB17 -> 15661.2 | Z18: =AA18+AB18+AC18 -> 4698.3 | AB18: =TRUNC(D18/100*J18,1) -> 4698.3
B19: 화물차운전사 | D19: 1 | G19: 인 | H19: × | I19: =노임단가!F7 -> 238936 | M19: × | N19: 1/8*16/12*25/20 | Z19: =AA19+AB19+AC19 -> 49778.3 | AA19: =TRUNC(D19*I19*기계경비적용기준!E21,1) -> 49778.3
B21: 4. 대형브레이카 | C21: +굴착기(0.2㎥) | Z21: =AA21+AB21+AC21 -> 85669 | AA21: =TRUNC(AA22+AA23+AA24+AA25+AA26) -> 59020 | AB21: =TRUNC(AB22+AB23+AB24+AB25+AB26) -> 9767 | AC21: =TRUNC(AC22+AC23+AC24+AC25+AC26) -> 16882
B22: 굴삭기손료 | D22: 66538000 | I22: ￦× | K22: 2085 | N22: × | O22: 10(-7) | Z22: =AA22+AB22+AC22 -> 13873.1 | AC22: =TRUNC(D22*K22*0.0000001,1) -> 13873.1 | AD22: '26年 개정
B23: 브레이카손료 | D23: 4559000 | I23: ￦× | K23: 6601 | N23: × | O23: 10(-7) | Z23: =AA23+AB23+AC23 -> 3009.3 | AC23: =TRUNC(D23*K23*0.0000001,1) -> 3009.3 | AD23: '26年 개정
B24: 주연료 | C24: 경유 | D24: 5 | H24: ℓ | I24: × | J24: =자재단가!R8 -> 1684 | Z24: =AA24+AB24+AC24 -> 8420 | AB24: =TRUNC(D24*J24,1) -> 8420
B25: 잡 품 | C25: 주연료의 | D25: 16 | H25: % | I25: × | J25: =AB24 -> 8420 | Z25: =AA25+AB25+AC25 -> 1347.2 | AB25: =TRUNC(D25/100*J25,1) -> 1347.2
B26: 건설기계운전사 | D26: 1 | G26: 인 | H26: × | I26: =노임단가!F8 -> 283297 | M26: × | N26: 1/8*16/12*25/20 | Z26: =AA26+AB26+AC26 -> 59020.2 | AA26: =TRUNC(D26*I26*기계경비적용기준!E21,1) -> 59020.2
B28: 5. 굴착기(무한궤도) | C28: 0.2㎥ | Z28: =AA28+AB28+AC28 -> 83081 | AA28: =TRUNC(AA29+AA30+AA31+AA32) -> 59020 | AB28: =TRUNC(AB29+AB30+AB31+AB32) -> 10188 | AC28: =TRUNC(AC29+AC30+AC31+AC32) -> 13873
B29: 손 료 | D29: 66538000 | I29: ￦× | K29: 2085 | N29: × | O29: 10(-7) | Z29: =AA29+AB29+AC29 -> 13873.1 | AC29: =TRUNC(D29*K29*0.0000001,1) -> 13873.1 | AD29: '26年 개정
B30: 주연료 | C30: 경유 | D30: 5 | H30: ℓ | I30: × | J30: =자재단가!R8 -> 1684 | Z30: =AA30+AB30+AC30 -> 8420 | AB30: =TRUNC(D30*J30,1) -> 8420
B31: 잡 품 | C31: 주연료의 | D31: 21 | H31: % | I31: × | J31: =AB30 -> 8420 | Z31: =AA31+AB31+AC31 -> 1768.2 | AB31: =TRUNC(D31/100*J31,1) -> 1768.2
B32: 건설기계운전사 | D32: 1 | G32: 인 | H32: × | I32: =노임단가!F8 -> 283297 | M32: × | N32: 1/8*16/12*25/20 | Z32: =AA32+AB32+AC32 -> 59020.2 | AA32: =TRUNC(D32*I32*기계경비적용기준!E21,1) -> 59020.2
B34: 6. 굴착기(무한궤도) | C34: 0.2㎥(발파) | Z34: =AA34+AB34+AC34 -> 85210 | AA34: =TRUNC(AA35+AA36+AA37+AA38) -> 59020 | AB34: =TRUNC(AB35+AB36+AB37+AB38) -> 10188 | AC34: =TRUNC(AC35+AC36+AC37+AC38) -> 16002
B35: 손 료 | D35: 66538000 | I35: ￦× | K35: 2405 | N35: × | O35: 10(-7) | Z35: =AA35+AB35+AC35 -> 16002.3 | AC35: =TRUNC(D35*K35*0.0000001,1) -> 16002.3 | AD35: '26年 개정
B36: 주연료 | C36: 경유 | D36: 5 | H36: ℓ | I36: × | J36: =자재단가!R8 -> 1684 | Z36: =AA36+AB36+AC36 -> 8420 | AB36: =TRUNC(D36*J36,1) -> 8420
B37: 잡 품 | C37: 주연료의 | D37: 21 | H37: % | I37: × | J37: =AB36 -> 8420 | Z37: =AA37+AB37+AC37 -> 1768.2 | AB37: =TRUNC(D37/100*J37,1) -> 1768.2
B38: 건설기계운전사 | D38: 1 | G38: 인 | H38: × | I38: =노임단가!F8 -> 283297 | M38: × | N38: 1/8*16/12*25/20 | Z38: =AA38+AB38+AC38 -> 59020.2 | AA38: =TRUNC(D38*I38*기계경비적용기준!E21,1) -> 59020.2
B40: 7. 덤프트럭(자동덮개) | C40: 15Ton | Z40: =AA40+AB40+AC40 -> 117068 | AA40: =TRUNC(AA41+AA42+AA43+AA44+AA45) -> 59020 | AB40: =TRUNC(AB41+AB42+AB43+AB44+AB45) -> 36950 | AC40: =TRUNC(AC41+AC42+AC43+AC44+AC45) -> 21098
B41: 손 료 | D41: 90653000 | I41: ￦× | K41: 2279 | N41: × | O41: 10(-7) | Z41: =AA41+AB41+AC41 -> 20659.8 | AC41: =TRUNC(D41*K41*0.0000001,1) -> 20659.8 | AD41: '26年 개정
B42: 덮개손료 | D42: 1634000 | I42: ￦× | K42: 2684 | N42: × | O42: 10(-7) | Z42: =AA42+AB42+AC42 -> 438.5 | AC42: =TRUNC(D42*K42*0.0000001,1) -> 438.5 | AD42: '26年 개정
B43: 주연료 | C43: 경유 | D43: 15.9 | H43: ℓ | I43: × | J43: =자재단가!R8 -> 1684 | Z43: =AA43+AB43+AC43 -> 26775.6 | AB43: =TRUNC(D43*J43,1) -> 26775.6
B44: 잡 품 | C44: 주연료의 | D44: 38 | H44: % | I44: × | J44: =AB43 -> 26775.6 | Z44: =AA44+AB44+AC44 -> 10174.7 | AB44: =TRUNC(D44/100*J44,1) -> 10174.7
B45: 건설기계운전사 | D45: 1 | G45: 인 | H45: × | I45: =노임단가!F8 -> 283297 | M45: × | N45: 1/8*16/12*25/20 | Z45: =AA45+AB45+AC45 -> 59020.2 | AA45: =TRUNC(D45*I45*기계경비적용기준!E21,1) -> 59020.2
B47: 8. 진동 로울러(핸드가이드식) | C47: 0.7Ton | Z47: =AA47+AB47+AC47 -> 42401 | AA47: =TRUNC(AA48+AA49+AA50+AA51) -> 36248 | AB47: =TRUNC(AB48+AB49+AB50+AB51) -> 4186 | AC47: =TRUNC(AC48+AC49+AC50+AC51) -> 1967
B48: 손 료 | D48: 6966000 | I48: ￦× | K48: 2825 | N48: × | O48: 10(-7) | Z48: =AA48+AB48+AC48 -> 1967.8 | AC48: =TRUNC(D48*K48*0.0000001,1) -> 1967.8 | AD48: '26年 개정
B49: 주연료 | C49: 경유 | D49: 2.2 | H49: ℓ | I49: × | J49: =자재단가!R8 -> 1684 | Z49: =AA49+AB49+AC49 -> 3704.8 | AB49: =TRUNC(D49*J49,1) -> 3704.8
B50: 잡 품 | C50: 주연료의 | D50: 13 | H50: % | I50: × | J50: =AB49 -> 3704.8 | Z50: =AA50+AB50+AC50 -> 481.6 | AB50: =TRUNC(D50/100*J50,1) -> 481.6
B51: 일반기계운전사 | D51: 1 | G51: 인 | H51: × | I51: =노임단가!F6 -> 173995 | M51: × | N51: 1/8*16/12*25/20 | Z51: =AA51+AB51+AC51 -> 36248.9 | AA51: =TRUNC(D51*I51*기계경비적용기준!E21,1) -> 36248.9
B53: 9. 트럭탑재형크레인 | C53: 5Ton | Z53: =AA53+AB53+AC53 -> 71201 | AA53: =TRUNC(AA54+AA55+AA56+AA57) -> 49778 | AB53: =TRUNC(AB54+AB55+AB56+AB57) -> 10306 | AC53: =TRUNC(AC54+AC55+AC56+AC57) -> 11117
B54: 손 료 | D54: 42791000 | I54: ￦× | K54: 2598 | N54: × | O54: 10(-7) | Z54: =AA54+AB54+AC54 -> 11117.1 | AC54: =TRUNC(D54*K54*0.0000001,1) -> 11117.1 | AD54: '26年 개정
B55: 주연료 | C55: 경 유 | D55: 5.1 | H55: ℓ | I55: × | J55: =자재단가!R8 -> 1684 | Z55: =AA55+AB55+AC55 -> 8588.4 | AB55: =TRUNC(D55*J55,1) -> 8588.4
B56: 잡 품 | C56: 주연료의 | D56: 20 | H56: % | I56: × | J56: =AB55 -> 8588.4 | Z56: =AA56+AB56+AC56 -> 1717.6 | AB56: =TRUNC(D56/100*J56,1) -> 1717.6
B57: 화물차운전사 | D57: 1 | G57: 인 | H57: × | I57: =노임단가!F7 -> 238936 | M57: × | N57: 1/8*16/12*25/20 | Z57: =AA57+AB57+AC57 -> 49778.3 | AA57: =TRUNC(D57*I57*기계경비적용기준!E21,1) -> 49778.3
B59: 10. 크레인(타이어) | C59: 10Ton | Z59: =AA59+AB59+AC59 -> 99258 | AA59: =TRUNC(AA60+AA61+AA62+AA63) -> 59020 | AB59: =TRUNC(AB60+AB61+AB62+AB63) -> 8894 | AC59: =TRUNC(AC60+AC61+AC62+AC63) -> 31344
B60: 손 료 | D60: 136400000 | I60: ￦× | K60: 2298 | N60: × | O60: 10(-7) | Z60: =AA60+AB60+AC60 -> 31344.7 | AC60: =TRUNC(D60*K60*0.0000001,1) -> 31344.7 | AD60: '26年 개정
B61: 주연료 | C61: 경유 | D61: 3.8 | H61: ℓ | I61: × | J61: =자재단가!R8 -> 1684 | Z61: =AA61+AB61+AC61 -> 6399.2 | AB61: =TRUNC(D61*J61,1) -> 6399.2
B62: 잡 품 | C62: 주연료의 | D62: 39 | H62: % | I62: × | J62: =AB61 -> 6399.2 | Z62: =AA62+AB62+AC62 -> 2495.6 | AB62: =TRUNC(D62/100*J62,1) -> 2495.6
B63: 건설기계운전사 | D63: 1 | G63: 인 | H63: × | I63: =노임단가!F8 -> 283297 | M63: × | N63: 1/8*16/12*25/20 | Z63: =AA63+AB63+AC63 -> 59020.2 | AA63: =TRUNC(D63*I63*기계경비적용기준!E21,1) -> 59020.2
B65: 11. 노면파쇄기 | C65: 2.0m | Z65: =AA65+AB65+AC65 -> 338711 | AA65: =TRUNC(AA66+AA67+AA68+AA69) -> 59020 | AB65: =TRUNC(AB66+AB67+AB68+AB69) -> 102946 | AC65: =TRUNC(AC66+AC67+AC68+AC69) -> 176745
B66: 손 료 | D66: 438356000 | I66: ￦× | K66: 4032 | N66: × | O66: 10(-7) | Z66: =AA66+AB66+AC66 -> 176745.1 | AC66: =TRUNC(D66*K66*0.0000001,1) -> 176745.1 | AD66: '26年 개정
B67: 주연료 | C67: 경유 | D67: 52.7 | H67: ℓ | I67: × | J67: =자재단가!R8 -> 1684 | Z67: =AA67+AB67+AC67 -> 88746.8 | AB67: =TRUNC(D67*J67,1) -> 88746.8
B68: 잡 품 | C68: 주연료의 | D68: 16 | H68: % | I68: × | J68: =AB67 -> 88746.8 | Z68: =AA68+AB68+AC68 -> 14199.4 | AB68: =TRUNC(D68/100*J68,1) -> 14199.4
B69: 건설기계운전사 | D69: 1 | G69: 인 | H69: × | I69: =노임단가!F8 -> 283297 | M69: × | N69: 1/8*16/12*25/20 | Z69: =AA69+AB69+AC69 -> 59020.2 | AA69: =TRUNC(D69*I69*기계경비적용기준!E21,1) -> 59020.2
B71: 12. 로우더(타이어)+소형노면파쇄기 | C71: 0.95㎥ | Z71: =AA71+AB71+AC71 -> 95558 | AA71: =TRUNC(AA72+AA73+AA74+AA75+AA76) -> 59020 | AB71: =TRUNC(AB72+AB73+AB74+AB75+AB76) -> 15034 | AC71: =TRUNC(AC72+AC73+AC74+AC75+AC76) -> 21504
B72: 로우더(0.95㎥) 손료 | D72: 46576000 | I72: ￦× | K72: 2085 | N72: × | O72: 10(-7) | Z72: =AA72+AB72+AC72 -> 9711 | AC72: =TRUNC(D72*K72*0.0000001,1) -> 9711 | AD72: '26年 개정
B73: 소형노면파쇄기(0.95㎥) 손료 | D73: 29250000 | I73: ￦× | K73: 4032 | N73: × | O73: 10(-7) | Z73: =AA73+AB73+AC73 -> 11793.6 | AC73: =TRUNC(D73*K73*0.0000001,1) -> 11793.6 | AD73: '26年 개정
B74: 주연료 | C74: 경유 | D74: 6.2 | H74: ℓ | I74: × | J74: =자재단가!R8 -> 1684 | Z74: =AA74+AB74+AC74 -> 10440.8 | AB74: =TRUNC(D74*J74,1) -> 10440.8
B75: 잡 품 | C75: 주연료의 | D75: 44 | H75: % | I75: × | J75: =AB74 -> 10440.8 | Z75: =AA75+AB75+AC75 -> 4593.9 | AB75: =TRUNC(D75/100*J75,1) -> 4593.9
B76: 건설기계운전사 | D76: 1 | G76: 인 | H76: × | I76: =노임단가!F8 -> 283297 | M76: × | N76: 1/8*16/12*25/20 | Z76: =AA76+AB76+AC76 -> 59020.2 | AA76: =TRUNC(D76*I76*기계경비적용기준!E21,1) -> 59020.2
B78: 13. 로우더(타이어) | C78: 0.57㎥ | Z78: =AA78+AB78+AC78 -> 75012 | AA78: =TRUNC(AA79+AA80+AA81+AA82) -> 59020 | AB78: =TRUNC(AB79+AB80+AB81+AB82) -> 8487 | AC78: =TRUNC(AC79+AC80+AC81+AC82) -> 7505
B79: 손 료 | D79: 35999000 | I79: ￦× | K79: 2085 | N79: × | O79: 10(-7) | Z79: =AA79+AB79+AC79 -> 7505.7 | AC79: =TRUNC(D79*K79*0.0000001,1) -> 7505.7 | AD79: '26年 개정
B80: 주연료 | C80: 경유 | D80: 3.5 | H80: ℓ | I80: × | J80: =자재단가!R8 -> 1684 | Z80: =AA80+AB80+AC80 -> 5894 | AB80: =TRUNC(D80*J80,1) -> 5894
B81: 잡 품 | C81: 주연료의 | D81: 44 | H81: % | I81: × | J81: =AB80 -> 5894 | Z81: =AA81+AB81+AC81 -> 2593.3 | AB81: =TRUNC(D81/100*J81,1) -> 2593.3
B82: 건설기계운전사 | D82: 1 | G82: 인 | H82: × | I82: =노임단가!F8 -> 283297 | M82: × | N82: 1/8*16/12*25/20 | Z82: =AA82+AB82+AC82 -> 59020.2 | AA82: =TRUNC(D82*I82*기계경비적용기준!E21,1) -> 59020.2
B84: 14. 아스팔트페이버(피니셔) | C84: 3.0m | Z84: =AA84+AB84+AC84 -> 141585 | AA84: =TRUNC(AA85+AA86+AA87+AA88) -> 59020 | AB84: =TRUNC(AB85+AB86+AB87+AB88) -> 23424 | AC84: =TRUNC(AC85+AC86+AC87+AC88) -> 59141
B85: 손 료 | D85: 250388000 | I85: ￦× | K85: 2362 | N85: × | O85: 10(-7) | Z85: =AA85+AB85+AC85 -> 59141.6 | AC85: =TRUNC(D85*K85*0.0000001,1) -> 59141.6 | AD85: '26年 개정
B86: 주연료 | C86: 경유 | D86: 13 | H86: ℓ | I86: × | J86: =자재단가!R8 -> 1684 | Z86: =AA86+AB86+AC86 -> 21892 | AB86: =TRUNC(D86*J86,1) -> 21892
B87: 잡 품 | C87: 주연료의 | D87: 7 | H87: % | I87: × | J87: =AB86 -> 21892 | Z87: =AA87+AB87+AC87 -> 1532.4 | AB87: =TRUNC(D87/100*J87,1) -> 1532.4
B88: 건설기계운전사 | D88: 1 | G88: 인 | H88: × | I88: =노임단가!F8 -> 283297 | M88: × | N88: 1/8*16/12*25/20 | Z88: =AA88+AB88+AC88 -> 59020.2 | AA88: =TRUNC(D88*I88*기계경비적용기준!E21,1) -> 59020.2
B90: 15. 머캐덤 로울러(자주식) | C90: 10~12Ton | Z90: =AA90+AB90+AC90 -> 90357 | AA90: =TRUNC(AA91+AA92+AA93+AA94) -> 59020 | AB90: =TRUNC(AB91+AB92+AB93+AB94) -> 18480 | AC90: =TRUNC(AC91+AC92+AC93+AC94) -> 12857
B91: 손 료 | D91: 71351000 | I91: ￦× | K91: 1802 | N91: × | O91: 10(-7) | Z91: =AA91+AB91+AC91 -> 12857.4 | AC91: =TRUNC(D91*K91*0.0000001,1) -> 12857.4 | AD91: '26年 개정
B92: 주연료 | C92: 경유 | D92: 9.3 | H92: ℓ | I92: × | J92: =자재단가!R8 -> 1684 | Z92: =AA92+AB92+AC92 -> 15661.2 | AB92: =TRUNC(D92*J92,1) -> 15661.2
B93: 잡 품 | C93: 주연료의 | D93: 18 | H93: % | I93: × | J93: =AB92 -> 15661.2 | Z93: =AA93+AB93+AC93 -> 2819 | AB93: =TRUNC(D93/100*J93,1) -> 2819
B94: 건설기계운전사 | D94: 1 | G94: 인 | H94: × | I94: =노임단가!F8 -> 283297 | M94: × | N94: 1/8*16/12*25/20 | Z94: =AA94+AB94+AC94 -> 59020.2 | AA94: =TRUNC(D94*I94*기계경비적용기준!E21,1) -> 59020.2
B96: 16. 타이어 로울러(자주식) | C96: 8~15Ton | Z96: =AA96+AB96+AC96 -> 94726 | AA96: =TRUNC(AA97+AA98+AA99+AA100) -> 59020 | AB96: =TRUNC(AB97+AB98+AB99+AB100) -> 16570 | AC96: =TRUNC(AC97+AC98+AC99+AC100) -> 19136
B97: 손 료 | D97: 98388000 | I97: ￦× | K97: 1945 | N97: × | O97: 10(-7) | Z97: =AA97+AB97+AC97 -> 19136.4 | AC97: =TRUNC(D97*K97*0.0000001,1) -> 19136.4 | AD97: '26年 개정
B98: 주연료 | C98: 경유 | D98: 8 | H98: ℓ | I98: × | J98: =자재단가!R8 -> 1684 | Z98: =AA98+AB98+AC98 -> 13472 | AB98: =TRUNC(D98*J98,1) -> 13472
B99: 잡 품 | C99: 주연료의 | D99: 23 | H99: % | I99: × | J99: =AB98 -> 13472 | Z99: =AA99+AB99+AC99 -> 3098.5 | AB99: =TRUNC(D99/100*J99,1) -> 3098.5
B100: 건설기계운전사 | D100: 1 | G100: 인 | H100: × | I100: =노임단가!F8 -> 283297 | M100: × | N100: 1/8*16/12*25/20 | Z100: =AA100+AB100+AC100 -> 59020.2 | AA100: =TRUNC(D100*I100*기계경비적용기준!E21,1) -> 59020.2
B102: 17. 탠덤 로울러(자주식) | C102: 5~8Ton | Z102: =AA102+AB102+AC102 -> 77992 | AA102: =TRUNC(AA103+AA104+AA105+AA106) -> 59020 | AB102: =TRUNC(AB103+AB104+AB105+AB106) -> 9935 | AC102: =TRUNC(AC103+AC104+AC105+AC106) -> 9037
B103: 손 료 | D103: 48513000 | I103: ￦× | K103: 1863 | N103: × | O103: 10(-7) | Z103: =AA103+AB103+AC103 -> 9037.9 | AC103: =TRUNC(D103*K103*0.0000001,1) -> 9037.9 | AD103: '26年 개정
B104: 주연료 | C104: 경유 | D104: 5 | H104: ℓ | I104: × | J104: =자재단가!R8 -> 1684 | Z104: =AA104+AB104+AC104 -> 8420 | AB104: =TRUNC(D104*J104,1) -> 8420
B105: 잡 품 | C105: 주연료의 | D105: 18 | H105: % | I105: × | J105: =AB104 -> 8420 | Z105: =AA105+AB105+AC105 -> 1515.6 | AB105: =TRUNC(D105/100*J105,1) -> 1515.6
B106: 건설기계운전사 | D106: 1 | G106: 인 | H106: × | I106: =노임단가!F8 -> 283297 | M106: × | N106: 1/8*16/12*25/20 | Z106: =AA106+AB106+AC106 -> 59020.2 | AA106: =TRUNC(D106*I106*기계경비적용기준!E21,1) -> 59020.2
B108: 18. 아스팔트 디스트리뷰터 | C108: 3800ℓ | Z108: =AA108+AB108+AC108 -> 98434 | AA108: =TRUNC(AA109+AA110+AA111+AA112) -> 59020 | AB108: =TRUNC(AB109+AB110+AB111+AB112) -> 22944 | AC108: =TRUNC(AC109+AC110+AC111+AC112) -> 16470
B109: 손 료 | D109: 64113000 | I109: ￦× | K109: 2569 | N109: × | O109: 10(-7) | Z109: =AA109+AB109+AC109 -> 16470.6 | AC109: =TRUNC(D109*K109*0.0000001,1) -> 16470.6 | AD109: '26年 개정
B110: 주연료 | C110: 경유 | D110: 10.9 | H110: ℓ | I110: × | J110: =자재단가!R8 -> 1684 | Z110: =AA110+AB110+AC110 -> 18355.6 | AB110: =TRUNC(D110*J110,1) -> 18355.6
B111: 잡 품 | C111: 주연료의 | D111: 25 | H111: % | I111: × | J111: =AB110 -> 18355.6 | Z111: =AA111+AB111+AC111 -> 4588.9 | AB111: =TRUNC(D111/100*J111,1) -> 4588.9
B112: 건설기계운전사 | D112: 1 | G112: 인 | H112: × | I112: =노임단가!F8 -> 283297 | M112: × | N112: 1/8*16/12*25/20 | Z112: =AA112+AB112+AC112 -> 59020.2 | AA112: =TRUNC(D112*I112*기계경비적용기준!E21,1) -> 59020.2
B114: 19. 물탱크 | C114: 16000ℓ | Z114: =AA114+AB114+AC114 -> 97172 | AA114: =TRUNC(AA115+AA116+AA117+AA118) -> 49778 | AB114: =TRUNC(AB115+AB116+AB117+AB118) -> 28240 | AC114: =TRUNC(AC115+AC116+AC117+AC118) -> 19154
B115: 손 료 | D115: 90649000 | I115: ￦× | K115: 2113 | N115: × | O115: 10(-7) | Z115: =AA115+AB115+AC115 -> 19154.1 | AC115: =TRUNC(D115*K115*0.0000001,1) -> 19154.1 | AD115: '26年 개정
B116: 주연료 | C116: 경유 | D116: 12.9 | H116: ℓ | I116: × | J116: =자재단가!R8 -> 1684 | Z116: =AA116+AB116+AC116 -> 21723.6 | AB116: =TRUNC(D116*J116,1) -> 21723.6
B117: 잡 품 | C117: 주연료의 | D117: 30 | H117: % | I117: × | J117: =AB116 -> 21723.6 | Z117: =AA117+AB117+AC117 -> 6517 | AB117: =TRUNC(D117/100*J117,1) -> 6517
B118: 화물차운전사 | D118: 1 | G118: 인 | H118: × | I118: =노임단가!F7 -> 238936 | M118: × | N118: 1/8*16/12*25/20 | Z118: =AA118+AB118+AC118 -> 49778.3 | AA118: =TRUNC(D118*I118*기계경비적용기준!E21,1) -> 49778.3
B120: 20. 아스팔트 스프레이어 | C120: 400ℓ | Z120: =AA120+AB120+AC120 -> 39213 | AA120: =TRUNC(AA121+AA122+AA123+AA124) -> 36248 | AB120: =TRUNC(AB121+AB122+AB123+AB124) -> 2161 | AC120: =TRUNC(AC121+AC122+AC123+AC124) -> 804
...

Sheet 기계경비적용기준
B1: 기계경비적용기준
C4: 환 율 (/￦) | G4: 기본재료비
C6: 화 폐 | D6: 환 율 | E6: 비 고 | G6: No | H6: 품 명 | I6: 규 격 | J6: 단위 | K6: 단 가
C7: 달러($) | D7: 1548.4 | E7: 2026.7.1. 매매기준율 | G7: 1 | H7: 휘 발 유 | J7: ℓ | K7: =자재단가!R5 -> 1699
C8: 엔(100￥) | D8: 952.25 | E8: 2026.7.1. 매매기준율 | G8: 4 | H8: 경 유 | J8: ℓ | K8: =자재단가!R8 -> 1684
C9: 유로(E) | D9: 1768.2 | E9: 2026.7.1. 매매기준율
C10: 마르크(M)
C11: 파운드(L) | D11: 2052.79 | E11: 2026.7.1. 매매기준율
C18: 노임계수 | G18: 계산결과값 자리수
C20: No | D20: 노임계수 | E20: 계산값
C21: 1 | D21: 1/8*16/12*25/20 | E21: =1/8*16/12*25/20 -> 0.20833333
C22: 2 | D22: 1/8*16/12*25/20*24/15 | E22: =1/8*16/12*25/20*24/15 -> 0.33333333 | G22: 경 비 소수 1 미만 절하
C23: 3 | D23: 1/8*16/12*25/20*12/10 | E23: =1/8*16/12*25/20*12/10 -> 0.25
C24: 4 | D24: 1/8*16/12*25/20*14/12 | E24: =1/8*16/12*25/20*14/12 -> 0.24305556 | G24: 재료비 소수 1 미만 절하
C25: 5 | D25: 1/8*16/12*25/20*24/5 | E25: =1/8*16/12*25/20*24/5 -> 1
G26: 노무비 소수 1 미만 절하

Sheet 자재단가
B1: 자재단가
B3: No | C3: 품 명 | D3: 규 격 | E3: 단위 | F3: 가격정보 | H3: 물가자료 | J3: 유통물가 | L3: 물가정보 | N3: 거래가격 | P3: 견적가1 | R3: 적용단가 | S3: 비 고 | Z3: 당초합계 | AA3: 당초노무비 | AB3: 당초재료비 | AC3: 당초경비
F4: 단 가 | G4: page | H4: 단 가 | I4: page | J4: 단 가 | K4: page | L4: 단 가 | M4: page | N4: 단 가 | O4: page | P4: 단 가 | Q4: page
B5: 1 | C5: 휘 발 유 | E5: ℓ | F5: 1699 | G5: 2026.8 | R5: =MIN(F5,H5,J5,L5,N5,P5) -> 1699 | S5: 한국석유공사 | Z5: 1699
B6: 2 | C6: 블레이드 | D6: 14"×3.2mm | E6: EA | H6: 216000 | I6: 1414(26.8) | J6: 169800 | K6: 1166(26.8) | L6: 169800 | M6: 1080(26.8) | N6: 210000 | O6: 1338(26.8) | R6: =MIN(F6,H6,J6,L6,N6,P6) -> 169800 | Z6: 169800
B7: 3 | C7: 물 | E7: ℓ | H7: 1.26 | I7: 하329(21.3) | L7: 1.26 | M7: 부328(21.3) | R7: =MIN(F7,H7,J7,L7,N7,P7) -> 1.26 | S7: 일반용 | Z7: 1.26
B8: 4 | C8: 경 유 | E8: ℓ | F8: 1684 | G8: 2026.8 | R8: =MIN(F8,H8,J8,L8,N8,P8) -> 1684 | S8: 한국석유공사 | Z8: 1684
B9: 5 | C9: 치 즐(0.2㎥) | E9: EA | L9: 83000 | M9: 1032(23.11) | R9: =MIN(F9,H9,J9,L9,N9,P9) -> 83000 | Z9: 83000
B10: 6 | C10: KP 접합부속 | D10: D225mm | E10: 조 | H10: 46200 | I10: 786(26.7) | R10: =MIN(F10,H10,J10,L10,N10,P10) -> 46200 | Z10: 46200
B11: 7 | C11: KP 접합부속 | D11: D90mm | E11: 조 | H11: 25870 | I11: 786(26.7) | R11: =MIN(F11,H11,J11,L11,N11,P11) -> 25870 | Z11: 25870
B12: 8 | C12: 플랜지접합부속 | D12: D200mm | E12: 조 | H12: 16000 | I12: 737(25.1) | J12: 16000 | K12: 541(25.1) | L12: 16000 | M12: 689(25.4) | N12: 16000 | O12: 787(26.8) | R12: =MIN(F12,H12,J12,L12,N12,P12) -> 16000 | Z12: 16000
B13: 9 | C13: 플랜지접합부속 | D13: D80mm | E13: 조 | H13: 4890 | I13: 737(25.1) | J13: 4890 | K13: 541(25.1) | L13: 4890 | M13: 689(25.4) | N13: 4890 | O13: 787(26.8) | R13: =MIN(F13,H13,J13,L13,N13,P13) -> 4890 | Z13: 4890
B14: 10 | C14: 팁(날) | D14: 노면파쇄기용 | E14: 개 | L14: 6000 | M14: 1035(23.10) | R14: =MIN(F14,H14,J14,L14,N14,P14) -> 6000 | Z14: 6000
B15: 11 | C15: 모래 | D15: 부순모래 | E15: ㎥ | P15: 26000 | Q15: 합동설계 | R15: =MIN(F15,H15,J15,L15,N15,P15) -> 26000 | S15: 보창,제일 | Z15: 26000
B16: 12 | C16: 도로표지용페인트(융착식) | D16: KSM-6080(황색,R3) | E16: kg | H16: 4970 | I16: 597(26.8) | J16: 4140 | K16: 471(26.8) | L16: 5250 | M16: 227(26.8) | N16: 4100 | O16: 244(26.8) | R16: =MIN(F16,H16,J16,L16,N16,P16) -> 4100 | Z16: 4100
B17: 13 | C17: 유리알 | D17: 1호,고휘도 | E17: kg | H17: 6000 | I17: 597(26.8) | J17: 5000 | K17: 228(26.8) | L17: 5000 | M17: 227(26.8) | N17: 5000 | O17: 244(26.8) | R17: =MIN(F17,H17,J17,L17,N17,P17) -> 5000 | Z17: 5000
B18: 14 | C18: 융착식 프라이머 | D18: 도로용 접착제 | E18: ℓ | H18: 5850 | I18: 597(26.8) | J18: 4500 | K18: 471(26.8) | L18: 4500 | M18: 227(26.8) | N18: 4550 | O18: 244(26.8) | R18: =MIN(F18,H18,J18,L18,N18,P18) -> 4500 | Z18: 4500
B19: 15 | C19: 프로판가스 | D19: 일반용 | E19: kg | H19: 2481 | I19: 하32(26.8) | J19: 1666 | K19: 1189(26.8) | L19: 2575 | M19: 1446(26.8) | N19: 2157.4 | O19: 1451(26.8) | R19: =MIN(F19,H19,J19,L19,N19,P19) -> 1666 | Z19: 1666
B20: 16 | C20: 도로표지용페인트(융착식) | D20: KSM-6080(백색,R5) | E20: kg | H20: 5460 | I20: 597(26.8) | J20: 4550 | K20: 471(26.8) | R20: =MIN(F20,H20,J20,L20,N20,P20) -> 4550 | Z20: 4550
B21: 17 | C21: 공사표지판 | D21: 900×1800(A형) | E21: EA | P21: 150000 | R21: =MIN(F21,H21,J21,L21,N21,P21) -> 150000 | Z21: 150000
B22: 18 | C22: 라바콘 | D22: 400×400×750mm | E22: EA | H22: 22000 | I22: 167(26.8) | R22: =MIN(F22,H22,J22,L22,N22,P22) -> 22000 | Z22: 22000
B23: 19 | C23: 윙카등 | D23: GS-575 | E23: M | H23: 1500 | I23: 165(26.8) | L23: 1500 | M23: 233(23.12) | R23: =MIN(F23,H23,J23,L23,N23,P23) -> 1500 | Z23: 1500
B24: 20 | C24: 구역화물 | D24: 10.5톤, 30km | E24: 회 | L24: 133480 | M24: 부189(06.1) | R24: =MIN(F24,H24,J24,L24,N24,P24) -> 133480 | S24: 98年고시단가(경비) | Z24: 133480
B25: 21 | C25: 상차비 | D25: VAT포함 | E25: Ton | J25: 2493.42 | K25: 부215(06.1) | R25: =MIN(F25,H25,J25,L25,N25,P25) -> 2493.42 | S25: (경비) | Z25: 2493.42
B26: 22 | C26: 하차비 | D26: VAT포함 | E26: Ton | J26: 2261.69 | K26: 부215(06.1) | R26: =MIN(F26,H26,J26,L26,N26,P26) -> 2261.69 | S26: (경비) | Z26: 2261.69
B27: 23 | C27: 관로경고테이프 | D27: 폭30cm×1m | E27: M | H27: 180 | I27: 747(26.8) | J27: 180 | K27: 539(26.8) | R27: =MIN(F27,H27,J27,L27,N27,P27) -> 180 | Z27: 180
B28: 24 | C28: PE수도관 | D28: D225mm | E28: M | H28: 70800 | I28: 786(26.7) | R28: =MIN(F28,H28,J28,L28,N28,P28) -> 70800 | Z28: 70800
B29: 25 | C29: KP식이음관 | D29: D90mm | E29: EA | H29: 86800 | I29: 787(26.7) | R29: =MIN(F29,H29,J29,L29,N29,P29) -> 86800 | Z29: 86800
B30: 26 | C30: 소프트실제수밸브 | D30: D200mm,표준형 | E30: 개 | H30: 1153000 | I30: 847(26.8) | J30: 1153000 | K30: 603(26.8) | R30: =MIN(F30,H30,J30,L30,N30,P30) -> 1153000 | Z30: 1153000
B31: 27 | C31: 소프트실제수밸브 | D31: D80mm,표준형 | E31: 개 | H31: 345000 | I31: 847(26.8) | J31: 345000 | K31: 603(26.8) | R31: =MIN(F31,H31,J31,L31,N31,P31) -> 345000 | Z31: 345000
B32: 28 | C32: KP식소켓플랜지 | D32: D225mm | E32: EA | H32: 251700 | I32: 787(26.7) | R32: =MIN(F32,H32,J32,L32,N32,P32) -> 251700 | Z32: 251700
B33: 29 | C33: KP식소켓플랜지 | D33: D90mm | E33: EA | H33: 104000 | I33: 787(26.7) | R33: =MIN(F33,H33,J33,L33,N33,P33) -> 104000 | Z33: 104000
B34: 30 | C34: KP식정티 | D34: D90mm | E34: EA | H34: 167500 | I34: 787(26.7) | R34: =MIN(F34,H34,J34,L34,N34,P34) -> 167500 | Z34: 167500
B35: 31 | C35: KP식이경소켓 | D35: D225×90mm | E35: EA | H35: 201200 | I35: 787(26.7) | R35: =MIN(F35,H35,J35,L35,N35,P35) -> 201200 | Z35: 201200
B36: 32 | C36: KP식곡관 | D36: 45˚,D90mm | E36: EA | H36: 83800 | I36: 787(26.7) | R36: =MIN(F36,H36,J36,L36,N36,P36) -> 83800 | Z36: 83800
B37: 33 | C37: KP식마감켑 | D37: D90mm | E37: EA | H37: 105500 | I37: 787(26.7) | R37: =MIN(F37,H37,J37,L37,N37,P37) -> 105500 | Z37: 105500
B38: 34 | C38: 플랜지단관 | D38: D90mm | E38: EA | H38: 78700 | I38: 787(26.7) | R38: =MIN(F38,H38,J38,L38,N38,P38) -> 78700 | Z38: 78700
B39: 35 | C39: PE정티 | D39: D25mm | E39: EA | L39: 5420 | M39: 740(26.7) | N39: 5420 | O39: 812(26.7) | R39: =MIN(F39,H39,J39,L39,N39,P39) -> 5420 | Z39: 5420
B40: 36 | C40: PE이경소켓 | D40: D90×63mm | E40: EA | H40: 71100 | I40: 769(26.7) | R40: =MIN(F40,H40,J40,L40,N40,P40) -> 71100 | Z40: 71100
B41: 37 | C41: PE이경소켓 | D41: D25×20mm | E41: EA | H41: 9300 | I41: 769(26.7) | R41: =MIN(F41,H41,J41,L41,N41,P41) -> 9300 | Z41: 9300
B42: 38 | C42: 수도미터기 | D42: STS, D50mm, 역류방지 | E42: EA | H42: 2265000 | I42: 858(26.7) | R42: =MIN(F42,H42,J42,L42,N42,P42) -> 2265000 | Z42: 2265000
B43: 39 | C43: 수도미터기 | D43: STS, D15mm, 역류방지 | E43: EA | H43: 50000 | I43: 858(26.7) | R43: =MIN(F43,H43,J43,L43,N43,P43) -> 50000 | Z43: 50000
B44: 40 | C44: 수도계량기보호통 | D44: D50×H800mm, 뚜껑포함 | E44: EA | H44: 425800 | I44: 865(26.7) | R44: =MIN(F44,H44,J44,L44,N44,P44) -> 425800 | Z44: 425800
B45: 41 | C45: 수도계량기보호통 | D45: D20×H800mm, 뚜껑포함 | E45: EA | H45: 243000 | I45: 865(26.7) | R45: =MIN(F45,H45,J45,L45,N45,P45) -> 243000 | Z45: 243000
B46: 42 | C46: 새들붙이분수전(강,동,PE) | D46: D80×25 | E46: 조 | J46: 87000 | K46: 621(26.8) | N46: 65600 | O46: 861(26.8) | R46: =MIN(F46,H46,J46,L46,N46,P46) -> 65600 | Z46: 65600
B47: 43 | C47: STS 유니온 (나사식) | D47: 50A | E47: 개 | H47: 36788 | I47: 750(26.8) | J47: 36788 | K47: 550(26.8) | L47: 35036 | M47: 711(26.5) | R47: =MIN(F47,H47,J47,L47,N47,P47) -> 35036 | Z47: 35036
B48: 44 | C48: STS 유니온 (나사식) | D48: 25A | E48: 개 | H48: 13467 | I48: 750(26.8) | J48: 13467 | K48: 550(26.8) | L48: 12826 | M48: 711(26.5) | R48: =MIN(F48,H48,J48,L48,N48,P48) -> 12826 | Z48: 12826
B49: 45 | C49: STS 유니온 (나사식) | D49: 20A | E49: 개 | H49: 9931 | I49: 750(26.8) | J49: 9931 | K49: 550(26.8) | L49: 9458 | M49: 711(26.5) | R49: =MIN(F49,H49,J49,L49,N49,P49) -> 9458 | Z49: 9458
B50: 46 | C50: PE 청동밸브소켓 | D50: 50A | E50: 개 | J50: 20200 | K50: 583(26.8) | R50: =MIN(F50,H50,J50,L50,N50,P50) -> 20200 | Z50: 20200
B51: 47 | C51: PE 청동밸브소켓 | D51: 25A | E51: 개 | J51: 7900 | K51: 583(26.8) | R51: =MIN(F51,H51,J51,L51,N51,P51) -> 7900 | Z51: 7900
B52: 48 | C52: PE 청동밸브소켓 | D52: 20A | E52: 개 | J52: 5000 | K52: 583(26.8) | R52: =MIN(F52,H52,J52,L52,N52,P52) -> 5000 | Z52: 5000
B53: 49 | C53: 아스팔트유제 | D53: RSC-4 | E53: D/M | H53: 280000 | I53: 114(26.8) | J53: 167400 | K53: 178(26.8) | L53: 270000 | M53: 173(26.8) | N53: 280000 | O53: 177(26.8) | R53: =MIN(F53,H53,J53,L53,N53,P53) -> 167400 | Z53: 167400
B54: 50 | C54: 아스팔트유제 | D54: RSC-3 | E54: D/M | H54: 280000 | I54: 114(26.8) | J54: 168400 | K54: 178(26.8) | L54: 270000 | M54: 173(26.8) | N54: 280000 | O54: 177(26.8) | R54: =MIN(F54,H54,J54,L54,N54,P54) -> 168400 | Z54: 168400
B55: 51 | C55: 레미콘(보령시)-사급 | D55: 25-21-120 | E55: ㎥ | P55: 100000 | R55: =MIN(F55,H55,J55,L55,N55,P55) -> 100000 | S55: 합동설계 | Z55: 100000
B56: 52 | C56: 와이어메쉬(용접철망),사급 | D56: #6, 100×100 | E56: ㎡ | P56: 5510 | R56: =MIN(F56,H56,J56,L56,N56,P56) -> 5510 | S56: 합동설계 | Z56: 5510
B57: 53 | C57: 비 닐 | D57: PE 필름(0.05mm) | E57: ㎡ | H57: 442 | I57: 하18(26.8) | J57: 402 | K57: 1182(26.8) | L57: 494 | M57: 부72(26.8) | N57: 308 | O57: 1460(26.8) | R57: =MIN(F57,H57,J57,L57,N57,P57) -> 308 | Z57: 308
B58: 54 | C58: 혼합골재(보조기층재) | D58: D40mm | E58: ㎥ | P58: 19500 | R58: =MIN(F58,H58,J58,L58,N58,P58) -> 19500 | S58: 합동설계 | Z58: 19500
B59: 55 | C59: 석분 | D59: 5mm이하 | E59: ㎥ | P59: 19500 | Q59: 합동설계 | R59: =MIN(F59,H59,J59,L59,N59,P59) -> 19500 | S59: 보창,제일 | Z59: 19500
B60: 56 | C60: 수도용폴리에틸렌관 | D60: D90mm | E60: m | F60: 10190 | G60: 조달26.8 | R60: =MIN(F60,H60,J60,L60,N60,P60) -> 10190 | Z60: 10190
B61: 57 | C61: 수도용폴리에틸렌관 | D61: D25mm | E61: m | F61: 870 | G61: 조달26.8 | R61: =MIN(F61,H61,J61,L61,N61,P61) -> 870 | Z61: 870
B62: 58 | C62: 수도용폴리에틸렌관 | D62: D20mm | E62: m | F62: 610 | G62: 조달26.8 | R62: =MIN(F62,H62,J62,L62,N62,P62) -> 610 | Z62: 610
B63: 59 | C63: 원형밸브실 | D63: D900×H1,300mm | E63: EA | F63: 1748000 | G63: 조달26.8 | R63: =MIN(F63,H63,J63,L63,N63,P63) -> 1748000 | S63: 22904687 | Z63: 1748000
B64: 60 | C64: 아스콘(관급, 조합공통품목) | D64: WC-2, 가열, 3등급 | E64: Ton | F64: 145880 | G64: 조달26.8 | R64: =MIN(F64,H64,J64,L64,N64,P64) -> 145880 | Z64: 145880
B65: 61 | C65: 아스콘(관급, 조합공통품목) | D65: BB-2, 가열, 3등급 | E65: Ton | F65: 117340 | G65: 조달26.8 | R65: =MIN(F65,H65,J65,L65,N65,P65) -> 117340 | Z65: 117340

Sheet 노임단가
B1: 노임단가
B3: No | C3: 품 명 | D3: 규 격 | E3: 단위 | F3: 단 가 | G3: 비 고 | Z3: 당초합계 | AA3: 당초노무비 | AB3: 당초재료비 | AC3: 당초경비
B4: 1 | C4: 특별인부 | E4: 인 | F4: 226122 | G4: 2026년(상) | Z4: 226122
B5: 2 | C5: 보통인부 | E5: 인 | F5: 172068 | G5: 2026년(상) | Z5: 172068
B6: 3 | C6: 일반기계운전사 | E6: 인 | F6: 173995 | G6: 2026년(상) | Z6: 173995
B7: 4 | C7: 화물차운전사 | E7: 인 | F7: 238936 | G7: 2026년(상) | Z7: 238936
B8: 5 | C8: 건설기계운전사 | E8: 인 | F8: 283297 | G8: 2026년(상) | Z8: 283297
B9: 6 | C9: 배 관 공(수도) | E9: 인 | F9: 262580 | G9: 2026년(상) | Z9: 262580
B10: 7 | C10: 배 관 공 | E10: 인 | F10: 247897 | G10: 2026년(상) | Z10: 247897
B11: 8 | C11: 포 장 공 | E11: 인 | F11: 273308 | G11: 2026년(상) | Z11: 273308
B12: 9 | C12: 포 설 공 | E12: 인 | F12: 221015 | G12: 2026년(상) | Z12: 221015
