Workbook

Sheet 내역명세서
A1: 내 역 서
A2: 공사명 : 태양의집직업재활원 환경개선 개보수공사(외내부)
A3: 품 명 | B3: 수량 | C3: 단위 | D3: 합 계 | F3: 비고
D4: 단 가 | E4: 금 액
A5: 1. 철거공사
A6: 발코니/마루 철거 | F6: 부분철거, 보수
A7: 화장실문 철거 | B7: 3 | F7: 슬라이딩 목재도어 및 문틀3
A8: 화장실 철거 | B8: 11 | F8: 세면대3, 소변기2, 양변기3, 거울3
A9: 기타 철거 | F9: 기존벽 조성물, 전기간선, 복스
A10: 소 계
A11: 2. 프로그램실 공사(≒48㎡)
A12: 바닥 데코타일(신설)
A13: 바닥 평탄화 작업(신설)
A14: 문 필름 부착
A15: 벽체 및 천장 도장
A16: 소 계
A17: 3. 화장실 공사(1~3층)
A18: 양변기
A19: 세면대
A20: 소변기
A21: 거울
A22: 수전금구
A23: 슬라이딩문 및 틀교체 | F23: 예)ABS/PVC 계열 또는 방수 MDF 필름 마감 등 방수에 뛰어난 것
A24: 소 계
A25: 4. 방수 공사
A26: 옥상누수 | F26: 엘리베이터
A27: 2층 베란다창 | F27: 외부 방부목재물길 누전전기보수
A28: 1층 천장
A29: 소 계
A30: 5. 전기통신 공사
A31: 전기간선 | F31: 사무실 콘센트선로인입
A32: 통신선로 | F32: UTP신설/포설
A33: 계
A34: 6. 기타비용
A37: 소 계
A38: 합 계 | F38: (부가세포함)

Sheet 일위대가목록
A1: 일 위 대 가 표 목 록
A2: 호 표 | B2: 품 명 | C2: 규 격 | D2: 단위 | E2: 수량 | F2: 재 료 비 | H2: 노 무 비 | J2: 경 비 | L2: 합 계 | N2: 비 고
F3: 단 가 | G3: 금 액 | H3: 단 가 | I3: 금 액 | J3: 단 가 | K3: 금 액 | L3: 단 가 | M3: 금 액 | O3: 손료요율 | P3: 손료구분 | Q3: 적용구분 | R3: 합계구분
A4: 일위 1 | B4: 콘테이너가설사무소 | C4: 6*2.4*2.6m, 3개월 | D4: 동 | F4: =일위대가표!F9 -> 66240 | G4: =일위대가표!F9 -> 66240 | H4: =일위대가표!H9 -> 24508 | I4: =일위대가표!H9 -> 24508 | J4: =일위대가표!J9 -> 0 | K4: =일위대가표!J9 -> 0 | L4: =G4+I4+K4 -> 90748 | M4: =G4+I4+K4 -> 90748 | N4: 품셈2-2-3
A5: 일위 3 | B5: 이동식강관말비계 | C5: 3개월,2단(4m) | D5: 1대 | F5: =일위대가표!F22 -> 17445 | G5: =일위대가표!F22 -> 17445 | H5: =일위대가표!H22 -> 11101 | I5: =일위대가표!H22 -> 11101 | J5: =일위대가표!J22 -> 0 | K5: =일위대가표!J22 -> 0 | L5: =G5+I5+K5 -> 28546 | M5: =G5+I5+K5 -> 28546 | N5: 품셈2-6-3
A6: 일위 4 | B6: 강관비계 | C6: 1-30m 3개월 | D6: M2 | F6: =일위대가표!F31 -> 467 | G6: =일위대가표!F31 -> 467 | H6: =일위대가표!H31 -> 2479 | I6: =일위대가표!H31 -> 2479 | J6: =일위대가표!J31 -> 0 | K6: =일위대가표!J31 -> 0 | L6: =G6+I6+K6 -> 2946 | M6: =G6+I6+K6 -> 2946 | N6: 품셈2-6-1
A7: 일위 5 | B7: 건축물현장정리 | C7: 철근CON'C조 | D7: M2 | F7: =일위대가표!F34 -> 0 | G7: =일위대가표!F34 -> 0 | H7: =일위대가표!H34 -> 2775 | I7: =일위대가표!H34 -> 2775 | J7: =일위대가표!J34 -> 0 | K7: =일위대가표!J34 -> 0 | L7: =G7+I7+K7 -> 2775 | M7: =G7+I7+K7 -> 2775 | N7: 품셈2-10
A8: 일위 6 | B8: 펌프카붐타설(무근,25/20) | C8: 50-100㎥미만,슬럼프8-12 | D8: M3 | F8: =일위대가표!F39 -> 408 | G8: =일위대가표!F39 -> 408 | H8: =일위대가표!H39 -> 1726 | I8: =일위대가표!H39 -> 1726 | J8: =일위대가표!J39 -> 2012 | K8: =일위대가표!J39 -> 2012 | L8: =G8+I8+K8 -> 4146 | M8: =G8+I8+K8 -> 4146 | N8: 품셈6-1-2
A9: 일위 8 | B9: 펌프카붐타설(철근,25/20) | C9: 100㎥~300㎥미만,슬럼프15 | D9: M3 | F9: =일위대가표!F44 -> 342 | G9: =일위대가표!F44 -> 342 | H9: =일위대가표!H44 -> 1876 | I9: =일위대가표!H44 -> 1876 | J9: =일위대가표!J44 -> 1684 | K9: =일위대가표!J44 -> 1684 | L9: =G9+I9+K9 -> 3902 | M9: =G9+I9+K9 -> 3902 | N9: 품셈6-1-2
A10: 일위 9 | B10: 합판거푸집 | C10: 3회 | D10: M2 | F10: =일위대가표!F53 -> 1702 | G10: =일위대가표!F53 -> 1702 | H10: =일위대가표!H53 -> 3786 | I10: =일위대가표!H53 -> 3786 | J10: =일위대가표!J53 -> 0 | K10: =일위대가표!J53 -> 0 | L10: =G10+I10+K10 -> 5488 | M10: =G10+I10+K10 -> 5488 | N10: 품셈6-3-2
A11: 일위 10 | B11: 합판거푸집 | C11: 경사3회 | D11: M2 | F11: =일위대가표!F62 -> 1771 | G11: =일위대가표!F62 -> 1771 | H11: =일위대가표!H62 -> 4543 | I11: =일위대가표!H62 -> 4543 | J11: =일위대가표!J62 -> 0 | K11: =일위대가표!J62 -> 0 | L11: =G11+I11+K11 -> 6314 | M11: =G11+I11+K11 -> 6314 | N11: 참고자료
A12: 일위 11 | B12: 유로폼 | C12: 벽 | D12: M2 | F12: =일위대가표!F75 -> 798 | G12: =일위대가표!F75 -> 798 | H12: =일위대가표!H75 -> 3371 | I12: =일위대가표!H75 -> 3371 | J12: =일위대가표!J75 -> 0 | K12: =일위대가표!J75 -> 0 | L12: =G12+I12+K12 -> 4169 | M12: =G12+I12+K12 -> 4169 | N12: 품셈6-3-5
A13: 일위 12 | B13: 철근가공조립 | C13: 간단(미할증) | D13: TON | F13: =일위대가표!F81 -> 3832 | G13: =일위대가표!F81 -> 3832 | H13: =일위대가표!H81 -> 95872 | I13: =일위대가표!H81 -> 95872 | J13: =일위대가표!J81 -> 0 | K13: =일위대가표!J81 -> 0 | L13: =G13+I13+K13 -> 99704 | M13: =G13+I13+K13 -> 99704 | N13: 품샘6-2-1
A14: 일위 16 | B14: 케미칼앙카설치(이형철근) | C14: D:13*L:150,천공포함 | D14: EA | F14: =일위대가표!F87 -> 694 | G14: =일위대가표!F87 -> 694 | H14: =일위대가표!H87 -> 704 | I14: =일위대가표!H87 -> 704 | J14: =일위대가표!J87 -> 0.9 | K14: =일위대가표!J87 -> 0.9 | L14: =G14+I14+K14 -> 1398.9 | M14: =G14+I14+K14 -> 1398.9
A15: 일위 17 | B15: 콘크리트천공(청소비포함) | C15: Φ16이하, H:100mm~150mm | D15: EA | F15: =일위대가표!F91 -> 62 | G15: =일위대가표!F91 -> 62 | H15: =일위대가표!H91 -> 314 | I15: =일위대가표!H91 -> 314 | J15: =일위대가표!J91 -> 0 | K15: =일위대가표!J91 -> 0 | L15: =G15+I15+K15 -> 376 | M15: =G15+I15+K15 -> 376
A16: 일위 18 | B16: 잡철물제작설치(철제) | C16: 간단 | D16: KG | F16: =일위대가표!F103 -> 46 | G16: =일위대가표!F103 -> 46 | H16: =일위대가표!H103 -> 827 | I16: =일위대가표!H103 -> 827 | J16: =일위대가표!J103 -> 2 | K16: =일위대가표!J103 -> 2 | L16: =G16+I16+K16 -> 875 | M16: =G16+I16+K16 -> 875 | N16: 건축15-6
A17: 일위 20 | B17: 신더콘크리트 | D17: M3 | F17: =일위대가표!F110 -> 25252 | G17: =일위대가표!F110 -> 25252 | H17: =일위대가표!H110 -> 39898 | I17: =일위대가표!H110 -> 39898 | J17: =일위대가표!J110 -> 0 | K17: =일위대가표!J110 -> 0 | L17: =G17+I17+K17 -> 65150 | M17: =G17+I17+K17 -> 65150 | N17: 참고자료
A18: 일위 21 | B18: 0.5B벽돌쌓기 | C18: 5,000매미만 | D18: 천매 | F18: =일위대가표!F116 -> 0 | G18: =일위대가표!F116 -> 0 | H18: =일위대가표!H116 -> 80112 | I18: =일위대가표!H116 -> 80112 | J18: =일위대가표!J116 -> 0 | K18: =일위대가표!J116 -> 0 | L18: =G18+I18+K18 -> 80112 | M18: =G18+I18+K18 -> 80112 | N18: 건축8-1-2
A19: 일위 22 | B19: 1.0B벽돌쌓기 | C19: 5,000-10,000매 | D19: 천매 | F19: =일위대가표!F122 -> 0 | G19: =일위대가표!F122 -> 0 | H19: =일위대가표!H122 -> 70514 | I19: =일위대가표!H122 -> 70514 | J19: =일위대가표!J122 -> 0 | K19: =일위대가표!J122 -> 0 | L19: =G19+I19+K19 -> 70514 | M19: =G19+I19+K19 -> 70514 | N19: 건축8-1-2
A20: 일위 23 | B20: 벽돌소운반 | C20: 2층 | D20: 천매 | F20: =일위대가표!F125 -> 0 | G20: =일위대가표!F125 -> 0 | H20: =일위대가표!H125 -> 11101 | I20: =일위대가표!H125 -> 11101 | J20: =일위대가표!J125 -> 0 | K20: =일위대가표!J125 -> 0 | L20: =G20+I20+K20 -> 11101 | M20: =G20+I20+K20 -> 11101 | N20: 건축8-3
A21: 일위 24 | B21: 타일압착붙임.300*300(타일C) | C21: 바닥,바탕47mm+압5mm | D21: M2 | F21: =일위대가표!F137 -> 588 | G21: =일위대가표!F137 -> 588 | H21: =일위대가표!H137 -> 9709 | I21: =일위대가표!H137 -> 9709 | J21: =일위대가표!J137 -> 0 | K21: =일위대가표!J137 -> 0 | L21: =G21+I21+K21 -> 10297 | M21: =G21+I21+K21 -> 10297 | N21: 건축11-4
A22: 일위 25 | B22: 타일압착붙임.200*200(타일C) | C22: 벽,바탕12mm+압6mm | D22: M2 | F22: =일위대가표!F149 -> 774 | G22: =일위대가표!F149 -> 774 | H22: =일위대가표!H149 -> 11474 | I22: =일위대가표!H149 -> 11474 | J22: =일위대가표!J149 -> 0 | K22: =일위대가표!J149 -> 0 | L22: =G22+I22+K22 -> 12248 | M22: =G22+I22+K22 -> 12248 | N22: 건축11-4
A23: 일위 26 | B23: 테라죠타일붙임 | C23: 바닥 400*400*24mm 몰탈36 | D23: M2 | F23: =일위대가표!F156 -> 3630 | G23: =일위대가표!F156 -> 3630 | H23: =일위대가표!H156 -> 13872 | I23: =일위대가표!H156 -> 13872 | J23: =일위대가표!J156 -> 0 | K23: =일위대가표!J156 -> 0 | L23: =G23+I23+K23 -> 17502 | M23: =G23+I23+K23 -> 17502 | N23: 건축10-1-1
A24: 일위 27 | B24: 시멘트액체방수 | C24: 1종 | D24: M2 | F24: =일위대가표!F164 -> 298 | G24: =일위대가표!F164 -> 298 | H24: =일위대가표!H164 -> 2667 | I24: =일위대가표!H164 -> 2667 | J24: =일위대가표!J164 -> 0 | K24: =일위대가표!J164 -> 0 | L24: =G24+I24+K24 -> 2965 | M24: =G24+I24+K24 -> 2965 | N24: 건축13-7-2
A25: 일위 28 | B25: 시멘트액체방수 | C25: 2종 | D25: M2 | F25: =일위대가표!F172 -> 215 | G25: =일위대가표!F172 -> 215 | H25: =일위대가표!H172 -> 2095 | I25: =일위대가표!H172 -> 2095 | J25: =일위대가표!J172 -> 0 | K25: =일위대가표!J172 -> 0 | L25: =G25+I25+K25 -> 2310 | M25: =G25+I25+K25 -> 2310 | N25: 건축13-7-2
A26: 일위 29 | B26: 우레탄도막방수 | C26: 바닥, 비노출 3MM | D26: M2 | F26: =일위대가표!F173 -> 15616.786 | G26: =일위대가표!F173 -> 15616.786 | H26: =일위대가표!H173 -> 8343.214 | I26: =일위대가표!H173 -> 8343.214 | J26: =일위대가표!J173 -> 0 | K26: =일위대가표!J173 -> 0 | L26: =G26+I26+K26 -> 23960 | M26: =G26+I26+K26 -> 23960 | N26: 2011년4월
A27: 일위 30 | B27: 수용성 도막 | C27: 3.0m/m | D27: M2 | F27: =일위대가표!F174 -> 21420 | G27: =일위대가표!F174 -> 21420 | H27: =일위대가표!H174 -> 11540 | I27: =일위대가표!H174 -> 11540 | J27: =일위대가표!J174 -> 0 | K27: =일위대가표!J174 -> 0 | L27: =G27+I27+K27 -> 32960 | M27: =G27+I27+K27 -> 32960 | N27: 2011년7월
A28: 일위 31 | B28: 경량철골천정틀 | C28: M-BAR H:1m미만.인써트유 | D28: M2 | F28: =일위대가표!F191 -> 1328 | G28: =일위대가표!F191 -> 1328 | H28: =일위대가표!H191 -> 5664 | I28: =일위대가표!H191 -> 5664 | J28: =일위대가표!J191 -> 0 | K28: =일위대가표!J191 -> 0 | L28: =G28+I28+K28 -> 6992 | M28: =G28+I28+K28 -> 6992 | N28: 건축15-5
A29: 일위 32 | B29: 인서트설치 | C29: 거푸집용,인서트제외 | D29: 개당 | F29: =일위대가표!F195 -> 2 | G29: =일위대가표!F195 -> 2 | H29: =일위대가표!H195 -> 87 | I29: =일위대가표!H195 -> 87 | J29: =일위대가표!J195 -> 0 | K29: =일위대가표!J195 -> 0 | L29: =G29+I29+K29 -> 89 | M29: =G29+I29+K29 -> 89 | N29: 건축15-7-1
A30: 일위 33 | B30: 스테인리스난간설치 | C30: H=850,Φ50 | D30: M | F30: =일위대가표!F201 -> 7963 | G30: =일위대가표!F201 -> 7963 | H30: =일위대가표!H201 -> 4181 | I30: =일위대가표!H201 -> 4181 | J30: =일위대가표!J201 -> 10 | K30: =일위대가표!J201 -> 10 | L30: =G30+I30+K30 -> 12154 | M30: =G30+I30+K30 -> 12154
A31: 일위 34 | B31: 스텐핸드레일 | C31: Ø50.8+31.8*1.5t,H:900 | D31: M | F31: =일위대가표!F209 -> 9984 | G31: =일위대가표!F209 -> 9984 | H31: =일위대가표!H209 -> 6593 | I31: =일위대가표!H209 -> 6593 | J31: =일위대가표!J209 -> 12 | K31: =일위대가표!J209 -> 12 | L31: =G31+I31+K31 -> 16589 | M31: =G31+I31+K31 -> 16589 | N31: 참고자료
A32: 일위 35 | B32: 스텐 CAP | C32: Ø60*1.2t | D32: 개 | F32: =일위대가표!F212 -> 46 | G32: =일위대가표!F212 -> 46 | H32: =일위대가표!H212 -> 0 | I32: =일위대가표!H212 -> 0 | J32: =일위대가표!J212 -> 0 | K32: =일위대가표!J212 -> 0 | L32: =G32+I32+K32 -> 46 | M32: =G32+I32+K32 -> 46 | N32: 참고자료
A33: 일위 36 | B33: 잡철물제작(스텐) | C33: 간단 | D33: KG | F33: =일위대가표!F215 -> 64 | G33: =일위대가표!F215 -> 64 | H33: =일위대가표!H215 -> 658 | I33: =일위대가표!H215 -> 658 | J33: =일위대가표!J215 -> 2 | K33: =일위대가표!J215 -> 2 | L33: =G33+I33+K33 -> 724 | M33: =G33+I33+K33 -> 724 | N33: 건축15-6
A34: 일위 37 | B34: 잡철물제작(스텐) | C34: 간단 | D34: TON | F34: =일위대가표!F227 -> 64067 | G34: =일위대가표!F227 -> 64067 | H34: =일위대가표!H227 -> 658591 | I34: =일위대가표!H227 -> 658591 | J34: =일위대가표!J227 -> 2196 | K34: =일위대가표!J227 -> 2196 | L34: =G34+I34+K34 -> 724854 | M34: =G34+I34+K34 -> 724854 | N34: 건축15-6
A35: 일위 38 | B35: 난간설치 | C35: 스테인레스제 | D35: KG | F35: =일위대가표!F233 -> 16 | G35: =일위대가표!F233 -> 16 | H35: =일위대가표!H233 -> 398 | I35: =일위대가표!H233 -> 398 | J35: =일위대가표!J233 -> 0 | K35: =일위대가표!J233 -> 0 | L35: =G35+I35+K35 -> 414 | M35: =G35+I35+K35 -> 414 | N35: 건축15-9
A36: 일위 39 | B36: AL몰딩설치 | C36: W형, 15*15*15*15*1.0mm | D36: M | F36: =일위대가표!F239 -> 373 | G36: =일위대가표!F239 -> 373 | H36: =일위대가표!H239 -> 913 | I36: =일위대가표!H239 -> 913 | J36: =일위대가표!J239 -> 0 | K36: =일위대가표!J239 -> 0 | L36: =G36+I36+K36 -> 1286 | M36: =G36+I36+K36 -> 1286 | N36: 건축15-8
A37: 일위 40 | B37: 와이어메쉬깔기 | C37: #8 -150*150 | D37: M2 | F37: =일위대가표!F244 -> 619 | G37: =일위대가표!F244 -> 619 | H37: =일위대가표!H244 -> 143 | I37: =일위대가표!H244 -> 143 | J37: =일위대가표!J244 -> 0 | K37: =일위대가표!J244 -> 0 | L37: =G37+I37+K37 -> 762 | M37: =G37+I37+K37 -> 762 | N37: 품셈15-4-2
A38: 일위 41 | B38: C-형강설치(T:2.3) | C38: 100*50*20,조합P | D38: M | F38: =일위대가표!F250 -> 1402 | G38: =일위대가표!F250 -> 1402 | H38: =일위대가표!H250 -> 3828 | I38: =일위대가표!H250 -> 3828 | J38: =일위대가표!J250 -> 8 | K38: =일위대가표!J250 -> 8 | L38: =G38+I38+K38 -> 5238 | M38: =G38+I38+K38 -> 5238
A39: 일위 42 | B39: 녹막이페인트(뿜칠) | C39: 1회.1종 | D39: M2 | F39: =일위대가표!F257 -> 239 | G39: =일위대가표!F257 -> 239 | H39: =일위대가표!H257 -> 453 | I39: =일위대가표!H257 -> 453 | J39: =일위대가표!J257 -> 0 | K39: =일위대가표!J257 -> 0 | L39: =G39+I39+K39 -> 692 | M39: =G39+I39+K39 -> 692 | N39: 참고자료
A40: 일위 43 | B40: 바탕만들기 | C40: 철재면 | D40: M2 | F40: =일위대가표!F262 -> 22 | G40: =일위대가표!F262 -> 22 | H40: =일위대가표!H262 -> 378 | I40: =일위대가표!H262 -> 378 | J40: =일위대가표!J262 -> 0 | K40: =일위대가표!J262 -> 0 | L40: =G40+I40+K40 -> 400 | M40: =G40+I40+K40 -> 400 | N40: 참고자료
A41: 일위 44 | B41: 조합페인트(뿜칠) | C41: 철재면 2회 1급 | D41: M2 | F41: =일위대가표!F272 -> 426 | G41: =일위대가표!F272 -> 426 | H41: =일위대가표!H272 -> 529 | I41: =일위대가표!H272 -> 529 | J41: =일위대가표!J272 -> 0 | K41: =일위대가표!J272 -> 0 | L41: =G41+I41+K41 -> 955 | M41: =G41+I41+K41 -> 955 | N41: 참고자료
A42: 일위 45 | B42: 아연도칼라강판설치 | C42: T:0.8mm | D42: M2 | F42: =일위대가표!F277 -> 4990 | G42: =일위대가표!F277 -> 4990 | H42: =일위대가표!H277 -> 6897 | I42: =일위대가표!H277 -> 6897 | J42: =일위대가표!J277 -> 12 | K42: =일위대가표!J277 -> 12 | L42: =G42+I42+K42 -> 11899 | M42: =G42+I42+K42 -> 11899
A43: 일위 46 | B43: 불소수지페인트 | C43: 철부 2회 | D43: M2 | F43: =일위대가표!F285 -> 1893 | G43: =일위대가표!F285 -> 1893 | H43: =일위대가표!H285 -> 1539 | I43: =일위대가표!H285 -> 1539 | J43: =일위대가표!J285 -> 0 | K43: =일위대가표!J285 -> 0 | L43: =G43+I43+K43 -> 3432 | M43: =G43+I43+K43 -> 3432 | N43: 참고자료
A44: 일위 47 | B44: 스텐상자홈통 | C44: 250*250*250*1.5t | D44: EA | F44: =일위대가표!F289 -> 6333 | G44: =일위대가표!F289 -> 6333 | H44: =일위대가표!H289 -> 4464 | I44: =일위대가표!H289 -> 4464 | J44: =일위대가표!J289 -> 9 | K44: =일위대가표!J289 -> 9 | L44: =G44+I44+K44 -> 10806 | M44: =G44+I44+K44 -> 10806 | N44: 참고자료
A45: 일위 48 | B45: 잡철물제작설치(스텐) | C45: 보통 | D45: KG | F45: =일위대가표!F292 -> 91 | G45: =일위대가표!F292 -> 91 | H45: =일위대가표!H292 -> 992 | I45: =일위대가표!H292 -> 992 | J45: =일위대가표!J292 -> 2 | K45: =일위대가표!J292 -> 2 | L45: =G45+I45+K45 -> 1085 | M45: =G45+I45+K45 -> 1085 | N45: 건축15-6
A46: 일위 49 | B46: 잡철물제작설치(스텐) | C46: 간단 | D46: KG | F46: =일위대가표!F304 -> 76 | G46: =일위대가표!F304 -> 76 | H46: =일위대가표!H304 -> 827 | I46: =일위대가표!H304 -> 827 | J46: =일위대가표!J304 -> 2 | K46: =일위대가표!J304 -> 2 | L46: =G46+I46+K46 -> 905 | M46: =G46+I46+K46 -> 905 | N46: 건축15-6
A47: 일위 50 | B47: 스텐레스선홈통 | C47: Ø150 | D47: M | F47: =일위대가표!F309 -> 12825 | G47: =일위대가표!F309 -> 12825 | H47: =일위대가표!H309 -> 5186 | I47: =일위대가표!H309 -> 5186 | J47: =일위대가표!J309 -> 0 | K47: =일위대가표!J309 -> 0 | L47: =G47+I47+K47 -> 18011 | M47: =G47+I47+K47 -> 18011 | N47: 건축14-2-4
A48: 일위 51 | B48: 아연도후레싱 | C48: 600*0.6t | D48: M | F48: =일위대가표!F315 -> 788 | G48: =일위대가표!F315 -> 788 | H48: =일위대가표!H315 -> 3977 | I48: =일위대가표!H315 -> 3977 | J48: =일위대가표!J315 -> 0 | K48: =일위대가표!J315 -> 0 | L48: =G48+I48+K48 -> 4765 | M48: =G48+I48+K48 -> 4765
A49: 일위 52 | B49: 몰탈바르기(내벽) | C49: 18mm | D49: M2 | F49: =일위대가표!F322 -> 0.3 | G49: =일위대가표!F322 -> 0.3 | H49: =일위대가표!H322 -> 6092 | I49: =일위대가표!H322 -> 6092 | J49: =일위대가표!J322 -> 0 | K49: =일위대가표!J322 -> 0 | L49: =G49+I49+K49 -> 6092.3 | M49: =G49+I49+K49 -> 6092.3 | N49: 건축16-1-3
A50: 일위 53 | B50: 몰탈바르기(천정) | C50: 15mm | D50: M2 | F50: =일위대가표!F329 -> 0.4 | G50: =일위대가표!F329 -> 0.4 | H50: =일위대가표!H329 -> 7366 | I50: =일위대가표!H329 -> 7366 | J50: =일위대가표!J329 -> 0 | K50: =일위대가표!J329 -> 0 | L50: =G50+I50+K50 -> 7366.4 | M50: =G50+I50+K50 -> 7366.4 | N50: 건축16-1-3
A51: 일위 54 | B51: 콘크리트면처리 | C51: 벽체 | D51: M2 | F51: =일위대가표!F335 -> 49 | G51: =일위대가표!F335 -> 49 | H51: =일위대가표!H335 -> 998 | I51: =일위대가표!H335 -> 998 | J51: =일위대가표!J335 -> 0 | K51: =일위대가표!J335 -> 0 | L51: =G51+I51+K51 -> 1047 | M51: =G51+I51+K51 -> 1047
A52: 일위 55 | B52: 콘크리트면처리 | C52: 천정 | D52: M2 | F52: =일위대가표!F341 -> 52 | G52: =일위대가표!F341 -> 52 | H52: =일위대가표!H341 -> 1047 | I52: =일위대가표!H341 -> 1047 | J52: =일위대가표!J341 -> 0 | K52: =일위대가표!J341 -> 0 | L52: =G52+I52+K52 -> 1099 | M52: =G52+I52+K52 -> 1099
A53: 일위 56 | B53: 쇠흙손마감 | D53: M2 | F53: =일위대가표!F344 -> 0 | G53: =일위대가표!F344 -> 0 | H53: =일위대가표!H344 -> 1290 | I53: =일위대가표!H344 -> 1290 | J53: =일위대가표!J344 -> 0 | K53: =일위대가표!J344 -> 0 | L53: =G53+I53+K53 -> 1290 | M53: =G53+I53+K53 -> 1290 | N53: 품셈16-1-4
A54: 일위 57 | B54: 걸레받이비드 | C54: 아연도 | D54: M | F54: =일위대가표!F348 -> 150 | G54: =일위대가표!F348 -> 150 | H54: =일위대가표!H348 -> 903 | I54: =일위대가표!H348 -> 903 | J54: =일위대가표!J348 -> 0 | K54: =일위대가표!J348 -> 0 | L54: =G54+I54+K54 -> 1053 | M54: =G54+I54+K54 -> 1053 | N54: 참고자료
A55: 일위 58 | B55: 코너비드설치 | C55: 스텐 | D55: M | F55: =일위대가표!F352 -> 450 | G55: =일위대가표!F352 -> 450 | H55: =일위대가표!H352 -> 903 | I55: =일위대가표!H352 -> 903 | J55: =일위대가표!J352 -> 0 | K55: =일위대가표!J352 -> 0 | L55: =G55+I55+K55 -> 1353 | M55: =G55+I55+K55 -> 1353 | N55: 참고자료
A56: 일위 59 | B56: 코너비드설치 | C56: 알미늄 | D56: M | F56: =일위대가표!F356 -> 78 | G56: =일위대가표!F356 -> 78 | H56: =일위대가표!H356 -> 903 | I56: =일위대가표!H356 -> 903 | J56: =일위대가표!J356 -> 0 | K56: =일위대가표!J356 -> 0 | L56: =G56+I56+K56 -> 981 | M56: =G56+I56+K56 -> 981 | N56: 참고자료
A57: 일위 60 | B57: 창틀주위모르타르충진 | D57: M | F57: =일위대가표!F362 -> 0 | G57: =일위대가표!F362 -> 0 | H57: =일위대가표!H362 -> 715 | I57: =일위대가표!H362 -> 715 | J57: =일위대가표!J362 -> 0 | K57: =일위대가표!J362 -> 0 | L57: =G57+I57+K57 -> 715 | M57: =G57+I57+K57 -> 715 | N57: 건축16-9-2
A58: 일위 61 | B58: SD1 | C58: 1000*2550 | D58: 개소 | F58: =일위대가표!F366 -> 31847 | G58: =일위대가표!F366 -> 31847 | H58: =일위대가표!H366 -> 7648 | I58: =일위대가표!H366 -> 7648 | J58: =일위대가표!J366 -> 0 | K58: =일위대가표!J366 -> 0 | L58: =G58+I58+K58 -> 39495 | M58: =G58+I58+K58 -> 39495
A59: 일위 62 | B59: 녹막이페인트칠 | C59: 1종.1회 | D59: M2 | F59: =일위대가표!F375 -> 207 | G59: =일위대가표!F375 -> 207 | H59: =일위대가표!H375 -> 857 | I59: =일위대가표!H375 -> 857 | J59: =일위대가표!J375 -> 0 | K59: =일위대가표!J375 -> 0 | L59: =G59+I59+K59 -> 1064 | M59: =G59+I59+K59 -> 1064 | N59: 참고자료
A60: 일위 63 | B60: SD1A | C60: 1000*2100 | D60: 개소 | F60: =일위대가표!F379 -> 31521 | G60: =일위대가표!F379 -> 31521 | H60: =일위대가표!H379 -> 6298 | I60: =일위대가표!H379 -> 6298 | J60: =일위대가표!J379 -> 0 | K60: =일위대가표!J379 -> 0 | L60: =G60+I60+K60 -> 37819 | M60: =G60+I60+K60 -> 37819
A61: 일위 64 | B61: SD2A | C61: 1800*2550 | D61: 개소 | F61: =일위대가표!F383 -> 50755 | G61: =일위대가표!F383 -> 50755 | H61: =일위대가표!H383 -> 11407 | I61: =일위대가표!H383 -> 11407 | J61: =일위대가표!J383 -> 0 | K61: =일위대가표!J383 -> 0 | L61: =G61+I61+K61 -> 62162 | M61: =G61+I61+K61 -> 62162
A62: 일위 65 | B62: SD2B | C62: 1800*2100 | D62: 개소 | F62: =일위대가표!F387 -> 50269 | G62: =일위대가표!F387 -> 50269 | H62: =일위대가표!H387 -> 9394 | I62: =일위대가표!H387 -> 9394 | J62: =일위대가표!J387 -> 0 | K62: =일위대가표!J387 -> 0 | L62: =G62+I62+K62 -> 59663 | M62: =G62+I62+K62 -> 59663
A63: 일위 66 | B63: SD3 | C63: 1000*2100 | D63: 개소 | F63: =일위대가표!F391 -> 31521 | G63: =일위대가표!F391 -> 31521 | H63: =일위대가표!H391 -> 6298 | I63: =일위대가표!H391 -> 6298 | J63: =일위대가표!J391 -> 0 | K63: =일위대가표!J391 -> 0 | L63: =G63+I63+K63 -> 37819 | M63: =G63+I63+K63 -> 37819
A64: 일위 67 | B64: SD4 | C64: 1800*2100 | D64: 개소 | F64: =일위대가표!F395 -> 50269 | G64: =일위대가표!F395 -> 50269 | H64: =일위대가표!H395 -> 9394 | I64: =일위대가표!H395 -> 9394 | J64: =일위대가표!J395 -> 0 | K64: =일위대가표!J395 -> 0 | L64: =G64+I64+K64 -> 59663 | M64: =G64+I64+K64 -> 59663
A65: 일위 68 | B65: PW1 | C65: 1500*1500 | D65: 개소 | F65: =일위대가표!F399 -> 77895 | G65: =일위대가표!F399 -> 77895 | H65: =일위대가표!H399 -> 0 | I65: =일위대가표!H399 -> 0 | J65: =일위대가표!J399 -> 0 | K65: =일위대가표!J399 -> 0 | L65: =G65+I65+K65 -> 77895 | M65: =G65+I65+K65 -> 77895
A66: 일위 69 | B66: PW2 | C66: 900*900 | D66: 개소 | F66: =일위대가표!F403 -> 28042 | G66: =일위대가표!F403 -> 28042 | H66: =일위대가표!H403 -> 0 | I66: =일위대가표!H403 -> 0 | J66: =일위대가표!J403 -> 0 | K66: =일위대가표!J403 -> 0 | L66: =G66+I66+K66 -> 28042 | M66: =G66+I66+K66 -> 28042
A67: 일위 70 | B67: PW3 | C67: 900*1500 | D67: 개소 | F67: =일위대가표!F407 -> 46737 | G67: =일위대가표!F407 -> 46737 | H67: =일위대가표!H407 -> 0 | I67: =일위대가표!H407 -> 0 | J67: =일위대가표!J407 -> 0 | K67: =일위대가표!J407 -> 0 | L67: =G67+I67+K67 -> 46737 | M67: =G67+I67+K67 -> 46737
A68: 일위 71 | B68: PG1 | C68: 600*600 | D68: 개소 | F68: =일위대가표!F411 -> 25150 | G68: =일위대가표!F411 -> 25150 | H68: =일위대가표!H411 -> 5544 | I68: =일위대가표!H411 -> 5544 | J68: =일위대가표!J411 -> 0 | K68: =일위대가표!J411 -> 0 | L68: =G68+I68+K68 -> 30694 | M68: =G68+I68+K68 -> 30694
A69: 일위 72 | B69: 그릴창호설치 | C69: 600*600 | D69: 개 | F69: =일위대가표!F416 -> 18166 | G69: =일위대가표!F416 -> 18166 | H69: =일위대가표!H416 -> 5544 | I69: =일위대가표!H416 -> 5544 | J69: =일위대가표!J416 -> 0 | K69: =일위대가표!J416 -> 0 | L69: =G69+I69+K69 -> 23710 | M69: =G69+I69+K69 -> 23710
A70: 일위 73 | B70: 도아록설치 | C70: 원통형(철재문) | D70: 개소 | F70: =일위대가표!F420 -> 8 | G70: =일위대가표!F420 -> 8 | H70: =일위대가표!H420 -> 279 | I70: =일위대가표!H420 -> 279 | J70: =일위대가표!J420 -> 0 | K70: =일위대가표!J420 -> 0 | L70: =G70+I70+K70 -> 287 | M70: =G70+I70+K70 -> 287
A71: 일위 74 | B71: 도아체크달기(강재) | C71: 재료비 별도 | D71: 개소 | F71: =일위대가표!F425 -> 66 | G71: =일위대가표!F425 -> 66 | H71: =일위대가표!H425 -> 2214 | I71: =일위대가표!H425 -> 2214 | J71: =일위대가표!J425 -> 0 | K71: =일위대가표!J425 -> 0 | L71: =G71+I71+K71 -> 2280 | M71: =G71+I71+K71 -> 2280 | N71: 건축17-3
A72: 일위 75 | B72: 수밀코킹(10mm각) | C72: 실리콘 | D72: M | F72: =일위대가표!F429 -> 226 | G72: =일위대가표!F429 -> 226 | H72: =일위대가표!H429 -> 749 | I72: =일위대가표!H429 -> 749 | J72: =일위대가표!J429 -> 0 | K72: =일위대가표!J429 -> 0 | L72: =G72+I72+K72 -> 975 | M72: =G72+I72+K72 -> 975 | N72: 건축13-12-
A73: 일위 76 | B73: 유리끼우기및닦기-코킹시공포함 | C73: 10MM미만[강화유리] | D73: M2 | F73: =일위대가표!F430 -> 80 | G73: =일위대가표!F430 -> 80 | H73: =일위대가표!H430 -> 6920 | I73: =일위대가표!H430 -> 6920 | J73: =일위대가표!J430 -> 0 | K73: =일위대가표!J430 -> 0 | L73: =G73+I73+K73 -> 7000 | M73: =G73+I73+K73 -> 7000 | N73: 2011년7월
A74: 일위 77 | B74: 유리끼우기및닦기-코킹시공포함 | C74: 복층유리16MM | D74: M2 | F74: =일위대가표!F431 -> 80 | G74: =일위대가표!F431 -> 80 | H74: =일위대가표!H431 -> 8620 | I74: =일위대가표!H431 -> 8620 | J74: =일위대가표!J431 -> 0 | K74: =일위대가표!J431 -> 0 | L74: =G74+I74+K74 -> 8700 | M74: =G74+I74+K74 -> 8700 | N74: 2011년4월
A75: 일위 78 | B75: 방습거울설치 | C75: 5mm,후레임포함 | D75: M2 | F75: =일위대가표!F436 -> 7233 | G75: =일위대가표!F436 -> 7233 | H75: =일위대가표!H436 -> 21972 | I75: =일위대가표!H436 -> 21972 | J75: =일위대가표!J436 -> 0 | K75: =일위대가표!J436 -> 0 | L75: =G75+I75+K75 -> 29205 | M75: =G75+I75+K75 -> 29205
A76: 일위 79 | B76: 스텐몰딩설치(T:1.2) | C76: 10*10 | D76: M | F76: =일위대가표!F440 -> 505 | G76: =일위대가표!F440 -> 505 | H76: =일위대가표!H440 -> 173 | I76: =일위대가표!H440 -> 173 | J76: =일위대가표!J440 -> 0.4 | K76: =일위대가표!J440 -> 0.4 | L76: =G76+I76+K76 -> 678.4 | M76: =G76+I76+K76 -> 678.4
A77: 일위 80 | B77: 유리끼우기및닦기-코킹시공포함 | C77: 강재,5MM이하 | D77: M2 | F77: =일위대가표!F441 -> 80 | G77: =일위대가표!F441 -> 80 | H77: =일위대가표!H441 -> 5320 | I77: =일위대가표!H441 -> 5320 | J77: =일위대가표!J441 -> 0 | K77: =일위대가표!J441 -> 0 | L77: =G77+I77+K77 -> 5400 | M77: =G77+I77+K77 -> 5400 | N77: 2011년4월
A78: 일위 81 | B78: 무늬코트 | C78: 내벽 | D78: M2 | F78: =일위대가표!F442 -> 2160 | G78: =일위대가표!F442 -> 2160 | H78: =일위대가표!H442 -> 3200 | I78: =일위대가표!H442 -> 3200 | J78: =일위대가표!J442 -> 0 | K78: =일위대가표!J442 -> 0 | L78: =G78+I78+K78 -> 5360 | M78: =G78+I78+K78 -> 5360 | N78: 2011년7월
A79: 일위 82 | B79: 무늬코트 | C79: 내천정 | D79: M2 | F79: =일위대가표!F443 -> 2365 | G79: =일위대가표!F443 -> 2365 | H79: =일위대가표!H443 -> 3455 | I79: =일위대가표!H443 -> 3455 | J79: =일위대가표!J443 -> 0 | K79: =일위대가표!J443 -> 0 | L79: =G79+I79+K79 -> 5820 | M79: =G79+I79+K79 -> 5820 | N79: 2011년7월
A80: 일위 83 | B80: 에폭시페인트칠 | C80: 몰탈면 바닥3회 | D80: M2 | F80: =일위대가표!F451 -> 839 | G80: =일위대가표!F451 -> 839 | H80: =일위대가표!H451 -> 1897 | I80: =일위대가표!H451 -> 1897 | J80: =일위대가표!J451 -> 0 | K80: =일위대가표!J451 -> 0 | L80: =G80+I80+K80 -> 2736 | M80: =G80+I80+K80 -> 2736 | N80: 참고자료
A81: 일위 84 | B81: 아크릴페인트 | C81: 걸레받이2회 | D81: M2 | F81: =일위대가표!F460 -> 597 | G81: =일위대가표!F460 -> 597 | H81: =일위대가표!H460 -> 1689 | I81: =일위대가표!H460 -> 1689 | J81: =일위대가표!J460 -> 0 | K81: =일위대가표!J460 -> 0 | L81: =G81+I81+K81 -> 2286 | M81: =G81+I81+K81 -> 2286 | N81: 참고자료
A82: 일위 85 | B82: 바탕만들기 | C82: 콘크리트,몰탈면(벽) | D82: M2 | F82: =일위대가표!F466 -> 52 | G82: =일위대가표!F466 -> 52 | H82: =일위대가표!H466 -> 302 | I82: =일위대가표!H466 -> 302 | J82: =일위대가표!J466 -> 0 | K82: =일위대가표!J466 -> 0 | L82: =G82+I82+K82 -> 354 | M82: =G82+I82+K82 -> 354 | N82: 건축19-2-2
A83: 일위 86 | B83: 조합페인트(로울러칠) | C83: 철재면 2회 1급 | D83: M2 | F83: =일위대가표!F476 -> 353 | G83: =일위대가표!F476 -> 353 | H83: =일위대가표!H476 -> 1261 | I83: =일위대가표!H476 -> 1261 | J83: =일위대가표!J476 -> 0 | K83: =일위대가표!J476 -> 0 | L83: =G83+I83+K83 -> 1614 | M83: =G83+I83+K83 -> 1614 | N83: 참고자료
A84: 일위 87 | B84: PVC천정재붙임 | C84: 10*99.5mm,목무늬 | D84: M2 | F84: =일위대가표!F482 -> 6743 | G84: =일위대가표!F482 -> 6743 | H84: =일위대가표!H482 -> 3359 | I84: =일위대가표!H482 -> 3359 | J84: =일위대가표!J482 -> 0 | K84: =일위대가표!J482 -> 0 | L84: =G84+I84+K84 -> 10102 | M84: =G84+I84+K84 -> 10102
A85: 일위 88 | B85: 압출스치로폼본드붙임 | C85: 벽 ＃0.035, 100mm | D85: M2 | F85: =일위대가표!F487 -> 5004 | G85: =일위대가표!F487 -> 5004 | H85: =일위대가표!H487 -> 2001 | I85: =일위대가표!H487 -> 2001 | J85: =일위대가표!J487 -> 0 | K85: =일위대가표!J487 -> 0 | L85: =G85+I85+K85 -> 7005 | M85: =G85+I85+K85 -> 7005 | N85: 건축20-6-1
A86: 일위 89 | B86: 발포폴리스티렌 타설부착(SLAB) | C86: #03 160T | D86: M2 | F86: =일위대가표!F492 -> 3180 | G86: =일위대가표!F492 -> 3180 | H86: =일위대가표!H492 -> 872 | I86: =일위대가표!H492 -> 872 | J86: =일위대가표!J492 -> 0 | K86: =일위대가표!J492 -> 0 | L86: =G86+I86+K86 -> 4052 | M86: =G86+I86+K86 -> 4052
A87: 일위 90 | B87: 장애인점자타일붙이기 | C87: 점자형,300*300 | D87: EA | F87: =일위대가표!F499 -> 2538 | G87: =일위대가표!F499 -> 2538 | H87: =일위대가표!H499 -> 220 | I87: =일위대가표!H499 -> 220 | J87: =일위대가표!J499 -> 0 | K87: =일위대가표!J499 -> 0 | L87: =G87+I87+K87 -> 2758 | M87: =G87+I87+K87 -> 2758
A88: 일위 91 | B88: 장애인점자타일붙이기 | C88: 선형,300*300 | D88: EA | F88: =일위대가표!F506 -> 2538 | G88: =일위대가표!F506 -> 2538 | H88: =일위대가표!H506 -> 220 | I88: =일위대가표!H506 -> 220 | J88: =일위대가표!J506 -> 0 | K88: =일위대가표!J506 -> 0 | L88: =G88+I88+K88 -> 2758 | M88: =G88+I88+K88 -> 2758
A89: 일위 92 | B89: 장애인안내점자판설치 | C89: 장애인화장실 | D89: 개 | F89: =일위대가표!F510 -> 4500 | G89: =일위대가표!F510 -> 4500 | H89: =일위대가표!H510 -> 1850 | I89: =일위대가표!H510 -> 1850 | J89: =일위대가표!J510 -> 0 | K89: =일위대가표!J510 -> 0 | L89: =G89+I89+K89 -> 6350 | M89: =G89+I89+K89 -> 6350
A90: 일위 93 | B90: 핸드레일 촉지판 설치 | C90: 알루미늄+인쇄+점자타공 1 | D90: 개 | F90: =일위대가표!F514 -> 5400 | G90: =일위대가표!F514 -> 5400 | H90: =일위대가표!H514 -> 555 | I90: =일위대가표!H514 -> 555 | J90: =일위대가표!J514 -> 0 | K90: =일위대가표!J514 -> 0 | L90: =G90+I90+K90 -> 5955 | M90: =G90+I90+K90 -> 5955
A91: 일위 94 | B91: 기층부설 | C91: t=20Cm 인력 | D91: a | F91: =일위대가표!F521 -> 805760 | G91: =일위대가표!F521 -> 805760 | H91: =일위대가표!H521 -> 220410 | I91: =일위대가표!H521 -> 220410 | J91: =일위대가표!J521 -> 6000 | K91: =일위대가표!J521 -> 6000 | L91: =G91+I91+K91 -> 1032170 | M91: =G91+I91+K91 -> 1032170
A92: 일위 95 | B92: 와이어메쉬깔기 | C92: #6 -100*100 | D92: M2 | F92: =일위대가표!F526 -> 1345 | G92: =일위대가표!F526 -> 1345 | H92: =일위대가표!H526 -> 143 | I92: =일위대가표!H526 -> 143 | J92: =일위대가표!J526 -> 0 | K92: =일위대가표!J526 -> 0 | L92: =G92+I92+K92 -> 1488 | M92: =G92+I92+K92 -> 1488 | N92: 품셈15-4-2
A93: 일위 96 | B93: 철거및부수기 | C93: 벽돌 | D93: M3 | F93: =일위대가표!F531 -> 1044 | G93: =일위대가표!F531 -> 1044 | H93: =일위대가표!H531 -> 20889 | I93: =일위대가표!H531 -> 20889 | J93: =일위대가표!J531 -> 0 | K93: =일위대가표!J531 -> 0 | L93: =G93+I93+K93 -> 21933 | M93: =G93+I93+K93 -> 21933 | N93: 참고자료
A94: 일위 97 | B94: 철근콘크리트 철거 | C94: 소형브레이커 | D94: M3 | F94: =일위대가표!F538 -> 5604 | G94: =일위대가표!F538 -> 5604 | H94: =일위대가표!H538 -> 30848 | I94: =일위대가표!H538 -> 30848 | J94: =일위대가표!J538 -> 4121 | K94: =일위대가표!J538 -> 4121 | L94: =G94+I94+K94 -> 40573 | M94: =G94+I94+K94 -> 40573 | N94: 참고자료
A95: 일위100 | B95: 샌드위치판넬철거 | C95: 각종.틀포함 | D95: M2 | F95: =일위대가표!F541 -> 0 | G95: =일위대가표!F541 -> 0 | H95: =일위대가표!H541 -> 2405 | I95: =일위대가표!H541 -> 2405 | J95: =일위대가표!J541 -> 0 | K95: =일위대가표!J541 -> 0 | L95: =G95+I95+K95 -> 2405 | M95: =G95+I95+K95 -> 2405
A96: 일위101 | B96: 스치로폴천정철거 | D96: M2 | F96: =일위대가표!F544 -> 0 | G96: =일위대가표!F544 -> 0 | H96: =일위대가표!H544 -> 1295 | I96: =일위대가표!H544 -> 1295 | J96: =일위대가표!J544 -> 0 | K96: =일위대가표!J544 -> 0 | L96: =G96+I96+K96 -> 1295 | M96: =G96+I96+K96 -> 1295 | N96: 참고자료
A97: 일위102 | B97: 폴리카보네이트철거 | D97: M2 | F97: =일위대가표!F547 -> 0 | G97: =일위대가표!F547 -> 0 | H97: =일위대가표!H547 -> 1572 | I97: =일위대가표!H547 -> 1572 | J97: =일위대가표!J547 -> 0 | K97: =일위대가표!J547 -> 0 | L97: =G97+I97+K97 -> 1572 | M97: =G97+I97+K97 -> 1572
A98: 일위103 | B98: 도기철거 | C98: 세면기 | D98: 개 | F98: =일위대가표!F550 -> 0 | G98: =일위대가표!F550 -> 0 | H98: =일위대가표!H550 -> 2190 | I98: =일위대가표!H550 -> 2190 | J98: =일위대가표!J550 -> 0 | K98: =일위대가표!J550 -> 0 | L98: =G98+I98+K98 -> 2190 | M98: =G98+I98+K98 -> 2190 | N98: 참고자료
A99: 일위104 | B99: 창호철거 | C99: 방화문 | D99: 개소 | F99: =일위대가표!F553 -> 0 | G99: =일위대가표!F553 -> 0 | H99: =일위대가표!H553 -> 2775 | I99: =일위대가표!H553 -> 2775 | J99: =일위대가표!J553 -> 0 | K99: =일위대가표!J553 -> 0 | L99: =G99+I99+K99 -> 2775 | M99: =G99+I99+K99 -> 2775
A100: 일위105 | B100: 몰탈철거 | C100: 인력,바닥 | D100: M2 | F100: =일위대가표!F556 -> 0 | G100: =일위대가표!F556 -> 0 | H100: =일위대가표!H556 -> 2220 | I100: =일위대가표!H556 -> 2220 | J100: =일위대가표!J556 -> 0 | K100: =일위대가표!J556 -> 0 | L100: =G100+I100+K100 -> 2220 | M100: =G100+I100+K100 -> 2220 | N100: 참고자료

Sheet 일위대가표
A1: 일 위 대 가 명 세 서
A2: 품 명 | B2: 규 격 | C2: 단위 | D2: 수 량 | E2: 재 료 비 | G2: 노 무 비 | I2: 경 비 | K2: 합 계 | M2: 비 고
E3: 단 가 | F3: 금 액 | G3: 단 가 | H3: 금 액 | I3: 단 가 | J3: 금 액 | K3: 단 가 | L3: 금 액 | N3: 손료요율 | O3: 손료구분 | P3: 적용구분 | Q3: 합계구분
A4: 일위 1호 콘테이너가설사무소 | B4: 6*2.4*2.6m, 3개월 | C4: 동 | M4: 품셈2-2-3
A5: 콘테이너(사무실용) | B5: 2.4×6.0×2.6m | C5: 개 | D5: 0.12 | E5: =ROUNDDOWN(자재단가대비표!N119*30/100,0) -> 552000 | F5: =ROUNDDOWN(D5*E5,1) -> 66240 | K5: =E5+G5+I5 -> 552000 | L5: =F5+H5+J5 -> 66240 | M5: 4.4평 | O5: 01 | P5: 기계경비 | Q5: 1
A6: 비계공 | C6: 인 | D6: 0.14 | G6: =ROUNDDOWN(자재단가대비표!N146,0) -> 123972 | H6: =ROUNDDOWN(D6*G6,1) -> 17356 | K6: =E6+G6+I6 -> 123972 | L6: =F6+H6+J6 -> 17356 | O6: 02 | P6: 기계경비 | Q6: 1
A7: 특별인부 | C7: 인 | D7: 0.075 | G7: =ROUNDDOWN(자재단가대비표!N161,0) -> 95366 | H7: =ROUNDDOWN(D7*G7,1) -> 7152.4 | K7: =E7+G7+I7 -> 95366 | L7: =F7+H7+J7 -> 7152.4 | O7: 02 | P7: 기계경비 | Q7: 1
A8: 크레인(트럭) | B8: 10 TON | C8: HR | E8: =ROUNDDOWN(중기경비!F15,0) -> 2471 | G8: =ROUNDDOWN(중기경비!H15,0) -> 5489 | I8: =ROUNDDOWN(중기경비!J15,0) -> 23436 | K8: =E8+G8+I8 -> 31396 | L8: =F8+H8+J8 -> 0 | M8: 중기 2호
A9: 합 계 | F9: =ROUNDDOWN(SUMIF($Q$5:$Q$8,1,$F$5:$F$8),0) -> 66240 | H9: =ROUNDDOWN(SUMIF($Q$5:$Q$8,1,$H$5:$H$8),0) -> 24508 | J9: =SUMIF($Q$5:$Q$8,1,$J$5:$J$8) -> 0 | L9: =F9+H9+J9 -> 90748
A10: 일위 3호 이동식강관말비계 | B10: 3개월,2단(4m) | C10: 1대 | M10: 품셈2-6-3
A11: 비계기본틀(기둥) | B11: 1.2*1.7 ( H=1700 * W=1219 ) | C11: 개 | D11: 0.24 | E11: =ROUNDDOWN(자재단가대비표!N51*30/100,0) -> 6916 | F11: =ROUNDDOWN(D11*E11,1) -> 1659.8 | K11: =E11+G11+I11 -> 6916 | L11: =F11+H11+J11 -> 1659.8 | M11: 문형지주 | O11: 01 | P11: 기계경비 | Q11: 1
A12: 가새 | B12: 1.2*1.9 | C12: 개 | D12: 0.48 | E12: =ROUNDDOWN(자재단가대비표!N8*30/100,0) -> 2115 | F12: =ROUNDDOWN(D12*E12,1) -> 1015.2 | K12: =E12+G12+I12 -> 2115 | L12: =F12+H12+J12 -> 1015.2 | O12: 01 | P12: 기계경비 | Q12: 1
A13: 수평띠장 | B13: L=1829 | C13: 개 | D13: 0.48 | E13: =ROUNDDOWN(자재단가대비표!N59*30/100,0) -> 7710 | F13: =ROUNDDOWN(D13*E13,1) -> 3700.8 | K13: =E13+G13+I13 -> 7710 | L13: =F13+H13+J13 -> 3700.8 | O13: 01 | P13: 기계경비 | Q13: 1
A14: 손잡이기둥 | C14: 개 | D14: 0.24 | E14: =ROUNDDOWN(자재단가대비표!N58*30/100,0) -> 8250 | F14: =ROUNDDOWN(D14*E14,1) -> 1980 | K14: =E14+G14+I14 -> 8250 | L14: =F14+H14+J14 -> 1980 | M14: 1.2*1.7 | O14: 01 | P14: 기계경비 | Q14: 1
A15: 손잡이 | B15: L=1229 | C15: 개 | D15: 0.12 | E15: =ROUNDDOWN(자재단가대비표!N56*30/100,0) -> 2550 | F15: =ROUNDDOWN(D15*E15,1) -> 306 | K15: =E15+G15+I15 -> 2550 | L15: =F15+H15+J15 -> 306 | O15: 01 | P15: 기계경비 | Q15: 1
A16: 손잡이 | B16: L=1829 | C16: 개 | D16: 0.24 | E16: =ROUNDDOWN(자재단가대비표!N57*30/100,0) -> 7710 | F16: =ROUNDDOWN(D16*E16,1) -> 1850.4 | K16: =E16+G16+I16 -> 7710 | L16: =F16+H16+J16 -> 1850.4 | O16: 01 | P16: 기계경비 | Q16: 1
A17: 이음철물 | B17: 이음철물, 연결핀 | C17: 개 | D17: 0.48 | E17: =ROUNDDOWN(자재단가대비표!N93*30/100,0) -> 300 | F17: =ROUNDDOWN(D17*E17,1) -> 144 | K17: =E17+G17+I17 -> 300 | L17: =F17+H17+J17 -> 144 | M17: 단관비계48mm용 | O17: 01 | P17: 기계경비 | Q17: 1
A18: 바퀴 | B18: L=1829 | C18: 개 | D18: 0.36 | E18: =ROUNDDOWN(자재단가대비표!N42*30/100,0) -> 7800 | F18: =ROUNDDOWN(D18*E18,1) -> 2808 | K18: =E18+G18+I18 -> 7800 | L18: =F18+H18+J18 -> 2808 | O18: 01 | P18: 기계경비 | Q18: 1
A19: 쟈키 | B19: L=1829 | C19: 개 | D19: 0.36 | E19: =ROUNDDOWN(자재단가대비표!N101*30/100,0) -> 2790 | F19: =ROUNDDOWN(D19*E19,1) -> 1004.4 | K19: =E19+G19+I19 -> 2790 | L19: =F19+H19+J19 -> 1004.4 | O19: 01 | P19: 기계경비 | Q19: 1
A20: 판재(板材) | B20: 외송 일반(㎥) | C20: M3 | D20: 0.0315 | E20: =ROUNDDOWN(자재단가대비표!N124*30/100,0) -> 94500 | F20: =ROUNDDOWN(D20*E20,1) -> 2976.7 | K20: =E20+G20+I20 -> 94500 | L20: =F20+H20+J20 -> 2976.7 | O20: 01 | P20: 기계경비 | Q20: 1
A21: 보통인부 | C21: 인 | D21: 0.15 | G21: =ROUNDDOWN(자재단가대비표!N145,0) -> 74008 | H21: =ROUNDDOWN(D21*G21,1) -> 11101.2 | K21: =E21+G21+I21 -> 74008 | L21: =F21+H21+J21 -> 11101.2 | O21: 02 | P21: 기계경비 | Q21: 1
A22: 합 계 | F22: =ROUNDDOWN(SUMIF($Q$11:$Q$21,1,$F$11:$F$21),0) -> 17445 | H22: =ROUNDDOWN(SUMIF($Q$11:$Q$21,1,$H$11:$H$21),0) -> 11101 | J22: =SUMIF($Q$11:$Q$21,1,$J$11:$J$21) -> 0 | L22: =F22+H22+J22 -> 28546
A23: 일위 4호 강관비계 | B23: 1-30m 3개월 | C23: M2 | M23: 품셈2-6-1
A24: 강관비계 | B24: D=48.6*2.3mm | C24: M | D24: 0.2394 | E24: =ROUNDDOWN(자재단가대비표!N10*30/100,0) -> 879 | F24: =ROUNDDOWN(D24*E24,1) -> 210.4 | K24: =E24+G24+I24 -> 879 | L24: =F24+H24+J24 -> 210.4 | M24: L=6.0m | O24: 01 | P24: 기계경비 | Q24: 1
A25: 이음철물 | B25: 이음철물, 연결핀 | C25: 개 | D25: 0.06 | E25: =ROUNDDOWN(자재단가대비표!N93*30/100,0) -> 300 | F25: =ROUNDDOWN(D25*E25,1) -> 18 | K25: =E25+G25+I25 -> 300 | L25: =F25+H25+J25 -> 18 | M25: 단관비계48mm용 | O25: 01 | P25: 기계경비 | Q25: 1
A26: 조임철물 | B26: 조임철물, 직교및가새 | C26: 개 | D26: 0.2496 | E26: =ROUNDDOWN(자재단가대비표!N105*30/100,0) -> 391 | F26: =ROUNDDOWN(D26*E26,1) -> 97.5 | K26: =E26+G26+I26 -> 391 | L26: =F26+H26+J26 -> 97.5 | M26: 48mm용 | O26: 01 | P26: 기계경비 | Q26: 1
A27: 받침철물 | B27: 나무라이트복합 | C27: 개 | D27: 0.0036 | E27: =ROUNDDOWN(자재단가대비표!N44*30/100,0) -> 1020 | F27: =ROUNDDOWN(D27*E27,1) -> 3.6 | K27: =E27+G27+I27 -> 1020 | L27: =F27+H27+J27 -> 3.6 | O27: 01 | P27: 기계경비 | Q27: 1
A28: 철물 | B28: 앙카용철물 | C28: 개 | D28: 0.04 | E28: =ROUNDDOWN(자재단가대비표!N111*30/100,0) -> 360 | F28: =ROUNDDOWN(D28*E28,1) -> 14.4 | K28: =E28+G28+I28 -> 360 | L28: =F28+H28+J28 -> 14.4 | M28: 시중가 | O28: 01 | P28: 기계경비 | Q28: 1
A29: 비계공 | C29: 인 | D29: 0.02 | G29: =ROUNDDOWN(자재단가대비표!N146,0) -> 123972 | H29: =ROUNDDOWN(D29*G29,1) -> 2479.4 | K29: =E29+G29+I29 -> 123972 | L29: =F29+H29+J29 -> 2479.4 | O29: 02 | P29: 기계경비 | Q29: 1
A30: 공구손료 | B30: ="노무비의 "&N30*100&"%" -> 노무비의 5% | C30: 식 | D30: 1 | E30: =SUMIF($O$23:$O$30,"02",$H$23:$H$30) -> 2479.4 | F30: =ROUNDDOWN(E30*N30,1) -> 123.9 | K30: =E30+G30+I30 -> 2479.4 | L30: =F30+H30+J30 -> 123.9 | M30: 자재에입력 | N30: 0.05 | P30: 기계경비 | Q30: 1
A31: 합 계 | F31: =ROUNDDOWN(SUMIF($Q$24:$Q$30,1,$F$24:$F$30),0) -> 467 | H31: =ROUNDDOWN(SUMIF($Q$24:$Q$30,1,$H$24:$H$30),0) -> 2479 | J31: =SUMIF($Q$24:$Q$30,1,$J$24:$J$30) -> 0 | L31: =F31+H31+J31 -> 2946
A32: 일위 5호 건축물현장정리 | B32: 철근CON'C조 | C32: M2 | M32: 품셈2-10
A33: 보통인부 | C33: 인 | D33: 0.0375 | G33: =ROUNDDOWN(자재단가대비표!N145,0) -> 74008 | H33: =ROUNDDOWN(D33*G33,1) -> 2775.3 | K33: =E33+G33+I33 -> 74008 | L33: =F33+H33+J33 -> 2775.3 | O33: 02 | P33: 기계경비 | Q33: 1
A34: 합 계 | F34: =SUMIF($Q$33:$Q$33,1,$F$33:$F$33) -> 0 | H34: =ROUNDDOWN(SUMIF($Q$33:$Q$33,1,$H$33:$H$33),0) -> 2775 | J34: =SUMIF($Q$33:$Q$33,1,$J$33:$J$33) -> 0 | L34: =F34+H34+J34 -> 2775
A35: 일위 6호 펌프카붐타설(무근,25/20) | B35: 50-100㎥미만,슬럼프8-12 | C35: M3 | M35: 품셈6-1-2
A36: 콘크리트 펌프차 | B36: 32m(80~95M3/hr) | C36: HR | D36: 0.0374 | E36: =ROUNDDOWN(중기경비!F27,0) -> 10930 | F36: =ROUNDDOWN(D36*E36,1) -> 408.7 | G36: =ROUNDDOWN(중기경비!H27,0) -> 5489 | H36: =ROUNDDOWN(D36*G36,1) -> 205.2 | I36: =ROUNDDOWN(중기경비!J27,0) -> 53802 | J36: =ROUNDDOWN(D36*I36,1) -> 2012.1 | K36: =E36+G36+I36 -> 70221 | L36: =F36+H36+J36 -> 2626 | M36: 중기 7호 | P36: 기계경비 | Q36: 1
A37: 콘크리트공 | C37: 인 | D37: 0.011 | G37: =ROUNDDOWN(자재단가대비표!N159,0) -> 102951 | H37: =ROUNDDOWN(D37*G37,1) -> 1132.4 | K37: =E37+G37+I37 -> 102951 | L37: =F37+H37+J37 -> 1132.4 | O37: 02 | P37: 기계경비 | Q37: 1
A38: 보통인부 | C38: 인 | D38: 0.00525 | G38: =ROUNDDOWN(자재단가대비표!N145,0) -> 74008 | H38: =ROUNDDOWN(D38*G38,1) -> 388.5 | K38: =E38+G38+I38 -> 74008 | L38: =F38+H38+J38 -> 388.5 | O38: 02 | P38: 기계경비 | Q38: 1
A39: 합 계 | F39: =ROUNDDOWN(SUMIF($Q$36:$Q$38,1,$F$36:$F$38),0) -> 408 | H39: =ROUNDDOWN(SUMIF($Q$36:$Q$38,1,$H$36:$H$38),0) -> 1726 | J39: =ROUNDDOWN(SUMIF($Q$36:$Q$38,1,$J$36:$J$38),0) -> 2012 | L39: =F39+H39+J39 -> 4146
A40: 일위 8호 펌프카붐타설(철근,25/20) | B40: 100㎥~300㎥미만,슬럼프15 | C40: M3 | M40: 품셈6-1-2
A41: 콘크리트 펌프차 | B41: 32m(80~95M3/hr) | C41: HR | D41: 0.0313 | E41: =ROUNDDOWN(중기경비!F27,0) -> 10930 | F41: =ROUNDDOWN(D41*E41,1) -> 342.1 | G41: =ROUNDDOWN(중기경비!H27,0) -> 5489 | H41: =ROUNDDOWN(D41*G41,1) -> 171.8 | I41: =ROUNDDOWN(중기경비!J27,0) -> 53802 | J41: =ROUNDDOWN(D41*I41,1) -> 1684 | K41: =E41+G41+I41 -> 70221 | L41: =F41+H41+J41 -> 2197.9 | M41: 중기 7호 | P41: 기계경비 | Q41: 1
A42: 콘크리트공 | C42: 인 | D42: 0.01225 | G42: =ROUNDDOWN(자재단가대비표!N159,0) -> 102951 | H42: =ROUNDDOWN(D42*G42,1) -> 1261.1 | K42: =E42+G42+I42 -> 102951 | L42: =F42+H42+J42 -> 1261.1 | O42: 02 | P42: 기계경비 | Q42: 1
A43: 보통인부 | C43: 인 | D43: 0.006 | G43: =ROUNDDOWN(자재단가대비표!N145,0) -> 74008 | H43: =ROUNDDOWN(D43*G43,1) -> 444 | K43: =E43+G43+I43 -> 74008 | L43: =F43+H43+J43 -> 444 | O43: 02 | P43: 기계경비 | Q43: 1
A44: 합 계 | F44: =ROUNDDOWN(SUMIF($Q$41:$Q$43,1,$F$41:$F$43),0) -> 342 | H44: =ROUNDDOWN(SUMIF($Q$41:$Q$43,1,$H$41:$H$43),0) -> 1876 | J44: =ROUNDDOWN(SUMIF($Q$41:$Q$43,1,$J$41:$J$43),0) -> 1684 | L44: =F44+H44+J44 -> 3902
A45: 일위 9호 합판거푸집 | B45: 3회 | C45: M2 | M45: 품셈6-3-2
A46: 내수합판(1급) | B46: 12T 0.91*1.82 | C46: M2 | D46: 0.365619 | E46: =ROUNDDOWN(자재단가대비표!N24*30/100,0) -> 1935 | F46: =ROUNDDOWN(D46*E46,1) -> 707.4 | K46: =E46+G46+I46 -> 1935 | L46: =F46+H46+J46 -> 707.4 | M46: 3'*6' | O46: 01 | P46: 기계경비 | Q46: 1
A47: 각재(角材) | B47: 외송(㎥) | C47: M3 | D47: 0.013488 | E47: =ROUNDDOWN(자재단가대비표!N9*30/100,0) -> 67200 | F47: =ROUNDDOWN(D47*E47,1) -> 906.3 | K47: =E47+G47+I47 -> 67200 | L47: =F47+H47+J47 -> 906.3 | O47: 01 | P47: 기계경비 | Q47: 1
A48: 어니일링(소)철선 | B48: 4.0mm | C48: KG | D48: 0.13369 | E48: =ROUNDDOWN(자재단가대비표!N78*30/100,1) -> 321.3 | F48: =ROUNDDOWN(D48*E48,1) -> 42.9 | K48: =E48+G48+I48 -> 321.3 | L48: =F48+H48+J48 -> 42.9 | M48: #8 | O48: 01 | P48: 기계경비 | Q48: 1
A49: 철못 | B49: N 50 | C49: KG | D49: 0.0922 | E49: =ROUNDDOWN(자재단가대비표!N109*30/100,1) -> 258 | F49: =ROUNDDOWN(D49*E49,1) -> 23.7 | K49: =E49+G49+I49 -> 258 | L49: =F49+H49+J49 -> 23.7 | M49: 2" | O49: 01 | P49: 기계경비 | Q49: 1
A50: 박리제 | B50: 수성 | C50: L | D50: 0.08759 | E50: =ROUNDDOWN(자재단가대비표!N43*30/100,0) -> 248 | F50: =ROUNDDOWN(D50*E50,1) -> 21.7 | K50: =E50+G50+I50 -> 248 | L50: =F50+H50+J50 -> 21.7 | M50: 목재용 | O50: 01 | P50: 기계경비 | Q50: 1
A51: 형틀목공 | C51: 인 | D51: 0.025905 | G51: =ROUNDDOWN(자재단가대비표!N164,0) -> 105805 | H51: =ROUNDDOWN(D51*G51,1) -> 2740.8 | K51: =E51+G51+I51 -> 105805 | L51: =F51+H51+J51 -> 2740.8 | M51: 1007 | O51: 02 | P51: 기계경비 | Q51: 1
A52: 보통인부 | C52: 인 | D52: 0.01413 | G52: =ROUNDDOWN(자재단가대비표!N145,0) -> 74008 | H52: =ROUNDDOWN(D52*G52,1) -> 1045.7 | K52: =E52+G52+I52 -> 74008 | L52: =F52+H52+J52 -> 1045.7 | O52: 02 | P52: 기계경비 | Q52: 1
A53: 합 계 | F53: =ROUNDDOWN(SUMIF($Q$46:$Q$52,1,$F$46:$F$52),0) -> 1702 | H53: =ROUNDDOWN(SUMIF($Q$46:$Q$52,1,$H$46:$H$52),0) -> 3786 | J53: =SUMIF($Q$46:$Q$52,1,$J$46:$J$52) -> 0 | L53: =F53+H53+J53 -> 5488
A54: 일위 10호 합판거푸집 | B54: 경사3회 | C54: M2 | M54: 참고자료
A55: 내수합판(1급) | B55: 12T 1.21*2.42 | C55: M2 | D55: 0.3838 | E55: =ROUNDDOWN(자재단가대비표!N25*30/100,0) -> 1935 | F55: =ROUNDDOWN(D55*E55,1) -> 742.6 | K55: =E55+G55+I55 -> 1935 | L55: =F55+H55+J55 -> 742.6 | M55: 4'*8' | O55: 01 | P55: 기계경비 | Q55: 1
A56: 각재(角材) | B56: 외송(㎥) | C56: M3 | D56: 0.014 | E56: =ROUNDDOWN(자재단가대비표!N9*30/100,0) -> 67200 | F56: =ROUNDDOWN(D56*E56,1) -> 940.8 | K56: =E56+G56+I56 -> 67200 | L56: =F56+H56+J56 -> 940.8 | O56: 01 | P56: 기계경비 | Q56: 1
A57: 어니일링(소)철선 | B57: 4.0mm | C57: KG | D57: 0.1336 | E57: =ROUNDDOWN(자재단가대비표!N78*30/100,1) -> 321.3 | F57: =ROUNDDOWN(D57*E57,1) -> 42.9 | K57: =E57+G57+I57 -> 321.3 | L57: =F57+H57+J57 -> 42.9 | M57: #8 | O57: 01 | P57: 기계경비 | Q57: 1
A58: 철못 | B58: N 100 | C58: KG | D58: 0.0922 | E58: =ROUNDDOWN(자재단가대비표!N108*30/100,1) -> 251.7 | F58: =ROUNDDOWN(D58*E58,1) -> 23.2 | K58: =E58+G58+I58 -> 251.7 | L58: =F58+H58+J58 -> 23.2 | M58: 4" | O58: 01 | P58: 기계경비 | Q58: 1
A59: 박리제 | B59: 수성 | C59: L | D59: 0.0875 | E59: =ROUNDDOWN(자재단가대비표!N43*30/100,0) -> 248 | F59: =ROUNDDOWN(D59*E59,1) -> 21.7 | K59: =E59+G59+I59 -> 248 | L59: =F59+H59+J59 -> 21.7 | M59: 목재용 | O59: 01 | P59: 기계경비 | Q59: 1
A60: 형틀목공 | C60: 인 | D60: 0.031086 | G60: =ROUNDDOWN(자재단가대비표!N164,0) -> 105805 | H60: =ROUNDDOWN(D60*G60,1) -> 3289 | K60: =E60+G60+I60 -> 105805 | L60: =F60+H60+J60 -> 3289 | M60: 1007 | O60: 02 | P60: 기계경비 | Q60: 1
A61: 보통인부 | C61: 인 | D61: 0.016956 | G61: =ROUNDDOWN(자재단가대비표!N145,0) -> 74008 | H61: =ROUNDDOWN(D61*G61,1) -> 1254.8 | K61: =E61+G61+I61 -> 74008 | L61: =F61+H61+J61 -> 1254.8 | O61: 02 | P61: 기계경비 | Q61: 1
A62: 합 계 | F62: =ROUNDDOWN(SUMIF($Q$55:$Q$61,1,$F$55:$F$61),0) -> 1771 | H62: =ROUNDDOWN(SUMIF($Q$55:$Q$61,1,$H$55:$H$61),0) -> 4543 | J62: =SUMIF($Q$55:$Q$61,1,$J$55:$J$61) -> 0 | L62: =F62+H62+J62 -> 6314
A63: 일위 11호 유로폼 | B63: 벽 | C63: M2 | M63: 품셈6-3-5
A64: 금속제거푸집 | B64: 600*1200*63.5mm | C64: 매 | D64: 0.071 | E64: =ROUNDDOWN(자재단가대비표!N22*30/100,0) -> 6526 | F64: =ROUNDDOWN(D64*E64,1) -> 463.3 | K64: =E64+G64+I64 -> 6526 | L64: =F64+H64+J64 -> 463.3 | O64: 01 | P64: 기계경비 | Q64: 1
A65: 내벽코너판넬 | B65: (200+200)1200 | C65: 매 | D65: 0.002 | E65: =ROUNDDOWN(자재단가대비표!N23*30/100,0) -> 4800 | F65: =ROUNDDOWN(D65*E65,1) -> 9.6 | K65: =E65+G65+I65 -> 4800 | L65: =F65+H65+J65 -> 9.6 | O65: 01 | P65: 기계경비 | Q65: 1
A66: 강관비계 | B66: D=48.6*2.3mm | C66: M | D66: 0.0773 | E66: =ROUNDDOWN(자재단가대비표!N10*30/100,0) -> 879 | F66: =ROUNDDOWN(D66*E66,1) -> 67.9 | K66: =E66+G66+I66 -> 879 | L66: =F66+H66+J66 -> 67.9 | M66: L=6.0m | O66: 01 | P66: 기계경비 | Q66: 1
A67: 웨이지핀 | B67: 90mm | C67: 개 | D67: 1.9002 | E67: =ROUNDDOWN(자재단가대비표!N90*30/100,0) -> 18 | F67: =ROUNDDOWN(D67*E67,1) -> 34.2 | K67: =E67+G67+I67 -> 18 | L67: =F67+H67+J67 -> 34.2 | O67: 01 | P67: 기계경비 | Q67: 1
A68: 플랫타이 | B68: 19*200*4T | C68: 개 | D68: 2.0026 | E68: =ROUNDDOWN(자재단가대비표!N130*30/100,1) -> 37.8 | F68: =ROUNDDOWN(D68*E68,1) -> 75.6 | K68: =E68+G68+I68 -> 37.8 | L68: =F68+H68+J68 -> 75.6 | O68: 01 | P68: 기계경비 | Q68: 1
A69: 웨일후크 | B69: 스틸수직(대) | C69: 개 | D69: 0.2827 | E69: =ROUNDDOWN(자재단가대비표!N91*30/100,0) -> 36 | F69: =ROUNDDOWN(D69*E69,1) -> 10.1 | K69: =E69+G69+I69 -> 36 | L69: =F69+H69+J69 -> 10.1 | M69: 훅크 크램프 | O69: 01 | P69: 기계경비 | Q69: 1
A70: 박리제 | B70: 수성 | C70: L | D70: 0.0125 | E70: =ROUNDDOWN(자재단가대비표!N43*30/100,0) -> 248 | F70: =ROUNDDOWN(D70*E70,1) -> 3.1 | K70: =E70+G70+I70 -> 248 | L70: =F70+H70+J70 -> 3.1 | M70: 목재용 | O70: 01 | P70: 기계경비 | Q70: 1
A71: 잡재료비 | B71: ="주재료비의 "&N71*100&"%" -> 주재료비의 5% | C71: 식 | D71: 1 | E71: =SUMIF($O$63:$O$74,"01",$F$63:$F$74) -> 663.8 | F71: =ROUNDDOWN(E71*N71,1) -> 33.1 | K71: =E71+G71+I71 -> 663.8 | L71: =F71+H71+J71 -> 33.1 | N71: 0.05 | P71: 기계경비 | Q71: 1
A72: 형틀목공 | C72: 인 | D72: 0.024 | G72: =ROUNDDOWN(자재단가대비표!N164,0) -> 105805 | H72: =ROUNDDOWN(D72*G72,1) -> 2539.3 | K72: =E72+G72+I72 -> 105805 | L72: =F72+H72+J72 -> 2539.3 | M72: 1007 | O72: 02 | P72: 기계경비 | Q72: 1
A73: 보통인부 | C73: 인 | D73: 0.01125 | G73: =ROUNDDOWN(자재단가대비표!N145,0) -> 74008 | H73: =ROUNDDOWN(D73*G73,1) -> 832.5 | K73: =E73+G73+I73 -> 74008 | L73: =F73+H73+J73 -> 832.5 | O73: 02 | P73: 기계경비 | Q73: 1
A74: 공구손료 | B74: ="노무비의 "&N74*100&"%" -> 노무비의 3% | C74: 식 | D74: 1 | E74: =SUMIF($O$63:$O$74,"02",$H$63:$H$74) -> 3371.8 | F74: =ROUNDDOWN(E74*N74,1) -> 101.1 | K74: =E74+G74+I74 -> 3371.8 | L74: =F74+H74+J74 -> 101.1 | M74: 자재에입력 | N74: 0.03 | P74: 기계경비 | Q74: 1
A75: 합 계 | F75: =ROUNDDOWN(SUMIF($Q$64:$Q$74,1,$F$64:$F$74),0) -> 798 | H75: =ROUNDDOWN(SUMIF($Q$64:$Q$74,1,$H$64:$H$74),0) -> 3371 | J75: =SUMIF($Q$64:$Q$74,1,$J$64:$J$74) -> 0 | L75: =F75+H75+J75 -> 4169
A76: 일위 12호 철근가공조립 | B76: 간단(미할증) | C76: TON | M76: 품샘6-2-1
A77: 어니일링(소)철선 | B77: 0.9mm | C77: KG | D77: 5 | E77: =ROUNDDOWN(자재단가대비표!N77*30/100,0) -> 383 | F77: =ROUNDDOWN(D77*E77,1) -> 1915 | K77: =E77+G77+I77 -> 383 | L77: =F77+H77+J77 -> 1915 | M77: #20 | O77: 01 | P77: 기계경비 | Q77: 1
A78: 철근공 | C78: 인 | D78: 0.69 | G78: =ROUNDDOWN(자재단가대비표!N156,0) -> 111058 | H78: =ROUNDDOWN(D78*G78,1) -> 76630 | K78: =E78+G78+I78 -> 111058 | L78: =F78+H78+J78 -> 76630 | O78: 02 | P78: 기계경비 | Q78: 1
A79: 보통인부 | C79: 인 | D79: 0.26 | G79: =ROUNDDOWN(자재단가대비표!N145,0) -> 74008 | H79: =ROUNDDOWN(D79*G79,1) -> 19242 | K79: =E79+G79+I79 -> 74008 | L79: =F79+H79+J79 -> 19242 | O79: 02 | P79: 기계경비 | Q79: 1
A80: 공구손료 | B80: ="노무비의 "&N80*100&"%" -> 노무비의 2% | C80: 식 | D80: 1 | E80: =SUMIF($O$76:$O$80,"02",$H$76:$H$80) -> 95872 | F80: =ROUNDDOWN(E80*N80,1) -> 1917.4 | K80: =E80+G80+I80 -> 95872 | L80: =F80+H80+J80 -> 1917.4 | M80: 자재에입력 | N80: 0.02 | P80: 기계경비 | Q80: 1
A81: 합 계 | F81: =ROUNDDOWN(SUMIF($Q$77:$Q$80,1,$F$77:$F$80),0) -> 3832 | H81: =ROUNDDOWN(SUMIF($Q$77:$Q$80,1,$H$77:$H$80),0) -> 95872 | J81: =SUMIF($Q$77:$Q$80,1,$J$77:$J$80) -> 0 | L81: =F81+H81+J81 -> 99704
A82: 일위 16호 케미칼앙카설치(이형철근) | B82: D:13*L:150,천공포함 | C82: EA
A83: 케미칼앵커 | B83: D:16*L:145,철근별도 | C83: SET | D83: 1 | E83: =ROUNDDOWN(자재단가대비표!N116*30/100,0) -> 510 | F83: =ROUNDDOWN(D83*E83,1) -> 510 | K83: =E83+G83+I83 -> 510 | L83: =F83+H83+J83 -> 510 | O83: 01 | P83: 기계경비 | Q83: 1
A84: 콘크리트천공(청소비포함) | B84: Φ16이하, H:100mm~150mm | C84: EA | D84: 1 | E84: =ROUNDDOWN(일위대가표!F91,0) -> 62 | F84: =ROUNDDOWN(D84*E84,1) -> 62 | G84: =ROUNDDOWN(일위대가표!H91,0) -> 314 | H84: =ROUNDDOWN(D84*G84,1) -> 314 | K84: =E84+G84+I84 -> 376 | L84: =F84+H84+J84 -> 376 | M84: 일위 17호 | P84: 기계경비 | Q84: 1
A85: 이형철근 | B85: HD-13 SD35.40 | C85: TON | D85: 0.000489 | E85: =ROUNDDOWN(자재단가대비표!N95*30/100,0) -> 205500 | F85: =ROUNDDOWN(D85*E85,1) -> 100.4 | K85: =E85+G85+I85 -> 205500 | L85: =F85+H85+J85 -> 100.4 | O85: 01 | P85: 기계경비 | Q85: 1
A86: 잡철물제작설치(철제) | B86: 간단 | C86: KG | D86: 0.472625 | E86: =ROUNDDOWN(일위대가표!F103,0) -> 46 | F86: =ROUNDDOWN(D86*E86,1) -> 21.7 | G86: =ROUNDDOWN(일위대가표!H103,0) -> 827 | H86: =ROUNDDOWN(D86*G86,1) -> 390.8 | I86: =ROUNDDOWN(일위대가표!J103,0) -> 2 | J86: =ROUNDDOWN(D86*I86,1) -> 0.9 | K86: =E86+G86+I86 -> 875 | L86: =F86+H86+J86 -> 413.4 | M86: 일위 18호 | P86: 기계경비 | Q86: 1
A87: 합 계 | F87: =ROUNDDOWN(SUMIF($Q$83:$Q$86,1,$F$83:$F$86),0) -> 694 | H87: =ROUNDDOWN(SUMIF($Q$83:$Q$86,1,$H$83:$H$86),0) -> 704 | J87: =SUMIF($Q$83:$Q$86,1,$J$83:$J$86) -> 0.9 | L87: =F87+H87+J87 -> 1398.9
A88: 일위 17호 콘크리트천공(청소비포함) | B88: Φ16이하, H:100mm~150mm | C88: EA
A89: 보통인부 | C89: 인 | D89: 0.00425 | G89: =ROUNDDOWN(자재단가대비표!N145,0) -> 74008 | H89: =ROUNDDOWN(D89*G89,1) -> 314.5 | K89: =E89+G89+I89 -> 74008 | L89: =F89+H89+J89 -> 314.5 | O89: 02 | P89: 기계경비 | Q89: 1
A90: 공구손료 | B90: ="노무비의 "&N90*100&"%" -> 노무비의 20% | C90: 식 | D90: 1 | E90: =SUMIF($O$88:$O$90,"02",$H$88:$H$90) -> 314.5 | F90: =ROUNDDOWN(E90*N90,1) -> 62.9 | K90: =E90+G90+I90 -> 314.5 | L90: =F90+H90+J90 -> 62.9 | M90: 자재에입력 | N90: 0.2 | P90: 기계경비 | Q90: 1
A91: 합 계 | F91: =ROUNDDOWN(SUMIF($Q$89:$Q$90,1,$F$89:$F$90),0) -> 62 | H91: =ROUNDDOWN(SUMIF($Q$89:$Q$90,1,$H$89:$H$90),0) -> 314 | J91: =SUMIF($Q$89:$Q$90,1,$J$89:$J$90) -> 0 | L91: =F91+H91+J91 -> 376
A92: 일위 18호 잡철물제작설치(철제) | B92: 간단 | C92: KG | M92: 건축15-6
A93: 용접봉(연강용) | B93: ∮3.2 CR-13 | C93: KG | D93: 0.01848 | E93: =ROUNDDOWN(자재단가대비표!N89*30/100,0) -> 620 | F93: =ROUNDDOWN(D93*E93,1) -> 11.4 | K93: =E93+G93+I93 -> 620 | L93: =F93+H93+J93 -> 11.4 | M93: 건축15-9 | O93: 01 | P93: 기계경비 | Q93: 1
A94: 산소 | B94: 산소 가스 | C94: L | D94: 6.3 | K94: =E94+G94+I94 -> 0 | L94: =F94+H94+J94 -> 0 | O94: 01 | P94: 기계경비 | Q94: 1
A95: 아세틸렌 | C95: KG | D95: 0.0028 | E95: =ROUNDDOWN(자재단가대비표!N72*30/100,0) -> 2550 | F95: =ROUNDDOWN(D95*E95,1) -> 7.1 | K95: =E95+G95+I95 -> 2550 | L95: =F95+H95+J95 -> 7.1 | M95: 압축가스 | O95: 01 | P95: 기계경비 | Q95: 1
A96: 철공 | C96: 인 | D96: 0.006912 | G96: =ROUNDDOWN(자재단가대비표!N155,0) -> 104518 | H96: =ROUNDDOWN(D96*G96,1) -> 722.4 | K96: =E96+G96+I96 -> 104518 | L96: =F96+H96+J96 -> 722.4 | M96: 건축15-6 | O96: 02 | P96: 기계경비 | Q96: 1
A97: 보통인부 | C97: 인 | D97: 0.000165 | G97: =ROUNDDOWN(자재단가대비표!N145,0) -> 74008 | H97: =ROUNDDOWN(D97*G97,1) -> 12.2 | K97: =E97+G97+I97 -> 74008 | L97: =F97+H97+J97 -> 12.2 | O97: 02 | P97: 기계경비 | Q97: 1
A98: 용접공 | C98: 인 | D98: 0.00065 | G98: =ROUNDDOWN(자재단가대비표!N149,0) -> 115090 | H98: =ROUNDDOWN(D98*G98,1) -> 74.8 | K98: =E98+G98+I98 -> 115090 | L98: =F98+H98+J98 -> 74.8 | M98: 2010년 통합 | O98: 02 | P98: 기계경비 | Q98: 1
A99: 특별인부 | C99: 인 | D99: 0.000185 | G99: =ROUNDDOWN(자재단가대비표!N161,0) -> 95366 | H99: =ROUNDDOWN(D99*G99,1) -> 17.6 | K99: =E99+G99+I99 -> 95366 | L99: =F99+H99+J99 -> 17.6 | O99: 02 | P99: 기계경비 | Q99: 1
A100: 용접기 (교류) | B100: 500 AMP | C100: HR | D100: 0.02083 | I100: =ROUNDDOWN(중기경비!J46,0) -> 124 | J100: =ROUNDDOWN(D100*I100,1) -> 2.5 | K100: =E100+G100+I100 -> 124 | L100: =F100+H100+J100 -> 2.5 | M100: 중기 19호 | P100: 기계경비 | Q100: 1
...

Sheet 중기경비목록
A1: 중 기 경 비 리 스 트
A2: 호 표 | B2: 품 명 | C2: 규 격 | D2: 단위 | E2: 수량 | F2: 재 료 비 | H2: 노 무 비 | J2: 경 비 | L2: 합 계 | N2: 비 고
F3: 단 가 | G3: 금 액 | H3: 단 가 | I3: 금 액 | J3: 단 가 | K3: 금 액 | L3: 단 가 | M3: 금 액 | O3: 손료요율 | P3: 손료구분 | Q3: 적용구분 | R3: 합계구분
A4: 중기 2 | B4: 크레인(트럭) | C4: 10 TON | D4: HR | F4: =중기경비!F15 -> 2471 | G4: =중기경비!F15 -> 2471 | H4: =중기경비!H15 -> 5489 | I4: =중기경비!H15 -> 5489 | J4: =중기경비!J15 -> 23436 | K4: =중기경비!J15 -> 23436 | L4: =G4+I4+K4 -> 31396 | M4: =G4+I4+K4 -> 31396 | N4: 토목11-3
A5: 중기 7 | B5: 콘크리트 펌프차 | C5: 32m(80~95M3/hr) | D5: HR | F5: =중기경비!F27 -> 10930 | G5: =중기경비!F27 -> 10930 | H5: =중기경비!H27 -> 5489 | I5: =중기경비!H27 -> 5489 | J5: =중기경비!J27 -> 53802 | K5: =중기경비!J27 -> 53802 | L5: =G5+I5+K5 -> 70221 | M5: =G5+I5+K5 -> 70221 | N5: 토목11-2
A6: 중기 14 | B6: 콘크리트 진동기 | C6: 전기식 플렉시블형Φ45(0. | D6: HR | F6: =중기경비!F36 -> 574 | G6: =중기경비!F36 -> 574 | H6: =중기경비!H36 -> 0 | I6: =중기경비!H36 -> 0 | J6: =중기경비!J36 -> 79 | K6: =중기경비!J36 -> 79 | L6: =G6+I6+K6 -> 653 | M6: =G6+I6+K6 -> 653 | N6: 토목11-2
A7: 중기 15 | B7: 바이브레이터 | C7: 봉상후렉시블 | D7: HR | F7: =중기경비!F41 -> 0 | G7: =중기경비!F41 -> 0 | H7: =중기경비!H41 -> 0 | I7: =중기경비!H41 -> 0 | J7: =중기경비!J41 -> 39 | K7: =중기경비!J41 -> 39 | L7: =G7+I7+K7 -> 39 | M7: =G7+I7+K7 -> 39 | N7: 참고자료
A8: 중기 19 | B8: 용접기 (교류) | C8: 500 AMP | D8: HR | F8: =중기경비!F46 -> 0 | G8: =중기경비!F46 -> 0 | H8: =중기경비!H46 -> 0 | I8: =중기경비!H46 -> 0 | J8: =중기경비!J46 -> 124 | K8: =중기경비!J46 -> 124 | L8: =G8+I8+K8 -> 124 | M8: =G8+I8+K8 -> 124 | N8: 참고자료
A9: 중기 98 | B9: 페이브먼트 브레이카 | C9: 25.0KG (55#) | D9: HR | F9: =중기경비!F51 -> 0 | G9: =중기경비!F51 -> 0 | H9: =중기경비!H51 -> 0 | I9: =중기경비!H51 -> 0 | J9: =중기경비!J51 -> 415 | K9: =중기경비!J51 -> 415 | L9: =G9+I9+K9 -> 415 | M9: =G9+I9+K9 -> 415 | N9: 참고자료
A10: 중기 99 | B10: 공기압축기(이동식) | C10: 3.5M3/MIN | D10: HR | F10: =중기경비!F63 -> 3365 | G10: =중기경비!F63 -> 3365 | H10: =중기경비!H63 -> 5489 | I10: =중기경비!H63 -> 5489 | J10: =중기경비!J63 -> 1746 | K10: =중기경비!J63 -> 1746 | L10: =G10+I10+K10 -> 10600 | M10: =G10+I10+K10 -> 10600 | N10: 토목11-2,1
A11: 중기107 | B11: 트럭 트랙터 및 트레일러 | C11: 20 TON | D11: HR | F11: =중기경비!F75 -> 10733 | G11: =중기경비!F75 -> 10733 | H11: =중기경비!H75 -> 5489 | I11: =중기경비!H75 -> 5489 | J11: =중기경비!J75 -> 14644 | K11: =중기경비!J75 -> 14644 | L11: =G11+I11+K11 -> 30866 | M11: =G11+I11+K11 -> 30866 | N11: 품셈11-3
A12: 중기109 | B12: 덤프트럭 | C12: 8 TON | D12: HR | F12: =중기경비!F87 -> 6006 | G12: =중기경비!F87 -> 6006 | H12: =중기경비!H87 -> 4367 | I12: =중기경비!H87 -> 4367 | J12: =중기경비!J87 -> 7743 | K12: =중기경비!J87 -> 7743 | L12: =G12+I12+K12 -> 18116 | M12: =G12+I12+K12 -> 18116 | N12: 토목11-2
A13: 중기112 | B13: 굴삭기(유압식백호우) | C13: 0.7M3 | D13: HR | F13: =중기경비!F99 -> 6623 | G13: =중기경비!F99 -> 6623 | H13: =중기경비!H99 -> 5489 | I13: =중기경비!H99 -> 5489 | J13: =중기경비!J99 -> 18961 | K13: =중기경비!J99 -> 18961 | L13: =G13+I13+K13 -> 31073 | M13: =G13+I13+K13 -> 31073 | N13: 토목11-2,1
A14: 중기113 | B14: 덤프트럭 | C14: 15 TON | D14: HR | F14: =중기경비!F111 -> 10268 | G14: =중기경비!F111 -> 10268 | H14: =중기경비!H111 -> 5489 | I14: =중기경비!H111 -> 5489 | J14: =중기경비!J111 -> 14383 | K14: =중기경비!J111 -> 14383 | L14: =G14+I14+K14 -> 30140 | M14: =G14+I14+K14 -> 30140 | N14: 토목11-2

Sheet 중기경비
A1: 중 기 경 비
A2: 품 명 | B2: 규 격 | C2: 단위 | D2: 수 량 | E2: 재 료 비 | G2: 노 무 비 | I2: 경 비 | K2: 합 계 | M2: 비 고
E3: 단 가 | F3: 금 액 | G3: 단 가 | H3: 금 액 | I3: 단 가 | J3: 금 액 | K3: 단 가 | L3: 금 액 | N3: 손료요율 | O3: 손료구분 | P3: 적용구분 | Q3: 합계구분
A4: 중기 2호 크레인(트럭) | B4: 10 TON | C4: HR | M4: 토목11-3
A5: [경 비] | K5: =E5+G5+I5 -> 0 | L5: =F5+H5+J5 -> 0
A6: 크레인(트럭) | B6: 10 TON | C6: 천원 | D6: 0.0002232 | I6: =ROUNDDOWN(자재단가대비표!N174,0) -> 105000000 | J6: =ROUNDDOWN(D6*I6,1) -> 23436 | K6: =E6+G6+I6 -> 105000000 | L6: =F6+H6+J6 -> 23436 | O6: 03 | P6: 기계경비 | Q6: 1
A7: [소 계] | J7: =SUMIF($Q$5:$Q$6,1,$J$5:$J$6) -> 23436 | L7: =F7+H7+J7 -> 23436
A8: [재료비] | K8: =E8+G8+I8 -> 0 | L8: =F8+H8+J8 -> 0
A9: 경유 | B9: 저유황 | C9: L | D9: 3.8 | E9: =ROUNDDOWN(자재단가대비표!N13*30/100,0) -> 468 | F9: =ROUNDDOWN(D9*E9,1) -> 1778.4 | K9: =E9+G9+I9 -> 468 | L9: =F9+H9+J9 -> 1778.4 | O9: 01 | P9: 기계경비 | Q9: 1
A10: 잡품 | B10: ="주연료비의 "&N10*100&"%" -> 주연료비의 39% | C10: 식 | D10: 1 | E10: =SUMIF($O$4:$O$14,"01",$F$4:$F$14) -> 1778.4 | F10: =ROUNDDOWN(E10*N10,1) -> 693.5 | K10: =E10+G10+I10 -> 1778.4 | L10: =F10+H10+J10 -> 693.5 | N10: 0.39 | P10: 기계경비 | Q10: 1
A11: [소 계] | F11: =SUMIF($Q$8:$Q$10,1,$F$8:$F$10) -> 2471.9 | L11: =F11+H11+J11 -> 2471.9
A12: [노무비] | K12: =E12+G12+I12 -> 0 | L12: =F12+H12+J12 -> 0
A13: 건설기계운전사 | C13: 인 | D13: 0.0520833 | G13: =ROUNDDOWN(자재단가대비표!N138,0) -> 105406 | H13: =ROUNDDOWN(D13*G13,1) -> 5489.8 | K13: =E13+G13+I13 -> 105406 | L13: =F13+H13+J13 -> 5489.8 | M13: 건설기계운전기사 | O13: 02 | P13: 기계경비 | Q13: 1
A14: [소 계] | H14: =SUMIF($Q$12:$Q$13,1,$H$12:$H$13) -> 5489.8 | L14: =F14+H14+J14 -> 5489.8
A15: 합 계 | F15: =ROUNDDOWN(SUMIF($Q$5:$Q$14,1,$F$5:$F$14),0) -> 2471 | H15: =ROUNDDOWN(SUMIF($Q$5:$Q$14,1,$H$5:$H$14),0) -> 5489 | J15: =ROUNDDOWN(SUMIF($Q$5:$Q$14,1,$J$5:$J$14),0) -> 23436 | L15: =F15+H15+J15 -> 31396
A16: 중기 7호 콘크리트 펌프차 | B16: 32m(80~95M3/hr) | C16: HR | M16: 토목11-2
A17: [경 비] | K17: =E17+G17+I17 -> 0 | L17: =F17+H17+J17 -> 0
A18: 콘크리트 펌프차 | B18: 32m(80~95)㎥/hr | C18: 천원 | D18: 0.0002562 | I18: =ROUNDDOWN(자재단가대비표!N173,0) -> 210000000 | J18: =ROUNDDOWN(D18*I18,1) -> 53802 | K18: =E18+G18+I18 -> 210000000 | L18: =F18+H18+J18 -> 53802 | O18: 03 | P18: 기계경비 | Q18: 1
A19: [소 계] | J19: =SUMIF($Q$17:$Q$18,1,$J$17:$J$18) -> 53802 | L19: =F19+H19+J19 -> 53802
A20: [재료비] | K20: =E20+G20+I20 -> 0 | L20: =F20+H20+J20 -> 0
A21: 경유 | B21: 저유황 | C21: L | D21: 17.3 | E21: =ROUNDDOWN(자재단가대비표!N13*30/100,0) -> 468 | F21: =ROUNDDOWN(D21*E21,1) -> 8096.4 | K21: =E21+G21+I21 -> 468 | L21: =F21+H21+J21 -> 8096.4 | O21: 01 | P21: 기계경비 | Q21: 1
A22: 잡품 | B22: ="주연료비의 "&N22*100&"%" -> 주연료비의 35% | C22: 식 | D22: 1 | E22: =SUMIF($O$16:$O$26,"01",$F$16:$F$26) -> 8096.4 | F22: =ROUNDDOWN(E22*N22,1) -> 2833.7 | K22: =E22+G22+I22 -> 8096.4 | L22: =F22+H22+J22 -> 2833.7 | N22: 0.35 | P22: 기계경비 | Q22: 1
A23: [소 계] | F23: =SUMIF($Q$20:$Q$22,1,$F$20:$F$22) -> 10930.1 | L23: =F23+H23+J23 -> 10930.1
A24: [노무비] | K24: =E24+G24+I24 -> 0 | L24: =F24+H24+J24 -> 0
A25: 건설기계운전사 | C25: 인 | D25: 0.0520833 | G25: =ROUNDDOWN(자재단가대비표!N138,0) -> 105406 | H25: =ROUNDDOWN(D25*G25,1) -> 5489.8 | K25: =E25+G25+I25 -> 105406 | L25: =F25+H25+J25 -> 5489.8 | M25: 건설기계운전기사 | O25: 02 | P25: 기계경비 | Q25: 1
A26: [소 계] | H26: =SUMIF($Q$24:$Q$25,1,$H$24:$H$25) -> 5489.8 | L26: =F26+H26+J26 -> 5489.8
A27: 합 계 | F27: =ROUNDDOWN(SUMIF($Q$17:$Q$26,1,$F$17:$F$26),0) -> 10930 | H27: =ROUNDDOWN(SUMIF($Q$17:$Q$26,1,$H$17:$H$26),0) -> 5489 | J27: =ROUNDDOWN(SUMIF($Q$17:$Q$26,1,$J$17:$J$26),0) -> 53802 | L27: =F27+H27+J27 -> 70221
A28: 중기 14호 콘크리트 진동기 | B28: 전기식 플렉시블형Φ45(0.75kw) | C28: HR | M28: 토목11-2
A29: [경 비] | K29: =E29+G29+I29 -> 0 | L29: =F29+H29+J29 -> 0
A30: 콘크리트 진동기 | B30: 전기식 플렉시블형Φ45(0.75kw) | C30: 천원 | D30: 0.0004867 | I30: =ROUNDDOWN(자재단가대비표!N172,0) -> 164000 | J30: =ROUNDDOWN(D30*I30,1) -> 79.8 | K30: =E30+G30+I30 -> 164000 | L30: =F30+H30+J30 -> 79.8 | O30: 03 | P30: 기계경비 | Q30: 1
A31: [소 계] | J31: =SUMIF($Q$29:$Q$30,1,$J$29:$J$30) -> 79.8 | L31: =F31+H31+J31 -> 79.8
A32: [재료비] | K32: =E32+G32+I32 -> 0 | L32: =F32+H32+J32 -> 0
A33: 휘발유 | B33: 무연 | C33: L | D33: 1 | E33: =ROUNDDOWN(자재단가대비표!N137*30/100,0) -> 522 | F33: =ROUNDDOWN(D33*E33,1) -> 522 | K33: =E33+G33+I33 -> 522 | L33: =F33+H33+J33 -> 522 | O33: 01 | P33: 기계경비 | Q33: 1
A34: 잡품 | B34: ="주연료비의 "&N34*100&"%" -> 주연료비의 10% | C34: 식 | D34: 1 | E34: =SUMIF($O$28:$O$35,"01",$F$28:$F$35) -> 522 | F34: =ROUNDDOWN(E34*N34,1) -> 52.2 | K34: =E34+G34+I34 -> 522 | L34: =F34+H34+J34 -> 52.2 | N34: 0.1 | P34: 기계경비 | Q34: 1
A35: [소 계] | F35: =SUMIF($Q$32:$Q$34,1,$F$32:$F$34) -> 574.2 | L35: =F35+H35+J35 -> 574.2
A36: 합 계 | F36: =ROUNDDOWN(SUMIF($Q$29:$Q$35,1,$F$29:$F$35),0) -> 574 | H36: =SUMIF($Q$29:$Q$35,1,$H$29:$H$35) -> 0 | J36: =ROUNDDOWN(SUMIF($Q$29:$Q$35,1,$J$29:$J$35),0) -> 79 | L36: =F36+H36+J36 -> 653
A37: 중기 15호 바이브레이터 | B37: 봉상후렉시블 | C37: HR | M37: 참고자료
A38: [경 비] | K38: =E38+G38+I38 -> 0 | L38: =F38+H38+J38 -> 0
A39: 바이브레이터 | B39: 봉상후렉시블 | C39: 천원 | D39: 0.00045 | I39: =ROUNDDOWN(자재단가대비표!N170,0) -> 88000 | J39: =ROUNDDOWN(D39*I39,1) -> 39.6 | K39: =E39+G39+I39 -> 88000 | L39: =F39+H39+J39 -> 39.6 | O39: 03 | P39: 기계경비 | Q39: 1
A40: [소 계] | J40: =SUMIF($Q$38:$Q$39,1,$J$38:$J$39) -> 39.6 | L40: =F40+H40+J40 -> 39.6
A41: 합 계 | F41: =SUMIF($Q$38:$Q$40,1,$F$38:$F$40) -> 0 | H41: =SUMIF($Q$38:$Q$40,1,$H$38:$H$40) -> 0 | J41: =ROUNDDOWN(SUMIF($Q$38:$Q$40,1,$J$38:$J$40),0) -> 39 | L41: =F41+H41+J41 -> 39
A42: 중기 19호 용접기 (교류) | B42: 500 AMP | C42: HR | M42: 참고자료
A43: [경 비] | K43: =E43+G43+I43 -> 0 | L43: =F43+H43+J43 -> 0
A44: 용접기 (교류) | B44: 500 AMP | C44: 천원 | D44: 0.0002294 | I44: =ROUNDDOWN(자재단가대비표!N171,0) -> 544000 | J44: =ROUNDDOWN(D44*I44,1) -> 124.7 | K44: =E44+G44+I44 -> 544000 | L44: =F44+H44+J44 -> 124.7 | O44: 03 | P44: 기계경비 | Q44: 1
A45: [소 계] | J45: =SUMIF($Q$43:$Q$44,1,$J$43:$J$44) -> 124.7 | L45: =F45+H45+J45 -> 124.7
A46: 합 계 | F46: =SUMIF($Q$43:$Q$45,1,$F$43:$F$45) -> 0 | H46: =SUMIF($Q$43:$Q$45,1,$H$43:$H$45) -> 0 | J46: =ROUNDDOWN(SUMIF($Q$43:$Q$45,1,$J$43:$J$45),0) -> 124 | L46: =F46+H46+J46 -> 124
A47: 중기 98호 페이브먼트 브레이카 | B47: 25.0KG (55#) | C47: HR | M47: 참고자료
A48: [경 비] | K48: =E48+G48+I48 -> 0 | L48: =F48+H48+J48 -> 0
A49: 페이브먼트 브레이카 | B49: 25.0kg (55#) | C49: $ | D49: 0.00025 | I49: =ROUNDDOWN(자재단가대비표!N176,0) -> 1662000 | J49: =ROUNDDOWN(D49*I49,1) -> 415.5 | K49: =E49+G49+I49 -> 1662000 | L49: =F49+H49+J49 -> 415.5 | O49: 03 | P49: 기계경비 | Q49: 1
A50: [소 계] | J50: =SUMIF($Q$48:$Q$49,1,$J$48:$J$49) -> 415.5 | L50: =F50+H50+J50 -> 415.5
A51: 합 계 | F51: =SUMIF($Q$48:$Q$50,1,$F$48:$F$50) -> 0 | H51: =SUMIF($Q$48:$Q$50,1,$H$48:$H$50) -> 0 | J51: =ROUNDDOWN(SUMIF($Q$48:$Q$50,1,$J$48:$J$50),0) -> 415 | L51: =F51+H51+J51 -> 415
A52: 중기 99호 공기압축기(이동식) | B52: 3.5M3/MIN | C52: HR | M52: 토목11-2,11-3
A53: [경 비] | K53: =E53+G53+I53 -> 0 | L53: =F53+H53+J53 -> 0
A54: 공기압축기(이동식) | B54: 3.5 ㎥/Min | C54: 천원 | D54: 0.0001663 | I54: =ROUNDDOWN(자재단가대비표!N166,0) -> 10500000 | J54: =ROUNDDOWN(D54*I54,1) -> 1746.1 | K54: =E54+G54+I54 -> 10500000 | L54: =F54+H54+J54 -> 1746.1 | M54: 중기 | O54: 03 | P54: 기계경비 | Q54: 1
A55: [소 계] | J55: =SUMIF($Q$53:$Q$54,1,$J$53:$J$54) -> 1746.1 | L55: =F55+H55+J55 -> 1746.1
A56: [재료비] | K56: =E56+G56+I56 -> 0 | L56: =F56+H56+J56 -> 0
A57: 경유 | B57: 저유황 | C57: L | D57: 6.2 | E57: =ROUNDDOWN(자재단가대비표!N13*30/100,0) -> 468 | F57: =ROUNDDOWN(D57*E57,1) -> 2901.6 | K57: =E57+G57+I57 -> 468 | L57: =F57+H57+J57 -> 2901.6 | O57: 01 | P57: 기계경비 | Q57: 1
A58: 잡품 | B58: ="주연료비의 "&N58*100&"%" -> 주연료비의 16% | C58: 식 | D58: 1 | E58: =SUMIF($O$52:$O$62,"01",$F$52:$F$62) -> 2901.6 | F58: =ROUNDDOWN(E58*N58,1) -> 464.2 | K58: =E58+G58+I58 -> 2901.6 | L58: =F58+H58+J58 -> 464.2 | N58: 0.16 | P58: 기계경비 | Q58: 1
A59: [소 계] | F59: =SUMIF($Q$56:$Q$58,1,$F$56:$F$58) -> 3365.8 | L59: =F59+H59+J59 -> 3365.8
A60: [노무비] | K60: =E60+G60+I60 -> 0 | L60: =F60+H60+J60 -> 0
A61: 건설기계운전사 | C61: 인 | D61: 0.0520833 | G61: =ROUNDDOWN(자재단가대비표!N138,0) -> 105406 | H61: =ROUNDDOWN(D61*G61,1) -> 5489.8 | K61: =E61+G61+I61 -> 105406 | L61: =F61+H61+J61 -> 5489.8 | M61: 건설기계운전기사 | O61: 02 | P61: 기계경비 | Q61: 1
A62: [소 계] | H62: =SUMIF($Q$60:$Q$61,1,$H$60:$H$61) -> 5489.8 | L62: =F62+H62+J62 -> 5489.8
A63: 합 계 | F63: =ROUNDDOWN(SUMIF($Q$53:$Q$62,1,$F$53:$F$62),0) -> 3365 | H63: =ROUNDDOWN(SUMIF($Q$53:$Q$62,1,$H$53:$H$62),0) -> 5489 | J63: =ROUNDDOWN(SUMIF($Q$53:$Q$62,1,$J$53:$J$62),0) -> 1746 | L63: =F63+H63+J63 -> 10600
A64: 중기107호 트럭 트랙터 및 트레일러 | B64: 20 TON | C64: HR | M64: 품셈11-3
A65: [경 비] | K65: =E65+G65+I65 -> 0 | L65: =F65+H65+J65 -> 0
A66: 트럭 트랙터 및 트레일러 | B66: 20 TON | C66: $ | D66: 0.0002529 | I66: =ROUNDDOWN(자재단가대비표!N175,0) -> 57905000 | J66: =ROUNDDOWN(D66*I66,1) -> 14644.1 | K66: =E66+G66+I66 -> 57905000 | L66: =F66+H66+J66 -> 14644.1 | O66: 03 | P66: 기계경비 | Q66: 1
A67: [소 계] | J67: =SUMIF($Q$65:$Q$66,1,$J$65:$J$66) -> 14644.1 | L67: =F67+H67+J67 -> 14644.1
A68: [재료비] | K68: =E68+G68+I68 -> 0 | L68: =F68+H68+J68 -> 0
A69: 경유 | B69: 저유황 | C69: L | D69: 16.5 | E69: =ROUNDDOWN(자재단가대비표!N13*30/100,0) -> 468 | F69: =ROUNDDOWN(D69*E69,1) -> 7722 | K69: =E69+G69+I69 -> 468 | L69: =F69+H69+J69 -> 7722 | O69: 01 | P69: 기계경비 | Q69: 1
A70: 잡품 | B70: ="주연료비의 "&N70*100&"%" -> 주연료비의 39% | C70: 식 | D70: 1 | E70: =SUMIF($O$64:$O$74,"01",$F$64:$F$74) -> 7722 | F70: =ROUNDDOWN(E70*N70,1) -> 3011.5 | K70: =E70+G70+I70 -> 7722 | L70: =F70+H70+J70 -> 3011.5 | N70: 0.39 | P70: 기계경비 | Q70: 1
A71: [소 계] | F71: =SUMIF($Q$68:$Q$70,1,$F$68:$F$70) -> 10733.5 | L71: =F71+H71+J71 -> 10733.5
A72: [노무비] | K72: =E72+G72+I72 -> 0 | L72: =F72+H72+J72 -> 0
A73: 건설기계운전사 | C73: 인 | D73: 0.0520833 | G73: =ROUNDDOWN(자재단가대비표!N138,0) -> 105406 | H73: =ROUNDDOWN(D73*G73,1) -> 5489.8 | K73: =E73+G73+I73 -> 105406 | L73: =F73+H73+J73 -> 5489.8 | M73: 건설기계운전기사 | O73: 02 | P73: 기계경비 | Q73: 1
A74: [소 계] | H74: =SUMIF($Q$72:$Q$73,1,$H$72:$H$73) -> 5489.8 | L74: =F74+H74+J74 -> 5489.8
A75: 합 계 | F75: =ROUNDDOWN(SUMIF($Q$65:$Q$74,1,$F$65:$F$74),0) -> 10733 | H75: =ROUNDDOWN(SUMIF($Q$65:$Q$74,1,$H$65:$H$74),0) -> 5489 | J75: =ROUNDDOWN(SUMIF($Q$65:$Q$74,1,$J$65:$J$74),0) -> 14644 | L75: =F75+H75+J75 -> 30866
A76: 중기109호 덤프트럭 | B76: 8 TON | C76: HR | M76: 토목11-2
A77: [경 비] | K77: =E77+G77+I77 -> 0 | L77: =F77+H77+J77 -> 0
A78: 덤프트럭 | B78: 8.0 TON | C78: 천원 | D78: 0.0002754 | I78: =ROUNDDOWN(자재단가대비표!N168,0) -> 28119000 | J78: =ROUNDDOWN(D78*I78,1) -> 7743.9 | K78: =E78+G78+I78 -> 28119000 | L78: =F78+H78+J78 -> 7743.9 | O78: 03 | P78: 기계경비 | Q78: 1
A79: [소 계] | J79: =SUMIF($Q$77:$Q$78,1,$J$77:$J$78) -> 7743.9 | L79: =F79+H79+J79 -> 7743.9
A80: [재료비] | K80: =E80+G80+I80 -> 0 | L80: =F80+H80+J80 -> 0
A81: 경유 | B81: 저유황 | C81: L | D81: 9.3 | E81: =ROUNDDOWN(자재단가대비표!N13*30/100,0) -> 468 | F81: =ROUNDDOWN(D81*E81,1) -> 4352.4 | K81: =E81+G81+I81 -> 468 | L81: =F81+H81+J81 -> 4352.4 | O81: 01 | P81: 기계경비 | Q81: 1
A82: 잡품 | B82: ="주연료비의 "&N82*100&"%" -> 주연료비의 38% | C82: 식 | D82: 1 | E82: =SUMIF($O$76:$O$86,"01",$F$76:$F$86) -> 4352.4 | F82: =ROUNDDOWN(E82*N82,1) -> 1653.9 | K82: =E82+G82+I82 -> 4352.4 | L82: =F82+H82+J82 -> 1653.9 | N82: 0.38 | P82: 기계경비 | Q82: 1
A83: [소 계] | F83: =SUMIF($Q$80:$Q$82,1,$F$80:$F$82) -> 6006.3 | L83: =F83+H83+J83 -> 6006.3
A84: [노무비] | K84: =E84+G84+I84 -> 0 | L84: =F84+H84+J84 -> 0
A85: 화물차운전사 | C85: 인 | D85: 0.0520833 | G85: =ROUNDDOWN(자재단가대비표!N165,0) -> 83850 | H85: =ROUNDDOWN(D85*G85,1) -> 4367.1 | K85: =E85+G85+I85 -> 83850 | L85: =F85+H85+J85 -> 4367.1 | M85: 운전사(운반차) | O85: 02 | P85: 기계경비 | Q85: 1
A86: [소 계] | H86: =SUMIF($Q$84:$Q$85,1,$H$84:$H$85) -> 4367.1 | L86: =F86+H86+J86 -> 4367.1
A87: 합 계 | F87: =ROUNDDOWN(SUMIF($Q$77:$Q$86,1,$F$77:$F$86),0) -> 6006 | H87: =ROUNDDOWN(SUMIF($Q$77:$Q$86,1,$H$77:$H$86),0) -> 4367 | J87: =ROUNDDOWN(SUMIF($Q$77:$Q$86,1,$J$77:$J$86),0) -> 7743 | L87: =F87+H87+J87 -> 18116
A88: 중기112호 굴삭기(유압식백호우) | B88: 0.7M3 | C88: HR | M88: 토목11-2,11-3
A89: [경 비] | K89: =E89+G89+I89 -> 0 | L89: =F89+H89+J89 -> 0
A90: 굴삭기(유압식백호우) | B90: 0.7 ㎥ | C90: 천원 | D90: 0.0002038 | I90: =ROUNDDOWN(자재단가대비표!N167,0) -> 93042000 | J90: =ROUNDDOWN(D90*I90,1) -> 18961.9 | K90: =E90+G90+I90 -> 93042000 | L90: =F90+H90+J90 -> 18961.9 | O90: 03 | P90: 기계경비 | Q90: 1
A91: [소 계] | J91: =SUMIF($Q$89:$Q$90,1,$J$89:$J$90) -> 18961.9 | L91: =F91+H91+J91 -> 18961.9
A92: [재료비] | K92: =E92+G92+I92 -> 0 | L92: =F92+H92+J92 -> 0
A93: 경유 | B93: 저유황 | C93: L | D93: 11.6 | E93: =ROUNDDOWN(자재단가대비표!N13*30/100,0) -> 468 | F93: =ROUNDDOWN(D93*E93,1) -> 5428.8 | K93: =E93+G93+I93 -> 468 | L93: =F93+H93+J93 -> 5428.8 | O93: 01 | P93: 기계경비 | Q93: 1
A94: 잡품 | B94: ="주연료비의 "&N94*100&"%" -> 주연료비의 22% | C94: 식 | D94: 1 | E94: =SUMIF($O$88:$O$98,"01",$F$88:$F$98) -> 5428.8 | F94: =ROUNDDOWN(E94*N94,1) -> 1194.3 | K94: =E94+G94+I94 -> 5428.8 | L94: =F94+H94+J94 -> 1194.3 | N94: 0.22 | P94: 기계경비 | Q94: 1
A95: [소 계] | F95: =SUMIF($Q$92:$Q$94,1,$F$92:$F$94) -> 6623.1 | L95: =F95+H95+J95 -> 6623.1
A96: [노무비] | K96: =E96+G96+I96 -> 0 | L96: =F96+H96+J96 -> 0
A97: 건설기계운전사 | C97: 인 | D97: 0.0520833 | G97: =ROUNDDOWN(자재단가대비표!N138,0) -> 105406 | H97: =ROUNDDOWN(D97*G97,1) -> 5489.8 | K97: =E97+G97+I97 -> 105406 | L97: =F97+H97+J97 -> 5489.8 | M97: 건설기계운전기사 | O97: 02 | P97: 기계경비 | Q97: 1
A98: [소 계] | H98: =SUMIF($Q$96:$Q$97,1,$H$96:$H$97) -> 5489.8 | L98: =F98+H98+J98 -> 5489.8
A99: 합 계 | F99: =ROUNDDOWN(SUMIF($Q$89:$Q$98,1,$F$89:$F$98),0) -> 6623 | H99: =ROUNDDOWN(SUMIF($Q$89:$Q$98,1,$H$89:$H$98),0) -> 5489 | J99: =ROUNDDOWN(SUMIF($Q$89:$Q$98,1,$J$89:$J$98),0) -> 18961 | L99: =F99+H99+J99 -> 31073
A100: 중기113호 덤프트럭 | B100: 15 TON | C100: HR | M100: 토목11-2
...

Sheet 단가산출서목록
A1: 단 가 산 출 서 목 록
A2: 호 표 | B2: 품 명 | C2: 규 격 | D2: 단위 | E2: 수량 | F2: 재 료 비 | H2: 노 무 비 | J2: 경 비 | L2: 합 계 | N2: 비 고
F3: 단 가 | G3: 금 액 | H3: 단 가 | I3: 금 액 | J3: 단 가 | K3: 금 액 | L3: 단 가 | M3: 금 액 | O3: 손료요율 | P3: 손료구분 | Q3: 적용구분 | R3: 합계구분
A4: 단산 13 | B4: 진동기손료(전기식) | D4: M3 | F4: =단가산출서!B18 -> 106 | G4: =단가산출서!B18 -> 106 | H4: =단가산출서!C18 -> 0 | I4: =단가산출서!C18 -> 0 | J4: =단가산출서!D18 -> 21 | K4: =단가산출서!D18 -> 21 | L4: =G4+I4+K4 -> 127 | M4: =G4+I4+K4 -> 127 | N4: 참고자료
A5: 단산106 | B5: 운반비(트레일러20톤) | C5: 철근 L:20km | D5: TON | F5: =단가산출서!B41 -> 684 | G5: =단가산출서!B41 -> 684 | H5: =단가산출서!C41 -> 1700 | I5: =단가산출서!C41 -> 1700 | J5: =단가산출서!D41 -> 1396 | K5: =단가산출서!D41 -> 1396 | L5: =G5+I5+K5 -> 3780 | M5: =G5+I5+K5 -> 3780 | N5: 참고자료
A6: 단산108 | B6: 운반비(담프8톤) | C6: 시멘트 L:20km | D6: 포 | F6: =단가산출서!B79 -> 82 | G6: =단가산출서!B79 -> 82 | H6: =단가산출서!C79 -> 104 | I6: =단가산출서!C79 -> 104 | J6: =단가산출서!D79 -> 106 | K6: =단가산출서!D79 -> 106 | L6: =G6+I6+K6 -> 292 | M6: =G6+I6+K6 -> 292 | N6: 참고자료
A7: 단산110 | B7: 시멘트운반(인력) | C7: 상차:하차,담프8톤 | D7: 포 | F7: =단가산출서!B102 -> 0 | G7: =단가산출서!B102 -> 0 | H7: =단가산출서!C102 -> 59 | I7: =단가산출서!C102 -> 59 | J7: =단가산출서!D102 -> 0 | K7: =단가산출서!D102 -> 0 | L7: =G7+I7+K7 -> 59 | M7: =G7+I7+K7 -> 59 | N7: 참고자료
A8: 단산111 | B8: 폐기물수집,운반비 | C8: 20km | D8: TON | F8: =단가산출서!B143 -> 1789 | G8: =단가산출서!B143 -> 1789 | H8: =단가산출서!C143 -> 1033 | I8: =단가산출서!C143 -> 1033 | J8: =단가산출서!D143 -> 2886 | K8: =단가산출서!D143 -> 2886 | L8: =G8+I8+K8 -> 5708 | M8: =G8+I8+K8 -> 5708 | N8: 참고자료
A9: 단산114 | B9: 폐기물상차(백호우0.7M3) | D9: M3 | F9: =단가산출서!B156 -> 114 | G9: =단가산출서!B156 -> 114 | H9: =단가산출서!C156 -> 94 | I9: =단가산출서!C156 -> 94 | J9: =단가산출서!D156 -> 327 | K9: =단가산출서!D156 -> 327 | L9: =G9+I9+K9 -> 535 | M9: =G9+I9+K9 -> 535 | N9: 참고자료

Sheet 단가산출서
A1: 단 가 산 출 서
A2: 산 출 근 거 | B2: 재 료 비 | C2: 노 무 비 | D2: 경 비 | E2: 합 계 | F2: 비 고
B3: 금액 | C3: 금액 | D3: 금액 | E3: 금액 | G3: 손료요율 | H3: 손료구분 | I3: 적용구분 | J3: 합계구분
A4: 제 13호 진동기손료(전기식) M3 | F4: 참고자료
A5: 1) 콘크리트 진동기 : 전기식 플렉시블형Φ45(0.75kw) HR | E5: =B5+C5+D5 -> 0 | F5: 제 14호 | J5: 0 | L5: =ROUNDDOWN(1,6) -> 1 | M5: =중기경비!F36 -> 574 | N5: =중기경비!H36 -> 0 | O5: =중기경비!J36 -> 79
A6: =" 콘크리트믹서용량 : q = "&L6 -> 콘크리트믹서용량 : q = 0.45 | E6: =B6+C6+D6 -> 0 | J6: 0 | K6: q | L6: =ROUNDDOWN(0.45,4) -> 0.45 | M6: 0 | N6: 0 | O6: 0
A7: =" 작업효율 : e = "&L7 -> 작업효율 : e = 0.8 | E7: =B7+C7+D7 -> 0 | J7: 0 | K7: e | L7: =ROUNDDOWN(0.8,4) -> 0.8 | M7: 0 | N7: 0 | O7: 0
A8: =" 시간당작업량 : Q = 60/4*q*e = "&L8 -> 시간당작업량 : Q = 60/4*q*e = 5.4 | E8: =B8+C8+D8 -> 0 | J8: 0 | K8: Q | L8: =ROUND(60/4*L6*L7,2) -> 5.4 | M8: 0 | N8: 0 | O8: 0
A9: =" 재료비 : "&M5&"/"&L8 -> 재료비 : 574/5.4 | B9: =ROUNDDOWN((M5)/L8,1) -> 106.2 | E9: =B9+C9+D9 -> 106.2 | I9: 기계경비 | J9: 1 | L9: 0 | M9: 0 | N9: 0 | O9: 0
A10: =" 경 비 : "&O5&"/"&L8 -> 경 비 : 79/5.4 | D10: =ROUNDDOWN((O5)/L8,1) -> 14.6 | E10: =B10+C10+D10 -> 14.6 | I10: 기계경비 | J10: 1 | L10: 0 | M10: 0 | N10: 0 | O10: 0
A11: 소 계 : | B11: =SUMIF($J$6:$J$10,1,$B$6:$B$10) -> 106.2 | D11: =SUMIF($J$6:$J$10,1,$D$6:$D$10) -> 14.6 | E11: =B11+C11+D11 -> 120.8 | J11: 0 | L11: 0 | M11: 0 | N11: 0 | O11: 0
A12: 2) 바이브레이터 : 봉상후렉시블 HR | E12: =B12+C12+D12 -> 0 | F12: 제 15호 | J12: 0 | L12: =ROUNDDOWN(1,6) -> 1 | M12: =중기경비!F41 -> 0 | N12: =중기경비!H41 -> 0 | O12: =중기경비!J41 -> 39
A13: =" 콘크리트믹서용량 : q = "&L13 -> 콘크리트믹서용량 : q = 0.45 | E13: =B13+C13+D13 -> 0 | J13: 0 | K13: q | L13: =ROUNDDOWN(0.45,4) -> 0.45 | M13: 0 | N13: 0 | O13: 0
A14: =" 작업효율 : e = "&L14 -> 작업효율 : e = 0.8 | E14: =B14+C14+D14 -> 0 | J14: 0 | K14: e | L14: =ROUNDDOWN(0.8,4) -> 0.8 | M14: 0 | N14: 0 | O14: 0
A15: =" 시간당작업량 : Q = 60/4*q*e = "&L15 -> 시간당작업량 : Q = 60/4*q*e = 5.4 | E15: =B15+C15+D15 -> 0 | J15: 0 | K15: Q | L15: =ROUND(60/4*L13*L14,2) -> 5.4 | M15: 0 | N15: 0 | O15: 0
A16: =" 경 비 : "&O12&"/"&L15 -> 경 비 : 39/5.4 | D16: =ROUNDDOWN((O12)/L15,1) -> 7.2 | E16: =B16+C16+D16 -> 7.2 | I16: 기계경비 | J16: 1 | L16: 0 | M16: 0 | N16: 0 | O16: 0
A17: 소 계 : | D17: =SUMIF($J$13:$J$16,1,$D$13:$D$16) -> 7.2 | E17: =B17+C17+D17 -> 7.2 | J17: 0 | L17: 0 | M17: 0 | N17: 0 | O17: 0
A18: 합 계 | B18: =ROUNDDOWN(SUMIF($J$5:$J$17,1,$B$5:$B$17),0) -> 106 | C18: =SUMIF($J$5:$J$17,1,$C$5:$C$17) -> 0 | D18: =ROUNDDOWN(SUMIF($J$5:$J$17,1,$D$5:$D$17),0) -> 21 | E18: =B18+C18+D18 -> 127
A19: 제106호 운반비(트레일러20톤) 철근 L:20km TON | F19: 참고자료
A20: 1.트레일러(20톤) : | E20: =B20+C20+D20 -> 0 | J20: 0 | L20: 0 | M20: 0 | N20: 0 | O20: 0
A21: 트럭 트랙터 및 트레일러 : 20 TON HR | E21: =B21+C21+D21 -> 0 | F21: 제107호 | J21: 0 | L21: =ROUNDDOWN(1,6) -> 1 | M21: =중기경비!F75 -> 10733 | N21: =중기경비!H75 -> 5489 | O21: =중기경비!J75 -> 14644
A22: =" 운반거리 : L = "&L22 -> 운반거리 : L = 20 | E22: =B22+C22+D22 -> 0 | J22: 0 | K22: L | L22: =ROUNDDOWN(20,4) -> 20 | M22: 0 | N22: 0 | O22: 0
A23: =" 1회적재량 : q = "&L23 -> 1회적재량 : q = 20 | E23: =B23+C23+D23 -> 0 | J23: 0 | K23: q | L23: =ROUNDDOWN(20,4) -> 20 | M23: 0 | N23: 0 | O23: 0
A24: =" 토량환산계수 : f = "&L24 -> 토량환산계수 : f = 1 | E24: =B24+C24+D24 -> 0 | J24: 0 | K24: f | L24: =ROUNDDOWN(1,4) -> 1 | M24: 0 | N24: 0 | O24: 0
A25: =" 작업효율 : E = "&L25 -> 작업효율 : E = 0.9 | E25: =B25+C25+D25 -> 0 | J25: 0 | K25: E | L25: =ROUNDDOWN(0.9,4) -> 0.9 | M25: 0 | N25: 0 | O25: 0
A26: =" 적재시간 : t1 = "&L26 -> 적재시간 : t1 = 32 | E26: =B26+C26+D26 -> 0 | J26: 0 | K26: t1 | L26: =ROUNDDOWN(32,4) -> 32 | M26: 0 | N26: 0 | O26: 0
A27: =" 왕복시간 : t2 = L/35*60*2 = "&L27 -> 왕복시간 : t2 = L/35*60*2 = 68.5714 | E27: =B27+C27+D27 -> 0 | J27: 0 | K27: t2 | L27: =ROUNDDOWN(L22/35*60*2,4) -> 68.5714 | M27: 0 | N27: 0 | O27: 0
A28: =" 적하시간 : t3 = "&L28 -> 적하시간 : t3 = 2 | E28: =B28+C28+D28 -> 0 | J28: 0 | K28: t3 | L28: =ROUNDDOWN(2,4) -> 2 | M28: 0 | N28: 0 | O28: 0
A29: =" 적재대기시간 : t4 = "&L29 -> 적재대기시간 : t4 = 0.42 | E29: =B29+C29+D29 -> 0 | J29: 0 | K29: t4 | L29: =ROUNDDOWN(0.42,4) -> 0.42 | M29: 0 | N29: 0 | O29: 0
A30: =" 1회 사이클 시간 : Cm = t1+t2+t3+t4 = "&L30 -> 1회 사이클 시간 : Cm = t1+t2+t3+t4 = 102.99 | E30: =B30+C30+D30 -> 0 | J30: 0 | K30: Cm | L30: =ROUND(L26+L27+L28+L29,2) -> 102.99 | M30: 0 | N30: 0 | O30: 0
A31: =" 시간당작업량(TON/HR) : Q1 = 60*q*f*E/Cm = "&L31 -> 시간당작업량(TON/HR) : Q1 = 60*q*f*E/Cm = 10.4864 | E31: =B31+C31+D31 -> 0 | J31: 0 | K31: Q1 | L31: =ROUNDDOWN(60*L23*L24*L25/L30,4) -> 10.4864 | M31: 0 | N31: 0 | O31: 0
A32: =" 차량실작업량(TON/HR) : Q2 = (t2+t4)/Cm*(1/Q1) = "&L32 -> 차량실작업량(TON/HR) : Q2 = (t2+t4)/Cm*(1/Q1) = 0.0638 | E32: =B32+C32+D32 -> 0 | J32: 0 | K32: Q2 | L32: =ROUNDDOWN((L27+L29)/L30*(1/L31),4) -> 0.0638 | M32: 0 | N32: 0 | O32: 0
A33: =" 재료비작업량 : Q3 = 1/Q2 = "&L33 -> 재료비작업량 : Q3 = 1/Q2 = 15.6739 | E33: =B33+C33+D33 -> 0 | J33: 0 | K33: Q3 | L33: =ROUNDDOWN(1/L32,4) -> 15.6739 | M33: 0 | N33: 0 | O33: 0
A34: =" 재료비 : "&M21&"/"&"1"&"5"&"."&"6"&"7"&"3"&"9" -> 재료비 : 10733/15.6739 | B34: =ROUNDDOWN((M21)/15.6739,1) -> 684.7 | E34: =B34+C34+D34 -> 684.7 | I34: 기계경비 | J34: 1 | L34: 0 | M34: 0 | N34: 0 | O34: 0
A35: =" 노무비 : "&N21&"/"&"1"&"0"&"."&"4"&"8"&"6"&"4" -> 노무비 : 5489/10.4864 | C35: =ROUNDDOWN((N21)/10.4864,1) -> 523.4 | E35: =B35+C35+D35 -> 523.4 | I35: 기계경비 | J35: 1 | L35: 0 | M35: 0 | N35: 0 | O35: 0
A36: =" 경 비 : "&O21&"/"&"1"&"0"&"."&"4"&"8"&"6"&"4" -> 경 비 : 14644/10.4864 | D36: =ROUNDDOWN((O21)/10.4864,1) -> 1396.4 | E36: =B36+C36+D36 -> 1396.4 | I36: 기계경비 | J36: 1 | L36: 0 | M36: 0 | N36: 0 | O36: 0
A37: 소 계 : | B37: =SUMIF($J$21:$J$36,1,$B$21:$B$36) -> 684.7 | C37: =SUMIF($J$21:$J$36,1,$C$21:$C$36) -> 523.4 | D37: =SUMIF($J$21:$J$36,1,$D$21:$D$36) -> 1396.4 | E37: =B37+C37+D37 -> 2604.5 | J37: 0 | L37: 0 | M37: 0 | N37: 0 | O37: 0
A38: 2. 인 력 : | E38: =B38+C38+D38 -> 0 | J38: 0 | L38: 0 | M38: 0 | N38: 0 | O38: 0
A39: =" 노무비 보통인부 인 "&N39&"*(1*0.0638*25/100)" -> 노무비 보통인부 인 74008*(1*0.0638*25/100) | C39: =ROUNDDOWN(N39*L39,1) -> 1176.7 | E39: =B39+C39+D39 -> 1176.7 | H39: 02 | I39: 기계경비 | J39: 1 | L39: =ROUNDDOWN(1*L32*25/100,4) -> 0.0159 | M39: 0 | N39: =ROUNDDOWN(자재단가대비표!N145,0) -> 74008 | O39: 0
A40: 소 계 : | C40: =SUMIF($J$39:$J$39,1,$C$39:$C$39) -> 1176.7 | E40: =B40+C40+D40 -> 1176.7 | J40: 0 | L40: 0 | M40: 0 | N40: 0 | O40: 0
A41: 합 계 | B41: =ROUNDDOWN(SUMIF($J$20:$J$40,1,$B$20:$B$40),0) -> 684 | C41: =ROUNDDOWN(SUMIF($J$20:$J$40,1,$C$20:$C$40),0) -> 1700 | D41: =ROUNDDOWN(SUMIF($J$20:$J$40,1,$D$20:$D$40),0) -> 1396 | E41: =B41+C41+D41 -> 3780
A42: 제108호 운반비(담프8톤) 시멘트 L:20km 포 | F42: 참고자료
A43: 1) 인 력 : | E43: =B43+C43+D43 -> 0 | J43: 0 | L43: 0 | M43: 0 | N43: 0 | O43: 0
A44: =" 소운반거리(M) : I = "&L44 -> 소운반거리(M) : I = 20 | E44: =B44+C44+D44 -> 0 | J44: 0 | K44: I | L44: =ROUNDDOWN(20,4) -> 20 | M44: 0 | N44: 0 | O44: 0
A45: =" 운반거리의간격(M) : l1 = "&L45 -> 운반거리의간격(M) : l1 = 7 | E45: =B45+C45+D45 -> 0 | J45: 0 | K45: l1 | L45: =ROUNDDOWN(7,4) -> 7 | M45: 0 | N45: 0 | O45: 0
A46: =" 1회운반량(포) : q = "&L46 -> 1회운반량(포) : q = 1 | E46: =B46+C46+D46 -> 0 | J46: 0 | K46: q | L46: =ROUNDDOWN(1,4) -> 1 | M46: 0 | N46: 0 | O46: 0
A47: =" 단위(kg) : T = "&L47 -> 단위(kg) : T = 8000 | E47: =B47+C47+D47 -> 0 | J47: 0 | K47: T | L47: =ROUNDDOWN(8000,4) -> 8000 | M47: 0 | N47: 0 | O47: 0
A48: =" 단위중량(kg) : rt = "&L48 -> 단위중량(kg) : rt = 40 | E48: =B48+C48+D48 -> 0 | J48: 0 | K48: rt | L48: =ROUNDDOWN(40,4) -> 40 | M48: 0 | N48: 0 | O48: 0
A49: =" 운반인부의속도(분) : MV = 2500/60 = "&L49 -> 운반인부의속도(분) : MV = 2500/60 = 41.6666 | E49: =B49+C49+D49 -> 0 | J49: 0 | K49: MV | L49: =ROUNDDOWN(2500/60,4) -> 41.6666 | M49: 0 | N49: 0 | O49: 0
A50: =" 어깨메고부리기시간(분) : T1 = "&L50 -> 어깨메고부리기시간(분) : T1 = 0.17 | E50: =B50+C50+D50 -> 0 | J50: 0 | K50: T1 | L50: =ROUNDDOWN(0.17,4) -> 0.17 | M50: 0 | N50: 0 | O50: 0
A51: =" 조작소요시간(분) : T2 = "&L51 -> 조작소요시간(분) : T2 = 2 | E51: =B51+C51+D51 -> 0 | J51: 0 | K51: T2 | L51: =ROUNDDOWN(2,4) -> 2 | M51: 0 | N51: 0 | O51: 0
A52: =" 차량1대적재량 : Qt = T/rt = "&L52 -> 차량1대적재량 : Qt = T/rt = 200 | E52: =B52+C52+D52 -> 0 | J52: 0 | K52: Qt | L52: =ROUNDDOWN(L47/L48,4) -> 200 | M52: 0 | N52: 0 | O52: 0
A53: =" 소운반소요인부수 : M = (I*2)/l1 = "&L53 -> 소운반소요인부수 : M = (I*2)/l1 = 5.7142 | E53: =B53+C53+D53 -> 0 | J53: 0 | K53: M | L53: =ROUNDDOWN((L44*2)/L45,4) -> 5.7142 | M53: 0 | N53: 0 | O53: 0
A54: =" 차량1대당소요운반회수 : n = Qt/(q*M) = "&L54 -> 차량1대당소요운반회수 : n = Qt/(q*M) = 35.0005 | E54: =B54+C54+D54 -> 0 | J54: 0 | K54: n | L54: =ROUNDDOWN(L52/(L46*L53),4) -> 35.0005 | M54: 0 | N54: 0 | O54: 0
A55: =" 운반1회당소요시간(분) : Cms = I*2/MV+T1 = "&L55 -> 운반1회당소요시간(분) : Cms = I*2/MV+T1 = 1.13 | E55: =B55+C55+D55 -> 0 | J55: 0 | K55: Cms | L55: =ROUNDDOWN(L44*2/L49+L50,4) -> 1.13 | M55: 0 | N55: 0 | O55: 0
A56: =" 차량1대당적재소요시간(분) : T3 = Cms*n+T2 = "&L56 -> 차량1대당적재소요시간(분) : T3 = Cms*n+T2 = 41.5505 | E56: =B56+C56+D56 -> 0 | J56: 0 | K56: T3 | L56: =ROUNDDOWN(L55*L54+L51,4) -> 41.5505 | M56: 0 | N56: 0 | O56: 0
A57: =" 단위당소요인부 : MQ = M*T3/450*1/Qt = "&L57 -> 단위당소요인부 : MQ = M*T3/450*1/Qt = 0.0026 | E57: =B57+C57+D57 -> 0 | J57: 0 | K57: MQ | L57: =ROUNDDOWN(L53*L56/450*1/L52,4) -> 0.0026 | M57: 0 | N57: 0 | O57: 0
A58: =" 노무비 보통인부 인 "&N58&"*(1*0.0026*25/100)" -> 노무비 보통인부 인 74008*(1*0.0026*25/100) | C58: =ROUNDDOWN(N58*L58,1) -> 44.4 | E58: =B58+C58+D58 -> 44.4 | H58: 02 | I58: 기계경비 | J58: 1 | L58: =ROUNDDOWN(1*L57*25/100,4) -> 0.0006 | M58: 0 | N58: =ROUNDDOWN(자재단가대비표!N145,0) -> 74008 | O58: 0
A59: 소 계 : | C59: =SUMIF($J$44:$J$58,1,$C$44:$C$58) -> 44.4 | E59: =B59+C59+D59 -> 44.4 | J59: 0 | L59: 0 | M59: 0 | N59: 0 | O59: 0
A60: 2.덤프트럭(8톤) : | E60: =B60+C60+D60 -> 0 | J60: 0 | L60: 0 | M60: 0 | N60: 0 | O60: 0
A61: 덤프트럭 : 8 TON HR | E61: =B61+C61+D61 -> 0 | F61: 제109호 | J61: 0 | L61: =ROUNDDOWN(1,6) -> 1 | M61: =중기경비!F87 -> 6006 | N61: =중기경비!H87 -> 4367 | O61: =중기경비!J87 -> 7743
A62: =" 운반거리(km) : L = "&L62 -> 운반거리(km) : L = 20 | E62: =B62+C62+D62 -> 0 | J62: 0 | K62: L | L62: =ROUNDDOWN(20,4) -> 20 | M62: 0 | N62: 0 | O62: 0
A63: =" 적재용량 : T = "&L63 -> 적재용량 : T = 8000 | E63: =B63+C63+D63 -> 0 | J63: 0 | K63: T | L63: =ROUNDDOWN(8000,4) -> 8000 | M63: 0 | N63: 0 | O63: 0
A64: =" 단위중량 : r1 = "&L64 -> 단위중량 : r1 = 40 | E64: =B64+C64+D64 -> 0 | J64: 0 | K64: r1 | L64: =ROUNDDOWN(40,4) -> 40 | M64: 0 | N64: 0 | O64: 0
A65: =" 토량환산계수 : f = "&L65 -> 토량환산계수 : f = 1 | E65: =B65+C65+D65 -> 0 | J65: 0 | K65: f | L65: =ROUNDDOWN(1,4) -> 1 | M65: 0 | N65: 0 | O65: 0
A66: =" 작업효율 : E = "&L66 -> 작업효율 : E = 0.9 | E66: =B66+C66+D66 -> 0 | J66: 0 | K66: E | L66: =ROUNDDOWN(0.9,4) -> 0.9 | M66: 0 | N66: 0 | O66: 0
A67: =" 1회적재량 : q = T/r1 = "&L67 -> 1회적재량 : q = T/r1 = 200 | E67: =B67+C67+D67 -> 0 | J67: 0 | K67: q | L67: =ROUNDDOWN(L63/L64,4) -> 200 | M67: 0 | N67: 0 | O67: 0
A68: =" 적재시간 : t1 = "&L68 -> 적재시간 : t1 = 39.6357 | E68: =B68+C68+D68 -> 0 | J68: 0 | K68: t1 | L68: =ROUNDDOWN(39.6357,4) -> 39.6357 | M68: 0 | N68: 0 | O68: 0
A69: =" 왕복시간 : t2 = L/35*60*2 = "&L69 -> 왕복시간 : t2 = L/35*60*2 = 68.5714 | E69: =B69+C69+D69 -> 0 | J69: 0 | K69: t2 | L69: =ROUNDDOWN(L62/35*60*2,4) -> 68.5714 | M69: 0 | N69: 0 | O69: 0
A70: =" 적하시간 : t3 = "&L70 -> 적하시간 : t3 = 39.6357 | E70: =B70+C70+D70 -> 0 | J70: 0 | K70: t3 | L70: =ROUNDDOWN(39.6357,4) -> 39.6357 | M70: 0 | N70: 0 | O70: 0
A71: =" 적재대기시간 : t4 = "&L71 -> 적재대기시간 : t4 = 0.42 | E71: =B71+C71+D71 -> 0 | J71: 0 | K71: t4 | L71: =ROUNDDOWN(0.42,4) -> 0.42 | M71: 0 | N71: 0 | O71: 0
A72: =" 적재함 덮개 설치 및 해체시간 : t5 = "&L72 -> 적재함 덮개 설치 및 해체시간 : t5 = 0.5 | E72: =B72+C72+D72 -> 0 | J72: 0 | K72: t5 | L72: =ROUNDDOWN(0.5,4) -> 0.5 | M72: 0 | N72: 0 | O72: 0
A73: =" 1회 사이클 시간 : Cm = t1+t2+t3+t4+t5 = "&L73 -> 1회 사이클 시간 : Cm = t1+t2+t3+t4+t5 = 148.76 | E73: =B73+C73+D73 -> 0 | J73: 0 | K73: Cm | L73: =ROUND(L68+L69+L70+L71+L72,2) -> 148.76 | M73: 0 | N73: 0 | O73: 0
A74: =" 시간당작업량 : Q = 60*q*f*E/Cm = "&L74 -> 시간당작업량 : Q = 60*q*f*E/Cm = 72.6 | E74: =B74+C74+D74 -> 0 | J74: 0 | K74: Q | L74: =ROUND(60*L67*L65*L66/L73,2) -> 72.6 | M74: 0 | N74: 0 | O74: 0
A75: =" 재료비 : "&M61&"/"&L74 -> 재료비 : 6006/72.6 | B75: =ROUNDDOWN((M61)/L74,1) -> 82.7 | E75: =B75+C75+D75 -> 82.7 | I75: 기계경비 | J75: 1 | L75: 0 | M75: 0 | N75: 0 | O75: 0
A76: =" 노무비 : "&N61&"/"&L74 -> 노무비 : 4367/72.6 | C76: =ROUNDDOWN((N61)/L74,1) -> 60.1 | E76: =B76+C76+D76 -> 60.1 | I76: 기계경비 | J76: 1 | L76: 0 | M76: 0 | N76: 0 | O76: 0
A77: =" 경 비 : "&O61&"/"&L74 -> 경 비 : 7743/72.6 | D77: =ROUNDDOWN((O61)/L74,1) -> 106.6 | E77: =B77+C77+D77 -> 106.6 | I77: 기계경비 | J77: 1 | L77: 0 | M77: 0 | N77: 0 | O77: 0
A78: 소 계 : | B78: =SUMIF($J$61:$J$77,1,$B$61:$B$77) -> 82.7 | C78: =SUMIF($J$61:$J$77,1,$C$61:$C$77) -> 60.1 | D78: =SUMIF($J$61:$J$77,1,$D$61:$D$77) -> 106.6 | E78: =B78+C78+D78 -> 249.4 | J78: 0 | L78: 0 | M78: 0 | N78: 0 | O78: 0
A79: 합 계 | B79: =ROUNDDOWN(SUMIF($J$43:$J$78,1,$B$43:$B$78),0) -> 82 | C79: =ROUNDDOWN(SUMIF($J$43:$J$78,1,$C$43:$C$78),0) -> 104 | D79: =ROUNDDOWN(SUMIF($J$43:$J$78,1,$D$43:$D$78),0) -> 106 | E79: =B79+C79+D79 -> 292
A80: 제110호 시멘트운반(인력) 상차:하차,담프8톤 포 | F80: 참고자료
A81: ="소운반소요인부수 : M = 6+2 = "&L81 -> 소운반소요인부수 : M = 6+2 = 8 | E81: =B81+C81+D81 -> 0 | J81: 0 | K81: M | L81: =ROUNDDOWN(6+2,4) -> 8 | M81: 0 | N81: 0 | O81: 0
A82: ="소운반소요인부수 : M1 = "&L82 -> 소운반소요인부수 : M1 = 6 | E82: =B82+C82+D82 -> 0 | J82: 0 | K82: M1 | L82: =ROUNDDOWN(6,4) -> 6 | M82: 0 | N82: 0 | O82: 0
A83: ="운반인부1회운반량 : q = "&L83 -> 운반인부1회운반량 : q = 1 | E83: =B83+C83+D83 -> 0 | J83: 0 | K83: q | L83: =ROUNDDOWN(1,4) -> 1 | M83: 0 | N83: 0 | O83: 0
A84: ="소운반거리(M) : l = "&L84 -> 소운반거리(M) : l = 20 | E84: =B84+C84+D84 -> 0 | J84: 0 | K84: l | L84: =ROUNDDOWN(20,4) -> 20 | M84: 0 | N84: 0 | O84: 0
A85: ="운반거리의간격(M) : l1 = "&L85 -> 운반거리의간격(M) : l1 = 7 | E85: =B85+C85+D85 -> 0 | J85: 0 | K85: l1 | L85: =ROUNDDOWN(7,4) -> 7 | M85: 0 | N85: 0 | O85: 0
A86: ="차량1대당소요운반회수 : n = "&L86 -> 차량1대당소요운반회수 : n = 34 | E86: =B86+C86+D86 -> 0 | J86: 0 | K86: n | L86: =ROUNDDOWN(34,4) -> 34 | M86: 0 | N86: 0 | O86: 0
A87: ="적재량(KG) : T = "&L87 -> 적재량(KG) : T = 8000 | E87: =B87+C87+D87 -> 0 | J87: 0 | K87: T | L87: =ROUNDDOWN(8000,4) -> 8000 | M87: 0 | N87: 0 | O87: 0
A88: ="단위중량(kg) : rt = "&L88 -> 단위중량(kg) : rt = 40 | E88: =B88+C88+D88 -> 0 | J88: 0 | K88: rt | L88: =ROUNDDOWN(40,4) -> 40 | M88: 0 | N88: 0 | O88: 0
A89: ="차량1대당적재소요시간(분) : T1 = "&L89 -> 차량1대당적재소요시간(분) : T1 = 40.42 | E89: =B89+C89+D89 -> 0 | J89: 0 | K89: T1 | L89: =ROUNDDOWN(40.42,4) -> 40.42 | M89: 0 | N89: 0 | O89: 0
A90: ="운반인부의속도(분) : MV = "&L90 -> 운반인부의속도(분) : MV = 41.66 | E90: =B90+C90+D90 -> 0 | J90: 0 | K90: MV | L90: =ROUNDDOWN(41.66,4) -> 41.66 | M90: 0 | N90: 0 | O90: 0
A91: ="어깨메고부리기시간(분) : t1 = "&L91 -> 어깨메고부리기시간(분) : t1 = 0.17 | E91: =B91+C91+D91 -> 0 | J91: 0 | K91: t1 | L91: =ROUNDDOWN(0.17,4) -> 0.17 | M91: 0 | N91: 0 | O91: 0
A92: ="조작소요시간(분) : t2 = "&L92 -> 조작소요시간(분) : t2 = 2 | E92: =B92+C92+D92 -> 0 | J92: 0 | K92: t2 | L92: =ROUNDDOWN(2,4) -> 2 | M92: 0 | N92: 0 | O92: 0
A93: ="운반1회당소요시간(분) : Cms = (l*2)/MV+t1 = "&L93 -> 운반1회당소요시간(분) : Cms = (l*2)/MV+t1 = 1.1301 | E93: =B93+C93+D93 -> 0 | J93: 0 | K93: Cms | L93: =ROUNDDOWN((L84*2)/L90+L91,4) -> 1.1301 | M93: 0 | N93: 0 | O93: 0
A94: ="차량1대적재소요시간(분) : T11 = (Cms*n)+t2 = "&L94 -> 차량1대적재소요시간(분) : T11 = (Cms*n)+t2 = 40.4234 | E94: =B94+C94+D94 -> 0 | J94: 0 | K94: T11 | L94: =ROUNDDOWN((L93*L86)+L92,4) -> 40.4234 | M94: 0 | N94: 0 | O94: 0
A95: ="차량1대당적재용량(포) : Qt = T/rt = "&L95 -> 차량1대당적재용량(포) : Qt = T/rt = 200 | E95: =B95+C95+D95 -> 0 | J95: 0 | K95: Qt | L95: =ROUNDDOWN(L87/L88,4) -> 200 | M95: 0 | N95: 0 | O95: 0
A96: ="대당소운반회수 : n1 = Qt/(q*M1) = "&L96 -> 대당소운반회수 : n1 = Qt/(q*M1) = 33.3333 | E96: =B96+C96+D96 -> 0 | J96: 0 | K96: n1 | L96: =ROUNDDOWN(L95/(L83*L82),4) -> 33.3333 | M96: 0 | N96: 0 | O96: 0
A97: ="소운반소요인부수 : M2 = (l*2)/l1 = "&L97 -> 소운반소요인부수 : M2 = (l*2)/l1 = 5.7142 | E97: =B97+C97+D97 -> 0 | J97: 0 | K97: M2 | L97: =ROUNDDOWN((L84*2)/L85,4) -> 5.7142 | M97: 0 | N97: 0 | O97: 0
A98: ="단위당소요인부 : MQ1 = M*T1/450*1/Qt = "&L98 -> 단위당소요인부 : MQ1 = M*T1/450*1/Qt = 0.0035 | E98: =B98+C98+D98 -> 0 | J98: 0 | K98: MQ1 | L98: =ROUNDDOWN(L81*L89/450*1/L95,4) -> 0.0035 | M98: 0 | N98: 0 | O98: 0
A99: ="단위당소요인부 : MQ = 1/MQ1 = "&L99 -> 단위당소요인부 : MQ = 1/MQ1 = 285.7142 | E99: =B99+C99+D99 -> 0 | J99: 0 | K99: MQ | L99: =ROUNDDOWN(1/L98,4) -> 285.7142 | M99: 0 | N99: 0 | O99: 0
A100: ="노무비 보통인부 인 "&N100&"*(1/285.7142*25/100)" -> 노무비 보통인부 인 74008*(1/285.7142*25/100) | C100: =ROUNDDOWN(N100*L100,1) -> 59.2 | E100: =B100+C100+D100 -> 59.2 | H100: 02 | I100: 기계경비 | J100: 1 | L100: =ROUNDDOWN(1/L99*25/100,4) -> 0.0008 | M100: 0 | N100: =ROUNDDOWN(자재단가대비표!N145,0) -> 74008 | O100: 0
...

Sheet 자재단가대비표
A1: 단가대비표
A2: 품명 | B2: 규격 | C2: 단위 | D2: 물가자료 | F2: 물가정보 | H2: 유통물가 | J2: 거래가격 | L2: 가격정보 | M2: 조사단가 | N2: 적용단가 | O2: 비고
D3: Page | E3: 단 가 | F3: Page | G3: 단 가 | H3: Page | I3: 단 가 | J3: Page | K3: 단 가 | L3: 단 가 | M3: 단 가
A4: BAR 죠인트 | B4: 더블 0.5*90*43*17 | C4: 개 | F4: 594 | G4: 50 | J4: 608 | K4: 65 | N4: =MIN(E4,G4,I4,K4,L4,M4) -> 50 | O4: MW-JOINT
A5: BAR 크립 | B5: 더블 0.5*34*38*17 | C5: 개 | F5: 2-430 | G5: 1250 | J5: 608 | K5: 52 | N5: =MIN(E5,G5,I5,K5,L5,M5) -> 52 | O5: MW-CLIP
A6: M-BAR | B6: 더블 0.5*50*19 | C6: M | D6: 513 | E6: 620 | F6: 2-432 | G6: 930 | H6: 415 | I6: 620 | J6: 608 | K6: 490 | N6: =MIN(E6,G6,I6,K6,L6,M6) -> 490
A7: PVC천정재 | B7: 10*99.5mm,목무늬 | C7: M2 | L7: 20200 | N7: =MIN(E7,G7,I7,K7,L7,M7) -> 20200
A8: 가새 | B8: 1.2*1.9 | C8: 개 | D8: 146 | E8: 8500 | F8: 1-147 | G8: 9100 | H8: 90 | I8: 9100 | L8: 7050 | N8: =MIN(E8,G8,I8,K8,L8,M8) -> 7050
A9: 각재(角材) | B9: 외송(㎥) | C9: M3 | D9: 134 | E9: 435000 | H9: 89 | I9: 405000 | J9: 98 | K9: 405000 | L9: 224000 | M9: 390000 | N9: =MIN(E9,G9,I9,K9,L9,M9) -> 224000
A10: 강관비계 | B10: D=48.6*2.3mm | C10: M | F10: 1-146 | G10: 3316 | H10: 90 | I10: 3316 | J10: 105 | K10: 2933 | L10: 3038 | N10: =MIN(E10,G10,I10,K10,L10,M10) -> 2933
A11: 거울 | B11: 5MM | C11: M2 | D11: 564 | E11: 17000 | J11: 545 | K11: 19800 | L11: 16150 | N11: =MIN(E11,G11,I11,K11,L11,M11) -> 16150
A12: 경량C형강(2.3t) | B12: 100*50*20 | C12: TON | D12: 46 | E12: 890000 | F12: 1-75 | G12: 880000 | J12: 41 | K12: 880000 | L12: 688000 | N12: =MIN(E12,G12,I12,K12,L12,M12) -> 688000
A13: 경유 | B13: 저유황 | C13: L | D13: 1351 | E13: 1629 | F13: 2-883 | G13: 1563 | H13: 1237 | I13: 1620 | J13: 1259 | K13: 1586 | N13: =MIN(E13,G13,I13,K13,L13,M13) -> 1563
A14: 고철(△) | B14: 작업설부산물 | C14: KG | F14: 982 | G14: 500 | H14: 1246 | I14: 530 | N14: =MIN(E14,G14,I14,K14,L14,M14) -> 500
A15: 광명단조합페인트 | B15: KSM6030-1종1류 | C15: L | D15: 567 | E15: 11888 | F15: 2-235 | G15: 10756 | H15: 471 | I15: 10756 | L15: 6800 | N15: =MIN(E15,G15,I15,K15,L15,M15) -> 6800
A16: 구조용스텐원형관(1.5t) | B16: ∮ 31.8*1.5t | C16: M | D16: 74 | E16: 5630 | F16: 1-87 | G16: 5860 | H16: 52 | I16: 6750 | J16: 60 | K16: 5865 | L16: 5240 | N16: =MIN(E16,G16,I16,K16,L16,M16) -> 5240
A17: 구조용스텐원형관(1.5t) | B17: ∮ 50.8*1.5t | C17: M | D17: 74 | E17: 9130 | F17: 1-87 | G17: 9530 | H17: 52 | I17: 10870 | J17: 60 | K17: 9543 | L17: 8510 | N17: =MIN(E17,G17,I17,K17,L17,M17) -> 8510
A18: 구조용스텐원형관(2.0t) | B18: ∮ 15.8*2.0t | C18: M | D18: 74 | E18: 3510 | F18: 1-86 | G18: 5200 | J18: 60 | K18: 4700 | L18: 4670 | N18: =MIN(E18,G18,I18,K18,L18,M18) -> 3510
A19: 구조용스텐원형관(2.0t) | B19: ∮ 25.4*2.0t | C19: M | D19: 74 | E19: 5850 | F19: 1-86 | G19: 6530 | J19: 60 | K19: 6099 | L19: 5440 | N19: =MIN(E19,G19,I19,K19,L19,M19) -> 5440
A20: 구조용스텐원형관(2.0t) | B20: ∮ 50.8*2.0t | C20: M | D20: 74 | E20: 12040 | F20: 1-87 | G20: 12530 | H20: 52 | I20: 14330 | J20: 60 | K20: 12473 | L20: 11110 | N20: =MIN(E20,G20,I20,K20,L20,M20) -> 11110
A21: 그릴 (AL) | B21: 600x600 | C21: EA | D21: 893 | E21: 60000 | N21: =MIN(E21,G21,I21,K21,L21,M21) -> 60000
A22: 금속제거푸집 | B22: 600*1200*63.5mm | C22: 매 | D22: 146 | E22: 25800 | F22: 1-149 | G22: 28800 | H22: 94 | I22: 28800 | J22: 113 | K22: 28800 | L22: 21755 | N22: =MIN(E22,G22,I22,K22,L22,M22) -> 21755
A23: 내벽코너판넬 | B23: (200+200)1200 | C23: 매 | D23: 146 | E23: 33000 | F23: 1-149 | G23: 33000 | H23: 94 | I23: 33000 | J23: 113 | K23: 58080 | L23: 16000 | N23: =MIN(E23,G23,I23,K23,L23,M23) -> 16000
A24: 내수합판(1급) | B24: 12T 0.91*1.82 | C24: M2 | D24: 618 | E24: 11411 | F24: 2-333 | G24: 13102 | H24: 404 | I24: 9721 | J24: 547 | K24: 12136 | L24: 6450 | N24: =MIN(E24,G24,I24,K24,L24,M24) -> 6450
A25: 내수합판(1급) | B25: 12T 1.21*2.42 | C25: M2 | D25: 618 | E25: 9375 | F25: 2-333 | G25: 11645 | H25: 404 | I25: 9170 | J25: 547 | K25: 10520 | L25: 6450 | N25: =MIN(E25,G25,I25,K25,L25,M25) -> 6450
A26: 달대볼트 | B26: ∮6mmx 500mm | C26: 개 | M26: 325 | N26: =MIN(E26,G26,I26,K26,L26,M26) -> 325
A27: 도아록 | B27: 공정 | C27: 조 | M27: 3500 | N27: =MIN(E27,G27,I27,K27,L27,M27) -> 3500
A28: 도아록(스텐) | B28: 9900 | C28: 조 | J28: 446 | K28: 9500 | N28: =MIN(E28,G28,I28,K28,L28,M28) -> 9500
A29: 도아체크 | B29: 표준형 | C29: 개 | D29: 557 | E29: 22000 | F29: 2-296 | G29: 19000 | H29: 456 | I29: 19000 | N29: =MIN(E29,G29,I29,K29,L29,M29) -> 19000
A30: 레미콘 | B30: 25-21-12 | C30: M3 | J30: 91 | K30: 52840 | N30: =MIN(E30,G30,I30,K30,L30,M30) -> 52840
A31: 레미콘 | B31: 25-24-15 | C31: M3 | J31: 91 | K31: 56440 | N31: =MIN(E31,G31,I31,K31,L31,M31) -> 56440
A32: 루프드레인(L형)/주철제 | B32: D150mm | C32: 개소 | M32: 109907 | N32: =MIN(E32,G32,I32,K32,L32,M32) -> 109907 | O32: 실적공사
A33: 마이너찬넬 | B33: 19*10*1.2T | C33: M | D33: 513 | E33: 550 | F33: 2-432 | G33: 780 | H33: 417 | I33: 660 | J33: 608 | K33: 397 | N33: =MIN(E33,G33,I33,K33,L33,M33) -> 397 | O33: KS 1.2*19
A34: 마이톤 | B34: M-Bar 9*300*600 | C34: M2 | D34: 549(0810) | E34: 5700 | F34: 534(0807) | G34: 5700 | N34: =MIN(E34,G34,I34,K34,L34,M34) -> 5700
A35: 맑은유리 | B35: 5mm | C35: M2 | D35: 560 | E35: 7160 | F35: 2-307 | G35: 7620 | H35: 464 | I35: 7160 | J35: 540 | K35: 7250 | L35: 6710 | N35: =MIN(E35,G35,I35,K35,L35,M35) -> 6710
A36: 메탈스터드(방음)칸막이 | B36: 64mm STUD,9.5mm석고보 | C36: M2 | D36: 633 | E36: 35000 | F36: 418 | G36: 35000 | N36: =MIN(E36,G36,I36,K36,L36,M36) -> 35000
A37: 모래 | B37: 자연사(도착도) | C37: M3 | D37: 100 | E37: 22000 | F37: 1-125 | G37: 24000 | J37: 87 | K37: 21000 | N37: =MIN(E37,G37,I37,K37,L37,M37) -> 21000
A38: 모르터방수제 | B38: 물 50배 회석 | C38: L | D38: 468 | E38: 1111 | F38: 2-203 | G38: 3754 | H38: 380 | I38: 3754 | J38: 483 | K38: 3754 | N38: =MIN(E38,G38,I38,K38,L38,M38) -> 1111
A39: 몰딩(AL) | B39: W형 15*15*15*15*1.0 | C39: M | F39: 594 | G39: 1000 | H39: 417 | I39: 1890 | N39: =MIN(E39,G39,I39,K39,L39,M39) -> 1000 | O39: WELL 몰딩
A40: 바닥,벽 타일(자기질) | B40: 200*200*7.5 무유 | C40: M2 | J40: 453 | K40: 10400 | N40: =MIN(E40,G40,I40,K40,L40,M40) -> 10400
A41: 바닥타일(자기질) | B41: 300*300*8.5 | C41: M2 | F41: 414(1001) | G41: 10000 | N41: =MIN(E41,G41,I41,K41,L41,M41) -> 10000
A42: 바퀴 | B42: L=1829 | C42: 개 | D42: 146 | E42: 26000 | N42: =MIN(E42,G42,I42,K42,L42,M42) -> 26000
A43: 박리제 | B43: 수성 | C43: L | D43: 151 | E43: 1250 | F43: 1-149 | G43: 2000 | J43: 115 | K43: 900 | L43: 828 | N43: =MIN(E43,G43,I43,K43,L43,M43) -> 828
A44: 받침철물 | B44: 나무라이트복합 | C44: 개 | D44: 145 | E44: 3400 | F44: 1-146 | G44: 3400 | H44: 90 | I44: 3400 | J44: 102 | K44: 3500 | N44: =MIN(E44,G44,I44,K44,L44,M44) -> 3400
A45: 방충망 | B45: 프라스틱 | C45: M2 | F45: 2-270 | G45: 38800 | H45: 430 | I45: 38800 | J45: 516 | K45: 41900 | N45: =MIN(E45,G45,I45,K45,L45,M45) -> 38800
A46: 방화문 | B46: 민자 1000*2100 | C46: SET | D46: 468 | E46: 111000 | F46: 2-293 | G46: 120000 | H46: 444 | I46: 100000 | J46: 529 | K46: 105000 | N46: =MIN(E46,G46,I46,K46,L46,M46) -> 100000
A47: 방화문 | B47: 양개 1800*2100 | C47: SET | D47: 468 | E47: 198000 | F47: 2-293 | G47: 210000 | J47: 529 | K47: 160000 | N47: =MIN(E47,G47,I47,K47,L47,M47) -> 160000
A48: 벽부착용핸드레일 | B48: TSH-160 W:160㎜ | C48: M | F48: 302 | G48: 60000 | N48: =MIN(E48,G48,I48,K48,L48,M48) -> 60000
A49: 복층유리(투명) | B49: 16mm 투명 | C49: M2 | D49: 561 | E49: 25700 | F49: 2-308 | G49: 25700 | H49: 465(1007) | I49: 23500 | J49: 541 | K49: 25700 | L49: 17630 | N49: =MIN(E49,G49,I49,K49,L49,M49) -> 17630
A50: 불소수지도료 | B50: 세라플론 E | C50: L | D50: 578 | E50: 36630 | N50: =MIN(E50,G50,I50,K50,L50,M50) -> 36630
A51: 비계기본틀(기둥) | B51: 1.2*1.7 ( H=1700 * W= | C51: 개 | D51: 146 | E51: 27500 | F51: 1-147 | G51: 29400 | H51: 90 | I51: 29400 | L51: 23055 | N51: =MIN(E51,G51,I51,K51,L51,M51) -> 23055
A52: 산소 | B52: 산소 가스 | C52: L | D52: 1352 | E52: 1 | F52: 2-884 | G52: 2 | J52: 1259 | K52: 2 | N52: =MIN(E52,G52,I52,K52,L52,M52) -> 1
A53: 선홈통지지철물 | B53: 스텐 | C53: 개 | F53: 2-303 | G53: 3200 | N53: =MIN(E53,G53,I53,K53,L53,M53) -> 3200
A54: 셋트앵커 | B54: M10 L70 | C54: 개 | F54: 1-111 | G54: 166 | H54: 69 | I54: 166 | J54: 78 | K54: 135 | N54: =MIN(E54,G54,I54,K54,L54,M54) -> 135 | O54: 3/8"
A55: 소석회 | C55: KG | D55: 1361 | E55: 140 | F55: 2-231 | G55: 120 | H55: 383 | I55: 90 | J55: 492 | K55: 90 | N55: =MIN(E55,G55,I55,K55,L55,M55) -> 90
A56: 손잡이 | B56: L=1229 | C56: 개 | D56: 146 | E56: 8500 | F56: 1-147 | G56: 9100 | H56: 90 | I56: 9100 | N56: =MIN(E56,G56,I56,K56,L56,M56) -> 8500
A57: 손잡이 | B57: L=1829 | C57: 개 | D57: 146 | E57: 26000 | F57: 1-147 | G57: 25700 | H57: 90 | I57: 25700 | N57: =MIN(E57,G57,I57,K57,L57,M57) -> 25700
A58: 손잡이기둥 | C58: 개 | D58: 146 | E58: 27500 | F58: 1-147 | G58: 29400 | H58: 90 | I58: 29400 | N58: =MIN(E58,G58,I58,K58,L58,M58) -> 27500 | O58: 1.2*1.7
A59: 수평띠장 | B59: L=1829 | C59: 개 | D59: 146 | E59: 26000 | F59: 1-147 | G59: 25700 | H59: 90 | I59: 25700 | N59: =MIN(E59,G59,I59,K59,L59,M59) -> 25700
A60: 스치로폼(#0.03) | B60: T:160mm | C60: M2 | D60: 609 | E60: 14320 | F60: 2-344 | G60: 15496 | H60: 392 | I60: 14320 | L60: 9616 | N60: =MIN(E60,G60,I60,K60,L60,M60) -> 9616
A61: 스테인리스강판(STS304) | B61: 1.2t (STS304) | C61: KG | D61: 67 | E61: 4120 | F61: 1-90 | G61: 4393 | H61: 50 | I61: 4140 | J61: 56 | K61: 4645 | L61: 4080 | N61: =MIN(E61,G61,I61,K61,L61,M61) -> 4080
A62: 스테인리스강판(STS304) | B62: 1.5t (STS304) | C62: KG | D62: 67 | E62: 4070 | F62: 1-90 | G62: 4327 | H62: 50 | I62: 4080 | J62: 56 | K62: 4575 | L62: 4030 | N62: =MIN(E62,G62,I62,K62,L62,M62) -> 4030
A63: 스텐관(2.0T) | B63: D150 | C63: M | D63: 682 | E63: 40670 | F63: 2-496 | G63: 41346 | N63: =MIN(E63,G63,I63,K63,L63,M63) -> 40670
A64: 시각장애인용점자블럭 | B64: 300*300*7m/m 고무접착 | C64: EA | D64: 478 | E64: 9000 | H64: 372 | I64: 8000 | N64: =MIN(E64,G64,I64,K64,L64,M64) -> 8000 | O64: 시공비포
A65: 시각장애인용점자블럭 | B65: 300*300*7m/m 고무접착 | C65: EA | D65: 478 | E65: 9000 | H65: 372 | I65: 8000 | N65: =MIN(E65,G65,I65,K65,L65,M65) -> 8000 | O65: 시공비포
A66: 시멘트 | B66: 40kg 포장품 | C66: KG | D66: 103 | E66: 86 | F66: 1-126 | G66: 111 | H66: 78 | I66: 86 | J66: 88 | K66: 86 | N66: =MIN(E66,G66,I66,K66,L66,M66) -> 86
A67: 시멘트 | B67: 40kg 포장품 | C67: 포 | D67: 103 | E67: 3454 | F67: 1-126 | G67: 4454 | H67: 78 | I67: 3454 | J67: 88 | K67: 3454 | N67: =MIN(E67,G67,I67,K67,L67,M67) -> 3454
A68: 시멘트벽돌 | C68: 매 | D68: 442 | E68: 55 | F68: 2-157 | G68: 50 | H68: 359 | I68: 55 | J68: 433 | K68: 50 | N68: =MIN(E68,G68,I68,K68,L68,M68) -> 50
A69: 신나 | B69: KSM6060-2종,조합페인트 | C69: L | D69: 569 | E69: 2333 | H69: 471 | I69: 1777 | L69: 1780 | N69: =MIN(E69,G69,I69,K69,L69,M69) -> 1777
A70: 신주못 | B70: 1.2cm | C70: KG | M70: 7400 | N70: =MIN(E70,G70,I70,K70,L70,M70) -> 7400 | O70: 1갑=3㎏
A71: 실리콘(초산형) | B71: 글래스실란트 | C71: L | L71: 6300 | N71: =MIN(E71,G71,I71,K71,L71,M71) -> 6300
A72: 아세틸렌 | C72: KG | D72: 1352 | E72: 8500 | F72: 2-884 | G72: 10000 | J72: 1259 | K72: 10000 | N72: =MIN(E72,G72,I72,K72,L72,M72) -> 8500 | O72: 압축가스
A73: 아스콘 | B73: #467 기층용 | C73: M/T | D73: 154 | E73: 59000 | F73: 1-245 | G73: 63000 | N73: =MIN(E73,G73,I73,K73,L73,M73) -> 59000
A74: 아연도강판 | B74: 아연도강판, #24(0.6t) | C74: M2 | D74: 54 | E74: 7971 | L74: 4353 | N74: =MIN(E74,G74,I74,K74,L74,M74) -> 4353
A75: 아크론락카 | B75: 흑색.SB-AP-923 | C75: L | F75: 2-239 | G75: 7205 | H75: 476 | I75: 7205 | N75: =MIN(E75,G75,I75,K75,L75,M75) -> 7205
A76: 압출발포 폴리스티렌 판 | B76: #0.035 100mm | C76: M2 | D76: 609 | E76: 15246 | F76: 2-342 | G76: 15246 | H76: 392 | I76: 15246 | L76: 14720 | N76: =MIN(E76,G76,I76,K76,L76,M76) -> 14720
A77: 어니일링(소)철선 | B77: 0.9mm | C77: KG | D77: 64 | E77: 1560 | L77: 1278 | N77: =MIN(E77,G77,I77,K77,L77,M77) -> 1278
A78: 어니일링(소)철선 | B78: 4.0mm | C78: KG | D78: 64 | E78: 1360 | F78: 1-95 | G78: 1410 | J78: 71 | K78: 1320 | L78: 1071 | N78: =MIN(E78,G78,I78,K78,L78,M78) -> 1071
A79: 에포마 | B79: 백색SB-EE-400 | C79: L | D79: 571 | E79: 10081 | H79: 481 | I79: 8762 | N79: =MIN(E79,G79,I79,K79,L79,M79) -> 8762
A80: 연마지 | B80: #120~#180 | C80: 매 | D80: 1307 | E80: 220 | F80: 1-594 | G80: 275 | H80: 1216 | I80: 275 | J80: 1145 | K80: 230 | L80: 200 | N80: =MIN(E80,G80,I80,K80,L80,M80) -> 200
A81: 연마지 | B81: #120~180, 230×280 | C81: 매 | D81: 1307 | E81: 220 | F81: 1-594 | G81: 275 | L81: 200 | N81: =MIN(E81,G81,I81,K81,L81,M81) -> 200
A82: 와이어메쉬 | B82: #6 -100*100 | C82: M2 | D82: 94 | E82: 4480 | F82: 1-99 | G82: 4240 | J82: 81 | K82: 4470 | L82: 3816 | N82: =MIN(E82,G82,I82,K82,L82,M82) -> 3816
A83: 와이어메쉬 | B83: #8 -150*150 | C83: M2 | D83: 94 | E83: 2080 | F83: 1-100 | G83: 1920 | J83: 82 | K83: 2090 | L83: 1728 | N83: =MIN(E83,G83,I83,K83,L83,M83) -> 1728
A84: 외벽단열마감재 | B84: 메쉬시스템-스터코마감 | C84: M2 | D84: 421 | E84: 28500 | N84: =MIN(E84,G84,I84,K84,L84,M84) -> 28500
A85: 외벽단열마감재 | B85: 메쉬시스템-표준마감 | C85: M2 | D85: 421 | E85: 25500 | H85: 386 | I85: 24500 | N85: =MIN(E85,G85,I85,K85,L85,M85) -> 24500
A86: 용융아연도강판 | B86: 0.80mm | C86: KG | D86: 54 | E86: 1640 | F86: 1-78 | G86: 1442 | N86: =MIN(E86,G86,I86,K86,L86,M86) -> 1442
A87: 용접봉(고강용) | B87: ∮2.6 LC-300 | C87: KG | D87: 1279 | E87: 2781 | N87: =MIN(E87,G87,I87,K87,L87,M87) -> 2781
A88: 용접봉(스텐용) | B88: Φ3.2mm, AWSE308 | C88: KG | D88: 1279 | E88: 8306 | F88: 1-558 | G88: 8470 | H88: 1181 | I88: 8470 | J88: 1134 | K88: 7580 | N88: =MIN(E88,G88,I88,K88,L88,M88) -> 7580
A89: 용접봉(연강용) | B89: ∮3.2 CR-13 | C89: KG | M89: 2069 | N89: =MIN(E89,G89,I89,K89,L89,M89) -> 2069
A90: 웨이지핀 | B90: 90mm | C90: 개 | D90: 147 | E90: 73 | F90: 1-153 | G90: 61 | H90: 95 | I90: 61 | J90: 109 | K90: 72 | L90: 61 | N90: =MIN(E90,G90,I90,K90,L90,M90) -> 61
A91: 웨일후크 | B91: 스틸수직(대) | C91: 개 | D91: 147 | E91: 190 | J91: 109 | K91: 200 | L91: 120 | M91: 135 | N91: =MIN(E91,G91,I91,K91,L91,M91) -> 120
A92: 음성안내장치 | B92: 시각장애인용 | C92: SET | M92: 3000000 | N92: =MIN(E92,G92,I92,K92,L92,M92) -> 3000000
A93: 이음철물 | B93: 이음철물, 연결핀 | C93: 개 | D93: 145 | E93: 10000 | F93: 1-146 | G93: 1050 | H93: 90 | I93: 1050 | J93: 105 | K93: 1000 | N93: =MIN(E93,G93,I93,K93,L93,M93) -> 1000
A94: 이형철근 | B94: HD-10 SD35.40 | C94: TON | D94: 42 | E94: 695000 | F94: 1-62 | G94: 833000 | H94: 33 | I94: 837000 | J94: 33 | K94: 805000 | N94: =MIN(E94,G94,I94,K94,L94,M94) -> 695000
A95: 이형철근 | B95: HD-13 SD35.40 | C95: TON | D95: 42 | E95: 685000 | F95: 1-62 | G95: 823000 | H95: 33 | I95: 827000 | J95: 33 | K95: 795000 | N95: =MIN(E95,G95,I95,K95,L95,M95) -> 685000
A96: 이형철근 | B96: HD-16 SD35.40 | C96: TON | D96: 42 | E96: 680000 | F96: 1-62 | G96: 818000 | H96: 33 | I96: 822000 | J96: 33 | K96: 790000 | N96: =MIN(E96,G96,I96,K96,L96,M96) -> 680000
A97: 이형철근 | B97: HD-22 SD35.40 | C97: TON | D97: 42 | E97: 680000 | F97: 1-62 | G97: 818000 | H97: 33 | I97: 822000 | J97: 33 | K97: 790000 | N97: =MIN(E97,G97,I97,K97,L97,M97) -> 680000
A98: 인서트(주물) | B98: ∮6mm (1/4") | C98: 개 | M98: 40 | N98: =MIN(E98,G98,I98,K98,L98,M98) -> 40
A99: 자바라문 | B99: 장애인화장실 | C99: M2 | M99: 60000 | N99: =MIN(E99,G99,I99,K99,L99,M99) -> 60000
A100: 장애인안내점자판 | B100: 장애인화장실 | C100: EA | M100: 15000 | N100: =MIN(E100,G100,I100,K100,L100,M100) -> 15000
...
