Workbook

Sheet 내역명세서
A1: 내 역 서
A2: 공사명 : 태양의집직업재활원 환경개선 개보수공사(외내부)
A3: 품 명 | B3: 수량 | C3: 단위 | D3: 합 계 | F3: 비고
D4: 단 가 | E4: 금 액
A5: 1. 철거공사
A6: 발코니/마루 철거 | F6: 부분철거, 보수
A7: 화장실문 철거 | B7: 3 | F7: 슬라이딩 목재도어 및 문틀3
A8: 화장실 철거 | B8: 11 | F8: 세면대3, 소변기2, 양변기3, 거울3
A9: 기타 철거 | F9: 기존벽 조성물, 전기간선, 복스
A10: 소 계
A11: 2. 프로그램실 공사(≒48㎡)
A12: 바닥 데코타일(신설)
A13: 바닥 평탄화 작업(신설)
A14: 문 필름 부착
A15: 벽체 및 천장 도장
A16: 소 계
A17: 3. 화장실 공사(1~3층)
A18: 양변기
A19: 세면대
A20: 소변기
A21: 거울
A22: 수전금구
A23: 슬라이딩문 및 틀교체 | F23: 예)ABS/PVC 계열 또는 방수 MDF 필름 마감 등 방수에 뛰어난 것
A24: 소 계
A25: 4. 방수 공사
A26: 옥상누수 | F26: 엘리베이터
A27: 2층 베란다창 | F27: 외부 방부목재물길 누전전기보수
A28: 1층 천장
A29: 소 계
A30: 5. 전기통신 공사
A31: 전기간선 | F31: 사무실 콘센트선로인입
A32: 통신선로 | F32: UTP신설/포설
A33: 계
A34: 6. 기타비용
A37: 소 계
A38: 합 계 | F38: (부가세포함)

Sheet 일위대가목록
A1: 일 위 대 가 표 목 록
A2: 호 표 | B2: 품 명 | C2: 규 격 | D2: 단위 | E2: 수량 | F2: 재 료 비 | H2: 노 무 비 | J2: 경 비 | L2: 합 계 | N2: 비 고
F3: 단 가 | G3: 금 액 | H3: 단 가 | I3: 금 액 | J3: 단 가 | K3: 금 액 | L3: 단 가 | M3: 금 액 | O3: 손료요율 | P3: 손료구분 | Q3: 적용구분 | R3: 합계구분
A4: 일위 1 | B4: 콘테이너가설사무소 | C4: 6*2.4*2.6m, 3개월 | D4: 동 | F4: =일위대가표!F9 -> 66240 | G4: =일위대가표!F9 -> 66240 | H4: =일위대가표!H9 -> 24508 | I4: =일위대가표!H9 -> 24508 | J4: =일위대가표!J9 -> 0 | K4: =일위대가표!J9 -> 0 | L4: =G4+I4+K4 -> 90748 | M4: =G4+I4+K4 -> 90748 | N4: 품셈2-2-3
A5: 일위 3 | B5: 이동식강관말비계 | C5: 3개월,2단(4m) | D5: 1대 | F5: =일위대가표!F22 -> 17445 | G5: =일위대가표!F22 -> 17445 | H5: =일위대가표!H22 -> 11101 | I5: =일위대가표!H22 -> 11101 | J5: =일위대가표!J22 -> 0 | K5: =일위대가표!J22 -> 0 | L5: =G5+I5+K5 -> 28546 | M5: =G5+I5+K5 -> 28546 | N5: 품셈2-6-3
A6: 일위 4 | B6: 강관비계 | C6: 1-30m 3개월 | D6: M2 | F6: =일위대가표!F31 -> 467 | G6: =일위대가표!F31 -> 467 | H6: =일위대가표!H31 -> 2479 | I6: =일위대가표!H31 -> 2479 | J6: =일위대가표!J31 -> 0 | K6: =일위대가표!J31 -> 0 | L6: =G6+I6+K6 -> 2946 | M6: =G6+I6+K6 -> 2946 | N6: 품셈2-6-1
A7: 일위 5 | B7: 건축물현장정리 | C7: 철근CON'C조 | D7: M2 | F7: =일위대가표!F34 -> 0 | G7: =일위대가표!F34 -> 0 | H7: =일위대가표!H34 -> 2775 | I7: =일위대가표!H34 -> 2775 | J7: =일위대가표!J34 -> 0 | K7: =일위대가표!J34 -> 0 | L7: =G7+I7+K7 -> 2775 | M7: =G7+I7+K7 -> 2775 | N7: 품셈2-10
A8: 일위 6 | B8: 펌프카붐타설(무근,25/20) | C8: 50-100㎥미만,슬럼프8-12 | D8: M3 | F8: =일위대가표!F39 -> 408 | G8: =일위대가표!F39 -> 408 | H8: =일위대가표!H39 -> 1726 | I8: =일위대가표!H39 -> 1726 | J8: =일위대가표!J39 -> 2012 | K8: =일위대가표!J39 -> 2012 | L8: =G8+I8+K8 -> 4146 | M8: =G8+I8+K8 -> 4146 | N8: 품셈6-1-2
A9: 일위 8 | B9: 펌프카붐타설(철근,25/20) | C9: 100㎥~300㎥미만,슬럼프15 | D9: M3 | F9: =일위대가표!F44 -> 342 | G9: =일위대가표!F44 -> 342 | H9: =일위대가표!H44 -> 1876 | I9: =일위대가표!H44 -> 1876 | J9: =일위대가표!J44 -> 1684 | K9: =일위대가표!J44 -> 1684 | L9: =G9+I9+K9 -> 3902 | M9: =G9+I9+K9 -> 3902 | N9: 품셈6-1-2
A10: 일위 9 | B10: 합판거푸집 | C10: 3회 | D10: M2 | F10: =일위대가표!F53 -> 1702 | G10: =일위대가표!F53 -> 1702 | H10: =일위대가표!H53 -> 3786 | I10: =일위대가표!H53 -> 3786 | J10: =일위대가표!J53 -> 0 | K10: =일위대가표!J53 -> 0 | L10: =G10+I10+K10 -> 5488 | M10: =G10+I10+K10 -> 5488 | N10: 품셈6-3-2
A11: 일위 10 | B11: 합판거푸집 | C11: 경사3회 | D11: M2 | F11: =일위대가표!F62 -> 1771 | G11: =일위대가표!F62 -> 1771 | H11: =일위대가표!H62 -> 4543 | I11: =일위대가표!H62 -> 4543 | J11: =일위대가표!J62 -> 0 | K11: =일위대가표!J62 -> 0 | L11: =G11+I11+K11 -> 6314 | M11: =G11+I11+K11 -> 6314 | N11: 참고자료
A12: 일위 11 | B12: 유로폼 | C12: 벽 | D12: M2 | F12: =일위대가표!F75 -> 798 | G12: =일위대가표!F75 -> 798 | H12: =일위대가표!H75 -> 3371 | I12: =일위대가표!H75 -> 3371 | J12: =일위대가표!J75 -> 0 | K12: =일위대가표!J75 -> 0 | L12: =G12+I12+K12 -> 4169 | M12: =G12+I12+K12 -> 4169 | N12: 품셈6-3-5
A13: 일위 12 | B13: 철근가공조립 | C13: 간단(미할증) | D13: TON | F13: =일위대가표!F81 -> 3832 | G13: =일위대가표!F81 -> 3832 | H13: =일위대가표!H81 -> 95872 | I13: =일위대가표!H81 -> 95872 | J13: =일위대가표!J81 -> 0 | K13: =일위대가표!J81 -> 0 | L13: =G13+I13+K13 -> 99704 | M13: =G13+I13+K13 -> 99704 | N13: 품샘6-2-1
A14: 일위 16 | B14: 케미칼앙카설치(이형철근) | C14: D:13*L:150,천공포함 | D14: EA | F14: =일위대가표!F87 -> 694 | G14: =일위대가표!F87 -> 694 | H14: =일위대가표!H87 -> 704 | I14: =일위대가표!H87 -> 704 | J14: =일위대가표!J87 -> 0.9 | K14: =일위대가표!J87 -> 0.9 | L14: =G14+I14+K14 -> 1398.9 | M14: =G14+I14+K14 -> 1398.9
A15: 일위 17 | B15: 콘크리트천공(청소비포함) | C15: Φ16이하, H:100mm~150mm | D15: EA | F15: =일위대가표!F91 -> 62 | G15: =일위대가표!F91 -> 62 | H15: =일위대가표!H91 -> 314 | I15: =일위대가표!H91 -> 314 | J15: =일위대가표!J91 -> 0 | K15: =일위대가표!J91 -> 0 | L15: =G15+I15+K15 -> 376 | M15: =G15+I15+K15 -> 376
A16: 일위 18 | B16: 잡철물제작설치(철제) | C16: 간단 | D16: KG | F16: =일위대가표!F103 -> 46 | G16: =일위대가표!F103 -> 46 | H16: =일위대가표!H103 -> 827 | I16: =일위대가표!H103 -> 827 | J16: =일위대가표!J103 -> 2 | K16: =일위대가표!J103 -> 2 | L16: =G16+I16+K16 -> 875 | M16: =G16+I16+K16 -> 875 | N16: 건축15-6
A17: 일위 20 | B17: 신더콘크리트 | D17: M3 | F17: =일위대가표!F110 -> 25252 | G17: =일위대가표!F110 -> 25252 | H17: =일위대가표!H110 -> 39898 | I17: =일위대가표!H110 -> 39898 | J17: =일위대가표!J110 -> 0 | K17: =일위대가표!J110 -> 0 | L17: =G17+I17+K17 -> 65150 | M17: =G17+I17+K17 -> 65150 | N17: 참고자료
A18: 일위 21 | B18: 0.5B벽돌쌓기 | C18: 5,000매미만 | D18: 천매 | F18: =일위대가표!F116 -> 0 | G18: =일위대가표!F116 -> 0 | H18: =일위대가표!H116 -> 80112 | I18: =일위대가표!H116 -> 80112 | J18: =일위대가표!J116 -> 0 | K18: =일위대가표!J116 -> 0 | L18: =G18+I18+K18 -> 80112 | M18: =G18+I18+K18 -> 80112 | N18: 건축8-1-2
A19: 일위 22 | B19: 1.0B벽돌쌓기 | C19: 5,000-10,000매 | D19: 천매 | F19: =일위대가표!F122 -> 0 | G19: =일위대가표!F122 -> 0 | H19: =일위대가표!H122 -> 70514 | I19: =일위대가표!H122 -> 70514 | J19: =일위대가표!J122 -> 0 | K19: =일위대가표!J122 -> 0 | L19: =G19+I19+K19 -> 70514 | M19: =G19+I19+K19 -> 70514 | N19: 건축8-1-2
A20: 일위 23 | B20: 벽돌소운반 | C20: 2층 | D20: 천매 | F20: =일위대가표!F125 -> 0 | G20: =일위대가표!F125 -> 0 | H20: =일위대가표!H125 -> 11101 | I20: =일위대가표!H125 -> 11101 | J20: =일위대가표!J125 -> 0 | K20: =일위대가표!J125 -> 0 | L20: =G20+I20+K20 -> 11101 | M20: =G20+I20+K20 -> 11101 | N20: 건축8-3
A21: 일위 24 | B21: 타일압착붙임.300*300(타일C) | C21: 바닥,바탕47mm+압5mm | D21: M2 | F21: =일위대가표!F137 -> 588 | G21: =일위대가표!F137 -> 588 | H21: =일위대가표!H137 -> 9709 | I21: =일위대가표!H137 -> 9709 | J21: =일위대가표!J137 -> 0 | K21: =일위대가표!J137 -> 0 | L21: =G21+I21+K21 -> 10297 | M21: =G21+I21+K21 -> 10297 | N21: 건축11-4
A22: 일위 25 | B22: 타일압착붙임.200*200(타일C) | C22: 벽,바탕12mm+압6mm | D22: M2 | F22: =일위대가표!F149 -> 774 | G22: =일위대가표!F149 -> 774 | H22: =일위대가표!H149 -> 11474 | I22: =일위대가표!H149 -> 11474 | J22: =일위대가표!J149 -> 0 | K22: =일위대가표!J149 -> 0 | L22: =G22+I22+K22 -> 12248 | M22: =G22+I22+K22 -> 12248 | N22: 건축11-4
A23: 일위 26 | B23: 테라죠타일붙임 | C23: 바닥 400*400*24mm 몰탈36 | D23: M2 | F23: =일위대가표!F156 -> 3630 | G23: =일위대가표!F156 -> 3630 | H23: =일위대가표!H156 -> 13872 | I23: =일위대가표!H156 -> 13872 | J23: =일위대가표!J156 -> 0 | K23: =일위대가표!J156 -> 0 | L23: =G23+I23+K23 -> 17502 | M23: =G23+I23+K23 -> 17502 | N23: 건축10-1-1
A24: 일위 27 | B24: 시멘트액체방수 | C24: 1종 | D24: M2 | F24: =일위대가표!F164 -> 298 | G24: =일위대가표!F164 -> 298 | H24: =일위대가표!H164 -> 2667 | I24: =일위대가표!H164 -> 2667 | J24: =일위대가표!J164 -> 0 | K24: =일위대가표!J164 -> 0 | L24: =G24+I24+K24 -> 2965 | M24: =G24+I24+K24 -> 2965 | N24: 건축13-7-2
A25: 일위 28 | B25: 시멘트액체방수 | C25: 2종 | D25: M2 | F25: =일위대가표!F172 -> 215 | G25: =일위대가표!F172 -> 215 | H25: =일위대가표!H172 -> 2095 | I25: =일위대가표!H172 -> 2095 | J25: =일위대가표!J172 -> 0 | K25: =일위대가표!J172 -> 0 | L25: =G25+I25+K25 -> 2310 | M25: =G25+I25+K25 -> 2310 | N25: 건축13-7-2
A26: 일위 29 | B26: 우레탄도막방수 | C26: 바닥, 비노출 3MM | D26: M2 | F26: =일위대가표!F173 -> 15616.786 | G26: =일위대가표!F173 -> 15616.786 | H26: =일위대가표!H173 -> 8343.214 | I26: =일위대가표!H173 -> 8343.214 | J26: =일위대가표!J173 -> 0 | K26: =일위대가표!J173 -> 0 | L26: =G26+I26+K26 -> 23960 | M26: =G26+I26+K26 -> 23960 | N26: 2011년4월
A27: 일위 30 | B27: 수용성 도막 | C27: 3.0m/m | D27: M2 | F27: =일위대가표!F174 -> 21420 | G27: =일위대가표!F174 -> 21420 | H27: =일위대가표!H174 -> 11540 | I27: =일위대가표!H174 -> 11540 | J27: =일위대가표!J174 -> 0 | K27: =일위대가표!J174 -> 0 | L27: =G27+I27+K27 -> 32960 | M27: =G27+I27+K27 -> 32960 | N27: 2011년7월
A28: 일위 31 | B28: 경량철골천정틀 | C28: M-BAR H:1m미만.인써트유 | D28: M2 | F28: =일위대가표!F191 -> 1328 | G28: =일위대가표!F191 -> 1328 | H28: =일위대가표!H191 -> 5664 | I28: =일위대가표!H191 -> 5664 | J28: =일위대가표!J191 -> 0 | K28: =일위대가표!J191 -> 0 | L28: =G28+I28+K28 -> 6992 | M28: =G28+I28+K28 -> 6992 | N28: 건축15-5
A29: 일위 32 | B29: 인서트설치 | C29: 거푸집용,인서트제외 | D29: 개당 | F29: =일위대가표!F195 -> 2 | G29: =일위대가표!F195 -> 2 | H29: =일위대가표!H195 -> 87 | I29: =일위대가표!H195 -> 87 | J29: =일위대가표!J195 -> 0 | K29: =일위대가표!J195 -> 0 | L29: =G29+I29+K29 -> 89 | M29: =G29+I29+K29 -> 89 | N29: 건축15-7-1
A30: 일위 33 | B30: 스테인리스난간설치 | C30: H=850,Φ50 | D30: M | F30: =일위대가표!F201 -> 7963 | G30: =일위대가표!F201 -> 7963 | H30: =일위대가표!H201 -> 4181 | I30: =일위대가표!H201 -> 4181 | J30: =일위대가표!J201 -> 10 | K30: =일위대가표!J201 -> 10 | L30: =G30+I30+K30 -> 12154 | M30: =G30+I30+K30 -> 12154
A31: 일위 34 | B31: 스텐핸드레일 | C31: Ø50.8+31.8*1.5t,H:900 | D31: M | F31: =일위대가표!F209 -> 9984 | G31: =일위대가표!F209 -> 9984 | H31: =일위대가표!H209 -> 6593 | I31: =일위대가표!H209 -> 6593 | J31: =일위대가표!J209 -> 12 | K31: =일위대가표!J209 -> 12 | L31: =G31+I31+K31 -> 16589 | M31: =G31+I31+K31 -> 16589 | N31: 참고자료
A32: 일위 35 | B32: 스텐 CAP | C32: Ø60*1.2t | D32: 개 | F32: =일위대가표!F212 -> 46 | G32: =일위대가표!F212 -> 46 | H32: =일위대가표!H212 -> 0 | I32: =일위대가표!H212 -> 0 | J32: =일위대가표!J212 -> 0 | K32: =일위대가표!J212 -> 0 | L32: =G32+I32+K32 -> 46 | M32: =G32+I32+K32 -> 46 | N32: 참고자료
A33: 일위 36 | B33: 잡철물제작(스텐) | C33: 간단 | D33: KG | F33: =일위대가표!F215 -> 64 | G33: =일위대가표!F215 -> 64 | H33: =일위대가표!H215 -> 658 | I33: =일위대가표!H215 -> 658 | J33: =일위대가표!J215 -> 2 | K33: =일위대가표!J215 -> 2 | L33: =G33+I33+K33 -> 724 | M33: =G33+I33+K33 -> 724 | N33: 건축15-6
A34: 일위 37 | B34: 잡철물제작(스텐) | C34: 간단 | D34: TON | F34: =일위대가표!F227 -> 64067 | G34: =일위대가표!F227 -> 64067 | H34: =일위대가표!H227 -> 658591 | I34: =일위대가표!H227 -> 658591 | J34: =일위대가표!J227 -> 2196 | K34: =일위대가표!J227 -> 2196 | L34: =G34+I34+K34 -> 724854 | M34: =G34+I34+K34 -> 724854 | N34: 건축15-6
A35: 일위 38 | B35: 난간설치 | C35: 스테인레스제 | D35: KG | F35: =일위대가표!F233 -> 16 | G35: =일위대가표!F233 -> 16 | H35: =일위대가표!H233 -> 398 | I35: =일위대가표!H233 -> 398 | J35: =일위대가표!J233 -> 0 | K35: =일위대가표!J233 -> 0 | L35: =G35+I35+K35 -> 414 | M35: =G35+I35+K35 -> 414 | N35: 건축15-9
A36: 일위 39 | B36: AL몰딩설치 | C36: W형, 15*15*15*15*1.0mm | D36: M | F36: =일위대가표!F239 -> 373 | G36: =일위대가표!F239 -> 373 | H36: =일위대가표!H239 -> 913 | I36: =일위대가표!H239 -> 913 | J36: =일위대가표!J239 -> 0 | K36: =일위대가표!J239 -> 0 | L36: =G36+I36+K36 -> 1286 | M36: =G36+I36+K36 -> 1286 | N36: 건축15-8
A37: 일위 40 | B37: 와이어메쉬깔기 | C37: #8 -150*150 | D37: M2 | F37: =일위대가표!F244 -> 619 | G37: =일위대가표!F244 -> 619 | H37: =일위대가표!H244 -> 143 | I37: =일위대가표!H244 -> 143 | J37: =일위대가표!J244 -> 0 | K37: =일위대가표!J244 -> 0 | L37: =G37+I37+K37 -> 762 | M37: =G37+I37+K37 -> 762 | N37: 품셈15-4-2
A38: 일위 41 | B38: C-형강설치(T:2.3) | C38: 100*50*20,조합P | D38: M | F38: =일위대가표!F250 -> 1402 | G38: =일위대가표!F250 -> 1402 | H38: =일위대가표!H250 -> 3828 | I38: =일위대가표!H250 -> 3828 | J38: =일위대가표!J250 -> 8 | K38: =일위대가표!J250 -> 8 | L38: =G38+I38+K38 -> 5238 | M38: =G38+I38+K38 -> 5238
A39: 일위 42 | B39: 녹막이페인트(뿜칠) | C39: 1회.1종 | D39: M2 | F39: =일위대가표!F257 -> 239 | G39: =일위대가표!F257 -> 239 | H39: =일위대가표!H257 -> 453 | I39: =일위대가표!H257 -> 453 | J39: =일위대가표!J257 -> 0 | K39: =일위대가표!J257 -> 0 | L39: =G39+I39+K39 -> 692 | M39: =G39+I39+K39 -> 692 | N39: 참고자료
A40: 일위 43 | B40: 바탕만들기 | C40: 철재면 | D40: M2 | F40: =일위대가표!F262 -> 22 | G40: =일위대가표!F262 -> 22 | H40: =일위대가표!H262 -> 378 | I40: =일위대가표!H262 -> 378 | J40: =일위대가표!J262 -> 0 | K40: =일위대가표!J262 -> 0 | L40: =G40+I40+K40 -> 400 | M40: =G40+I40+K40 -> 400 | N40: 참고자료
...

Sheet 일위대가표
A1: 일 위 대 가 명 세 서
A2: 품 명 | B2: 규 격 | C2: 단위 | D2: 수 량 | E2: 재 료 비 | G2: 노 무 비 | I2: 경 비 | K2: 합 계 | M2: 비 고
E3: 단 가 | F3: 금 액 | G3: 단 가 | H3: 금 액 | I3: 단 가 | J3: 금 액 | K3: 단 가 | L3: 금 액 | N3: 손료요율 | O3: 손료구분 | P3: 적용구분 | Q3: 합계구분
A4: 일위 1호 콘테이너가설사무소 | B4: 6*2.4*2.6m, 3개월 | C4: 동 | M4: 품셈2-2-3
A5: 콘테이너(사무실용) | B5: 2.4×6.0×2.6m | C5: 개 | D5: 0.12 | E5: =ROUNDDOWN(자재단가대비표!N119*30/100,0) -> 552000 | F5: =ROUNDDOWN(D5*E5,1) -> 66240 | K5: =E5+G5+I5 -> 552000 | L5: =F5+H5+J5 -> 66240 | M5: 4.4평 | O5: 01 | P5: 기계경비 | Q5: 1
A6: 비계공 | C6: 인 | D6: 0.14 | G6: =ROUNDDOWN(자재단가대비표!N146,0) -> 123972 | H6: =ROUNDDOWN(D6*G6,1) -> 17356 | K6: =E6+G6+I6 -> 123972 | L6: =F6+H6+J6 -> 17356 | O6: 02 | P6: 기계경비 | Q6: 1
A7: 특별인부 | C7: 인 | D7: 0.075 | G7: =ROUNDDOWN(자재단가대비표!N161,0) -> 95366 | H7: =ROUNDDOWN(D7*G7,1) -> 7152.4 | K7: =E7+G7+I7 -> 95366 | L7: =F7+H7+J7 -> 7152.4 | O7: 02 | P7: 기계경비 | Q7: 1
A8: 크레인(트럭) | B8: 10 TON | C8: HR | E8: =ROUNDDOWN(중기경비!F15,0) -> 2471 | G8: =ROUNDDOWN(중기경비!H15,0) -> 5489 | I8: =ROUNDDOWN(중기경비!J15,0) -> 23436 | K8: =E8+G8+I8 -> 31396 | L8: =F8+H8+J8 -> 0 | M8: 중기 2호
A9: 합 계 | F9: =ROUNDDOWN(SUMIF($Q$5:$Q$8,1,$F$5:$F$8),0) -> 66240 | H9: =ROUNDDOWN(SUMIF($Q$5:$Q$8,1,$H$5:$H$8),0) -> 24508 | J9: =SUMIF($Q$5:$Q$8,1,$J$5:$J$8) -> 0 | L9: =F9+H9+J9 -> 90748
A10: 일위 3호 이동식강관말비계 | B10: 3개월,2단(4m) | C10: 1대 | M10: 품셈2-6-3
A11: 비계기본틀(기둥) | B11: 1.2*1.7 ( H=1700 * W=1219 ) | C11: 개 | D11: 0.24 | E11: =ROUNDDOWN(자재단가대비표!N51*30/100,0) -> 6916 | F11: =ROUNDDOWN(D11*E11,1) -> 1659.8 | K11: =E11+G11+I11 -> 6916 | L11: =F11+H11+J11 -> 1659.8 | M11: 문형지주 | O11: 01 | P11: 기계경비 | Q11: 1
A12: 가새 | B12: 1.2*1.9 | C12: 개 | D12: 0.48 | E12: =ROUNDDOWN(자재단가대비표!N8*30/100,0) -> 2115 | F12: =ROUNDDOWN(D12*E12,1) -> 1015.2 | K12: =E12+G12+I12 -> 2115 | L12: =F12+H12+J12 -> 1015.2 | O12: 01 | P12: 기계경비 | Q12: 1
A13: 수평띠장 | B13: L=1829 | C13: 개 | D13: 0.48 | E13: =ROUNDDOWN(자재단가대비표!N59*30/100,0) -> 7710 | F13: =ROUNDDOWN(D13*E13,1) -> 3700.8 | K13: =E13+G13+I13 -> 7710 | L13: =F13+H13+J13 -> 3700.8 | O13: 01 | P13: 기계경비 | Q13: 1
A14: 손잡이기둥 | C14: 개 | D14: 0.24 | E14: =ROUNDDOWN(자재단가대비표!N58*30/100,0) -> 8250 | F14: =ROUNDDOWN(D14*E14,1) -> 1980 | K14: =E14+G14+I14 -> 8250 | L14: =F14+H14+J14 -> 1980 | M14: 1.2*1.7 | O14: 01 | P14: 기계경비 | Q14: 1
A15: 손잡이 | B15: L=1229 | C15: 개 | D15: 0.12 | E15: =ROUNDDOWN(자재단가대비표!N56*30/100,0) -> 2550 | F15: =ROUNDDOWN(D15*E15,1) -> 306 | K15: =E15+G15+I15 -> 2550 | L15: =F15+H15+J15 -> 306 | O15: 01 | P15: 기계경비 | Q15: 1
A16: 손잡이 | B16: L=1829 | C16: 개 | D16: 0.24 | E16: =ROUNDDOWN(자재단가대비표!N57*30/100,0) -> 7710 | F16: =ROUNDDOWN(D16*E16,1) -> 1850.4 | K16: =E16+G16+I16 -> 7710 | L16: =F16+H16+J16 -> 1850.4 | O16: 01 | P16: 기계경비 | Q16: 1
A17: 이음철물 | B17: 이음철물, 연결핀 | C17: 개 | D17: 0.48 | E17: =ROUNDDOWN(자재단가대비표!N93*30/100,0) -> 300 | F17: =ROUNDDOWN(D17*E17,1) -> 144 | K17: =E17+G17+I17 -> 300 | L17: =F17+H17+J17 -> 144 | M17: 단관비계48mm용 | O17: 01 | P17: 기계경비 | Q17: 1
A18: 바퀴 | B18: L=1829 | C18: 개 | D18: 0.36 | E18: =ROUNDDOWN(자재단가대비표!N42*30/100,0) -> 7800 | F18: =ROUNDDOWN(D18*E18,1) -> 2808 | K18: =E18+G18+I18 -> 7800 | L18: =F18+H18+J18 -> 2808 | O18: 01 | P18: 기계경비 | Q18: 1
A19: 쟈키 | B19: L=1829 | C19: 개 | D19: 0.36 | E19: =ROUNDDOWN(자재단가대비표!N101*30/100,0) -> 2790 | F19: =ROUNDDOWN(D19*E19,1) -> 1004.4 | K19: =E19+G19+I19 -> 2790 | L19: =F19+H19+J19 -> 1004.4 | O19: 01 | P19: 기계경비 | Q19: 1
A20: 판재(板材) | B20: 외송 일반(㎥) | C20: M3 | D20: 0.0315 | E20: =ROUNDDOWN(자재단가대비표!N124*30/100,0) -> 94500 | F20: =ROUNDDOWN(D20*E20,1) -> 2976.7 | K20: =E20+G20+I20 -> 94500 | L20: =F20+H20+J20 -> 2976.7 | O20: 01 | P20: 기계경비 | Q20: 1
A21: 보통인부 | C21: 인 | D21: 0.15 | G21: =ROUNDDOWN(자재단가대비표!N145,0) -> 74008 | H21: =ROUNDDOWN(D21*G21,1) -> 11101.2 | K21: =E21+G21+I21 -> 74008 | L21: =F21+H21+J21 -> 11101.2 | O21: 02 | P21: 기계경비 | Q21: 1
A22: 합 계 | F22: =ROUNDDOWN(SUMIF($Q$11:$Q$21,1,$F$11:$F$21),0) -> 17445 | H22: =ROUNDDOWN(SUMIF($Q$11:$Q$21,1,$H$11:$H$21),0) -> 11101 | J22: =SUMIF($Q$11:$Q$21,1,$J$11:$J$21) -> 0 | L22: =F22+H22+J22 -> 28546
A23: 일위 4호 강관비계 | B23: 1-30m 3개월 | C23: M2 | M23: 품셈2-6-1
A24: 강관비계 | B24: D=48.6*2.3mm | C24: M | D24: 0.2394 | E24: =ROUNDDOWN(자재단가대비표!N10*30/100,0) -> 879 | F24: =ROUNDDOWN(D24*E24,1) -> 210.4 | K24: =E24+G24+I24 -> 879 | L24: =F24+H24+J24 -> 210.4 | M24: L=6.0m | O24: 01 | P24: 기계경비 | Q24: 1
A25: 이음철물 | B25: 이음철물, 연결핀 | C25: 개 | D25: 0.06 | E25: =ROUNDDOWN(자재단가대비표!N93*30/100,0) -> 300 | F25: =ROUNDDOWN(D25*E25,1) -> 18 | K25: =E25+G25+I25 -> 300 | L25: =F25+H25+J25 -> 18 | M25: 단관비계48mm용 | O25: 01 | P25: 기계경비 | Q25: 1
A26: 조임철물 | B26: 조임철물, 직교및가새 | C26: 개 | D26: 0.2496 | E26: =ROUNDDOWN(자재단가대비표!N105*30/100,0) -> 391 | F26: =ROUNDDOWN(D26*E26,1) -> 97.5 | K26: =E26+G26+I26 -> 391 | L26: =F26+H26+J26 -> 97.5 | M26: 48mm용 | O26: 01 | P26: 기계경비 | Q26: 1
A27: 받침철물 | B27: 나무라이트복합 | C27: 개 | D27: 0.0036 | E27: =ROUNDDOWN(자재단가대비표!N44*30/100,0) -> 1020 | F27: =ROUNDDOWN(D27*E27,1) -> 3.6 | K27: =E27+G27+I27 -> 1020 | L27: =F27+H27+J27 -> 3.6 | O27: 01 | P27: 기계경비 | Q27: 1
A28: 철물 | B28: 앙카용철물 | C28: 개 | D28: 0.04 | E28: =ROUNDDOWN(자재단가대비표!N111*30/100,0) -> 360 | F28: =ROUNDDOWN(D28*E28,1) -> 14.4 | K28: =E28+G28+I28 -> 360 | L28: =F28+H28+J28 -> 14.4 | M28: 시중가 | O28: 01 | P28: 기계경비 | Q28: 1
A29: 비계공 | C29: 인 | D29: 0.02 | G29: =ROUNDDOWN(자재단가대비표!N146,0) -> 123972 | H29: =ROUNDDOWN(D29*G29,1) -> 2479.4 | K29: =E29+G29+I29 -> 123972 | L29: =F29+H29+J29 -> 2479.4 | O29: 02 | P29: 기계경비 | Q29: 1
A30: 공구손료 | B30: ="노무비의 "&N30*100&"%" -> 노무비의 5% | C30: 식 | D30: 1 | E30: =SUMIF($O$23:$O$30,"02",$H$23:$H$30) -> 2479.4 | F30: =ROUNDDOWN(E30*N30,1) -> 123.9 | K30: =E30+G30+I30 -> 2479.4 | L30: =F30+H30+J30 -> 123.9 | M30: 자재에입력 | N30: 0.05 | P30: 기계경비 | Q30: 1
A31: 합 계 | F31: =ROUNDDOWN(SUMIF($Q$24:$Q$30,1,$F$24:$F$30),0) -> 467 | H31: =ROUNDDOWN(SUMIF($Q$24:$Q$30,1,$H$24:$H$30),0) -> 2479 | J31: =SUMIF($Q$24:$Q$30,1,$J$24:$J$30) -> 0 | L31: =F31+H31+J31 -> 2946
A32: 일위 5호 건축물현장정리 | B32: 철근CON'C조 | C32: M2 | M32: 품셈2-10
A33: 보통인부 | C33: 인 | D33: 0.0375 | G33: =ROUNDDOWN(자재단가대비표!N145,0) -> 74008 | H33: =ROUNDDOWN(D33*G33,1) -> 2775.3 | K33: =E33+G33+I33 -> 74008 | L33: =F33+H33+J33 -> 2775.3 | O33: 02 | P33: 기계경비 | Q33: 1
A34: 합 계 | F34: =SUMIF($Q$33:$Q$33,1,$F$33:$F$33) -> 0 | H34: =ROUNDDOWN(SUMIF($Q$33:$Q$33,1,$H$33:$H$33),0) -> 2775 | J34: =SUMIF($Q$33:$Q$33,1,$J$33:$J$33) -> 0 | L34: =F34+H34+J34 -> 2775
A35: 일위 6호 펌프카붐타설(무근,25/20) | B35: 50-100㎥미만,슬럼프8-12 | C35: M3 | M35: 품셈6-1-2
A36: 콘크리트 펌프차 | B36: 32m(80~95M3/hr) | C36: HR | D36: 0.0374 | E36: =ROUNDDOWN(중기경비!F27,0) -> 10930 | F36: =ROUNDDOWN(D36*E36,1) -> 408.7 | G36: =ROUNDDOWN(중기경비!H27,0) -> 5489 | H36: =ROUNDDOWN(D36*G36,1) -> 205.2 | I36: =ROUNDDOWN(중기경비!J27,0) -> 53802 | J36: =ROUNDDOWN(D36*I36,1) -> 2012.1 | K36: =E36+G36+I36 -> 70221 | L36: =F36+H36+J36 -> 2626 | M36: 중기 7호 | P36: 기계경비 | Q36: 1
A37: 콘크리트공 | C37: 인 | D37: 0.011 | G37: =ROUNDDOWN(자재단가대비표!N159,0) -> 102951 | H37: =ROUNDDOWN(D37*G37,1) -> 1132.4 | K37: =E37+G37+I37 -> 102951 | L37: =F37+H37+J37 -> 1132.4 | O37: 02 | P37: 기계경비 | Q37: 1
A38: 보통인부 | C38: 인 | D38: 0.00525 | G38: =ROUNDDOWN(자재단가대비표!N145,0) -> 74008 | H38: =ROUNDDOWN(D38*G38,1) -> 388.5 | K38: =E38+G38+I38 -> 74008 | L38: =F38+H38+J38 -> 388.5 | O38: 02 | P38: 기계경비 | Q38: 1
A39: 합 계 | F39: =ROUNDDOWN(SUMIF($Q$36:$Q$38,1,$F$36:$F$38),0) -> 408 | H39: =ROUNDDOWN(SUMIF($Q$36:$Q$38,1,$H$36:$H$38),0) -> 1726 | J39: =ROUNDDOWN(SUMIF($Q$36:$Q$38,1,$J$36:$J$38),0) -> 2012 | L39: =F39+H39+J39 -> 4146
A40: 일위 8호 펌프카붐타설(철근,25/20) | B40: 100㎥~300㎥미만,슬럼프15 | C40: M3 | M40: 품셈6-1-2
...

Sheet 중기경비목록
A1: 중 기 경 비 리 스 트
A2: 호 표 | B2: 품 명 | C2: 규 격 | D2: 단위 | E2: 수량 | F2: 재 료 비 | H2: 노 무 비 | J2: 경 비 | L2: 합 계 | N2: 비 고
F3: 단 가 | G3: 금 액 | H3: 단 가 | I3: 금 액 | J3: 단 가 | K3: 금 액 | L3: 단 가 | M3: 금 액 | O3: 손료요율 | P3: 손료구분 | Q3: 적용구분 | R3: 합계구분
A4: 중기 2 | B4: 크레인(트럭) | C4: 10 TON | D4: HR | F4: =중기경비!F15 -> 2471 | G4: =중기경비!F15 -> 2471 | H4: =중기경비!H15 -> 5489 | I4: =중기경비!H15 -> 5489 | J4: =중기경비!J15 -> 23436 | K4: =중기경비!J15 -> 23436 | L4: =G4+I4+K4 -> 31396 | M4: =G4+I4+K4 -> 31396 | N4: 토목11-3
A5: 중기 7 | B5: 콘크리트 펌프차 | C5: 32m(80~95M3/hr) | D5: HR | F5: =중기경비!F27 -> 10930 | G5: =중기경비!F27 -> 10930 | H5: =중기경비!H27 -> 5489 | I5: =중기경비!H27 -> 5489 | J5: =중기경비!J27 -> 53802 | K5: =중기경비!J27 -> 53802 | L5: =G5+I5+K5 -> 70221 | M5: =G5+I5+K5 -> 70221 | N5: 토목11-2
A6: 중기 14 | B6: 콘크리트 진동기 | C6: 전기식 플렉시블형Φ45(0. | D6: HR | F6: =중기경비!F36 -> 574 | G6: =중기경비!F36 -> 574 | H6: =중기경비!H36 -> 0 | I6: =중기경비!H36 -> 0 | J6: =중기경비!J36 -> 79 | K6: =중기경비!J36 -> 79 | L6: =G6+I6+K6 -> 653 | M6: =G6+I6+K6 -> 653 | N6: 토목11-2
A7: 중기 15 | B7: 바이브레이터 | C7: 봉상후렉시블 | D7: HR | F7: =중기경비!F41 -> 0 | G7: =중기경비!F41 -> 0 | H7: =중기경비!H41 -> 0 | I7: =중기경비!H41 -> 0 | J7: =중기경비!J41 -> 39 | K7: =중기경비!J41 -> 39 | L7: =G7+I7+K7 -> 39 | M7: =G7+I7+K7 -> 39 | N7: 참고자료
A8: 중기 19 | B8: 용접기 (교류) | C8: 500 AMP | D8: HR | F8: =중기경비!F46 -> 0 | G8: =중기경비!F46 -> 0 | H8: =중기경비!H46 -> 0 | I8: =중기경비!H46 -> 0 | J8: =중기경비!J46 -> 124 | K8: =중기경비!J46 -> 124 | L8: =G8+I8+K8 -> 124 | M8: =G8+I8+K8 -> 124 | N8: 참고자료
A9: 중기 98 | B9: 페이브먼트 브레이카 | C9: 25.0KG (55#) | D9: HR | F9: =중기경비!F51 -> 0 | G9: =중기경비!F51 -> 0 | H9: =중기경비!H51 -> 0 | I9: =중기경비!H51 -> 0 | J9: =중기경비!J51 -> 415 | K9: =중기경비!J51 -> 415 | L9: =G9+I9+K9 -> 415 | M9: =G9+I9+K9 -> 415 | N9: 참고자료
A10: 중기 99 | B10: 공기압축기(이동식) | C10: 3.5M3/MIN | D10: HR | F10: =중기경비!F63 -> 3365 | G10: =중기경비!F63 -> 3365 | H10: =중기경비!H63 -> 5489 | I10: =중기경비!H63 -> 5489 | J10: =중기경비!J63 -> 1746 | K10: =중기경비!J63 -> 1746 | L10: =G10+I10+K10 -> 10600 | M10: =G10+I10+K10 -> 10600 | N10: 토목11-2,1
A11: 중기107 | B11: 트럭 트랙터 및 트레일러 | C11: 20 TON | D11: HR | F11: =중기경비!F75 -> 10733 | G11: =중기경비!F75 -> 10733 | H11: =중기경비!H75 -> 5489 | I11: =중기경비!H75 -> 5489 | J11: =중기경비!J75 -> 14644 | K11: =중기경비!J75 -> 14644 | L11: =G11+I11+K11 -> 30866 | M11: =G11+I11+K11 -> 30866 | N11: 품셈11-3
A12: 중기109 | B12: 덤프트럭 | C12: 8 TON | D12: HR | F12: =중기경비!F87 -> 6006 | G12: =중기경비!F87 -> 6006 | H12: =중기경비!H87 -> 4367 | I12: =중기경비!H87 -> 4367 | J12: =중기경비!J87 -> 7743 | K12: =중기경비!J87 -> 7743 | L12: =G12+I12+K12 -> 18116 | M12: =G12+I12+K12 -> 18116 | N12: 토목11-2
A13: 중기112 | B13: 굴삭기(유압식백호우) | C13: 0.7M3 | D13: HR | F13: =중기경비!F99 -> 6623 | G13: =중기경비!F99 -> 6623 | H13: =중기경비!H99 -> 5489 | I13: =중기경비!H99 -> 5489 | J13: =중기경비!J99 -> 18961 | K13: =중기경비!J99 -> 18961 | L13: =G13+I13+K13 -> 31073 | M13: =G13+I13+K13 -> 31073 | N13: 토목11-2,1
A14: 중기113 | B14: 덤프트럭 | C14: 15 TON | D14: HR | F14: =중기경비!F111 -> 10268 | G14: =중기경비!F111 -> 10268 | H14: =중기경비!H111 -> 5489 | I14: =중기경비!H111 -> 5489 | J14: =중기경비!J111 -> 14383 | K14: =중기경비!J111 -> 14383 | L14: =G14+I14+K14 -> 30140 | M14: =G14+I14+K14 -> 30140 | N14: 토목11-2

Sheet 중기경비
A1: 중 기 경 비
A2: 품 명 | B2: 규 격 | C2: 단위 | D2: 수 량 | E2: 재 료 비 | G2: 노 무 비 | I2: 경 비 | K2: 합 계 | M2: 비 고
E3: 단 가 | F3: 금 액 | G3: 단 가 | H3: 금 액 | I3: 단 가 | J3: 금 액 | K3: 단 가 | L3: 금 액 | N3: 손료요율 | O3: 손료구분 | P3: 적용구분 | Q3: 합계구분
A4: 중기 2호 크레인(트럭) | B4: 10 TON | C4: HR | M4: 토목11-3
A5: [경 비] | K5: =E5+G5+I5 -> 0 | L5: =F5+H5+J5 -> 0
A6: 크레인(트럭) | B6: 10 TON | C6: 천원 | D6: 0.0002232 | I6: =ROUNDDOWN(자재단가대비표!N174,0) -> 105000000 | J6: =ROUNDDOWN(D6*I6,1) -> 23436 | K6: =E6+G6+I6 -> 105000000 | L6: =F6+H6+J6 -> 23436 | O6: 03 | P6: 기계경비 | Q6: 1
A7: [소 계] | J7: =SUMIF($Q$5:$Q$6,1,$J$5:$J$6) -> 23436 | L7: =F7+H7+J7 -> 23436
A8: [재료비] | K8: =E8+G8+I8 -> 0 | L8: =F8+H8+J8 -> 0
A9: 경유 | B9: 저유황 | C9: L | D9: 3.8 | E9: =ROUNDDOWN(자재단가대비표!N13*30/100,0) -> 468 | F9: =ROUNDDOWN(D9*E9,1) -> 1778.4 | K9: =E9+G9+I9 -> 468 | L9: =F9+H9+J9 -> 1778.4 | O9: 01 | P9: 기계경비 | Q9: 1
A10: 잡품 | B10: ="주연료비의 "&N10*100&"%" -> 주연료비의 39% | C10: 식 | D10: 1 | E10: =SUMIF($O$4:$O$14,"01",$F$4:$F$14) -> 1778.4 | F10: =ROUNDDOWN(E10*N10,1) -> 693.5 | K10: =E10+G10+I10 -> 1778.4 | L10: =F10+H10+J10 -> 693.5 | N10: 0.39 | P10: 기계경비 | Q10: 1
A11: [소 계] | F11: =SUMIF($Q$8:$Q$10,1,$F$8:$F$10) -> 2471.9 | L11: =F11+H11+J11 -> 2471.9
A12: [노무비] | K12: =E12+G12+I12 -> 0 | L12: =F12+H12+J12 -> 0
A13: 건설기계운전사 | C13: 인 | D13: 0.0520833 | G13: =ROUNDDOWN(자재단가대비표!N138,0) -> 105406 | H13: =ROUNDDOWN(D13*G13,1) -> 5489.8 | K13: =E13+G13+I13 -> 105406 | L13: =F13+H13+J13 -> 5489.8 | M13: 건설기계운전기사 | O13: 02 | P13: 기계경비 | Q13: 1
A14: [소 계] | H14: =SUMIF($Q$12:$Q$13,1,$H$12:$H$13) -> 5489.8 | L14: =F14+H14+J14 -> 5489.8
A15: 합 계 | F15: =ROUNDDOWN(SUMIF($Q$5:$Q$14,1,$F$5:$F$14),0) -> 2471 | H15: =ROUNDDOWN(SUMIF($Q$5:$Q$14,1,$H$5:$H$14),0) -> 5489 | J15: =ROUNDDOWN(SUMIF($Q$5:$Q$14,1,$J$5:$J$14),0) -> 23436 | L15: =F15+H15+J15 -> 31396
A16: 중기 7호 콘크리트 펌프차 | B16: 32m(80~95M3/hr) | C16: HR | M16: 토목11-2
A17: [경 비] | K17: =E17+G17+I17 -> 0 | L17: =F17+H17+J17 -> 0
A18: 콘크리트 펌프차 | B18: 32m(80~95)㎥/hr | C18: 천원 | D18: 0.0002562 | I18: =ROUNDDOWN(자재단가대비표!N173,0) -> 210000000 | J18: =ROUNDDOWN(D18*I18,1) -> 53802 | K18: =E18+G18+I18 -> 210000000 | L18: =F18+H18+J18 -> 53802 | O18: 03 | P18: 기계경비 | Q18: 1
A19: [소 계] | J19: =SUMIF($Q$17:$Q$18,1,$J$17:$J$18) -> 53802 | L19: =F19+H19+J19 -> 53802
A20: [재료비] | K20: =E20+G20+I20 -> 0 | L20: =F20+H20+J20 -> 0
A21: 경유 | B21: 저유황 | C21: L | D21: 17.3 | E21: =ROUNDDOWN(자재단가대비표!N13*30/100,0) -> 468 | F21: =ROUNDDOWN(D21*E21,1) -> 8096.4 | K21: =E21+G21+I21 -> 468 | L21: =F21+H21+J21 -> 8096.4 | O21: 01 | P21: 기계경비 | Q21: 1
A22: 잡품 | B22: ="주연료비의 "&N22*100&"%" -> 주연료비의 35% | C22: 식 | D22: 1 | E22: =SUMIF($O$16:$O$26,"01",$F$16:$F$26) -> 8096.4 | F22: =ROUNDDOWN(E22*N22,1) -> 2833.7 | K22: =E22+G22+I22 -> 8096.4 | L22: =F22+H22+J22 -> 2833.7 | N22: 0.35 | P22: 기계경비 | Q22: 1
A23: [소 계] | F23: =SUMIF($Q$20:$Q$22,1,$F$20:$F$22) -> 10930.1 | L23: =F23+H23+J23 -> 10930.1
A24: [노무비] | K24: =E24+G24+I24 -> 0 | L24: =F24+H24+J24 -> 0
A25: 건설기계운전사 | C25: 인 | D25: 0.0520833 | G25: =ROUNDDOWN(자재단가대비표!N138,0) -> 105406 | H25: =ROUNDDOWN(D25*G25,1) -> 5489.8 | K25: =E25+G25+I25 -> 105406 | L25: =F25+H25+J25 -> 5489.8 | M25: 건설기계운전기사 | O25: 02 | P25: 기계경비 | Q25: 1
A26: [소 계] | H26: =SUMIF($Q$24:$Q$25,1,$H$24:$H$25) -> 5489.8 | L26: =F26+H26+J26 -> 5489.8
A27: 합 계 | F27: =ROUNDDOWN(SUMIF($Q$17:$Q$26,1,$F$17:$F$26),0) -> 10930 | H27: =ROUNDDOWN(SUMIF($Q$17:$Q$26,1,$H$17:$H$26),0) -> 5489 | J27: =ROUNDDOWN(SUMIF($Q$17:$Q$26,1,$J$17:$J$26),0) -> 53802 | L27: =F27+H27+J27 -> 70221
A28: 중기 14호 콘크리트 진동기 | B28: 전기식 플렉시블형Φ45(0.75kw) | C28: HR | M28: 토목11-2
A29: [경 비] | K29: =E29+G29+I29 -> 0 | L29: =F29+H29+J29 -> 0
A30: 콘크리트 진동기 | B30: 전기식 플렉시블형Φ45(0.75kw) | C30: 천원 | D30: 0.0004867 | I30: =ROUNDDOWN(자재단가대비표!N172,0) -> 164000 | J30: =ROUNDDOWN(D30*I30,1) -> 79.8 | K30: =E30+G30+I30 -> 164000 | L30: =F30+H30+J30 -> 79.8 | O30: 03 | P30: 기계경비 | Q30: 1
A31: [소 계] | J31: =SUMIF($Q$29:$Q$30,1,$J$29:$J$30) -> 79.8 | L31: =F31+H31+J31 -> 79.8
A32: [재료비] | K32: =E32+G32+I32 -> 0 | L32: =F32+H32+J32 -> 0
A33: 휘발유 | B33: 무연 | C33: L | D33: 1 | E33: =ROUNDDOWN(자재단가대비표!N137*30/100,0) -> 522 | F33: =ROUNDDOWN(D33*E33,1) -> 522 | K33: =E33+G33+I33 -> 522 | L33: =F33+H33+J33 -> 522 | O33: 01 | P33: 기계경비 | Q33: 1
A34: 잡품 | B34: ="주연료비의 "&N34*100&"%" -> 주연료비의 10% | C34: 식 | D34: 1 | E34: =SUMIF($O$28:$O$35,"01",$F$28:$F$35) -> 522 | F34: =ROUNDDOWN(E34*N34,1) -> 52.2 | K34: =E34+G34+I34 -> 522 | L34: =F34+H34+J34 -> 52.2 | N34: 0.1 | P34: 기계경비 | Q34: 1
A35: [소 계] | F35: =SUMIF($Q$32:$Q$34,1,$F$32:$F$34) -> 574.2 | L35: =F35+H35+J35 -> 574.2
A36: 합 계 | F36: =ROUNDDOWN(SUMIF($Q$29:$Q$35,1,$F$29:$F$35),0) -> 574 | H36: =SUMIF($Q$29:$Q$35,1,$H$29:$H$35) -> 0 | J36: =ROUNDDOWN(SUMIF($Q$29:$Q$35,1,$J$29:$J$35),0) -> 79 | L36: =F36+H36+J36 -> 653
A37: 중기 15호 바이브레이터 | B37: 봉상후렉시블 | C37: HR | M37: 참고자료
A38: [경 비] | K38: =E38+G38+I38 -> 0 | L38: =F38+H38+J38 -> 0
A39: 바이브레이터 | B39: 봉상후렉시블 | C39: 천원 | D39: 0.00045 | I39: =ROUNDDOWN(자재단가대비표!N170,0) -> 88000 | J39: =ROUNDDOWN(D39*I39,1) -> 39.6 | K39: =E39+G39+I39 -> 88000 | L39: =F39+H39+J39 -> 39.6 | O39: 03 | P39: 기계경비 | Q39: 1
A40: [소 계] | J40: =SUMIF($Q$38:$Q$39,1,$J$38:$J$39) -> 39.6 | L40: =F40+H40+J40 -> 39.6
...

Sheet 단가산출서목록
A1: 단 가 산 출 서 목 록
A2: 호 표 | B2: 품 명 | C2: 규 격 | D2: 단위 | E2: 수량 | F2: 재 료 비 | H2: 노 무 비 | J2: 경 비 | L2: 합 계 | N2: 비 고
F3: 단 가 | G3: 금 액 | H3: 단 가 | I3: 금 액 | J3: 단 가 | K3: 금 액 | L3: 단 가 | M3: 금 액 | O3: 손료요율 | P3: 손료구분 | Q3: 적용구분 | R3: 합계구분
A4: 단산 13 | B4: 진동기손료(전기식) | D4: M3 | F4: =단가산출서!B18 -> 106 | G4: =단가산출서!B18 -> 106 | H4: =단가산출서!C18 -> 0 | I4: =단가산출서!C18 -> 0 | J4: =단가산출서!D18 -> 21 | K4: =단가산출서!D18 -> 21 | L4: =G4+I4+K4 -> 127 | M4: =G4+I4+K4 -> 127 | N4: 참고자료
A5: 단산106 | B5: 운반비(트레일러20톤) | C5: 철근 L:20km | D5: TON | F5: =단가산출서!B41 -> 684 | G5: =단가산출서!B41 -> 684 | H5: =단가산출서!C41 -> 1700 | I5: =단가산출서!C41 -> 1700 | J5: =단가산출서!D41 -> 1396 | K5: =단가산출서!D41 -> 1396 | L5: =G5+I5+K5 -> 3780 | M5: =G5+I5+K5 -> 3780 | N5: 참고자료
A6: 단산108 | B6: 운반비(담프8톤) | C6: 시멘트 L:20km | D6: 포 | F6: =단가산출서!B79 -> 82 | G6: =단가산출서!B79 -> 82 | H6: =단가산출서!C79 -> 104 | I6: =단가산출서!C79 -> 104 | J6: =단가산출서!D79 -> 106 | K6: =단가산출서!D79 -> 106 | L6: =G6+I6+K6 -> 292 | M6: =G6+I6+K6 -> 292 | N6: 참고자료
A7: 단산110 | B7: 시멘트운반(인력) | C7: 상차:하차,담프8톤 | D7: 포 | F7: =단가산출서!B102 -> 0 | G7: =단가산출서!B102 -> 0 | H7: =단가산출서!C102 -> 59 | I7: =단가산출서!C102 -> 59 | J7: =단가산출서!D102 -> 0 | K7: =단가산출서!D102 -> 0 | L7: =G7+I7+K7 -> 59 | M7: =G7+I7+K7 -> 59 | N7: 참고자료
A8: 단산111 | B8: 폐기물수집,운반비 | C8: 20km | D8: TON | F8: =단가산출서!B143 -> 1789 | G8: =단가산출서!B143 -> 1789 | H8: =단가산출서!C143 -> 1033 | I8: =단가산출서!C143 -> 1033 | J8: =단가산출서!D143 -> 2886 | K8: =단가산출서!D143 -> 2886 | L8: =G8+I8+K8 -> 5708 | M8: =G8+I8+K8 -> 5708 | N8: 참고자료
A9: 단산114 | B9: 폐기물상차(백호우0.7M3) | D9: M3 | F9: =단가산출서!B156 -> 114 | G9: =단가산출서!B156 -> 114 | H9: =단가산출서!C156 -> 94 | I9: =단가산출서!C156 -> 94 | J9: =단가산출서!D156 -> 327 | K9: =단가산출서!D156 -> 327 | L9: =G9+I9+K9 -> 535 | M9: =G9+I9+K9 -> 535 | N9: 참고자료

Sheet 단가산출서
A1: 단 가 산 출 서
A2: 산 출 근 거 | B2: 재 료 비 | C2: 노 무 비 | D2: 경 비 | E2: 합 계 | F2: 비 고
B3: 금액 | C3: 금액 | D3: 금액 | E3: 금액 | G3: 손료요율 | H3: 손료구분 | I3: 적용구분 | J3: 합계구분
A4: 제 13호 진동기손료(전기식) M3 | F4: 참고자료
A5: 1) 콘크리트 진동기 : 전기식 플렉시블형Φ45(0.75kw) HR | E5: =B5+C5+D5 -> 0 | F5: 제 14호 | J5: 0 | L5: =ROUNDDOWN(1,6) -> 1 | M5: =중기경비!F36 -> 574 | N5: =중기경비!H36 -> 0 | O5: =중기경비!J36 -> 79
A6: =" 콘크리트믹서용량 : q = "&L6 -> 콘크리트믹서용량 : q = 0.45 | E6: =B6+C6+D6 -> 0 | J6: 0 | K6: q | L6: =ROUNDDOWN(0.45,4) -> 0.45 | M6: 0 | N6: 0 | O6: 0
A7: =" 작업효율 : e = "&L7 -> 작업효율 : e = 0.8 | E7: =B7+C7+D7 -> 0 | J7: 0 | K7: e | L7: =ROUNDDOWN(0.8,4) -> 0.8 | M7: 0 | N7: 0 | O7: 0
A8: =" 시간당작업량 : Q = 60/4*q*e = "&L8 -> 시간당작업량 : Q = 60/4*q*e = 5.4 | E8: =B8+C8+D8 -> 0 | J8: 0 | K8: Q | L8: =ROUND(60/4*L6*L7,2) -> 5.4 | M8: 0 | N8: 0 | O8: 0
A9: =" 재료비 : "&M5&"/"&L8 -> 재료비 : 574/5.4 | B9: =ROUNDDOWN((M5)/L8,1) -> 106.2 | E9: =B9+C9+D9 -> 106.2 | I9: 기계경비 | J9: 1 | L9: 0 | M9: 0 | N9: 0 | O9: 0
A10: =" 경 비 : "&O5&"/"&L8 -> 경 비 : 79/5.4 | D10: =ROUNDDOWN((O5)/L8,1) -> 14.6 | E10: =B10+C10+D10 -> 14.6 | I10: 기계경비 | J10: 1 | L10: 0 | M10: 0 | N10: 0 | O10: 0
A11: 소 계 : | B11: =SUMIF($J$6:$J$10,1,$B$6:$B$10) -> 106.2 | D11: =SUMIF($J$6:$J$10,1,$D$6:$D$10) -> 14.6 | E11: =B11+C11+D11 -> 120.8 | J11: 0 | L11: 0 | M11: 0 | N11: 0 | O11: 0
A12: 2) 바이브레이터 : 봉상후렉시블 HR | E12: =B12+C12+D12 -> 0 | F12: 제 15호 | J12: 0 | L12: =ROUNDDOWN(1,6) -> 1 | M12: =중기경비!F41 -> 0 | N12: =중기경비!H41 -> 0 | O12: =중기경비!J41 -> 39
A13: =" 콘크리트믹서용량 : q = "&L13 -> 콘크리트믹서용량 : q = 0.45 | E13: =B13+C13+D13 -> 0 | J13: 0 | K13: q | L13: =ROUNDDOWN(0.45,4) -> 0.45 | M13: 0 | N13: 0 | O13: 0
A14: =" 작업효율 : e = "&L14 -> 작업효율 : e = 0.8 | E14: =B14+C14+D14 -> 0 | J14: 0 | K14: e | L14: =ROUNDDOWN(0.8,4) -> 0.8 | M14: 0 | N14: 0 | O14: 0
A15: =" 시간당작업량 : Q = 60/4*q*e = "&L15 -> 시간당작업량 : Q = 60/4*q*e = 5.4 | E15: =B15+C15+D15 -> 0 | J15: 0 | K15: Q | L15: =ROUND(60/4*L13*L14,2) -> 5.4 | M15: 0 | N15: 0 | O15: 0
A16: =" 경 비 : "&O12&"/"&L15 -> 경 비 : 39/5.4 | D16: =ROUNDDOWN((O12)/L15,1) -> 7.2 | E16: =B16+C16+D16 -> 7.2 | I16: 기계경비 | J16: 1 | L16: 0 | M16: 0 | N16: 0 | O16: 0
A17: 소 계 : | D17: =SUMIF($J$13:$J$16,1,$D$13:$D$16) -> 7.2 | E17: =B17+C17+D17 -> 7.2 | J17: 0 | L17: 0 | M17: 0 | N17: 0 | O17: 0
A18: 합 계 | B18: =ROUNDDOWN(SUMIF($J$5:$J$17,1,$B$5:$B$17),0) -> 106 | C18: =SUMIF($J$5:$J$17,1,$C$5:$C$17) -> 0 | D18: =ROUNDDOWN(SUMIF($J$5:$J$17,1,$D$5:$D$17),0) -> 21 | E18: =B18+C18+D18 -> 127
A19: 제106호 운반비(트레일러20톤) 철근 L:20km TON | F19: 참고자료
A20: 1.트레일러(20톤) : | E20: =B20+C20+D20 -> 0 | J20: 0 | L20: 0 | M20: 0 | N20: 0 | O20: 0
A21: 트럭 트랙터 및 트레일러 : 20 TON HR | E21: =B21+C21+D21 -> 0 | F21: 제107호 | J21: 0 | L21: =ROUNDDOWN(1,6) -> 1 | M21: =중기경비!F75 -> 10733 | N21: =중기경비!H75 -> 5489 | O21: =중기경비!J75 -> 14644
A22: =" 운반거리 : L = "&L22 -> 운반거리 : L = 20 | E22: =B22+C22+D22 -> 0 | J22: 0 | K22: L | L22: =ROUNDDOWN(20,4) -> 20 | M22: 0 | N22: 0 | O22: 0
A23: =" 1회적재량 : q = "&L23 -> 1회적재량 : q = 20 | E23: =B23+C23+D23 -> 0 | J23: 0 | K23: q | L23: =ROUNDDOWN(20,4) -> 20 | M23: 0 | N23: 0 | O23: 0
A24: =" 토량환산계수 : f = "&L24 -> 토량환산계수 : f = 1 | E24: =B24+C24+D24 -> 0 | J24: 0 | K24: f | L24: =ROUNDDOWN(1,4) -> 1 | M24: 0 | N24: 0 | O24: 0
A25: =" 작업효율 : E = "&L25 -> 작업효율 : E = 0.9 | E25: =B25+C25+D25 -> 0 | J25: 0 | K25: E | L25: =ROUNDDOWN(0.9,4) -> 0.9 | M25: 0 | N25: 0 | O25: 0
A26: =" 적재시간 : t1 = "&L26 -> 적재시간 : t1 = 32 | E26: =B26+C26+D26 -> 0 | J26: 0 | K26: t1 | L26: =ROUNDDOWN(32,4) -> 32 | M26: 0 | N26: 0 | O26: 0
A27: =" 왕복시간 : t2 = L/35*60*2 = "&L27 -> 왕복시간 : t2 = L/35*60*2 = 68.5714 | E27: =B27+C27+D27 -> 0 | J27: 0 | K27: t2 | L27: =ROUNDDOWN(L22/35*60*2,4) -> 68.5714 | M27: 0 | N27: 0 | O27: 0
A28: =" 적하시간 : t3 = "&L28 -> 적하시간 : t3 = 2 | E28: =B28+C28+D28 -> 0 | J28: 0 | K28: t3 | L28: =ROUNDDOWN(2,4) -> 2 | M28: 0 | N28: 0 | O28: 0
A29: =" 적재대기시간 : t4 = "&L29 -> 적재대기시간 : t4 = 0.42 | E29: =B29+C29+D29 -> 0 | J29: 0 | K29: t4 | L29: =ROUNDDOWN(0.42,4) -> 0.42 | M29: 0 | N29: 0 | O29: 0
A30: =" 1회 사이클 시간 : Cm = t1+t2+t3+t4 = "&L30 -> 1회 사이클 시간 : Cm = t1+t2+t3+t4 = 102.99 | E30: =B30+C30+D30 -> 0 | J30: 0 | K30: Cm | L30: =ROUND(L26+L27+L28+L29,2) -> 102.99 | M30: 0 | N30: 0 | O30: 0
A31: =" 시간당작업량(TON/HR) : Q1 = 60*q*f*E/Cm = "&L31 -> 시간당작업량(TON/HR) : Q1 = 60*q*f*E/Cm = 10.4864 | E31: =B31+C31+D31 -> 0 | J31: 0 | K31: Q1 | L31: =ROUNDDOWN(60*L23*L24*L25/L30,4) -> 10.4864 | M31: 0 | N31: 0 | O31: 0
A32: =" 차량실작업량(TON/HR) : Q2 = (t2+t4)/Cm*(1/Q1) = "&L32 -> 차량실작업량(TON/HR) : Q2 = (t2+t4)/Cm*(1/Q1) = 0.0638 | E32: =B32+C32+D32 -> 0 | J32: 0 | K32: Q2 | L32: =ROUNDDOWN((L27+L29)/L30*(1/L31),4) -> 0.0638 | M32: 0 | N32: 0 | O32: 0
A33: =" 재료비작업량 : Q3 = 1/Q2 = "&L33 -> 재료비작업량 : Q3 = 1/Q2 = 15.6739 | E33: =B33+C33+D33 -> 0 | J33: 0 | K33: Q3 | L33: =ROUNDDOWN(1/L32,4) -> 15.6739 | M33: 0 | N33: 0 | O33: 0
A34: =" 재료비 : "&M21&"/"&"1"&"5"&"."&"6"&"7"&"3"&"9" -> 재료비 : 10733/15.6739 | B34: =ROUNDDOWN((M21)/15.6739,1) -> 684.7 | E34: =B34+C34+D34 -> 684.7 | I34: 기계경비 | J34: 1 | L34: 0 | M34: 0 | N34: 0 | O34: 0
A35: =" 노무비 : "&N21&"/"&"1"&"0"&"."&"4"&"8"&"6"&"4" -> 노무비 : 5489/10.4864 | C35: =ROUNDDOWN((N21)/10.4864,1) -> 523.4 | E35: =B35+C35+D35 -> 523.4 | I35: 기계경비 | J35: 1 | L35: 0 | M35: 0 | N35: 0 | O35: 0
A36: =" 경 비 : "&O21&"/"&"1"&"0"&"."&"4"&"8"&"6"&"4" -> 경 비 : 14644/10.4864 | D36: =ROUNDDOWN((O21)/10.4864,1) -> 1396.4 | E36: =B36+C36+D36 -> 1396.4 | I36: 기계경비 | J36: 1 | L36: 0 | M36: 0 | N36: 0 | O36: 0
A37: 소 계 : | B37: =SUMIF($J$21:$J$36,1,$B$21:$B$36) -> 684.7 | C37: =SUMIF($J$21:$J$36,1,$C$21:$C$36) -> 523.4 | D37: =SUMIF($J$21:$J$36,1,$D$21:$D$36) -> 1396.4 | E37: =B37+C37+D37 -> 2604.5 | J37: 0 | L37: 0 | M37: 0 | N37: 0 | O37: 0
A38: 2. 인 력 : | E38: =B38+C38+D38 -> 0 | J38: 0 | L38: 0 | M38: 0 | N38: 0 | O38: 0
A39: =" 노무비 보통인부 인 "&N39&"*(1*0.0638*25/100)" -> 노무비 보통인부 인 74008*(1*0.0638*25/100) | C39: =ROUNDDOWN(N39*L39,1) -> 1176.7 | E39: =B39+C39+D39 -> 1176.7 | H39: 02 | I39: 기계경비 | J39: 1 | L39: =ROUNDDOWN(1*L32*25/100,4) -> 0.0159 | M39: 0 | N39: =ROUNDDOWN(자재단가대비표!N145,0) -> 74008 | O39: 0
A40: 소 계 : | C40: =SUMIF($J$39:$J$39,1,$C$39:$C$39) -> 1176.7 | E40: =B40+C40+D40 -> 1176.7 | J40: 0 | L40: 0 | M40: 0 | N40: 0 | O40: 0
...

Sheet 자재단가대비표
A1: 단가대비표
A2: 품명 | B2: 규격 | C2: 단위 | D2: 물가자료 | F2: 물가정보 | H2: 유통물가 | J2: 거래가격 | L2: 가격정보 | M2: 조사단가 | N2: 적용단가 | O2: 비고
D3: Page | E3: 단 가 | F3: Page | G3: 단 가 | H3: Page | I3: 단 가 | J3: Page | K3: 단 가 | L3: 단 가 | M3: 단 가
A4: BAR 죠인트 | B4: 더블 0.5*90*43*17 | C4: 개 | F4: 594 | G4: 50 | J4: 608 | K4: 65 | N4: =MIN(E4,G4,I4,K4,L4,M4) -> 50 | O4: MW-JOINT
A5: BAR 크립 | B5: 더블 0.5*34*38*17 | C5: 개 | F5: 2-430 | G5: 1250 | J5: 608 | K5: 52 | N5: =MIN(E5,G5,I5,K5,L5,M5) -> 52 | O5: MW-CLIP
A6: M-BAR | B6: 더블 0.5*50*19 | C6: M | D6: 513 | E6: 620 | F6: 2-432 | G6: 930 | H6: 415 | I6: 620 | J6: 608 | K6: 490 | N6: =MIN(E6,G6,I6,K6,L6,M6) -> 490
A7: PVC천정재 | B7: 10*99.5mm,목무늬 | C7: M2 | L7: 20200 | N7: =MIN(E7,G7,I7,K7,L7,M7) -> 20200
A8: 가새 | B8: 1.2*1.9 | C8: 개 | D8: 146 | E8: 8500 | F8: 1-147 | G8: 9100 | H8: 90 | I8: 9100 | L8: 7050 | N8: =MIN(E8,G8,I8,K8,L8,M8) -> 7050
A9: 각재(角材) | B9: 외송(㎥) | C9: M3 | D9: 134 | E9: 435000 | H9: 89 | I9: 405000 | J9: 98 | K9: 405000 | L9: 224000 | M9: 390000 | N9: =MIN(E9,G9,I9,K9,L9,M9) -> 224000
A10: 강관비계 | B10: D=48.6*2.3mm | C10: M | F10: 1-146 | G10: 3316 | H10: 90 | I10: 3316 | J10: 105 | K10: 2933 | L10: 3038 | N10: =MIN(E10,G10,I10,K10,L10,M10) -> 2933
A11: 거울 | B11: 5MM | C11: M2 | D11: 564 | E11: 17000 | J11: 545 | K11: 19800 | L11: 16150 | N11: =MIN(E11,G11,I11,K11,L11,M11) -> 16150
A12: 경량C형강(2.3t) | B12: 100*50*20 | C12: TON | D12: 46 | E12: 890000 | F12: 1-75 | G12: 880000 | J12: 41 | K12: 880000 | L12: 688000 | N12: =MIN(E12,G12,I12,K12,L12,M12) -> 688000
A13: 경유 | B13: 저유황 | C13: L | D13: 1351 | E13: 1629 | F13: 2-883 | G13: 1563 | H13: 1237 | I13: 1620 | J13: 1259 | K13: 1586 | N13: =MIN(E13,G13,I13,K13,L13,M13) -> 1563
A14: 고철(△) | B14: 작업설부산물 | C14: KG | F14: 982 | G14: 500 | H14: 1246 | I14: 530 | N14: =MIN(E14,G14,I14,K14,L14,M14) -> 500
A15: 광명단조합페인트 | B15: KSM6030-1종1류 | C15: L | D15: 567 | E15: 11888 | F15: 2-235 | G15: 10756 | H15: 471 | I15: 10756 | L15: 6800 | N15: =MIN(E15,G15,I15,K15,L15,M15) -> 6800
A16: 구조용스텐원형관(1.5t) | B16: ∮ 31.8*1.5t | C16: M | D16: 74 | E16: 5630 | F16: 1-87 | G16: 5860 | H16: 52 | I16: 6750 | J16: 60 | K16: 5865 | L16: 5240 | N16: =MIN(E16,G16,I16,K16,L16,M16) -> 5240
A17: 구조용스텐원형관(1.5t) | B17: ∮ 50.8*1.5t | C17: M | D17: 74 | E17: 9130 | F17: 1-87 | G17: 9530 | H17: 52 | I17: 10870 | J17: 60 | K17: 9543 | L17: 8510 | N17: =MIN(E17,G17,I17,K17,L17,M17) -> 8510
A18: 구조용스텐원형관(2.0t) | B18: ∮ 15.8*2.0t | C18: M | D18: 74 | E18: 3510 | F18: 1-86 | G18: 5200 | J18: 60 | K18: 4700 | L18: 4670 | N18: =MIN(E18,G18,I18,K18,L18,M18) -> 3510
A19: 구조용스텐원형관(2.0t) | B19: ∮ 25.4*2.0t | C19: M | D19: 74 | E19: 5850 | F19: 1-86 | G19: 6530 | J19: 60 | K19: 6099 | L19: 5440 | N19: =MIN(E19,G19,I19,K19,L19,M19) -> 5440
A20: 구조용스텐원형관(2.0t) | B20: ∮ 50.8*2.0t | C20: M | D20: 74 | E20: 12040 | F20: 1-87 | G20: 12530 | H20: 52 | I20: 14330 | J20: 60 | K20: 12473 | L20: 11110 | N20: =MIN(E20,G20,I20,K20,L20,M20) -> 11110
A21: 그릴 (AL) | B21: 600x600 | C21: EA | D21: 893 | E21: 60000 | N21: =MIN(E21,G21,I21,K21,L21,M21) -> 60000
A22: 금속제거푸집 | B22: 600*1200*63.5mm | C22: 매 | D22: 146 | E22: 25800 | F22: 1-149 | G22: 28800 | H22: 94 | I22: 28800 | J22: 113 | K22: 28800 | L22: 21755 | N22: =MIN(E22,G22,I22,K22,L22,M22) -> 21755
A23: 내벽코너판넬 | B23: (200+200)1200 | C23: 매 | D23: 146 | E23: 33000 | F23: 1-149 | G23: 33000 | H23: 94 | I23: 33000 | J23: 113 | K23: 58080 | L23: 16000 | N23: =MIN(E23,G23,I23,K23,L23,M23) -> 16000
A24: 내수합판(1급) | B24: 12T 0.91*1.82 | C24: M2 | D24: 618 | E24: 11411 | F24: 2-333 | G24: 13102 | H24: 404 | I24: 9721 | J24: 547 | K24: 12136 | L24: 6450 | N24: =MIN(E24,G24,I24,K24,L24,M24) -> 6450
A25: 내수합판(1급) | B25: 12T 1.21*2.42 | C25: M2 | D25: 618 | E25: 9375 | F25: 2-333 | G25: 11645 | H25: 404 | I25: 9170 | J25: 547 | K25: 10520 | L25: 6450 | N25: =MIN(E25,G25,I25,K25,L25,M25) -> 6450
A26: 달대볼트 | B26: ∮6mmx 500mm | C26: 개 | M26: 325 | N26: =MIN(E26,G26,I26,K26,L26,M26) -> 325
A27: 도아록 | B27: 공정 | C27: 조 | M27: 3500 | N27: =MIN(E27,G27,I27,K27,L27,M27) -> 3500
A28: 도아록(스텐) | B28: 9900 | C28: 조 | J28: 446 | K28: 9500 | N28: =MIN(E28,G28,I28,K28,L28,M28) -> 9500
A29: 도아체크 | B29: 표준형 | C29: 개 | D29: 557 | E29: 22000 | F29: 2-296 | G29: 19000 | H29: 456 | I29: 19000 | N29: =MIN(E29,G29,I29,K29,L29,M29) -> 19000
A30: 레미콘 | B30: 25-21-12 | C30: M3 | J30: 91 | K30: 52840 | N30: =MIN(E30,G30,I30,K30,L30,M30) -> 52840
A31: 레미콘 | B31: 25-24-15 | C31: M3 | J31: 91 | K31: 56440 | N31: =MIN(E31,G31,I31,K31,L31,M31) -> 56440
A32: 루프드레인(L형)/주철제 | B32: D150mm | C32: 개소 | M32: 109907 | N32: =MIN(E32,G32,I32,K32,L32,M32) -> 109907 | O32: 실적공사
A33: 마이너찬넬 | B33: 19*10*1.2T | C33: M | D33: 513 | E33: 550 | F33: 2-432 | G33: 780 | H33: 417 | I33: 660 | J33: 608 | K33: 397 | N33: =MIN(E33,G33,I33,K33,L33,M33) -> 397 | O33: KS 1.2*19
A34: 마이톤 | B34: M-Bar 9*300*600 | C34: M2 | D34: 549(0810) | E34: 5700 | F34: 534(0807) | G34: 5700 | N34: =MIN(E34,G34,I34,K34,L34,M34) -> 5700
A35: 맑은유리 | B35: 5mm | C35: M2 | D35: 560 | E35: 7160 | F35: 2-307 | G35: 7620 | H35: 464 | I35: 7160 | J35: 540 | K35: 7250 | L35: 6710 | N35: =MIN(E35,G35,I35,K35,L35,M35) -> 6710
A36: 메탈스터드(방음)칸막이 | B36: 64mm STUD,9.5mm석고보 | C36: M2 | D36: 633 | E36: 35000 | F36: 418 | G36: 35000 | N36: =MIN(E36,G36,I36,K36,L36,M36) -> 35000
A37: 모래 | B37: 자연사(도착도) | C37: M3 | D37: 100 | E37: 22000 | F37: 1-125 | G37: 24000 | J37: 87 | K37: 21000 | N37: =MIN(E37,G37,I37,K37,L37,M37) -> 21000
A38: 모르터방수제 | B38: 물 50배 회석 | C38: L | D38: 468 | E38: 1111 | F38: 2-203 | G38: 3754 | H38: 380 | I38: 3754 | J38: 483 | K38: 3754 | N38: =MIN(E38,G38,I38,K38,L38,M38) -> 1111
A39: 몰딩(AL) | B39: W형 15*15*15*15*1.0 | C39: M | F39: 594 | G39: 1000 | H39: 417 | I39: 1890 | N39: =MIN(E39,G39,I39,K39,L39,M39) -> 1000 | O39: WELL 몰딩
A40: 바닥,벽 타일(자기질) | B40: 200*200*7.5 무유 | C40: M2 | J40: 453 | K40: 10400 | N40: =MIN(E40,G40,I40,K40,L40,M40) -> 10400
...
