Workbook

Sheet 공종별집계표
A1: 공 종 별 집 계 표
A2: [ 노화건강테마촌전복웰빙센터보수공사 ]
A3: 품 명 | B3: 규 격 | C3: 단위 | D3: 수량 | E3: 재 료 비 | G3: 노 무 비 | I3: 경 비 | K3: 합 계 | M3: 비 고 | N3: 공종코드 | O3: 변수 | P3: 상위공종 | Q3: 공종구분 | R3: 공종레벨 | S3: 공종소계 | T3: 원가계산서 연결금액
E4: 단 가 | F4: 금 액 | G4: 단 가 | H4: 금 액 | I4: 단 가 | J4: 금 액 | K4: 단 가 | L4: 금 액
A5: 01 노화건강테마촌전복웰빙센터보수공사 | D5: 1 | E5: =F6 -> 0 | F5: =E5*D5 -> 0 | G5: =H6 -> 0 | H5: =G5*D5 -> 0 | I5: =J6 -> 0 | J5: =I5*D5 -> 0 | K5: =E5+G5+I5 -> 0 | L5: =F5+H5+J5 -> 0 | N5: 01 | R5: 1
A6: 0101 1.건축공사 | D6: 1 | E6: =F7+F8+F9+F10+F11+F12+F13+F14+F15 -> 0 | F6: =E6*D6 -> 0 | G6: =H7+H8+H9+H10+H11+H12+H13+H14+H15 -> 0 | H6: =G6*D6 -> 0 | I6: =J7+J8+J9+J10+J11+J12+J13+J14+J15 -> 0 | J6: =I6*D6 -> 0 | K6: =E6+G6+I6 -> 0 | L6: =F6+H6+J6 -> 0 | N6: 0101 | P6: 01 | R6: 2
A7: 010101 가 설 공 사 | D7: 1 | E7: =공종별내역서!F12 -> 0 | F7: =E7*D7 -> 0 | G7: =공종별내역서!H12 -> 0 | H7: =G7*D7 -> 0 | I7: =공종별내역서!J12 -> 0 | J7: =I7*D7 -> 0 | K7: =E7+G7+I7 -> 0 | L7: =F7+H7+J7 -> 0 | N7: 010101 | P7: 0101 | R7: 3
A8: 010102 철 골 공 사 | D8: 1 | E8: =공종별내역서!F27 -> 0 | F8: =E8*D8 -> 0 | G8: =공종별내역서!H27 -> 0 | H8: =G8*D8 -> 0 | I8: =공종별내역서!J27 -> 0 | J8: =I8*D8 -> 0 | K8: =E8+G8+I8 -> 0 | L8: =F8+H8+J8 -> 0 | N8: 010102 | P8: 0101 | R8: 3
A9: 010103 방 수 공 사 | D9: 1 | E9: =공종별내역서!F38 -> 0 | F9: =E9*D9 -> 0 | G9: =공종별내역서!H38 -> 0 | H9: =G9*D9 -> 0 | I9: =공종별내역서!J38 -> 0 | J9: =I9*D9 -> 0 | K9: =E9+G9+I9 -> 0 | L9: =F9+H9+J9 -> 0 | N9: 010103 | P9: 0101 | R9: 3
A10: 010104 금 속 공 사 | D10: 1 | E10: =공종별내역서!F51 -> 0 | F10: =E10*D10 -> 0 | G10: =공종별내역서!H51 -> 0 | H10: =G10*D10 -> 0 | I10: =공종별내역서!J51 -> 0 | J10: =I10*D10 -> 0 | K10: =E10+G10+I10 -> 0 | L10: =F10+H10+J10 -> 0 | N10: 010104 | P10: 0101 | R10: 3
A11: 010105 미 장 공 사 | D11: 1 | E11: =공종별내역서!F60 -> 0 | F11: =E11*D11 -> 0 | G11: =공종별내역서!H60 -> 0 | H11: =G11*D11 -> 0 | I11: =공종별내역서!J60 -> 0 | J11: =I11*D11 -> 0 | K11: =E11+G11+I11 -> 0 | L11: =F11+H11+J11 -> 0 | N11: 010105 | P11: 0101 | R11: 3
A12: 010106 철 거 공 사 | D12: 1 | E12: =공종별내역서!F70 -> 0 | F12: =E12*D12 -> 0 | G12: =공종별내역서!H70 -> 0 | H12: =G12*D12 -> 0 | I12: =공종별내역서!J70 -> 0 | J12: =I12*D12 -> 0 | K12: =E12+G12+I12 -> 0 | L12: =F12+H12+J12 -> 0 | N12: 010106 | P12: 0101 | R12: 3
A13: 010107 판 넬 공 사 | D13: 1 | E13: =공종별내역서!F84 -> 0 | F13: =E13*D13 -> 0 | G13: =공종별내역서!H84 -> 0 | H13: =G13*D13 -> 0 | I13: =공종별내역서!J84 -> 0 | J13: =I13*D13 -> 0 | K13: =E13+G13+I13 -> 0 | L13: =F13+H13+J13 -> 0 | N13: 010107 | P13: 0101 | R13: 3
A14: 010108 해 상 운 반 비 | D14: 1 | E14: =공종별내역서!F94 -> 0 | F14: =E14*D14 -> 0 | G14: =공종별내역서!H94 -> 0 | H14: =G14*D14 -> 0 | I14: =공종별내역서!J94 -> 0 | J14: =I14*D14 -> 0 | K14: =E14+G14+I14 -> 0 | L14: =F14+H14+J14 -> 0 | N14: 010108 | P14: 0101 | R14: 3
A15: 010109 작 업 부 산 물 | D15: 1 | E15: =공종별내역서!F102 -> 0 | F15: =E15*D15 -> 0 | G15: =공종별내역서!H102 -> 0 | H15: =G15*D15 -> 0 | I15: =공종별내역서!J102 -> 0 | J15: =I15*D15 -> 0 | K15: =E15+G15+I15 -> 0 | L15: =F15+H15+J15 -> 0 | N15: 010109 | P15: 0101 | R15: 3
A16: 0102 2.폐기물처리비 | D16: 1 | E16: =공종별내역서!F110 -> 0 | F16: =E16*D16 -> 0 | G16: =공종별내역서!H110 -> 0 | H16: =G16*D16 -> 0 | I16: =공종별내역서!J110 -> 0 | J16: =I16*D16 -> 0 | K16: =E16+G16+I16 -> 0 | L16: =F16+H16+J16 -> 0 | N16: 0102 | Q16: 6 | R16: 2 | T16: =L16*1 -> 0
A27: [ 합 계 ] | F27: =F5 -> 0 | H27: =H5 -> 0 | J27: =J5 -> 0 | L27: =L5 -> 0

Sheet 공종별내역서
A1: [ 노화건강테마촌전복웰빙센터보수공사 ]
A2: 품 명 | B2: 규 격 | C2: 단위 | D2: 수량 | E2: 재 료 비 | G2: 노 무 비 | I2: 경 비 | K2: 합 계 | M2: 비 고 | N2: 품목코드 | O2: 변수 | P2: 설정 | Q2: 공종코드 | R2: 일위 | S2: 단산 | T2: 자재 | U2: 손료적용 | V2: 손료저장 | W2: 적용율 | X2: JUK1 | Y2: JUK2 | Z2: JUK3 | AA2: JUK4 | AB2: JUK5 | AC2: JUK6 | AD2: JUK7 | AE2: JUK8 | AF2: JUK9 | AG2: JUK10 | AH2: JUK11 | AI2: JUK12 | AJ2: JUK13 | AK2: JUK14 | AL2: JUK15 | AM2: JUK16 | AN2: JUK17 | AO2: JUK18 | AP2: JUK19 | AQ2: JUK20 | AR2: 자재구분 | AS2: 공종구분 | AT2: 공종레벨 | AU2: 공종+자재 | AV2: 고유번호
E3: 단 가 | F3: 금 액 | G3: 단 가 | H3: 금 액 | I3: 단 가 | J3: 금 액 | K3: 단 가 | L3: 금 액
A4: 010101 가 설 공 사 | Q4: 010101
A5: 건축물 현장정리 | B5: 보수(청소및물품이동 등) | C5: 인 | D5: 2 | N5: 59AB15A27162DB0D3961405EA4A3AA | Q5: 010101 | R5: T | S5: F | T5: F | X5: 1 | AU5: 01010159AB15A27162DB0D3961405EA4A3AA | AV5: 4
A6: 트럭탑재형크레인 | B6: 18톤 | C6: 일 | D6: 40 | N6: 59AB15A27162DB0D3961405EA4A3AD | Q6: 010101 | R6: T | S6: F | T6: F | AU6: 01010159AB15A27162DB0D3961405EA4A3AD | AV6: 76
A7: 도서할증 | B7: 인력품의 15% | C7: 식 | D7: 1 | N7: 58B3A56DE16768603C61490EE177001 | Q7: 010101 | R7: F | S7: F | T7: F | U7: 1 | V7: 1 | W7: 0.15 | AU7: 01010158B3A56DE16768603C61490EE177001 | AV7: 67
Q8: 010101
Q9: 010101
Q10: 010101
Q11: 010101
A12: [ 합 계 ] | N12: TOTAL
A13: 010102 철 골 공 사 | Q13: 010102
A14: ㄱ형강 - 광주 | B14: ㄱ형강, 등변, 50*50*5mm, 대리점상차도 | C14: kg | D14: 34.83 | N14: 5E80E50F036A6D0630714D326F64C6C59565F0 | Q14: 010102 | R14: F | S14: F | T14: T | X14: 1 | AU14: 0101025E80E50F036A6D0630714D326F64C6C59565F0 | AV14: 9
A15: 경량형강 - 광주 | B15: 경량형강, 블랙C형강, 100*50*20, t2.3, 대리점상차도 | C15: TON | D15: 0.56 | N15: 5E80E50F036A6D223DE1426073222A7616F49C | Q15: 010102 | R15: F | S15: F | T15: T | X15: 1 | AU15: 0101025E80E50F036A6D223DE1426073222A7616F49C | AV15: 10
A16: 일반구조용압연강판 | B16: 일반구조용압연강판, 10mm | C16: TON | D16: 0.02 | N16: 5E80E50F036A5CDE39414D301EF67599C4DE0B | Q16: 010102 | R16: F | S16: F | T16: T | X16: 1 | AU16: 0101025E80E50F036A5CDE39414D301EF67599C4DE0B | AV16: 11
A17: 앵커볼트 | B17: 앵커볼트, M19*400mm | C17: 개 | D17: 34 | N17: 5E80F515686055573BB14A7EB524FC021E91B3 | Q17: 010102 | R17: F | S17: F | T17: T | X17: 1 | AU17: 0101025E80F515686055573BB14A7EB524FC021E91B3 | AV17: 59
A18: 앵커 볼트 설치 | B18: ∮20 이하 | C18: 개 | D18: 32 | N18: 59AB55C3386EEF7B3BF1460BC68B65 | Q18: 010102 | R18: T | S18: F | T18: F | X18: 1 | AU18: 01010259AB55C3386EEF7B3BF1460BC68B65 | AV18: 13
A19: 잡철물 제작 및 설치 | B19: 규격철물 설치, 일반철재 | C19: TON | D19: 0.59 | N19: 59ABA54E5264E0973241498C925D2D | Q19: 010102 | R19: T | S19: F | T19: F | X19: 1 | AU19: 01010259ABA54E5264E0973241498C925D2D | AV19: 14
A20: 녹막이페인트 붓칠(재료비 미포함) | B20: 철재면, 1회 1종 | C20: M2 | D20: 66.04 | N20: 59ABE5DF2C64A0BB30B14FD4675A0A | Q20: 010102 | R20: T | S20: F | T20: F | X20: 1 | AU20: 01010259ABE5DF2C64A0BB30B14FD4675A0A | AV20: 15
A21: 유성페인트 붓칠(재료비 미포함) | B21: 철재면, 2회 1급 | C21: M2 | D21: 65.4 | N21: 59ABE5DC596F3818346146EC797CFA | Q21: 010102 | R21: T | S21: F | T21: F | X21: 1 | AU21: 01010259ABE5DC596F3818346146EC797CFA | AV21: 16
A22: 도서할증 | B22: 인력품의 15% | C22: 식 | D22: 1 | N22: 58B3A56DE16768603C61490EE177001 | Q22: 010102 | R22: F | S22: F | T22: F | U22: 1 | V22: 1 | W22: 0.15 | AU22: 01010258B3A56DE16768603C61490EE177001 | AV22: 70
Q23: 010102
Q24: 010102
Q25: 010102
Q26: 010102
A27: [ 합 계 ] | N27: TOTAL
A28: 010103 방 수 공 사 | Q28: 010103
A29: 우레탄방수 - 프라이머 포함 | B29: 바닥 3mm, 노출 | C29: M2 | D29: 99.65 | N29: 59AB8576D8691BD9361140AB02242E | Q29: 010103 | R29: T | S29: F | T29: F | X29: 1 | AU29: 01010359AB8576D8691BD9361140AB02242E | AV29: 57
A30: 우레탄방수 - 프라이머 포함 | B30: 수직 3mm, 노출 | C30: M2 | D30: 73.98 | N30: 59AB8576D86936B732514B394E7172 | Q30: 010103 | R30: T | S30: F | T30: F | X30: 1 | AU30: 01010359AB8576D86936B732514B394E7172 | AV30: 58
A31: 바탕처리 | B31: 보통, 바닥 | C31: M2 | D31: 99.65 | N31: 59AB85664C67852A31414FFFB4BC5D | Q31: 010103 | R31: T | S31: F | T31: F | X31: 1 | AU31: 01010359AB85664C67852A31414FFFB4BC5D | AV31: 27
A32: 바탕처리 | B32: 보통, 수직부 | C32: M2 | D32: 73.98 | N32: 59AB85664C67852A31414FFFB4BF11 | Q32: 010103 | R32: T | S32: F | T32: F | X32: 1 | AU32: 01010359AB85664C67852A31414FFFB4BF11 | AV32: 28
A33: 도서할증 | B33: 인력품의 15% | C33: 식 | D33: 1 | N33: 58B3A56DE16768603C61490EE177001 | Q33: 010103 | R33: F | S33: F | T33: F | U33: 1 | V33: 1 | W33: 0.15 | AU33: 01010358B3A56DE16768603C61490EE177001 | AV33: 71
Q34: 010103
Q35: 010103
Q36: 010103
Q37: 010103
A38: [ 합 계 ] | N38: TOTAL
A39: 010104 금 속 공 사 | Q39: 010104
A40: 일반구조용각형강관 | B40: 일반구조용각형강관, 각형강관, 100*100*2.3mm | C40: M | D40: 80.01 | N40: 5EFBD57D596CB704366146050A01A5191EA7BF | Q40: 010104 | R40: F | S40: F | T40: T | X40: 1 | AU40: 0101045EFBD57D596CB704366146050A01A5191EA7BF | AV40: 30
...

Sheet 일위대가목록
B1: 일 위 대 가 목 록
B2: [ 노화건강테마촌전복웰빙센터보수공사 ]
A3: 코 드 | B3: 품 명 | C3: 규 격 | D3: 단위 | E3: 재 료 비 | F3: 노 무 비 | G3: 경 비 | H3: 합 계 | I3: 번 호 | J3: 비 고 | K3: 노임계수 | L3: 할증 | M3: 품셈개요 | N3: 장비일위
A4: 5EBC25F3B56BCD8436214C395E1F006969A10B6A | B4: 크레인(타이어) | C4: 20ton | D4: HR | K4: A | N4: T
A5: 5EBC25F3B56BCD8436214DDFE04FF813B11C9A76 | B5: 트럭탑재형 크레인 | C5: 18ton | D5: HR | K5: A | N5: T
A6: 59AB15A7F1676926325143CE049ABE | B6: 시스템비계 설치 및 해체(인력) | C6: 10m 이하, 설치 150m2, 해체 150m2 | D6: M2
A7: 59AB15A7F16769263251407A06A8CE | B7: 시스템비계 설치 및 해체(인력) | C7: 10m 초과~20m 이하, 설치 130m2, 해체 130m2 | D7: M2
A8: 59AB15A7F16769263221438A411FC8 | B8: 시스템비계 설치, 해체(외부)인력 | C8: 10m이하, 3개월(발판2열)-계단설치해체비포함 | D8: M2
A9: 59AB15A7F16769263221438A411D1B | B9: 시스템비계 설치, 해체(외부)인력 | C9: H=10m초과∼20m이하, 3개월(발판2열)-계단설치해체비포함 | D9: M2
A10: 59AB15A7F167692632214036420755 | B10: 시스템작업발판(3개월이하) | C10: 안전발판 손료 | D10: M2
A11: 59AB15A27162DB0D3961405EA4A3AA | B11: 건축물 현장정리 | C11: 보수(청소및물품이동 등) | D11: 인
A12: 59AB15A27162DB0D3961405EA4A3AD | B12: 트럭탑재형크레인 | C12: 18톤 | D12: 일
A13: 59AB55C3386EEF7B3BF1460BC68B65 | B13: 앵커 볼트 설치 | C13: ∮20 이하 | D13: 개
A14: 59AB55C4D663AA9E3D2140D1393599 | B14: 주각부 무수축 모르타르 충전 | C14: 400*400*50mm, 재료 별도 | D14: 개소
A15: 59AB55C4D663AA9E38B14F504B324154 | B15: 주각부 무수축 모르타르 충전 | C15: 200*200*50mm, 재료비 포함 | D15: 개소
A16: 59AB85742A677D373D0146451825E1 | B16: 방수프라이머 바름 | C16: 롤러 1층(회) 바름 기준 | D16: M2
A17: 59AB8576D8691BD9361140AB02245F | B17: 도막바름 | C17: 바닥, 도막 1층(회) 형성 기준 | D17: M2
... A44: 59AA153B796FB0C532714EF9812BF0 | B44: 폴리카보네이트 철거 | C44: 지붕 | D44: ㎡
