Workbook

Sheet 원가계산서
B1: 공 사 원 가 계 산 서
B2: 공사명 : 도초고란새뜰마을집수리공사 | F2: 금액 : 칠천사백사십만원(￦74,400,000)
B3: 비 목 | E3: 금 액 | F3: 구 성 비 | G3: 비 고
A4: A1 | B4: 순 공 사 원 가 | C4: 재 료 비 | D4: 직 접 재 료 비 | E4: =TRUNC(공종별집계표!F5, 0) -> 0
A5: A2 | D5: 간 접 재 료 비 | E5: 0
A6: A3 | D6: 작업설, 부산물(△) | E6: 0
A7: AS | D7: [ 소 계 ] | E7: =TRUNC(E4+E5-E6, 0) -> 0
A8: B1 | C8: 노 무 비 | D8: 직 접 노 무 비 | E8: =TRUNC(공종별집계표!H5, 0) -> 0
A9: D6 | D9: 도 서 할 증 률 | E9: =TRUNC(E8*0.1, 0) -> 0 | F9: 직접노무비의10%
A10: B2 | D10: 간 접 노 무 비 | E10: =TRUNC((E8+E9)*0.175, 0) -> 0 | F10: 직접노무비 * 17.5%
A11: BS | C11: 경 비 | D11: [ 소 계 ] | E11: =TRUNC(E8+E10+E9, 0) -> 0
A12: C2 | D12: 경 비 | E12: =TRUNC(공종별집계표!J5, 0) -> 0
A13: C4 | D13: 산 재 보 험 료 | E13: =TRUNC(E11*0.0356, 0) -> 0 | F13: 노무비 * 3.56%
A14: C5 | D14: 고 용 보 험 료 | E14: =TRUNC(E11*0.0101, 0) -> 0 | F14: 노무비 * 1.01%
A15: C6 | D15: 국민 건강 보험료 | E15: =TRUNC((E8+E9)*0, 0) -> 0 | F15: 직접노무비 * 0%
A16: C7 | D16: 국민 연금 보험료 | E16: =TRUNC((E8+E9)*0, 0) -> 0 | F16: 직접노무비 * 0%
A17: CB | D17: 노인장기요양보험료 | E17: =TRUNC(E15*0.1314, 0) -> 0 | F17: 건강보험료 * 13.14%
A18: CA | D18: 산업안전보건관리비 | E18: =TRUNC((E7+E8+E9+(0/1.1))*0.0311, 0) -> 0 | F18: (재료비+직노+관급자재비) * 3.11%
A19: CG | D19: 기 타 경 비 | E19: =TRUNC((E7+E11)*0.05, 0) -> 0 | F19: (재료비+노무비) * 5%
A20: CH | D20: 환 경 보 전 비 | E20: =TRUNC((E7+E8+E9+E12)*0.003, 0) -> 0 | F20: (재료비+직노+경비) * 0.3%
A21: CK | D21: 하도급지급보증수수료 | E21: =TRUNC((E7+E8+E9+E12)*0.00081, 0) -> 0 | F21: (재료비+직노+경비) * 0.081%
A22: CL | D22: 건설기계대여금지급보증서발급수수료 | E22: =TRUNC((E7+E8+E9+E12)*0.0007, 0) -> 0 | F22: (재료비+직노+경비) * 0.07%
A23: D5 | D23: 석 면 분 담 금 | E23: =TRUNC(E11*0.00006, 0) -> 0 | F23: 노무비 * 0.006%
A24: D7 | D24: 임금 채권 부담금 | E24: =TRUNC(E11*0.0009, 0) -> 0 | F24: 노무비 * 0.09%
A25: CS | D25: [ 소 계 ] | E25: =TRUNC(E12+E13+E14+E15+E16+E18+E17+E19+E20+E21+E22+E23+E24, 0) -> 0
A26: S1 | B26: 계 | E26: =TRUNC(E7+E11+E25, 0) -> 0
A27: D1 | B27: 일 반 관 리 비 | E27: =TRUNC((E26)*0.06, 0) -> 0 | F27: 계 * 6%
A28: D2 | B28: 이 윤 | F28: (노무비+경비+일반관리비) * 10%
A29: D4 | B29: 폐기물처리비 | E29: =TRUNC(공종별집계표!T16+공종별집계표!T30+공종별집계표!T40+공종별집계표!T53+공종별집계표!T60, 0) -> 0
A30: D9 | B30: 공 급 가 액 | E30: =TRUNC(E26+E27+E28+E29, 0) -> 0
A31: DB | B31: 부 가 가 치 세 | E31: =TRUNC(E30*0.1, 0) -> 0 | F31: 공급가액 * 10%
A32: DH | B32: 도 급 액 | E32: =TRUNC(E30+E31, 0) -> 0
A33: S2 | B33: 총 공 사 비 | E33: =TRUNC(E32+0, 0) -> 0

Sheet 공종별집계표
A1: 공 종 별 집 계 표
A2: [ 도초고란새뜰마을집수리공사 ]
A3: 품 명 | B3: 규 격 | C3: 단위 | D3: 수량 | E3: 재 료 비 | G3: 노 무 비 | I3: 경 비 | K3: 합 계 | M3: 비 고 | N3: 공종코드 | O3: 변수 | P3: 상위공종 | Q3: 공종구분 | R3: 공종레벨 | S3: 공종소계 | T3: 원가계산서 연결금액
E4: 단 가 | F4: 금 액 | G4: 단 가 | H4: 금 액 | I4: 단 가 | J4: 금 액 | K4: 단 가 | L4: 금 액
A5: 01 도초고란새뜰마을집수리공사 | D5: 1 | E5: =F6+F17+F31+F41+F54 -> 0 | F5: =E5*D5 -> 0 | G5: =H6+H17+H31+H41+H54 -> 0 | H5: =G5*D5 -> 0 | I5: =J6+J17+J31+J41+J54 -> 0 | J5: =I5*D5 -> 0 | K5: =E5+G5+I5 -> 0 | L5: =F5+H5+J5 -> 0 | N5: 01 | R5: 1
A6: 0101 고란길 252 환화영 | D6: 1 | E6: =F7+F8+F9+F10+F11+F12+F13+F14+F15 -> 0 | F6: =E6*D6 -> 0 | G6: =H7+H8+H9+H10+H11+H12+H13+H14+H15 -> 0 | H6: =G6*D6 -> 0 | I6: =J7+J8+J9+J10+J11+J12+J13+J14+J15 -> 0 | J6: =I6*D6 -> 0 | K6: =E6+G6+I6 -> 0 | L6: =F6+H6+J6 -> 0 | N6: 0101 | P6: 01 | R6: 2
A7: 010101 가 설 공 사 | D7: 1 | E7: =공종별내역서!F28 -> 0 | F7: =E7*D7 -> 0 | G7: =공종별내역서!H28 -> 0 | H7: =G7*D7 -> 0 | I7: =공종별내역서!J28 -> 0 | J7: =I7*D7 -> 0 | K7: =E7+G7+I7 -> 0 | L7: =F7+H7+J7 -> 0 | N7: 010101 | P7: 0101 | R7: 3
A8: 010102 철 골 공 사 | D8: 1 | E8: =공종별내역서!F53 -> 0 | F8: =E8*D8 -> 0 | G8: =공종별내역서!H53 -> 0 | H8: =G8*D8 -> 0 | I8: =공종별내역서!J53 -> 0 | J8: =I8*D8 -> 0 | K8: =E8+G8+I8 -> 0 | L8: =F8+H8+J8 -> 0 | N8: 010102 | P8: 0101 | R8: 3
A9: 010103 목 공 사 | D9: 1 | E9: =공종별내역서!F78 -> 0 | F9: =E9*D9 -> 0 | G9: =공종별내역서!H78 -> 0 | H9: =G9*D9 -> 0 | I9: =공종별내역서!J78 -> 0 | J9: =I9*D9 -> 0 | K9: =E9+G9+I9 -> 0 | L9: =F9+H9+J9 -> 0 | N9: 010103 | P9: 0101 | R9: 3
A10: 010104 수 장 공 사 | D10: 1 | E10: =공종별내역서!F103 -> 0 | F10: =E10*D10 -> 0 | G10: =공종별내역서!H103 -> 0 | H10: =G10*D10 -> 0 | I10: =공종별내역서!J103 -> 0 | J10: =I10*D10 -> 0 | K10: =E10+G10+I10 -> 0 | L10: =F10+H10+J10 -> 0 | N10: 010104 | P10: 0101 | R10: 3
A11: 010105 창호 및 유리공사 | D11: 1 | E11: =공종별내역서!F128 -> 0 | F11: =E11*D11 -> 0 | G11: =공종별내역서!H128 -> 0 | H11: =G11*D11 -> 0 | I11: =공종별내역서!J128 -> 0 | J11: =I11*D11 -> 0 | K11: =E11+G11+I11 -> 0 | L11: =F11+H11+J11 -> 0 | N11: 010105 | P11: 0101 | R11: 3
A12: 010106 판 넬 공 사 | D12: 1 | E12: =공종별내역서!F153 -> 0 | F12: =E12*D12 -> 0 | G12: =공종별내역서!H153 -> 0 | H12: =G12*D12 -> 0 | I12: =공종별내역서!J153 -> 0 | J12: =I12*D12 -> 0 | K12: =E12+G12+I12 -> 0 | L12: =F12+H12+J12 -> 0 | N12: 010106 | P12: 0101 | R12: 3
A13: 010107 철 거 공 사 | D13: 1 | E13: =공종별내역서!F178 -> 0 | F13: =E13*D13 -> 0 | G13: =공종별내역서!H178 -> 0 | H13: =G13*D13 -> 0 | I13: =공종별내역서!J178 -> 0 | J13: =I13*D13 -> 0 | K13: =E13+G13+I13 -> 0 | L13: =F13+H13+J13 -> 0 | N13: 010107 | P13: 0101 | R13: 3
A14: 010108 작 업 부 산 물 | D14: 1 | E14: =공종별내역서!F203 -> 0 | F14: =E14*D14 -> 0 | G14: =공종별내역서!H203 -> 0 | H14: =G14*D14 -> 0 | I14: =공종별내역서!J203 -> 0 | J14: =I14*D14 -> 0 | K14: =E14+G14+I14 -> 0 | L14: =F14+H14+J14 -> 0 | N14: 010108 | P14: 0101 | R14: 3
A15: 010109 자재대 및 운반비 | D15: 1 | E15: =공종별내역서!F228 -> 0 | F15: =E15*D15 -> 0 | G15: =공종별내역서!H228 -> 0 | H15: =G15*D15 -> 0 | I15: =공종별내역서!J228 -> 0 | J15: =I15*D15 -> 0 | K15: =E15+G15+I15 -> 0 | L15: =F15+H15+J15 -> 0 | N15: 010109 | P15: 0101 | R15: 3
A16: 010110 건설폐기물처리비 | D16: 1 | E16: =공종별내역서!F253 -> 0 | F16: =E16*D16 -> 0 | G16: =공종별내역서!H253 -> 0 | H16: =G16*D16 -> 0 | I16: =공종별내역서!J253 -> 0 | J16: =I16*D16 -> 0 | K16: =E16+G16+I16 -> 0 | L16: =F16+H16+J16 -> 0 | N16: 010110 | Q16: 6 | R16: 3 | T16: =L16*1 -> 0
A17: 0102 고란길 254 장용선 | D17: 1 | E17: =F18+F19+F20+F21+F22+F23+F24+F25+F26+F27+F28+F29 -> 0 | F17: =E17*D17 -> 0 | G17: =H18+H19+H20+H21+H22+H23+H24+H25+H26+H27+H28+H29 -> 0 | H17: =G17*D17 -> 0 | I17: =J18+J19+J20+J21+J22+J23+J24+J25+J26+J27+J28+J29 -> 0 | J17: =I17*D17 -> 0 | K17: =E17+G17+I17 -> 0 | L17: =F17+H17+J17 -> 0 | N17: 0102 | P17: 01 | R17: 2
A18: 010201 가 설 공 사 | D18: 1 | E18: =공종별내역서!F278 -> 0 | F18: =E18*D18 -> 0 | G18: =공종별내역서!H278 -> 0 | H18: =G18*D18 -> 0 | I18: =공종별내역서!J278 -> 0 | J18: =I18*D18 -> 0 | K18: =E18+G18+I18 -> 0 | L18: =F18+H18+J18 -> 0 | N18: 010201 | P18: 0102 | R18: 3
A19: 010202 조 적 공 사 | D19: 1 | E19: =공종별내역서!F303 -> 0 | F19: =E19*D19 -> 0 | G19: =공종별내역서!H303 -> 0 | H19: =G19*D19 -> 0 | I19: =공종별내역서!J303 -> 0 | J19: =I19*D19 -> 0 | K19: =E19+G19+I19 -> 0 | L19: =F19+H19+J19 -> 0 | N19: 010202 | P19: 0102 | R19: 3
A20: 010203 타 일 공 사 | D20: 1 | E20: =공종별내역서!F328 -> 0 | F20: =E20*D20 -> 0 | G20: =공종별내역서!H328 -> 0 | H20: =G20*D20 -> 0 | I20: =공종별내역서!J328 -> 0 | J20: =I20*D20 -> 0 | K20: =E20+G20+I20 -> 0 | L20: =F20+H20+J20 -> 0 | N20: 010203 | P20: 0102 | R20: 3
A21: 010204 수 장 공 사 | D21: 1 | E21: =공종별내역서!F353 -> 0 | F21: =E21*D21 -> 0 | G21: =공종별내역서!H353 -> 0 | H21: =G21*D21 -> 0 | I21: =공종별내역서!J353 -> 0 | J21: =I21*D21 -> 0 | K21: =E21+G21+I21 -> 0 | L21: =F21+H21+J21 -> 0 | N21: 010204 | P21: 0102 | R21: 3
A22: 010205 미 장 공 사 | D22: 1 | E22: =공종별내역서!F378 -> 0 | F22: =E22*D22 -> 0 | G22: =공종별내역서!H378 -> 0 | H22: =G22*D22 -> 0 | I22: =공종별내역서!J378 -> 0 | J22: =I22*D22 -> 0 | K22: =E22+G22+I22 -> 0 | L22: =F22+H22+J22 -> 0 | N22: 010205 | P22: 0102 | R22: 3
A23: 010206 창호 및 유리공사 | D23: 1 | E23: =공종별내역서!F403 -> 0 | F23: =E23*D23 -> 0 | G23: =공종별내역서!H403 -> 0 | H23: =G23*D23 -> 0 | I23: =공종별내역서!J403 -> 0 | J23: =I23*D23 -> 0 | K23: =E23+G23+I23 -> 0 | L23: =F23+H23+J23 -> 0 | N23: 010206 | P23: 0102 | R23: 3
A24: 010207 칠 공 사 | D24: 1 | E24: =공종별내역서!F428 -> 0 | F24: =E24*D24 -> 0 | G24: =공종별내역서!H428 -> 0 | H24: =G24*D24 -> 0 | I24: =공종별내역서!J428 -> 0 | J24: =I24*D24 -> 0 | K24: =E24+G24+I24 -> 0 | L24: =F24+H24+J24 -> 0 | N24: 010207 | P24: 0102 | R24: 3
A25: 010208 기 타 공 사 | D25: 1 | E25: =공종별내역서!F453 -> 0 | F25: =E25*D25 -> 0 | G25: =공종별내역서!H453 -> 0 | H25: =G25*D25 -> 0 | I25: =공종별내역서!J453 -> 0 | J25: =I25*D25 -> 0 | K25: =E25+G25+I25 -> 0 | L25: =F25+H25+J25 -> 0 | N25: 010208 | P25: 0102 | R25: 3
A26: 010209 판 넬 공 사 | D26: 1 | E26: =공종별내역서!F478 -> 0 | F26: =E26*D26 -> 0 | G26: =공종별내역서!H478 -> 0 | H26: =G26*D26 -> 0 | I26: =공종별내역서!J478 -> 0 | J26: =I26*D26 -> 0 | K26: =E26+G26+I26 -> 0 | L26: =F26+H26+J26 -> 0 | N26: 010209 | P26: 0102 | R26: 3
A27: 010210 철 거 공 사 | D27: 1 | E27: =공종별내역서!F503 -> 0 | F27: =E27*D27 -> 0 | G27: =공종별내역서!H503 -> 0 | H27: =G27*D27 -> 0 | I27: =공종별내역서!J503 -> 0 | J27: =I27*D27 -> 0 | K27: =E27+G27+I27 -> 0 | L27: =F27+H27+J27 -> 0 | N27: 010210 | P27: 0102 | R27: 3
A28: 010211 작 업 부 산 물 | D28: 1 | E28: =공종별내역서!F528 -> 0 | F28: =E28*D28 -> 0 | G28: =공종별내역서!H528 -> 0 | H28: =G28*D28 -> 0 | I28: =공종별내역서!J528 -> 0 | J28: =I28*D28 -> 0 | K28: =E28+G28+I28 -> 0 | L28: =F28+H28+J28 -> 0 | N28: 010211 | P28: 0102 | R28: 3
A29: 010212 자재대 및 운반비 | D29: 1 | E29: =공종별내역서!F553 -> 0 | F29: =E29*D29 -> 0 | G29: =공종별내역서!H553 -> 0 | H29: =G29*D29 -> 0 | I29: =공종별내역서!J553 -> 0 | J29: =I29*D29 -> 0 | K29: =E29+G29+I29 -> 0 | L29: =F29+H29+J29 -> 0 | N29: 010212 | P29: 0102 | R29: 3
A30: 010213 건설폐기물처리비 | D30: 1 | E30: =공종별내역서!F578 -> 0 | F30: =E30*D30 -> 0 | G30: =공종별내역서!H578 -> 0 | H30: =G30*D30 -> 0 | I30: =공종별내역서!J578 -> 0 | J30: =I30*D30 -> 0 | K30: =E30+G30+I30 -> 0 | L30: =F30+H30+J30 -> 0 | N30: 010213 | Q30: 6 | R30: 3 | T30: =L30*1 -> 0
A31: 0103 고란길 179 고영환 | D31: 1 | E31: =F32+F33+F34+F35+F36+F37+F38+F39 -> 0 | F31: =E31*D31 -> 0 | G31: =H32+H33+H34+H35+H36+H37+H38+H39 -> 0 | H31: =G31*D31 -> 0 | I31: =J32+J33+J34+J35+J36+J37+J38+J39 -> 0 | J31: =I31*D31 -> 0 | K31: =E31+G31+I31 -> 0 | L31: =F31+H31+J31 -> 0 | N31: 0103 | P31: 01 | R31: 2
A32: 010301 가 설 공 사 | D32: 1 | E32: =공종별내역서!F603 -> 0 | F32: =E32*D32 -> 0 | G32: =공종별내역서!H603 -> 0 | H32: =G32*D32 -> 0 | I32: =공종별내역서!J603 -> 0 | J32: =I32*D32 -> 0 | K32: =E32+G32+I32 -> 0 | L32: =F32+H32+J32 -> 0 | N32: 010301 | P32: 0103 | R32: 3
A33: 010302 철 골 공 사 | D33: 1 | E33: =공종별내역서!F628 -> 0 | F33: =E33*D33 -> 0 | G33: =공종별내역서!H628 -> 0 | H33: =G33*D33 -> 0 | I33: =공종별내역서!J628 -> 0 | J33: =I33*D33 -> 0 | K33: =E33+G33+I33 -> 0 | L33: =F33+H33+J33 -> 0 | N33: 010302 | P33: 0103 | R33: 3
A34: 010303 목 공 사 | D34: 1 | E34: =공종별내역서!F653 -> 0 | F34: =E34*D34 -> 0 | G34: =공종별내역서!H653 -> 0 | H34: =G34*D34 -> 0 | I34: =공종별내역서!J653 -> 0 | J34: =I34*D34 -> 0 | K34: =E34+G34+I34 -> 0 | L34: =F34+H34+J34 -> 0 | N34: 010303 | P34: 0103 | R34: 3
A35: 010304 수 장 공 사 | D35: 1 | E35: =공종별내역서!F678 -> 0 | F35: =E35*D35 -> 0 | G35: =공종별내역서!H678 -> 0 | H35: =G35*D35 -> 0 | I35: =공종별내역서!J678 -> 0 | J35: =I35*D35 -> 0 | K35: =E35+G35+I35 -> 0 | L35: =F35+H35+J35 -> 0 | N35: 010304 | P35: 0103 | R35: 3
A36: 010305 창호 및 유리공사 | D36: 1 | E36: =공종별내역서!F703 -> 0 | F36: =E36*D36 -> 0 | G36: =공종별내역서!H703 -> 0 | H36: =G36*D36 -> 0 | I36: =공종별내역서!J703 -> 0 | J36: =I36*D36 -> 0 | K36: =E36+G36+I36 -> 0 | L36: =F36+H36+J36 -> 0 | N36: 010305 | P36: 0103 | R36: 3
A37: 010306 판 넬 공 사 | D37: 1 | E37: =공종별내역서!F728 -> 0 | F37: =E37*D37 -> 0 | G37: =공종별내역서!H728 -> 0 | H37: =G37*D37 -> 0 | I37: =공종별내역서!J728 -> 0 | J37: =I37*D37 -> 0 | K37: =E37+G37+I37 -> 0 | L37: =F37+H37+J37 -> 0 | N37: 010306 | P37: 0103 | R37: 3
A38: 010307 철 거 공 사 | D38: 1 | E38: =공종별내역서!F753 -> 0 | F38: =E38*D38 -> 0 | G38: =공종별내역서!H753 -> 0 | H38: =G38*D38 -> 0 | I38: =공종별내역서!J753 -> 0 | J38: =I38*D38 -> 0 | K38: =E38+G38+I38 -> 0 | L38: =F38+H38+J38 -> 0 | N38: 010307 | P38: 0103 | R38: 3
A39: 010308 자재대 및 운반비 | D39: 1 | E39: =공종별내역서!F778 -> 0 | F39: =E39*D39 -> 0 | G39: =공종별내역서!H778 -> 0 | H39: =G39*D39 -> 0 | I39: =공종별내역서!J778 -> 0 | J39: =I39*D39 -> 0 | K39: =E39+G39+I39 -> 0 | L39: =F39+H39+J39 -> 0 | N39: 010308 | P39: 0103 | R39: 3
A40: 010309 건설폐기물처리비 | D40: 1 | E40: =공종별내역서!F803 -> 0 | F40: =E40*D40 -> 0 | G40: =공종별내역서!H803 -> 0 | H40: =G40*D40 -> 0 | I40: =공종별내역서!J803 -> 0 | J40: =I40*D40 -> 0 | K40: =E40+G40+I40 -> 0 | L40: =F40+H40+J40 -> 0 | N40: 010309 | Q40: 6 | R40: 3 | T40: =L40*1 -> 0
A41: 0104 고란길 192 박금자 | D41: 1 | E41: =F42+F43+F44+F45+F46+F47+F48+F49+F50+F51+F52 -> 0 | F41: =E41*D41 -> 0 | G41: =H42+H43+H44+H45+H46+H47+H48+H49+H50+H51+H52 -> 0 | H41: =G41*D41 -> 0 | I41: =J42+J43+J44+J45+J46+J47+J48+J49+J50+J51+J52 -> 0 | J41: =I41*D41 -> 0 | K41: =E41+G41+I41 -> 0 | L41: =F41+H41+J41 -> 0 | N41: 0104 | P41: 01 | R41: 2
A42: 010401 가 설 공 사 | D42: 1 | E42: =공종별내역서!F828 -> 0 | F42: =E42*D42 -> 0 | G42: =공종별내역서!H828 -> 0 | H42: =G42*D42 -> 0 | I42: =공종별내역서!J828 -> 0 | J42: =I42*D42 -> 0 | K42: =E42+G42+I42 -> 0 | L42: =F42+H42+J42 -> 0 | N42: 010401 | P42: 0104 | R42: 3
A43: 010402 철 골 공 사 | D43: 1 | E43: =공종별내역서!F853 -> 0 | F43: =E43*D43 -> 0 | G43: =공종별내역서!H853 -> 0 | H43: =G43*D43 -> 0 | I43: =공종별내역서!J853 -> 0 | J43: =I43*D43 -> 0 | K43: =E43+G43+I43 -> 0 | L43: =F43+H43+J43 -> 0 | N43: 010402 | P43: 0104 | R43: 3
A44: 010403 타 일 공 사 | D44: 1 | E44: =공종별내역서!F878 -> 0 | F44: =E44*D44 -> 0 | G44: =공종별내역서!H878 -> 0 | H44: =G44*D44 -> 0 | I44: =공종별내역서!J878 -> 0 | J44: =I44*D44 -> 0 | K44: =E44+G44+I44 -> 0 | L44: =F44+H44+J44 -> 0 | N44: 010403 | P44: 0104 | R44: 3
A45: 010404 수 장 공 사 | D45: 1 | E45: =공종별내역서!F903 -> 0 | F45: =E45*D45 -> 0 | G45: =공종별내역서!H903 -> 0 | H45: =G45*D45 -> 0 | I45: =공종별내역서!J903 -> 0 | J45: =I45*D45 -> 0 | K45: =E45+G45+I45 -> 0 | L45: =F45+H45+J45 -> 0 | N45: 010404 | P45: 0104 | R45: 3
A46: 010405 금 속 공 사 | D46: 1 | E46: =공종별내역서!F927 -> 0 | F46: =E46*D46 -> 0 | G46: =공종별내역서!H927 -> 0 | H46: =G46*D46 -> 0 | I46: =공종별내역서!J927 -> 0 | J46: =I46*D46 -> 0 | K46: =E46+G46+I46 -> 0 | L46: =F46+H46+J46 -> 0 | N46: 010405 | P46: 0104 | R46: 3
A47: 010406 창호 및 유리공사 | D47: 1 | E47: =공종별내역서!F952 -> 0 | F47: =E47*D47 -> 0 | G47: =공종별내역서!H952 -> 0 | H47: =G47*D47 -> 0 | I47: =공종별내역서!J952 -> 0 | J47: =I47*D47 -> 0 | K47: =E47+G47+I47 -> 0 | L47: =F47+H47+J47 -> 0 | N47: 010406 | P47: 0104 | R47: 3
A48: 010407 기 타 공 사 | D48: 1 | E48: =공종별내역서!F977 -> 0 | F48: =E48*D48 -> 0 | G48: =공종별내역서!H977 -> 0 | H48: =G48*D48 -> 0 | I48: =공종별내역서!J977 -> 0 | J48: =I48*D48 -> 0 | K48: =E48+G48+I48 -> 0 | L48: =F48+H48+J48 -> 0 | N48: 010407 | P48: 0104 | R48: 3
A49: 010408 판 넬 공 사 | D49: 1 | E49: =공종별내역서!F1002 -> 0 | F49: =E49*D49 -> 0 | G49: =공종별내역서!H1002 -> 0 | H49: =G49*D49 -> 0 | I49: =공종별내역서!J1002 -> 0 | J49: =I49*D49 -> 0 | K49: =E49+G49+I49 -> 0 | L49: =F49+H49+J49 -> 0 | N49: 010408 | P49: 0104 | R49: 3
A50: 010409 철 거 공 사 | D50: 1 | E50: =공종별내역서!F1027 -> 0 | F50: =E50*D50 -> 0 | G50: =공종별내역서!H1027 -> 0 | H50: =G50*D50 -> 0 | I50: =공종별내역서!J1027 -> 0 | J50: =I50*D50 -> 0 | K50: =E50+G50+I50 -> 0 | L50: =F50+H50+J50 -> 0 | N50: 010409 | P50: 0104 | R50: 3
A51: 010410 작 업 부 산 물 | D51: 1 | E51: =공종별내역서!F1052 -> 0 | F51: =E51*D51 -> 0 | G51: =공종별내역서!H1052 -> 0 | H51: =G51*D51 -> 0 | I51: =공종별내역서!J1052 -> 0 | J51: =I51*D51 -> 0 | K51: =E51+G51+I51 -> 0 | L51: =F51+H51+J51 -> 0 | N51: 010410 | P51: 0104 | R51: 3
A52: 010411 자재대 및 운반비 | D52: 1 | E52: =공종별내역서!F1077 -> 0 | F52: =E52*D52 -> 0 | G52: =공종별내역서!H1077 -> 0 | H52: =G52*D52 -> 0 | I52: =공종별내역서!J1077 -> 0 | J52: =I52*D52 -> 0 | K52: =E52+G52+I52 -> 0 | L52: =F52+H52+J52 -> 0 | N52: 010411 | P52: 0104 | R52: 3
A53: 010412 건설폐기물처리비 | D53: 1 | E53: =공종별내역서!F1102 -> 0 | F53: =E53*D53 -> 0 | G53: =공종별내역서!H1102 -> 0 | H53: =G53*D53 -> 0 | I53: =공종별내역서!J1102 -> 0 | J53: =I53*D53 -> 0 | K53: =E53+G53+I53 -> 0 | L53: =F53+H53+J53 -> 0 | N53: 010412 | Q53: 6 | R53: 3 | T53: =L53*1 -> 0
A54: 0105 고란길 199-4 김영지 | D54: 1 | E54: =F55+F56+F57+F58+F59 -> 0 | F54: =E54*D54 -> 0 | G54: =H55+H56+H57+H58+H59 -> 0 | H54: =G54*D54 -> 0 | I54: =J55+J56+J57+J58+J59 -> 0 | J54: =I54*D54 -> 0 | K54: =E54+G54+I54 -> 0 | L54: =F54+H54+J54 -> 0 | N54: 0105 | P54: 01 | R54: 2
A55: 010501 가 설 공 사 | D55: 1 | E55: =공종별내역서!F1127 -> 0 | F55: =E55*D55 -> 0 | G55: =공종별내역서!H1127 -> 0 | H55: =G55*D55 -> 0 | I55: =공종별내역서!J1127 -> 0 | J55: =I55*D55 -> 0 | K55: =E55+G55+I55 -> 0 | L55: =F55+H55+J55 -> 0 | N55: 010501 | P55: 0105 | R55: 3
A56: 010502 창호 및 유리공사 | D56: 1 | E56: =공종별내역서!F1152 -> 0 | F56: =E56*D56 -> 0 | G56: =공종별내역서!H1152 -> 0 | H56: =G56*D56 -> 0 | I56: =공종별내역서!J1152 -> 0 | J56: =I56*D56 -> 0 | K56: =E56+G56+I56 -> 0 | L56: =F56+H56+J56 -> 0 | N56: 010502 | P56: 0105 | R56: 3
A57: 010503 철 거 공 사 | D57: 1 | E57: =공종별내역서!F1177 -> 0 | F57: =E57*D57 -> 0 | G57: =공종별내역서!H1177 -> 0 | H57: =G57*D57 -> 0 | I57: =공종별내역서!J1177 -> 0 | J57: =I57*D57 -> 0 | K57: =E57+G57+I57 -> 0 | L57: =F57+H57+J57 -> 0 | N57: 010503 | P57: 0105 | R57: 3
A58: 010504 작 업 부 산 물 | D58: 1 | E58: =공종별내역서!F1202 -> 0 | F58: =E58*D58 -> 0 | G58: =공종별내역서!H1202 -> 0 | H58: =G58*D58 -> 0 | I58: =공종별내역서!J1202 -> 0 | J58: =I58*D58 -> 0 | K58: =E58+G58+I58 -> 0 | L58: =F58+H58+J58 -> 0 | N58: 010504 | P58: 0105 | R58: 3
A59: 010505 자재대 및 운반비 | D59: 1 | E59: =공종별내역서!F1227 -> 0 | F59: =E59*D59 -> 0 | G59: =공종별내역서!H1227 -> 0 | H59: =G59*D59 -> 0 | I59: =공종별내역서!J1227 -> 0 | J59: =I59*D59 -> 0 | K59: =E59+G59+I59 -> 0 | L59: =F59+H59+J59 -> 0 | N59: 010505 | P59: 0105 | R59: 3
A60: 010506 건설폐기물처리비 | D60: 1 | E60: =공종별내역서!F1252 -> 0 | F60: =E60*D60 -> 0 | G60: =공종별내역서!H1252 -> 0 | H60: =G60*D60 -> 0 | I60: =공종별내역서!J1252 -> 0 | J60: =I60*D60 -> 0 | K60: =E60+G60+I60 -> 0 | L60: =F60+H60+J60 -> 0 | N60: 010506 | Q60: 6 | R60: 3 | T60: =L60*1 -> 0
A76: [ 합 계 ] | F76: =F5 -> 0 | H76: =H5 -> 0 | J76: =J5 -> 0 | L76: =L5 -> 0

Sheet 공종별내역서
A1: [ 도초고란새뜰마을집수리공사 ]
A2: 품 명 | B2: 규 격 | C2: 단위 | D2: 수량 | E2: 재 료 비 | G2: 노 무 비 | I2: 경 비 | K2: 합 계 | M2: 비 고 | N2: 품목코드 | O2: 변수 | P2: 설정 | Q2: 공종코드 | R2: 일위 | S2: 단산 | T2: 자재 | U2: 손료적용 | V2: 손료저장 | W2: 적용율 | X2: JUK1 | Y2: JUK2 | Z2: JUK3 | AA2: JUK4 | AB2: JUK5 | AC2: JUK6 | AD2: JUK7 | AE2: JUK8 | AF2: JUK9 | AG2: JUK10 | AH2: JUK11 | AI2: JUK12 | AJ2: JUK13 | AK2: JUK14 | AL2: JUK15 | AM2: JUK16 | AN2: JUK17 | AO2: JUK18 | AP2: JUK19 | AQ2: JUK20 | AR2: 자재구분 | AS2: 공종구분 | AT2: 공종레벨 | AU2: 공종+자재 | AV2: 고유번호
E3: 단 가 | F3: 금 액 | G3: 단 가 | H3: 금 액 | I3: 단 가 | J3: 금 액 | K3: 단 가 | L3: 금 액
A4: 010101 가 설 공 사 | B4: 고란길 252 환화영 | Q4: 010101
A5: 강관 조립말비계(이동식)설치 및 해체 | B5: 높이 2m, 3개월 | C5: 대 | D5: 1 | N5: 53F923FA25479F30724D51579123FF | Q5: 010101 | R5: T | S5: F | T5: F | AU5: 01010153F923FA25479F30724D51579123FF | AV5: 4
A6: 건축물현장정리 | B6: 개보수, 조적조의 25% | C6: M2 | D6: 17 | N6: 53F923FF2D47EC3C520267FC1D9528 | Q6: 010101 | R6: T | S6: F | T6: F | AU6: 01010153F923FF2D47EC3C520267FC1D9528 | AV6: 5
A7: 집기반출 및 반입 | B7: 가구 및 비품이동 | C7: 인 | D7: 1 | N7: 53F923FF2D47EC3C520267FC1F438C | Q7: 010101 | R7: T | S7: F | T7: F | AU7: 01010153F923FF2D47EC3C520267FC1F438C | AV7: 6
Q8: 010101
Q9: 010101
Q10: 010101
Q11: 010101
Q12: 010101
Q13: 010101
Q14: 010101
Q15: 010101
Q16: 010101
Q17: 010101
Q18: 010101
Q19: 010101
... Q27: 010101
A28: [ 합 계 ] | N28: TOTAL
A29: 010102 철 골 공 사 | B29: 고란길 252 환화영 | Q29: 010102
A30: 경량형강 | B30: 경량형강, 아연도C형강, 75*45*15, t2.3 | C30: TON | D30: 0.06 | N30: 54D4237321499D3ED206CD94D77EB12A661C43 | Q30: 010102 | R30: F | S30: F | T30: T | AU30: 01010254D4237321499D3ED206CD94D77EB12A661C43 | AV30: 8
A31: 경량형강철골조 조립설치 | B31: 비내력식 | C31: TON | D31: 0.059 | N31: 53F963152347D934622A09950F08AD | Q31: 010102 | R31: T | S31: F | T31: F | AU31: 01010253F963152347D934622A09950F08AD | AV31: 9
Q32: 010102
Q33: 010102
Q34: 010102
Q35: 010102
Q36: 010102
Q37: 010102
Q38: 010102
Q39: 010102
Q40: 010102
Q41: 010102
Q42: 010102
Q43: 010102
... Q52: 010102
A53: [ 합 계 ] | N53: TOTAL
A54: 010103 목 공 사 | B54: 고란길 252 환화영 | Q54: 010103
A55: 벽체틀 설치 | B55: 30*30, @450*600 | C55: M2 | D55: 33 | N55: 53F9A3B3244A1738C20B63453C8E4C | Q55: 010103 | R55: T | S55: F | T55: F | AU55: 01010353F9A3B3244A1738C20B63453C8E4C | AV55: 11
A56: 천장몰딩설치(H:45) | B56: MDF*9mm+지정무늬목필름 | C56: M | D56: 16 | N56: 53F9C3FD28464C3EF25B34307468FF | Q56: 010103 | R56: T | S56: F | T56: F | AU56: 01010353F9C3FD28464C3EF25B34307468FF | AV56: 12
Q57: 010103
Q58: 010103
Q59: 010103
Q60: 010103
Q61: 010103
Q62: 010103
Q63: 010103
Q64: 010103
Q65: 010103
Q66: 010103
Q67: 010103
Q68: 010103
... Q77: 010103
A78: [ 합 계 ] | N78: TOTAL
A79: 010104 수 장 공 사 | B79: 고란길 252 환화영 | Q79: 010104
A80: 석고보드 | B80: 석고보드, 평보드, 방수, 9.5*900*1800mm(㎡) | C80: M2 | D80: 68 | N80: 54D42373214F2530A2B8AB5FDC08ED86598913 | Q80: 010104 | R80: F | S80: F | T80: T | AU80: 01010454D42373214F2530A2B8AB5FDC08ED86598913 | AV80: 14
A81: 석고보드 | B81: 석고보드, 평보드, 방수, 12.5*900*1800mm(㎡) | C81: M2 | D81: 16 | N81: 54D42373214F2530A2B8AB5FDC08ED86598E94 | Q81: 010104 | R81: F | S81: F | T81: T | AU81: 01010454D42373214F2530A2B8AB5FDC08ED86598E94 | AV81: 15
A82: 비닐시트 깔기 - 부분접합 접합 | B82: 비닐시트, 2.3mm*1.83m, 마제스타 | C82: M2 | D82: 15 | N82: 53F9C3FF244EB93AB2A0346B8E1CAA | Q82: 010104 | R82: T | S82: F | T82: F | AU82: 01010453F9C3FF244EB93AB2A0346B8E1CAA | AV82: 16
A83: 도배 - 합판·석고보드면 | B83: 벽, 친환경 | C83: M2 | D83: 31 | N83: 53F9C3FC2F4A783902538D20C30913 | Q83: 010104 | R83: T | S83: F | T83: F | AU83: 01010453F9C3FC2F4A783902538D20C30913 | AV83: 17
A84: 도배바름(합판·석고보드면) | B84: 천장, 비닐벽지, 실크형, A급 | C84: M2 | D84: 15 | N84: 53F9C3FC2F4A783962FB8A2A241AE3 | Q84: 010104 | R84: T | S84: F | T84: F | AU84: 01010453F9C3FC2F4A783962FB8A2A241AE3 | AV84: 18
A85: 석고판(나사고정) 설치 | B85: 벽, 2겹 붙임(방수) | C85: M2 | D85: 33 | N85: 53F9C3FD2840253172329FF850290A | Q85: 010104 | R85: T | S85: F | T85: F | AU85: 01010453F9C3FD2840253172329FF850290A | AV85: 19
A86: 석고판(나사고정) 설치 - 바탕용 | B86: 천장, 1겹 붙임(방수) | C86: M2 | D86: 15 | N86: 53F9C3FD28402531427ED8EBDB9DC6 | Q86: 010104 | R86: T | S86: F | T86: F | AU86: 01010453F9C3FD28402531427ED8EBDB9DC6 | AV86: 20
A87: PF보드(격자넣기 - 벽) | B87: PF보드, 30mm | C87: M2 | D87: 33 | N87: 53F9C3FA2C4C7F3C62219020F6F671 | Q87: 010104 | R87: T | S87: F | T87: F | AU87: 01010453F9C3FA2C4C7F3C62219020F6F671 | AV87: 21
A88: 열반사단열재 설치 | B88: 벽, 접착,10T | C88: M2 | D88: 33 | N88: 53F9C3F92246DA3E920E3417742605 | Q88: 010104 | R88: T | S88: F | T88: F | AU88: 01010453F9C3F92246DA3E920E3417742605 | AV88: 22
Q89: 010104
Q90: 010104
Q91: 010104
Q92: 010104
Q93: 010104
Q94: 010104
Q95: 010104
Q96: 010104
Q97: 010104
Q98: 010104
Q99: 010104
Q100: 010104
... Q102: 010104
A103: [ 합 계 ] | N103: TOTAL
A104: 010105 창호 및 유리공사 | B104: 고란길 252 환화영 | Q104: 010105
A105: 도어클로저 | B105: 도어클로저, K-830, KS3호, 고급형, 40∼65kg | C105: 조 | D105: 1 | N105: 54D42373214E1F321281AE0BC42E59440D13C8 | Q105: 010105 | R105: F | S105: F | T105: T | AU105: 01010554D42373214E1F321281AE0BC42E59440D13C8 | AV105: 24
A106: PVC방충망(백색) | C106: M2 | D106: 1 | N106: 54D42373214E1F3222AFE69BE4A5202863C371 | Q106: 010105 | R106: F | S106: F | T106: T | AU106: 01010554D42373214E1F3222AFE69BE4A5202863C371 | AV106: 25
A107: 그린로이복층유리 22mm(5+12A+5) | B107: 그린+아르곤가스+투명로이 | C107: M2 | D107: 5 | N107: 54D42373214E1F3232441428AD83FB5D56D257 | Q107: 010105 | R107: F | S107: F | T107: T | AU107: 01010554D42373214E1F3232441428AD83FB5D56D257 | AV107: 26
A108: 도어힌지 | B108: 도어힌지, 황동, 베어링2개, 101.6*2.7mm | C108: 개 | D108: 6 | N108: 54D433182D43013E626028CF3515B44BB6D1A7 | Q108: 010105 | R108: F | S108: F | T108: T | AU108: 01010554D433182D43013E626028CF3515B44BB6D1A7 | AV108: 27
A109: 피벗힌지 | B109: 피벗힌지, 80kg이하, K1200 | C109: 조 | D109: 1 | N109: 54D433182D43013E626028CF3515B29C38EDD6 | Q109: 010105 | R109: F | S109: F | T109: T | AU109: 01010554D433182D43013E626028CF3515B29C38EDD6 | AV109: 28
A110: 도어핸들 | B110: 도어핸들, LEVER 9000 황동, (현관, 방화문) | C110: 조 | D110: 1 | N110: 54D433182D43013EA2DB32B454DB53AD27B829 | Q110: 010105 | R110: F | S110: F | T110: T | AU110: 01010554D433182D43013EA2DB32B454DB53AD27B829 | AV110: 29
A111: 도어핸들 | B111: 도어핸들, LEVER, (주거용-침실) | C111: 조 | D111: 2 | N111: 54D433182D43013EA2DB32B454DB53AD27B824 | Q111: 010105 | R111: F | S111: F | T111: T | AU111: 01010554D433182D43013EA2DB32B454DB53AD27B824 | AV111: 30
A112: 유리주위 코킹 | B112: 5*5, 실리콘 | C112: M | D112: 44 | N112: 53F9B3912A44443D32AD67E49F8632 | Q112: 010105 | R112: T | S112: F | T112: F | AU112: 01010553F9B3912A44443D32AD67E49F8632 | AV112: 31
A113: 수밀코킹(실리콘) | B113: 삼각, 10mm, 창호주위 | C113: M | D113: 23 | N113: 53F9B3912A45693CD267228385EBAC | Q113: 010105 | R113: T | S113: F | T113: F | AU113: 01010553F9B3912A45693CD267228385EBAC | AV113: 32
A114: PW1/고란길 252 환화영 | B114: 1.500 x 1.200 = 1.800 | C114: EA | D114: 1 | N114: 53F9F3332D461B35F2DE55F4889F30 | Q114: 010105 | R114: T | S114: F | T114: F | AU114: 01010553F9F3332D461B35F2DE55F4889F30 | AV114: 417
A115: PW2/고란길 252 환화영 | B115: 1.000 x 1.000 = 1.000 | C115: EA | D115: 1 | N115: 53F9F3332D461B35F2DE55F4889F32 | Q115: 010105 | R115: T | S115: F | T115: F | AU115: 01010553F9F3332D461B35F2DE55F4889F32 | AV115: 34
A116: SD1/고란길 252 환화영/단열문 | B116: 0.900 x 1.800 = 1.620 | C116: EA | D116: 1 | N116: 53F9F3332D461B35F2DE55F4889F34 | Q116: 010105 | R116: T | S116: F | T116: F | AU116: 01010553F9F3332D461B35F2DE55F4889F34 | AV116: 35
A117: WD1/고란길 252 환화영 | B117: 0.800 x 1.800 = 1.440 | C117: EA | D117: 1 | N117: 53F9F3332D461B35F2DE55F4889F36 | Q117: 010105 | R117: T | S117: F | T117: F | AU117: 01010553F9F3332D461B35F2DE55F4889F36 | AV117: 36
A118: WD2/고란길 252 환화영 | B118: 0.700 x 1.600 = 1.120 | C118: EA | D118: 1 | N118: 53F9F3332D461B35F2DE55F4889F38 | Q118: 010105 | R118: T | S118: F | T118: F | AU118: 01010553F9F3332D461B35F2DE55F4889F38 | AV118: 37
... A121: 도어체크 설치 | B121: 재료비 별도 | C121: 개소 | D121: 1 | N121: 53F9F3342F4C183AE27068F301D94D | Q121: 010105 | R121: T | S121: F | T121: F | AU121: 01010553F9F3342F4C183AE27068F301D94D | AV121: 40
A122: 창호주위 모르타르 충전 | C122: M | D122: 23 | N122: 53F9F3342F494A35829ECC709C79F9 | Q122: 010105 | R122: T | S122: F | T122: F | AU122: 01010553F9F3342F494A35829ECC709C79F9 | AV122: 41
A123: 창호유리설치 / 복층유리 | B123: 유리두께 22mm 이하 | C123: M2 | D123: 5 | N123: 53F9F33A20463230F20CE147F6AB23 | Q123: 010105 | R123: T | S123: F | T123: F | AU123: 01010553F9F33A20463230F20CE147F6AB23 | AV123: 42
Q124: 010105
Q125: 010105
Q126: 010105
...
