Workbook

Sheet 제출요령
A1: (설계 등(건축설계 제외) 사업수행능력평가서 제출요령)
A3: < 숙 지 사 항 >
A4: PQ참여자는 아래 1~14항에 해당하는 시트(sheet)를 모두 작성하여 색지 등으로 구분되게 출력한 출력물(1~14)과 첨부물(1-1)을 1부씩을 다음의 순서대로 좌철(짧은면,1권)하여 제출하여 주시기 바랍니다. ※ 가격입찰 후에 낙찰예정자만, 2~14항에 해당하는 증빙자료를 제출하시면 됩니다. 단, PQ평가서를 온라인으로 제출하는 경우에는 아래 1~14항에 해당하는 시트(sheet)를 모두 작성하여 본 엑셀파일(1~14)과 PDF파일(1-1)을 온라인으로 제출하여야 합니다.
A5: 1. 평가서 표지
A6: 1-1. 참여업체는 PQ심사신청자격 증빙자료를 반드시 제출하여야 합니다. * PQ심사신청자격은 해당 입찰공고서를 참고하시기 바랍니다.
A7: 2. 자기평가서
A8: 3. 공동수급협정체결현황
A9: 4. 참여기술인 배치표
A10: 5. 경력사항(참여기술인)
A11: 6. 교육훈련
A12: 7. 전차실적
A13: 8. 유사용역수행실적
... A22: * 증빙자료 사본 제출시, 사실과 상위없음 명시하고 사용인감 날인바람

Sheet 1.평가서표지
B2: 접수번호
B4: 설계등 용역사업자 사업수행능력 평가서 (용역참여 신청서)
B6: 수 신 : 조달청장
B7: 참 조 : 건설기술계약과장
B8: 제 목 : 설계등 용역사업자 사업수행능력평가서 제출
B10: 아래 용역에 대한 "설계등 용역사업자 수행능력 평가서"를 붙임과 같이 제출합니다.
B12: ======= 아 래 =======
B14: 관 리 번 호 : | C14: R26DC00000000 - 00
B15: 용 역 명 : | C15: 예시) 000 도로정비 기본계획수립 용역
B16: 수 요 기 관 : | C16: 0000000000기관
B17: 입 찰 공 고 일 : | C17: 46023
B18: 사업자등록번호 : | C18: 000-00-00000
B19: 평 가 서 마 감 : | C19: 46042
B20: 입 찰 일 시 : | C20: 46052 | I20: 접 수 인
B21: 붙 임 : | C21: 사업수행능력평가서 1부
B25: 업 체 명 : | C25: 주식회사 0000000
B26: 대 표 자 : | C26: 김조달 | D26: (인)
B27: 주 소 :
B28: 전화 번호 :
B29: FAX번호 :
B30: 평가서 작성자 : | C30: ㅇㅇㅇ | G30: 연락처: (사무실) | I30: 02-0000-0000
H31: (핸드폰) | I31: 010-0000-0000
G32: 제출일자 : | I32: 46054

Sheet 2.자기평가서(용역비5억이상)
A1: 설계 등 용역 자기평가기술서
A3: 1. 관 리 번 호 : | E3: ='1.평가서표지'!C14 -> R26DC00000000 - 00
A4: 2. 용 역 명 : | E4: ='1.평가서표지'!C15 -> 예시) 000 도로정비 기본계획수립 용역
A5: 3. 수 요 기 관 : | E5: ='1.평가서표지'!C16 -> 0000000000기관
A6: 4. 사업자등록번호 : | E6: ='1.평가서표지'!C18 -> 000-00-00000
A7: 5. 평가서 작성자 : | E7: ='1.평가서표지'!C30 -> ㅇㅇㅇ | J7: ='1.평가서표지'!G30 -> 연락처: (사무실) | M7: ='1.평가서표지'!I30 -> 02-0000-0000 | P7: ='1.평가서표지'!H31 -> (핸드폰) | Q7: ='1.평가서표지'!I31 -> 010-0000-0000
A9: 참여기술인 [50] | P9: 유사용역실적 [15] | R9: 신용도 [10] | U9: 기술개발 투자실적 [15] | X9: 업무 중첩도[10] | Y9: 가점 | Z9: 총점 [100]
A10: 회사명 | B10: 구분 | C10: 이름 | D10: 분야 | E10: 등급 | F10: 점수 | G10: 건설업 경 력 | H10: 점수 | I10: 유사 경력 | J10: 점수 | K10: 기술능력 | L10: 업무관리능력 | M10: 교육(1) | N10: 전차 (1) | O10: 합계 | P10: 금액(백만원) | Q10: 점수(15) | R10: 업무정지(7) | S10: 재정상태 (3) | T10: 벌점 | U10: 개발 실적(2) | V10: 투자 실적(10) | W10: 활용 실적(3) | Y10: 건설 기술인신규 고용률
A11: ='1.평가서표지'!C25 -> 주식회사 0000000 | B11: 대표자 | C11: ='1.평가서표지'!C26 -> 김조달 | F11: =F12+(F13+F14+F15+F16)/COUNTA(F13:F16)+(F17+F18+F19+F20)/COUNTA(F17:F20) -> 12 | H11: =H12+(H13+H14+H15+H16)/COUNT(H13:H16)+(H17+H18+H19+H20)/COUNTA(H17:H20) -> 16 | J11: =J12+(J13+J14+J15+J16)/COUNTA(J13:J16)+(J17+J18+J19+J20)/COUNTA(J17:J20) -> 18 | K11: =K12 -> 1 | L11: =L12 -> 1 | M11: 1 | N11: ='7.전차실적'!L12 -> 0.03 | O11: =F11+H11+J11+K11+L11+M11+N11 -> 49.03 | P11: ='8.유사용역수행실적'!E32 -> 0 | Q11: 15 | R11: =7-'9.업무정지'!H22 -> 7 | S11: ='11. 재정상태건실도,투자실적'!F6 -> 3 | T11: =-'10.벌점'!F22 -> 0 | U11: ='12. 건설기술개발실적'!L20 -> 2 | V11: ='11. 재정상태건실도,투자실적'!E14 -> 0 | W11: ='13. 활용실적'!H20 -> 1.036 | X11: ='14.업무중첩도'!I27 -> 10 | Y11: ='15.건설기술인신규고용률'!P5 -> 0.4 | Z11: =O11+Q11+R11+S11-T11+U11+V11+W11+X11+Y11 -> 87.466
B12: 책임 기술 | C12: ='4.참여기술인배치표'!D7 -> 사책 | D12: ='4.참여기술인배치표'!E7 -> 도로및공항 | E12: ='4.참여기술인배치표'!F7 -> 특급 | F12: =IF(E12="특급",4,IF(E12="고급",3.5,IF(E12="중급",3,2.5))) -> 4 | G12: ='4.참여기술인배치표'!I7 -> 32.876712 | H12: =IF(G12>=15,4,IF(G12>=10,3.6,IF(G12>=6,3.2,IF(G12>=3,2.8,2.4)))) -> 4 | I12: ='4.참여기술인배치표'!K7 -> 23.334247 | J12: =IF(I12>=15,5,IF(I12>=10,4.5,IF(I12>=6,4,IF(I12>=3,3.5,3)))) -> 5 | K12: 1 | L12: 1 | M12: ='6.교육훈련'!G26 -> 1 | N12: ='7.전차실적'!L12 -> 0.03 | O12: =F12+H12+J12+K12+L12 -> 15
B13: 분야 책임 | C13: ='4.참여기술인배치표'!D8 -> 분책1 | D13: ='4.참여기술인배치표'!E8 -> 토질·지질 | E13: ='4.참여기술인배치표'!F8 -> 특급 | F13: =IF(E13="특급",4,IF(E13="고급",4,IF(E13="중급",3.6,3.2))) -> 4 | G13: ='4.참여기술인배치표'!I8 -> 32.876712 | H13: =IF(G13>=10,7,IF(G13>=8,6.3,IF(G13>=6,5.6,IF(G13>=4,4.9,4.2)))) -> 7 | I13: ='4.참여기술인배치표'!K8 -> 23.334247 | J13: =IF(I13>=10,8,IF(I13>=8,7.2,IF(I13>=6,6.4,IF(I13>=4,5.6,4.8)))) -> 8 | O13: =F13+H13+J13 -> 19
C14: ='4.참여기술인배치표'!D9 -> 분책2 | D14: ='4.참여기술인배치표'!E9 -> 도시계획 | E14: ='4.참여기술인배치표'!F9 -> 특급 | F14: =IF(E14="특급",4,IF(E14="고급",4,IF(E14="중급",3.6,3.2))) -> 4 | G14: ='4.참여기술인배치표'!I9 -> 32.876712 | H14: =IF(G14>=10,7,IF(G14>=8,6.3,IF(G14>=6,5.6,IF(G14>=4,4.9,4.2)))) -> 7 | I14: ='4.참여기술인배치표'!K9 -> 23.334247 | J14: =IF(I14>=10,8,IF(I14>=8,7.2,IF(I14>=6,6.4,IF(I14>=4,5.6,4.8)))) -> 8 | O14: =F14+H14+J14 -> 19
C15: ='4.참여기술인배치표'!D9 -> 분책2 | D15: ='4.참여기술인배치표'!E10 -> 교통 | E15: ='4.참여기술인배치표'!F10 -> 특급 | F15: =IF(E15="특급",4,IF(E15="고급",4,IF(E15="중급",3.6,3.2))) -> 4 | G15: ='4.참여기술인배치표'!I10 -> 32.876712 | H15: =IF(G15>=10,7,IF(G15>=8,6.3,IF(G15>=6,5.6,IF(G15>=4,4.9,4.2)))) -> 7 | I15: ='4.참여기술인배치표'!K10 -> 23.334247 | J15: =IF(I15>=10,8,IF(I15>=8,7.2,IF(I15>=6,6.4,IF(I15>=4,5.6,4.8)))) -> 8 | O15: =F15+H15+J15 -> 19
C16: ='4.참여기술인배치표'!D11 -> 분책4 | D16: ='4.참여기술인배치표'!E11 -> 조경 | E16: ='4.참여기술인배치표'!F11 -> 특급 | F16: =IF(E16="특급",4,IF(E16="고급",4,IF(E16="중급",3.6,3.2))) -> 4 | G16: ='4.참여기술인배치표'!I11 -> 32.876712 | H16: =IF(G16>=10,7,IF(G16>=8,6.3,IF(G16>=6,5.6,IF(G16>=4,4.9,4.2)))) -> 7 | I16: ='4.참여기술인배치표'!K11 -> 23.334247 | J16: =IF(I16>=10,8,IF(I16>=8,7.2,IF(I16>=6,6.4,IF(I16>=4,5.6,4.8)))) -> 8 | O16: =F16+H16+J16 -> 19
B17: 분야 참여 | C17: 분참1 | D17: ='4.참여기술인배치표'!E12 -> 토질·지질 | E17: ='4.참여기술인배치표'!F12 -> 고급 | F17: =IF(E17="특급",4,IF(E17="고급",4,IF(E17="중급",4,3.6))) -> 4 | G17: ='4.참여기술인배치표'!I12 -> 32.876712 | H17: =IF(G17>=5,5,IF(G17>=4,4.5,IF(G17>=3,4,IF(G17>=2,3.5,3)))) -> 5 | I17: ='4.참여기술인배치표'!K12 -> 23.334247 | J17: =IF(I17>=5,5,IF(I17>=4,4.5,IF(I17>=3,4,IF(I17>=2,3.5,3)))) -> 5 | O17: =F17+H17+J17 -> 14
C18: 분참2 | D18: ='4.참여기술인배치표'!E13 -> 도시계획 | E18: ='4.참여기술인배치표'!F13 -> 고급 | F18: =IF(E18="특급",4,IF(E18="고급",4,IF(E18="중급",4,3.6))) -> 4 | G18: ='4.참여기술인배치표'!I13 -> 32.876712 | H18: =IF(G18>=5,5,IF(G18>=4,4.5,IF(G18>=3,4,IF(G18>=2,3.5,3)))) -> 5 | I18: ='4.참여기술인배치표'!K13 -> 23.334247 | J18: =IF(I18>=5,5,IF(I18>=4,4.5,IF(I18>=3,4,IF(I18>=2,3.5,3)))) -> 5 | O18: =F18+H18+J18 -> 14
C19: 분참3 | D19: ='4.참여기술인배치표'!E14 -> 교통 | E19: ='4.참여기술인배치표'!F14 -> 고급 | F19: =IF(E19="특급",4,IF(E19="고급",4,IF(E19="중급",4,3.6))) -> 4 | G19: ='4.참여기술인배치표'!I14 -> 32.876712 | H19: =IF(G19>=5,5,IF(G19>=4,4.5,IF(G19>=3,4,IF(G19>=2,3.5,3)))) -> 5 | I19: ='4.참여기술인배치표'!K14 -> 23.334247 | J19: =IF(I19>=5,5,IF(I19>=4,4.5,IF(I19>=3,4,IF(I19>=2,3.5,3)))) -> 5 | O19: =F19+H19+J19 -> 14
C20: 분참4 | D20: ='4.참여기술인배치표'!E15 -> 조경 | E20: ='4.참여기술인배치표'!F15 -> 고급 | F20: =IF(E20="특급",4,IF(E20="고급",4,IF(E20="중급",4,3.6))) -> 4 | G20: ='4.참여기술인배치표'!I15 -> 32.876712 | H20: =IF(G20>=5,5,IF(G20>=4,4.5,IF(G20>=3,4,IF(G20>=2,3.5,3)))) -> 5 | I20: ='4.참여기술인배치표'!K15 -> 23.334247 | J20: =IF(I20>=5,5,IF(I20>=4,4.5,IF(I20>=3,4,IF(I20>=2,3.5,3)))) -> 5 | O20: =F20+H20+J20 -> 14
A22: * 기술능력및 업무관리능력은 수요기관에서 평가하지 않을 시 배점한도를 적용합니다.

Sheet 2.자기평가서 (용역비5억미만)
A1: 설계 등 용역 자기평가기술서
A3: 1. 관 리 번 호 : | E3: ='1.평가서표지'!C14 -> R26DC00000000 - 00
A4: 2. 용 역 명 : | E4: ='1.평가서표지'!C15 -> 예시) 000 도로정비 기본계획수립 용역
A5: 3. 수 요 기 관 : | E5: ='1.평가서표지'!C16 -> 0000000000기관
A6: 4. 사업자등록번호 : | E6: ='1.평가서표지'!C18 -> 000-00-00000
A7: 5. 평가서 작성자 : | E7: ='1.평가서표지'!C30 -> ㅇㅇㅇ | J7: ='1.평가서표지'!G30 -> 연락처: (사무실) | K7: ='1.평가서표지'!I30 -> 02-0000-0000 | N7: ='1.평가서표지'!H31 -> (핸드폰) | O7: ='1.평가서표지'!I31 -> 010-0000-0000
A9: 참여기술자 [50] | N9: 유사용역실적 [15] | P9: 신용도 [10] | S9: 기술개발 투자실적 [15] | V9: 업무 중첩도[10] | W9: 가점 | X9: 총점 [100]
A10: 회사명 | B10: 구분 | C10: 이름 | D10: 분야 | E10: 등급 | F10: 점수 | G10: 건설업 경 력 | H10: 점수 | I10: 유사 경력 | J10: 점수 | K10: 교육(1) | L10: 전차 (1) | M10: 합계 | N10: 금액(백만원) | O10: 점수(15) | P10: 업무정지(7) | Q10: 재정상태 (3) | R10: 벌점 | S10: 개발 실적(2) | T10: 투자 실적(10) | U10: 활용 실적(3) | W10: 건설기술인신규고용률
A11: ='1.평가서표지'!C25 -> 주식회사 0000000 | B11: 대표자 | C11: ='1.평가서표지'!C26 -> 김조달 | F11: =F12+(F13+F14+F15+F16)/COUNTA(F13:F16)+(F17+F18+F19+F20)/COUNTA(F17:F20) -> 12 | H11: =H12+(H13+H14+H15+H16)/COUNT(H13:H16)+(H17+H18+H19+H20)/COUNTA(H17:H20) -> 17 | J11: =J12+(J13+J14+J15+J16)/COUNTA(J13:J16)+(J17+J18+J19+J20)/COUNTA(J17:J20) -> 19 | K11: =K12 -> 1 | L11: =L12 -> 0.03 | M11: =F11+H11+J11+K11+L11 -> 49.03 | N11: ='8.유사용역수행실적'!E32 -> 0 | O11: 15 | P11: =7-'9.업무정지'!H22 -> 7 | Q11: ='11. 재정상태건실도,투자실적'!F6 -> 3 | R11: =-'10.벌점'!F22 -> 0 | S11: ='12. 건설기술개발실적'!L20 -> 2 | T11: ='11. 재정상태건실도,투자실적'!E14 -> 0 | U11: ='13. 활용실적'!H20 -> 1.036 | V11: ='14.업무중첩도'!I27 -> 10 | W11: ='15.건설기술인신규고용률'!P5 -> 0.4 | X11: =M11+O11+P11+Q11-R11+S11+T11+U11+V11+W11 -> 87.466
B12: 책임 기술 | C12: ='4.참여기술인배치표'!D7 -> 사책 | D12: ='4.참여기술인배치표'!E7 -> 도로및공항 | E12: ='4.참여기술인배치표'!F7 -> 특급 | F12: =IF(E12="특급",4,IF(E12="고급",3.5,IF(E12="중급",3,2.5))) -> 4 | G12: ='4.참여기술인배치표'!I7 -> 32.876712 | H12: =IF(G12>=15,5,IF(G12>=10,4.5,IF(G12>=6,4,IF(G12>=3,3.5,3)))) -> 5 | I12: ='4.참여기술인배치표'!K7 -> 23.334247 | J12: =IF(I12>=15,6,IF(I12>=10,5.4,IF(I12>=6,4.8,IF(I12>=3,4.2,3.6)))) -> 6 | K12: ='6.교육훈련'!G26 -> 1 | L12: ='7.전차실적'!L12 -> 0.03 | M12: =F12+H12+J12 -> 15
B13: 분야 책임 | C13: ='4.참여기술인배치표'!D8 -> 분책1 | D13: ='4.참여기술인배치표'!E8 -> 토질·지질 | E13: ='4.참여기술인배치표'!F8 -> 특급 | F13: =IF(E13="특급",4,IF(E13="고급",4,IF(E13="중급",3.6,3.2))) -> 4 | G13: ='4.참여기술인배치표'!I8 -> 32.876712 | H13: =IF(G13>=10,7,IF(G13>=8,6.3,IF(G13>=6,5.6,IF(G13>=4,4.9,4.2)))) -> 7 | I13: ='4.참여기술인배치표'!K8 -> 23.334247 | J13: =IF(I13>=10,8,IF(I13>=8,7.2,IF(I13>=6,6.4,IF(I13>=4,5.6,4.8)))) -> 8 | M13: =F13+H13+J13 -> 19
C14: ='4.참여기술인배치표'!D9 -> 분책2 | D14: ='4.참여기술인배치표'!E9 -> 도시계획 | E14: ='4.참여기술인배치표'!F9 -> 특급 | F14: =IF(E14="특급",4,IF(E14="고급",4,IF(E14="중급",3.6,3.2))) -> 4 | G14: ='4.참여기술인배치표'!I9 -> 32.876712 | H14: =IF(G14>=10,7,IF(G14>=8,6.3,IF(G14>=6,5.6,IF(G14>=4,4.9,4.2)))) -> 7 | I14: ='4.참여기술인배치표'!K9 -> 23.334247 | J14: =IF(I14>=10,8,IF(I14>=8,7.2,IF(I14>=6,6.4,IF(I14>=4,5.6,4.8)))) -> 8 | M14: =F14+H14+J14 -> 19
C15: ='4.참여기술인배치표'!D9 -> 분책2 | D15: ='4.참여기술인배치표'!E10 -> 교통 | E15: ='4.참여기술인배치표'!F10 -> 특급 | F15: =IF(E15="특급",4,IF(E15="고급",4,IF(E15="중급",3.6,3.2))) -> 4 | G15: ='4.참여기술인배치표'!I10 -> 32.876712 | H15: =IF(G15>=10,7,IF(G15>=8,6.3,IF(G15>=6,5.6,IF(G15>=4,4.9,4.2)))) -> 7 | I15: ='4.참여기술인배치표'!K10 -> 23.334247 | J15: =IF(I15>=10,8,IF(I15>=8,7.2,IF(I15>=6,6.4,IF(I15>=4,5.6,4.8)))) -> 8 | M15: =F15+H15+J15 -> 19
C16: ='4.참여기술인배치표'!D11 -> 분책4 | D16: ='4.참여기술인배치표'!E11 -> 조경 | E16: ='4.참여기술인배치표'!F11 -> 특급 | F16: =IF(E16="특급",4,IF(E16="고급",4,IF(E16="중급",3.6,3.2))) -> 4 | G16: ='4.참여기술인배치표'!I11 -> 32.876712 | H16: =IF(G16>=10,7,IF(G16>=8,6.3,IF(G16>=6,5.6,IF(G16>=4,4.9,4.2)))) -> 7 | I16: ='4.참여기술인배치표'!K11 -> 23.334247 | J16: =IF(I16>=10,8,IF(I16>=8,7.2,IF(I16>=6,6.4,IF(I16>=4,5.6,4.8)))) -> 8 | M16: =F16+H16+J16 -> 19
B17: 분야 참여 | C17: 분참1 | D17: ='4.참여기술인배치표'!E12 -> 토질·지질 | E17: ='4.참여기술인배치표'!F12 -> 고급 | F17: =IF(E17="특급",4,IF(E17="고급",4,IF(E17="중급",4,3.6))) -> 4 | G17: ='4.참여기술인배치표'!I12 -> 32.876712 | H17: =IF(G17>=5,5,IF(G17>=4,4.5,IF(G17>=3,4,IF(G17>=2,3.5,3)))) -> 5 | I17: ='4.참여기술인배치표'!K12 -> 23.334247 | J17: =IF(I17>=5,5,IF(I17>=4,4.5,IF(I17>=3,4,IF(I17>=2,3.5,3)))) -> 5 | M17: =F17+H17+J17 -> 14
C18: 분참2 | D18: ='4.참여기술인배치표'!E13 -> 도시계획 | E18: ='4.참여기술인배치표'!F13 -> 고급 | F18: =IF(E18="특급",4,IF(E18="고급",4,IF(E18="중급",4,3.6))) -> 4 | G18: ='4.참여기술인배치표'!I13 -> 32.876712 | H18: =IF(G18>=5,5,IF(G18>=4,4.5,IF(G18>=3,4,IF(G18>=2,3.5,3)))) -> 5 | I18: ='4.참여기술인배치표'!K13 -> 23.334247 | J18: =IF(I18>=5,5,IF(I18>=4,4.5,IF(I18>=3,4,IF(I18>=2,3.5,3)))) -> 5 | M18: =F18+H18+J18 -> 14
C19: 분참3 | D19: ='4.참여기술인배치표'!E14 -> 교통 | E19: ='4.참여기술인배치표'!F14 -> 고급 | F19: =IF(E19="특급",4,IF(E19="고급",4,IF(E19="중급",4,3.6))) -> 4 | G19: ='4.참여기술인배치표'!I14 -> 32.876712 | H19: =IF(G19>=5,5,IF(G19>=4,4.5,IF(G19>=3,4,IF(G19>=2,3.5,3)))) -> 5 | I19: ='4.참여기술인배치표'!K14 -> 23.334247 | J19: =IF(I19>=5,5,IF(I19>=4,4.5,IF(I19>=3,4,IF(I19>=2,3.5,3)))) -> 5 | M19: =F19+H19+J19 -> 14
C20: 분참4 | D20: ='4.참여기술인배치표'!E15 -> 조경 | E20: ='4.참여기술인배치표'!F15 -> 고급 | F20: =IF(E20="특급",4,IF(E20="고급",4,IF(E20="중급",4,3.6))) -> 4 | G20: ='4.참여기술인배치표'!I15 -> 32.876712 | H20: =IF(G20>=5,5,IF(G20>=4,4.5,IF(G20>=3,4,IF(G20>=2,3.5,3)))) -> 5 | I20: ='4.참여기술인배치표'!K15 -> 23.334247 | J20: =IF(I20>=5,5,IF(I20>=4,4.5,IF(I20>=3,4,IF(I20>=2,3.5,3)))) -> 5 | M20: =F20+H20+J20 -> 14

Sheet 2.자기평가서 (안전진단등 용역)
A1: 안전진단 등 용역 자기평가기술서
A3: 1. 관 리 번 호 : | E3: ='1.평가서표지'!C14 -> R26DC00000000 - 00
A4: 2. 용 역 명 : | E4: ='1.평가서표지'!C15 -> 예시) 000 도로정비 기본계획수립 용역
A5: 3. 수 요 기 관 : | E5: ='1.평가서표지'!C16 -> 0000000000기관
A6: 4. 사업자등록번호 : | E6: ='1.평가서표지'!C18 -> 000-00-00000
A7: 5. 평가서 작성자 : | E7: ='1.평가서표지'!C30 -> ㅇㅇㅇ | J7: ='1.평가서표지'!G30 -> 연락처: (사무실) | K7: ='1.평가서표지'!I30 -> 02-0000-0000 | N7: ='1.평가서표지'!H31 -> (핸드폰) | O7: ='1.평가서표지'!I31 -> 010-0000-0000
A9: 참여기술자 [50] | N9: 유사용역실적 [15] | P9: 신용도 [10] | S9: 기술개발 투자실적 [15] | V9: 업무 중첩도[10] | W9: 가점 | X9: 총점 [100]
A10: 회사명 | B10: 구분 | C10: 이름 | D10: 분야 | E10: 등급 | F10: 점수 | G10: 건설업 경 력 | H10: 점수 | I10: 유사 경력 | J10: 점수 | K10: 교육(1) | L10: 전차 (1) | M10: 합계 | N10: 금액(백만원) | O10: 점수(15) | P10: 업무정지(7) | Q10: 재정상태 (3) | R10: 벌점 | S10: 개발 실적(2) | T10: 투자 실적(10) | U10: 활용 실적(3) | W10: 청년 기술인 참여
A11: ='1.평가서표지'!C25 -> 주식회사 0000000 | B11: 대표자 | C11: ='1.평가서표지'!C26 -> 김조달 | F11: =F12+(F13+F14+F15+F16)/COUNTA(F13:F16)+(F17+F18+F19+F20)/COUNTA(F17:F20) -> 12 | H11: =H12+(H13+H14+H15+H16)/COUNT(H13:H16)+(H17+H18+H19+H20)/COUNTA(H17:H20) -> 17 | J11: =J12+(J13+J14+J15+J16)/COUNTA(J13:J16)+(J17+J18+J19+J20)/COUNTA(J17:J20) -> 19 | K11: =K12 -> 1 | L11: 1 | M11: =F11+H11+J11+K11+L11 -> 50 | N11: ='8.유사용역수행실적'!E32 -> 0 | O11: 15 | P11: =7-'9.업무정지'!H22 -> 7 | Q11: ='11. 재정상태건실도,투자실적'!F6 -> 3 | R11: =-'10.벌점'!F22 -> 0 | S11: ='12. 건설기술개발실적'!L20 -> 2 | T11: ='11. 재정상태건실도,투자실적'!E14 -> 0 | U11: ='13. 활용실적'!H20 -> 1.036 | V11: ='14.업무중첩도'!I27 -> 10 | W11: ='15.건설기술인신규고용률'!P5 -> 0.4 | X11: =M11+O11+P11+Q11-R11+S11+T11+U11+V11+W11 -> 88.436
B12: 책임 기술 | C12: ='4.참여기술인배치표'!D7 -> 사책 | D12: ='4.참여기술인배치표'!E7 -> 도로및공항 | E12: ='4.참여기술인배치표'!F7 -> 특급 | F12: =IF(E12="특급",5,IF(E12="고급",4.5,IF(E12="중급",4,3.5))) -> 5 | G12: ='4.참여기술인배치표'!I7 -> 32.876712 | H12: =IF(G12>=15,7,IF(G12>=10,6.3,IF(G12>=6,5.6,IF(G12>=3,4.9,4.2)))) -> 7 | I12: ='4.참여기술인배치표'!K7 -> 23.334247 | J12: =IF(I12>=6,8,IF(I12>=5,7.2,IF(I12>=4,6.4,IF(I12>=3,5.6,4.8)))) -> 8 | K12: ='6.교육훈련'!G26 -> 1 | L12: 1 | M12: =F12+H12+J12 -> 20
B13: 분야 책임 | C13: ='4.참여기술인배치표'!D8 -> 분책1 | D13: ='4.참여기술인배치표'!E8 -> 토질·지질 | E13: ='4.참여기술인배치표'!F8 -> 특급 | F13: =IF(E13="특급",5,IF(E13="고급",4.5,IF(E13="중급",4,3.5))) -> 5 | G13: ='4.참여기술인배치표'!I8 -> 32.876712 | H13: =IF(G13>=15,7,IF(G13>=10,6.3,IF(G13>=6,5.6,IF(G13>=3,4.9,4.2)))) -> 7 | I13: ='4.참여기술인배치표'!K8 -> 23.334247 | J13: =IF(I13>=6,8,IF(I13>=5,7.2,IF(I13>=4,6.4,IF(I13>=3,5.6,4.8)))) -> 8 | M13: =F13+H13+J13 -> 20
C14: ='4.참여기술인배치표'!D9 -> 분책2 | D14: ='4.참여기술인배치표'!E9 -> 도시계획 | E14: ='4.참여기술인배치표'!F9 -> 특급 | F14: =IF(E14="특급",5,IF(E14="고급",4.5,IF(E14="중급",4,3.5))) -> 5 | G14: ='4.참여기술인배치표'!I9 -> 32.876712 | H14: =IF(G14>=15,7,IF(G14>=10,6.3,IF(G14>=6,5.6,IF(G14>=3,4.9,4.2)))) -> 7 | I14: ='4.참여기술인배치표'!K9 -> 23.334247 | J14: =IF(I14>=6,8,IF(I14>=5,7.2,IF(I14>=4,6.4,IF(I14>=3,5.6,4.8)))) -> 8 | M14: =F14+H14+J14 -> 20
C15: ='4.참여기술인배치표'!D9 -> 분책2 | D15: ='4.참여기술인배치표'!E10 -> 교통 | E15: ='4.참여기술인배치표'!F10 -> 특급 | F15: =IF(E15="특급",5,IF(E15="고급",4.5,IF(E15="중급",4,3.5))) -> 5 | G15: ='4.참여기술인배치표'!I10 -> 32.876712 | H15: =IF(G15>=15,7,IF(G15>=10,6.3,IF(G15>=6,5.6,IF(G15>=3,4.9,4.2)))) -> 7 | I15: ='4.참여기술인배치표'!K10 -> 23.334247 | J15: =IF(I15>=6,8,IF(I15>=5,7.2,IF(I15>=4,6.4,IF(I15>=3,5.6,4.8)))) -> 8 | M15: =F15+H15+J15 -> 20
C16: ='4.참여기술인배치표'!D11 -> 분책4 | D16: ='4.참여기술인배치표'!E11 -> 조경 | E16: ='4.참여기술인배치표'!F11 -> 특급 | F16: =IF(E16="특급",5,IF(E16="고급",4.5,IF(E16="중급",4,3.5))) -> 5 | G16: ='4.참여기술인배치표'!I11 -> 32.876712 | H16: =IF(G16>=15,7,IF(G16>=10,6.3,IF(G16>=6,5.6,IF(G16>=3,4.9,4.2)))) -> 7 | I16: ='4.참여기술인배치표'!K11 -> 23.334247 | J16: =IF(I16>=6,8,IF(I16>=5,7.2,IF(I16>=4,6.4,IF(I16>=3,5.6,4.8)))) -> 8 | M16: =F16+H16+J16 -> 20
B17: 분야 참여 | C17: 분참1 | D17: ='4.참여기술인배치표'!E12 -> 토질·지질 | E17: ='4.참여기술인배치표'!F12 -> 고급 | F17: =IF(E17="특급",2,IF(E17="고급",2,IF(E17="중급",1.8,1.6))) -> 2 | G17: ='4.참여기술인배치표'!I12 -> 32.876712 | H17: =IF(G17>=10,3,IF(G17>=7,2.6,IF(G17>=4,2.2,IF(G17>=1,1.8,1.4)))) -> 3 | I17: ='4.참여기술인배치표'!K12 -> 23.334247 | J17: =IF(I17>=6,3,IF(I17>=5,2.5,IF(I17>=4,2.2,IF(I17>=1,1.8,1.4)))) -> 3 | M17: =F17+H17+J17 -> 8
C18: 분참2 | D18: ='4.참여기술인배치표'!E13 -> 도시계획 | E18: ='4.참여기술인배치표'!F13 -> 고급 | F18: =IF(E18="특급",2,IF(E18="고급",2,IF(E18="중급",1.8,1.6))) -> 2 | G18: ='4.참여기술인배치표'!I13 -> 32.876712 | H18: =IF(G18>=10,3,IF(G18>=7,2.6,IF(G18>=4,2.2,IF(G18>=1,1.8,1.4)))) -> 3 | I18: ='4.참여기술인배치표'!K13 -> 23.334247 | J18: =IF(I18>=6,3,IF(I18>=5,2.5,IF(I18>=4,2.2,IF(I18>=1,1.8,1.4)))) -> 3 | M18: =F18+H18+J18 -> 8
C19: 분참3 | D19: ='4.참여기술인배치표'!E14 -> 교통 | E19: ='4.참여기술인배치표'!F14 -> 고급 | F19: =IF(E19="특급",2,IF(E19="고급",2,IF(E19="중급",1.8,1.6))) -> 2 | G19: ='4.참여기술인배치표'!I14 -> 32.876712 | H19: =IF(G19>=10,3,IF(G19>=7,2.6,IF(G19>=4,2.2,IF(G19>=1,1.8,1.4)))) -> 3 | I19: ='4.참여기술인배치표'!K14 -> 23.334247 | J19: =IF(I19>=6,3,IF(I19>=5,2.5,IF(I19>=4,2.2,IF(I19>=1,1.8,1.4)))) -> 3 | M19: =F19+H19+J19 -> 8
C20: 분참4 | D20: ='4.참여기술인배치표'!E15 -> 조경 | E20: ='4.참여기술인배치표'!F15 -> 고급 | F20: =IF(E20="특급",2,IF(E20="고급",2,IF(E20="중급",1.8,1.6))) -> 2 | G20: ='4.참여기술인배치표'!I15 -> 32.876712 | H20: =IF(G20>=10,3,IF(G20>=7,2.6,IF(G20>=4,2.2,IF(G20>=1,1.8,1.4)))) -> 3 | I20: ='4.참여기술인배치표'!K15 -> 23.334247 | J20: =IF(I20>=6,3,IF(I20>=5,2.5,IF(I20>=4,2.2,IF(I20>=1,1.8,1.4)))) -> 3 | M20: =F20+H20+J20 -> 8

Sheet 3.공동수급협정 체결현황
A1: 공동수급협정 체결현황
A3: 구분 | B3: 업체명 | C3: 주소 | D3: 대표자 | E3: 전화 | F3: 협정서 출자비율 | H3: 비고 (입찰공고 과업분담비율)
A4: 공동이행 | B4: ='1.평가서표지'!C25 -> 주식회사 0000000 | F4: 업종 | G4: 0.7 | H4: 0.63
B5: 공동2 | F5: 업종 | G5: 0.3 | H5: 0.27
A6: 분담이행 | B6: 분담1 | F6: 업종 | G6: 1 | H6: 0.1
A7: 계 | H7: =H4+H5+H6 -> 1
A8: ※ 지역업체 참여도 | H8: %
A10: 붙임 : 공동수급협정승인서(나라장터시스템에 의하여 제출하여 승인된 출력물) 1부. (낙찰예정자만 제출)

Sheet 4.참여기술인배치표
A1: 참여기술인 경력현황 및 배치표
A3: 회사명 | B3: 구분 | C3: 소속 (회사명) | D3: 기 술 자 | M3: 비고
D4: 성 명 | E4: 분야 | F4: 등급 | G4: 자격증 | H4: 자격증 취득일 | I4: 건설업경력 | K4: 유사경력
I5: 년수 | J5: 일수 | K5: 년수 | L5: 일수
A6: ='1.평가서표지'!C25 -> 주식회사 0000000 | B6: 대표자 | D6: ='1.평가서표지'!C26 -> 김조달
B7: 총괄책임 | D7: 사책 | E7: 도로및공항 | F7: 특급 | I7: =J7/365 -> 32.876712 | J7: ='5.경력사항(사업총괄책임기술인)'!G43 -> 12000 | K7: =L7/365 -> 23.334247 | L7: ='5.경력사항(사업총괄책임기술인)'!G34 -> 8517 | M7: 평가
B8: 분야책임 | D8: 분책1 | E8: 토질·지질 | F8: 특급 | I8: =J8/365 -> 32.876712 | J8: ='5-1.경력사항(분야책임)'!G43 -> 12000 | K8: =L8/365 -> 23.334247 | L8: ='5-1.경력사항(분야책임)'!G34 -> 8517 | M8: 평가
B9: 분야책임 | D9: 분책2 | E9: 도시계획 | F9: 특급 | I9: =J9/365 -> 32.876712 | J9: ='5-2.경력사항(분야책임)'!G43 -> 12000 | K9: =L9/365 -> 23.334247 | L9: ='5-2.경력사항(분야책임)'!G34 -> 8517 | M9: 평가
B10: 분야책임 | D10: 분책3 | E10: 교통 | F10: 특급 | I10: =J10/365 -> 32.876712 | J10: ='5-3.경력사항(분야책임)'!G43 -> 12000 | K10: =L10/365 -> 23.334247 | L10: ='5-3.경력사항(분야책임)'!G34 -> 8517 | M10: 평가
B11: 분야책임 | D11: 분책4 | E11: 조경 | F11: 특급 | I11: =J11/365 -> 32.876712 | J11: ='5-4.경력사항(분야책임)'!G43 -> 12000 | K11: =L11/365 -> 23.334247 | L11: ='5-4.경력사항(분야책임)'!G34 -> 8517 | M11: 평가
B12: 분야참여 | D12: 분참1 | E12: 토질·지질 | F12: 고급 | I12: =J12/365 -> 32.876712 | J12: ='5-5.경력사항(분야참여)'!G43 -> 12000 | K12: =L12/365 -> 23.334247 | L12: ='5-5.경력사항(분야참여)'!G34 -> 8517 | M12: 평가
B13: 분야참여 | D13: 분참2 | E13: 도시계획 | F13: 고급 | I13: =J13/365 -> 32.876712 | J13: ='5-6.경력사항(분야참여)'!G43 -> 12000 | K13: =L13/365 -> 23.334247 | L13: ='5-6.경력사항(분야참여)'!G34 -> 8517 | M13: 평가
B14: 분야참여 | D14: 분참3 | E14: 교통 | F14: 고급 | I14: =J14/365 -> 32.876712 | J14: ='5-7.경력사항(분야참여)'!G43 -> 12000 | K14: =L14/365 -> 23.334247 | L14: ='5-7.경력사항(분야참여)'!G34 -> 8517 | M14: 평가
B15: 분야참여 | D15: 분참4 | E15: 조경 | F15: 고급 | I15: =J15/365 -> 32.876712 | J15: ='5-8.경력사항(분야참여) '!G43 -> 12000 | K15: =L15/365 -> 23.334247 | L15: ='5-8.경력사항(분야참여) '!G34 -> 8517 | M15: 평가
B16: 분야책임 | D16: 비평가1 | E16: 도로 | F16: 고급 | M16: 비평가
B17: 분야책임 | D17: 비평가2 | E17: 토목구조 | F17: 중급 | M17: 비평가
B18: 분야책임 | D18: 비평가3 | E18: 정보통신 | F18: 중급 | M18: 비평가
B19: 분야참여 | D19: 비평가4 | E19: 도로 | F19: 중급 | M19: 비평가
B20: 분야참여 | D20: 비평가5 | E20: 토목구조 | F20: 중급 | M20: 비평가
B21: 분야참여 | D21: 비평가6 | E21: 정보통신 | F21: 중급 | M21: 비평가
A23: * 주의사항
A24: - 건설업 경력은 감독,시공,감리,설계 등 총경력을 기재
A25: - 유사용역경력은 경력증명서(관련협회)에 기재된 유사용역분야에 해당되는 부분만 일수 및 년수로 기재하되, 반드시 중복경력은 제외하여야 함
A26: - 비평가 대상자의 경력증명서도 첨부하여야함
A28: 붙임 : 기술인별 경력증명서 1부. (낙찰예정자만 제출)

Sheet 5.경력사항(사업총괄책임기술인)
A1: 가.평가대상 사업총괄책임기술인의 경력현황
A3: (유사용역실적 - 경력)
A4: 이 름 | B4: 생년월일 | C4: 용역명 | D4: 발주처 | E4: 참여기간 | G4: 참여일수
A5: ='4.참여기술인배치표'!D8 -> 분책1 | B5: 79.03.01 | C5: "입찰공고시 제시한 유사용역실적에 참여한 경력"을 기재 | E5: 23680 | F5: 24226 | G5: =F5-E5+1 -> 547
E6: 27061 | F6: 27363 | G6: =IF(E6>F5,F6-E6+1,F6-F5) -> 303
B7: 참고)유사용역실적 : 도로분야의 타당성조사,기본계획,기본및실시설계 | E7: 27364 | F7: 27728 | G7: =IF(E7>F6,F7-E7+1,F7-F6) -> 365
B8: 및 도로 또는 도시교통정비용역에 참여한 경력 | E8: 27729 | F8: 28125 | G8: =IF(E8>F7,F8-E8+1,F8-F7) -> 397
E9: 28126 | F9: 28490 | G9: =IF(E9>F8,F9-E9+1,F9-F8) -> 365
E10: 28491 | F10: 28855 | G10: =IF(E10>F9,F10-E10+1,F10-F9) -> 365
E11: 28856 | F11: 29189 | G11: =IF(E11>F10,F11-E11+1,F11-F10) -> 334
E12: 29190 | F12: 29586 | G12: =IF(E12>F11,F12-E12+1,F12-F11) -> 397
E13: 29587 | F13: 30316 | G13: =IF(E13>F12,F13-E13+1,F13-F12) -> 730
A14: (입력할 곳) - 노란색 부분 | E14: 30317 | F14: 30681 | G14: =IF(E14>F13,F14-E14+1,F14-F13) -> 365
A15: 주의) 입력할 곳이 부족하면 중간부분에 행을 삽입한 후 계속 입력하세요 | E15: 30682 | F15: 30816 | G15: =IF(E15>F14,F15-E15+1,F15-F14) -> 135
E16: 30817 | F16: 31228 | G16: =IF(E16>F15,F16-E16+1,F16-F15) -> 412
E17: 31229 | F17: 31366 | G17: =IF(E17>F16,F17-E17+1,F17-F16) -> 138
E18: 31367 | F18: 31804 | G18: =IF(E18>F17,F18-E18+1,F18-F17) -> 438
E19: 31805 | F19: 32315 | G19: =IF(E19>F18,F19-E19+1,F19-F18) -> 511
E20: 32316 | F20: 32508 | G20: =IF(E20>F19,F20-E20+1,F20-F19) -> 193
E21: 32509 | F21: 32628 | G21: =IF(E21>F20,F21-E21+1,F21-F20) -> 120
E22: 32629 | F22: 32903 | G22: =IF(E22>F21,F22-E22+1,F22-F21) -> 275
E23: 32629 | F23: 32903 | G23: =IF(E23>F22,F23-E23+1,F23-F22) -> 0
E24: 32874 | F24: 33237 | G24: =IF(E24>F23,F24-E24+1,F24-F23) -> 334
E25: 32904 | F25: 33177 | G25: =IF(E25>F24,F25-E25+1,F25-F24) -> -60
E26: 33178 | F26: 33419 | G26: =IF(E26>F25,F26-E26+1,F26-F25) -> 242
E27: 33420 | F27: 33602 | G27: =IF(E27>F26,F27-E27+1,F27-F26) -> 183
... E33: 34396 | F33: 35060 | G33: =IF(E33>F32,F33-E33+1,F33-F32) -> 665
A34: 계 | B34: 해당분야경력 | G34: =SUM(G5:G33) -> 8517
A37: (건설업 경력)
B38: 전문분야 | G38: 참여일수
B39: ='4.참여기술인배치표'!E7 -> 도로및공항 | G39: 12000
A43: 계 | G43: =SUM(G39:G42) -> 12000
A45: * 주의사항
A46: - 건설업 경력은 기술인경력증명서 상 전문분야별 참여일수 기재
A47: - 유사용역경력은 경력증명서(관련협회)에 기재된 유사용역분야에 해당되는 부분만 일수 및 년수로 기재하되, 반드시 중복경력은 제외하여야 함

Sheet 5-1.경력사항(분야책임)
A1: 나.평가대상 분야책임기술인의 경력현황
A2: (유사용역실적 - 경력)
A3: 이 름 | B3: 생년월일 | C3: 용역명 | D3: 발주처 | E3: 참여기간 | G3: 참여일수
A4: ooo | B4: 79.03.01
C5: "입찰공고시 제시한 유사용역실적에 참여한 경력"을 기재 | E5: 23680 | F5: 24226 | G5: =F5-E5+1 -> 547
E6: 27061 | F6: 27363 | G6: =IF(E6>F5,F6-E6+1,F6-F5) -> 303
B7: 참고)유사용역실적 : 도로분야의 타당성조사,기본계획,기본및실시설계 | E7: 27364 | F7: 27728 | G7: =IF(E7>F6,F7-E7+1,F7-F6) -> 365
B8: 및 도로 또는 도시교통정비용역에 참여한 경력 | E8: 27729 | F8: 28125 | G8: =IF(E8>F7,F8-E8+1,F8-F7) -> 397
E9: 28126 | F9: 28490 | G9: =IF(E9>F8,F9-E9+1,F9-F8) -> 365
E10: 28491 | F10: 28855 | G10: =IF(E10>F9,F10-E10+1,F10-F9) -> 365
E11: 28856 | F11: 29189 | G11: =IF(E11>F10,F11-E11+1,F11-F10) -> 334
E12: 29190 | F12: 29586 | G12: =IF(E12>F11,F12-E12+1,F12-F11) -> 397
E13: 29587 | F13: 30316 | G13: =IF(E13>F12,F13-E13+1,F13-F12) -> 730
A14: (입력할 곳) - 노란색 부분 | E14: 30317 | F14: 30681 | G14: =IF(E14>F13,F14-E14+1,F14-F13) -> 365
A15: 주의) 입력할 곳이 부족하면 중간부분에 행을 삽입한 후 계속 입력하세요 | E15: 30682 | F15: 30816 | G15: =IF(E15>F14,F15-E15+1,F15-F14) -> 135
E16: 30817 | F16: 31228 | G16: =IF(E16>F15,F16-E16+1,F16-F15) -> 412
E17: 31229 | F17: 31366 | G17: =IF(E17>F16,F17-E17+1,F17-F16) -> 138
E18: 31367 | F18: 31804 | G18: =IF(E18>F17,F18-E18+1,F18-F17) -> 438
E19: 31805 | F19: 32315 | G19: =IF(E19>F18,F19-E19+1,F19-F18) -> 511
E20: 32316 | F20: 32508 | G20: =IF(E20>F19,F20-E20+1,F20-F19) -> 193
E21: 32509 | F21: 32628 | G21: =IF(E21>F20,F21-E21+1,F21-F20) -> 120
E22: 32629 | F22: 32903 | G22: =IF(E22>F21,F22-E22+1,F22-F21) -> 275
E23: 32629 | F23: 32903 | G23: =IF(E23>F22,F23-E23+1,F23-F22) -> 0
E24: 32874 | F24: 33237 | G24: =IF(E24>F23,F24-E24+1,F24-F23) -> 334
E25: 32904 | F25: 33177 | G25: =IF(E25>F24,F25-E25+1,F25-F24) -> -60
E26: 33178 | F26: 33419 | G26: =IF(E26>F25,F26-E26+1,F26-F25) -> 242
E27: 33420 | F27: 33602 | G27: =IF(E27>F26,F27-E27+1,F27-F26) -> 183
... E33: 34396 | F33: 35060 | G33: =IF(E33>F32,F33-E33+1,F33-F32) -> 665
A34: 계 | B34: 해당분야경력 | G34: =SUM(G4:G33) -> 8517
A37: (건설업 경력)
B38: 전문분야 | G38: 참여일수
B39: ='4.참여기술인배치표'!E8 -> 토질·지질 | G39: 12000
A43: 계 | G43: =SUM(G39:G42) -> 12000
A45: * 주의사항
A46: - 건설업 경력은 기술인경력증명서 상 전문분야별 참여일수 기재
A47: - 유사용역경력은 경력증명서(관련협회)에 기재된 유사용역분야에 해당되는 부분만 일수 및 년수로 기재하되, 반드시 중복경력은 제외하여야 함

Sheet 5-2.경력사항(분야책임)
A1: 나.평가대상 분야책임기술인의 경력현황
A2: (유사용역실적 - 경력)
A3: 이 름 | B3: 생년월일 | C3: 용역명 | D3: 발주처 | E3: 참여기간 | G3: 참여일수
A4: ooo | B4: 79.03.01
C5: "입찰공고시 제시한 유사용역실적에 참여한 경력"을 기재 | E5: 23680 | F5: 24226 | G5: =F5-E5+1 -> 547
E6: 27061 | F6: 27363 | G6: =IF(E6>F5,F6-E6+1,F6-F5) -> 303
B7: 참고)유사용역실적 : 도로분야의 타당성조사,기본계획,기본및실시설계 | E7: 27364 | F7: 27728 | G7: =IF(E7>F6,F7-E7+1,F7-F6) -> 365
B8: 및 도로 또는 도시교통정비용역에 참여한 경력 | E8: 27729 | F8: 28125 | G8: =IF(E8>F7,F8-E8+1,F8-F7) -> 397
E9: 28126 | F9: 28490 | G9: =IF(E9>F8,F9-E9+1,F9-F8) -> 365
E10: 28491 | F10: 28855 | G10: =IF(E10>F9,F10-E10+1,F10-F9) -> 365
E11: 28856 | F11: 29189 | G11: =IF(E11>F10,F11-E11+1,F11-F10) -> 334
E12: 29190 | F12: 29586 | G12: =IF(E12>F11,F12-E12+1,F12-F11) -> 397
E13: 29587 | F13: 30316 | G13: =IF(E13>F12,F13-E13+1,F13-F12) -> 730
A14: (입력할 곳) - 노란색 부분 | E14: 30317 | F14: 30681 | G14: =IF(E14>F13,F14-E14+1,F14-F13) -> 365
A15: 주의) 입력할 곳이 부족하면 중간부분에 행을 삽입한 후 계속 입력하세요 | E15: 30682 | F15: 30816 | G15: =IF(E15>F14,F15-E15+1,F15-F14) -> 135
E16: 30817 | F16: 31228 | G16: =IF(E16>F15,F16-E16+1,F16-F15) -> 412
E17: 31229 | F17: 31366 | G17: =IF(E17>F16,F17-E17+1,F17-F16) -> 138
E18: 31367 | F18: 31804 | G18: =IF(E18>F17,F18-E18+1,F18-F17) -> 438
E19: 31805 | F19: 32315 | G19: =IF(E19>F18,F19-E19+1,F19-F18) -> 511
E20: 32316 | F20: 32508 | G20: =IF(E20>F19,F20-E20+1,F20-F19) -> 193
E21: 32509 | F21: 32628 | G21: =IF(E21>F20,F21-E21+1,F21-F20) -> 120
E22: 32629 | F22: 32903 | G22: =IF(E22>F21,F22-E22+1,F22-F21) -> 275
E23: 32629 | F23: 32903 | G23: =IF(E23>F22,F23-E23+1,F23-F22) -> 0
E24: 32874 | F24: 33237 | G24: =IF(E24>F23,F24-E24+1,F24-F23) -> 334
E25: 32904 | F25: 33177 | G25: =IF(E25>F24,F25-E25+1,F25-F24) -> -60
E26: 33178 | F26: 33419 | G26: =IF(E26>F25,F26-E26+1,F26-F25) -> 242
E27: 33420 | F27: 33602 | G27: =IF(E27>F26,F27-E27+1,F27-F26) -> 183
... E33: 34396 | F33: 35060 | G33: =IF(E33>F32,F33-E33+1,F33-F32) -> 665
A34: 계 | B34: 해당분야경력 | G34: =SUM(G4:G33) -> 8517
A37: (건설업 경력)
B38: 전문분야 | G38: 참여일수
B39: ='4.참여기술인배치표'!E13 -> 도시계획 | G39: 12000
A43: 계 | G43: =SUM(G39:G42) -> 12000
A45: * 주의사항
A46: - 건설업 경력은 기술인경력증명서 상 전문분야별 참여일수 기재
A47: - 유사용역경력은 경력증명서(관련협회)에 기재된 유사용역분야에 해당되는 부분만 일수 및 년수로 기재하되, 반드시 중복경력은 제외하여야 함

Sheet 5-3.경력사항(분야책임)
A1: 나.평가대상 분야책임기술인의 경력현황
A2: (유사용역실적 - 경력)
A3: 이 름 | B3: 생년월일 | C3: 용역명 | D3: 발주처 | E3: 참여기간 | G3: 참여일수
A4: ooo | B4: 79.03.01
C5: "입찰공고시 제시한 유사용역실적에 참여한 경력"을 기재 | E5: 23680 | F5: 24226 | G5: =F5-E5+1 -> 547
E6: 27061 | F6: 27363 | G6: =IF(E6>F5,F6-E6+1,F6-F5) -> 303
B7: 참고)유사용역실적 : 도로분야의 타당성조사,기본계획,기본및실시설계 | E7: 27364 | F7: 27728 | G7: =IF(E7>F6,F7-E7+1,F7-F6) -> 365
B8: 및 도로 또는 도시교통정비용역에 참여한 경력 | E8: 27729 | F8: 28125 | G8: =IF(E8>F7,F8-E8+1,F8-F7) -> 397
E9: 28126 | F9: 28490 | G9: =IF(E9>F8,F9-E9+1,F9-F8) -> 365
E10: 28491 | F10: 28855 | G10: =IF(E10>F9,F10-E10+1,F10-F9) -> 365
E11: 28856 | F11: 29189 | G11: =IF(E11>F10,F11-E11+1,F11-F10) -> 334
E12: 29190 | F12: 29586 | G12: =IF(E12>F11,F12-E12+1,F12-F11) -> 397
E13: 29587 | F13: 30316 | G13: =IF(E13>F12,F13-E13+1,F13-F12) -> 730
A14: (입력할 곳) - 노란색 부분 | E14: 30317 | F14: 30681 | G14: =IF(E14>F13,F14-E14+1,F14-F13) -> 365
A15: 주의) 입력할 곳이 부족하면 중간부분에 행을 삽입한 후 계속 입력하세요 | E15: 30682 | F15: 30816 | G15: =IF(E15>F14,F15-E15+1,F15-F14) -> 135
E16: 30817 | F16: 31228 | G16: =IF(E16>F15,F16-E16+1,F16-F15) -> 412
E17: 31229 | F17: 31366 | G17: =IF(E17>F16,F17-E17+1,F17-F16) -> 138
E18: 31367 | F18: 31804 | G18: =IF(E18>F17,F18-E18+1,F18-F17) -> 438
E19: 31805 | F19: 32315 | G19: =IF(E19>F18,F19-E19+1,F19-F18) -> 511
E20: 32316 | F20: 32508 | G20: =IF(E20>F19,F20-E20+1,F20-F19) -> 193
E21: 32509 | F21: 32628 | G21: =IF(E21>F20,F21-E21+1,F21-F20) -> 120
E22: 32629 | F22: 32903 | G22: =IF(E22>F21,F22-E22+1,F22-F21) -> 275
E23: 32629 | F23: 32903 | G23: =IF(E23>F22,F23-E23+1,F23-F22) -> 0
E24: 32874 | F24: 33237 | G24: =IF(E24>F23,F24-E24+1,F24-F23) -> 334
E25: 32904 | F25: 33177 | G25: =IF(E25>F24,F25-E25+1,F25-F24) -> -60
E26: 33178 | F26: 33419 | G26: =IF(E26>F25,F26-E26+1,F26-F25) -> 242
E27: 33420 | F27: 33602 | G27: =IF(E27>F26,F27-E27+1,F27-F26) -> 183
... E33: 34396 | F33: 35060 | G33: =IF(E33>F32,F33-E33+1,F33-F32) -> 665
A34: 계 | B34: 해당분야경력 | G34: =SUM(G4:G33) -> 8517
A37: (건설업 경력)
B38: 전문분야 | G38: 참여일수
B39: ='4.참여기술인배치표'!E14 -> 교통 | G39: 12000
A43: 계 | G43: =SUM(G39:G42) -> 12000
A45: * 주의사항
A46: - 건설업 경력은 기술인경력증명서 상 전문분야별 참여일수 기재
A47: - 유사용역경력은 경력증명서(관련협회)에 기재된 유사용역분야에 해당되는 부분만 일수 및 년수로 기재하되, 반드시 중복경력은 제외하여야 함

Sheet 5-4.경력사항(분야책임)
A1: 나.평가대상 분야책임기술인의 경력현황
A2: (유사용역실적 - 경력)
A3: 이 름 | B3: 생년월일 | C3: 용역명 | D3: 발주처 | E3: 참여기간 | G3: 참여일수
A4: ooo | B4: 79.03.01
C5: "입찰공고시 제시한 유사용역실적에 참여한 경력"을 기재 | E5: 23680 | F5: 24226 | G5: =F5-E5+1 -> 547
E6: 27061 | F6: 27363 | G6: =IF(E6>F5,F6-E6+1,F6-F5) -> 303
B7: 참고)유사용역실적 : 도로분야의 타당성조사,기본계획,기본및실시설계 | E7: 27364 | F7: 27728 | G7: =IF(E7>F6,F7-E7+1,F7-F6) -> 365
B8: 및 도로 또는 도시교통정비용역에 참여한 경력 | E8: 27729 | F8: 28125 | G8: =IF(E8>F7,F8-E8+1,F8-F7) -> 397
E9: 28126 | F9: 28490 | G9: =IF(E9>F8,F9-E9+1,F9-F8) -> 365
E10: 28491 | F10: 28855 | G10: =IF(E10>F9,F10-E10+1,F10-F9) -> 365
E11: 28856 | F11: 29189 | G11: =IF(E11>F10,F11-E11+1,F11-F10) -> 334
E12: 29190 | F12: 29586 | G12: =IF(E12>F11,F12-E12+1,F12-F11) -> 397
E13: 29587 | F13: 30316 | G13: =IF(E13>F12,F13-E13+1,F13-F12) -> 730
A14: (입력할 곳) - 노란색 부분 | E14: 30317 | F14: 30681 | G14: =IF(E14>F13,F14-E14+1,F14-F13) -> 365
A15: 주의) 입력할 곳이 부족하면 중간부분에 행을 삽입한 후 계속 입력하세요 | E15: 30682 | F15: 30816 | G15: =IF(E15>F14,F15-E15+1,F15-F14) -> 135
E16: 30817 | F16: 31228 | G16: =IF(E16>F15,F16-E16+1,F16-F15) -> 412
E17: 31229 | F17: 31366 | G17: =IF(E17>F16,F17-E17+1,F17-F16) -> 138
E18: 31367 | F18: 31804 | G18: =IF(E18>F17,F18-E18+1,F18-F17) -> 438
E19: 31805 | F19: 32315 | G19: =IF(E19>F18,F19-E19+1,F19-F18) -> 511
E20: 32316 | F20: 32508 | G20: =IF(E20>F19,F20-E20+1,F20-F19) -> 193
E21: 32509 | F21: 32628 | G21: =IF(E21>F20,F21-E21+1,F21-F20) -> 120
E22: 32629 | F22: 32903 | G22: =IF(E22>F21,F22-E22+1,F22-F21) -> 275
E23: 32629 | F23: 32903 | G23: =IF(E23>F22,F23-E23+1,F23-F22) -> 0
E24: 32874 | F24: 33237 | G24: =IF(E24>F23,F24-E24+1,F24-F23) -> 334
E25: 32904 | F25: 33177 | G25: =IF(E25>F24,F25-E25+1,F25-F24) -> -60
E26: 33178 | F26: 33419 | G26: =IF(E26>F25,F26-E26+1,F26-F25) -> 242
E27: 33420 | F27: 33602 | G27: =IF(E27>F26,F27-E27+1,F27-F26) -> 183
... E33: 34396 | F33: 35060 | G33: =IF(E33>F32,F33-E33+1,F33-F32) -> 665
A34: 계 | B34: 해당분야경력 | G34: =SUM(G4:G33) -> 8517
A37: (건설업 경력)
B38: 전문분야 | G38: 참여일수
B39: ='4.참여기술인배치표'!E15 -> 조경 | G39: 12000
A43: 계 | G43: =SUM(G39:G42) -> 12000
A45: * 주의사항
A46: - 건설업 경력은 기술인경력증명서 상 전문분야별 참여일수 기재
A47: - 유사용역경력은 경력증명서(관련협회)에 기재된 유사용역분야에 해당되는 부분만 일수 및 년수로 기재하되, 반드시 중복경력은 제외하여야 함

Sheet 5-5.경력사항(분야참여)
A1: 다.평가대상 분야참여기술인의 경력현황
A2: (유사용역실적 - 경력)
A3: 이 름 | B3: 생년월일 | C3: 용역명 | D3: 발주처 | E3: 참여기간 | G3: 참여일수
A4: ooo | B4: 79.03.01
C5: "입찰공고시 제시한 유사용역실적에 참여한 경력"을 기재 | E5: 23680 | F5: 24226 | G5: =F5-E5+1 -> 547
E6: 27061 | F6: 27363 | G6: =IF(E6>F5,F6-E6+1,F6-F5) -> 303
B7: 참고)유사용역실적 : 도로분야의 타당성조사,기본계획,기본및실시설계 | E7: 27364 | F7: 27728 | G7: =IF(E7>F6,F7-E7+1,F7-F6) -> 365
B8: 및 도로 또는 도시교통정비용역에 참여한 경력 | E8: 27729 | F8: 28125 | G8: =IF(E8>F7,F8-E8+1,F8-F7) -> 397
E9: 28126 | F9: 28490 | G9: =IF(E9>F8,F9-E9+1,F9-F8) -> 365
E10: 28491 | F10: 28855 | G10: =IF(E10>F9,F10-E10+1,F10-F9) -> 365
E11: 28856 | F11: 29189 | G11: =IF(E11>F10,F11-E11+1,F11-F10) -> 334
E12: 29190 | F12: 29586 | G12: =IF(E12>F11,F12-E12+1,F12-F11) -> 397
E13: 29587 | F13: 30316 | G13: =IF(E13>F12,F13-E13+1,F13-F12) -> 730
A14: (입력할 곳) - 노란색 부분 | E14: 30317 | F14: 30681 | G14: =IF(E14>F13,F14-E14+1,F14-F13) -> 365
A15: 주의) 입력할 곳이 부족하면 중간부분에 행을 삽입한 후 계속 입력하세요 | E15: 30682 | F15: 30816 | G15: =IF(E15>F14,F15-E15+1,F15-F14) -> 135
E16: 30817 | F16: 31228 | G16: =IF(E16>F15,F16-E16+1,F16-F15) -> 412
E17: 31229 | F17: 31366 | G17: =IF(E17>F16,F17-E17+1,F17-F16) -> 138
E18: 31367 | F18: 31804 | G18: =IF(E18>F17,F18-E18+1,F18-F17) -> 438
E19: 31805 | F19: 32315 | G19: =IF(E19>F18,F19-E19+1,F19-F18) -> 511
E20: 32316 | F20: 32508 | G20: =IF(E20>F19,F20-E20+1,F20-F19) -> 193
E21: 32509 | F21: 32628 | G21: =IF(E21>F20,F21-E21+1,F21-F20) -> 120
E22: 32629 | F22: 32903 | G22: =IF(E22>F21,F22-E22+1,F22-F21) -> 275
E23: 32629 | F23: 32903 | G23: =IF(E23>F22,F23-E23+1,F23-F22) -> 0
E24: 32874 | F24: 33237 | G24: =IF(E24>F23,F24-E24+1,F24-F23) -> 334
E25: 32904 | F25: 33177 | G25: =IF(E25>F24,F25-E25+1,F25-F24) -> -60
E26: 33178 | F26: 33419 | G26: =IF(E26>F25,F26-E26+1,F26-F25) -> 242
E27: 33420 | F27: 33602 | G27: =IF(E27>F26,F27-E27+1,F27-F26) -> 183
... E33: 34396 | F33: 35060 | G33: =IF(E33>F32,F33-E33+1,F33-F32) -> 665
A34: 계 | B34: 해당분야경력 | G34: =SUM(G4:G33) -> 8517
A37: (건설업 경력)
B38: 전문분야 | G38: 참여일수
B39: ='4.참여기술인배치표'!E12 -> 토질·지질 | G39: 12000
A43: 계 | G43: =SUM(G39:G42) -> 12000
A45: * 주의사항
A46: - 건설업 경력은 기술인경력증명서 상 전문분야별 참여일수 기재
A47: - 유사용역경력은 경력증명서(관련협회)에 기재된 유사용역분야에 해당되는 부분만 일수 및 년수로 기재하되, 반드시 중복경력은 제외하여야 함

Sheet 5-6.경력사항(분야참여)
A1: 다.평가대상 분야참여기술인의 경력현황
A2: (유사용역실적 - 경력)
A3: 이 름 | B3: 생년월일 | C3: 용역명 | D3: 발주처 | E3: 참여기간 | G3: 참여일수
A4: ooo | B4: 79.03.01
C5: "입찰공고시 제시한 유사용역실적에 참여한 경력"을 기재 | E5: 23680 | F5: 24226 | G5: =F5-E5+1 -> 547
E6: 27061 | F6: 27363 | G6: =IF(E6>F5,F6-E6+1,F6-F5) -> 303
B7: 참고)유사용역실적 : 도로분야의 타당성조사,기본계획,기본및실시설계 | E7: 27364 | F7: 27728 | G7: =IF(E7>F6,F7-E7+1,F7-F6) -> 365
B8: 및 도로 또는 도시교통정비용역에 참여한 경력 | E8: 27729 | F8: 28125 | G8: =IF(E8>F7,F8-E8+1,F8-F7) -> 397
E9: 28126 | F9: 28490 | G9: =IF(E9>F8,F9-E9+1,F9-F8) -> 365
E10: 28491 | F10: 28855 | G10: =IF(E10>F9,F10-E10+1,F10-F9) -> 365
E11: 28856 | F11: 29189 | G11: =IF(E11>F10,F11-E11+1,F11-F10) -> 334
E12: 29190 | F12: 29586 | G12: =IF(E12>F11,F12-E12+1,F12-F11) -> 397
E13: 29587 | F13: 30316 | G13: =IF(E13>F12,F13-E13+1,F13-F12) -> 730
A14: (입력할 곳) - 노란색 부분 | E14: 30317 | F14: 30681 | G14: =IF(E14>F13,F14-E14+1,F14-F13) -> 365
A15: 주의) 입력할 곳이 부족하면 중간부분에 행을 삽입한 후 계속 입력하세요 | E15: 30682 | F15: 30816 | G15: =IF(E15>F14,F15-E15+1,F15-F14) -> 135
E16: 30817 | F16: 31228 | G16: =IF(E16>F15,F16-E16+1,F16-F15) -> 412
E17: 31229 | F17: 31366 | G17: =IF(E17>F16,F17-E17+1,F17-F16) -> 138
E18: 31367 | F18: 31804 | G18: =IF(E18>F17,F18-E18+1,F18-F17) -> 438
E19: 31805 | F19: 32315 | G19: =IF(E19>F18,F19-E19+1,F19-F18) -> 511
E20: 32316 | F20: 32508 | G20: =IF(E20>F19,F20-E20+1,F20-F19) -> 193
E21: 32509 | F21: 32628 | G21: =IF(E21>F20,F21-E21+1,F21-F20) -> 120
E22: 32629 | F22: 32903 | G22: =IF(E22>F21,F22-E22+1,F22-F21) -> 275
E23: 32629 | F23: 32903 | G23: =IF(E23>F22,F23-E23+1,F23-F22) -> 0
E24: 32874 | F24: 33237 | G24: =IF(E24>F23,F24-E24+1,F24-F23) -> 334
E25: 32904 | F25: 33177 | G25: =IF(E25>F24,F25-E25+1,F25-F24) -> -60
E26: 33178 | F26: 33419 | G26: =IF(E26>F25,F26-E26+1,F26-F25) -> 242
E27: 33420 | F27: 33602 | G27: =IF(E27>F26,F27-E27+1,F27-F26) -> 183
... E33: 34396 | F33: 35060 | G33: =IF(E33>F32,F33-E33+1,F33-F32) -> 665
A34: 계 | B34: 해당분야경력 | G34: =SUM(G4:G33) -> 8517
A37: (건설업 경력)
B38: 전문분야 | G38: 참여일수
B39: ='4.참여기술인배치표'!E13 -> 도시계획 | G39: 12000
A43: 계 | G43: =SUM(G39:G42) -> 12000
A45: * 주의사항
A46: - 건설업 경력은 기술인경력증명서 상 전문분야별 참여일수 기재
A47: - 유사용역경력은 경력증명서(관련협회)에 기재된 유사용역분야에 해당되는 부분만 일수 및 년수로 기재하되, 반드시 중복경력은 제외하여야 함

Sheet 5-7.경력사항(분야참여)
A1: 다.평가대상 분야참여기술인의 경력현황
A2: (유사용역실적 - 경력)
A3: 이 름 | B3: 생년월일 | C3: 용역명 | D3: 발주처 | E3: 참여기간 | G3: 참여일수
A4: ooo | B4: 79.03.01
C5: "입찰공고시 제시한 유사용역실적에 참여한 경력"을 기재 | E5: 23680 | F5: 24226 | G5: =F5-E5+1 -> 547
E6: 27061 | F6: 27363 | G6: =IF(E6>F5,F6-E6+1,F6-F5) -> 303
B7: 참고)유사용역실적 : 도로분야의 타당성조사,기본계획,기본및실시설계 | E7: 27364 | F7: 27728 | G7: =IF(E7>F6,F7-E7+1,F7-F6) -> 365
B8: 및 도로 또는 도시교통정비용역에 참여한 경력 | E8: 27729 | F8: 28125 | G8: =IF(E8>F7,F8-E8+1,F8-F7) -> 397
E9: 28126 | F9: 28490 | G9: =IF(E9>F8,F9-E9+1,F9-F8) -> 365
E10: 28491 | F10: 28855 | G10: =IF(E10>F9,F10-E10+1,F10-F9) -> 365
E11: 28856 | F11: 29189 | G11: =IF(E11>F10,F11-E11+1,F11-F10) -> 334
E12: 29190 | F12: 29586 | G12: =IF(E12>F11,F12-E12+1,F12-F11) -> 397
E13: 29587 | F13: 30316 | G13: =IF(E13>F12,F13-E13+1,F13-F12) -> 730
A14: (입력할 곳) - 노란색 부분 | E14: 30317 | F14: 30681 | G14: =IF(E14>F13,F14-E14+1,F14-F13) -> 365
A15: 주의) 입력할 곳이 부족하면 중간부분에 행을 삽입한 후 계속 입력하세요 | E15: 30682 | F15: 30816 | G15: =IF(E15>F14,F15-E15+1,F15-F14) -> 135
E16: 30817 | F16: 31228 | G16: =IF(E16>F15,F16-E16+1,F16-F15) -> 412
E17: 31229 | F17: 31366 | G17: =IF(E17>F16,F17-E17+1,F17-F16) -> 138
E18: 31367 | F18: 31804 | G18: =IF(E18>F17,F18-E18+1,F18-F17) -> 438
E19: 31805 | F19: 32315 | G19: =IF(E19>F18,F19-E19+1,F19-F18) -> 511
E20: 32316 | F20: 32508 | G20: =IF(E20>F19,F20-E20+1,F20-F19) -> 193
E21: 32509 | F21: 32628 | G21: =IF(E21>F20,F21-E21+1,F21-F20) -> 120
E22: 32629 | F22: 32903 | G22: =IF(E22>F21,F22-E22+1,F22-F21) -> 275
E23: 32629 | F23: 32903 | G23: =IF(E23>F22,F23-E23+1,F23-F22) -> 0
E24: 32874 | F24: 33237 | G24: =IF(E24>F23,F24-E24+1,F24-F23) -> 334
E25: 32904 | F25: 33177 | G25: =IF(E25>F24,F25-E25+1,F25-F24) -> -60
E26: 33178 | F26: 33419 | G26: =IF(E26>F25,F26-E26+1,F26-F25) -> 242
E27: 33420 | F27: 33602 | G27: =IF(E27>F26,F27-E27+1,F27-F26) -> 183
... E33: 34396 | F33: 35060 | G33: =IF(E33>F32,F33-E33+1,F33-F32) -> 665
A34: 계 | B34: 해당분야경력 | G34: =SUM(G4:G33) -> 8517
A37: (건설업 경력)
B38: 전문분야 | G38: 참여일수
B39: ='4.참여기술인배치표'!E14 -> 교통 | G39: 12000
A43: 계 | G43: =SUM(G39:G42) -> 12000
A45: * 주의사항
A46: - 건설업 경력은 기술인경력증명서 상 전문분야별 참여일수 기재
A47: - 유사용역경력은 경력증명서(관련협회)에 기재된 유사용역분야에 해당되는 부분만 일수 및 년수로 기재하되, 반드시 중복경력은 제외하여야 함

Sheet 5-8.경력사항(분야참여) 
A1: 다.평가대상 분야참여기술인의 경력현황
A2: (유사용역실적 - 경력)
A3: 이 름 | B3: 생년월일 | C3: 용역명 | D3: 발주처 | E3: 참여기간 | G3: 참여일수
A4: ooo | B4: 79.03.01
C5: "입찰공고시 제시한 유사용역실적에 참여한 경력"을 기재 | E5: 23680 | F5: 24226 | G5: =F5-E5+1 -> 547
E6: 27061 | F6: 27363 | G6: =IF(E6>F5,F6-E6+1,F6-F5) -> 303
B7: 참고)유사용역실적 : 도로분야의 타당성조사,기본계획,기본및실시설계 | E7: 27364 | F7: 27728 | G7: =IF(E7>F6,F7-E7+1,F7-F6) -> 365
B8: 및 도로 또는 도시교통정비용역에 참여한 경력 | E8: 27729 | F8: 28125 | G8: =IF(E8>F7,F8-E8+1,F8-F7) -> 397
E9: 28126 | F9: 28490 | G9: =IF(E9>F8,F9-E9+1,F9-F8) -> 365
E10: 28491 | F10: 28855 | G10: =IF(E10>F9,F10-E10+1,F10-F9) -> 365
E11: 28856 | F11: 29189 | G11: =IF(E11>F10,F11-E11+1,F11-F10) -> 334
E12: 29190 | F12: 29586 | G12: =IF(E12>F11,F12-E12+1,F12-F11) -> 397
E13: 29587 | F13: 30316 | G13: =IF(E13>F12,F13-E13+1,F13-F12) -> 730
A14: (입력할 곳) - 노란색 부분 | E14: 30317 | F14: 30681 | G14: =IF(E14>F13,F14-E14+1,F14-F13) -> 365
A15: 주의) 입력할 곳이 부족하면 중간부분에 행을 삽입한 후 계속 입력하세요 | E15: 30682 | F15: 30816 | G15: =IF(E15>F14,F15-E15+1,F15-F14) -> 135
E16: 30817 | F16: 31228 | G16: =IF(E16>F15,F16-E16+1,F16-F15) -> 412
E17: 31229 | F17: 31366 | G17: =IF(E17>F16,F17-E17+1,F17-F16) -> 138
E18: 31367 | F18: 31804 | G18: =IF(E18>F17,F18-E18+1,F18-F17) -> 438
E19: 31805 | F19: 32315 | G19: =IF(E19>F18,F19-E19+1,F19-F18) -> 511
E20: 32316 | F20: 32508 | G20: =IF(E20>F19,F20-E20+1,F20-F19) -> 193
E21: 32509 | F21: 32628 | G21: =IF(E21>F20,F21-E21+1,F21-F20) -> 120
E22: 32629 | F22: 32903 | G22: =IF(E22>F21,F22-E22+1,F22-F21) -> 275
E23: 32629 | F23: 32903 | G23: =IF(E23>F22,F23-E23+1,F23-F22) -> 0
E24: 32874 | F24: 33237 | G24: =IF(E24>F23,F24-E24+1,F24-F23) -> 334
E25: 32904 | F25: 33177 | G25: =IF(E25>F24,F25-E25+1,F25-F24) -> -60
E26: 33178 | F26: 33419 | G26: =IF(E26>F25,F26-E26+1,F26-F25) -> 242
E27: 33420 | F27: 33602 | G27: =IF(E27>F26,F27-E27+1,F27-F26) -> 183
... E33: 34396 | F33: 35060 | G33: =IF(E33>F32,F33-E33+1,F33-F32) -> 665
A34: 계 | B34: 해당분야경력 | G34: =SUM(G4:G33) -> 8517
A37: (건설업 경력)
B38: 전문분야 | G38: 참여일수
B39: ='4.참여기술인배치표'!E15 -> 조경 | G39: 12000
A43: 계 | G43: =SUM(G39:G42) -> 12000
A45: * 주의사항
A46: - 건설업 경력은 기술인경력증명서 상 전문분야별 참여일수 기재
A47: - 유사용역경력은 경력증명서(관련협회)에 기재된 유사용역분야에 해당되는 부분만 일수 및 년수로 기재하되, 반드시 중복경력은 제외하여야 함

Sheet 6.교육훈련
A2: 교육훈련사항
A3: (평가대상기술인만 해당) | E3: 입찰공고일 : | F3: ='1.평가서표지'!C17 -> 46023
E4: 최근 3년 : | F4: =F3-1095+1 -> 44929
A6: 책임정도 | B6: 분야 | C6: 참여기술자 | D6: 교 육 명 | E6: 교육기간 | G6: [주] | H6: 비고
A7: ='4.참여기술인배치표'!B7 -> 총괄책임 | B7: ='4.참여기술인배치표'!E7 -> 도로및공항 | C7: ='4.참여기술인배치표'!D7 -> 사책 | E7: 2018.01.01.~2018.01.01. | G7: 2
G8: 1
A9: ='4.참여기술인배치표'!B8 -> 분야책임 | B9: ='4.참여기술인배치표'!E8 -> 토질·지질 | C9: ='4.참여기술인배치표'!D8 -> 분책1 | G9: 1
G10: 1
A11: ='4.참여기술인배치표'!B9 -> 분야책임 | B11: ='4.참여기술인배치표'!E9 -> 도시계획 | C11: ='4.참여기술인배치표'!D9 -> 분책2 | G11: 1
G12: 1
A13: ='4.참여기술인배치표'!B10 -> 분야책임 | B13: ='4.참여기술인배치표'!E10 -> 교통 | C13: ='4.참여기술인배치표'!D10 -> 분책3 | G13: 1
G14: 1
A15: ='4.참여기술인배치표'!B11 -> 분야책임 | B15: ='4.참여기술인배치표'!E11 -> 조경 | C15: ='4.참여기술인배치표'!D11 -> 분책4 | G15: 1
G16: 1
A17: ='4.참여기술인배치표'!B12 -> 분야참여 | B17: ='4.참여기술인배치표'!E12 -> 토질·지질 | C17: ='4.참여기술인배치표'!D12 -> 분참1 | G17: 1
G18: 1
A19: ='4.참여기술인배치표'!B13 -> 분야참여 | B19: ='4.참여기술인배치표'!E13 -> 도시계획 | C19: ='4.참여기술인배치표'!D13 -> 분참2 | G19: 1
G20: 1
A21: ='4.참여기술인배치표'!B14 -> 분야참여 | B21: ='4.참여기술인배치표'!E14 -> 교통 | C21: ='4.참여기술인배치표'!D14 -> 분참3 | G21: 1
G22: 1
A23: ='4.참여기술인배치표'!B15 -> 분야참여 | B23: ='4.참여기술인배치표'!E15 -> 조경 | C23: ='4.참여기술인배치표'!D15 -> 분참4 | G23: 1
G24: 1
A25: 점수 | G25: =ROUND(((COUNTIF(G7:G24,"1")*0.5)+(COUNTIF(G7:G24,"2")*1))/COUNTA(C7:C24),2) -> 1.06
A26: 평점 | G26: =IF(G25>1,1,G25) -> 1
A28: * 교육훈련 수료증(사본)에는 반드시 "건설기술진흥법" 등에 의한 교육임을 확인할 수 있어야 인정됩니다.
A29: * 교육종료일이 입찰공고 최근 3년에서 입찰공고일 사이에 있는 경우에 한하여 인정합니다.
A31: 붙임 : 교육훈련 수료증 1부. (낙찰예정자만 제출)

Sheet 7.전차실적
A1: 전차용역 수행실적
J2: 입찰공고일 : | K2: ='1.평가서표지'!C17 -> 46023
A4: 구분 | B4: 참여기술인 | C4: 용역명 | D4: 발주청 | E4: 계약기간 | H4: 배점(점) | I4: 보정계수 | L4: 점수
E5: 착수일 | F5: 완료일 | G5: 경과기간(년) | I5: 경과기간 | J5: 책임정도 | K5: 용역단계
A6: ='4.참여기술인배치표'!B7 -> 총괄책임 | B6: ='4.참여기술인배치표'!D7 -> 사책 | C6: ㅇㅇㅇ 기본계획 | D6: ='1.평가서표지'!C16 -> 0000000000기관 | E6: 42005 | F6: 42430 | G6: =(K2-F6+1)/365 -> 9.8465753 | H6: 0.5 | I6: =IF(G6<3,0.5,IF(G6<5,0.3,IF(G6<10,0.1,0))) -> 0.1 | J6: 1 | K6: 0.6 | L6: =H6*I6*J6*K6 -> 0.03
A7: ='4.참여기술인배치표'!B8 -> 분야책임 | B7: ='4.참여기술인배치표'!D8 -> 분책1 | C7: ㅇㅇㅇ기본설계 | D7: ='1.평가서표지'!C16 -> 0000000000기관 | E7: 40179 | F7: 40909 | G7: =(K2-F7+1)/365 -> 14.013699 | H7: 0.5 | I7: =IF(G7<3,0.5,IF(G7<5,0.3,IF(G7<10,0.1,0))) -> 0 | J7: 0.5 | K7: 1 | L7: =H7*I7*J7*K7 -> 0
A8: ='4.참여기술인배치표'!B9 -> 분야책임 | B8: ='4.참여기술인배치표'!D9 -> 분책2 | C8: 해당없음 | H8: 0.5 | L8: =H8*I8*J8*K8 -> 0
A9: ='4.참여기술인배치표'!B10 -> 분야책임 | B9: ='4.참여기술인배치표'!D10 -> 분책3 | C9: 해당없음 | H9: 0.5 | L9: =H9*I9*J9*K9 -> 0
A10: ='4.참여기술인배치표'!B11 -> 분야책임 | B10: ='4.참여기술인배치표'!D11 -> 분책4 | C10: 해당없음 | H10: 0.5 | L10: =H10*I10*J10*K10 -> 0
A11: 계 | L11: =ROUND(SUM(L5:L10),2) -> 0.03
A12: 평점 | L12: =IF(L11>=1,1,L11) -> 0.03
A14: 붙임 : 발주청의 기술인배치현황이 포함된 실적증명서 1부. (낙찰예정자만 제출)

Sheet 8.유사용역수행실적
A1: 유사용역 수행실적(공고일 기준 최근 5년간)
A2: * 회사명 : | B2: ='1.평가서표지'!C25 -> 주식회사 0000000 | D2: 입찰공고일 | E2: ='1.평가서표지'!C17 -> 46023
A4: 참여회사명 | B4: 용역명 | C4: 발주처 | D4: 용역기간 | E4: 용역금액(원)
A5: =B2 -> 주식회사 0000000 | B5: "입찰공고시 제시한 유사분야 용역실적"을 기재
B6: 참고) 실적은 금액 또는 면적 등이 될 수 있음
A9: 참고)유사용역실적 : 도로분야의 타당성조사,기본계획,기본및실시설계
A10: 및 도로 또는 도시교통정비용역 완료실적
A32: 합 계 | E32: =SUM(E5:E31) -> 0
A34: * 주의사항
A35: - 유사용역실적은 반드시 입찰공고서 상에 유사범위를 확인한 후 기재하여 주시기 바랍니다.
A36: - 발주처의 실적증명서를 첨부하여야 평가 받을 수 있으며, 특히 공동이행시 반드시 자기회사의 지분만 입력하여야 합니다.
A38: 붙임 : 실적증명서 1부. (낙찰예정자만 제출)

Sheet 9.업무정지
A1: 업무정지(전 참여업체 해당)
A3: 업체명 및 기술인 성명 | B3: 업무정지기간 | E3: 기간(개월) | F3: 조치기관명 | G3: 사유요약 | H3: 점수(감점) | I3: 입찰공고일 : | J3: ='1.평가서표지'!C17 -> 46023
A4: ='3.공동수급협정 체결현황'!B4 -> 주식회사 0000000 | B4: 42887 | C4: ~ | D4: 42917 | E4: =IF($J$3-365<D4,(D4-B4)/30,0) -> 0 | H4: =ROUNDUP(E4,0)*0.2 -> 0
A5: ='3.공동수급협정 체결현황'!B5 -> 공동2 | B5: 43435 | C5: ~ | D5: 43497 | E5: =IF($J$3-365<D5,(D5-B5)/30,0) -> 0 | H5: =ROUNDUP(E5,0)*0.2 -> 0
A6: ='4.참여기술인배치표'!D7 -> 사책 | B6: 42887 | C6: ~ | D6: 43102 | E6: =IF($J$3-365<D6,(D6-B6)/30,0) -> 0 | H6: =ROUNDUP(E6,0)*0.2 -> 0
A7: ='4.참여기술인배치표'!D8 -> 분책1 | B7: 42887 | C7: ~ | D7: 43101 | E7: =IF($J$3-365<D7,(D7-B7)/30,0) -> 0 | H7: =ROUNDUP(E7,0)*0.2 -> 0
C8: ~ | H8: =ROUNDUP(E8,0)*0.2 -> 0
C9: ~ | H9: =ROUNDUP(E9,0)*0.2 -> 0
C10: ~ | H10: =ROUNDUP(E10,0)*0.2 -> 0
C11: ~ | H11: =ROUNDUP(E11,0)*0.2 -> 0
C12: ~ | H12: =ROUNDUP(E12,0)*0.2 -> 0
C13: ~ | H13: =ROUNDUP(E13,0)*0.2 -> 0
C14: ~ | H14: =ROUNDUP(E14,0)*0.2 -> 0
C15: ~ | H15: =ROUNDUP(E15,0)*0.2 -> 0
C16: ~ | H16: =ROUNDUP(E16,0)*0.2 -> 0
C17: ~ | H17: =ROUNDUP(E17,0)*0.2 -> 0
C18: ~ | H18: =ROUNDUP(E18,0)*0.2 -> 0
C19: ~ | H19: =ROUNDUP(E19,0)*0.2 -> 0
C20: ~ | H20: =ROUNDUP(E20,0)*0.2 -> 0
A21: 계 | H21: =SUM(H4:H20) -> 0
A22: 평점 | H22: =ROUND(H21,3) -> 0
A23: ※ 각 관련협회의 확인을 받아 제출
A24: 붙임 : 각 관련협회의 확인서 (낙찰예정자만 제출)
A25: 주)건설기술진흥법 제24조 규정에 의함
A26: "안전진단 등 용역의 경우" 안전진단전문기관 행정처분 현황 확인서 추가첨부

Sheet 10.벌점
A1: 벌점 확인서
A3: 업체명 및 기술인 성명 | B3: 부여일자 | C3: 측정기관 | D3: 용역명 | E3: 벌점 | F3: 합산벌점 | G3: 입찰공고일 : | H3: ='1.평가서표지'!C17 -> 46023
A4: ='3.공동수급협정 체결현황'!B4 -> 주식회사 0000000 | F4: 0.12
A5: ='3.공동수급협정 체결현황'!B5 -> 공동2
A6: ='4.참여기술인배치표'!D7 -> 사책
A7: ='4.참여기술인배치표'!D8 -> 분책1 | H7: 조달청 건설엔지니어링사업자 사업수행능력 세부평가기준(2025. 11. 28. 시행 2026. 1. 1.)
H8: ㅇ 참여업체 및 참여건설기술인이 시행령 제87조에 따라 벌점을 받은 경우 시행령 [별표8]에서 정하는 기준에 따라 감점
H10: 합산벌점 | I10: 0.5점 미만 | J10: 0.5점 이상 1점 미만 | K10: 1점 이상 2점 미만 | L10: 2점 이상 5점 미만 | M10: 5점 이상 10점 미만 | N10: 10점 이상 15점 미만 | O10: 15점 이상 20점 미만 | P10: 20점 이상
H11: 점수(감점) | I11: 0.1 | J11: 0.2 | K11: 0.3 | L11: 0.5 | M11: 1 | N11: 2 | O11: 3 | P11: 5
A21: 계 | F21: =SUM(F4:F20) -> 0.12
A22: 평점 | F22: =IF(F21<1,0,IF(F21<2,0.2,IF(F21<5,0.5,IF(F21<10,1,IF(F21<15,2,IF(F21<20,3,5)))))) -> 0
A24: ※ 각 관련협회의 확인을 받아 제출
A25: 붙임 : 각 관련협회의 확인서 (낙찰예정자만 제출)
A26: 주)건설기술진흥법 제53조 규정에 의함

Sheet 11. 재정상태건실도,투자실적
A1: 재정상태, 투자실적
A2: 1. 회 사 명 :
A3: 2. 설 립 년 도 :
A4: (재정상태 건실도)
A5: 신용정보업체 | B5: 신용평가등급 | C5: 등급평가일 | D5: 등급유효기간 | E5: 재무결산기준일 | F5: 평점
B6: A0 | F6: 3
A10: (투자실적)
A11: 최근 3개년도 기술개발투자금액 | E11: 평점
A12: 1차년도(2004) | B12: 2차년도(2005) | C12: 3차년도(2006) | D12: 계(A)
A13: 185700000 | B13: 125000000 | C13: 275000000 | D13: =SUM(A13:C13) -> 585700000
A14: 최근 3개년 매출액
A15: =A12 -> 1차년도(2004) | B15: =B12 -> 2차년도(2005) | C15: =C12 -> 3차년도(2006) | D15: 계(B) | E15: 비율(A/B)
A16: 3251000000 | B16: 2157000000 | C16: 4250000000 | D16: =SUM(A16:C16) -> 9658000000 | E16: =D13/D16 -> 0.060644026
A19: 붙임 : 1. 최근 3년간의 재정상태 검토보고서 1부
A20: 2. 최근 3년간의 정기결산서의 재무제표(손익계산서, 원가명세서, 합계잔액시산표)
A21: 또는 최근 3년간의 연구 및 인력개발에 관한 명세서 1부.
A23: ※붙임서류는 낙찰예정자만 제출

Sheet 12. 건설기술개발실적
A1: 건설기술개발실적
A3: 구분 | B3: 인 정 기관명 | C3: 개발내용 | D3: 등록번호 | E3: 출원일자 | F3: 유효기간 | G3: 출원일 기준 경과 년도 구분 | J3: 배점 | K3: 출원자수 | L3: 해당 점수
G4: 5년미만 | H4: 5년이상 10년미만 | I4: 10년이상 20년미만
A5: 신기술 | B5: 국토부 | C5: ㅇㅇㅇㅇㅇㅇㅇㅇㅇ | D5: 제 ㅇㅇㅇ호 | E5: 37240 | F5: 38335 | G5: 2 | J5: =G5*1 -> 2 | K5: 1 | L5: =J5/K5 -> 2
B6: 국토부 | C6: ㅇㅇㅇㅇㅇㅇㅇㅇㅇ | D6: 제 ㅇㅇㅇ호 | E6: 37240 | F6: 38335 | G6: 2 | J6: =G6*1 -> 2 | K6: 1 | L6: =J6/K6 -> 2
B7: 국토부 | C7: ㅇㅇㅇㅇㅇㅇㅇㅇㅇ | D7: 제 ㅇㅇㅇ호 | E7: 37240 | F7: 38335 | G7: 2 | J7: =G7*1 -> 2 | K7: 1 | L7: =J7/K7 -> 2
J8: =G8*1 -> 0 | K8: 1 | L8: =J8/K8 -> 0
A9: 특허권에 대한 가중치 적용 | G9: 1 | H9: 0.8 | I9: 0.6
A10: 특허 | B10: 특허청 | C10: ㅇㅇㅇㅇㅇ 활용 | D10: 제 ㅇㅇㅇ호 | E10: 36512 | G10: 1 | J10: =G10*100% -> 1 | K10: 2 | L10: =J10/K10 -> 0.5
A11: " | B11: 특허청 | C11: ㅇㅇㅇㅇㅇ 활용 | D11: 제 ㅇㅇㅇ호 | E11: 34687 | H11: 1 | J11: =H11*80% -> 0.8 | K11: 1 | L11: =J11/K11 -> 0.8
B12: 특허청 | C12: ㅇㅇㅇㅇㅇ 활용 | D12: 제 ㅇㅇㅇ호 | E12: 33592 | I12: 1 | J12: =I12*60% -> 0.6 | K12: 4 | L12: =J12/K12 -> 0.15
A14: 실용신안에 대한 가중치 적용 | G14: 1 | H14: 0.8 | I14: 0
A15: 실용신안 | B15: 특허청 | C15: ㅇㅇㅇㅇㅇ 활용 | D15: 제 ㅇㅇㅇ호 | E15: 36512 | G15: 0.5 | J15: =G15*G14 -> 0.5 | K15: 2 | L15: =J15/K15 -> 0.25
C16: ㅇㅇㅇㅇㅇ 활용 | D16: 제 ㅇㅇㅇ호 | E16: 34687 | H16: 0.5 | J16: =H16*H14 -> 0.4 | K16: 2 | L16: =J16/K16 -> 0.2
C17: ㅇㅇㅇㅇㅇ 활용 | D17: 제 ㅇㅇㅇ호 | E17: 33592 | I17: 0.5 | J17: =I17*I14 -> 0 | K17: 4 | L17: =J17/K17 -> 0
A19: 계 | L19: =SUM(L5:L18) -> 7.9
K20: 평점 | L20: =IF(L19>=2,2,L19) -> 2
A22: 붙임 : 1. 신기술지정서 사본
A23: 2. 특허증(등록원부, 최초출원인 확인용 포함) 사본
A24: 3. 실용신안등록증(등록원부, 최초출원인 확인용 포함) 사본
A25: 주 ) 1. 위의 서류 사본 제출 시, 사실과 상이없음을 명시하고 사용인감 날인바람
A26: 2. 위의 서류를 첨부하지 않았을 경우 평가에서 제외함
A27: 3. 최초출원인이 회사명 또는 대표자가 아닌 건은 반드시 제외바람
A28: ※붙임서류는 낙찰예정자만 제출

Sheet 13. 활용실적
A1: 활 용 실 적
A3: 구 분 | B3: 지정 및 등록번호 | C3: 제목 | D3: 유효기간 | E3: 활용실적 | G3: 가중치 (활용건수) | H3: 점수
E4: 건수 | F4: 금액(천원)
A5: 신기술 활용실적
A6: 신기술 | C6: 강구조물의 보수방식처리공법 | D6: 2004.04.20 ~2010.04.16 | E6: 2 | F6: 228000 | G6: 0.7 | H6: =1*G6 -> 0.7
A7: 신기술
A8: 신기술
A9: 신기술
A10: 신기술
A11: 신기술
A12: 신기술
A13: 신기술
A14: 특허 활용실적
A15: 특허 | C15: 폐수처리장치 및 방법 | D15: 2003.12.20~2020.03.08 | E15: 2 | F15: 383958 | G15: 0.7 | H15: =0.6*0.8*G15 -> 0.336
A19: 계 | H19: =SUM(H6:H13,H15:H18) -> 1.036
G20: 평점 | H20: =IF(H19>=3,3,H19) -> 1.036
A22: 붙임 : 1. 건설신기술 활용실적 증명서(내역표 포함)[한국건설교통신기술협회] 1부.
A23: 2. 특허 활용실적 증명서(내역표 포함)[한국발명진흥회] 1부.
A24: 2-1. 특허증 사본(등록원부, 최초출원인 확인용 포함)
A25: 3. 실용신안 활용실적 증명서(내역표 포함)[한국발명진흥회] 1부.
A26: 3-1. 실용신안등록증 사본(등록원부, 최초출원인 확인용 포함)
A27: 주 ) 1. 위의 서류 사본 제출 시, 사실과 상이없음 명시하고 사용인감 날인바람
A28: 2. 위의 서류를 첨부하지 않았을 경우 평가에서 제외함
A29: 3. 최초출원인이 회사명 또는 대표자가 아닌 건은 반드시 제외바람
A30: ※붙임서류는 낙찰예정자만 제출

Sheet 14.업무중첩도
A2: 참여기술인(평가대상)의 업무중첩도
A4: 참 여 기술인 | B4: 구분 | C4: 성명 | D4: 용 역 명 | E4: 용역기간 | F4: 건수 | G4: 감점 | H4: 합계 | I4: 점수
A5: ='4.참여기술인배치표'!D7 -> 사책 | B5: 사업총괄책임기술인 | G5: 0.3 | H5: =F5*G5 -> 0
G6: 0.3 | H6: =F6*G6 -> 0
G7: 0.3 | H7: =F7*G7 -> 0
G8: 0.3 | H8: =F8*G8 -> 0
A9: 분책1 | B9: 분야책임기술인 | G9: 0.4 | H9: =F9*G9 -> 0
G10: 0.4 | H10: =F10*G10 -> 0
G11: 0.4 | H11: =F11*G11 -> 0
A14: 분참1 | B14: 분야참여기술인 | G14: 0.2 | H14: =F14*G14 -> 0
G15: 0.2 | H15: =F15*G15 -> 0
G16: 0.2 | H16: =F16*G16 -> 0
A22: 실무1 | B22: 실무기술인 | G22: 0.1 | H22: =F22*G22 -> 0
G23: 0.1 | H23: =F23*G23 -> 0
G24: 0.1 | H24: =F24*G24 -> 0
A27: 합계 | H27: =SUM(H5:H26) -> 0 | I27: =10-H27 -> 10
A29: * 업무중첩도는 건설기술용역실적관리시스템(CEMS), 조달청 계약자료로만 평가 * 건설기술용역실적관리시스템자료평가는 평가기준일(입찰공고일)기준으로 등재되어 있는 자료(승인,미승인 포함)로 평가
A30: * 업무중첩도는 참여기술인에 따라 나누어 계산하지 않음
A31: * 붙임 : 건설기술용역 참여기술인의 업무중복현황 확인서(입찰공고일 이후 출력본)
A32: 입찰공고일 당시 중지 중인 용역은 "발주기관의 확인서" 첨부

Sheet 14-1.확인서
A1: 설계 등 용역 중지 확인서
A3: 용역명 | B3: 000~000간 도로개설사업 실시설계용역
A4: 용역업체 | B4: 주식회사 0000 | E4: 대표자 | F4: ooo
A5: 계약금액 | B5: 520,000,000원
A6: 용역기간 | B6: 42869 | C6: ~ | D6: 44126 | E6: PQ대상용역의 입찰공고일 | F6: ='1.평가서표지'!C17 -> 46023
A7: 용역중지기간(일) | B7: 43753 | C7: ~ | D7: 인허가 완료이후 미정 | E7: PQ대상용역의 입찰공고일 당시 중지여부 | F7: "중지 중"
A8: 중복도 대상기술인 (성명/생년월일) | B8: 홍길동(830101) | E8: 담당업무 (전문분야) | F8: 분야별책임기술인 (도로공항)
A9: 발주부서 | B9: 000과
A10: 담당자 | B10: 000 주무관 | E10: 전화번호 | F10: 030-250-2020
A12: 상기 사업에 대하여, 위와 같이 용역 "중지 중"임을 확인합니다.
A14: 용도 : 조달청 PQ제출용
A17: 2020.05.
A19: 000지방국토관리청장 (직인)
A21: * 붙임 : 계약서, 용역중지 문서, 참여기술인 배치표 등

Sheet 15.건설기술인신규고용률
A1: 15. 건설기술인 신규고용률
B3: 최근 1년간 건설기술인 신규 고용인원 | O3: 건설기술인 신규고용률 | P3: 점수
B4: 12개월전 | C4: 11개월전 | D4: 10개월전 | E4: 9개월전 | F4: 8개월전 | G4: 7개월전 | H4: 6개월전 | I4: 5개월전 | J4: 4개월전 | K4: 3개월전 | L4: 2개월전 | M4: 1개월전 | N4: 신규고용인원(A)
B5: 1 | C5: 0 | D5: 1 | E5: 1 | F5: 0 | G5: 1 | H5: 1 | I5: 0 | J5: 1 | K5: 1 | L5: 0 | M5: 1 | N5: =ROUNDUP(SUM(B5:M5),0) -> 8 | O5: =N5/N8 -> 0.076923077 | P5: 0.4
B6: 최근 1년간 평균 고용인원
B7: 12개월전 | C7: 11개월전 | D7: 10개월전 | E7: 9개월전 | F7: 8개월전 | G7: 7개월전 | H7: 6개월전 | I7: 5개월전 | J7: 4개월전 | K7: 3개월전 | L7: 2개월전 | M7: 1개월전 | N7: 평균고용인원(B)
B8: 103 | C8: 104 | D8: 103 | E8: 103 | F8: 103 | G8: 103 | H8: 103 | I8: 103 | J8: 103 | K8: 103 | L8: 104 | M8: 105 | N8: =ROUNDUP(SUM(B8:M8)/12,0) -> 104
B11: 주) 신규 건설기술인은 현재 해당업체 재직 중인 자로 건설기술인 경력관리 수탁기관의 경력확인서에 최초로 입사등록된 자(이전 건설분야 근무경력이 없는 자)에 한한다.
B12: 주) 최근 1년간 평균 고용인원은 건설기술인 경력관리 수탁기관에 신고한 자로서 해당업체의 기술인 재직인원(월말 단위)을 월단위로 평균하여 산정한다.(각 수탁기관의 건설기술인 신규고용율 확인서를 합산평가)
B13: 주) 건설엔지니어링사업자 등록일로부터 6개월이 경과된 업체인 경우에만 해당한다.
B15: 붙임 | C15: 1. 신규 건설기술인 관련협회 경력확인서 1부.
C16: 2. 기타 증빙자료(기술인경력증명서, 4대보험가입증명서 등) 1부.
B18: ※ 증빙서류는 가격 개찰 이후에 제출합니다.
E20: 조달청 건설엔지니어링사업자 사업수행능력 세부평가기준 (2025. 11. 28. 시행 2026. 1. 1.)
E22: ㅇ 최근 1년간 신규고용인원 / 최근 1년간 평균 고용인원×100 (%)
E24: 비율 (%) | F24: 1%이상 2%미만 | G24: 2%이상 3%미만 | H24: 3%이상 | I24: 4%이상
H25: 4%미만
E26: 가산점수 | F26: 0.1점 | G26: 0.2점 | H26: 0.3점 | I26: 0.4점

Sheet 16. 적격심사 기술자경력
A1: 16. 해당 용역의 사업 책임 및 분야별 책임기술자 경력 평가[지방계약법 대상 용역만 해당]
A2: ※ 경력 기산일은 건설기술인력의 경력인정 방법 절차 기준 개정(국토부, 2010.2.3.) 이후부터 산정
A3: ※ 협회 증명서에 책임정도의 표기가 없는 경우 경력 합산 시 인정하지 않습니다.
A4: ★ 경력증명서의 용역명 등 해당사항에 표시(형광펜, 사인펜 등)하여 주시기 바랍니다.
A6: 20-1. 평가대상기술인 경력 [2010.2.3. 이 후 전체 경력 기입(본사경력 포함)]
A7: : 전체 경력일 산정 및 해당용역 경력일 산정을 위한 기초 자료
A8: 이 름 | D8: 생년월일 | H8: 용역명 | R8: 발주처 | V8: 참여기간 | AB8: 책임정도 | AE8: 참여일수
A9: 가가가 | D9: 79.03.01 | H9: AAA | V9: 40212 | Y9: 40247 | AE9: =Y9-V9+1 -> 36
H10: BBB | V10: 40267 | Y10: 40297 | AE10: =IF(V10>Y9,Y10-V10+1,Y10-Y9) -> 31
H11: CCC | V11: 40210 | Y11: 40512 | AE11: =IF(V11>Y10,Y11-V11+1,Y11-Y10) -> 215
H12: DDD | V12: 40527 | Y12: 40908 | AE12: =IF(V12>Y11,Y12-V12+1,Y12-Y11) -> 382
H13: EEE | V13: 40909 | Y13: 42431 | AE13: =IF(V13>Y12,Y13-V13+1,Y13-Y12) -> 1523 | AI13: 42431
H14: FFF | V14: 41365 | Y14: 41790 | AE14: =IF(V14>Y13,Y14-V14+1,Y14-Y13) -> -641 | AH14: 삭제 | AI14: 41790 | AL14: 용역완수일이 2016-03-02 이전이므로 중첩되는 용역임 | AU14: 40212
H15: GGG | V15: 41791 | Y15: 42348 | AE15: =IF(V15>Y14,Y15-V15+1,Y15-Y14) -> 558 | AH15: 삭제 | AI15: 42348 | AU15: 43300
H16: HHH | V16: 42370 | Y16: 42420 | AE16: =IF(V16>Y15,Y16-V16+1,Y16-Y15) -> 51 | AH16: 삭제 | AI16: 42420 | AU16: =AU15-AU14+1 -> 3089
A18: 이 름 | D18: 생년월일 | H18: 용역명 | R18: 발주처 | V18: 참여기간 | AB18: 책임정도 | AE18: 참여일수
A19: 나나나 | D19: 69.01.01. | H19: AAA | V19: 40212 | Y19: 40247 | AE19: =Y19-V19+1 -> 36
H20: BBB | V20: 40267 | Y20: 40297 | AE20: =IF(V20>Y19,Y20-V20+1,Y20-Y19) -> 31
H21: CCC | V21: 40210 | Y21: 40512 | AE21: =IF(V21>Y20,Y21-V21+1,Y21-Y20) -> 215
H22: DDD | V22: 40527 | Y22: 40908 | AE22: =IF(V22>Y21,Y22-V22+1,Y22-Y21) -> 382
H23: EEE | V23: 40909 | Y23: 42431 | AE23: =IF(V23>Y22,Y23-V23+1,Y23-Y22) -> 1523
H24: FFF | V24: 41365 | Y24: 41790 | AE24: =IF(V24>Y23,Y24-V24+1,Y24-Y23) -> -641
H25: GGG | V25: 41791 | Y25: 42348 | AE25: =IF(V25>Y24,Y25-V25+1,Y25-Y24) -> 558
H26: HHH | V26: 42370 | Y26: 42420 | AE26: =IF(V26>Y25,Y26-V26+1,Y26-Y25) -> 51
A28: 이 름 | D28: 생년월일 | H28: 용역명 | R28: 발주처 | V28: 참여기간 | AB28: 책임정도 | AE28: 참여일수
A29: 다다다 | D29: 66.01.02. | H29: AAA | V29: 40212 | Y29: 40247 | AE29: =Y29-V29+1 -> 36
H30: BBB | V30: 40267 | Y30: 40297 | AE30: =IF(V30>Y29,Y30-V30+1,Y30-Y29) -> 31
H31: CCC | V31: 40210 | Y31: 40512 | AE31: =IF(V31>Y30,Y31-V31+1,Y31-Y30) -> 215
H32: DDD | V32: 40527 | Y32: 40908 | AE32: =IF(V32>Y31,Y32-V32+1,Y32-Y31) -> 382
H33: EEE | V33: 40909 | Y33: 42431 | AE33: =IF(V33>Y32,Y33-V33+1,Y33-Y32) -> 1523
H34: FFF | V34: 41365 | Y34: 41790 | AE34: =IF(V34>Y33,Y34-V34+1,Y34-Y33) -> -641
H35: GGG | V35: 41791 | Y35: 42348 | AE35: =IF(V35>Y34,Y35-V35+1,Y35-Y34) -> 558
H36: HHH | V36: 42370 | Y36: 42420 | AE36: =IF(V36>Y35,Y36-V36+1,Y36-Y35) -> 51
A38: 20-1-1. 평가대상기술인 전체경력일 산정 방법
A39: : 20-1. 평가대상기술인 경력 중 '참여일수가 마이너스인 용역' 및 '중복되는 용역'을 삭제 후 산정 (20-1. 평가대상기술인 경력 중 녹색 표시 용역)
A40: 이 름 | D40: 생년월일 | H40: 용역명 | R40: 발주처 | V40: 참여기간 | AB40: 책임정도 | AE40: 참여일수
A41: 가가가 | D41: 79.03.01 | V41: 40212 | Y41: 40247 | AE41: =Y41-V41+1 -> 36
V42: 40267 | Y42: 40297 | AE42: =IF(V42>Y41,Y42-V42+1,Y42-Y41) -> 31
V43: 40210 | Y43: 40512 | AE43: =IF(V43>Y42,Y43-V43+1,Y43-Y42) -> 215
V44: 40527 | Y44: 40908 | AE44: =IF(V44>Y43,Y44-V44+1,Y44-Y43) -> 382
...
