Workbook

Sheet laroux

Sheet 설계서표지
A4: 2026년 처인구 숲길(등산로) 유지관리공사(2차)
A13: 2026. 08.
A21: 용인특례시 처인구청

Sheet 설계갑지
B1: 과 장 | D1: 팀 장 | F1: 심사자 | H1: 실무관 | J1: 설계자 | M1: 설 계 | N1: 2026 년 8 월 일
M2: 심 사 | N2: 2026 년 월 일
B5: 설 계 서
C8: ▣ 공 사 명 : 2026년 처인구 숲길(등산로) 유지관리공사(2차)
C10: 구 분 | E10: 금 액 | N10: 비 고
C11: 총 공 사 비 | E11: ="일금 "&NUMBERSTRING(TRUNC(K11,-3),1)&"원정" -> 일금 이천팔백삼만원정 | K11: =K12+K15 -> 28030000 | N11: 도급공사비+관급자재대
C12: 도급공사비 | E12: ="일금 "&NUMBERSTRING(TRUNC(K12,0),1)&"원정" -> 일금 이천팔백삼만원정 | K12: =K13+K14 -> 28030000 | N12: 공급가액+부가가치세
C13: 공 급 가 액 | E13: ="일금 "&NUMBERSTRING(TRUNC(K13,0),1)&"원정" -> 일금 이천오백사십팔만일천팔백일십구원정 | K13: =공사원가계산서!D28 -> 25481819
C14: 부가 가치세 | E14: ="일금 "&NUMBERSTRING(TRUNC(K14,0),1)&"원정" -> 일금 이백오십사만팔천일백팔십일원정 | K14: =공사원가계산서!D29 -> 2548181
C15: 관급 자재대 | E15: ="일금 "&NUMBERSTRING(TRUNC(K15,0),1)&"원정" -> 일금 영원정 | N15: 도급자설치+관급자설치 (천원미만절상)
C16: 도급자설치 | E16: ="일금 "&NUMBERSTRING(TRUNC(K16,0),1)&"원정" -> 일금 영원정
C17: 관급자설치 | E17: ="일금 "&NUMBERSTRING(TRUNC(K17,0),1)&"원정" -> 일금 영원정

Sheet 목 차
E1: 목 차
E4: 설계설명서
E5: 시방서
E6: 예정공정표
E7: 공사원가계산서
E8: 일위대가표
E9: 단가산출서
E10: 기계경비산출서
E11: 수량산출서
E12: 자재단가대비표
E13: 기타
E23: 설계설명서
... E162: 자재집계표

Sheet 설계설명서
A1: 설 계 설 명 서
A2: 1. 공 사 명 : 2026년 처인구 숲길(등산로) 유지관리공사(2차)
A4: 2. 위 치
B5: - 처인구 이동, 남사, 원삼, 백암, 양지 (상황에 따라 변동될 수 있음)
A7: 3. 공사구간
B8: -. 9.5km
A10: 3. 공사 개요
B12: 1. 숲길정비공 | G12: 2. 편의시설
B14: 3. 운동시설 | G14: 4. 안내판 설치
B16: 5. 보수공 | G16: 6. 철거공
B18: 7. 식재공 | G18: 8. 유지관리공
B20: 9. 수목제거공 | G20: 10. 기초공
B22: 11. 소운반공 | G22: 12. 폐기물처리
A24: 4. 설계기준
B25: 1. 환 율 : 1,442(원/$)
B26: 2. 자재시세 : 2026년 1월 인터넷 조달청 가격정보에 우선하여 산정하였으며 일부는 2026년 1월호 물가자료지 및 물가정보지에 의거
B27: 하여 산정하였음.
B28: 3. 노임 및 품셈 : 대한건설 협회가 2026년 상반기에 발표한 시중노임단가 적용
A30: 5. 공사 기간
B31: 착공일로부터 12월 31일 까지

Sheet 예정공정표
A1: 공 사 예 정 공 정 표
A3: 공사명 : 2026년 처인구 숲길(등산로) 유지관리공사(2차)
C4: 착공일 | D4: 8월 | E4: 2월 | F4: 3월 | G4: 4월 | H4: 5월 | I4: 6월 | J4: 7월 | K4: 8월 | L4: 9월 | M4: 10월 | N4: 11월 | O4: 12월 | P4: 비고
A5: 공정
A6: 현장확인 및 준비
A8: =설계설명서!B12 -> 1. 숲길정비공
A10: =설계설명서!G12 -> 2. 편의시설
A12: =설계설명서!B14 -> 3. 운동시설
A14: =설계설명서!G14 -> 4. 안내판 설치
A16: =설계설명서!B16 -> 5. 보수공
A18: =설계설명서!G16 -> 6. 철거공
A20: =설계설명서!B18 -> 7. 식재공
A22: =설계설명서!G18 -> 8. 유지관리공
A24: =설계설명서!B20 -> 9. 수목제거공
A26: =설계설명서!G20 -> 10. 기초공
A28: =설계설명서!B22 -> 11. 소운반공
A30: =설계설명서!G22 -> 12. 폐기물처리
A32: 13. 뒷정리

Sheet 〓 목 차 〓
D1: =IF('[1]〓 INITIAL 〓'!C4,"※※ 기본정보의 일부가 삭제되어 Stmate로 변환할 수 없습니다 ※※","")
B2: 목 차 | D2: ※ 본 엑셀자료는 【STmate w24.02】버전 이상에서 STmate 자료로 다시 등록할 수 있습니다.
D3: 단, 임의로 수정한 내용(Sheet삭제, 산근내용변경, 기타계산식변경..)은 반영되지 않을 수 있습니다.
B4: 1. ※※안내※※ | D4: =HYPERLINK("#'※※안내※※'!A1","※※안내※※ →") -> ※※안내※※ →
B5: 2. 공사원가계산서 | D5: =HYPERLINK("#"&#REF!&"!A1","공사원가계산서 →") -> #REF!
B6: 3. 총괄내역서 | D6: =HYPERLINK("#"&#REF!&"!A1","총괄내역서 →") -> #REF!
B7: 4. 설계내역서 | D7: =HYPERLINK("#"&#REF!&"!A1","설계내역서 →") -> #REF!
B8: 5. 일위대가목록표 | D8: =HYPERLINK("#"&#REF!&"!A1","일위대가목록표 →") -> #REF!
B9: 6. 일위대가표 | D9: =HYPERLINK("#"&#REF!&"!A1","일위대가표 →") -> #REF!
B10: 7. 단가산출근거목록표 | D10: =HYPERLINK("#"&#REF!&"!A1","단가산출근거목록표 →") -> #REF!
B11: 8. 단가산출근거 | D11: =HYPERLINK("#"&#REF!&"!A1","단가산출근거 →") -> #REF!
B12: 9. 환율및기초자료 | D12: =HYPERLINK("#"&#REF!&"!A1","환율및기초자료 →") -> #REF!
B13: 10. 중기목록표 | D13: =HYPERLINK("#"&#REF!&"!A1","중기목록표 →") -> #REF!
B14: 11. 중기사용료 | D14: =HYPERLINK("#"&#REF!&"!A1","중기사용료 →") -> #REF!
B15: 12. 재료비목록표 | D15: =HYPERLINK("#"&#REF!&"!A1","재료비목록표 →") -> #REF!
B16: 13. 노무비목록표 | D16: =HYPERLINK("#"&#REF!&"!A1","노무비목록표 →") -> #REF!
B17: 14. 경비목록표 | D17: =HYPERLINK("#"&#REF!&"!A1","경비목록표 →") -> #REF!
B18: 15. 자재단가대비표 | D18: =HYPERLINK("#"&#REF!&"!A1","자재단가대비표 →") -> #REF!

Sheet ※※안내※※
A2: =HYPERLINK("#'〓 목 차 〓'!B2","목차 →") -> 목차 → | B2: === 엑셀파일에 작성에 대한 안내문(반드시 읽어보세요) ===
B4: 엑셀파일 수정후 계산식 반영이 안될경우 :【 Ctrl+Alt(+Shift)+F9 】
B6: ◈ 엑셀파일내의 산식은 기초단가, 복합단가, 내역서 및 총괄내역서까지 연결됩니다.
B7: (모든산식은 단가만을 불러오며, 명칭, 규격, 단위, 비고.. 등은 TEXT로 입력됩니다)
B8: ◈ 각 Sheet우측에는 해당 항목을 찾아가는 위치이동(→) 링크가 있으며, 클릭하면 이동됩니다.
B9: (Alt + ← 키를 이용하여 찾아갔던 항목을 되돌아 올 수 있습니다.)
B10: ◈ 자재단가 대비표의 적용단가는 수식이 적용되지 않았으나, 우측에 최소단가 수식을 입력하였습니다.
B11: ◈ 일위대가표 및 중기사용료 및 총괄내역서의 양식은 일반양식을 적용합니다.
B12: =HYPERLINK("#"&#REF!&"!Y3","◈ 단가산출근거의 수량부분은 산출근거 우측 연두색 부분에서 수정합니다. →") -> #REF!
B13: ◈ [목차] 및 [안내]Sheet의 이름을 변경하지 마시고, Sheet이름을 변경할때 공백문자 및 특수문자를 사용하지 마십시요.
B15: ※※※ 아래의 내용(안내 및 오류)을 확인/검토 하세요 ※※※
B16: =HYPERLINK("#"&#REF!&"!I"&ROW(#REF!)," → ") -> #REF! | C16: 【총괄내역서】29번째줄의 I열 이윤보정액은 총공사비 금액이 다를경우 임의조정(±α) 하십시요.
B17: =HYPERLINK("#"&#REF!&"!B"&ROW(#REF!)," → ") -> #REF! | C17: 【단가산출근거】792번째줄 에서 사용된【S00209】코드의 %단위(T%) 는 산식을 입력할 수 없으니 손료계산 형식으로 변경하십시요.
B18: =HYPERLINK("#"&#REF!&"!B"&ROW(#REF!)," → ") -> #REF! | C18: 【단가산출근거】842번째줄 에서 사용된【S00209】코드의 %단위(T%) 는 산식을 입력할 수 없으니 손료계산 형식으로 변경하십시요.
B19: =HYPERLINK("#"&#REF!&"!B"&ROW(#REF!)," → ") -> #REF! | C19: 【단가산출근거】892번째줄 에서 사용된【S00209】코드의 %단위(T%) 는 산식을 입력할 수 없으니 손료계산 형식으로 변경하십시요.
B20: =HYPERLINK("#"&#REF!&"!B"&ROW(#REF!)," → ") -> #REF! | C20: 【단가산출근거】942번째줄 에서 사용된【S00209】코드의 %단위(T%) 는 산식을 입력할 수 없으니 손료계산 형식으로 변경하십시요.
B21: =HYPERLINK("#"&#REF!&"!B"&ROW(#REF!)," → ") -> #REF! | C21: 【단가산출근거】992번째줄 에서 사용된【S00209】코드의 %단위(T%) 는 산식을 입력할 수 없으니 손료계산 형식으로 변경하십시요.
B22: =HYPERLINK("#"&#REF!&"!B"&ROW(#REF!)," → ") -> #REF! | C22: 【단가산출근거】1042번째줄 에서 사용된【S00209】코드의 %단위(T%) 는 산식을 입력할 수 없으니 손료계산 형식으로 변경하십시요.
B23: =HYPERLINK("#"&#REF!&"!B"&ROW(#REF!)," → ") -> #REF! | C23: 【단가산출근거】1092번째줄 에서 사용된【S00209】코드의 %단위(T%) 는 산식을 입력할 수 없으니 손료계산 형식으로 변경하십시요.
B24: =HYPERLINK("#"&#REF!&"!B"&ROW(#REF!)," → ") -> #REF! | C24: 【단가산출근거】1142번째줄 에서 사용된【S00209】코드의 %단위(T%) 는 산식을 입력할 수 없으니 손료계산 형식으로 변경하십시요.
B25: =HYPERLINK("#"&#REF!&"!B"&ROW(#REF!)," → ") -> #REF! | C25: 【단가산출근거】1192번째줄 에서 사용된【S00209】코드의 %단위(T%) 는 산식을 입력할 수 없으니 손료계산 형식으로 변경하십시요.
B26: =HYPERLINK("#"&#REF!&"!B"&ROW(#REF!)," → ") -> #REF! | C26: 【단가산출근거】1242번째줄 에서 사용된【S00209】코드의 %단위(T%) 는 산식을 입력할 수 없으니 손료계산 형식으로 변경하십시요.
B27: =HYPERLINK("#"&#REF!&"!B"&ROW(#REF!)," → ") -> #REF! | C27: 【단가산출근거】1292번째줄 에서 사용된【S00209】코드의 %단위(T%) 는 산식을 입력할 수 없으니 손료계산 형식으로 변경하십시요.
B28: =HYPERLINK("#"&#REF!&"!B"&ROW(#REF!)," → ") -> #REF! | C28: 【단가산출근거】1342번째줄 에서 사용된【S00209】코드의 %단위(T%) 는 산식을 입력할 수 없으니 손료계산 형식으로 변경하십시요.
... B48: =HYPERLINK("#"&#REF!&"!B"&ROW(#REF!)," → ") -> #REF! | C48: 【단가산출근거】2512번째줄 에서 사용된【L00194】코드의 %단위(L%) 는 산식을 입력할 수 없으니 손료계산 형식으로 변경하십시요.

Sheet 공사원가계산서
A1: 공 사 원 가 계 산 서 | G1: STmate | H1: STmate
A2: 공사명 : 2026년 처인구 숲길(등산로) 유지관리공사(2차) | G2: =MID(CELL("filename",$A$1),FIND("]",CELL("filename",$A$1))+1,LEN(CELL("filename",$A$1))) -> 공사원가계산서
A3: 구 분 | D3: 금 액 | E3: 구 성 비 | F3: 비 고
A4: 비 목 | H4: =HYPERLINK("#'〓 목 차 〓'!B2","목차 →") -> 목차 →
A5: 순 공 사 원 가 | B5: 재 료 비 | C5: 직 접 재 료 비 | D5: =총괄내역서!F17-D6+D7 -> 14806164 | E5: =D5/D31*100 -> 52.822562 | H5: =HYPERLINK("#"&총괄내역서!H2&"!F"&ROW(총괄내역서!F17),"총괄표 →") -> 총괄표 →
C6: 간 접 재 료 비 | D6: 0 | E6: =D6/D31*100 -> 0
C7: 작업설,부산물등(△) | D7: 0 | E7: =D7/D31*100 -> 0
C8: 소 계 | D8: =+D5+D6-D7 -> 14806164 | E8: =D8/D31*100 -> 52.822562
B9: 노 무 비 | C9: 직 접 노 무 비 | D9: =총괄내역서!E17 -> 4038536 | E9: =D9/D31*100 -> 14.407906 | H9: =HYPERLINK("#"&총괄내역서!H2&"!E"&ROW(총괄내역서!E17),"총괄표 →") -> 총괄표 →
C10: 간 접 노 무 비 | D10: =총괄내역서!D18 -> 743090 | E10: =D10/D31*100 -> 2.6510524 | F10: =총괄내역서!E18 -> 직접노무비 x 18.4% | H10: =HYPERLINK("#"&총괄내역서!H2&"!D"&ROW(총괄내역서!D18),"총괄표 →") -> 총괄표 →
C11: 소 계 | D11: =+D9+D10 -> 4781626 | E11: =D11/D31*100 -> 17.058958
B12: 경 비 | C12: 산 출 경 비 | D12: =총괄내역서!G17 -> 838050 | E12: =D12/D31*100 -> 2.9898323 | H12: =HYPERLINK("#"&총괄내역서!H2&"!G"&ROW(총괄내역서!G17),"총괄표 →") -> 총괄표 →
C13: 산 재 보 험 료 | D13: =총괄내역서!D19 -> 170225 | E13: =D13/D31*100 -> 0.60729575 | F13: =총괄내역서!E19 -> (직접노무비+간접노무비) x 3.56% | H13: =HYPERLINK("#"&총괄내역서!H2&"!D"&ROW(총괄내역서!D19),"총괄표 →") -> 총괄표 →
C14: 고 용 보 험 료 | D14: =총괄내역서!D20 -> 48294 | E14: =D14/D31*100 -> 0.17229397 | F14: =총괄내역서!E20 -> (직접노무비+간접노무비) x 1.01% | H14: =HYPERLINK("#"&총괄내역서!H2&"!D"&ROW(총괄내역서!D20),"총괄표 →") -> 총괄표 →
C15: 건 강 보 험 료 | D15: =총괄내역서!D21 -> 145185 | E15: =D15/D31*100 -> 0.5179629 | F15: =총괄내역서!E21 -> 직접노무비 x 3.595% | H15: =HYPERLINK("#"&총괄내역서!H2&"!D"&ROW(총괄내역서!D21),"총괄표 →") -> 총괄표 →
C16: 노인장기요양보험료 | D16: =총괄내역서!D22 -> 19077 | E16: =D16/D31*100 -> 0.068059222 | F16: =총괄내역서!E22 -> 건강보험료 x 13.14% | H16: =HYPERLINK("#"&총괄내역서!H2&"!D"&ROW(총괄내역서!D22),"총괄표 →") -> 총괄표 →
C17: 연 금 보 험 료 | D17: =총괄내역서!D23 -> 191830 | E17: =D17/D31*100 -> 0.68437389 | F17: =총괄내역서!E23 -> 직접노무비 x 4.75% | H17: =HYPERLINK("#"&총괄내역서!H2&"!D"&ROW(총괄내역서!D23),"총괄표 →") -> 총괄표 →
C18: 퇴 직 공 제 부 금 비 | D18: =총괄내역서!D24 -> 0 | E18: =D18/D31*100 -> 0 | F18: =총괄내역서!E24 -> 직접노무비 x 2.3% | H18: =HYPERLINK("#"&총괄내역서!H2&"!D"&ROW(총괄내역서!D24),"총괄표 →") -> 총괄표 →
C19: 산업안전보건관리비 | D19: =총괄내역서!D25 -> 390085 | E19: =D19/D31*100 -> 1.3916696 | F19: =총괄내역서!E25 -> (직노+직재+간재) x 2.07% = 390,085 | H19: =HYPERLINK("#"&총괄내역서!H2&"!D"&ROW(총괄내역서!D25),"총괄표 →") -> 총괄표 →
C20: 기 타 경 비 | D20: =총괄내역서!D26 -> 920626 | E20: =D20/D31*100 -> 3.284431 | F20: =총괄내역서!E26 -> (직접노무비+간접노무비+재료비) x 4.7% | H20: =HYPERLINK("#"&총괄내역서!H2&"!D"&ROW(총괄내역서!D26),"총괄표 →") -> 총괄표 →
C21: 환 경 보 전 비 | D21: =총괄내역서!D27 -> 59048 | E21: =D21/D31*100 -> 0.21066001 | F21: =총괄내역서!E27 -> (재료비 + 직접노무비 + 산출경비) x 0.3% | H21: =HYPERLINK("#"&총괄내역서!H2&"!D"&ROW(총괄내역서!D27),"총괄표 →") -> 총괄표 →
C22: 건설기계대여금지급보증 금액 | D22: =총괄내역서!D28 -> 31492 | E22: =D22/D31*100 -> 0.11235105 | F22: =총괄내역서!E28 -> (재료비 + 직접노무비 + 산출경비) x 0.16% | H22: =HYPERLINK("#"&총괄내역서!H2&"!D"&ROW(총괄내역서!D28),"총괄표 →") -> 총괄표 →
C23: 석면피해구제분담금 | D23: =총괄내역서!D29 -> 286 | E23: =D23/D31*100 -> 0.0010203354 | F23: =총괄내역서!E29 -> (직접노무비+간접노무비) x 0.006%
C24: 임금채권부담금 | D24: =총괄내역서!D30 -> 4303 | E24: =D24/D31*100 -> 0.015351409 | F24: =총괄내역서!E30 -> (직접노무비+간접노무비) x 0.09%
C25: 소 계 | D25: =+D12+D13+D14+D15+D16+D17+D18+D19+D20+D21+D22+D23+D24 -> 2818501 | E25: =D25/D31*100 -> 10.055301
A26: 일 반 관 리 비 | D26: =총괄내역서!D32 -> 1792503 | E26: =D26/D31*100 -> 6.3949447 | F26: ="순공사원가 x "&ROUND(총괄내역서!M32,5)&"%" -> 순공사원가 x 8% | H26: =HYPERLINK("#"&총괄내역서!H2&"!D"&ROW(총괄내역서!D32),"총괄표 →") -> 총괄표 →
A27: 이 윤 | D27: =총괄내역서!D34 -> 1283025 | E27: =D27/D31*100 -> 4.5773279 | F27: ="(노무비+경비+일반관리비) x "&ROUND(총괄내역서!M34,5)&"%" -> (노무비+경비+일반관리비) x 15% | H27: =HYPERLINK("#"&총괄내역서!H2&"!D"&ROW(총괄내역서!D34),"총괄표 →") -> 총괄표 →
A28: 총 원 가 | D28: =총괄내역서!D35 -> 25481819 | E28: =D28/D31*100 -> 90.909094 | H28: =HYPERLINK("#"&총괄내역서!H2&"!D"&ROW(총괄내역서!D35),"총괄표 →") -> 총괄표 →
A29: 부 가 가 치 세 | D29: =총괄내역서!D36 -> 2548181 | E29: =D29/D31*100 -> 9.0909062 | F29: ="총 원 가 x "&ROUND(총괄내역서!M36,5)&"%" -> 총 원 가 x 10% | H29: =HYPERLINK("#"&총괄내역서!H2&"!D"&ROW(총괄내역서!D36),"총괄표 →") -> 총괄표 →
A30: 도 급 공 사 비 | D30: =총괄내역서!D37 -> 28030000 | E30: =D30/D31*100 -> 100 | H30: =HYPERLINK("#"&총괄내역서!H2&"!D"&ROW(총괄내역서!D37),"총괄표 →") -> 총괄표 →
A31: 총 공 사 비 | D31: =D30 -> 28030000 | E31: 100

Sheet 총괄내역서
A1: 총 괄 내 역 서 | H1: STmate | Q1: STmate
A2: 공사명 : 2026년 처인구 숲길(등산로) 유지관리공사(2차) | H2: =MID(CELL("filename",$A$1),FIND("]",CELL("filename",$A$1))+1,LEN(CELL("filename",$A$1))) -> 총괄내역서
A3: 공 종 | B3: 명 칭 | C3: 규 격 | D3: 합 계 | E3: 노 무 비 | F3: 재 료 비 | G3: 경 비 | H3: _x0007_`JTYP|0_x0005_`ACTL|F_x0005_` | I3: 수정은 아래의 연두색 부분에 | Q3: =HYPERLINK("#'〓 목 차 〓'!B2","목차 →") -> 목차 →
A4: □ | B4: 2026년 처인구 숲길(등산로) 유지관리공사(2차) | D4: =설계내역서!G5 -> 19682750 | E4: =설계내역서!I5 -> 4038536 | F4: =설계내역서!K5 -> 14806164 | G4: =설계내역서!M5 -> 838050 | Q4: =HYPERLINK("#"&설계내역서!O2&"!A"&ROW(설계내역서!A5),"내역 →") -> 내역 →
A5: 1. | B5: 숲길정비공 | D5: =설계내역서!G6 -> 0 | E5: =설계내역서!I6 -> 0 | F5: =설계내역서!K6 -> 0 | G5: =설계내역서!M6 -> 0 | Q5: =HYPERLINK("#"&설계내역서!O2&"!A"&ROW(설계내역서!A6),"내역 →") -> 내역 →
A6: 2. | B6: 편의시설 | D6: =설계내역서!G153 -> 6284196 | E6: =설계내역서!I153 -> 914568 | F6: =설계내역서!K153 -> 5366664 | G6: =설계내역서!M153 -> 2964 | Q6: =HYPERLINK("#"&설계내역서!O2&"!A"&ROW(설계내역서!A153),"내역 →") -> 내역 →
A7: 3. | B7: 운동시설 | D7: =설계내역서!G161 -> 0 | E7: =설계내역서!I161 -> 0 | F7: =설계내역서!K161 -> 0 | G7: =설계내역서!M161 -> 0 | Q7: =HYPERLINK("#"&설계내역서!O2&"!A"&ROW(설계내역서!A161),"내역 →") -> 내역 →
A8: 4. | B8: 안내판 설치 | D8: =설계내역서!G180 -> 9300000 | E8: =설계내역서!I180 -> 0 | F8: =설계내역서!K180 -> 9300000 | G8: =설계내역서!M180 -> 0 | Q8: =HYPERLINK("#"&설계내역서!O2&"!A"&ROW(설계내역서!A180),"내역 →") -> 내역 →
A9: 5. | B9: 보수공 | D9: =설계내역서!G191 -> 1264200 | E9: =설계내역서!I191 -> 1102700 | F9: =설계내역서!K191 -> 139500 | G9: =설계내역서!M191 -> 22000 | Q9: =HYPERLINK("#"&설계내역서!O2&"!A"&ROW(설계내역서!A191),"내역 →") -> 내역 →
A10: 6. | B10: 철거공 | D10: =설계내역서!G237 -> 0 | E10: =설계내역서!I237 -> 0 | F10: =설계내역서!K237 -> 0 | G10: =설계내역서!M237 -> 0 | Q10: =HYPERLINK("#"&설계내역서!O2&"!A"&ROW(설계내역서!A237),"내역 →") -> 내역 →
A11: 7. | B11: 식재공 | D11: =설계내역서!G301 -> 0 | E11: =설계내역서!I301 -> 0 | F11: =설계내역서!K301 -> 0 | G11: =설계내역서!M301 -> 0 | Q11: =HYPERLINK("#"&설계내역서!O2&"!A"&ROW(설계내역서!A301),"내역 →") -> 내역 →
A12: 8. | B12: 유지관리공 | D12: =설계내역서!G373 -> 2081873 | E12: =설계내역서!I373 -> 2021268 | F12: =설계내역서!K373 -> 0 | G12: =설계내역서!M373 -> 60605 | Q12: =HYPERLINK("#"&설계내역서!O2&"!A"&ROW(설계내역서!A373),"내역 →") -> 내역 →
A13: 9. | B13: 수목제거공 | D13: =설계내역서!G407 -> 0 | E13: =설계내역서!I407 -> 0 | F13: =설계내역서!K407 -> 0 | G13: =설계내역서!M407 -> 0 | Q13: =HYPERLINK("#"&설계내역서!O2&"!A"&ROW(설계내역서!A407),"내역 →") -> 내역 →
A14: 10. | B14: 기초공 | D14: =설계내역서!G435 -> 0 | E14: =설계내역서!I435 -> 0 | F14: =설계내역서!K435 -> 0 | G14: =설계내역서!M435 -> 0 | Q14: =HYPERLINK("#"&설계내역서!O2&"!A"&ROW(설계내역서!A435),"내역 →") -> 내역 →
A15: 11. | B15: 소운반공 | D15: =설계내역서!G445 -> 752481 | E15: =설계내역서!I445 -> 0 | F15: =설계내역서!K445 -> 0 | G15: =설계내역서!M445 -> 752481 | Q15: =HYPERLINK("#"&설계내역서!O2&"!A"&ROW(설계내역서!A445),"내역 →") -> 내역 →
A16: 11. | B16: 폐기물처리 | D16: =설계내역서!G474 -> 0 | E16: =설계내역서!I474 -> 0 | F16: =설계내역서!K474 -> 0 | G16: =설계내역서!M474 -> 0 | Q16: =HYPERLINK("#"&설계내역서!O2&"!A"&ROW(설계내역서!A474),"내역 →") -> 내역 →
A17: 가. | B17: 순공사비계 | D17: =설계내역서!G482 -> 19682750 | E17: =설계내역서!I482 -> 4038536 | F17: =설계내역서!K482 -> 14806164 | G17: =설계내역서!M482 -> 838050 | Q17: =HYPERLINK("#"&설계내역서!O2&"!A"&ROW(설계내역서!A482),"내역 →") -> 내역 →
B18: 1. 간접노무비 | D18: =ROUNDDOWN(E17*M18/100,0) -> 743090 | E18: ="직접노무비 x "&ROUND(M18,5)&"%" -> 직접노무비 x 18.4% | H18: _x0007_`DTP|201_x0005_`QTY1|1_x0005_`BDC|_x0005_`SRE|LA_x0005_` | I18: 0 | M18: 18.4 | N18: 0 | O18: 0 | P18: 0
B19: 2. 산재보험료 | D19: =ROUNDDOWN(((E17+D18))*M19/100,0) -> 170225 | E19: ="(직접노무비+간접노무비) x "&ROUND(M19,5)&"%" -> (직접노무비+간접노무비) x 3.56% | H19: _x0007_`DTP|301_x0005_`QTY1|1_x0005_`BDC|_x0005_`SRE|SA_x0005_` | I19: 0 | M19: 3.56 | N19: 0 | O19: 0 | P19: 0
B20: 3. 고용보험료 | D20: =ROUNDDOWN(((E17+D18))*M20/100,0) -> 48294 | E20: ="(직접노무비+간접노무비) x "&ROUND(M20,5)&"%" -> (직접노무비+간접노무비) x 1.01% | H20: _x0007_`DTP|302_x0005_`QTY1|1_x0005_`BDC|_x0005_`SRE|SA_x0005_` | I20: 0 | M20: 1.01 | N20: 0 | O20: 0 | P20: 0
B21: 4. 건강보험료 | D21: =ROUNDDOWN((E17)*M21/100,0) -> 145185 | E21: ="직접노무비 x "&ROUND(M21,5)&"%" -> 직접노무비 x 3.595% | H21: _x0007_`DTP|303_x0005_`QTY1|1_x0005_`BDC|_x0005_`SRE|SA_x0005_` | I21: 0 | J21: =E17 -> 4038536 | M21: 3.595 | N21: 0 | O21: 0 | P21: 0
B22: 5. 노인장기요양보험료 | D22: =ROUNDDOWN(D21*M22/100,0) -> 19077 | E22: ="건강보험료 x "&ROUND(M22,5)&"%" -> 건강보험료 x 13.14% | H22: _x0007_`DTP|310_x0005_`QTY1|1_x0005_`BDC|_x0005_`SRE|SA_x0005_` | I22: 0 | J22: =D21 -> 145185 | M22: 13.14 | N22: 0 | O22: 0 | P22: 0
B23: 6. 연금보험료 | D23: =ROUNDDOWN((E17)*M23/100,0) -> 191830 | E23: ="직접노무비 x "&ROUND(M23,5)&"%" -> 직접노무비 x 4.75% | H23: _x0007_`DTP|304_x0005_`QTY1|1_x0005_`BDC|_x0005_`SRE|SA_x0005_` | I23: 0 | J23: =E17 -> 4038536 | M23: 4.75 | N23: 0 | O23: 0 | P23: 0
B24: 7. 퇴직공제부금비 | E24: ="직접노무비 x "&ROUND(M24,5)&"%" -> 직접노무비 x 2.3% | H24: _x0007_`DTP|305_x0005_`QTY1|1_x0005_`BDC|_x0005_`SRE|SA_x0005_` | I24: 0 | J24: =E17 -> 4038536 | M24: 2.3 | N24: 0 | O24: 0 | P24: 0
B25: 8. 산업안전보건관리비 | D25: =ROUNDDOWN(((E17+(F17)))*M25/100,0) -> 390085 | E25: ="(직노+직재+간재) x "&ROUND(M25,5)&"% = "&TEXT(D25,"#,0")&"" -> (직노+직재+간재) x 2.07% = 390,085 | H25: _x0007_`DTP|306_x0005_`QTY1|1_x0005_`BDC|_x0005_`SRE|SA_x0005_`ANK|1_x0005_` | I25: 0 | J25: =((E17+(F17))) -> 18844700 | M25: 2.07 | N25: 0 | O25: 0 | P25: 0
B26: 9. 기타경비 | D26: =ROUNDDOWN(((((E17+D18)+(F17))))*M26/100,0) -> 920626 | E26: ="(직접노무비+간접노무비+재료비) x "&ROUND(M26,5)&"%" -> (직접노무비+간접노무비+재료비) x 4.7% | H26: _x0007_`DTP|321_x0005_`QTY1|1_x0005_`BDC|_x0005_`SRE|SA_x0005_` | I26: 0 | M26: 4.7 | N26: 0 | O26: 0 | P26: 0
B27: 10. 환경보전비 | D27: =ROUNDDOWN((D17)*M27/100,0) -> 59048 | E27: ="(재료비 + 직접노무비 + 산출경비) x "&ROUND(M27,5)&"%" -> (재료비 + 직접노무비 + 산출경비) x 0.3% | H27: _x0007_`DTP|309_x0005_`QTY1|1_x0005_`BDC|_x0005_`SRE|SA_x0005_` | I27: 0 | M27: 0.3 | N27: 0 | O27: 0 | P27: 0
B28: 11. 건설기계대여금지급보증 금액 | D28: =ROUNDDOWN((D17)*M28/100,0) -> 31492 | E28: ="(재료비 + 직접노무비 + 산출경비) x "&ROUND(M28,5)&"%" -> (재료비 + 직접노무비 + 산출경비) x 0.16% | H28: _x0007_`DTP|311_x0005_`QTY1|1_x0005_`BDC|_x0005_`SRE|SA_x0005_` | I28: 0 | M28: 0.16 | N28: 0 | O28: 0 | P28: 0
B29: 12. 석면피해구제분담금 | D29: =ROUNDDOWN(((((E17+D18))))*M29/100,0) -> 286 | E29: ="(직접노무비+간접노무비) x "&ROUND(M29,5)&"%" -> (직접노무비+간접노무비) x 0.006% | M29: 0.006
B30: 13. 임금채권부담금 | D30: =ROUNDDOWN(((((E17+D18))))*M30/100,0) -> 4303 | E30: ="(직접노무비+간접노무비) x "&ROUND(M30,5)&"%" -> (직접노무비+간접노무비) x 0.09% | M30: 0.09
A31: 나. | B31: 소 계 | D31: =(D17+D18+D19+D20+D21+D22+D23+D24+D25+D26+D27+D28+D29+D30) -> 22406291 | H31: _x0007_`DTP|400_x0005_`QTY1|1_x0005_`BDC|_x0005_`SRE|TA-F_x0005_` | I31: 0 | M31: 0 | N31: 0 | O31: 0 | P31: 0
B32: 12. 일반관리비 | D32: =ROUNDDOWN(((D31)+0)*M32/100,0) -> 1792503 | E32: ="(나.소 계) x "&ROUND(M32,5)&"%" -> (나.소 계) x 8% | H32: _x0007_`DTP|401_x0005_`QTY1|1_x0005_`BDC|_x0005_`SRE|TA_x0005_` | I32: 0 | M32: 8 | N32: 0 | O32: 0 | P32: 0
A33: 다. | B33: 소 계 | D33: =(D31+D32) -> 24198794 | H33: _x0007_`DTP|410_x0005_`QTY1|1_x0005_`BDC|_x0005_`SRE|TA-F_x0005_` | I33: 0 | J33: =D33 -> 24198794 | L33: =D33 -> 24198794 | M33: 0 | N33: 0 | O33: 0 | P33: 0
B34: 13. 이 윤 | D34: =ROUNDDOWN(((D33)-(F17))*M34/100,0)-5000-200-17-120000-650-2 -> 1283025 | E34: ="(다.소계 - 재료비) x "&ROUND(M34,5)&"% = "&TEXT(J34,"#,##0") -> (다.소계 - 재료비) x 15% = 1,408,894 | H34: _x0007_`DTP|402_x0005_`QTY1|1_x0005_`BDC|_x0005_`SRE|TA_x0005_` | J34: =ROUNDDOWN(((J33)-(F17))*M34/100,0) -> 1408894 | L34: =ROUNDDOWN(((L33)-(F17))*M34/100,0)-I34 -> 1408894 | M34: 15 | N34: 0 | O34: 0 | P34: 0
A35: 라. | B35: 공급가액 | D35: =(D33+D34) -> 25481819 | H35: _x0007_`DTP|500_x0005_`QTY1|1_x0005_`BDC|_x0005_`SRE|TA-F_x0005_` | I35: 0 | J35: =(J33+J34) -> 25607688 | L35: =(L33+L34) -> 25607688 | M35: 0 | N35: 0 | O35: 0 | P35: 0
B36: 14. 부가가치세 | D36: =ROUNDDOWN((D35)*M36/100,0)+I36 -> 2548181 | E36: ="공급가액 x "&ROUND(M36,5)&"%" -> 공급가액 x 10% | H36: _x0007_`DTP|502_x0005_`QTY1|1_x0005_`BDC|_x0005_`SRE|TA_x0005_` | I36: 0 | J36: =ROUNDDOWN((J35)*M36/100,0)+I36 -> 2560768 | L36: =ROUNDDOWN((L35)*M36/100,0)+I36 -> 2560768 | M36: 10 | N36: 0 | O36: 0 | P36: 0
A37: 마. | B37: 도급공사비 | D37: =(D35+D36) -> 28030000 | H37: _x0007_`DTP|600_x0005_`QTY1|1_x0005_`BDC|_x0005_`SRE|TA-F_x0005_` | I37: 0 | J37: =(J35+J36) -> 28168456 | L37: =(L35+L36) -> 28168456 | M37: 0 | N37: 0 | O37: 0 | P37: 0

Sheet 설계내역서
A1: 설 계 내 역 서 | O1: STmate | AC1: STmate
A2: 공사명 : 2026년 처인구 숲길(등산로) 유지관리공사(2차) | O2: =MID(CELL("filename",$A$1),FIND("]",CELL("filename",$A$1))+1,LEN(CELL("filename",$A$1))) -> 설계내역서
A3: 공 종 | B3: 명 칭 | C3: 규 격 | D3: 수 량 | E3: 단위 | F3: 합 계 | H3: 노 무 비 | J3: 재 료 비 | L3: 경 비 | N3: 비 고
F4: 단 가 | G4: 금 액 | H4: 단 가 | I4: 금 액 | J4: 단 가 | K4: 금 액 | L4: 단 가 | M4: 금 액 | AC4: =HYPERLINK("#'〓 목 차 〓'!B2","목차 →") -> 목차 →
A5: □ | B5: 수지구 숲길(등산로) 정비 및 유지관리 연간단가공사 | F5: 0 | G5: =SUMIF(Q6:Q481,P5,G6:G481) -> 19682750 | H5: 0 | I5: =SUMIF(Q6:Q481,P5,I6:I481) -> 4038536 | J5: 0 | K5: =SUMIF(Q6:Q481,P5,K6:K481) -> 14806164 | L5: 0 | M5: =SUMIF(Q6:Q481,P5,M6:M481) -> 838050 | O5: ="_x0007_`COD|E5_x0005_`QTY1|1_x0005_`EXI|1_x0005_`ITT|0_x0005_`END|"&ROW(M482)&"_x0005_`" -> _x0007_`COD|E5_x0005_`QTY1|1_x0005_`EXI|1_x0005_`ITT|0_x0005_`END|482_x0005_` | P5: E5_1 | Q5: E10_1
A6: 1. | B6: 숲길정비공 | F6: 0 | G6: =SUMIF(Q7:Q152,P6,G7:G152) -> 0 | H6: 0 | I6: =SUMIF(Q7:Q152,P6,I7:I152) -> 0 | J6: 0 | K6: =SUMIF(Q7:Q152,P6,K7:K152) -> 0 | L6: 0 | M6: =SUMIF(Q7:Q152,P6,M7:M152) -> 0 | O6: ="_x0007_`COD|E4_x0005_`QTY1|1_x0005_`EXI|0_x0005_`ITT|0_x0005_`END|"&ROW(M153)&"_x0005_`" -> _x0007_`COD|E4_x0005_`QTY1|1_x0005_`EXI|0_x0005_`ITT|0_x0005_`END|153_x0005_` | P6: E4_1 | Q6: E5_1
B7: 등산로만들기(산지할증A) | C7: B=1.0m | D7: 0 | E7: m | F7: =J7+H7+L7 -> 28619 | G7: =K7+I7+M7 -> 0 | H7: =일위대가목록표!F54 -> 28487 | I7: =ROUNDDOWN(H7*D7,0) -> 0 | J7: =일위대가목록표!G54 -> 22 | K7: =ROUNDDOWN(J7*D7,0) -> 0 | L7: =일위대가목록표!H54 -> 110 | M7: =ROUNDDOWN(L7*D7,0) -> 0 | N7: B02823 | O7: _x0007_`COD|B02823_x0005_`QTY1|1_x0005_`EXI|0_x0005_`IPR|0_x0005_`BLA|F_x0005_` | P7: B02823_1 | Q7: E4_1 | AC7: =HYPERLINK("#"&일위대가목록표!J2&"!A"&ROW(일위대가목록표!A54),"B02823 →") -> B02823 →
B8: 등산로만들기(산지할증A) | C8: B=1.2m | D8: 0 | E8: m | F8: =J8+H8+L8 -> 34343 | G8: =K8+I8+M8 -> 0 | H8: =일위대가목록표!F55 -> 34185 | I8: =ROUNDDOWN(H8*D8,0) -> 0 | J8: =일위대가목록표!G55 -> 26 | K8: =ROUNDDOWN(J8*D8,0) -> 0 | L8: =일위대가목록표!H55 -> 132 | M8: =ROUNDDOWN(L8*D8,0) -> 0 | N8: B02824 | O8: _x0007_`COD|B02824_x0005_`QTY1|1_x0005_`EXI|0_x0005_`IPR|0_x0005_`BLA|F_x0005_` | P8: B02824_1 | Q8: E4_1 | AC8: =HYPERLINK("#"&일위대가목록표!J2&"!A"&ROW(일위대가목록표!A55),"B02824 →") -> B02824 →
B9: 등산로만들기(산지할증A) | C9: B=1.5m | D9: 0 | E9: m | F9: =J9+H9+L9 -> 42929 | G9: =K9+I9+M9 -> 0 | H9: =일위대가목록표!F56 -> 42731 | I9: =ROUNDDOWN(H9*D9,0) -> 0 | J9: =일위대가목록표!G56 -> 33 | K9: =ROUNDDOWN(J9*D9,0) -> 0 | L9: =일위대가목록표!H56 -> 165 | M9: =ROUNDDOWN(L9*D9,0) -> 0 | N9: B02825 | O9: _x0007_`COD|B02825_x0005_`QTY1|1_x0005_`EXI|0_x0005_`IPR|0_x0005_`BLA|F_x0005_` | P9: B02825_1 | Q9: E4_1 | AC9: =HYPERLINK("#"&일위대가목록표!J2&"!A"&ROW(일위대가목록표!A56),"B02825 →") -> B02825 →
B10: 등산로만들기(산지할증A) | C10: B=2.0m | D10: 0 | E10: m | F10: =J10+H10+L10 -> 57240 | G10: =K10+I10+M10 -> 0 | H10: =일위대가목록표!F57 -> 56976 | I10: =ROUNDDOWN(H10*D10,0) -> 0 | J10: =일위대가목록표!G57 -> 44 | K10: =ROUNDDOWN(J10*D10,0) -> 0 | L10: =일위대가목록표!H57 -> 220 | M10: =ROUNDDOWN(L10*D10,0) -> 0 | N10: B02826 | O10: _x0007_`COD|B02826_x0005_`QTY1|1_x0005_`EXI|0_x0005_`IPR|0_x0005_`BLA|F_x0005_` | P10: B02826_1 | Q10: E4_1 | AC10: =HYPERLINK("#"&일위대가목록표!J2&"!A"&ROW(일위대가목록표!A57),"B02826 →") -> B02826 →
B11: 등산로만들기(산지할증B) | C11: B=1.0m | D11: 0 | E11: m | F11: =J11+H11+L11 -> 31097 | G11: =K11+I11+M11 -> 0 | H11: =일위대가목록표!F58 -> 30965 | I11: =ROUNDDOWN(H11*D11,0) -> 0 | J11: =일위대가목록표!G58 -> 22 | K11: =ROUNDDOWN(J11*D11,0) -> 0 | L11: =일위대가목록표!H58 -> 110 | M11: =ROUNDDOWN(L11*D11,0) -> 0 | N11: B02668 | O11: _x0007_`COD|B02668_x0005_`QTY1|1_x0005_`EXI|0_x0005_`IPR|0_x0005_`BLA|F_x0005_` | P11: B02668_1 | Q11: E4_1 | AC11: =HYPERLINK("#"&일위대가목록표!J2&"!A"&ROW(일위대가목록표!A58),"B02668 →") -> B02668 →
B12: 등산로만들기(산지할증B) | C12: B=1.2m | D12: 0 | E12: m | F12: =J12+H12+L12 -> 37316 | G12: =K12+I12+M12 -> 0 | H12: =일위대가목록표!F59 -> 37158 | I12: =ROUNDDOWN(H12*D12,0) -> 0 | J12: =일위대가목록표!G59 -> 26 | K12: =ROUNDDOWN(J12*D12,0) -> 0 | L12: =일위대가목록표!H59 -> 132 | M12: =ROUNDDOWN(L12*D12,0) -> 0 | N12: B02669 | O12: _x0007_`COD|B02669_x0005_`QTY1|1_x0005_`EXI|0_x0005_`IPR|0_x0005_`BLA|F_x0005_` | P12: B02669_1 | Q12: E4_1 | AC12: =HYPERLINK("#"&일위대가목록표!J2&"!A"&ROW(일위대가목록표!A59),"B02669 →") -> B02669 →
B13: 등산로만들기(산지할증B) | C13: B=1.5m | D13: 0 | E13: m | F13: =J13+H13+L13 -> 46645 | G13: =K13+I13+M13 -> 0 | H13: =일위대가목록표!F60 -> 46447 | I13: =ROUNDDOWN(H13*D13,0) -> 0 | J13: =일위대가목록표!G60 -> 33 | K13: =ROUNDDOWN(J13*D13,0) -> 0 | L13: =일위대가목록표!H60 -> 165 | M13: =ROUNDDOWN(L13*D13,0) -> 0 | N13: B02670 | O13: _x0007_`COD|B02670_x0005_`QTY1|1_x0005_`EXI|0_x0005_`IPR|0_x0005_`BLA|F_x0005_` | P13: B02670_1 | Q13: E4_1 | AC13: =HYPERLINK("#"&일위대가목록표!J2&"!A"&ROW(일위대가목록표!A60),"B02670 →") -> B02670 →
B14: 등산로만들기(산지할증B) | C14: B=2.0m | D14: 0 | E14: m | F14: =J14+H14+L14 -> 62194 | G14: =K14+I14+M14 -> 0 | H14: =일위대가목록표!F61 -> 61930 | I14: =ROUNDDOWN(H14*D14,0) -> 0 | J14: =일위대가목록표!G61 -> 44 | K14: =ROUNDDOWN(J14*D14,0) -> 0 | L14: =일위대가목록표!H61 -> 220 | M14: =ROUNDDOWN(L14*D14,0) -> 0 | N14: B02671 | O14: _x0007_`COD|B02671_x0005_`QTY1|1_x0005_`EXI|0_x0005_`IPR|0_x0005_`BLA|F_x0005_` | P14: B02671_1 | Q14: E4_1 | AC14: =HYPERLINK("#"&일위대가목록표!J2&"!A"&ROW(일위대가목록표!A61),"B02671 →") -> B02671 →
B15: 등산로만들기 | C15: B=1.0m | D15: 0 | E15: m | F15: =J15+H15+L15 -> 24904 | G15: =K15+I15+M15 -> 0 | H15: =일위대가목록표!F50 -> 24772 | I15: =ROUNDDOWN(H15*D15,0) -> 0 | J15: =일위대가목록표!G50 -> 22 | K15: =ROUNDDOWN(J15*D15,0) -> 0 | L15: =일위대가목록표!H50 -> 110 | M15: =ROUNDDOWN(L15*D15,0) -> 0 | N15: B02627 | O15: _x0007_`COD|B02627_x0005_`QTY1|1_x0005_`EXI|0_x0005_`IPR|0_x0005_`BLA|F_x0005_` | P15: B02627_1 | Q15: E4_1 | AC15: =HYPERLINK("#"&일위대가목록표!J2&"!A"&ROW(일위대가목록표!A50),"B02627 →") -> B02627 →
B16: 등산로만들기 | C16: B=1.2m | D16: 0 | E16: m | F16: =J16+H16+L16 -> 29884 | G16: =K16+I16+M16 -> 0 | H16: =일위대가목록표!F51 -> 29726 | I16: =ROUNDDOWN(H16*D16,0) -> 0 | J16: =일위대가목록표!G51 -> 26 | K16: =ROUNDDOWN(J16*D16,0) -> 0 | L16: =일위대가목록표!H51 -> 132 | M16: =ROUNDDOWN(L16*D16,0) -> 0 | N16: B02626 | O16: _x0007_`COD|B02626_x0005_`QTY1|1_x0005_`EXI|0_x0005_`IPR|0_x0005_`BLA|F_x0005_` | P16: B02626_1 | Q16: E4_1 | AC16: =HYPERLINK("#"&일위대가목록표!J2&"!A"&ROW(일위대가목록표!A51),"B02626 →") -> B02626 →
B17: 등산로만들기 | C17: B=1.5m | D17: 0 | E17: m | F17: =J17+H17+L17 -> 37356 | G17: =K17+I17+M17 -> 0 | H17: =일위대가목록표!F52 -> 37158 | I17: =ROUNDDOWN(H17*D17,0) -> 0 | J17: =일위대가목록표!G52 -> 33 | K17: =ROUNDDOWN(J17*D17,0) -> 0 | L17: =일위대가목록표!H52 -> 165 | M17: =ROUNDDOWN(L17*D17,0) -> 0 | N17: B02020 | O17: _x0007_`COD|B02020_x0005_`QTY1|1_x0005_`EXI|0_x0005_`IPR|0_x0005_`BLA|F_x0005_` | P17: B02020_1 | Q17: E4_1 | AC17: =HYPERLINK("#"&일위대가목록표!J2&"!A"&ROW(일위대가목록표!A52),"B02020 →") -> B02020 →
B18: 등산로만들기 | C18: B=2.0m | D18: 0 | E18: m | F18: =J18+H18+L18 -> 49808 | G18: =K18+I18+M18 -> 0 | H18: =일위대가목록표!F53 -> 49544 | I18: =ROUNDDOWN(H18*D18,0) -> 0 | J18: =일위대가목록표!G53 -> 44 | K18: =ROUNDDOWN(J18*D18,0) -> 0 | L18: =일위대가목록표!H53 -> 220 | M18: =ROUNDDOWN(L18*D18,0) -> 0 | N18: B02628 | O18: _x0007_`COD|B02628_x0005_`QTY1|1_x0005_`EXI|0_x0005_`IPR|0_x0005_`BLA|F_x0005_` | P18: B02628_1 | Q18: E4_1 | AC18: =HYPERLINK("#"&일위대가목록표!J2&"!A"&ROW(일위대가목록표!A53),"B02628 →") -> B02628 →
B19: 등산로 정비(산지할증A) | C19: B=1.0m | D19: 0 | E19: m | F19: =J19+H19+L19 -> 14309 | G19: =K19+I19+M19 -> 0 | H19: =일위대가목록표!F42 -> 14243 | I19: =ROUNDDOWN(H19*D19,0) -> 0 | J19: =일위대가목록표!G42 -> 11 | K19: =ROUNDDOWN(J19*D19,0) -> 0 | L19: =일위대가목록표!H42 -> 55 | M19: =ROUNDDOWN(L19*D19,0) -> 0 | N19: B02827 | O19: _x0007_`COD|B02827_x0005_`QTY1|1_x0005_`EXI|0_x0005_`IPR|0_x0005_`BLA|F_x0005_` | P19: B02827_1 | Q19: E4_1 | AC19: =HYPERLINK("#"&일위대가목록표!J2&"!A"&ROW(일위대가목록표!A42),"B02827 →") -> B02827 →
B20: 등산로 정비(산지할증A) | C20: B=1.2m | D20: 0 | E20: m | F20: =J20+H20+L20 -> 17171 | G20: =K20+I20+M20 -> 0 | H20: =일위대가목록표!F43 -> 17092 | I20: =ROUNDDOWN(H20*D20,0) -> 0 | J20: =일위대가목록표!G43 -> 13 | K20: =ROUNDDOWN(J20*D20,0) -> 0 | L20: =일위대가목록표!H43 -> 66 | M20: =ROUNDDOWN(L20*D20,0) -> 0 | N20: B02828 | O20: _x0007_`COD|B02828_x0005_`QTY1|1_x0005_`EXI|0_x0005_`IPR|0_x0005_`BLA|F_x0005_` | P20: B02828_1 | Q20: E4_1 | AC20: =HYPERLINK("#"&일위대가목록표!J2&"!A"&ROW(일위대가목록표!A43),"B02828 →") -> B02828 →
B21: 등산로 정비(산지할증A) | C21: B=1.5m | D21: 0 | E21: m | F21: =J21+H21+L21 -> 21463 | G21: =K21+I21+M21 -> 0 | H21: =일위대가목록표!F44 -> 21365 | I21: =ROUNDDOWN(H21*D21,0) -> 0 | J21: =일위대가목록표!G44 -> 16 | K21: =ROUNDDOWN(J21*D21,0) -> 0 | L21: =일위대가목록표!H44 -> 82 | M21: =ROUNDDOWN(L21*D21,0) -> 0 | N21: B02829 | O21: _x0007_`COD|B02829_x0005_`QTY1|1_x0005_`EXI|0_x0005_`IPR|0_x0005_`BLA|F_x0005_` | P21: B02829_1 | Q21: E4_1 | AC21: =HYPERLINK("#"&일위대가목록표!J2&"!A"&ROW(일위대가목록표!A44),"B02829 →") -> B02829 →
B22: 등산로 정비(산지할증A) | C22: B=2.0m | D22: 0 | E22: m | F22: =J22+H22+L22 -> 28619 | G22: =K22+I22+M22 -> 0 | H22: =일위대가목록표!F45 -> 28487 | I22: =ROUNDDOWN(H22*D22,0) -> 0 | J22: =일위대가목록표!G45 -> 22 | K22: =ROUNDDOWN(J22*D22,0) -> 0 | L22: =일위대가목록표!H45 -> 110 | M22: =ROUNDDOWN(L22*D22,0) -> 0 | N22: B02830 | O22: _x0007_`COD|B02830_x0005_`QTY1|1_x0005_`EXI|0_x0005_`IPR|0_x0005_`BLA|F_x0005_` | P22: B02830_1 | Q22: E4_1 | AC22: =HYPERLINK("#"&일위대가목록표!J2&"!A"&ROW(일위대가목록표!A45),"B02830 →") -> B02830 →
B23: 등산로 정비(산지할증B) | C23: B=1.0m | D23: 0 | E23: m | F23: =J23+H23+L23 -> 15548 | G23: =K23+I23+M23 -> 0 | H23: =일위대가목록표!F46 -> 15482 | I23: =ROUNDDOWN(H23*D23,0) -> 0 | J23: =일위대가목록표!G46 -> 11 | K23: =ROUNDDOWN(J23*D23,0) -> 0 | L23: =일위대가목록표!H46 -> 55 | M23: =ROUNDDOWN(L23*D23,0) -> 0 | N23: B02664 | O23: _x0007_`COD|B02664_x0005_`QTY1|1_x0005_`EXI|0_x0005_`IPR|0_x0005_`BLA|F_x0005_` | P23: B02664_1 | Q23: E4_1 | AC23: =HYPERLINK("#"&일위대가목록표!J2&"!A"&ROW(일위대가목록표!A46),"B02664 →") -> B02664 →
B24: 등산로 정비(산지할증B) | C24: B=1.2m | D24: 0 | E24: m | F24: =J24+H24+L24 -> 18658 | G24: =K24+I24+M24 -> 0 | H24: =일위대가목록표!F47 -> 18579 | I24: =ROUNDDOWN(H24*D24,0) -> 0 | J24: =일위대가목록표!G47 -> 13 | K24: =ROUNDDOWN(J24*D24,0) -> 0 | L24: =일위대가목록표!H47 -> 66 | M24: =ROUNDDOWN(L24*D24,0) -> 0 | N24: B02665 | O24: _x0007_`COD|B02665_x0005_`QTY1|1_x0005_`EXI|0_x0005_`IPR|0_x0005_`BLA|F_x0005_` | P24: B02665_1 | Q24: E4_1 | AC24: =HYPERLINK("#"&일위대가목록표!J2&"!A"&ROW(일위대가목록표!A47),"B02665 →") -> B02665 →
B25: 등산로 정비(산지할증B) | C25: B=1.5m | D25: 0 | E25: m | F25: =J25+H25+L25 -> 23321 | G25: =K25+I25+M25 -> 0 | H25: =일위대가목록표!F48 -> 23223 | I25: =ROUNDDOWN(H25*D25,0) -> 0 | J25: =일위대가목록표!G48 -> 16 | K25: =ROUNDDOWN(J25*D25,0) -> 0 | L25: =일위대가목록표!H48 -> 82 | M25: =ROUNDDOWN(L25*D25,0) -> 0 | N25: B02666 | O25: _x0007_`COD|B02666_x0005_`QTY1|1_x0005_`EXI|0_x0005_`IPR|0_x0005_`BLA|F_x0005_` | P25: B02666_1 | Q25: E4_1 | AC25: =HYPERLINK("#"&일위대가목록표!J2&"!A"&ROW(일위대가목록표!A48),"B02666 →") -> B02666 →
B26: 등산로 정비(산지할증B) | C26: B=2.0m | D26: 0 | E26: m | F26: =J26+H26+L26 -> 31097 | G26: =K26+I26+M26 -> 0 | H26: =일위대가목록표!F49 -> 30965 | I26: =ROUNDDOWN(H26*D26,0) -> 0 | J26: =일위대가목록표!G49 -> 22 | K26: =ROUNDDOWN(J26*D26,0) -> 0 | L26: =일위대가목록표!H49 -> 110 | M26: =ROUNDDOWN(L26*D26,0) -> 0 | N26: B02667 | O26: _x0007_`COD|B02667_x0005_`QTY1|1_x0005_`EXI|0_x0005_`IPR|0_x0005_`BLA|F_x0005_` | P26: B02667_1 | Q26: E4_1 | AC26: =HYPERLINK("#"&일위대가목록표!J2&"!A"&ROW(일위대가목록표!A49),"B02667 →") -> B02667 →
B27: 등산로 정비 | C27: B=1.0m | D27: 0 | E27: m | F27: =J27+H27+L27 -> 12452 | G27: =K27+I27+M27 -> 0 | H27: =일위대가목록표!F38 -> 12386 | I27: =ROUNDDOWN(H27*D27,0) -> 0 | J27: =일위대가목록표!G38 -> 11 | K27: =ROUNDDOWN(J27*D27,0) -> 0 | L27: =일위대가목록표!H38 -> 55 | M27: =ROUNDDOWN(L27*D27,0) -> 0 | N27: B02660 | O27: _x0007_`COD|B02660_x0005_`QTY1|1_x0005_`EXI|0_x0005_`IPR|0_x0005_`BLA|F_x0005_` | P27: B02660_1 | Q27: E4_1 | AC27: =HYPERLINK("#"&일위대가목록표!J2&"!A"&ROW(일위대가목록표!A38),"B02660 →") -> B02660 →
B28: 등산로 정비 | C28: B=1.2m | D28: 0 | E28: m | F28: =J28+H28+L28 -> 14942 | G28: =K28+I28+M28 -> 0 | H28: =일위대가목록표!F39 -> 14863 | I28: =ROUNDDOWN(H28*D28,0) -> 0 | J28: =일위대가목록표!G39 -> 13 | K28: =ROUNDDOWN(J28*D28,0) -> 0 | L28: =일위대가목록표!H39 -> 66 | M28: =ROUNDDOWN(L28*D28,0) -> 0 | N28: B02661 | O28: _x0007_`COD|B02661_x0005_`QTY1|1_x0005_`EXI|0_x0005_`IPR|0_x0005_`BLA|F_x0005_` | P28: B02661_1 | Q28: E4_1 | AC28: =HYPERLINK("#"&일위대가목록표!J2&"!A"&ROW(일위대가목록표!A39),"B02661 →") -> B02661 →
B29: 등산로 정비 | C29: B=1.5m | D29: 0 | E29: m | F29: =J29+H29+L29 -> 18677 | G29: =K29+I29+M29 -> 0 | H29: =일위대가목록표!F40 -> 18579 | I29: =ROUNDDOWN(H29*D29,0) -> 0 | J29: =일위대가목록표!G40 -> 16 | K29: =ROUNDDOWN(J29*D29,0) -> 0 | L29: =일위대가목록표!H40 -> 82 | M29: =ROUNDDOWN(L29*D29,0) -> 0 | N29: B02662 | O29: _x0007_`COD|B02662_x0005_`QTY1|1_x0005_`EXI|0_x0005_`IPR|0_x0005_`BLA|F_x0005_` | P29: B02662_1 | Q29: E4_1 | AC29: =HYPERLINK("#"&일위대가목록표!J2&"!A"&ROW(일위대가목록표!A40),"B02662 →") -> B02662 →
B30: 등산로 정비 | C30: B=2.0m | D30: 0 | E30: m | F30: =J30+H30+L30 -> 24904 | G30: =K30+I30+M30 -> 0 | H30: =일위대가목록표!F41 -> 24772 | I30: =ROUNDDOWN(H30*D30,0) -> 0 | J30: =일위대가목록표!G41 -> 22 | K30: =ROUNDDOWN(J30*D30,0) -> 0 | L30: =일위대가목록표!H41 -> 110 | M30: =ROUNDDOWN(L30*D30,0) -> 0 | N30: B02663 | O30: _x0007_`COD|B02663_x0005_`QTY1|1_x0005_`EXI|0_x0005_`IPR|0_x0005_`BLA|F_x0005_` | P30: B02663_1 | Q30: E4_1 | AC30: =HYPERLINK("#"&일위대가목록표!J2&"!A"&ROW(일위대가목록표!A41),"B02663 →") -> B02663 →
B31: 안전로프(산지할증A) | C31: H1200 | D31: 0 | E31: 경간 | F31: =J31+H31+L31 -> 119492 | G31: =K31+I31+M31 -> 0 | H31: =일위대가목록표!F211 -> 59204 | I31: =ROUNDDOWN(H31*D31,0) -> 0 | J31: =일위대가목록표!G211 -> 60106 | K31: =ROUNDDOWN(J31*D31,0) -> 0 | L31: =일위대가목록표!H211 -> 182 | M31: =ROUNDDOWN(L31*D31,0) -> 0 | N31: B02831 | O31: _x0007_`COD|B02831_x0005_`QTY1|1_x0005_`EXI|0_x0005_`IPR|0_x0005_`BLA|F_x0005_` | P31: B02831_1 | Q31: E4_1 | AC31: =HYPERLINK("#"&일위대가목록표!J2&"!A"&ROW(일위대가목록표!A211),"B02831 →") -> B02831 →
B32: 안전로프(산지할증B) | C32: H1200 | D32: 0 | E32: 경간 | F32: =J32+H32+L32 -> 124640 | G32: =K32+I32+M32 -> 0 | H32: =일위대가목록표!F212 -> 64352 | I32: =ROUNDDOWN(H32*D32,0) -> 0 | J32: =일위대가목록표!G212 -> 60106 | K32: =ROUNDDOWN(J32*D32,0) -> 0 | L32: =일위대가목록표!H212 -> 182 | M32: =ROUNDDOWN(L32*D32,0) -> 0 | N32: B02087 | O32: _x0007_`COD|B02087_x0005_`QTY1|1_x0005_`EXI|0_x0005_`IPR|0_x0005_`BLA|F_x0005_` | P32: B02087_1 | Q32: E4_1 | AC32: =HYPERLINK("#"&일위대가목록표!J2&"!A"&ROW(일위대가목록표!A212),"B02087 →") -> B02087 →
B33: 안전로프 | C33: H1200 | D33: 0 | E33: 경간 | F33: =J33+H33+L33 -> 112115 | G33: =K33+I33+M33 -> 0 | H33: =일위대가목록표!F194 -> 51482 | I33: =ROUNDDOWN(H33*D33,0) -> 0 | J33: =일위대가목록표!G194 -> 60451 | K33: =ROUNDDOWN(J33*D33,0) -> 0 | L33: =일위대가목록표!H194 -> 182 | M33: =ROUNDDOWN(L33*D33,0) -> 0 | N33: B02474 | O33: _x0007_`COD|B02474_x0005_`QTY1|1_x0005_`EXI|0_x0005_`IPR|0_x0005_`BLA|F_x0005_` | P33: B02474_1 | Q33: E4_1 | AC33: =HYPERLINK("#"&일위대가목록표!J2&"!A"&ROW(일위대가목록표!A194),"B02474 →") -> B02474 →
B34: 안전로프 시종점(산지할증A) | C34: 기초&턴버클 | D34: 0 | E34: 개소 | F34: =J34+H34+L34 -> 191989 | G34: =K34+I34+M34 -> 0 | H34: =일위대가목록표!F203 -> 53486 | I34: =ROUNDDOWN(H34*D34,0) -> 0 | J34: =일위대가목록표!G203 -> 138335 | K34: =ROUNDDOWN(J34*D34,0) -> 0 | L34: =일위대가목록표!H203 -> 168 | M34: =ROUNDDOWN(L34*D34,0) -> 0 | N34: B02832 | O34: _x0007_`COD|B02832_x0005_`QTY1|1_x0005_`EXI|0_x0005_`IPR|0_x0005_`BLA|F_x0005_` | P34: B02832_1 | Q34: E4_1 | AC34: =HYPERLINK("#"&일위대가목록표!J2&"!A"&ROW(일위대가목록표!A203),"B02832 →") -> B02832 →
B35: 안전로프 시종점(산지할증B) | C35: 기초&턴버클 | D35: 0 | E35: 개소 | F35: =J35+H35+L35 -> 195815 | G35: =K35+I35+M35 -> 0 | H35: =일위대가목록표!F204 -> 57312 | I35: =ROUNDDOWN(H35*D35,0) -> 0 | J35: =일위대가목록표!G204 -> 138335 | K35: =ROUNDDOWN(J35*D35,0) -> 0 | L35: =일위대가목록표!H204 -> 168 | M35: =ROUNDDOWN(L35*D35,0) -> 0 | N35: B02086 | O35: _x0007_`COD|B02086_x0005_`QTY1|1_x0005_`EXI|0_x0005_`IPR|0_x0005_`BLA|F_x0005_` | P35: B02086_1 | Q35: E4_1 | AC35: =HYPERLINK("#"&일위대가목록표!J2&"!A"&ROW(일위대가목록표!A204),"B02086 →") -> B02086 →
B36: 안전로프 시종점 | C36: 기초&턴버클 | D36: 0 | E36: 개소 | F36: =J36+H36+L36 -> 186250 | G36: =K36+I36+M36 -> 0 | H36: =일위대가목록표!F202 -> 47747 | I36: =ROUNDDOWN(H36*D36,0) -> 0 | J36: =일위대가목록표!G202 -> 138335 | K36: =ROUNDDOWN(J36*D36,0) -> 0 | L36: =일위대가목록표!H202 -> 168 | M36: =ROUNDDOWN(L36*D36,0) -> 0 | N36: B02473 | O36: _x0007_`COD|B02473_x0005_`QTY1|1_x0005_`EXI|0_x0005_`IPR|0_x0005_`BLA|F_x0005_` | P36: B02473_1 | Q36: E4_1 | AC36: =HYPERLINK("#"&일위대가목록표!J2&"!A"&ROW(일위대가목록표!A202),"B02473 →") -> B02473 →
B37: 목재계단(산지할증A) | C37: W800*320*H150 | D37: 0 | E37: 단 | F37: =J37+H37+L37 -> 120585 | G37: =K37+I37+M37 -> 0 | H37: =일위대가목록표!F107 -> 44012 | I37: =ROUNDDOWN(H37*D37,0) -> 0 | J37: =일위대가목록표!G107 -> 76573 | K37: =ROUNDDOWN(J37*D37,0) -> 0 | L37: =일위대가목록표!H107 -> 0 | M37: =ROUNDDOWN(L37*D37,0) -> 0 | N37: B02833 | O37: _x0007_`COD|B02833_x0005_`QTY1|1_x0005_`EXI|0_x0005_`IPR|0_x0005_`BLA|F_x0005_` | P37: B02833_1 | Q37: E4_1 | AC37: =HYPERLINK("#"&일위대가목록표!J2&"!A"&ROW(일위대가목록표!A107),"B02833 →") -> B02833 →
B38: 목재계단(산지할증A) | C38: W1000*320*H150 | D38: 0 | E38: 단 | F38: =J38+H38+L38 -> 150826 | G38: =K38+I38+M38 -> 0 | H38: =일위대가목록표!F103 -> 55541 | I38: =ROUNDDOWN(H38*D38,0) -> 0 | J38: =일위대가목록표!G103 -> 95285 | K38: =ROUNDDOWN(J38*D38,0) -> 0 | L38: =일위대가목록표!H103 -> 0 | M38: =ROUNDDOWN(L38*D38,0) -> 0 | N38: B02834 | O38: _x0007_`COD|B02834_x0005_`QTY1|1_x0005_`EXI|0_x0005_`IPR|0_x0005_`BLA|F_x0005_` | P38: B02834_1 | Q38: E4_1 | AC38: =HYPERLINK("#"&일위대가목록표!J2&"!A"&ROW(일위대가목록표!A103),"B02834 →") -> B02834 →
B39: 목재계단(산지할증A) | C39: W1200*320*H150 | D39: 0 | E39: 단 | F39: =J39+H39+L39 -> 180510 | G39: =K39+I39+M39 -> 0 | H39: =일위대가목록표!F104 -> 67071 | I39: =ROUNDDOWN(H39*D39,0) -> 0 | J39: =일위대가목록표!G104 -> 113439 | K39: =ROUNDDOWN(J39*D39,0) -> 0 | L39: =일위대가목록표!H104 -> 0 | M39: =ROUNDDOWN(L39*D39,0) -> 0 | N39: B02835 | O39: _x0007_`COD|B02835_x0005_`QTY1|1_x0005_`EXI|0_x0005_`IPR|0_x0005_`BLA|F_x0005_` | P39: B02835_1 | Q39: E4_1 | AC39: =HYPERLINK("#"&일위대가목록표!J2&"!A"&ROW(일위대가목록표!A104),"B02835 →") -> B02835 →
B40: 목재계단(산지할증A) | C40: W1500*320*H150 | D40: 0 | E40: 단 | F40: =J40+H40+L40 -> 225427 | G40: =K40+I40+M40 -> 0 | H40: =일위대가목록표!F105 -> 83369 | I40: =ROUNDDOWN(H40*D40,0) -> 0 | J40: =일위대가목록표!G105 -> 142058 | K40: =ROUNDDOWN(J40*D40,0) -> 0 | L40: =일위대가목록표!H105 -> 0 | M40: =ROUNDDOWN(L40*D40,0) -> 0 | N40: B02836 | O40: _x0007_`COD|B02836_x0005_`QTY1|1_x0005_`EXI|0_x0005_`IPR|0_x0005_`BLA|F_x0005_` | P40: B02836_1 | Q40: E4_1 | AC40: =HYPERLINK("#"&일위대가목록표!J2&"!A"&ROW(일위대가목록표!A105),"B02836 →") -> B02836 →
B41: 목재계단(산지할증A) | C41: W2000*320*H150 | D41: 0 | E41: 단 | F41: =J41+H41+L41 -> 299927 | G41: =K41+I41+M41 -> 0 | H41: =일위대가목록표!F106 -> 111084 | I41: =ROUNDDOWN(H41*D41,0) -> 0 | J41: =일위대가목록표!G106 -> 188843 | K41: =ROUNDDOWN(J41*D41,0) -> 0 | L41: =일위대가목록표!H106 -> 0 | M41: =ROUNDDOWN(L41*D41,0) -> 0 | N41: B02837 | O41: _x0007_`COD|B02837_x0005_`QTY1|1_x0005_`EXI|0_x0005_`IPR|0_x0005_`BLA|F_x0005_` | P41: B02837_1 | Q41: E4_1 | AC41: =HYPERLINK("#"&일위대가목록표!J2&"!A"&ROW(일위대가목록표!A106),"B02837 →") -> B02837 →
B42: 목재계단(산지할증B) | C42: W800*320*H150 | D42: 0 | E42: 단 | F42: =J42+H42+L42 -> 124412 | G42: =K42+I42+M42 -> 0 | H42: =일위대가목록표!F112 -> 47839 | I42: =ROUNDDOWN(H42*D42,0) -> 0 | J42: =일위대가목록표!G112 -> 76573 | K42: =ROUNDDOWN(J42*D42,0) -> 0 | L42: =일위대가목록표!H112 -> 0 | M42: =ROUNDDOWN(L42*D42,0) -> 0 | N42: B02387 | O42: _x0007_`COD|B02387_x0005_`QTY1|1_x0005_`EXI|0_x0005_`IPR|0_x0005_`BLA|F_x0005_` | P42: B02387_1 | Q42: E4_1 | AC42: =HYPERLINK("#"&일위대가목록표!J2&"!A"&ROW(일위대가목록표!A112),"B02387 →") -> B02387 →
B43: 목재계단(산지할증B) | C43: W1000*320*H150 | D43: 0 | E43: 단 | F43: =J43+H43+L43 -> 155656 | G43: =K43+I43+M43 -> 0 | H43: =일위대가목록표!F108 -> 60371 | I43: =ROUNDDOWN(H43*D43,0) -> 0 | J43: =일위대가목록표!G108 -> 95285 | K43: =ROUNDDOWN(J43*D43,0) -> 0 | L43: =일위대가목록표!H108 -> 0 | M43: =ROUNDDOWN(L43*D43,0) -> 0 | N43: B02386 | O43: _x0007_`COD|B02386_x0005_`QTY1|1_x0005_`EXI|0_x0005_`IPR|0_x0005_`BLA|F_x0005_` | P43: B02386_1 | Q43: E4_1 | AC43: =HYPERLINK("#"&일위대가목록표!J2&"!A"&ROW(일위대가목록표!A108),"B02386 →") -> B02386 →
B44: 목재계단(산지할증B) | C44: W1200*320*H150 | D44: 0 | E44: 단 | F44: =J44+H44+L44 -> 186342 | G44: =K44+I44+M44 -> 0 | H44: =일위대가목록표!F109 -> 72903 | I44: =ROUNDDOWN(H44*D44,0) -> 0 | J44: =일위대가목록표!G109 -> 113439 | K44: =ROUNDDOWN(J44*D44,0) -> 0 | L44: =일위대가목록표!H109 -> 0 | M44: =ROUNDDOWN(L44*D44,0) -> 0 | N44: B02260 | O44: _x0007_`COD|B02260_x0005_`QTY1|1_x0005_`EXI|0_x0005_`IPR|0_x0005_`BLA|F_x0005_` | P44: B02260_1 | Q44: E4_1 | AC44: =HYPERLINK("#"&일위대가목록표!J2&"!A"&ROW(일위대가목록표!A109),"B02260 →") -> B02260 →
B45: 목재계단(산지할증B) | C45: W1500*320*H150 | E45: 단 | F45: =J45+H45+L45 -> 232676 | G45: =K45+I45+M45 -> 0 | H45: =일위대가목록표!F110 -> 90618 | I45: =ROUNDDOWN(H45*D45,0) -> 0 | J45: =일위대가목록표!G110 -> 142058 | K45: =ROUNDDOWN(J45*D45,0) -> 0 | L45: =일위대가목록표!H110 -> 0 | M45: =ROUNDDOWN(L45*D45,0) -> 0 | N45: B02249 | O45: _x0007_`COD|B02249_x0005_`QTY1|1_x0005_`EXI|0_x0005_`IPR|0_x0005_`BLA|F_x0005_` | P45: B02249_1 | Q45: E4_1 | AC45: =HYPERLINK("#"&일위대가목록표!J2&"!A"&ROW(일위대가목록표!A110),"B02249 →") -> B02249 →
B46: 목재계단(산지할증B) | C46: W2000*320*H150 | E46: 단 | F46: =J46+H46+L46 -> 309586 | G46: =K46+I46+M46 -> 0 | H46: =일위대가목록표!F111 -> 120743 | I46: =ROUNDDOWN(H46*D46,0) -> 0 | J46: =일위대가목록표!G111 -> 188843 | K46: =ROUNDDOWN(J46*D46,0) -> 0 | L46: =일위대가목록표!H111 -> 0 | M46: =ROUNDDOWN(L46*D46,0) -> 0 | N46: B02416 | O46: _x0007_`COD|B02416_x0005_`QTY1|1_x0005_`EXI|0_x0005_`IPR|0_x0005_`BLA|F_x0005_` | P46: B02416_1 | Q46: E4_1 | AC46: =HYPERLINK("#"&일위대가목록표!J2&"!A"&ROW(일위대가목록표!A111),"B02416 →") -> B02416 →
B47: 목재계단 | C47: W800*320*H150 | E47: 단 | F47: =J47+H47+L47 -> 114844 | G47: =K47+I47+M47 -> 0 | H47: =일위대가목록표!F78 -> 38271 | I47: =ROUNDDOWN(H47*D47,0) -> 0 | J47: =일위대가목록표!G78 -> 76573 | K47: =ROUNDDOWN(J47*D47,0) -> 0 | L47: =일위대가목록표!H78 -> 0 | M47: =ROUNDDOWN(L47*D47,0) -> 0 | N47: B02476 | O47: _x0007_`COD|B02476_x0005_`QTY1|1_x0005_`EXI|0_x0005_`IPR|0_x0005_`BLA|F_x0005_` | P47: B02476_1 | Q47: E4_1 | AC47: =HYPERLINK("#"&일위대가목록표!J2&"!A"&ROW(일위대가목록표!A78),"B02476 →") -> B02476 →
B48: 목재계단 | C48: W1000*320*H150 | E48: 단 | F48: =J48+H48+L48 -> 143582 | G48: =K48+I48+M48 -> 0 | H48: =일위대가목록표!F74 -> 48297 | I48: =ROUNDDOWN(H48*D48,0) -> 0 | J48: =일위대가목록표!G74 -> 95285 | K48: =ROUNDDOWN(J48*D48,0) -> 0 | L48: =일위대가목록표!H74 -> 0 | M48: =ROUNDDOWN(L48*D48,0) -> 0 | N48: B02477 | O48: _x0007_`COD|B02477_x0005_`QTY1|1_x0005_`EXI|0_x0005_`IPR|0_x0005_`BLA|F_x0005_` | P48: B02477_1 | Q48: E4_1 | AC48: =HYPERLINK("#"&일위대가목록표!J2&"!A"&ROW(일위대가목록표!A74),"B02477 →") -> B02477 →
B49: 목재계단 | C49: W1200*320*H150 | E49: 단 | F49: =J49+H49+L49 -> 171762 | G49: =K49+I49+M49 -> 0 | H49: =일위대가목록표!F75 -> 58323 | I49: =ROUNDDOWN(H49*D49,0) -> 0 | J49: =일위대가목록표!G75 -> 113439 | K49: =ROUNDDOWN(J49*D49,0) -> 0 | L49: =일위대가목록표!H75 -> 0 | M49: =ROUNDDOWN(L49*D49,0) -> 0 | N49: B02478 | O49: _x0007_`COD|B02478_x0005_`QTY1|1_x0005_`EXI|0_x0005_`IPR|0_x0005_`BLA|F_x0005_` | P49: B02478_1 | Q49: E4_1 | AC49: =HYPERLINK("#"&일위대가목록표!J2&"!A"&ROW(일위대가목록표!A75),"B02478 →") -> B02478 →
B50: 목재계단 | C50: W1500*320*H150 | E50: 단 | F50: =J50+H50+L50 -> 214552 | G50: =K50+I50+M50 -> 0 | H50: =일위대가목록표!F76 -> 72494 | I50: =ROUNDDOWN(H50*D50,0) -> 0 | J50: =일위대가목록표!G76 -> 142058 | K50: =ROUNDDOWN(J50*D50,0) -> 0 | L50: =일위대가목록표!H76 -> 0 | M50: =ROUNDDOWN(L50*D50,0) -> 0 | N50: B02479 | O50: _x0007_`COD|B02479_x0005_`QTY1|1_x0005_`EXI|0_x0005_`IPR|0_x0005_`BLA|F_x0005_` | P50: B02479_1 | Q50: E4_1 | AC50: =HYPERLINK("#"&일위대가목록표!J2&"!A"&ROW(일위대가목록표!A76),"B02479 →") -> B02479 →
B51: 목재계단 | C51: W2000*320*H150 | E51: 단 | F51: =J51+H51+L51 -> 285437 | G51: =K51+I51+M51 -> 0 | H51: =일위대가목록표!F77 -> 96594 | I51: =ROUNDDOWN(H51*D51,0) -> 0 | J51: =일위대가목록표!G77 -> 188843 | K51: =ROUNDDOWN(J51*D51,0) -> 0 | L51: =일위대가목록표!H77 -> 0 | M51: =ROUNDDOWN(L51*D51,0) -> 0 | N51: B02481 | O51: _x0007_`COD|B02481_x0005_`QTY1|1_x0005_`EXI|0_x0005_`IPR|0_x0005_`BLA|F_x0005_` | P51: B02481_1 | Q51: E4_1 | AC51: =HYPERLINK("#"&일위대가목록표!J2&"!A"&ROW(일위대가목록표!A77),"B02481 →") -> B02481 →
B52: 목재계단 재설치(산지할증A) | C52: W1000*320*H150 | E52: 단 | F52: =J52+H52+L52 -> 57274 | G52: =K52+I52+M52 -> 0 | H52: =일위대가목록표!F82 -> 55541 | I52: =ROUNDDOWN(H52*D52,0) -> 0 | J52: =일위대가목록표!G82 -> 1733 | K52: =ROUNDDOWN(J52*D52,0) -> 0 | L52: =일위대가목록표!H82 -> 0 | M52: =ROUNDDOWN(L52*D52,0) -> 0 | N52: B02838 | O52: _x0007_`COD|B02838_x0005_`QTY1|1_x0005_`EXI|0_x0005_`IPR|0_x0005_`BLA|F_x0005_` | P52: B02838_1 | Q52: E4_1 | AC52: =HYPERLINK("#"&일위대가목록표!J2&"!A"&ROW(일위대가목록표!A82),"B02838 →") -> B02838 →
B53: 목재계단 재설치(산지할증A) | C53: W1200*320*H150 | D53: 0 | E53: 단 | F53: =J53+H53+L53 -> 68804 | G53: =K53+I53+M53 -> 0 | H53: =일위대가목록표!F83 -> 67071 | I53: =ROUNDDOWN(H53*D53,0) -> 0 | J53: =일위대가목록표!G83 -> 1733 | K53: =ROUNDDOWN(J53*D53,0) -> 0 | L53: =일위대가목록표!H83 -> 0 | M53: =ROUNDDOWN(L53*D53,0) -> 0 | N53: B02839 | O53: _x0007_`COD|B02839_x0005_`QTY1|1_x0005_`EXI|0_x0005_`IPR|0_x0005_`BLA|F_x0005_` | P53: B02839_1 | Q53: E4_1 | AC53: =HYPERLINK("#"&일위대가목록표!J2&"!A"&ROW(일위대가목록표!A83),"B02839 →") -> B02839 →
B54: 목재계단 재설치(산지할증A) | C54: W1500*320*H150 | D54: 0 | E54: 단 | F54: =J54+H54+L54 -> 85102 | G54: =K54+I54+M54 -> 0 | H54: =일위대가목록표!F84 -> 83369 | I54: =ROUNDDOWN(H54*D54,0) -> 0 | J54: =일위대가목록표!G84 -> 1733 | K54: =ROUNDDOWN(J54*D54,0) -> 0 | L54: =일위대가목록표!H84 -> 0 | M54: =ROUNDDOWN(L54*D54,0) -> 0 | N54: B02840 | O54: _x0007_`COD|B02840_x0005_`QTY1|1_x0005_`EXI|0_x0005_`IPR|0_x0005_`BLA|F_x0005_` | P54: B02840_1 | Q54: E4_1 | AC54: =HYPERLINK("#"&일위대가목록표!J2&"!A"&ROW(일위대가목록표!A84),"B02840 →") -> B02840 →
B55: 목재계단 재설치(산지할증B) | C55: W1000*320*H150 | D55: 0 | E55: 단 | F55: =J55+H55+L55 -> 62104 | G55: =K55+I55+M55 -> 0 | H55: =일위대가목록표!F85 -> 60371 | I55: =ROUNDDOWN(H55*D55,0) -> 0 | J55: =일위대가목록표!G85 -> 1733 | K55: =ROUNDDOWN(J55*D55,0) -> 0 | L55: =일위대가목록표!H85 -> 0 | M55: =ROUNDDOWN(L55*D55,0) -> 0 | N55: B02488 | O55: _x0007_`COD|B02488_x0005_`QTY1|1_x0005_`EXI|0_x0005_`IPR|0_x0005_`BLA|F_x0005_` | P55: B02488_1 | Q55: E4_1 | AC55: =HYPERLINK("#"&일위대가목록표!J2&"!A"&ROW(일위대가목록표!A85),"B02488 →") -> B02488 →
B56: 목재계단 재설치(산지할증B) | C56: W1200*320*H150 | D56: 0 | E56: 단 | F56: =J56+H56+L56 -> 74636 | G56: =K56+I56+M56 -> 0 | H56: =일위대가목록표!F86 -> 72903 | I56: =ROUNDDOWN(H56*D56,0) -> 0 | J56: =일위대가목록표!G86 -> 1733 | K56: =ROUNDDOWN(J56*D56,0) -> 0 | L56: =일위대가목록표!H86 -> 0 | M56: =ROUNDDOWN(L56*D56,0) -> 0 | N56: B02489 | O56: _x0007_`COD|B02489_x0005_`QTY1|1_x0005_`EXI|0_x0005_`IPR|0_x0005_`BLA|F_x0005_` | P56: B02489_1 | Q56: E4_1 | AC56: =HYPERLINK("#"&일위대가목록표!J2&"!A"&ROW(일위대가목록표!A86),"B02489 →") -> B02489 →
B57: 목재계단 재설치(산지할증B) | C57: W1500*320*H150 | D57: 0 | E57: 단 | F57: =J57+H57+L57 -> 92351 | G57: =K57+I57+M57 -> 0 | H57: =일위대가목록표!F87 -> 90618 | I57: =ROUNDDOWN(H57*D57,0) -> 0 | J57: =일위대가목록표!G87 -> 1733 | K57: =ROUNDDOWN(J57*D57,0) -> 0 | L57: =일위대가목록표!H87 -> 0 | M57: =ROUNDDOWN(L57*D57,0) -> 0 | N57: B02490 | O57: _x0007_`COD|B02490_x0005_`QTY1|1_x0005_`EXI|0_x0005_`IPR|0_x0005_`BLA|F_x0005_` | P57: B02490_1 | Q57: E4_1 | AC57: =HYPERLINK("#"&일위대가목록표!J2&"!A"&ROW(일위대가목록표!A87),"B02490 →") -> B02490 →
B58: 목재계단 재설치 | C58: W1000*320*H150 | D58: 0 | E58: 단 | F58: =J58+H58+L58 -> 50030 | G58: =K58+I58+M58 -> 0 | H58: =일위대가목록표!F79 -> 48297 | I58: =ROUNDDOWN(H58*D58,0) -> 0 | J58: =일위대가목록표!G79 -> 1733 | K58: =ROUNDDOWN(J58*D58,0) -> 0 | L58: =일위대가목록표!H79 -> 0 | M58: =ROUNDDOWN(L58*D58,0) -> 0 | N58: B02491 | O58: _x0007_`COD|B02491_x0005_`QTY1|1_x0005_`EXI|0_x0005_`IPR|0_x0005_`BLA|F_x0005_` | P58: B02491_1 | Q58: E4_1 | AC58: =HYPERLINK("#"&일위대가목록표!J2&"!A"&ROW(일위대가목록표!A79),"B02491 →") -> B02491 →
B59: 목재계단 재설치 | C59: W1200*320*H150 | D59: 0 | E59: 단 | F59: =J59+H59+L59 -> 60056 | G59: =K59+I59+M59 -> 0 | H59: =일위대가목록표!F80 -> 58323 | I59: =ROUNDDOWN(H59*D59,0) -> 0 | J59: =일위대가목록표!G80 -> 1733 | K59: =ROUNDDOWN(J59*D59,0) -> 0 | L59: =일위대가목록표!H80 -> 0 | M59: =ROUNDDOWN(L59*D59,0) -> 0 | N59: B02492 | O59: _x0007_`COD|B02492_x0005_`QTY1|1_x0005_`EXI|0_x0005_`IPR|0_x0005_`BLA|F_x0005_` | P59: B02492_1 | Q59: E4_1 | AC59: =HYPERLINK("#"&일위대가목록표!J2&"!A"&ROW(일위대가목록표!A80),"B02492 →") -> B02492 →
B60: 목재계단 재설치 | C60: W1500*320*H150 | E60: 단 | F60: =J60+H60+L60 -> 74227 | G60: =K60+I60+M60 -> 0 | H60: =일위대가목록표!F81 -> 72494 | I60: =ROUNDDOWN(H60*D60,0) -> 0 | J60: =일위대가목록표!G81 -> 1733 | K60: =ROUNDDOWN(J60*D60,0) -> 0 | L60: =일위대가목록표!H81 -> 0 | M60: =ROUNDDOWN(L60*D60,0) -> 0 | N60: B02493 | O60: _x0007_`COD|B02493_x0005_`QTY1|1_x0005_`EXI|0_x0005_`IPR|0_x0005_`BLA|F_x0005_` | P60: B02493_1 | Q60: E4_1 | AC60: =HYPERLINK("#"&일위대가목록표!J2&"!A"&ROW(일위대가목록표!A81),"B02493 →") -> B02493 →
B61: 원주목계단(산지할증A) | C61: W1000, Φ100 | E61: 단 | F61: =J61+H61+L61 -> 115844 | G61: =K61+I61+M61 -> 0 | H61: =일위대가목록표!F247 -> 43267 | I61: =ROUNDDOWN(H61*D61,0) -> 0 | J61: =일위대가목록표!G247 -> 72577 | K61: =ROUNDDOWN(J61*D61,0) -> 0 | L61: =일위대가목록표!H247 -> 0 | M61: =ROUNDDOWN(L61*D61,0) -> 0 | N61: B02841 | O61: _x0007_`COD|B02841_x0005_`QTY1|1_x0005_`EXI|0_x0005_`IPR|0_x0005_`BLA|F_x0005_` | P61: B02841_1 | Q61: E4_1 | AC61: =HYPERLINK("#"&일위대가목록표!J2&"!A"&ROW(일위대가목록표!A247),"B02841 →") -> B02841 →
B62: 원주목계단(산지할증A) | C62: W1200, Φ100 | E62: 단 | F62: =J62+H62+L62 -> 128746 | G62: =K62+I62+M62 -> 0 | H62: =일위대가목록표!F248 -> 48858 | I62: =ROUNDDOWN(H62*D62,0) -> 0 | J62: =일위대가목록표!G248 -> 79888 | K62: =ROUNDDOWN(J62*D62,0) -> 0 | L62: =일위대가목록표!H248 -> 0 | M62: =ROUNDDOWN(L62*D62,0) -> 0 | N62: B02842 | O62: _x0007_`COD|B02842_x0005_`QTY1|1_x0005_`EXI|0_x0005_`IPR|0_x0005_`BLA|F_x0005_` | P62: B02842_1 | Q62: E4_1 | AC62: =HYPERLINK("#"&일위대가목록표!J2&"!A"&ROW(일위대가목록표!A248),"B02842 →") -> B02842 →
B63: 원주목계단(산지할증B) | C63: W1000, Φ100 | E63: 단 | F63: =J63+H63+L63 -> 119607 | G63: =K63+I63+M63 -> 0 | H63: =일위대가목록표!F249 -> 47030 | I63: =ROUNDDOWN(H63*D63,0) -> 0 | J63: =일위대가목록표!G249 -> 72577 | K63: =ROUNDDOWN(J63*D63,0) -> 0 | L63: =일위대가목록표!H249 -> 0 | M63: =ROUNDDOWN(L63*D63,0) -> 0 | N63: B02805 | O63: _x0007_`COD|B02805_x0005_`QTY1|1_x0005_`EXI|0_x0005_`IPR|0_x0005_`BLA|F_x0005_` | P63: B02805_1 | Q63: E4_1 | AC63: =HYPERLINK("#"&일위대가목록표!J2&"!A"&ROW(일위대가목록표!A249),"B02805 →") -> B02805 →
B64: 원주목계단(산지할증B) | C64: W1200, Φ100 | E64: 단 | F64: =J64+H64+L64 -> 132995 | G64: =K64+I64+M64 -> 0 | H64: =일위대가목록표!F250 -> 53107 | I64: =ROUNDDOWN(H64*D64,0) -> 0 | J64: =일위대가목록표!G250 -> 79888 | K64: =ROUNDDOWN(J64*D64,0) -> 0 | L64: =일위대가목록표!H250 -> 0 | M64: =ROUNDDOWN(L64*D64,0) -> 0 | N64: B02806 | O64: _x0007_`COD|B02806_x0005_`QTY1|1_x0005_`EXI|0_x0005_`IPR|0_x0005_`BLA|F_x0005_` | P64: B02806_1 | Q64: E4_1 | AC64: =HYPERLINK("#"&일위대가목록표!J2&"!A"&ROW(일위대가목록표!A250),"B02806 →") -> B02806 →
B65: 원주목계단 | C65: W1000, Φ100 | E65: 단 | F65: =J65+H65+L65 -> 110201 | G65: =K65+I65+M65 -> 0 | H65: =일위대가목록표!F230 -> 37624 | I65: =ROUNDDOWN(H65*D65,0) -> 0 | J65: =일위대가목록표!G230 -> 72577 | K65: =ROUNDDOWN(J65*D65,0) -> 0 | L65: =일위대가목록표!H230 -> 0 | M65: =ROUNDDOWN(L65*D65,0) -> 0 | N65: B02801 | O65: _x0007_`COD|B02801_x0005_`QTY1|1_x0005_`EXI|0_x0005_`IPR|0_x0005_`BLA|F_x0005_` | P65: B02801_1 | Q65: E4_1 | AC65: =HYPERLINK("#"&일위대가목록표!J2&"!A"&ROW(일위대가목록표!A230),"B02801 →") -> B02801 →
B66: 원주목계단 | C66: W1200, Φ100 | E66: 단 | F66: =J66+H66+L66 -> 122373 | G66: =K66+I66+M66 -> 0 | H66: =일위대가목록표!F231 -> 42485 | I66: =ROUNDDOWN(H66*D66,0) -> 0 | J66: =일위대가목록표!G231 -> 79888 | K66: =ROUNDDOWN(J66*D66,0) -> 0 | L66: =일위대가목록표!H231 -> 0 | M66: =ROUNDDOWN(L66*D66,0) -> 0 | N66: B02802 | O66: _x0007_`COD|B02802_x0005_`QTY1|1_x0005_`EXI|0_x0005_`IPR|0_x0005_`BLA|F_x0005_` | P66: B02802_1 | Q66: E4_1 | AC66: =HYPERLINK("#"&일위대가목록표!J2&"!A"&ROW(일위대가목록표!A231),"B02802 →") -> B02802 →
B67: 원주목계단 재설치(산지할증A) | C67: W1000, Φ100 | E67: 단 | F67: =J67+H67+L67 -> 58146 | G67: =K67+I67+M67 -> 0 | H67: =일위대가목록표!F234 -> 43267 | I67: =ROUNDDOWN(H67*D67,0) -> 0 | J67: =일위대가목록표!G234 -> 14879 | K67: =ROUNDDOWN(J67*D67,0) -> 0 | L67: =일위대가목록표!H234 -> 0 | M67: =ROUNDDOWN(L67*D67,0) -> 0 | N67: B02843 | O67: _x0007_`COD|B02843_x0005_`QTY1|1_x0005_`EXI|0_x0005_`IPR|0_x0005_`BLA|F_x0005_` | P67: B02843_1 | Q67: E4_1 | AC67: =HYPERLINK("#"&일위대가목록표!J2&"!A"&ROW(일위대가목록표!A234),"B02843 →") -> B02843 →
B68: 원주목계단 재설치(산지할증A) | C68: W1200, Φ100 | D68: 0 | E68: 단 | F68: =J68+H68+L68 -> 63737 | G68: =K68+I68+M68 -> 0 | H68: =일위대가목록표!F235 -> 48858 | I68: =ROUNDDOWN(H68*D68,0) -> 0 | J68: =일위대가목록표!G235 -> 14879 | K68: =ROUNDDOWN(J68*D68,0) -> 0 | L68: =일위대가목록표!H235 -> 0 | M68: =ROUNDDOWN(L68*D68,0) -> 0 | N68: B02844 | O68: _x0007_`COD|B02844_x0005_`QTY1|1_x0005_`EXI|0_x0005_`IPR|0_x0005_`BLA|F_x0005_` | P68: B02844_1 | Q68: E4_1 | AC68: =HYPERLINK("#"&일위대가목록표!J2&"!A"&ROW(일위대가목록표!A235),"B02844 →") -> B02844 →
B69: 원주목계단 재설치(산지할증B) | C69: W1000, Φ100 | D69: 0 | E69: 단 | F69: =J69+H69+L69 -> 61909 | G69: =K69+I69+M69 -> 0 | H69: =일위대가목록표!F236 -> 47030 | I69: =ROUNDDOWN(H69*D69,0) -> 0 | J69: =일위대가목록표!G236 -> 14879 | K69: =ROUNDDOWN(J69*D69,0) -> 0 | L69: =일위대가목록표!H236 -> 0 | M69: =ROUNDDOWN(L69*D69,0) -> 0 | N69: B02807 | O69: _x0007_`COD|B02807_x0005_`QTY1|1_x0005_`EXI|0_x0005_`IPR|0_x0005_`BLA|F_x0005_` | P69: B02807_1 | Q69: E4_1 | AC69: =HYPERLINK("#"&일위대가목록표!J2&"!A"&ROW(일위대가목록표!A236),"B02807 →") -> B02807 →
B70: 원주목계단 재설치(산지할증B) | C70: W1200, Φ100 | D70: 0 | E70: 단 | F70: =J70+H70+L70 -> 67986 | G70: =K70+I70+M70 -> 0 | H70: =일위대가목록표!F237 -> 53107 | I70: =ROUNDDOWN(H70*D70,0) -> 0 | J70: =일위대가목록표!G237 -> 14879 | K70: =ROUNDDOWN(J70*D70,0) -> 0 | L70: =일위대가목록표!H237 -> 0 | M70: =ROUNDDOWN(L70*D70,0) -> 0 | N70: B02808 | O70: _x0007_`COD|B02808_x0005_`QTY1|1_x0005_`EXI|0_x0005_`IPR|0_x0005_`BLA|F_x0005_` | P70: B02808_1 | Q70: E4_1 | AC70: =HYPERLINK("#"&일위대가목록표!J2&"!A"&ROW(일위대가목록표!A237),"B02808 →") -> B02808 →
B71: 원주목계단 재설치 | C71: W1000, Φ100 | D71: 0 | E71: 단 | F71: =J71+H71+L71 -> 52503 | G71: =K71+I71+M71 -> 0 | H71: =일위대가목록표!F232 -> 37624 | I71: =ROUNDDOWN(H71*D71,0) -> 0 | J71: =일위대가목록표!G232 -> 14879 | K71: =ROUNDDOWN(J71*D71,0) -> 0 | L71: =일위대가목록표!H232 -> 0 | M71: =ROUNDDOWN(L71*D71,0) -> 0 | N71: B02803 | O71: _x0007_`COD|B02803_x0005_`QTY1|1_x0005_`EXI|0_x0005_`IPR|0_x0005_`BLA|F_x0005_` | P71: B02803_1 | Q71: E4_1 | AC71: =HYPERLINK("#"&일위대가목록표!J2&"!A"&ROW(일위대가목록표!A232),"B02803 →") -> B02803 →
B72: 원주목계단 재설치 | C72: W1200, Φ100 | D72: 0 | E72: 단 | F72: =J72+H72+L72 -> 57364 | G72: =K72+I72+M72 -> 0 | H72: =일위대가목록표!F233 -> 42485 | I72: =ROUNDDOWN(H72*D72,0) -> 0 | J72: =일위대가목록표!G233 -> 14879 | K72: =ROUNDDOWN(J72*D72,0) -> 0 | L72: =일위대가목록표!H233 -> 0 | M72: =ROUNDDOWN(L72*D72,0) -> 0 | N72: B02804 | O72: _x0007_`COD|B02804_x0005_`QTY1|1_x0005_`EXI|0_x0005_`IPR|0_x0005_`BLA|F_x0005_` | P72: B02804_1 | Q72: E4_1 | AC72: =HYPERLINK("#"&일위대가목록표!J2&"!A"&ROW(일위대가목록표!A233),"B02804 →") -> B02804 →
B73: 통나무횡배수대(산지할증A) | C73: w1.5 | D73: 0 | E73: 개소 | F73: =J73+H73+L73 -> 93484 | G73: =K73+I73+M73 -> 0 | H73: =일위대가목록표!F307 -> 31976 | I73: =ROUNDDOWN(H73*D73,0) -> 0 | J73: =일위대가목록표!G307 -> 61508 | K73: =ROUNDDOWN(J73*D73,0) -> 0 | L73: =일위대가목록표!H307 -> 0 | M73: =ROUNDDOWN(L73*D73,0) -> 0 | N73: B02845 | O73: _x0007_`COD|B02845_x0005_`QTY1|1_x0005_`EXI|0_x0005_`IPR|0_x0005_`BLA|F_x0005_` | P73: B02845_1 | Q73: E4_1 | AC73: =HYPERLINK("#"&일위대가목록표!J2&"!A"&ROW(일위대가목록표!A307),"B02845 →") -> B02845 →
B74: 통나무횡배수대(산지할증A) | C74: w1.8 | D74: 0 | E74: 개소 | F74: =J74+H74+L74 -> 110886 | G74: =K74+I74+M74 -> 0 | H74: =일위대가목록표!F308 -> 37673 | I74: =ROUNDDOWN(H74*D74,0) -> 0 | J74: =일위대가목록표!G308 -> 73213 | K74: =ROUNDDOWN(J74*D74,0) -> 0 | L74: =일위대가목록표!H308 -> 0 | M74: =ROUNDDOWN(L74*D74,0) -> 0 | N74: B02847 | O74: _x0007_`COD|B02847_x0005_`QTY1|1_x0005_`EXI|0_x0005_`IPR|0_x0005_`BLA|F_x0005_` | P74: B02847_1 | Q74: E4_1 | AC74: =HYPERLINK("#"&일위대가목록표!J2&"!A"&ROW(일위대가목록표!A308),"B02847 →") -> B02847 →
B75: 통나무횡배수대(산지할증A) | C75: w2.4 | D75: 0 | E75: 개소 | F75: =J75+H75+L75 -> 149383 | G75: =K75+I75+M75 -> 0 | H75: =일위대가목록표!F309 -> 51283 | I75: =ROUNDDOWN(H75*D75,0) -> 0 | J75: =일위대가목록표!G309 -> 98100 | K75: =ROUNDDOWN(J75*D75,0) -> 0 | L75: =일위대가목록표!H309 -> 0 | M75: =ROUNDDOWN(L75*D75,0) -> 0 | N75: B02846 | O75: _x0007_`COD|B02846_x0005_`QTY1|1_x0005_`EXI|0_x0005_`IPR|0_x0005_`BLA|F_x0005_` | P75: B02846_1 | Q75: E4_1 | AC75: =HYPERLINK("#"&일위대가목록표!J2&"!A"&ROW(일위대가목록표!A309),"B02846 →") -> B02846 →
B76: 통나무횡배수대(산지할증A) | C76: w3.0 | D76: 0 | E76: 개소 | F76: =J76+H76+L76 -> 185422 | G76: =K76+I76+M76 -> 0 | H76: =일위대가목록표!F310 -> 63841 | I76: =ROUNDDOWN(H76*D76,0) -> 0 | J76: =일위대가목록표!G310 -> 121581 | K76: =ROUNDDOWN(J76*D76,0) -> 0 | L76: =일위대가목록표!H310 -> 0 | M76: =ROUNDDOWN(L76*D76,0) -> 0 | N76: B02848 | O76: _x0007_`COD|B02848_x0005_`QTY1|1_x0005_`EXI|0_x0005_`IPR|0_x0005_`BLA|F_x0005_` | P76: B02848_1 | Q76: E4_1 | AC76: =HYPERLINK("#"&일위대가목록표!J2&"!A"&ROW(일위대가목록표!A310),"B02848 →") -> B02848 →
B77: 통나무횡배수대(산지할증A) | C77: w3.6 | D77: 0 | E77: 개소 | F77: =J77+H77+L77 -> 221452 | G77: =K77+I77+M77 -> 0 | H77: =일위대가목록표!F311 -> 76399 | I77: =ROUNDDOWN(H77*D77,0) -> 0 | J77: =일위대가목록표!G311 -> 145053 | K77: =ROUNDDOWN(J77*D77,0) -> 0 | L77: =일위대가목록표!H311 -> 0 | M77: =ROUNDDOWN(L77*D77,0) -> 0 | N77: B02849 | O77: _x0007_`COD|B02849_x0005_`QTY1|1_x0005_`EXI|0_x0005_`IPR|0_x0005_`BLA|F_x0005_` | P77: B02849_1 | Q77: E4_1 | AC77: =HYPERLINK("#"&일위대가목록표!J2&"!A"&ROW(일위대가목록표!A311),"B02849 →") -> B02849 →
B78: 통나무횡배수대(산지할증B) | C78: w1.5 | D78: 0 | E78: 개소 | F78: =J78+H78+L78 -> 96265 | G78: =K78+I78+M78 -> 0 | H78: =일위대가목록표!F312 -> 34757 | I78: =ROUNDDOWN(H78*D78,0) -> 0 | J78: =일위대가목록표!G312 -> 61508 | K78: =ROUNDDOWN(J78*D78,0) -> 0 | L78: =일위대가목록표!H312 -> 0 | M78: =ROUNDDOWN(L78*D78,0) -> 0 | N78: B01839 | O78: _x0007_`COD|B01839_x0005_`QTY1|1_x0005_`EXI|0_x0005_`IPR|0_x0005_`BLA|F_x0005_` | P78: B01839_1 | Q78: E4_1 | AC78: =HYPERLINK("#"&일위대가목록표!J2&"!A"&ROW(일위대가목록표!A312),"B01839 →") -> B01839 →
B79: 통나무횡배수대(산지할증B) | C79: w1.8 | D79: 0 | E79: 개소 | F79: =J79+H79+L79 -> 114162 | G79: =K79+I79+M79 -> 0 | H79: =일위대가목록표!F313 -> 40949 | I79: =ROUNDDOWN(H79*D79,0) -> 0 | J79: =일위대가목록표!G313 -> 73213 | K79: =ROUNDDOWN(J79*D79,0) -> 0 | L79: =일위대가목록표!H313 -> 0 | M79: =ROUNDDOWN(L79*D79,0) -> 0 | N79: B01840 | O79: _x0007_`COD|B01840_x0005_`QTY1|1_x0005_`EXI|0_x0005_`IPR|0_x0005_`BLA|F_x0005_` | P79: B01840_1 | Q79: E4_1 | AC79: =HYPERLINK("#"&일위대가목록표!J2&"!A"&ROW(일위대가목록표!A313),"B01840 →") -> B01840 →
B80: 통나무횡배수대(산지할증B) | C80: w2.4 | D80: 0 | E80: 개소 | F80: =J80+H80+L80 -> 153843 | G80: =K80+I80+M80 -> 0 | H80: =일위대가목록표!F314 -> 55743 | I80: =ROUNDDOWN(H80*D80,0) -> 0 | J80: =일위대가목록표!G314 -> 98100 | K80: =ROUNDDOWN(J80*D80,0) -> 0 | L80: =일위대가목록표!H314 -> 0 | M80: =ROUNDDOWN(L80*D80,0) -> 0 | N80: B02243 | O80: _x0007_`COD|B02243_x0005_`QTY1|1_x0005_`EXI|0_x0005_`IPR|0_x0005_`BLA|F_x0005_` | P80: B02243_1 | Q80: E4_1 | AC80: =HYPERLINK("#"&일위대가목록표!J2&"!A"&ROW(일위대가목록표!A314),"B02243 →") -> B02243 →
B81: 통나무횡배수대(산지할증B) | C81: w3.0 | D81: 0 | E81: 개소 | F81: =J81+H81+L81 -> 190974 | G81: =K81+I81+M81 -> 0 | H81: =일위대가목록표!F315 -> 69393 | I81: =ROUNDDOWN(H81*D81,0) -> 0 | J81: =일위대가목록표!G315 -> 121581 | K81: =ROUNDDOWN(J81*D81,0) -> 0 | L81: =일위대가목록표!H315 -> 0 | M81: =ROUNDDOWN(L81*D81,0) -> 0 | N81: B02244 | O81: _x0007_`COD|B02244_x0005_`QTY1|1_x0005_`EXI|0_x0005_`IPR|0_x0005_`BLA|F_x0005_` | P81: B02244_1 | Q81: E4_1 | AC81: =HYPERLINK("#"&일위대가목록표!J2&"!A"&ROW(일위대가목록표!A315),"B02244 →") -> B02244 →
B82: 통나무횡배수대(산지할증B) | C82: w3.6 | D82: 0 | E82: 개소 | F82: =J82+H82+L82 -> 228096 | G82: =K82+I82+M82 -> 0 | H82: =일위대가목록표!F316 -> 83043 | I82: =ROUNDDOWN(H82*D82,0) -> 0 | J82: =일위대가목록표!G316 -> 145053 | K82: =ROUNDDOWN(J82*D82,0) -> 0 | L82: =일위대가목록표!H316 -> 0 | M82: =ROUNDDOWN(L82*D82,0) -> 0 | N82: B02245 | O82: _x0007_`COD|B02245_x0005_`QTY1|1_x0005_`EXI|0_x0005_`IPR|0_x0005_`BLA|F_x0005_` | P82: B02245_1 | Q82: E4_1 | AC82: =HYPERLINK("#"&일위대가목록표!J2&"!A"&ROW(일위대가목록표!A316),"B02245 →") -> B02245 →
B83: 통나무횡배수대 | C83: w1.5 | D83: 0 | E83: 개소 | F83: =J83+H83+L83 -> 89313 | G83: =K83+I83+M83 -> 0 | H83: =일위대가목록표!F302 -> 27805 | I83: =ROUNDDOWN(H83*D83,0) -> 0 | J83: =일위대가목록표!G302 -> 61508 | K83: =ROUNDDOWN(J83*D83,0) -> 0 | L83: =일위대가목록표!H302 -> 0 | M83: =ROUNDDOWN(L83*D83,0) -> 0 | N83: B02496 | O83: _x0007_`COD|B02496_x0005_`QTY1|1_x0005_`EXI|0_x0005_`IPR|0_x0005_`BLA|F_x0005_` | P83: B02496_1 | Q83: E4_1 | AC83: =HYPERLINK("#"&일위대가목록표!J2&"!A"&ROW(일위대가목록표!A302),"B02496 →") -> B02496 →
B84: 통나무횡배수대 | C84: w1.8 | D84: 0 | E84: 개소 | F84: =J84+H84+L84 -> 106054 | G84: =K84+I84+M84 -> 0 | H84: =일위대가목록표!F303 -> 32759 | I84: =ROUNDDOWN(H84*D84,0) -> 0 | J84: =일위대가목록표!G303 -> 73295 | K84: =ROUNDDOWN(J84*D84,0) -> 0 | L84: =일위대가목록표!H303 -> 0 | M84: =ROUNDDOWN(L84*D84,0) -> 0 | N84: B02497 | O84: _x0007_`COD|B02497_x0005_`QTY1|1_x0005_`EXI|0_x0005_`IPR|0_x0005_`BLA|F_x0005_` | P84: B02497_1 | Q84: E4_1 | AC84: =HYPERLINK("#"&일위대가목록표!J2&"!A"&ROW(일위대가목록표!A303),"B02497 →") -> B02497 →
B85: 통나무횡배수대 | C85: w2.4 | D85: 0 | E85: 개소 | F85: =J85+H85+L85 -> 142694 | G85: =K85+I85+M85 -> 0 | H85: =일위대가목록표!F304 -> 44594 | I85: =ROUNDDOWN(H85*D85,0) -> 0 | J85: =일위대가목록표!G304 -> 98100 | K85: =ROUNDDOWN(J85*D85,0) -> 0 | L85: =일위대가목록표!H304 -> 0 | M85: =ROUNDDOWN(L85*D85,0) -> 0 | N85: B02498 | O85: _x0007_`COD|B02498_x0005_`QTY1|1_x0005_`EXI|0_x0005_`IPR|0_x0005_`BLA|F_x0005_` | P85: B02498_1 | Q85: E4_1 | AC85: =HYPERLINK("#"&일위대가목록표!J2&"!A"&ROW(일위대가목록표!A304),"B02498 →") -> B02498 →
B86: 통나무횡배수대 | C86: w3.0 | D86: 0 | E86: 개소 | F86: =J86+H86+L86 -> 177095 | G86: =K86+I86+M86 -> 0 | H86: =일위대가목록표!F305 -> 55514 | I86: =ROUNDDOWN(H86*D86,0) -> 0 | J86: =일위대가목록표!G305 -> 121581 | K86: =ROUNDDOWN(J86*D86,0) -> 0 | L86: =일위대가목록표!H305 -> 0 | M86: =ROUNDDOWN(L86*D86,0) -> 0 | N86: B02499 | O86: _x0007_`COD|B02499_x0005_`QTY1|1_x0005_`EXI|0_x0005_`IPR|0_x0005_`BLA|F_x0005_` | P86: B02499_1 | Q86: E4_1 | AC86: =HYPERLINK("#"&일위대가목록표!J2&"!A"&ROW(일위대가목록표!A305),"B02499 →") -> B02499 →
B87: 통나무횡배수대 | C87: w3.6 | D87: 0 | E87: 개소 | F87: =J87+H87+L87 -> 211487 | G87: =K87+I87+M87 -> 0 | H87: =일위대가목록표!F306 -> 66434 | I87: =ROUNDDOWN(H87*D87,0) -> 0 | J87: =일위대가목록표!G306 -> 145053 | K87: =ROUNDDOWN(J87*D87,0) -> 0 | L87: =일위대가목록표!H306 -> 0 | M87: =ROUNDDOWN(L87*D87,0) -> 0 | N87: B02500 | O87: _x0007_`COD|B02500_x0005_`QTY1|1_x0005_`EXI|0_x0005_`IPR|0_x0005_`BLA|F_x0005_` | P87: B02500_1 | Q87: E4_1 | AC87: =HYPERLINK("#"&일위대가목록표!J2&"!A"&ROW(일위대가목록표!A306),"B02500 →") -> B02500 →
B88: 횡단개거(산지할증A) | C88: L1500*300*200*2ea | D88: 0 | E88: 개소 | F88: =J88+H88+L88 -> 569910 | G88: =K88+I88+M88 -> 0 | H88: =일위대가목록표!F336 -> 216249 | I88: =ROUNDDOWN(H88*D88,0) -> 0 | J88: =일위대가목록표!G336 -> 353661 | K88: =ROUNDDOWN(J88*D88,0) -> 0 | L88: =일위대가목록표!H336 -> 0 | M88: =ROUNDDOWN(L88*D88,0) -> 0 | N88: B02850 | O88: _x0007_`COD|B02850_x0005_`QTY1|1_x0005_`EXI|0_x0005_`IPR|0_x0005_`BLA|F_x0005_` | P88: B02850_1 | Q88: E4_1 | AC88: =HYPERLINK("#"&일위대가목록표!J2&"!A"&ROW(일위대가목록표!A336),"B02850 →") -> B02850 →
B89: 횡단개거(산지할증A) | C89: L2000*300*200*2ea | D89: 0 | E89: 개소 | F89: =J89+H89+L89 -> 758937 | G89: =K89+I89+M89 -> 0 | H89: =일위대가목록표!F337 -> 288332 | I89: =ROUNDDOWN(H89*D89,0) -> 0 | J89: =일위대가목록표!G337 -> 470605 | K89: =ROUNDDOWN(J89*D89,0) -> 0 | L89: =일위대가목록표!H337 -> 0 | M89: =ROUNDDOWN(L89*D89,0) -> 0 | N89: B02851 | O89: _x0007_`COD|B02851_x0005_`QTY1|1_x0005_`EXI|0_x0005_`IPR|0_x0005_`BLA|F_x0005_` | P89: B02851_1 | Q89: E4_1 | AC89: =HYPERLINK("#"&일위대가목록표!J2&"!A"&ROW(일위대가목록표!A337),"B02851 →") -> B02851 →
B90: 횡단개거(산지할증A) | C90: L2500*300*200*2ea | D90: 0 | E90: 개소 | F90: =J90+H90+L90 -> 947959 | G90: =K90+I90+M90 -> 0 | H90: =일위대가목록표!F338 -> 360415 | I90: =ROUNDDOWN(H90*D90,0) -> 0 | J90: =일위대가목록표!G338 -> 587544 | K90: =ROUNDDOWN(J90*D90,0) -> 0 | L90: =일위대가목록표!H338 -> 0 | M90: =ROUNDDOWN(L90*D90,0) -> 0 | N90: B02852 | O90: _x0007_`COD|B02852_x0005_`QTY1|1_x0005_`EXI|0_x0005_`IPR|0_x0005_`BLA|F_x0005_` | P90: B02852_1 | Q90: E4_1 | AC90: =HYPERLINK("#"&일위대가목록표!J2&"!A"&ROW(일위대가목록표!A338),"B02852 →") -> B02852 →
B91: 횡단개거(산지할증A) | C91: L3000*300*200*2ea | D91: 0 | E91: 개소 | F91: =J91+H91+L91 -> 1150392 | G91: =K91+I91+M91 -> 0 | H91: =일위대가목록표!F339 -> 445916 | I91: =ROUNDDOWN(H91*D91,0) -> 0 | J91: =일위대가목록표!G339 -> 704476 | K91: =ROUNDDOWN(J91*D91,0) -> 0 | L91: =일위대가목록표!H339 -> 0 | M91: =ROUNDDOWN(L91*D91,0) -> 0 | N91: B02853 | O91: _x0007_`COD|B02853_x0005_`QTY1|1_x0005_`EXI|0_x0005_`IPR|0_x0005_`BLA|F_x0005_` | P91: B02853_1 | Q91: E4_1 | AC91: =HYPERLINK("#"&일위대가목록표!J2&"!A"&ROW(일위대가목록표!A339),"B02853 →") -> B02853 →
B92: 횡단개거(산지할증B) | C92: L1500*300*200*2ea | D92: 0 | E92: 개소 | F92: =J92+H92+L92 -> 588714 | G92: =K92+I92+M92 -> 0 | H92: =일위대가목록표!F340 -> 235053 | I92: =ROUNDDOWN(H92*D92,0) -> 0 | J92: =일위대가목록표!G340 -> 353661 | K92: =ROUNDDOWN(J92*D92,0) -> 0 | L92: =일위대가목록표!H340 -> 0 | M92: =ROUNDDOWN(L92*D92,0) -> 0 | N92: B02507 | O92: _x0007_`COD|B02507_x0005_`QTY1|1_x0005_`EXI|0_x0005_`IPR|0_x0005_`BLA|F_x0005_` | P92: B02507_1 | Q92: E4_1 | AC92: =HYPERLINK("#"&일위대가목록표!J2&"!A"&ROW(일위대가목록표!A340),"B02507 →") -> B02507 →
B93: 횡단개거(산지할증B) | C93: L2000*300*200*2ea | D93: 0 | E93: 개소 | F93: =J93+H93+L93 -> 784010 | G93: =K93+I93+M93 -> 0 | H93: =일위대가목록표!F341 -> 313405 | I93: =ROUNDDOWN(H93*D93,0) -> 0 | J93: =일위대가목록표!G341 -> 470605 | K93: =ROUNDDOWN(J93*D93,0) -> 0 | L93: =일위대가목록표!H341 -> 0 | M93: =ROUNDDOWN(L93*D93,0) -> 0 | N93: B02448 | O93: _x0007_`COD|B02448_x0005_`QTY1|1_x0005_`EXI|0_x0005_`IPR|0_x0005_`BLA|F_x0005_` | P93: B02448_1 | Q93: E4_1 | AC93: =HYPERLINK("#"&일위대가목록표!J2&"!A"&ROW(일위대가목록표!A341),"B02448 →") -> B02448 →
B94: 횡단개거(산지할증B) | C94: L2500*300*200*2ea | E94: 개소 | F94: =J94+H94+L94 -> 979300 | G94: =K94+I94+M94 -> 0 | H94: =일위대가목록표!F342 -> 391756 | I94: =ROUNDDOWN(H94*D94,0) -> 0 | J94: =일위대가목록표!G342 -> 587544 | K94: =ROUNDDOWN(J94*D94,0) -> 0 | L94: =일위대가목록표!H342 -> 0 | M94: =ROUNDDOWN(L94*D94,0) -> 0 | N94: B02373 | O94: _x0007_`COD|B02373_x0005_`QTY1|1_x0005_`EXI|0_x0005_`IPR|0_x0005_`BLA|F_x0005_` | P94: B02373_1 | Q94: E4_1 | AC94: =HYPERLINK("#"&일위대가목록표!J2&"!A"&ROW(일위대가목록표!A342),"B02373 →") -> B02373 →
B95: 횡단개거(산지할증B) | C95: L3000*300*200*2ea | E95: 개소 | F95: =J95+H95+L95 -> 1189167 | G95: =K95+I95+M95 -> 0 | H95: =일위대가목록표!F343 -> 484691 | I95: =ROUNDDOWN(H95*D95,0) -> 0 | J95: =일위대가목록표!G343 -> 704476 | K95: =ROUNDDOWN(J95*D95,0) -> 0 | L95: =일위대가목록표!H343 -> 0 | M95: =ROUNDDOWN(L95*D95,0) -> 0 | N95: B02405 | O95: _x0007_`COD|B02405_x0005_`QTY1|1_x0005_`EXI|0_x0005_`IPR|0_x0005_`BLA|F_x0005_` | P95: B02405_1 | Q95: E4_1 | AC95: =HYPERLINK("#"&일위대가목록표!J2&"!A"&ROW(일위대가목록표!A343),"B02405 →") -> B02405 →
B96: 횡단개거 | C96: L1500*300*200*2ea | E96: 개소 | F96: =J96+H96+L96 -> 541704 | G96: =K96+I96+M96 -> 0 | H96: =일위대가목록표!F332 -> 188043 | I96: =ROUNDDOWN(H96*D96,0) -> 0 | J96: =일위대가목록표!G332 -> 353661 | K96: =ROUNDDOWN(J96*D96,0) -> 0 | L96: =일위대가목록표!H332 -> 0 | M96: =ROUNDDOWN(L96*D96,0) -> 0 | N96: B02508 | O96: _x0007_`COD|B02508_x0005_`QTY1|1_x0005_`EXI|0_x0005_`IPR|0_x0005_`BLA|F_x0005_` | P96: B02508_1 | Q96: E4_1 | AC96: =HYPERLINK("#"&일위대가목록표!J2&"!A"&ROW(일위대가목록표!A332),"B02508 →") -> B02508 →
B97: 횡단개거 | C97: L2000*300*200*2ea | E97: 개소 | F97: =J97+H97+L97 -> 721329 | G97: =K97+I97+M97 -> 0 | H97: =일위대가목록표!F333 -> 250724 | I97: =ROUNDDOWN(H97*D97,0) -> 0 | J97: =일위대가목록표!G333 -> 470605 | K97: =ROUNDDOWN(J97*D97,0) -> 0 | L97: =일위대가목록표!H333 -> 0 | M97: =ROUNDDOWN(L97*D97,0) -> 0 | N97: B02509 | O97: _x0007_`COD|B02509_x0005_`QTY1|1_x0005_`EXI|0_x0005_`IPR|0_x0005_`BLA|F_x0005_` | P97: B02509_1 | Q97: E4_1 | AC97: =HYPERLINK("#"&일위대가목록표!J2&"!A"&ROW(일위대가목록표!A333),"B02509 →") -> B02509 →
B98: 횡단개거 | C98: L2500*300*200*2ea | E98: 개소 | F98: =J98+H98+L98 -> 900949 | G98: =K98+I98+M98 -> 0 | H98: =일위대가목록표!F334 -> 313405 | I98: =ROUNDDOWN(H98*D98,0) -> 0 | J98: =일위대가목록표!G334 -> 587544 | K98: =ROUNDDOWN(J98*D98,0) -> 0 | L98: =일위대가목록표!H334 -> 0 | M98: =ROUNDDOWN(L98*D98,0) -> 0 | N98: B02510 | O98: _x0007_`COD|B02510_x0005_`QTY1|1_x0005_`EXI|0_x0005_`IPR|0_x0005_`BLA|F_x0005_` | P98: B02510_1 | Q98: E4_1 | AC98: =HYPERLINK("#"&일위대가목록표!J2&"!A"&ROW(일위대가목록표!A334),"B02510 →") -> B02510 →
B99: 횡단개거 | C99: L3000*300*200*2ea | E99: 개소 | F99: =J99+H99+L99 -> 1092229 | G99: =K99+I99+M99 -> 0 | H99: =일위대가목록표!F335 -> 387753 | I99: =ROUNDDOWN(H99*D99,0) -> 0 | J99: =일위대가목록표!G335 -> 704476 | K99: =ROUNDDOWN(J99*D99,0) -> 0 | L99: =일위대가목록표!H335 -> 0 | M99: =ROUNDDOWN(L99*D99,0) -> 0 | N99: B02511 | O99: _x0007_`COD|B02511_x0005_`QTY1|1_x0005_`EXI|0_x0005_`IPR|0_x0005_`BLA|F_x0005_` | P99: B02511_1 | Q99: E4_1 | AC99: =HYPERLINK("#"&일위대가목록표!J2&"!A"&ROW(일위대가목록표!A335),"B02511 →") -> B02511 →
B100: 식생토낭(산지할증A) | C100: 1단(H200) | E100: m | F100: =J100+H100+L100 -> 35773 | G100: =K100+I100+M100 -> 0 | H100: =일위대가목록표!F175 -> 23398 | I100: =ROUNDDOWN(H100*D100,0) -> 0 | J100: =일위대가목록표!G175 -> 12375 | K100: =ROUNDDOWN(J100*D100,0) -> 0 | L100: =일위대가목록표!H175 -> 0 | M100: =ROUNDDOWN(L100*D100,0) -> 0 | N100: B02854 | O100: _x0007_`COD|B02854_x0005_`QTY1|1_x0005_`EXI|0_x0005_`IPR|0_x0005_`BLA|F_x0005_` | P100: B02854_1 | Q100: E4_1 | AC100: =HYPERLINK("#"&일위대가목록표!J2&"!A"&ROW(일위대가목록표!A175),"B02854 →") -> B02854 →
...

Sheet 일위대가목록표
A1: 일위대가 목록표 | J1: STmate | K1: STmate
A2: 공사명 : 2026년 처인구 숲길(등산로) 유지관리공사(2차) | J2: =MID(CELL("filename",$A$1),FIND("]",CELL("filename",$A$1))+1,LEN(CELL("filename",$A$1))) -> 일위대가목록표
A3: 코드번호 | B3: 명 칭 | C3: 규 격 | D3: 단위 | E3: 합 계 | F3: 노 무 비 | G3: 재 료 비 | H3: 경 비 | I3: 비 고 | K3: =HYPERLINK("#'〓 목 차 〓'!B2","목차 →") -> 목차 →
A4: B02797 | B4: 거적 덮기 | C4: T=4mm | D4: ㎡ | E4: =일위대가표!F12 -> 4359 | F4: =일위대가표!H12 -> 590 | G4: =일위대가표!J12 -> 3769 | H4: =일위대가표!L12 -> 0 | I4: 산림4-25 | J4: ="_x0007_`COD|B02797_x0005_`QTY1|1_x0005_`BQC|산림4-25_x0005_`EQC|_x0005_`JDC|_x0005_`WQC|_x0005_`EDT|_x0005_`ADJ|F_x0005_`DET|"&ROW(일위대가표!A5)&"_x0005_`" -> _x0007_`COD|B02797_x0005_`QTY1|1_x0005_`BQC|산림4-25_x0005_`EQC|_x0005_`JDC|_x0005_`WQC|_x0005_`EDT|_x0005_`ADJ|F_x0005_`DET|5_x0005_` | K4: =HYPERLINK("#"&일위대가표!N2&"!A"&ROW(일위대가표!A5),"B02797 →") -> B02797 →
A5: B02589 | B5: 공원안내판 설치 | C5: 1000*750 | D5: 개소 | E5: =일위대가표!F16 -> 2376000 | F5: =일위대가표!H16 -> 0 | G5: =일위대가표!J16 -> 2376000 | H5: =일위대가표!L16 -> 0 | J5: ="_x0007_`COD|B02589_x0005_`QTY1|1_x0005_`BQC|_x0005_`EQC|_x0005_`JDC|_x0005_`WQC|_x0005_`EDT|_x0005_`ADJ|F_x0005_`DET|"&ROW(일위대가표!A13)&"_x0005_`" -> _x0007_`COD|B02589_x0005_`QTY1|1_x0005_`BQC|_x0005_`EQC|_x0005_`JDC|_x0005_`WQC|_x0005_`EDT|_x0005_`ADJ|F_x0005_`DET|13_x0005_` | K5: =HYPERLINK("#"&일위대가표!N2&"!A"&ROW(일위대가표!A13),"B02589 →") -> B02589 →
A6: B02590 | B6: 관광안내판 설치 | C6: 2000*1200 | D6: 개소 | E6: =일위대가표!F20 -> 6648000 | F6: =일위대가표!H20 -> 0 | G6: =일위대가표!J20 -> 6648000 | H6: =일위대가표!L20 -> 0 | J6: ="_x0007_`COD|B02590_x0005_`QTY1|1_x0005_`BQC|_x0005_`EQC|_x0005_`JDC|_x0005_`WQC|_x0005_`EDT|_x0005_`ADJ|F_x0005_`DET|"&ROW(일위대가표!A17)&"_x0005_`" -> _x0007_`COD|B02590_x0005_`QTY1|1_x0005_`BQC|_x0005_`EQC|_x0005_`JDC|_x0005_`WQC|_x0005_`EDT|_x0005_`ADJ|F_x0005_`DET|17_x0005_` | K6: =HYPERLINK("#"&일위대가표!N2&"!A"&ROW(일위대가표!A17),"B02590 →") -> B02590 →
A7: B02713 | B7: 관목제거 | C7: H0.3~0.7 | D7: 주 | E7: =일위대가표!F24 -> 516 | F7: =일위대가표!H24 -> 516 | G7: =일위대가표!J24 -> 0 | H7: =일위대가표!L24 -> 0 | I7: 25조경설계대가 | J7: ="_x0007_`COD|B02713_x0005_`QTY1|1_x0005_`BQC|25조경설계대가_x0005_`EQC|_x0005_`JDC|_x0005_`WQC|_x0005_`EDT|_x0005_`ADJ|F_x0005_`DET|"&ROW(일위대가표!A21)&"_x0005_`" -> _x0007_`COD|B02713_x0005_`QTY1|1_x0005_`BQC|25조경설계대가_x0005_`EQC|_x0005_`JDC|_x0005_`WQC|_x0005_`EDT|_x0005_`ADJ|F_x0005_`DET|21_x0005_` | K7: =HYPERLINK("#"&일위대가표!N2&"!A"&ROW(일위대가표!A21),"B02713 →") -> B02713 →
A8: B02712 | B8: 관목제거 | C8: H0.3미만 | D8: 주 | E8: =일위대가표!F28 -> 172 | F8: =일위대가표!H28 -> 172 | G8: =일위대가표!J28 -> 0 | H8: =일위대가표!L28 -> 0 | I8: 25조경설계대가 | J8: ="_x0007_`COD|B02712_x0005_`QTY1|1_x0005_`BQC|25조경설계대가_x0005_`EQC|_x0005_`JDC|_x0005_`WQC|_x0005_`EDT|_x0005_`ADJ|F_x0005_`DET|"&ROW(일위대가표!A25)&"_x0005_`" -> _x0007_`COD|B02712_x0005_`QTY1|1_x0005_`BQC|25조경설계대가_x0005_`EQC|_x0005_`JDC|_x0005_`WQC|_x0005_`EDT|_x0005_`ADJ|F_x0005_`DET|25_x0005_` | K8: =HYPERLINK("#"&일위대가표!N2&"!A"&ROW(일위대가표!A25),"B02712 →") -> B02712 →
A9: B02714 | B9: 관목제거 | C9: H0.8~1.1 | D9: 주 | E9: =일위대가표!F32 -> 688 | F9: =일위대가표!H32 -> 688 | G9: =일위대가표!J32 -> 0 | H9: =일위대가표!L32 -> 0 | I9: 25조경설계대가 | J9: ="_x0007_`COD|B02714_x0005_`QTY1|1_x0005_`BQC|25조경설계대가_x0005_`EQC|_x0005_`JDC|_x0005_`WQC|_x0005_`EDT|_x0005_`ADJ|F_x0005_`DET|"&ROW(일위대가표!A29)&"_x0005_`" -> _x0007_`COD|B02714_x0005_`QTY1|1_x0005_`BQC|25조경설계대가_x0005_`EQC|_x0005_`JDC|_x0005_`WQC|_x0005_`EDT|_x0005_`ADJ|F_x0005_`DET|29_x0005_` | K9: =HYPERLINK("#"&일위대가표!N2&"!A"&ROW(일위대가표!A29),"B02714 →") -> B02714 →
A10: B02715 | B10: 관목제거 | C10: H1.2~1.5 | D10: 주 | E10: =일위대가표!F36 -> 1032 | F10: =일위대가표!H36 -> 1032 | G10: =일위대가표!J36 -> 0 | H10: =일위대가표!L36 -> 0 | I10: 25조경설계대가 | J10: ="_x0007_`COD|B02715_x0005_`QTY1|1_x0005_`BQC|25조경설계대가_x0005_`EQC|_x0005_`JDC|_x0005_`WQC|_x0005_`EDT|_x0005_`ADJ|F_x0005_`DET|"&ROW(일위대가표!A33)&"_x0005_`" -> _x0007_`COD|B02715_x0005_`QTY1|1_x0005_`BQC|25조경설계대가_x0005_`EQC|_x0005_`JDC|_x0005_`WQC|_x0005_`EDT|_x0005_`ADJ|F_x0005_`DET|33_x0005_` | K10: =HYPERLINK("#"&일위대가표!N2&"!A"&ROW(일위대가표!A33),"B02715 →") -> B02715 →
A11: B02716 | B11: 관목제거 | C11: H1.6~2.0 | D11: 주 | E11: =일위대가표!F40 -> 1376 | F11: =일위대가표!H40 -> 1376 | G11: =일위대가표!J40 -> 0 | H11: =일위대가표!L40 -> 0 | I11: 25조경설계대가 | J11: ="_x0007_`COD|B02716_x0005_`QTY1|1_x0005_`BQC|25조경설계대가_x0005_`EQC|_x0005_`JDC|_x0005_`WQC|_x0005_`EDT|_x0005_`ADJ|F_x0005_`DET|"&ROW(일위대가표!A37)&"_x0005_`" -> _x0007_`COD|B02716_x0005_`QTY1|1_x0005_`BQC|25조경설계대가_x0005_`EQC|_x0005_`JDC|_x0005_`WQC|_x0005_`EDT|_x0005_`ADJ|F_x0005_`DET|37_x0005_` | K11: =HYPERLINK("#"&일위대가표!N2&"!A"&ROW(일위대가표!A37),"B02716 →") -> B02716 →
A12: B02717 | B12: 관목제거 | C12: H2.1~2.5 | D12: 주 | E12: =일위대가표!F44 -> 1720 | F12: =일위대가표!H44 -> 1720 | G12: =일위대가표!J44 -> 0 | H12: =일위대가표!L44 -> 0 | I12: 25조경설계대가 | J12: ="_x0007_`COD|B02717_x0005_`QTY1|1_x0005_`BQC|25조경설계대가_x0005_`EQC|_x0005_`JDC|_x0005_`WQC|_x0005_`EDT|_x0005_`ADJ|F_x0005_`DET|"&ROW(일위대가표!A41)&"_x0005_`" -> _x0007_`COD|B02717_x0005_`QTY1|1_x0005_`BQC|25조경설계대가_x0005_`EQC|_x0005_`JDC|_x0005_`WQC|_x0005_`EDT|_x0005_`ADJ|F_x0005_`DET|41_x0005_` | K12: =HYPERLINK("#"&일위대가표!N2&"!A"&ROW(일위대가표!A41),"B02717 →") -> B02717 →
A13: B02645 | B13: 구름걷기 | C13: 2745*715*1830 | D13: 개소 | E13: =일위대가표!F48 -> 3950000 | F13: =일위대가표!H48 -> 0 | G13: =일위대가표!J48 -> 3950000 | H13: =일위대가표!L48 -> 0 | J13: ="_x0007_`COD|B02645_x0005_`QTY1|1_x0005_`BQC|_x0005_`EQC|_x0005_`JDC|_x0005_`WQC|_x0005_`EDT|_x0005_`ADJ|F_x0005_`DET|"&ROW(일위대가표!A45)&"_x0005_`" -> _x0007_`COD|B02645_x0005_`QTY1|1_x0005_`BQC|_x0005_`EQC|_x0005_`JDC|_x0005_`WQC|_x0005_`EDT|_x0005_`ADJ|F_x0005_`DET|45_x0005_` | K13: =HYPERLINK("#"&일위대가표!N2&"!A"&ROW(일위대가표!A45),"B02645 →") -> B02645 →
A14: B02587 | B14: 금지행위안내판 설치 | C14: 600*900 | D14: 개소 | E14: =일위대가표!F52 -> 2004000 | F14: =일위대가표!H52 -> 0 | G14: =일위대가표!J52 -> 2004000 | H14: =일위대가표!L52 -> 0 | J14: ="_x0007_`COD|B02587_x0005_`QTY1|1_x0005_`BQC|_x0005_`EQC|_x0005_`JDC|_x0005_`WQC|_x0005_`EDT|_x0005_`ADJ|F_x0005_`DET|"&ROW(일위대가표!A49)&"_x0005_`" -> _x0007_`COD|B02587_x0005_`QTY1|1_x0005_`BQC|_x0005_`EQC|_x0005_`JDC|_x0005_`WQC|_x0005_`EDT|_x0005_`ADJ|F_x0005_`DET|49_x0005_` | K14: =HYPERLINK("#"&일위대가표!N2&"!A"&ROW(일위대가표!A49),"B02587 →") -> B02587 →
A15: B02299 | B15: 기초다짐 및 뒷채움 | C15: 잡석, 75mm미만 | D15: ㎥ | E15: =일위대가표!F59 -> 15336 | F15: =일위대가표!H59 -> 12868 | G15: =일위대가표!J59 -> 1153 | H15: =일위대가표!L59 -> 1315 | I15: 산림12-3 | J15: ="_x0007_`COD|B02299_x0005_`QTY1|1_x0005_`BQC|산림12-3_x0005_`EQC|_x0005_`JDC|_x0005_`WQC|_x0005_`EDT|_x0005_`ADJ|F_x0005_`DET|"&ROW(일위대가표!A53)&"_x0005_`" -> _x0007_`COD|B02299_x0005_`QTY1|1_x0005_`BQC|산림12-3_x0005_`EQC|_x0005_`JDC|_x0005_`WQC|_x0005_`EDT|_x0005_`ADJ|F_x0005_`DET|53_x0005_` | K15: =HYPERLINK("#"&일위대가표!N2&"!A"&ROW(일위대가표!A53),"B02299 →") -> B02299 →
A16: B02562 | B16: 녹막이페인트칠 | C16: 철재면 1회 | D16: ㎡ | E16: =일위대가표!F67 -> 5122 | F16: =일위대가표!H67 -> 4461 | G16: =일위대가표!J67 -> 572 | H16: =일위대가표!L67 -> 89 | I16: 건축11-2-6 | J16: ="_x0007_`COD|B02562_x0005_`QTY1|1_x0005_`BQC|건축11-2-6_x0005_`EQC|_x0005_`JDC|_x0005_`WQC|_x0005_`EDT|_x0005_`ADJ|F_x0005_`DET|"&ROW(일위대가표!A60)&"_x0005_`" -> _x0007_`COD|B02562_x0005_`QTY1|1_x0005_`BQC|건축11-2-6_x0005_`EQC|_x0005_`JDC|_x0005_`WQC|_x0005_`EDT|_x0005_`ADJ|F_x0005_`DET|60_x0005_` | K16: =HYPERLINK("#"&일위대가표!N2&"!A"&ROW(일위대가표!A60),"B02562 →") -> B02562 →
A17: B02107 | B17: 녹막이페인트칠 | C17: 철재면 2회 | D17: ㎡ | E17: =일위대가표!F75 -> 10251 | F17: =일위대가표!H75 -> 8922 | G17: =일위대가표!J75 -> 1151 | H17: =일위대가표!L75 -> 178 | I17: 건축11-2-6 | J17: ="_x0007_`COD|B02107_x0005_`QTY1|1_x0005_`BQC|건축11-2-6_x0005_`EQC|_x0005_`JDC|_x0005_`WQC|_x0005_`EDT|_x0005_`ADJ|F_x0005_`DET|"&ROW(일위대가표!A68)&"_x0005_`" -> _x0007_`COD|B02107_x0005_`QTY1|1_x0005_`BQC|건축11-2-6_x0005_`EQC|_x0005_`JDC|_x0005_`WQC|_x0005_`EDT|_x0005_`ADJ|F_x0005_`DET|68_x0005_` | K17: =HYPERLINK("#"&일위대가표!N2&"!A"&ROW(일위대가표!A68),"B02107 →") -> B02107 →
A18: B02531 | B18: 다리근육모으기 | C18: 2065*550*1800 | D18: 개소 | E18: =일위대가표!F79 -> 5450000 | F18: =일위대가표!H79 -> 0 | G18: =일위대가표!J79 -> 5450000 | H18: =일위대가표!L79 -> 0 | J18: ="_x0007_`COD|B02531_x0005_`QTY1|1_x0005_`BQC|_x0005_`EQC|_x0005_`JDC|_x0005_`WQC|_x0005_`EDT|_x0005_`ADJ|F_x0005_`DET|"&ROW(일위대가표!A76)&"_x0005_`" -> _x0007_`COD|B02531_x0005_`QTY1|1_x0005_`BQC|_x0005_`EQC|_x0005_`JDC|_x0005_`WQC|_x0005_`EDT|_x0005_`ADJ|F_x0005_`DET|76_x0005_` | K18: =HYPERLINK("#"&일위대가표!N2&"!A"&ROW(일위대가표!A76),"B02531 →") -> B02531 →
A19: B02537 | B19: 다리근육모으기&양팔당기기 | C19: 2300*715*1800 | D19: 개소 | E19: =일위대가표!F83 -> 6110000 | F19: =일위대가표!H83 -> 0 | G19: =일위대가표!J83 -> 6110000 | H19: =일위대가표!L83 -> 0 | J19: ="_x0007_`COD|B02537_x0005_`QTY1|1_x0005_`BQC|_x0005_`EQC|_x0005_`JDC|_x0005_`WQC|_x0005_`EDT|_x0005_`ADJ|F_x0005_`DET|"&ROW(일위대가표!A80)&"_x0005_`" -> _x0007_`COD|B02537_x0005_`QTY1|1_x0005_`BQC|_x0005_`EQC|_x0005_`JDC|_x0005_`WQC|_x0005_`EDT|_x0005_`ADJ|F_x0005_`DET|80_x0005_` | K19: =HYPERLINK("#"&일위대가표!N2&"!A"&ROW(일위대가표!A80),"B02537 →") -> B02537 →
A20: B02533 | B20: 달리기 | C20: 3585*575*1830 | D20: 개소 | E20: =일위대가표!F87 -> 4335000 | F20: =일위대가표!H87 -> 0 | G20: =일위대가표!J87 -> 4335000 | H20: =일위대가표!L87 -> 0 | J20: ="_x0007_`COD|B02533_x0005_`QTY1|1_x0005_`BQC|_x0005_`EQC|_x0005_`JDC|_x0005_`WQC|_x0005_`EDT|_x0005_`ADJ|F_x0005_`DET|"&ROW(일위대가표!A84)&"_x0005_`" -> _x0007_`COD|B02533_x0005_`QTY1|1_x0005_`BQC|_x0005_`EQC|_x0005_`JDC|_x0005_`WQC|_x0005_`EDT|_x0005_`ADJ|F_x0005_`DET|84_x0005_` | K20: =HYPERLINK("#"&일위대가표!N2&"!A"&ROW(일위대가표!A84),"B02533 →") -> B02533 →
A21: B02655 | B21: 데크계단 오일스테인칠 | C21: W1500, 상판&난간 | D21: m | E21: =일위대가표!F92 -> 23923 | F21: =일위대가표!H92 -> 21519 | G21: =일위대가표!J92 -> 1886 | H21: =일위대가표!L92 -> 518 | J21: ="_x0007_`COD|B02655_x0005_`QTY1|1_x0005_`BQC|_x0005_`EQC|_x0005_`JDC|_x0005_`WQC|_x0005_`EDT|_x0005_`ADJ|F_x0005_`DET|"&ROW(일위대가표!A88)&"_x0005_`" -> _x0007_`COD|B02655_x0005_`QTY1|1_x0005_`BQC|_x0005_`EQC|_x0005_`JDC|_x0005_`WQC|_x0005_`EDT|_x0005_`ADJ|F_x0005_`DET|88_x0005_` | K21: =HYPERLINK("#"&일위대가표!N2&"!A"&ROW(일위대가표!A88),"B02655 →") -> B02655 →
A22: B02732 | B22: 데크난간 보수 | C22: 1500*1200 | D22: 개소 | E22: =일위대가표!F99 -> 138982 | F22: =일위대가표!H99 -> 34973 | G22: =일위대가표!J99 -> 103677 | H22: =일위대가표!L99 -> 332 | J22: ="_x0007_`COD|B02732_x0005_`QTY1|1_x0005_`BQC|_x0005_`EQC|_x0005_`JDC|_x0005_`WQC|_x0005_`EDT|_x0005_`ADJ|F_x0005_`DET|"&ROW(일위대가표!A93)&"_x0005_`" -> _x0007_`COD|B02732_x0005_`QTY1|1_x0005_`BQC|_x0005_`EQC|_x0005_`JDC|_x0005_`WQC|_x0005_`EDT|_x0005_`ADJ|F_x0005_`DET|93_x0005_` | K22: =HYPERLINK("#"&일위대가표!N2&"!A"&ROW(일위대가표!A93),"B02732 →") -> B02732 →
A23: B02723 | B23: 데크평상 재도장 | C23: 3000*3000 | D23: 개소 | E23: =일위대가표!F104 -> 180586 | F23: =일위대가표!H104 -> 160621 | G23: =일위대가표!J104 -> 16461 | H23: =일위대가표!L104 -> 3504 | J23: ="_x0007_`COD|B02723_x0005_`QTY1|1_x0005_`BQC|_x0005_`EQC|_x0005_`JDC|_x0005_`WQC|_x0005_`EDT|_x0005_`ADJ|F_x0005_`DET|"&ROW(일위대가표!A100)&"_x0005_`" -> _x0007_`COD|B02723_x0005_`QTY1|1_x0005_`BQC|_x0005_`EQC|_x0005_`JDC|_x0005_`WQC|_x0005_`EDT|_x0005_`ADJ|F_x0005_`DET|100_x0005_` | K23: =HYPERLINK("#"&일위대가표!N2&"!A"&ROW(일위대가표!A100),"B02723 →") -> B02723 →
A24: B02619 | B24: 독립기초 | C24: 300*300*300 | D24: 개소 | E24: =일위대가표!F112 -> 34417 | F24: =일위대가표!H112 -> 28360 | G24: =일위대가표!J112 -> 5965 | H24: =일위대가표!L112 -> 92 | J24: ="_x0007_`COD|B02619_x0005_`QTY1|1_x0005_`BQC|_x0005_`EQC|_x0005_`JDC|_x0005_`WQC|_x0005_`EDT|_x0005_`ADJ|F_x0005_`DET|"&ROW(일위대가표!A105)&"_x0005_`" -> _x0007_`COD|B02619_x0005_`QTY1|1_x0005_`BQC|_x0005_`EQC|_x0005_`JDC|_x0005_`WQC|_x0005_`EDT|_x0005_`ADJ|F_x0005_`DET|105_x0005_` | K24: =HYPERLINK("#"&일위대가표!N2&"!A"&ROW(일위대가표!A105),"B02619 →") -> B02619 →
A25: B02620 | B25: 독립기초 | C25: 400*400*400 | D25: 개소 | E25: =일위대가표!F120 -> 76627 | F25: =일위대가표!H120 -> 62268 | G25: =일위대가표!J120 -> 14139 | H25: =일위대가표!L120 -> 220 | J25: ="_x0007_`COD|B02620_x0005_`QTY1|1_x0005_`BQC|_x0005_`EQC|_x0005_`JDC|_x0005_`WQC|_x0005_`EDT|_x0005_`ADJ|F_x0005_`DET|"&ROW(일위대가표!A113)&"_x0005_`" -> _x0007_`COD|B02620_x0005_`QTY1|1_x0005_`BQC|_x0005_`EQC|_x0005_`JDC|_x0005_`WQC|_x0005_`EDT|_x0005_`ADJ|F_x0005_`DET|113_x0005_` | K25: =HYPERLINK("#"&일위대가표!N2&"!A"&ROW(일위대가표!A113),"B02620 →") -> B02620 →
A26: B02621 | B26: 독립기초 | C26: 500*500*500 | D26: 개소 | E26: =일위대가표!F128 -> 133028 | F26: =일위대가표!H128 -> 108000 | G26: =일위대가표!J128 -> 24684 | H26: =일위대가표!L128 -> 344 | J26: ="_x0007_`COD|B02621_x0005_`QTY1|1_x0005_`BQC|_x0005_`EQC|_x0005_`JDC|_x0005_`WQC|_x0005_`EDT|_x0005_`ADJ|F_x0005_`DET|"&ROW(일위대가표!A121)&"_x0005_`" -> _x0007_`COD|B02621_x0005_`QTY1|1_x0005_`BQC|_x0005_`EQC|_x0005_`JDC|_x0005_`WQC|_x0005_`EDT|_x0005_`ADJ|F_x0005_`DET|121_x0005_` | K26: =HYPERLINK("#"&일위대가표!N2&"!A"&ROW(일위대가표!A121),"B02621 →") -> B02621 →
A27: B02894 | B27: 독립기초(산지할증A) | C27: 300*300*300 | D27: 개소 | E27: =일위대가표!F137 -> 38671 | F27: =일위대가표!H137 -> 32614 | G27: =일위대가표!J137 -> 5965 | H27: =일위대가표!L137 -> 92 | J27: ="_x0007_`COD|B02894_x0005_`QTY1|1_x0005_`BQC|_x0005_`EQC|_x0005_`JDC|_x0005_`WQC|_x0005_`EDT|_x0005_`ADJ|F_x0005_`DET|"&ROW(일위대가표!A129)&"_x0005_`" -> _x0007_`COD|B02894_x0005_`QTY1|1_x0005_`BQC|_x0005_`EQC|_x0005_`JDC|_x0005_`WQC|_x0005_`EDT|_x0005_`ADJ|F_x0005_`DET|129_x0005_` | K27: =HYPERLINK("#"&일위대가표!N2&"!A"&ROW(일위대가표!A129),"B02894 →") -> B02894 →
A28: B02895 | B28: 독립기초(산지할증A) | C28: 400*400*400 | D28: 개소 | E28: =일위대가표!F146 -> 85967 | F28: =일위대가표!H146 -> 71608 | G28: =일위대가표!J146 -> 14139 | H28: =일위대가표!L146 -> 220 | J28: ="_x0007_`COD|B02895_x0005_`QTY1|1_x0005_`BQC|_x0005_`EQC|_x0005_`JDC|_x0005_`WQC|_x0005_`EDT|_x0005_`ADJ|F_x0005_`DET|"&ROW(일위대가표!A138)&"_x0005_`" -> _x0007_`COD|B02895_x0005_`QTY1|1_x0005_`BQC|_x0005_`EQC|_x0005_`JDC|_x0005_`WQC|_x0005_`EDT|_x0005_`ADJ|F_x0005_`DET|138_x0005_` | K28: =HYPERLINK("#"&일위대가표!N2&"!A"&ROW(일위대가표!A138),"B02895 →") -> B02895 →
A29: B02896 | B29: 독립기초(산지할증A) | C29: 500*500*500 | D29: 개소 | E29: =일위대가표!F155 -> 149228 | F29: =일위대가표!H155 -> 124200 | G29: =일위대가표!J155 -> 24684 | H29: =일위대가표!L155 -> 344 | J29: ="_x0007_`COD|B02896_x0005_`QTY1|1_x0005_`BQC|_x0005_`EQC|_x0005_`JDC|_x0005_`WQC|_x0005_`EDT|_x0005_`ADJ|F_x0005_`DET|"&ROW(일위대가표!A147)&"_x0005_`" -> _x0007_`COD|B02896_x0005_`QTY1|1_x0005_`BQC|_x0005_`EQC|_x0005_`JDC|_x0005_`WQC|_x0005_`EDT|_x0005_`ADJ|F_x0005_`DET|147_x0005_` | K29: =HYPERLINK("#"&일위대가표!N2&"!A"&ROW(일위대가표!A147),"B02896 →") -> B02896 →
A30: B02618 | B30: 독립기초(산지할증B) | C30: 300*300*300 | D30: 개소 | E30: =일위대가표!F164 -> 41507 | F30: =일위대가표!H164 -> 35450 | G30: =일위대가표!J164 -> 5965 | H30: =일위대가표!L164 -> 92 | J30: ="_x0007_`COD|B02618_x0005_`QTY1|1_x0005_`BQC|_x0005_`EQC|_x0005_`JDC|_x0005_`WQC|_x0005_`EDT|_x0005_`ADJ|F_x0005_`DET|"&ROW(일위대가표!A156)&"_x0005_`" -> _x0007_`COD|B02618_x0005_`QTY1|1_x0005_`BQC|_x0005_`EQC|_x0005_`JDC|_x0005_`WQC|_x0005_`EDT|_x0005_`ADJ|F_x0005_`DET|156_x0005_` | K30: =HYPERLINK("#"&일위대가표!N2&"!A"&ROW(일위대가표!A156),"B02618 →") -> B02618 →
A31: B02617 | B31: 독립기초(산지할증B) | C31: 400*400*400 | D31: 개소 | E31: =일위대가표!F173 -> 92194 | F31: =일위대가표!H173 -> 77835 | G31: =일위대가표!J173 -> 14139 | H31: =일위대가표!L173 -> 220 | J31: ="_x0007_`COD|B02617_x0005_`QTY1|1_x0005_`BQC|_x0005_`EQC|_x0005_`JDC|_x0005_`WQC|_x0005_`EDT|_x0005_`ADJ|F_x0005_`DET|"&ROW(일위대가표!A165)&"_x0005_`" -> _x0007_`COD|B02617_x0005_`QTY1|1_x0005_`BQC|_x0005_`EQC|_x0005_`JDC|_x0005_`WQC|_x0005_`EDT|_x0005_`ADJ|F_x0005_`DET|165_x0005_` | K31: =HYPERLINK("#"&일위대가표!N2&"!A"&ROW(일위대가표!A165),"B02617 →") -> B02617 →
A32: B02616 | B32: 독립기초(산지할증B) | C32: 500*500*500 | D32: 개소 | E32: =일위대가표!F182 -> 160028 | F32: =일위대가표!H182 -> 135000 | G32: =일위대가표!J182 -> 24684 | H32: =일위대가표!L182 -> 344 | J32: ="_x0007_`COD|B02616_x0005_`QTY1|1_x0005_`BQC|_x0005_`EQC|_x0005_`JDC|_x0005_`WQC|_x0005_`EDT|_x0005_`ADJ|F_x0005_`DET|"&ROW(일위대가표!A174)&"_x0005_`" -> _x0007_`COD|B02616_x0005_`QTY1|1_x0005_`BQC|_x0005_`EQC|_x0005_`JDC|_x0005_`WQC|_x0005_`EDT|_x0005_`ADJ|F_x0005_`DET|174_x0005_` | K32: =HYPERLINK("#"&일위대가표!N2&"!A"&ROW(일위대가표!A174),"B02616 →") -> B02616 →
A33: B02685 | B33: 돌붙임(큰돌) | C33: 메붙임,직경40~60cm | D33: ㎡ | E33: =일위대가표!F190 -> 67286 | F33: =일위대가표!H190 -> 54084 | G33: =일위대가표!J190 -> 6177 | H33: =일위대가표!L190 -> 7025 | I33: 산림12-4-다 | J33: ="_x0007_`COD|B02685_x0005_`QTY1|1_x0005_`BQC|산림12-4-다_x0005_`EQC|_x0005_`JDC|_x0005_`WQC|_x0005_`EDT|_x0005_`ADJ|F_x0005_`DET|"&ROW(일위대가표!A183)&"_x0005_`" -> _x0007_`COD|B02685_x0005_`QTY1|1_x0005_`BQC|산림12-4-다_x0005_`EQC|_x0005_`JDC|_x0005_`WQC|_x0005_`EDT|_x0005_`ADJ|F_x0005_`DET|183_x0005_` | K33: =HYPERLINK("#"&일위대가표!N2&"!A"&ROW(일위대가표!A183),"B02685 →") -> B02685 →
A34: B02145 | B34: 돌붙임(큰돌) | C34: 찰붙임,직경40~60cm | D34: ㎡ | E34: =일위대가표!F198 -> 92473 | F34: =일위대가표!H198 -> 72570 | G34: =일위대가표!J198 -> 8648 | H34: =일위대가표!L198 -> 11255 | I34: 산림12-4-다 | J34: ="_x0007_`COD|B02145_x0005_`QTY1|1_x0005_`BQC|산림12-4-다_x0005_`EQC|_x0005_`JDC|_x0005_`WQC|_x0005_`EDT|_x0005_`ADJ|F_x0005_`DET|"&ROW(일위대가표!A191)&"_x0005_`" -> _x0007_`COD|B02145_x0005_`QTY1|1_x0005_`BQC|산림12-4-다_x0005_`EQC|_x0005_`JDC|_x0005_`WQC|_x0005_`EDT|_x0005_`ADJ|F_x0005_`DET|191_x0005_` | K34: =HYPERLINK("#"&일위대가표!N2&"!A"&ROW(일위대가표!A191),"B02145 →") -> B02145 →
A35: B02146 | B35: 돌쌓기(큰돌) | C35: 메쌓기,직경40~60cm | D35: ㎡ | E35: =일위대가표!F206 -> 103073 | F35: =일위대가표!H206 -> 81995 | G35: =일위대가표!J206 -> 9884 | H35: =일위대가표!L206 -> 11194 | I35: 산림12-4-다 | J35: ="_x0007_`COD|B02146_x0005_`QTY1|1_x0005_`BQC|산림12-4-다_x0005_`EQC|_x0005_`JDC|_x0005_`WQC|_x0005_`EDT|_x0005_`ADJ|F_x0005_`DET|"&ROW(일위대가표!A199)&"_x0005_`" -> _x0007_`COD|B02146_x0005_`QTY1|1_x0005_`BQC|산림12-4-다_x0005_`EQC|_x0005_`JDC|_x0005_`WQC|_x0005_`EDT|_x0005_`ADJ|F_x0005_`DET|199_x0005_` | K35: =HYPERLINK("#"&일위대가표!N2&"!A"&ROW(일위대가표!A199),"B02146 →") -> B02146 →
A36: B02144 | B36: 돌쌓기(큰돌) | C36: 찰쌓기,직경40~60cm | D36: ㎡ | E36: =일위대가표!F214 -> 132158 | F36: =일위대가표!H214 -> 98014 | G36: =일위대가표!J214 -> 12355 | H36: =일위대가표!L214 -> 21789 | I36: 산림12-4-다 | J36: ="_x0007_`COD|B02144_x0005_`QTY1|1_x0005_`BQC|산림12-4-다_x0005_`EQC|_x0005_`JDC|_x0005_`WQC|_x0005_`EDT|_x0005_`ADJ|F_x0005_`DET|"&ROW(일위대가표!A207)&"_x0005_`" -> _x0007_`COD|B02144_x0005_`QTY1|1_x0005_`BQC|산림12-4-다_x0005_`EQC|_x0005_`JDC|_x0005_`WQC|_x0005_`EDT|_x0005_`ADJ|F_x0005_`DET|207_x0005_` | K36: =HYPERLINK("#"&일위대가표!N2&"!A"&ROW(일위대가표!A207),"B02144 →") -> B02144 →
A37: B01447 | B37: 되메우고 다지기 | C37: 인력, 15cm | D37: ㎥ | E37: =일위대가표!F218 -> 24089 | F37: =일위대가표!H218 -> 24089 | G37: =일위대가표!J218 -> 0 | H37: =일위대가표!L218 -> 0 | J37: ="_x0007_`COD|B01447_x0005_`QTY1|1_x0005_`BQC|_x0005_`EQC|_x0005_`JDC|_x0005_`WQC|_x0005_`EDT|_x0005_`ADJ|F_x0005_`DET|"&ROW(일위대가표!A215)&"_x0005_`" -> _x0007_`COD|B01447_x0005_`QTY1|1_x0005_`BQC|_x0005_`EQC|_x0005_`JDC|_x0005_`WQC|_x0005_`EDT|_x0005_`ADJ|F_x0005_`DET|215_x0005_` | K37: =HYPERLINK("#"&일위대가표!N2&"!A"&ROW(일위대가표!A215),"B01447 →") -> B01447 →
A38: B02660 | B38: 등산로 정비 | C38: B=1.0m | D38: m | E38: =일위대가표!F225 -> 12452 | F38: =일위대가표!H225 -> 12386 | G38: =일위대가표!J225 -> 11 | H38: =일위대가표!L225 -> 55 | J38: ="_x0007_`COD|B02660_x0005_`QTY1|1_x0005_`BQC|_x0005_`EQC|_x0005_`JDC|_x0005_`WQC|_x0005_`EDT|_x0005_`ADJ|F_x0005_`DET|"&ROW(일위대가표!A219)&"_x0005_`" -> _x0007_`COD|B02660_x0005_`QTY1|1_x0005_`BQC|_x0005_`EQC|_x0005_`JDC|_x0005_`WQC|_x0005_`EDT|_x0005_`ADJ|F_x0005_`DET|219_x0005_` | K38: =HYPERLINK("#"&일위대가표!N2&"!A"&ROW(일위대가표!A219),"B02660 →") -> B02660 →
A39: B02661 | B39: 등산로 정비 | C39: B=1.2m | D39: m | E39: =일위대가표!F232 -> 14942 | F39: =일위대가표!H232 -> 14863 | G39: =일위대가표!J232 -> 13 | H39: =일위대가표!L232 -> 66 | J39: ="_x0007_`COD|B02661_x0005_`QTY1|1_x0005_`BQC|_x0005_`EQC|_x0005_`JDC|_x0005_`WQC|_x0005_`EDT|_x0005_`ADJ|F_x0005_`DET|"&ROW(일위대가표!A226)&"_x0005_`" -> _x0007_`COD|B02661_x0005_`QTY1|1_x0005_`BQC|_x0005_`EQC|_x0005_`JDC|_x0005_`WQC|_x0005_`EDT|_x0005_`ADJ|F_x0005_`DET|226_x0005_` | K39: =HYPERLINK("#"&일위대가표!N2&"!A"&ROW(일위대가표!A226),"B02661 →") -> B02661 →
A40: B02662 | B40: 등산로 정비 | C40: B=1.5m | D40: m | E40: =일위대가표!F239 -> 18677 | F40: =일위대가표!H239 -> 18579 | G40: =일위대가표!J239 -> 16 | H40: =일위대가표!L239 -> 82 | J40: ="_x0007_`COD|B02662_x0005_`QTY1|1_x0005_`BQC|_x0005_`EQC|_x0005_`JDC|_x0005_`WQC|_x0005_`EDT|_x0005_`ADJ|F_x0005_`DET|"&ROW(일위대가표!A233)&"_x0005_`" -> _x0007_`COD|B02662_x0005_`QTY1|1_x0005_`BQC|_x0005_`EQC|_x0005_`JDC|_x0005_`WQC|_x0005_`EDT|_x0005_`ADJ|F_x0005_`DET|233_x0005_` | K40: =HYPERLINK("#"&일위대가표!N2&"!A"&ROW(일위대가표!A233),"B02662 →") -> B02662 →
A41: B02663 | B41: 등산로 정비 | C41: B=2.0m | D41: m | E41: =일위대가표!F246 -> 24904 | F41: =일위대가표!H246 -> 24772 | G41: =일위대가표!J246 -> 22 | H41: =일위대가표!L246 -> 110 | J41: ="_x0007_`COD|B02663_x0005_`QTY1|1_x0005_`BQC|_x0005_`EQC|_x0005_`JDC|_x0005_`WQC|_x0005_`EDT|_x0005_`ADJ|F_x0005_`DET|"&ROW(일위대가표!A240)&"_x0005_`" -> _x0007_`COD|B02663_x0005_`QTY1|1_x0005_`BQC|_x0005_`EQC|_x0005_`JDC|_x0005_`WQC|_x0005_`EDT|_x0005_`ADJ|F_x0005_`DET|240_x0005_` | K41: =HYPERLINK("#"&일위대가표!N2&"!A"&ROW(일위대가표!A240),"B02663 →") -> B02663 →
A42: B02827 | B42: 등산로 정비(산지할증A) | C42: B=1.0m | D42: m | E42: =일위대가표!F254 -> 14309 | F42: =일위대가표!H254 -> 14243 | G42: =일위대가표!J254 -> 11 | H42: =일위대가표!L254 -> 55 | J42: ="_x0007_`COD|B02827_x0005_`QTY1|1_x0005_`BQC|_x0005_`EQC|_x0005_`JDC|_x0005_`WQC|_x0005_`EDT|_x0005_`ADJ|F_x0005_`DET|"&ROW(일위대가표!A247)&"_x0005_`" -> _x0007_`COD|B02827_x0005_`QTY1|1_x0005_`BQC|_x0005_`EQC|_x0005_`JDC|_x0005_`WQC|_x0005_`EDT|_x0005_`ADJ|F_x0005_`DET|247_x0005_` | K42: =HYPERLINK("#"&일위대가표!N2&"!A"&ROW(일위대가표!A247),"B02827 →") -> B02827 →
A43: B02828 | B43: 등산로 정비(산지할증A) | C43: B=1.2m | D43: m | E43: =일위대가표!F262 -> 17171 | F43: =일위대가표!H262 -> 17092 | G43: =일위대가표!J262 -> 13 | H43: =일위대가표!L262 -> 66 | J43: ="_x0007_`COD|B02828_x0005_`QTY1|1_x0005_`BQC|_x0005_`EQC|_x0005_`JDC|_x0005_`WQC|_x0005_`EDT|_x0005_`ADJ|F_x0005_`DET|"&ROW(일위대가표!A255)&"_x0005_`" -> _x0007_`COD|B02828_x0005_`QTY1|1_x0005_`BQC|_x0005_`EQC|_x0005_`JDC|_x0005_`WQC|_x0005_`EDT|_x0005_`ADJ|F_x0005_`DET|255_x0005_` | K43: =HYPERLINK("#"&일위대가표!N2&"!A"&ROW(일위대가표!A255),"B02828 →") -> B02828 →
A44: B02829 | B44: 등산로 정비(산지할증A) | C44: B=1.5m | D44: m | E44: =일위대가표!F270 -> 21463 | F44: =일위대가표!H270 -> 21365 | G44: =일위대가표!J270 -> 16 | H44: =일위대가표!L270 -> 82 | J44: ="_x0007_`COD|B02829_x0005_`QTY1|1_x0005_`BQC|_x0005_`EQC|_x0005_`JDC|_x0005_`WQC|_x0005_`EDT|_x0005_`ADJ|F_x0005_`DET|"&ROW(일위대가표!A263)&"_x0005_`" -> _x0007_`COD|B02829_x0005_`QTY1|1_x0005_`BQC|_x0005_`EQC|_x0005_`JDC|_x0005_`WQC|_x0005_`EDT|_x0005_`ADJ|F_x0005_`DET|263_x0005_` | K44: =HYPERLINK("#"&일위대가표!N2&"!A"&ROW(일위대가표!A263),"B02829 →") -> B02829 →
A45: B02830 | B45: 등산로 정비(산지할증A) | C45: B=2.0m | D45: m | E45: =일위대가표!F278 -> 28619 | F45: =일위대가표!H278 -> 28487 | G45: =일위대가표!J278 -> 22 | H45: =일위대가표!L278 -> 110 | J45: ="_x0007_`COD|B02830_x0005_`QTY1|1_x0005_`BQC|_x0005_`EQC|_x0005_`JDC|_x0005_`WQC|_x0005_`EDT|_x0005_`ADJ|F_x0005_`DET|"&ROW(일위대가표!A271)&"_x0005_`" -> _x0007_`COD|B02830_x0005_`QTY1|1_x0005_`BQC|_x0005_`EQC|_x0005_`JDC|_x0005_`WQC|_x0005_`EDT|_x0005_`ADJ|F_x0005_`DET|271_x0005_` | K45: =HYPERLINK("#"&일위대가표!N2&"!A"&ROW(일위대가표!A271),"B02830 →") -> B02830 →
A46: B02664 | B46: 등산로 정비(산지할증B) | C46: B=1.0m | D46: m | E46: =일위대가표!F286 -> 15548 | F46: =일위대가표!H286 -> 15482 | G46: =일위대가표!J286 -> 11 | H46: =일위대가표!L286 -> 55 | J46: ="_x0007_`COD|B02664_x0005_`QTY1|1_x0005_`BQC|_x0005_`EQC|_x0005_`JDC|_x0005_`WQC|_x0005_`EDT|_x0005_`ADJ|F_x0005_`DET|"&ROW(일위대가표!A279)&"_x0005_`" -> _x0007_`COD|B02664_x0005_`QTY1|1_x0005_`BQC|_x0005_`EQC|_x0005_`JDC|_x0005_`WQC|_x0005_`EDT|_x0005_`ADJ|F_x0005_`DET|279_x0005_` | K46: =HYPERLINK("#"&일위대가표!N2&"!A"&ROW(일위대가표!A279),"B02664 →") -> B02664 →
A47: B02665 | B47: 등산로 정비(산지할증B) | C47: B=1.2m | D47: m | E47: =일위대가표!F294 -> 18658 | F47: =일위대가표!H294 -> 18579 | G47: =일위대가표!J294 -> 13 | H47: =일위대가표!L294 -> 66 | J47: ="_x0007_`COD|B02665_x0005_`QTY1|1_x0005_`BQC|_x0005_`EQC|_x0005_`JDC|_x0005_`WQC|_x0005_`EDT|_x0005_`ADJ|F_x0005_`DET|"&ROW(일위대가표!A287)&"_x0005_`" -> _x0007_`COD|B02665_x0005_`QTY1|1_x0005_`BQC|_x0005_`EQC|_x0005_`JDC|_x0005_`WQC|_x0005_`EDT|_x0005_`ADJ|F_x0005_`DET|287_x0005_` | K47: =HYPERLINK("#"&일위대가표!N2&"!A"&ROW(일위대가표!A287),"B02665 →") -> B02665 →
A48: B02666 | B48: 등산로 정비(산지할증B) | C48: B=1.5m | D48: m | E48: =일위대가표!F302 -> 23321 | F48: =일위대가표!H302 -> 23223 | G48: =일위대가표!J302 -> 16 | H48: =일위대가표!L302 -> 82 | J48: ="_x0007_`COD|B02666_x0005_`QTY1|1_x0005_`BQC|_x0005_`EQC|_x0005_`JDC|_x0005_`WQC|_x0005_`EDT|_x0005_`ADJ|F_x0005_`DET|"&ROW(일위대가표!A295)&"_x0005_`" -> _x0007_`COD|B02666_x0005_`QTY1|1_x0005_`BQC|_x0005_`EQC|_x0005_`JDC|_x0005_`WQC|_x0005_`EDT|_x0005_`ADJ|F_x0005_`DET|295_x0005_` | K48: =HYPERLINK("#"&일위대가표!N2&"!A"&ROW(일위대가표!A295),"B02666 →") -> B02666 →
A49: B02667 | B49: 등산로 정비(산지할증B) | C49: B=2.0m | D49: m | E49: =일위대가표!F310 -> 31097 | F49: =일위대가표!H310 -> 30965 | G49: =일위대가표!J310 -> 22 | H49: =일위대가표!L310 -> 110 | J49: ="_x0007_`COD|B02667_x0005_`QTY1|1_x0005_`BQC|_x0005_`EQC|_x0005_`JDC|_x0005_`WQC|_x0005_`EDT|_x0005_`ADJ|F_x0005_`DET|"&ROW(일위대가표!A303)&"_x0005_`" -> _x0007_`COD|B02667_x0005_`QTY1|1_x0005_`BQC|_x0005_`EQC|_x0005_`JDC|_x0005_`WQC|_x0005_`EDT|_x0005_`ADJ|F_x0005_`DET|303_x0005_` | K49: =HYPERLINK("#"&일위대가표!N2&"!A"&ROW(일위대가표!A303),"B02667 →") -> B02667 →
A50: B02627 | B50: 등산로만들기 | C50: B=1.0m | D50: m | E50: =일위대가표!F317 -> 24904 | F50: =일위대가표!H317 -> 24772 | G50: =일위대가표!J317 -> 22 | H50: =일위대가표!L317 -> 110 | J50: ="_x0007_`COD|B02627_x0005_`QTY1|1_x0005_`BQC|_x0005_`EQC|_x0005_`JDC|_x0005_`WQC|_x0005_`EDT|_x0005_`ADJ|F_x0005_`DET|"&ROW(일위대가표!A311)&"_x0005_`" -> _x0007_`COD|B02627_x0005_`QTY1|1_x0005_`BQC|_x0005_`EQC|_x0005_`JDC|_x0005_`WQC|_x0005_`EDT|_x0005_`ADJ|F_x0005_`DET|311_x0005_` | K50: =HYPERLINK("#"&일위대가표!N2&"!A"&ROW(일위대가표!A311),"B02627 →") -> B02627 →
A51: B02626 | B51: 등산로만들기 | C51: B=1.2m | D51: m | E51: =일위대가표!F324 -> 29884 | F51: =일위대가표!H324 -> 29726 | G51: =일위대가표!J324 -> 26 | H51: =일위대가표!L324 -> 132 | J51: ="_x0007_`COD|B02626_x0005_`QTY1|1_x0005_`BQC|_x0005_`EQC|_x0005_`JDC|_x0005_`WQC|_x0005_`EDT|_x0005_`ADJ|F_x0005_`DET|"&ROW(일위대가표!A318)&"_x0005_`" -> _x0007_`COD|B02626_x0005_`QTY1|1_x0005_`BQC|_x0005_`EQC|_x0005_`JDC|_x0005_`WQC|_x0005_`EDT|_x0005_`ADJ|F_x0005_`DET|318_x0005_` | K51: =HYPERLINK("#"&일위대가표!N2&"!A"&ROW(일위대가표!A318),"B02626 →") -> B02626 →
A52: B02020 | B52: 등산로만들기 | C52: B=1.5m | D52: m | E52: =일위대가표!F331 -> 37356 | F52: =일위대가표!H331 -> 37158 | G52: =일위대가표!J331 -> 33 | H52: =일위대가표!L331 -> 165 | J52: ="_x0007_`COD|B02020_x0005_`QTY1|1_x0005_`BQC|_x0005_`EQC|_x0005_`JDC|_x0005_`WQC|_x0005_`EDT|_x0005_`ADJ|F_x0005_`DET|"&ROW(일위대가표!A325)&"_x0005_`" -> _x0007_`COD|B02020_x0005_`QTY1|1_x0005_`BQC|_x0005_`EQC|_x0005_`JDC|_x0005_`WQC|_x0005_`EDT|_x0005_`ADJ|F_x0005_`DET|325_x0005_` | K52: =HYPERLINK("#"&일위대가표!N2&"!A"&ROW(일위대가표!A325),"B02020 →") -> B02020 →
A53: B02628 | B53: 등산로만들기 | C53: B=2.0m | D53: m | E53: =일위대가표!F338 -> 49808 | F53: =일위대가표!H338 -> 49544 | G53: =일위대가표!J338 -> 44 | H53: =일위대가표!L338 -> 220 | J53: ="_x0007_`COD|B02628_x0005_`QTY1|1_x0005_`BQC|_x0005_`EQC|_x0005_`JDC|_x0005_`WQC|_x0005_`EDT|_x0005_`ADJ|F_x0005_`DET|"&ROW(일위대가표!A332)&"_x0005_`" -> _x0007_`COD|B02628_x0005_`QTY1|1_x0005_`BQC|_x0005_`EQC|_x0005_`JDC|_x0005_`WQC|_x0005_`EDT|_x0005_`ADJ|F_x0005_`DET|332_x0005_` | K53: =HYPERLINK("#"&일위대가표!N2&"!A"&ROW(일위대가표!A332),"B02628 →") -> B02628 →
A54: B02823 | B54: 등산로만들기(산지할증A) | C54: B=1.0m | D54: m | E54: =일위대가표!F346 -> 28619 | F54: =일위대가표!H346 -> 28487 | G54: =일위대가표!J346 -> 22 | H54: =일위대가표!L346 -> 110 | J54: ="_x0007_`COD|B02823_x0005_`QTY1|1_x0005_`BQC|_x0005_`EQC|_x0005_`JDC|_x0005_`WQC|_x0005_`EDT|_x0005_`ADJ|F_x0005_`DET|"&ROW(일위대가표!A339)&"_x0005_`" -> _x0007_`COD|B02823_x0005_`QTY1|1_x0005_`BQC|_x0005_`EQC|_x0005_`JDC|_x0005_`WQC|_x0005_`EDT|_x0005_`ADJ|F_x0005_`DET|339_x0005_` | K54: =HYPERLINK("#"&일위대가표!N2&"!A"&ROW(일위대가표!A339),"B02823 →") -> B02823 →
A55: B02824 | B55: 등산로만들기(산지할증A) | C55: B=1.2m | D55: m | E55: =일위대가표!F354 -> 34343 | F55: =일위대가표!H354 -> 34185 | G55: =일위대가표!J354 -> 26 | H55: =일위대가표!L354 -> 132 | J55: ="_x0007_`COD|B02824_x0005_`QTY1|1_x0005_`BQC|_x0005_`EQC|_x0005_`JDC|_x0005_`WQC|_x0005_`EDT|_x0005_`ADJ|F_x0005_`DET|"&ROW(일위대가표!A347)&"_x0005_`" -> _x0007_`COD|B02824_x0005_`QTY1|1_x0005_`BQC|_x0005_`EQC|_x0005_`JDC|_x0005_`WQC|_x0005_`EDT|_x0005_`ADJ|F_x0005_`DET|347_x0005_` | K55: =HYPERLINK("#"&일위대가표!N2&"!A"&ROW(일위대가표!A347),"B02824 →") -> B02824 →
A56: B02825 | B56: 등산로만들기(산지할증A) | C56: B=1.5m | D56: m | E56: =일위대가표!F362 -> 42929 | F56: =일위대가표!H362 -> 42731 | G56: =일위대가표!J362 -> 33 | H56: =일위대가표!L362 -> 165 | J56: ="_x0007_`COD|B02825_x0005_`QTY1|1_x0005_`BQC|_x0005_`EQC|_x0005_`JDC|_x0005_`WQC|_x0005_`EDT|_x0005_`ADJ|F_x0005_`DET|"&ROW(일위대가표!A355)&"_x0005_`" -> _x0007_`COD|B02825_x0005_`QTY1|1_x0005_`BQC|_x0005_`EQC|_x0005_`JDC|_x0005_`WQC|_x0005_`EDT|_x0005_`ADJ|F_x0005_`DET|355_x0005_` | K56: =HYPERLINK("#"&일위대가표!N2&"!A"&ROW(일위대가표!A355),"B02825 →") -> B02825 →
A57: B02826 | B57: 등산로만들기(산지할증A) | C57: B=2.0m | D57: m | E57: =일위대가표!F370 -> 57240 | F57: =일위대가표!H370 -> 56976 | G57: =일위대가표!J370 -> 44 | H57: =일위대가표!L370 -> 220 | J57: ="_x0007_`COD|B02826_x0005_`QTY1|1_x0005_`BQC|_x0005_`EQC|_x0005_`JDC|_x0005_`WQC|_x0005_`EDT|_x0005_`ADJ|F_x0005_`DET|"&ROW(일위대가표!A363)&"_x0005_`" -> _x0007_`COD|B02826_x0005_`QTY1|1_x0005_`BQC|_x0005_`EQC|_x0005_`JDC|_x0005_`WQC|_x0005_`EDT|_x0005_`ADJ|F_x0005_`DET|363_x0005_` | K57: =HYPERLINK("#"&일위대가표!N2&"!A"&ROW(일위대가표!A363),"B02826 →") -> B02826 →
A58: B02668 | B58: 등산로만들기(산지할증B) | C58: B=1.0m | D58: m | E58: =일위대가표!F378 -> 31097 | F58: =일위대가표!H378 -> 30965 | G58: =일위대가표!J378 -> 22 | H58: =일위대가표!L378 -> 110 | J58: ="_x0007_`COD|B02668_x0005_`QTY1|1_x0005_`BQC|_x0005_`EQC|_x0005_`JDC|_x0005_`WQC|_x0005_`EDT|_x0005_`ADJ|F_x0005_`DET|"&ROW(일위대가표!A371)&"_x0005_`" -> _x0007_`COD|B02668_x0005_`QTY1|1_x0005_`BQC|_x0005_`EQC|_x0005_`JDC|_x0005_`WQC|_x0005_`EDT|_x0005_`ADJ|F_x0005_`DET|371_x0005_` | K58: =HYPERLINK("#"&일위대가표!N2&"!A"&ROW(일위대가표!A371),"B02668 →") -> B02668 →
A59: B02669 | B59: 등산로만들기(산지할증B) | C59: B=1.2m | D59: m | E59: =일위대가표!F386 -> 37316 | F59: =일위대가표!H386 -> 37158 | G59: =일위대가표!J386 -> 26 | H59: =일위대가표!L386 -> 132 | J59: ="_x0007_`COD|B02669_x0005_`QTY1|1_x0005_`BQC|_x0005_`EQC|_x0005_`JDC|_x0005_`WQC|_x0005_`EDT|_x0005_`ADJ|F_x0005_`DET|"&ROW(일위대가표!A379)&"_x0005_`" -> _x0007_`COD|B02669_x0005_`QTY1|1_x0005_`BQC|_x0005_`EQC|_x0005_`JDC|_x0005_`WQC|_x0005_`EDT|_x0005_`ADJ|F_x0005_`DET|379_x0005_` | K59: =HYPERLINK("#"&일위대가표!N2&"!A"&ROW(일위대가표!A379),"B02669 →") -> B02669 →
A60: B02670 | B60: 등산로만들기(산지할증B) | C60: B=1.5m | D60: m | E60: =일위대가표!F394 -> 46645 | F60: =일위대가표!H394 -> 46447 | G60: =일위대가표!J394 -> 33 | H60: =일위대가표!L394 -> 165 | J60: ="_x0007_`COD|B02670_x0005_`QTY1|1_x0005_`BQC|_x0005_`EQC|_x0005_`JDC|_x0005_`WQC|_x0005_`EDT|_x0005_`ADJ|F_x0005_`DET|"&ROW(일위대가표!A387)&"_x0005_`" -> _x0007_`COD|B02670_x0005_`QTY1|1_x0005_`BQC|_x0005_`EQC|_x0005_`JDC|_x0005_`WQC|_x0005_`EDT|_x0005_`ADJ|F_x0005_`DET|387_x0005_` | K60: =HYPERLINK("#"&일위대가표!N2&"!A"&ROW(일위대가표!A387),"B02670 →") -> B02670 →
A61: B02671 | B61: 등산로만들기(산지할증B) | C61: B=2.0m | D61: m | E61: =일위대가표!F402 -> 62194 | F61: =일위대가표!H402 -> 61930 | G61: =일위대가표!J402 -> 44 | H61: =일위대가표!L402 -> 220 | J61: ="_x0007_`COD|B02671_x0005_`QTY1|1_x0005_`BQC|_x0005_`EQC|_x0005_`JDC|_x0005_`WQC|_x0005_`EDT|_x0005_`ADJ|F_x0005_`DET|"&ROW(일위대가표!A395)&"_x0005_`" -> _x0007_`COD|B02671_x0005_`QTY1|1_x0005_`BQC|_x0005_`EQC|_x0005_`JDC|_x0005_`WQC|_x0005_`EDT|_x0005_`ADJ|F_x0005_`DET|395_x0005_` | K61: =HYPERLINK("#"&일위대가표!N2&"!A"&ROW(일위대가표!A395),"B02671 →") -> B02671 →
A62: B02625 | B62: 등의자 설치 | C62: 1600*586*750 | D62: 개소 | E62: =일위대가표!F413 -> 523683 | F62: =일위대가표!H413 -> 76214 | G62: =일위대가표!J413 -> 447222 | H62: =일위대가표!L413 -> 247 | J62: ="_x0007_`COD|B02625_x0005_`QTY1|1_x0005_`BQC|_x0005_`EQC|_x0005_`JDC|_x0005_`WQC|_x0005_`EDT|_x0005_`ADJ|F_x0005_`DET|"&ROW(일위대가표!A403)&"_x0005_`" -> _x0007_`COD|B02625_x0005_`QTY1|1_x0005_`BQC|_x0005_`EQC|_x0005_`JDC|_x0005_`WQC|_x0005_`EDT|_x0005_`ADJ|F_x0005_`DET|403_x0005_` | K62: =HYPERLINK("#"&일위대가표!N2&"!A"&ROW(일위대가표!A403),"B02625 →") -> B02625 →
A63: B02865 | B63: 등의자 설치(산지할증A) | C63: 1600*586*750 | D63: 개소 | E63: =일위대가표!F425 -> 535115 | F63: =일위대가표!H425 -> 87646 | G63: =일위대가표!J425 -> 447222 | H63: =일위대가표!L425 -> 247 | J63: ="_x0007_`COD|B02865_x0005_`QTY1|1_x0005_`BQC|_x0005_`EQC|_x0005_`JDC|_x0005_`WQC|_x0005_`EDT|_x0005_`ADJ|F_x0005_`DET|"&ROW(일위대가표!A414)&"_x0005_`" -> _x0007_`COD|B02865_x0005_`QTY1|1_x0005_`BQC|_x0005_`EQC|_x0005_`JDC|_x0005_`WQC|_x0005_`EDT|_x0005_`ADJ|F_x0005_`DET|414_x0005_` | K63: =HYPERLINK("#"&일위대가표!N2&"!A"&ROW(일위대가표!A414),"B02865 →") -> B02865 →
A64: B02624 | B64: 등의자 설치(산지할증B) | C64: 1600*586*750 | D64: 개소 | E64: =일위대가표!F437 -> 542736 | F64: =일위대가표!H437 -> 95267 | G64: =일위대가표!J437 -> 447222 | H64: =일위대가표!L437 -> 247 | J64: ="_x0007_`COD|B02624_x0005_`QTY1|1_x0005_`BQC|_x0005_`EQC|_x0005_`JDC|_x0005_`WQC|_x0005_`EDT|_x0005_`ADJ|F_x0005_`DET|"&ROW(일위대가표!A426)&"_x0005_`" -> _x0007_`COD|B02624_x0005_`QTY1|1_x0005_`BQC|_x0005_`EQC|_x0005_`JDC|_x0005_`WQC|_x0005_`EDT|_x0005_`ADJ|F_x0005_`DET|426_x0005_` | K64: =HYPERLINK("#"&일위대가표!N2&"!A"&ROW(일위대가표!A426),"B02624 →") -> B02624 →
A65: B02636 | B65: 등의자 철거 | C65: 1500*400 | D65: 개소 | E65: =일위대가표!F443 -> 46438 | F65: =일위대가표!H443 -> 46158 | G65: =일위대가표!J443 -> 0 | H65: =일위대가표!L443 -> 280 | J65: ="_x0007_`COD|B02636_x0005_`QTY1|1_x0005_`BQC|_x0005_`EQC|_x0005_`JDC|_x0005_`WQC|_x0005_`EDT|_x0005_`ADJ|F_x0005_`DET|"&ROW(일위대가표!A438)&"_x0005_`" -> _x0007_`COD|B02636_x0005_`QTY1|1_x0005_`BQC|_x0005_`EQC|_x0005_`JDC|_x0005_`WQC|_x0005_`EDT|_x0005_`ADJ|F_x0005_`DET|438_x0005_` | K65: =HYPERLINK("#"&일위대가표!N2&"!A"&ROW(일위대가표!A438),"B02636 →") -> B02636 →
A66: B02885 | B66: 등의자 철거(산지할증A) | C66: 1500*400 | D66: 개소 | E66: =일위대가표!F450 -> 53362 | F66: =일위대가표!H450 -> 53082 | G66: =일위대가표!J450 -> 0 | H66: =일위대가표!L450 -> 280 | J66: ="_x0007_`COD|B02885_x0005_`QTY1|1_x0005_`BQC|_x0005_`EQC|_x0005_`JDC|_x0005_`WQC|_x0005_`EDT|_x0005_`ADJ|F_x0005_`DET|"&ROW(일위대가표!A444)&"_x0005_`" -> _x0007_`COD|B02885_x0005_`QTY1|1_x0005_`BQC|_x0005_`EQC|_x0005_`JDC|_x0005_`WQC|_x0005_`EDT|_x0005_`ADJ|F_x0005_`DET|444_x0005_` | K66: =HYPERLINK("#"&일위대가표!N2&"!A"&ROW(일위대가표!A444),"B02885 →") -> B02885 →
A67: B02395 | B67: 등의자 철거(산지할증B) | C67: 1500*400 | D67: 개소 | E67: =일위대가표!F457 -> 57978 | F67: =일위대가표!H457 -> 57698 | G67: =일위대가표!J457 -> 0 | H67: =일위대가표!L457 -> 280 | J67: ="_x0007_`COD|B02395_x0005_`QTY1|1_x0005_`BQC|_x0005_`EQC|_x0005_`JDC|_x0005_`WQC|_x0005_`EDT|_x0005_`ADJ|F_x0005_`DET|"&ROW(일위대가표!A451)&"_x0005_`" -> _x0007_`COD|B02395_x0005_`QTY1|1_x0005_`BQC|_x0005_`EQC|_x0005_`JDC|_x0005_`WQC|_x0005_`EDT|_x0005_`ADJ|F_x0005_`DET|451_x0005_` | K67: =HYPERLINK("#"&일위대가표!N2&"!A"&ROW(일위대가표!A451),"B02395 →") -> B02395 →
A68: B02554 | B68: 등의자 페인트칠 | C68: W1600 | D68: 개소 | E68: =일위대가표!F462 -> 26436 | F68: =일위대가표!H462 -> 23441 | G68: =일위대가표!J462 -> 2484 | H68: =일위대가표!L462 -> 511 | J68: ="_x0007_`COD|B02554_x0005_`QTY1|1_x0005_`BQC|_x0005_`EQC|_x0005_`JDC|_x0005_`WQC|_x0005_`EDT|_x0005_`ADJ|F_x0005_`DET|"&ROW(일위대가표!A458)&"_x0005_`" -> _x0007_`COD|B02554_x0005_`QTY1|1_x0005_`BQC|_x0005_`EQC|_x0005_`JDC|_x0005_`WQC|_x0005_`EDT|_x0005_`ADJ|F_x0005_`DET|458_x0005_` | K68: =HYPERLINK("#"&일위대가표!N2&"!A"&ROW(일위대가표!A458),"B02554 →") -> B02554 →
A69: B02555 | B69: 등의자 페인트칠 | C69: W1800 | D69: 개소 | E69: =일위대가표!F467 -> 29742 | F69: =일위대가표!H467 -> 26372 | G69: =일위대가표!J467 -> 2795 | H69: =일위대가표!L467 -> 575 | J69: ="_x0007_`COD|B02555_x0005_`QTY1|1_x0005_`BQC|_x0005_`EQC|_x0005_`JDC|_x0005_`WQC|_x0005_`EDT|_x0005_`ADJ|F_x0005_`DET|"&ROW(일위대가표!A463)&"_x0005_`" -> _x0007_`COD|B02555_x0005_`QTY1|1_x0005_`BQC|_x0005_`EQC|_x0005_`JDC|_x0005_`WQC|_x0005_`EDT|_x0005_`ADJ|F_x0005_`DET|463_x0005_` | K69: =HYPERLINK("#"&일위대가표!N2&"!A"&ROW(일위대가표!A463),"B02555 →") -> B02555 →
A70: B02532 | B70: 등허리지압기 | C70: 1545*820*1830 | D70: 개소 | E70: =일위대가표!F471 -> 3415000 | F70: =일위대가표!H471 -> 0 | G70: =일위대가표!J471 -> 3415000 | H70: =일위대가표!L471 -> 0 | J70: ="_x0007_`COD|B02532_x0005_`QTY1|1_x0005_`BQC|_x0005_`EQC|_x0005_`JDC|_x0005_`WQC|_x0005_`EDT|_x0005_`ADJ|F_x0005_`DET|"&ROW(일위대가표!A468)&"_x0005_`" -> _x0007_`COD|B02532_x0005_`QTY1|1_x0005_`BQC|_x0005_`EQC|_x0005_`JDC|_x0005_`WQC|_x0005_`EDT|_x0005_`ADJ|F_x0005_`DET|468_x0005_` | K70: =HYPERLINK("#"&일위대가표!N2&"!A"&ROW(일위대가표!A468),"B02532 →") -> B02532 →
A71: B01772 | B71: 모르타르 배합 | C71: 1:3, 체가름 제외 | D71: ㎥ | E71: =일위대가표!F477 -> 220769 | F71: =일위대가표!H477 -> 73989 | G71: =일위대가표!J477 -> 146780 | H71: =일위대가표!L477 -> 0 | I71: 건축9-1-1 | J71: ="_x0007_`COD|B01772_x0005_`QTY1|1_x0005_`BQC|건축9-1-1_x0005_`EQC|_x0005_`JDC|_x0005_`WQC|_x0005_`EDT|_x0005_`ADJ|F_x0005_`DET|"&ROW(일위대가표!A472)&"_x0005_`" -> _x0007_`COD|B01772_x0005_`QTY1|1_x0005_`BQC|건축9-1-1_x0005_`EQC|_x0005_`JDC|_x0005_`WQC|_x0005_`EDT|_x0005_`ADJ|F_x0005_`DET|472_x0005_` | K71: =HYPERLINK("#"&일위대가표!N2&"!A"&ROW(일위대가표!A472),"B01772 →") -> B01772 →
A72: B01822 | B72: 목구조체설치 | C72: 간단구조 | D72: ㎥ | E72: =일위대가표!F482 -> 915052 | F72: =일위대가표!H482 -> 915052 | G72: =일위대가표!J482 -> 0 | H72: =일위대가표!L482 -> 0 | I72: 조경적산5.3.1 | J72: ="_x0007_`COD|B01822_x0005_`QTY1|1_x0005_`BQC|조경적산5.3.1_x0005_`EQC|_x0005_`JDC|_x0005_`WQC|_x0005_`EDT|_x0005_`ADJ|F_x0005_`DET|"&ROW(일위대가표!A478)&"_x0005_`" -> _x0007_`COD|B01822_x0005_`QTY1|1_x0005_`BQC|조경적산5.3.1_x0005_`EQC|_x0005_`JDC|_x0005_`WQC|_x0005_`EDT|_x0005_`ADJ|F_x0005_`DET|478_x0005_` | K72: =HYPERLINK("#"&일위대가표!N2&"!A"&ROW(일위대가표!A478),"B01822 →") -> B01822 →
A73: B02396 | B73: 목구조체철거 | C73: 설치품의 30% | D73: ㎥ | E73: =일위대가표!F487 -> 274515 | F73: =일위대가표!H487 -> 274515 | G73: =일위대가표!J487 -> 0 | H73: =일위대가표!L487 -> 0 | J73: ="_x0007_`COD|B02396_x0005_`QTY1|1_x0005_`BQC|_x0005_`EQC|_x0005_`JDC|_x0005_`WQC|_x0005_`EDT|_x0005_`ADJ|F_x0005_`DET|"&ROW(일위대가표!A483)&"_x0005_`" -> _x0007_`COD|B02396_x0005_`QTY1|1_x0005_`BQC|_x0005_`EQC|_x0005_`JDC|_x0005_`WQC|_x0005_`EDT|_x0005_`ADJ|F_x0005_`DET|483_x0005_` | K73: =HYPERLINK("#"&일위대가표!N2&"!A"&ROW(일위대가표!A483),"B02396 →") -> B02396 →
A74: B02477 | B74: 목재계단 | C74: W1000*320*H150 | D74: 단 | E74: =일위대가표!F496 -> 143582 | F74: =일위대가표!H496 -> 48297 | G74: =일위대가표!J496 -> 95285 | H74: =일위대가표!L496 -> 0 | J74: ="_x0007_`COD|B02477_x0005_`QTY1|1_x0005_`BQC|_x0005_`EQC|_x0005_`JDC|_x0005_`WQC|_x0005_`EDT|_x0005_`ADJ|F_x0005_`DET|"&ROW(일위대가표!A488)&"_x0005_`" -> _x0007_`COD|B02477_x0005_`QTY1|1_x0005_`BQC|_x0005_`EQC|_x0005_`JDC|_x0005_`WQC|_x0005_`EDT|_x0005_`ADJ|F_x0005_`DET|488_x0005_` | K74: =HYPERLINK("#"&일위대가표!N2&"!A"&ROW(일위대가표!A488),"B02477 →") -> B02477 →
A75: B02478 | B75: 목재계단 | C75: W1200*320*H150 | D75: 단 | E75: =일위대가표!F505 -> 171762 | F75: =일위대가표!H505 -> 58323 | G75: =일위대가표!J505 -> 113439 | H75: =일위대가표!L505 -> 0 | J75: ="_x0007_`COD|B02478_x0005_`QTY1|1_x0005_`BQC|_x0005_`EQC|_x0005_`JDC|_x0005_`WQC|_x0005_`EDT|_x0005_`ADJ|F_x0005_`DET|"&ROW(일위대가표!A497)&"_x0005_`" -> _x0007_`COD|B02478_x0005_`QTY1|1_x0005_`BQC|_x0005_`EQC|_x0005_`JDC|_x0005_`WQC|_x0005_`EDT|_x0005_`ADJ|F_x0005_`DET|497_x0005_` | K75: =HYPERLINK("#"&일위대가표!N2&"!A"&ROW(일위대가표!A497),"B02478 →") -> B02478 →
A76: B02479 | B76: 목재계단 | C76: W1500*320*H150 | D76: 단 | E76: =일위대가표!F514 -> 214552 | F76: =일위대가표!H514 -> 72494 | G76: =일위대가표!J514 -> 142058 | H76: =일위대가표!L514 -> 0 | J76: ="_x0007_`COD|B02479_x0005_`QTY1|1_x0005_`BQC|_x0005_`EQC|_x0005_`JDC|_x0005_`WQC|_x0005_`EDT|_x0005_`ADJ|F_x0005_`DET|"&ROW(일위대가표!A506)&"_x0005_`" -> _x0007_`COD|B02479_x0005_`QTY1|1_x0005_`BQC|_x0005_`EQC|_x0005_`JDC|_x0005_`WQC|_x0005_`EDT|_x0005_`ADJ|F_x0005_`DET|506_x0005_` | K76: =HYPERLINK("#"&일위대가표!N2&"!A"&ROW(일위대가표!A506),"B02479 →") -> B02479 →
A77: B02481 | B77: 목재계단 | C77: W2000*320*H150 | D77: 단 | E77: =일위대가표!F523 -> 285437 | F77: =일위대가표!H523 -> 96594 | G77: =일위대가표!J523 -> 188843 | H77: =일위대가표!L523 -> 0 | J77: ="_x0007_`COD|B02481_x0005_`QTY1|1_x0005_`BQC|_x0005_`EQC|_x0005_`JDC|_x0005_`WQC|_x0005_`EDT|_x0005_`ADJ|F_x0005_`DET|"&ROW(일위대가표!A515)&"_x0005_`" -> _x0007_`COD|B02481_x0005_`QTY1|1_x0005_`BQC|_x0005_`EQC|_x0005_`JDC|_x0005_`WQC|_x0005_`EDT|_x0005_`ADJ|F_x0005_`DET|515_x0005_` | K77: =HYPERLINK("#"&일위대가표!N2&"!A"&ROW(일위대가표!A515),"B02481 →") -> B02481 →
A78: B02476 | B78: 목재계단 | C78: W800*320*H150 | D78: 단 | E78: =일위대가표!F532 -> 114844 | F78: =일위대가표!H532 -> 38271 | G78: =일위대가표!J532 -> 76573 | H78: =일위대가표!L532 -> 0 | J78: ="_x0007_`COD|B02476_x0005_`QTY1|1_x0005_`BQC|_x0005_`EQC|_x0005_`JDC|_x0005_`WQC|_x0005_`EDT|_x0005_`ADJ|F_x0005_`DET|"&ROW(일위대가표!A524)&"_x0005_`" -> _x0007_`COD|B02476_x0005_`QTY1|1_x0005_`BQC|_x0005_`EQC|_x0005_`JDC|_x0005_`WQC|_x0005_`EDT|_x0005_`ADJ|F_x0005_`DET|524_x0005_` | K78: =HYPERLINK("#"&일위대가표!N2&"!A"&ROW(일위대가표!A524),"B02476 →") -> B02476 →
A79: B02491 | B79: 목재계단 재설치 | C79: W1000*320*H150 | D79: 단 | E79: =일위대가표!F540 -> 50030 | F79: =일위대가표!H540 -> 48297 | G79: =일위대가표!J540 -> 1733 | H79: =일위대가표!L540 -> 0 | J79: ="_x0007_`COD|B02491_x0005_`QTY1|1_x0005_`BQC|_x0005_`EQC|_x0005_`JDC|_x0005_`WQC|_x0005_`EDT|_x0005_`ADJ|F_x0005_`DET|"&ROW(일위대가표!A533)&"_x0005_`" -> _x0007_`COD|B02491_x0005_`QTY1|1_x0005_`BQC|_x0005_`EQC|_x0005_`JDC|_x0005_`WQC|_x0005_`EDT|_x0005_`ADJ|F_x0005_`DET|533_x0005_` | K79: =HYPERLINK("#"&일위대가표!N2&"!A"&ROW(일위대가표!A533),"B02491 →") -> B02491 →
A80: B02492 | B80: 목재계단 재설치 | C80: W1200*320*H150 | D80: 단 | E80: =일위대가표!F548 -> 60056 | F80: =일위대가표!H548 -> 58323 | G80: =일위대가표!J548 -> 1733 | H80: =일위대가표!L548 -> 0 | J80: ="_x0007_`COD|B02492_x0005_`QTY1|1_x0005_`BQC|_x0005_`EQC|_x0005_`JDC|_x0005_`WQC|_x0005_`EDT|_x0005_`ADJ|F_x0005_`DET|"&ROW(일위대가표!A541)&"_x0005_`" -> _x0007_`COD|B02492_x0005_`QTY1|1_x0005_`BQC|_x0005_`EQC|_x0005_`JDC|_x0005_`WQC|_x0005_`EDT|_x0005_`ADJ|F_x0005_`DET|541_x0005_` | K80: =HYPERLINK("#"&일위대가표!N2&"!A"&ROW(일위대가표!A541),"B02492 →") -> B02492 →
A81: B02493 | B81: 목재계단 재설치 | C81: W1500*320*H150 | D81: 단 | E81: =일위대가표!F556 -> 74227 | F81: =일위대가표!H556 -> 72494 | G81: =일위대가표!J556 -> 1733 | H81: =일위대가표!L556 -> 0 | J81: ="_x0007_`COD|B02493_x0005_`QTY1|1_x0005_`BQC|_x0005_`EQC|_x0005_`JDC|_x0005_`WQC|_x0005_`EDT|_x0005_`ADJ|F_x0005_`DET|"&ROW(일위대가표!A549)&"_x0005_`" -> _x0007_`COD|B02493_x0005_`QTY1|1_x0005_`BQC|_x0005_`EQC|_x0005_`JDC|_x0005_`WQC|_x0005_`EDT|_x0005_`ADJ|F_x0005_`DET|549_x0005_` | K81: =HYPERLINK("#"&일위대가표!N2&"!A"&ROW(일위대가표!A549),"B02493 →") -> B02493 →
A82: B02838 | B82: 목재계단 재설치(산지할증A) | C82: W1000*320*H150 | D82: 단 | E82: =일위대가표!F565 -> 57274 | F82: =일위대가표!H565 -> 55541 | G82: =일위대가표!J565 -> 1733 | H82: =일위대가표!L565 -> 0 | J82: ="_x0007_`COD|B02838_x0005_`QTY1|1_x0005_`BQC|_x0005_`EQC|_x0005_`JDC|_x0005_`WQC|_x0005_`EDT|_x0005_`ADJ|F_x0005_`DET|"&ROW(일위대가표!A557)&"_x0005_`" -> _x0007_`COD|B02838_x0005_`QTY1|1_x0005_`BQC|_x0005_`EQC|_x0005_`JDC|_x0005_`WQC|_x0005_`EDT|_x0005_`ADJ|F_x0005_`DET|557_x0005_` | K82: =HYPERLINK("#"&일위대가표!N2&"!A"&ROW(일위대가표!A557),"B02838 →") -> B02838 →
A83: B02839 | B83: 목재계단 재설치(산지할증A) | C83: W1200*320*H150 | D83: 단 | E83: =일위대가표!F574 -> 68804 | F83: =일위대가표!H574 -> 67071 | G83: =일위대가표!J574 -> 1733 | H83: =일위대가표!L574 -> 0 | J83: ="_x0007_`COD|B02839_x0005_`QTY1|1_x0005_`BQC|_x0005_`EQC|_x0005_`JDC|_x0005_`WQC|_x0005_`EDT|_x0005_`ADJ|F_x0005_`DET|"&ROW(일위대가표!A566)&"_x0005_`" -> _x0007_`COD|B02839_x0005_`QTY1|1_x0005_`BQC|_x0005_`EQC|_x0005_`JDC|_x0005_`WQC|_x0005_`EDT|_x0005_`ADJ|F_x0005_`DET|566_x0005_` | K83: =HYPERLINK("#"&일위대가표!N2&"!A"&ROW(일위대가표!A566),"B02839 →") -> B02839 →
A84: B02840 | B84: 목재계단 재설치(산지할증A) | C84: W1500*320*H150 | D84: 단 | E84: =일위대가표!F583 -> 85102 | F84: =일위대가표!H583 -> 83369 | G84: =일위대가표!J583 -> 1733 | H84: =일위대가표!L583 -> 0 | J84: ="_x0007_`COD|B02840_x0005_`QTY1|1_x0005_`BQC|_x0005_`EQC|_x0005_`JDC|_x0005_`WQC|_x0005_`EDT|_x0005_`ADJ|F_x0005_`DET|"&ROW(일위대가표!A575)&"_x0005_`" -> _x0007_`COD|B02840_x0005_`QTY1|1_x0005_`BQC|_x0005_`EQC|_x0005_`JDC|_x0005_`WQC|_x0005_`EDT|_x0005_`ADJ|F_x0005_`DET|575_x0005_` | K84: =HYPERLINK("#"&일위대가표!N2&"!A"&ROW(일위대가표!A575),"B02840 →") -> B02840 →
A85: B02488 | B85: 목재계단 재설치(산지할증B) | C85: W1000*320*H150 | D85: 단 | E85: =일위대가표!F592 -> 62104 | F85: =일위대가표!H592 -> 60371 | G85: =일위대가표!J592 -> 1733 | H85: =일위대가표!L592 -> 0 | J85: ="_x0007_`COD|B02488_x0005_`QTY1|1_x0005_`BQC|_x0005_`EQC|_x0005_`JDC|_x0005_`WQC|_x0005_`EDT|_x0005_`ADJ|F_x0005_`DET|"&ROW(일위대가표!A584)&"_x0005_`" -> _x0007_`COD|B02488_x0005_`QTY1|1_x0005_`BQC|_x0005_`EQC|_x0005_`JDC|_x0005_`WQC|_x0005_`EDT|_x0005_`ADJ|F_x0005_`DET|584_x0005_` | K85: =HYPERLINK("#"&일위대가표!N2&"!A"&ROW(일위대가표!A584),"B02488 →") -> B02488 →
A86: B02489 | B86: 목재계단 재설치(산지할증B) | C86: W1200*320*H150 | D86: 단 | E86: =일위대가표!F601 -> 74636 | F86: =일위대가표!H601 -> 72903 | G86: =일위대가표!J601 -> 1733 | H86: =일위대가표!L601 -> 0 | J86: ="_x0007_`COD|B02489_x0005_`QTY1|1_x0005_`BQC|_x0005_`EQC|_x0005_`JDC|_x0005_`WQC|_x0005_`EDT|_x0005_`ADJ|F_x0005_`DET|"&ROW(일위대가표!A593)&"_x0005_`" -> _x0007_`COD|B02489_x0005_`QTY1|1_x0005_`BQC|_x0005_`EQC|_x0005_`JDC|_x0005_`WQC|_x0005_`EDT|_x0005_`ADJ|F_x0005_`DET|593_x0005_` | K86: =HYPERLINK("#"&일위대가표!N2&"!A"&ROW(일위대가표!A593),"B02489 →") -> B02489 →
A87: B02490 | B87: 목재계단 재설치(산지할증B) | C87: W1500*320*H150 | D87: 단 | E87: =일위대가표!F610 -> 92351 | F87: =일위대가표!H610 -> 90618 | G87: =일위대가표!J610 -> 1733 | H87: =일위대가표!L610 -> 0 | J87: ="_x0007_`COD|B02490_x0005_`QTY1|1_x0005_`BQC|_x0005_`EQC|_x0005_`JDC|_x0005_`WQC|_x0005_`EDT|_x0005_`ADJ|F_x0005_`DET|"&ROW(일위대가표!A602)&"_x0005_`" -> _x0007_`COD|B02490_x0005_`QTY1|1_x0005_`BQC|_x0005_`EQC|_x0005_`JDC|_x0005_`WQC|_x0005_`EDT|_x0005_`ADJ|F_x0005_`DET|602_x0005_` | K87: =HYPERLINK("#"&일위대가표!N2&"!A"&ROW(일위대가표!A602),"B02490 →") -> B02490 →
A88: B02815 | B88: 목재계단 철거 | C88: W1000*320*H150 | D88: 단 | E88: =일위대가표!F616 -> 17551 | F88: =일위대가표!H616 -> 17551 | G88: =일위대가표!J616 -> 0 | H88: =일위대가표!L616 -> 0 | J88: ="_x0007_`COD|B02815_x0005_`QTY1|1_x0005_`BQC|_x0005_`EQC|_x0005_`JDC|_x0005_`WQC|_x0005_`EDT|_x0005_`ADJ|F_x0005_`DET|"&ROW(일위대가표!A611)&"_x0005_`" -> _x0007_`COD|B02815_x0005_`QTY1|1_x0005_`BQC|_x0005_`EQC|_x0005_`JDC|_x0005_`WQC|_x0005_`EDT|_x0005_`ADJ|F_x0005_`DET|611_x0005_` | K88: =HYPERLINK("#"&일위대가표!N2&"!A"&ROW(일위대가표!A611),"B02815 →") -> B02815 →
A89: B02816 | B89: 목재계단 철거 | C89: W1200*320*H150 | D89: 단 | E89: =일위대가표!F622 -> 21171 | F89: =일위대가표!H622 -> 21171 | G89: =일위대가표!J622 -> 0 | H89: =일위대가표!L622 -> 0 | J89: ="_x0007_`COD|B02816_x0005_`QTY1|1_x0005_`BQC|_x0005_`EQC|_x0005_`JDC|_x0005_`WQC|_x0005_`EDT|_x0005_`ADJ|F_x0005_`DET|"&ROW(일위대가표!A617)&"_x0005_`" -> _x0007_`COD|B02816_x0005_`QTY1|1_x0005_`BQC|_x0005_`EQC|_x0005_`JDC|_x0005_`WQC|_x0005_`EDT|_x0005_`ADJ|F_x0005_`DET|617_x0005_` | K89: =HYPERLINK("#"&일위대가표!N2&"!A"&ROW(일위대가표!A617),"B02816 →") -> B02816 →
A90: B02817 | B90: 목재계단 철거 | C90: W1500*320*H150 | D90: 단 | E90: =일위대가표!F628 -> 26376 | F90: =일위대가표!H628 -> 26376 | G90: =일위대가표!J628 -> 0 | H90: =일위대가표!L628 -> 0 | J90: ="_x0007_`COD|B02817_x0005_`QTY1|1_x0005_`BQC|_x0005_`EQC|_x0005_`JDC|_x0005_`WQC|_x0005_`EDT|_x0005_`ADJ|F_x0005_`DET|"&ROW(일위대가표!A623)&"_x0005_`" -> _x0007_`COD|B02817_x0005_`QTY1|1_x0005_`BQC|_x0005_`EQC|_x0005_`JDC|_x0005_`WQC|_x0005_`EDT|_x0005_`ADJ|F_x0005_`DET|623_x0005_` | K90: =HYPERLINK("#"&일위대가표!N2&"!A"&ROW(일위대가표!A623),"B02817 →") -> B02817 →
A91: B02818 | B91: 목재계단 철거 | C91: W2000*320*H150 | D91: 단 | E91: =일위대가표!F634 -> 35103 | F91: =일위대가표!H634 -> 35103 | G91: =일위대가표!J634 -> 0 | H91: =일위대가표!L634 -> 0 | J91: ="_x0007_`COD|B02818_x0005_`QTY1|1_x0005_`BQC|_x0005_`EQC|_x0005_`JDC|_x0005_`WQC|_x0005_`EDT|_x0005_`ADJ|F_x0005_`DET|"&ROW(일위대가표!A629)&"_x0005_`" -> _x0007_`COD|B02818_x0005_`QTY1|1_x0005_`BQC|_x0005_`EQC|_x0005_`JDC|_x0005_`WQC|_x0005_`EDT|_x0005_`ADJ|F_x0005_`DET|629_x0005_` | K91: =HYPERLINK("#"&일위대가표!N2&"!A"&ROW(일위대가표!A629),"B02818 →") -> B02818 →
A92: B02814 | B92: 목재계단 철거 | C92: W800*320*H150 | D92: 단 | E92: =일위대가표!F640 -> 13931 | F92: =일위대가표!H640 -> 13931 | G92: =일위대가표!J640 -> 0 | H92: =일위대가표!L640 -> 0 | J92: ="_x0007_`COD|B02814_x0005_`QTY1|1_x0005_`BQC|_x0005_`EQC|_x0005_`JDC|_x0005_`WQC|_x0005_`EDT|_x0005_`ADJ|F_x0005_`DET|"&ROW(일위대가표!A635)&"_x0005_`" -> _x0007_`COD|B02814_x0005_`QTY1|1_x0005_`BQC|_x0005_`EQC|_x0005_`JDC|_x0005_`WQC|_x0005_`EDT|_x0005_`ADJ|F_x0005_`DET|635_x0005_` | K92: =HYPERLINK("#"&일위대가표!N2&"!A"&ROW(일위대가표!A635),"B02814 →") -> B02814 →
A93: B02871 | B93: 목재계단 철거(산지할증A) | C93: W1000*320*H150 | D93: 단 | E93: =일위대가표!F647 -> 20184 | F93: =일위대가표!H647 -> 20184 | G93: =일위대가표!J647 -> 0 | H93: =일위대가표!L647 -> 0 | J93: ="_x0007_`COD|B02871_x0005_`QTY1|1_x0005_`BQC|_x0005_`EQC|_x0005_`JDC|_x0005_`WQC|_x0005_`EDT|_x0005_`ADJ|F_x0005_`DET|"&ROW(일위대가표!A641)&"_x0005_`" -> _x0007_`COD|B02871_x0005_`QTY1|1_x0005_`BQC|_x0005_`EQC|_x0005_`JDC|_x0005_`WQC|_x0005_`EDT|_x0005_`ADJ|F_x0005_`DET|641_x0005_` | K93: =HYPERLINK("#"&일위대가표!N2&"!A"&ROW(일위대가표!A641),"B02871 →") -> B02871 →
A94: B02872 | B94: 목재계단 철거(산지할증A) | C94: W1200*320*H150 | D94: 단 | E94: =일위대가표!F654 -> 24347 | F94: =일위대가표!H654 -> 24347 | G94: =일위대가표!J654 -> 0 | H94: =일위대가표!L654 -> 0 | J94: ="_x0007_`COD|B02872_x0005_`QTY1|1_x0005_`BQC|_x0005_`EQC|_x0005_`JDC|_x0005_`WQC|_x0005_`EDT|_x0005_`ADJ|F_x0005_`DET|"&ROW(일위대가표!A648)&"_x0005_`" -> _x0007_`COD|B02872_x0005_`QTY1|1_x0005_`BQC|_x0005_`EQC|_x0005_`JDC|_x0005_`WQC|_x0005_`EDT|_x0005_`ADJ|F_x0005_`DET|648_x0005_` | K94: =HYPERLINK("#"&일위대가표!N2&"!A"&ROW(일위대가표!A648),"B02872 →") -> B02872 →
A95: B02873 | B95: 목재계단 철거(산지할증A) | C95: W1500*320*H150 | D95: 단 | E95: =일위대가표!F661 -> 30332 | F95: =일위대가표!H661 -> 30332 | G95: =일위대가표!J661 -> 0 | H95: =일위대가표!L661 -> 0 | J95: ="_x0007_`COD|B02873_x0005_`QTY1|1_x0005_`BQC|_x0005_`EQC|_x0005_`JDC|_x0005_`WQC|_x0005_`EDT|_x0005_`ADJ|F_x0005_`DET|"&ROW(일위대가표!A655)&"_x0005_`" -> _x0007_`COD|B02873_x0005_`QTY1|1_x0005_`BQC|_x0005_`EQC|_x0005_`JDC|_x0005_`WQC|_x0005_`EDT|_x0005_`ADJ|F_x0005_`DET|655_x0005_` | K95: =HYPERLINK("#"&일위대가표!N2&"!A"&ROW(일위대가표!A655),"B02873 →") -> B02873 →
A96: B02874 | B96: 목재계단 철거(산지할증A) | C96: W2000*320*H150 | D96: 단 | E96: =일위대가표!F668 -> 40368 | F96: =일위대가표!H668 -> 40368 | G96: =일위대가표!J668 -> 0 | H96: =일위대가표!L668 -> 0 | J96: ="_x0007_`COD|B02874_x0005_`QTY1|1_x0005_`BQC|_x0005_`EQC|_x0005_`JDC|_x0005_`WQC|_x0005_`EDT|_x0005_`ADJ|F_x0005_`DET|"&ROW(일위대가표!A662)&"_x0005_`" -> _x0007_`COD|B02874_x0005_`QTY1|1_x0005_`BQC|_x0005_`EQC|_x0005_`JDC|_x0005_`WQC|_x0005_`EDT|_x0005_`ADJ|F_x0005_`DET|662_x0005_` | K96: =HYPERLINK("#"&일위대가표!N2&"!A"&ROW(일위대가표!A662),"B02874 →") -> B02874 →
A97: B02870 | B97: 목재계단 철거(산지할증A) | C97: W800*320*H150 | D97: 단 | E97: =일위대가표!F675 -> 16021 | F97: =일위대가표!H675 -> 16021 | G97: =일위대가표!J675 -> 0 | H97: =일위대가표!L675 -> 0 | J97: ="_x0007_`COD|B02870_x0005_`QTY1|1_x0005_`BQC|_x0005_`EQC|_x0005_`JDC|_x0005_`WQC|_x0005_`EDT|_x0005_`ADJ|F_x0005_`DET|"&ROW(일위대가표!A669)&"_x0005_`" -> _x0007_`COD|B02870_x0005_`QTY1|1_x0005_`BQC|_x0005_`EQC|_x0005_`JDC|_x0005_`WQC|_x0005_`EDT|_x0005_`ADJ|F_x0005_`DET|669_x0005_` | K97: =HYPERLINK("#"&일위대가표!N2&"!A"&ROW(일위대가표!A669),"B02870 →") -> B02870 →
A98: B02810 | B98: 목재계단 철거(산지할증B) | C98: W1000*320*H150 | D98: 단 | E98: =일위대가표!F682 -> 21939 | F98: =일위대가표!H682 -> 21939 | G98: =일위대가표!J682 -> 0 | H98: =일위대가표!L682 -> 0 | J98: ="_x0007_`COD|B02810_x0005_`QTY1|1_x0005_`BQC|_x0005_`EQC|_x0005_`JDC|_x0005_`WQC|_x0005_`EDT|_x0005_`ADJ|F_x0005_`DET|"&ROW(일위대가표!A676)&"_x0005_`" -> _x0007_`COD|B02810_x0005_`QTY1|1_x0005_`BQC|_x0005_`EQC|_x0005_`JDC|_x0005_`WQC|_x0005_`EDT|_x0005_`ADJ|F_x0005_`DET|676_x0005_` | K98: =HYPERLINK("#"&일위대가표!N2&"!A"&ROW(일위대가표!A676),"B02810 →") -> B02810 →
A99: B02811 | B99: 목재계단 철거(산지할증B) | C99: W1200*320*H150 | D99: 단 | E99: =일위대가표!F689 -> 26464 | F99: =일위대가표!H689 -> 26464 | G99: =일위대가표!J689 -> 0 | H99: =일위대가표!L689 -> 0 | J99: ="_x0007_`COD|B02811_x0005_`QTY1|1_x0005_`BQC|_x0005_`EQC|_x0005_`JDC|_x0005_`WQC|_x0005_`EDT|_x0005_`ADJ|F_x0005_`DET|"&ROW(일위대가표!A683)&"_x0005_`" -> _x0007_`COD|B02811_x0005_`QTY1|1_x0005_`BQC|_x0005_`EQC|_x0005_`JDC|_x0005_`WQC|_x0005_`EDT|_x0005_`ADJ|F_x0005_`DET|683_x0005_` | K99: =HYPERLINK("#"&일위대가표!N2&"!A"&ROW(일위대가표!A683),"B02811 →") -> B02811 →
A100: B02812 | B100: 목재계단 철거(산지할증B) | C100: W1500*320*H150 | D100: 단 | E100: =일위대가표!F696 -> 32970 | F100: =일위대가표!H696 -> 32970 | G100: =일위대가표!J696 -> 0 | H100: =일위대가표!L696 -> 0 | J100: ="_x0007_`COD|B02812_x0005_`QTY1|1_x0005_`BQC|_x0005_`EQC|_x0005_`JDC|_x0005_`WQC|_x0005_`EDT|_x0005_`ADJ|F_x0005_`DET|"&ROW(일위대가표!A690)&"_x0005_`" -> _x0007_`COD|B02812_x0005_`QTY1|1_x0005_`BQC|_x0005_`EQC|_x0005_`JDC|_x0005_`WQC|_x0005_`EDT|_x0005_`ADJ|F_x0005_`DET|690_x0005_` | K100: =HYPERLINK("#"&일위대가표!N2&"!A"&ROW(일위대가표!A690),"B02812 →") -> B02812 →
...

Sheet 일위대가표
A1: 일 위 대 가 표 | N1: STmate | Z1: STmate
A2: 공사명 : 2026년 처인구 숲길(등산로) 유지관리공사(2차) | N2: =MID(CELL("filename",$A$1),FIND("]",CELL("filename",$A$1))+1,LEN(CELL("filename",$A$1))) -> 일위대가표
A3: 명 칭 | B3: 규 격 | C3: 수 량 | D3: 단위 | E3: 합 계 | G3: 노 무 비 | I3: 재 료 비 | K3: 경 비 | M3: 비 고
E4: 단 가 | F4: 금 액 | G4: 단 가 | H4: 금 액 | I4: 단 가 | J4: 금 액 | K4: 단 가 | L4: 금 액 | Z4: =HYPERLINK("#'〓 목 차 〓'!B2","목차 →") -> 목차 →
A5: 제 1 호표 | N5: =HYPERLINK("#N"&ROW(N11),"_x0005_`BDCOD|B02797_x0007_`POSS|"&ROW(N7)&"_x0007_`POSE|"&ROW(N11)&"_x0007_`") -> _x0005_`BDCOD|B02797_x0007_`POSS|7_x0007_`POSE|11_x0007_`
A6: 거적 덮기 | B6: T=4mm | D6: ㎡ | M6: B02797 | O6: B02797
A7: 볏짚거적 | B7: 1.0mx60m/Roll | C7: 1.1 | D7: ㎡ | E7: =I7+G7+K7 -> 600 | F7: =J7+H7+L7 -> 660 | G7: 0 | H7: =IF(C7=0,0,ROUNDDOWN(G7*C7,1)) -> 0 | I7: =재료비목록표!E39 -> 600 | J7: =IF(C7=0,0,ROUNDDOWN(I7*C7,1)) -> 660 | K7: 0 | L7: =IF(C7=0,0,ROUNDDOWN(K7*C7,1)) -> 0 | M7: M08845 | N7: _x0007_`COD|M08845_x0005_`EXI|0_x0005_`DVD|F_x0005_`BMK| _x0005_`IPR|1_x0005_`KWN|0_x0005_`BLA|F_x0005_` | O7: M08845_1 | P7: T7_1 | Q7: 1_01 | Z7: =HYPERLINK("#"&재료비목록표!G2&"!A"&ROW(재료비목록표!A39),"M08845 →") -> M08845 →
A8: 조경공 | C8: 0.002 | D8: 인 | E8: =I8+G8+K8 -> 235204 | F8: =J8+H8+L8 -> 470.4 | G8: =노무비목록표!E15 -> 235204 | H8: =IF(C8=0,0,ROUNDDOWN(G8*C8,1)) -> 470.4 | I8: 0 | J8: =IF(C8=0,0,ROUNDDOWN(I8*C8,1)) -> 0 | K8: 0 | L8: =IF(C8=0,0,ROUNDDOWN(K8*C8,1)) -> 0 | M8: L00184 | N8: _x0007_`COD|L00184_x0005_`EXI|0_x0005_`DVD|F_x0005_`BMK| _x0005_`IPR|0_x0005_`BLA|F_x0005_` | O8: L00184_1 | P8: T7_1 | Z8: =HYPERLINK("#"&노무비목록표!G2&"!A"&ROW(노무비목록표!A15),"L00184 →") -> L00184 →
A9: 보통인부 | C9: 0.0007 | D9: 인 | E9: =I9+G9+K9 -> 172068 | F9: =J9+H9+L9 -> 120.4 | G9: =노무비목록표!E10 -> 172068 | H9: =IF(C9=0,0,ROUNDDOWN(G9*C9,1)) -> 120.4 | I9: 0 | J9: =IF(C9=0,0,ROUNDDOWN(I9*C9,1)) -> 0 | K9: 0 | L9: =IF(C9=0,0,ROUNDDOWN(K9*C9,1)) -> 0 | M9: L00017 | N9: _x0007_`COD|L00017_x0005_`EXI|0_x0005_`DVD|F_x0005_`BMK| _x0005_`IPR|0_x0005_`BLA|F_x0005_` | O9: L00017_1 | P9: T7_1 | Z9: =HYPERLINK("#"&노무비목록표!G2&"!A"&ROW(노무비목록표!A10),"L00017 →") -> L00017 →
A10: 고정핀 | B10: ￠10*300mm | C10: 3 | D10: EA | E10: =I10+G10+K10 -> 1000 | F10: =J10+H10+L10 -> 3000 | G10: 0 | H10: =IF(C10=0,0,ROUNDDOWN(G10*C10,1)) -> 0 | I10: =재료비목록표!E12 -> 1000 | J10: =IF(C10=0,0,ROUNDDOWN(I10*C10,1)) -> 3000 | K10: 0 | L10: =IF(C10=0,0,ROUNDDOWN(K10*C10,1)) -> 0 | M10: M08843 | N10: _x0007_`COD|M08843_x0005_`EXI|0_x0005_`DVD|F_x0005_`BMK| _x0005_`IPR|1_x0005_`KWN|0_x0005_`BLA|F_x0005_` | O10: M08843_1 | P10: T7_1 | Q10: 1_01 | Z10: =HYPERLINK("#"&재료비목록표!G2&"!A"&ROW(재료비목록표!A12),"M08843 →") -> M08843 →
A11: 잡재료비(고정끈 등) | B11: 재료비의 % | C11: 3 | D11: % | E11: =I11+G11+K11 -> 3660 | F11: =J11+H11+L11 -> 109.8 | G11: 0 | H11: =IF(C11=0,0,ROUNDDOWN(G11*C11/100,1)) -> 0 | I11: =J7+J10 -> 3660 | J11: =IF(C11=0,0,ROUNDDOWN(I11*C11/100,1)) -> 109.8 | K11: 0 | L11: =IF(C11=0,0,ROUNDDOWN(K11*C11/100,1)) -> 0 | N11: _x0007_`COD|PR_x0005_`EXI|1_x0005_`DVD|F_x0005_`BMK| _x0005_`IPR|1_x0005_`EQC|A01_x0005_`PRI|1_x0005_`PRO|1_x0005_`UNI|%_x0005_`BLA|F_x0005_` | O11: PRA01_1 | P11: T7_1 | Q11: 1_01
A12: 합 계 | F12: =J12+H12+L12 -> 4359 | H12: =ROUNDDOWN(SUMIF(P7:P11,O12,H7:H11),0) -> 590 | J12: =ROUNDDOWN(SUMIF(P7:P11,O12,J7:J11),0) -> 3769 | L12: =ROUNDDOWN(SUMIF(P7:P11,O12,L7:L11),0) -> 0 | O12: T7_1
A13: 제 2 호표 | N13: =HYPERLINK("#N"&ROW(N15),"_x0005_`BDCOD|B02589_x0007_`POSS|"&ROW(N15)&"_x0007_`POSE|"&ROW(N15)&"_x0007_`") -> _x0005_`BDCOD|B02589_x0007_`POSS|15_x0007_`POSE|15_x0007_`
A14: 공원안내판 설치 | B14: 1000*750 | D14: 개소 | M14: B02589 | O14: B02589
A15: 공원안내판 | B15: 1000*750, 현장설치도 | C15: 1 | D15: 개 | E15: =I15+G15+K15 -> 2376000 | F15: =J15+H15+L15 -> 2376000 | G15: 0 | H15: =IF(C15=0,0,ROUNDDOWN(G15*C15,1)) -> 0 | I15: =재료비목록표!E13 -> 2376000 | J15: =IF(C15=0,0,ROUNDDOWN(I15*C15,1)) -> 2376000 | K15: 0 | L15: =IF(C15=0,0,ROUNDDOWN(K15*C15,1)) -> 0 | M15: M01608 | N15: _x0007_`COD|M01608_x0005_`EXI|0_x0005_`DVD|F_x0005_`BMK| _x0005_`IPR|0_x0005_`KWN|0_x0005_`BLA|F_x0005_` | O15: M01608_1 | P15: T7_1 | Z15: =HYPERLINK("#"&재료비목록표!G2&"!A"&ROW(재료비목록표!A13),"M01608 →") -> M01608 →
A16: 합 계 | F16: =J16+H16+L16 -> 2376000 | H16: =ROUNDDOWN(SUMIF(P15:P15,O16,H15:H15),0) -> 0 | J16: =ROUNDDOWN(SUMIF(P15:P15,O16,J15:J15),0) -> 2376000 | L16: =ROUNDDOWN(SUMIF(P15:P15,O16,L15:L15),0) -> 0 | O16: T7_1
A17: 제 3 호표 | N17: =HYPERLINK("#N"&ROW(N19),"_x0005_`BDCOD|B02590_x0007_`POSS|"&ROW(N19)&"_x0007_`POSE|"&ROW(N19)&"_x0007_`") -> _x0005_`BDCOD|B02590_x0007_`POSS|19_x0007_`POSE|19_x0007_`
A18: 관광안내판 설치 | B18: 2000*1200 | D18: 개소 | M18: B02590 | O18: B02590
A19: 관광안내판 | B19: 2000*1200, 현장설치도 | C19: 1 | D19: 개 | E19: =I19+G19+K19 -> 6648000 | F19: =J19+H19+L19 -> 6648000 | G19: 0 | H19: =IF(C19=0,0,ROUNDDOWN(G19*C19,1)) -> 0 | I19: =재료비목록표!E14 -> 6648000 | J19: =IF(C19=0,0,ROUNDDOWN(I19*C19,1)) -> 6648000 | K19: 0 | L19: =IF(C19=0,0,ROUNDDOWN(K19*C19,1)) -> 0 | M19: M01609 | N19: _x0007_`COD|M01609_x0005_`EXI|0_x0005_`DVD|F_x0005_`BMK| _x0005_`IPR|0_x0005_`KWN|0_x0005_`BLA|F_x0005_` | O19: M01609_1 | P19: T7_1 | Z19: =HYPERLINK("#"&재료비목록표!G2&"!A"&ROW(재료비목록표!A14),"M01609 →") -> M01609 →
A20: 합 계 | F20: =J20+H20+L20 -> 6648000 | H20: =ROUNDDOWN(SUMIF(P19:P19,O20,H19:H19),0) -> 0 | J20: =ROUNDDOWN(SUMIF(P19:P19,O20,J19:J19),0) -> 6648000 | L20: =ROUNDDOWN(SUMIF(P19:P19,O20,L19:L19),0) -> 0 | O20: T7_1
A21: 제 4 호표 | N21: =HYPERLINK("#N"&ROW(N23),"_x0005_`BDCOD|B02713_x0007_`POSS|"&ROW(N23)&"_x0007_`POSE|"&ROW(N23)&"_x0007_`") -> _x0005_`BDCOD|B02713_x0007_`POSS|23_x0007_`POSE|23_x0007_`
A22: 관목제거 | B22: H0.3~0.7 | D22: 주 | M22: B02713 | O22: B02713
A23: 보통인부 | B23: 벌근 굴취(상차 포함) | C23: 0.003 | D23: 인 | E23: =I23+G23+K23 -> 172068 | F23: =J23+H23+L23 -> 516.2 | G23: =노무비목록표!E10 -> 172068 | H23: =IF(C23=0,0,ROUNDDOWN(G23*C23,1)) -> 516.2 | I23: 0 | J23: =IF(C23=0,0,ROUNDDOWN(I23*C23,1)) -> 0 | K23: 0 | L23: =IF(C23=0,0,ROUNDDOWN(K23*C23,1)) -> 0 | M23: L00017 | N23: _x0007_`COD|L00017_x0005_`EXI|1_x0005_`DVD|F_x0005_`BMK| _x0005_`IPR|0_x0005_`BLA|F_x0005_` | O23: L00017_1 | P23: T7_1 | Z23: =HYPERLINK("#"&노무비목록표!G2&"!A"&ROW(노무비목록표!A10),"L00017 →") -> L00017 →
A24: 합 계 | F24: =J24+H24+L24 -> 516 | H24: =ROUNDDOWN(SUMIF(P23:P23,O24,H23:H23),0) -> 516 | J24: =ROUNDDOWN(SUMIF(P23:P23,O24,J23:J23),0) -> 0 | L24: =ROUNDDOWN(SUMIF(P23:P23,O24,L23:L23),0) -> 0 | O24: T7_1
A25: 제 5 호표 | N25: =HYPERLINK("#N"&ROW(N27),"_x0005_`BDCOD|B02712_x0007_`POSS|"&ROW(N27)&"_x0007_`POSE|"&ROW(N27)&"_x0007_`") -> _x0005_`BDCOD|B02712_x0007_`POSS|27_x0007_`POSE|27_x0007_`
A26: 관목제거 | B26: H0.3미만 | D26: 주 | M26: B02712 | O26: B02712
A27: 보통인부 | B27: 벌근 굴취(상차 포함) | C27: 0.001 | D27: 인 | E27: =I27+G27+K27 -> 172068 | F27: =J27+H27+L27 -> 172 | G27: =노무비목록표!E10 -> 172068 | H27: =IF(C27=0,0,ROUNDDOWN(G27*C27,1)) -> 172 | I27: 0 | J27: =IF(C27=0,0,ROUNDDOWN(I27*C27,1)) -> 0 | K27: 0 | L27: =IF(C27=0,0,ROUNDDOWN(K27*C27,1)) -> 0 | M27: L00017 | N27: _x0007_`COD|L00017_x0005_`EXI|1_x0005_`DVD|F_x0005_`BMK| _x0005_`IPR|0_x0005_`BLA|F_x0005_` | O27: L00017_1 | P27: T7_1 | Z27: =HYPERLINK("#"&노무비목록표!G2&"!A"&ROW(노무비목록표!A10),"L00017 →") -> L00017 →
A28: 합 계 | F28: =J28+H28+L28 -> 172 | H28: =ROUNDDOWN(SUMIF(P27:P27,O28,H27:H27),0) -> 172 | J28: =ROUNDDOWN(SUMIF(P27:P27,O28,J27:J27),0) -> 0 | L28: =ROUNDDOWN(SUMIF(P27:P27,O28,L27:L27),0) -> 0 | O28: T7_1
A29: 제 6 호표 | N29: =HYPERLINK("#N"&ROW(N31),"_x0005_`BDCOD|B02714_x0007_`POSS|"&ROW(N31)&"_x0007_`POSE|"&ROW(N31)&"_x0007_`") -> _x0005_`BDCOD|B02714_x0007_`POSS|31_x0007_`POSE|31_x0007_`
A30: 관목제거 | B30: H0.8~1.1 | D30: 주 | M30: B02714 | O30: B02714
A31: 보통인부 | B31: 벌근 굴취(상차 포함) | C31: 0.004 | D31: 인 | E31: =I31+G31+K31 -> 172068 | F31: =J31+H31+L31 -> 688.2 | G31: =노무비목록표!E10 -> 172068 | H31: =IF(C31=0,0,ROUNDDOWN(G31*C31,1)) -> 688.2 | I31: 0 | J31: =IF(C31=0,0,ROUNDDOWN(I31*C31,1)) -> 0 | K31: 0 | L31: =IF(C31=0,0,ROUNDDOWN(K31*C31,1)) -> 0 | M31: L00017 | N31: _x0007_`COD|L00017_x0005_`EXI|1_x0005_`DVD|F_x0005_`BMK| _x0005_`IPR|0_x0005_`BLA|F_x0005_` | O31: L00017_1 | P31: T7_1 | Z31: =HYPERLINK("#"&노무비목록표!G2&"!A"&ROW(노무비목록표!A10),"L00017 →") -> L00017 →
A32: 합 계 | F32: =J32+H32+L32 -> 688 | H32: =ROUNDDOWN(SUMIF(P31:P31,O32,H31:H31),0) -> 688 | J32: =ROUNDDOWN(SUMIF(P31:P31,O32,J31:J31),0) -> 0 | L32: =ROUNDDOWN(SUMIF(P31:P31,O32,L31:L31),0) -> 0 | O32: T7_1
A33: 제 7 호표 | N33: =HYPERLINK("#N"&ROW(N35),"_x0005_`BDCOD|B02715_x0007_`POSS|"&ROW(N35)&"_x0007_`POSE|"&ROW(N35)&"_x0007_`") -> _x0005_`BDCOD|B02715_x0007_`POSS|35_x0007_`POSE|35_x0007_`
A34: 관목제거 | B34: H1.2~1.5 | D34: 주 | M34: B02715 | O34: B02715
A35: 보통인부 | B35: 벌근 굴취(상차 포함) | C35: 0.006 | D35: 인 | E35: =I35+G35+K35 -> 172068 | F35: =J35+H35+L35 -> 1032.4 | G35: =노무비목록표!E10 -> 172068 | H35: =IF(C35=0,0,ROUNDDOWN(G35*C35,1)) -> 1032.4 | I35: 0 | J35: =IF(C35=0,0,ROUNDDOWN(I35*C35,1)) -> 0 | K35: 0 | L35: =IF(C35=0,0,ROUNDDOWN(K35*C35,1)) -> 0 | M35: L00017 | N35: _x0007_`COD|L00017_x0005_`EXI|1_x0005_`DVD|F_x0005_`BMK| _x0005_`IPR|0_x0005_`BLA|F_x0005_` | O35: L00017_1 | P35: T7_1 | Z35: =HYPERLINK("#"&노무비목록표!G2&"!A"&ROW(노무비목록표!A10),"L00017 →") -> L00017 →
A36: 합 계 | F36: =J36+H36+L36 -> 1032 | H36: =ROUNDDOWN(SUMIF(P35:P35,O36,H35:H35),0) -> 1032 | J36: =ROUNDDOWN(SUMIF(P35:P35,O36,J35:J35),0) -> 0 | L36: =ROUNDDOWN(SUMIF(P35:P35,O36,L35:L35),0) -> 0 | O36: T7_1
A37: 제 8 호표 | N37: =HYPERLINK("#N"&ROW(N39),"_x0005_`BDCOD|B02716_x0007_`POSS|"&ROW(N39)&"_x0007_`POSE|"&ROW(N39)&"_x0007_`") -> _x0005_`BDCOD|B02716_x0007_`POSS|39_x0007_`POSE|39_x0007_`
A38: 관목제거 | B38: H1.6~2.0 | D38: 주 | M38: B02716 | O38: B02716
A39: 보통인부 | B39: 벌근 굴취(상차 포함) | C39: 0.008 | D39: 인 | E39: =I39+G39+K39 -> 172068 | F39: =J39+H39+L39 -> 1376.5 | G39: =노무비목록표!E10 -> 172068 | H39: =IF(C39=0,0,ROUNDDOWN(G39*C39,1)) -> 1376.5 | I39: 0 | J39: =IF(C39=0,0,ROUNDDOWN(I39*C39,1)) -> 0 | K39: 0 | L39: =IF(C39=0,0,ROUNDDOWN(K39*C39,1)) -> 0 | M39: L00017 | N39: _x0007_`COD|L00017_x0005_`EXI|1_x0005_`DVD|F_x0005_`BMK| _x0005_`IPR|0_x0005_`BLA|F_x0005_` | O39: L00017_1 | P39: T7_1 | Z39: =HYPERLINK("#"&노무비목록표!G2&"!A"&ROW(노무비목록표!A10),"L00017 →") -> L00017 →
A40: 합 계 | F40: =J40+H40+L40 -> 1376 | H40: =ROUNDDOWN(SUMIF(P39:P39,O40,H39:H39),0) -> 1376 | J40: =ROUNDDOWN(SUMIF(P39:P39,O40,J39:J39),0) -> 0 | L40: =ROUNDDOWN(SUMIF(P39:P39,O40,L39:L39),0) -> 0 | O40: T7_1
A41: 제 9 호표 | N41: =HYPERLINK("#N"&ROW(N43),"_x0005_`BDCOD|B02717_x0007_`POSS|"&ROW(N43)&"_x0007_`POSE|"&ROW(N43)&"_x0007_`") -> _x0005_`BDCOD|B02717_x0007_`POSS|43_x0007_`POSE|43_x0007_`
A42: 관목제거 | B42: H2.1~2.5 | D42: 주 | M42: B02717 | O42: B02717
A43: 보통인부 | B43: 벌근 굴취(상차 포함) | C43: 0.01 | D43: 인 | E43: =I43+G43+K43 -> 172068 | F43: =J43+H43+L43 -> 1720.6 | G43: =노무비목록표!E10 -> 172068 | H43: =IF(C43=0,0,ROUNDDOWN(G43*C43,1)) -> 1720.6 | I43: 0 | J43: =IF(C43=0,0,ROUNDDOWN(I43*C43,1)) -> 0 | K43: 0 | L43: =IF(C43=0,0,ROUNDDOWN(K43*C43,1)) -> 0 | M43: L00017 | N43: _x0007_`COD|L00017_x0005_`EXI|1_x0005_`DVD|F_x0005_`BMK| _x0005_`IPR|0_x0005_`BLA|F_x0005_` | O43: L00017_1 | P43: T7_1 | Z43: =HYPERLINK("#"&노무비목록표!G2&"!A"&ROW(노무비목록표!A10),"L00017 →") -> L00017 →
A44: 합 계 | F44: =J44+H44+L44 -> 1720 | H44: =ROUNDDOWN(SUMIF(P43:P43,O44,H43:H43),0) -> 1720 | J44: =ROUNDDOWN(SUMIF(P43:P43,O44,J43:J43),0) -> 0 | L44: =ROUNDDOWN(SUMIF(P43:P43,O44,L43:L43),0) -> 0 | O44: T7_1
A45: 제 10 호표 | N45: =HYPERLINK("#N"&ROW(N47),"_x0005_`BDCOD|B02645_x0007_`POSS|"&ROW(N47)&"_x0007_`POSE|"&ROW(N47)&"_x0007_`") -> _x0005_`BDCOD|B02645_x0007_`POSS|47_x0007_`POSE|47_x0007_`
A46: 구름걷기 | B46: 2745*715*1830 | D46: 개소 | M46: B02645 | O46: B02645
A47: 구름걷기 | B47: 2745*715*1830, 현장설치도 | C47: 1 | D47: EA | E47: =I47+G47+K47 -> 3950000 | F47: =J47+H47+L47 -> 3950000 | G47: 0 | H47: =IF(C47=0,0,ROUNDDOWN(G47*C47,1)) -> 0 | I47: =재료비목록표!E15 -> 3950000 | J47: =IF(C47=0,0,ROUNDDOWN(I47*C47,1)) -> 3950000 | K47: 0 | L47: =IF(C47=0,0,ROUNDDOWN(K47*C47,1)) -> 0 | M47: M01612 | N47: _x0007_`COD|M01612_x0005_`EXI|0_x0005_`DVD|F_x0005_`BMK| _x0005_`IPR|0_x0005_`KWN|0_x0005_`BLA|F_x0005_` | O47: M01612_1 | P47: T7_1 | Z47: =HYPERLINK("#"&재료비목록표!G2&"!A"&ROW(재료비목록표!A15),"M01612 →") -> M01612 →
A48: 합 계 | F48: =J48+H48+L48 -> 3950000 | H48: =ROUNDDOWN(SUMIF(P47:P47,O48,H47:H47),0) -> 0 | J48: =ROUNDDOWN(SUMIF(P47:P47,O48,J47:J47),0) -> 3950000 | L48: =ROUNDDOWN(SUMIF(P47:P47,O48,L47:L47),0) -> 0 | O48: T7_1
A49: 제 11 호표 | N49: =HYPERLINK("#N"&ROW(N51),"_x0005_`BDCOD|B02587_x0007_`POSS|"&ROW(N51)&"_x0007_`POSE|"&ROW(N51)&"_x0007_`") -> _x0005_`BDCOD|B02587_x0007_`POSS|51_x0007_`POSE|51_x0007_`
A50: 금지행위안내판 설치 | B50: 600*900 | D50: 개소 | M50: B02587 | O50: B02587
A51: 금지행위안내판 | B51: 600*900, 현장설치도 | C51: 1 | D51: 개 | E51: =I51+G51+K51 -> 2004000 | F51: =J51+H51+L51 -> 2004000 | G51: 0 | H51: =IF(C51=0,0,ROUNDDOWN(G51*C51,1)) -> 0 | I51: =재료비목록표!E24 -> 2004000 | J51: =IF(C51=0,0,ROUNDDOWN(I51*C51,1)) -> 2004000 | K51: 0 | L51: =IF(C51=0,0,ROUNDDOWN(K51*C51,1)) -> 0 | M51: M01605 | N51: _x0007_`COD|M01605_x0005_`EXI|0_x0005_`DVD|F_x0005_`BMK| _x0005_`IPR|0_x0005_`KWN|0_x0005_`BLA|F_x0005_` | O51: M01605_1 | P51: T7_1 | Z51: =HYPERLINK("#"&재료비목록표!G2&"!A"&ROW(재료비목록표!A24),"M01605 →") -> M01605 →
A52: 합 계 | F52: =J52+H52+L52 -> 2004000 | H52: =ROUNDDOWN(SUMIF(P51:P51,O52,H51:H51),0) -> 0 | J52: =ROUNDDOWN(SUMIF(P51:P51,O52,J51:J51),0) -> 2004000 | L52: =ROUNDDOWN(SUMIF(P51:P51,O52,L51:L51),0) -> 0 | O52: T7_1
A53: 제 12 호표 | N53: =HYPERLINK("#N"&ROW(N58),"_x0005_`BDCOD|B02299_x0007_`POSS|"&ROW(N55)&"_x0007_`POSE|"&ROW(N58)&"_x0007_`") -> _x0005_`BDCOD|B02299_x0007_`POSS|55_x0007_`POSE|58_x0007_`
A54: 기초다짐 및 뒷채움 | B54: 잡석, 75mm미만 | D54: ㎥ | M54: B02299 | O54: B02299
A55: 보통인부 | C55: 0.019 | D55: 인 | E55: =I55+G55+K55 -> 172068 | F55: =J55+H55+L55 -> 3269.2 | G55: =노무비목록표!E10 -> 172068 | H55: =IF(C55=0,0,ROUNDDOWN(G55*C55,1)) -> 3269.2 | I55: 0 | J55: =IF(C55=0,0,ROUNDDOWN(I55*C55,1)) -> 0 | K55: 0 | L55: =IF(C55=0,0,ROUNDDOWN(K55*C55,1)) -> 0 | M55: L00017 | N55: _x0007_`COD|L00017_x0005_`EXI|0_x0005_`DVD|F_x0005_`BMK| _x0005_`IPR|0_x0005_`BLA|F_x0005_` | O55: L00017_1 | P55: T7_1 | Z55: =HYPERLINK("#"&노무비목록표!G2&"!A"&ROW(노무비목록표!A10),"L00017 →") -> L00017 →
A56: 굴착기(무한궤도) | B56: 0.2㎥ | C56: 0.076 | D56: 시간 | E56: =I56+G56+K56 -> 81235 | F56: =J56+H56+L56 -> 6173.7 | G56: =중기목록표!F5 -> 59020 | H56: =IF(C56=0,0,ROUNDDOWN(G56*C56,1)) -> 4485.5 | I56: =중기목록표!G5 -> 8342 | J56: =IF(C56=0,0,ROUNDDOWN(I56*C56,1)) -> 633.9 | K56: =중기목록표!H5 -> 13873 | L56: =IF(C56=0,0,ROUNDDOWN(K56*C56,1)) -> 1054.3 | M56: X00273 | N56: _x0007_`COD|X00273_x0005_`EXI|0_x0005_`DVD|F_x0005_`BMK| _x0005_`IPR|0_x0005_`BLA|F_x0005_` | O56: X00273_1 | P56: T7_1 | Z56: =HYPERLINK("#"&중기목록표!J2&"!A"&ROW(중기목록표!A5),"X00273 →") -> X00273 →
A57: 물탱크(살수차) | B57: 5500ℓ | C57: 0.019 | D57: 시간 | E57: =I57+G57+K57 -> 76436 | F57: =J57+H57+L57 -> 1452.1 | G57: =중기목록표!F15 -> 49778 | H57: =IF(C57=0,0,ROUNDDOWN(G57*C57,1)) -> 945.7 | I57: =중기목록표!G15 -> 16672 | J57: =IF(C57=0,0,ROUNDDOWN(I57*C57,1)) -> 316.7 | K57: =중기목록표!H15 -> 9986 | L57: =IF(C57=0,0,ROUNDDOWN(K57*C57,1)) -> 189.7 | M57: X00271 | N57: _x0007_`COD|X00271_x0005_`EXI|0_x0005_`DVD|F_x0005_`BMK| _x0005_`IPR|0_x0005_`BLA|F_x0005_` | O57: X00271_1 | P57: T7_1 | Z57: =HYPERLINK("#"&중기목록표!J2&"!A"&ROW(중기목록표!A15),"X00271 →") -> X00271 →
A58: 플레이트 콤팩터 | B58: 1.5톤 | C58: 0.115 | D58: 시간 | E58: =I58+G58+K58 -> 38634 | F58: =J58+H58+L58 -> 4442.8 | G58: =중기목록표!F21 -> 36248 | H58: =IF(C58=0,0,ROUNDDOWN(G58*C58,1)) -> 4168.5 | I58: =중기목록표!G21 -> 1766 | J58: =IF(C58=0,0,ROUNDDOWN(I58*C58,1)) -> 203 | K58: =중기목록표!H21 -> 620 | L58: =IF(C58=0,0,ROUNDDOWN(K58*C58,1)) -> 71.3 | M58: X00272 | N58: _x0007_`COD|X00272_x0005_`EXI|0_x0005_`DVD|F_x0005_`BMK| _x0005_`IPR|0_x0005_`BLA|F_x0005_` | O58: X00272_1 | P58: T7_1 | Z58: =HYPERLINK("#"&중기목록표!J2&"!A"&ROW(중기목록표!A21),"X00272 →") -> X00272 →
A59: 합 계 | F59: =J59+H59+L59 -> 15336 | H59: =ROUNDDOWN(SUMIF(P55:P58,O59,H55:H58),0) -> 12868 | J59: =ROUNDDOWN(SUMIF(P55:P58,O59,J55:J58),0) -> 1153 | L59: =ROUNDDOWN(SUMIF(P55:P58,O59,L55:L58),0) -> 1315 | O59: T7_1
A60: 제 13 호표 | N60: =HYPERLINK("#N"&ROW(N66),"_x0005_`BDCOD|B02562_x0007_`POSS|"&ROW(N62)&"_x0007_`POSE|"&ROW(N66)&"_x0007_`") -> _x0005_`BDCOD|B02562_x0007_`POSS|62_x0007_`POSE|66_x0007_`
A61: 녹막이페인트칠 | B61: 철재면 1회 | D61: ㎡ | M61: B02562 | O61: B02562
A62: 도장공 | C62: 0.015 | D62: 인 | E62: =I62+G62+K62 -> 263017 | F62: =J62+H62+L62 -> 3945.2 | G62: =노무비목록표!E7 -> 263017 | H62: =IF(C62=0,0,ROUNDDOWN(G62*C62,1)) -> 3945.2 | I62: 0 | J62: =IF(C62=0,0,ROUNDDOWN(I62*C62,1)) -> 0 | K62: 0 | L62: =IF(C62=0,0,ROUNDDOWN(K62*C62,1)) -> 0 | M62: L00010 | N62: _x0007_`COD|L00010_x0005_`EXI|0_x0005_`DVD|F_x0005_`BMK| _x0005_`IPR|1_x0005_`BLA|F_x0005_` | O62: L00010_1 | P62: T7_1 | Q62: 1_01 | Z62: =HYPERLINK("#"&노무비목록표!G2&"!A"&ROW(노무비목록표!A7),"L00010 →") -> L00010 →
A63: 보통인부 | C63: 0.003 | D63: 인 | E63: =I63+G63+K63 -> 172068 | F63: =J63+H63+L63 -> 516.2 | G63: =노무비목록표!E10 -> 172068 | H63: =IF(C63=0,0,ROUNDDOWN(G63*C63,1)) -> 516.2 | I63: 0 | J63: =IF(C63=0,0,ROUNDDOWN(I63*C63,1)) -> 0 | K63: 0 | L63: =IF(C63=0,0,ROUNDDOWN(K63*C63,1)) -> 0 | M63: L00017 | N63: _x0007_`COD|L00017_x0005_`EXI|0_x0005_`DVD|F_x0005_`BMK| _x0005_`IPR|1_x0005_`BLA|F_x0005_` | O63: L00017_1 | P63: T7_1 | Q63: 1_01 | Z63: =HYPERLINK("#"&노무비목록표!G2&"!A"&ROW(노무비목록표!A10),"L00017 →") -> L00017 →
A64: 녹막이페인트 | B64: 철제녹막이 칠용 | C64: 0.08 | D64: ℓ | E64: =I64+G64+K64 -> 7027 | F64: =J64+H64+L64 -> 562.1 | G64: 0 | H64: =IF(C64=0,0,ROUNDDOWN(G64*C64,1)) -> 0 | I64: =재료비목록표!E27 -> 7027 | J64: =IF(C64=0,0,ROUNDDOWN(I64*C64,1)) -> 562.1 | K64: 0 | L64: =IF(C64=0,0,ROUNDDOWN(K64*C64,1)) -> 0 | M64: M00990 | N64: _x0007_`COD|M00990_x0005_`EXI|0_x0005_`DVD|F_x0005_`BMK| _x0005_`IPR|0_x0005_`KWN|0_x0005_`BLA|F_x0005_` | O64: M00990_1 | P64: T7_1 | Z64: =HYPERLINK("#"&재료비목록표!G2&"!A"&ROW(재료비목록표!A27),"M00990 →") -> M00990 →
A65: 신너 | B65: 조합페인트용 | C65: 0.004 | D65: ℓ | E65: =I65+G65+K65 -> 2500 | F65: =J65+H65+L65 -> 10 | G65: 0 | H65: =IF(C65=0,0,ROUNDDOWN(G65*C65,1)) -> 0 | I65: =재료비목록표!E61 -> 2500 | J65: =IF(C65=0,0,ROUNDDOWN(I65*C65,1)) -> 10 | K65: 0 | L65: =IF(C65=0,0,ROUNDDOWN(K65*C65,1)) -> 0 | M65: M00167 | N65: _x0007_`COD|M00167_x0005_`EXI|0_x0005_`DVD|F_x0005_`BMK| _x0005_`IPR|0_x0005_`KWN|0_x0005_`BLA|F_x0005_` | O65: M00167_1 | P65: T7_1 | Z65: =HYPERLINK("#"&재료비목록표!G2&"!A"&ROW(재료비목록표!A61),"M00167 →") -> M00167 →
A66: 공구손료 | B66: 노무비의 % | C66: 2 | D66: % | E66: =I66+G66+K66 -> 4461.4 | F66: =J66+H66+L66 -> 89.2 | G66: 0 | H66: =IF(C66=0,0,ROUNDDOWN(G66*C66/100,1)) -> 0 | I66: 0 | J66: =IF(C66=0,0,ROUNDDOWN(I66*C66/100,1)) -> 0 | K66: =H62+H63 -> 4461.4 | L66: =IF(C66=0,0,ROUNDDOWN(K66*C66/100,1)) -> 89.2 | N66: _x0007_`COD|PR_x0005_`EXI|1_x0005_`DVD|F_x0005_`BMK| _x0005_`IPR|0_x0005_`EQC|A01_x0005_`PRI|2_x0005_`PRO|3_x0005_`UNI|%_x0005_`BLA|F_x0005_` | O66: PRA01_1 | P66: T7_1
A67: 합 계 | F67: =J67+H67+L67 -> 5122 | H67: =ROUNDDOWN(SUMIF(P62:P66,O67,H62:H66),0) -> 4461 | J67: =ROUNDDOWN(SUMIF(P62:P66,O67,J62:J66),0) -> 572 | L67: =ROUNDDOWN(SUMIF(P62:P66,O67,L62:L66),0) -> 89 | O67: T7_1
A68: 제 14 호표 | N68: =HYPERLINK("#N"&ROW(N74),"_x0005_`BDCOD|B02107_x0007_`POSS|"&ROW(N70)&"_x0007_`POSE|"&ROW(N74)&"_x0007_`") -> _x0005_`BDCOD|B02107_x0007_`POSS|70_x0007_`POSE|74_x0007_`
A69: 녹막이페인트칠 | B69: 철재면 2회 | D69: ㎡ | M69: B02107 | O69: B02107
A70: 도장공 | C70: 0.03 | D70: 인 | E70: =I70+G70+K70 -> 263017 | F70: =J70+H70+L70 -> 7890.5 | G70: =노무비목록표!E7 -> 263017 | H70: =IF(C70=0,0,ROUNDDOWN(G70*C70,1)) -> 7890.5 | I70: 0 | J70: =IF(C70=0,0,ROUNDDOWN(I70*C70,1)) -> 0 | K70: 0 | L70: =IF(C70=0,0,ROUNDDOWN(K70*C70,1)) -> 0 | M70: L00010 | N70: _x0007_`COD|L00010_x0005_`EXI|0_x0005_`DVD|F_x0005_`BMK| _x0005_`IPR|1_x0005_`BLA|F_x0005_` | O70: L00010_1 | P70: T7_1 | Q70: 1_01 | Z70: =HYPERLINK("#"&노무비목록표!G2&"!A"&ROW(노무비목록표!A7),"L00010 →") -> L00010 →
A71: 보통인부 | C71: 0.006 | D71: 인 | E71: =I71+G71+K71 -> 172068 | F71: =J71+H71+L71 -> 1032.4 | G71: =노무비목록표!E10 -> 172068 | H71: =IF(C71=0,0,ROUNDDOWN(G71*C71,1)) -> 1032.4 | I71: 0 | J71: =IF(C71=0,0,ROUNDDOWN(I71*C71,1)) -> 0 | K71: 0 | L71: =IF(C71=0,0,ROUNDDOWN(K71*C71,1)) -> 0 | M71: L00017 | N71: _x0007_`COD|L00017_x0005_`EXI|0_x0005_`DVD|F_x0005_`BMK| _x0005_`IPR|1_x0005_`BLA|F_x0005_` | O71: L00017_1 | P71: T7_1 | Q71: 1_01 | Z71: =HYPERLINK("#"&노무비목록표!G2&"!A"&ROW(노무비목록표!A10),"L00017 →") -> L00017 →
A72: 녹막이페인트 | B72: 철제녹막이 칠용 | C72: 0.161 | D72: ℓ | E72: =I72+G72+K72 -> 7027 | F72: =J72+H72+L72 -> 1131.3 | G72: 0 | H72: =IF(C72=0,0,ROUNDDOWN(G72*C72,1)) -> 0 | I72: =재료비목록표!E27 -> 7027 | J72: =IF(C72=0,0,ROUNDDOWN(I72*C72,1)) -> 1131.3 | K72: 0 | L72: =IF(C72=0,0,ROUNDDOWN(K72*C72,1)) -> 0 | M72: M00990 | N72: _x0007_`COD|M00990_x0005_`EXI|0_x0005_`DVD|F_x0005_`BMK| _x0005_`IPR|0_x0005_`KWN|0_x0005_`BLA|F_x0005_` | O72: M00990_1 | P72: T7_1 | Z72: =HYPERLINK("#"&재료비목록표!G2&"!A"&ROW(재료비목록표!A27),"M00990 →") -> M00990 →
A73: 신너 | B73: 조합페인트용 | C73: 0.008 | D73: ℓ | E73: =I73+G73+K73 -> 2500 | F73: =J73+H73+L73 -> 20 | G73: 0 | H73: =IF(C73=0,0,ROUNDDOWN(G73*C73,1)) -> 0 | I73: =재료비목록표!E61 -> 2500 | J73: =IF(C73=0,0,ROUNDDOWN(I73*C73,1)) -> 20 | K73: 0 | L73: =IF(C73=0,0,ROUNDDOWN(K73*C73,1)) -> 0 | M73: M00167 | N73: _x0007_`COD|M00167_x0005_`EXI|0_x0005_`DVD|F_x0005_`BMK| _x0005_`IPR|0_x0005_`KWN|0_x0005_`BLA|F_x0005_` | O73: M00167_1 | P73: T7_1 | Z73: =HYPERLINK("#"&재료비목록표!G2&"!A"&ROW(재료비목록표!A61),"M00167 →") -> M00167 →
A74: 공구손료 | B74: 노무비의 % | C74: 2 | D74: % | E74: =I74+G74+K74 -> 8922.9 | F74: =J74+H74+L74 -> 178.4 | G74: 0 | H74: =IF(C74=0,0,ROUNDDOWN(G74*C74/100,1)) -> 0 | I74: 0 | J74: =IF(C74=0,0,ROUNDDOWN(I74*C74/100,1)) -> 0 | K74: =H70+H71 -> 8922.9 | L74: =IF(C74=0,0,ROUNDDOWN(K74*C74/100,1)) -> 178.4 | N74: _x0007_`COD|PR_x0005_`EXI|1_x0005_`DVD|F_x0005_`BMK| _x0005_`IPR|0_x0005_`EQC|A01_x0005_`PRI|2_x0005_`PRO|3_x0005_`UNI|%_x0005_`BLA|F_x0005_` | O74: PRA01_1 | P74: T7_1
A75: 합 계 | F75: =J75+H75+L75 -> 10251 | H75: =ROUNDDOWN(SUMIF(P70:P74,O75,H70:H74),0) -> 8922 | J75: =ROUNDDOWN(SUMIF(P70:P74,O75,J70:J74),0) -> 1151 | L75: =ROUNDDOWN(SUMIF(P70:P74,O75,L70:L74),0) -> 178 | O75: T7_1
A76: 제 15 호표 | N76: =HYPERLINK("#N"&ROW(N78),"_x0005_`BDCOD|B02531_x0007_`POSS|"&ROW(N78)&"_x0007_`POSE|"&ROW(N78)&"_x0007_`") -> _x0005_`BDCOD|B02531_x0007_`POSS|78_x0007_`POSE|78_x0007_`
A77: 다리근육모으기 | B77: 2065*550*1800 | D77: 개소 | M77: B02531 | O77: B02531
A78: 다리근육모으기 | B78: 2065*550*1800, 현장설치도 | C78: 1 | D78: EA | E78: =I78+G78+K78 -> 5450000 | F78: =J78+H78+L78 -> 5450000 | G78: 0 | H78: =IF(C78=0,0,ROUNDDOWN(G78*C78,1)) -> 0 | I78: =재료비목록표!E28 -> 5450000 | J78: =IF(C78=0,0,ROUNDDOWN(I78*C78,1)) -> 5450000 | K78: 0 | L78: =IF(C78=0,0,ROUNDDOWN(K78*C78,1)) -> 0 | M78: M01538 | N78: _x0007_`COD|M01538_x0005_`EXI|0_x0005_`DVD|F_x0005_`BMK| _x0005_`IPR|0_x0005_`KWN|0_x0005_`BLA|F_x0005_` | O78: M01538_1 | P78: T7_1 | Z78: =HYPERLINK("#"&재료비목록표!G2&"!A"&ROW(재료비목록표!A28),"M01538 →") -> M01538 →
A79: 합 계 | F79: =J79+H79+L79 -> 5450000 | H79: =ROUNDDOWN(SUMIF(P78:P78,O79,H78:H78),0) -> 0 | J79: =ROUNDDOWN(SUMIF(P78:P78,O79,J78:J78),0) -> 5450000 | L79: =ROUNDDOWN(SUMIF(P78:P78,O79,L78:L78),0) -> 0 | O79: T7_1
A80: 제 16 호표 | N80: =HYPERLINK("#N"&ROW(N82),"_x0005_`BDCOD|B02537_x0007_`POSS|"&ROW(N82)&"_x0007_`POSE|"&ROW(N82)&"_x0007_`") -> _x0005_`BDCOD|B02537_x0007_`POSS|82_x0007_`POSE|82_x0007_`
A81: 다리근육모으기&양팔당기기 | B81: 2300*715*1800 | D81: 개소 | M81: B02537 | O81: B02537
A82: 다리근육모으기&양팔당기기 | B82: 2300*715*1800, 현장설치도 | C82: 1 | D82: EA | E82: =I82+G82+K82 -> 6110000 | F82: =J82+H82+L82 -> 6110000 | G82: 0 | H82: =IF(C82=0,0,ROUNDDOWN(G82*C82,1)) -> 0 | I82: =재료비목록표!E29 -> 6110000 | J82: =IF(C82=0,0,ROUNDDOWN(I82*C82,1)) -> 6110000 | K82: 0 | L82: =IF(C82=0,0,ROUNDDOWN(K82*C82,1)) -> 0 | M82: M01543 | N82: _x0007_`COD|M01543_x0005_`EXI|0_x0005_`DVD|F_x0005_`BMK| _x0005_`IPR|0_x0005_`KWN|0_x0005_`BLA|F_x0005_` | O82: M01543_1 | P82: T7_1 | Z82: =HYPERLINK("#"&재료비목록표!G2&"!A"&ROW(재료비목록표!A29),"M01543 →") -> M01543 →
A83: 합 계 | F83: =J83+H83+L83 -> 6110000 | H83: =ROUNDDOWN(SUMIF(P82:P82,O83,H82:H82),0) -> 0 | J83: =ROUNDDOWN(SUMIF(P82:P82,O83,J82:J82),0) -> 6110000 | L83: =ROUNDDOWN(SUMIF(P82:P82,O83,L82:L82),0) -> 0 | O83: T7_1
A84: 제 17 호표 | N84: =HYPERLINK("#N"&ROW(N86),"_x0005_`BDCOD|B02533_x0007_`POSS|"&ROW(N86)&"_x0007_`POSE|"&ROW(N86)&"_x0007_`") -> _x0005_`BDCOD|B02533_x0007_`POSS|86_x0007_`POSE|86_x0007_`
A85: 달리기 | B85: 3585*575*1830 | D85: 개소 | M85: B02533 | O85: B02533
A86: 달리기 | B86: 3585*575*1830, 현장설치도 | C86: 1 | D86: EA | E86: =I86+G86+K86 -> 4335000 | F86: =J86+H86+L86 -> 4335000 | G86: 0 | H86: =IF(C86=0,0,ROUNDDOWN(G86*C86,1)) -> 0 | I86: =재료비목록표!E30 -> 4335000 | J86: =IF(C86=0,0,ROUNDDOWN(I86*C86,1)) -> 4335000 | K86: 0 | L86: =IF(C86=0,0,ROUNDDOWN(K86*C86,1)) -> 0 | M86: M01540 | N86: _x0007_`COD|M01540_x0005_`EXI|0_x0005_`DVD|F_x0005_`BMK| _x0005_`IPR|0_x0005_`KWN|0_x0005_`BLA|F_x0005_` | O86: M01540_1 | P86: T7_1 | Z86: =HYPERLINK("#"&재료비목록표!G2&"!A"&ROW(재료비목록표!A30),"M01540 →") -> M01540 →
A87: 합 계 | F87: =J87+H87+L87 -> 4335000 | H87: =ROUNDDOWN(SUMIF(P86:P86,O87,H86:H86),0) -> 0 | J87: =ROUNDDOWN(SUMIF(P86:P86,O87,J86:J86),0) -> 4335000 | L87: =ROUNDDOWN(SUMIF(P86:P86,O87,L86:L86),0) -> 0 | O87: T7_1
A88: 제 18 호표 | N88: =HYPERLINK("#N"&ROW(N91),"_x0005_`BDCOD|B02655_x0007_`POSS|"&ROW(N90)&"_x0007_`POSE|"&ROW(N91)&"_x0007_`") -> _x0005_`BDCOD|B02655_x0007_`POSS|90_x0007_`POSE|91_x0007_`
A89: 데크계단 오일스테인칠 | B89: W1500, 상판&난간 | D89: m | M89: B02655 | O89: B02655
A90: 목재면 바탕만들기 | B90: 불순물 제거 | C90: 5.24 | D90: ㎡ | E90: =I90+G90+K90 -> 1802 | F90: =J90+H90+L90 -> 9442.4 | G90: =일위대가목록표!F113 -> 1750 | H90: =IF(C90=0,0,ROUNDDOWN(G90*C90,1)) -> 9170 | I90: =일위대가목록표!G113 -> 0 | J90: =IF(C90=0,0,ROUNDDOWN(I90*C90,1)) -> 0 | K90: =일위대가목록표!H113 -> 52 | L90: =IF(C90=0,0,ROUNDDOWN(K90*C90,1)) -> 272.4 | M90: B02719 | N90: _x0007_`COD|B02719_x0005_`EXI|0_x0005_`DVD|F_x0005_`BMK| _x0005_`IPR|0_x0005_`BLA|F_x0005_` | O90: B02719_1 | P90: T7_1 | Z90: =HYPERLINK("#"&일위대가목록표!J2&"!A"&ROW(일위대가목록표!A113),"B02719 →") -> B02719 →
A91: 오일스테인칠 | B91: 목재면 1회 | C91: 2.24 | D91: ㎡ | E91: =I91+G91+K91 -> 6465 | F91: =J91+H91+L91 -> 14481.5 | G91: =일위대가목록표!F223 -> 5513 | H91: =IF(C91=0,0,ROUNDDOWN(G91*C91,1)) -> 12349.1 | I91: =일위대가목록표!G223 -> 842 | J91: =IF(C91=0,0,ROUNDDOWN(I91*C91,1)) -> 1886 | K91: =일위대가목록표!H223 -> 110 | L91: =IF(C91=0,0,ROUNDDOWN(K91*C91,1)) -> 246.4 | M91: B02657 | N91: _x0007_`COD|B02657_x0005_`EXI|0_x0005_`DVD|F_x0005_`BMK| _x0005_`IPR|0_x0005_`BLA|F_x0005_` | O91: B02657_1 | P91: T7_1 | Z91: =HYPERLINK("#"&일위대가목록표!J2&"!A"&ROW(일위대가목록표!A223),"B02657 →") -> B02657 →
A92: 합 계 | F92: =J92+H92+L92 -> 23923 | H92: =ROUNDDOWN(SUMIF(P90:P91,O92,H90:H91),0) -> 21519 | J92: =ROUNDDOWN(SUMIF(P90:P91,O92,J90:J91),0) -> 1886 | L92: =ROUNDDOWN(SUMIF(P90:P91,O92,L90:L91),0) -> 518 | O92: T7_1
A93: 제 19 호표 | N93: =HYPERLINK("#N"&ROW(N98),"_x0005_`BDCOD|B02732_x0007_`POSS|"&ROW(N95)&"_x0007_`POSE|"&ROW(N98)&"_x0007_`") -> _x0005_`BDCOD|B02732_x0007_`POSS|95_x0007_`POSE|98_x0007_`
A94: 데크난간 보수 | B94: 1500*1200 | D94: 개소 | M94: B02732 | O94: B02732
A95: 천연목재 | B95: 낙엽송, T24 | C95: 0.28 | D95: ㎡ | E95: =I95+G95+K95 -> 50600 | F95: =J95+H95+L95 -> 14168 | G95: 0 | H95: =IF(C95=0,0,ROUNDDOWN(G95*C95,1)) -> 0 | I95: =재료비목록표!E96 -> 50600 | J95: =IF(C95=0,0,ROUNDDOWN(I95*C95,1)) -> 14168 | K95: 0 | L95: =IF(C95=0,0,ROUNDDOWN(K95*C95,1)) -> 0 | M95: M08842 | N95: _x0007_`COD|M08842_x0005_`EXI|0_x0005_`DVD|F_x0005_`BMK| _x0005_`IPR|0_x0005_`KWN|0_x0005_`BLA|F_x0005_` | O95: M08842_1 | P95: T7_1 | Z95: =HYPERLINK("#"&재료비목록표!G2&"!A"&ROW(재료비목록표!A96),"M08842 →") -> M08842 →
A96: 목구조체설치 | B96: 간단구조 | C96: 0.02 | D96: ㎥ | E96: =I96+G96+K96 -> 915052 | F96: =J96+H96+L96 -> 18301 | G96: =일위대가목록표!F72 -> 915052 | H96: =IF(C96=0,0,ROUNDDOWN(G96*C96,1)) -> 18301 | I96: =일위대가목록표!G72 -> 0 | J96: =IF(C96=0,0,ROUNDDOWN(I96*C96,1)) -> 0 | K96: =일위대가목록표!H72 -> 0 | L96: =IF(C96=0,0,ROUNDDOWN(K96*C96,1)) -> 0 | M96: B01822 | N96: _x0007_`COD|B01822_x0005_`EXI|0_x0005_`DVD|F_x0005_`BMK| _x0005_`IPR|1_x0005_`BLA|F_x0005_` | O96: B01822_1 | P96: T7_1 | Q96: 1_01 | Z96: =HYPERLINK("#"&일위대가목록표!J2&"!A"&ROW(일위대가목록표!A72),"B01822 →") -> B01822 →
A97: 오일스테인칠 | B97: 목재면 2회 | C97: 1.512 | D97: ㎡ | E97: =I97+G97+K97 -> 12642 | F97: =J97+H97+L97 -> 19114.6 | G97: =일위대가목록표!F224 -> 11027 | H97: =IF(C97=0,0,ROUNDDOWN(G97*C97,1)) -> 16672.8 | I97: =일위대가목록표!G224 -> 1395 | J97: =IF(C97=0,0,ROUNDDOWN(I97*C97,1)) -> 2109.2 | K97: =일위대가목록표!H224 -> 220 | L97: =IF(C97=0,0,ROUNDDOWN(K97*C97,1)) -> 332.6 | M97: B01814 | N97: _x0007_`COD|B01814_x0005_`EXI|0_x0005_`DVD|F_x0005_`BMK| _x0005_`IPR|1_x0005_`BLA|F_x0005_` | O97: B01814_1 | P97: T7_1 | Q97: 1_01 | Z97: =HYPERLINK("#"&일위대가목록표!J2&"!A"&ROW(일위대가목록표!A224),"B01814 →") -> B01814 →
A98: 유동형 브라켓 | C98: 4 | D98: ea | E98: =I98+G98+K98 -> 21850 | F98: =J98+H98+L98 -> 87400 | G98: 0 | H98: =IF(C98=0,0,ROUNDDOWN(G98*C98,1)) -> 0 | I98: =재료비목록표!E79 -> 21850 | J98: =IF(C98=0,0,ROUNDDOWN(I98*C98,1)) -> 87400 | K98: 0 | L98: =IF(C98=0,0,ROUNDDOWN(K98*C98,1)) -> 0 | M98: M08803 | N98: _x0007_`COD|M08803_x0005_`EXI|0_x0005_`DVD|F_x0005_`BMK| _x0005_`IPR|0_x0005_`KWN|0_x0005_`BLA|F_x0005_` | O98: M08803_1 | P98: T7_1 | Z98: =HYPERLINK("#"&재료비목록표!G2&"!A"&ROW(재료비목록표!A79),"M08803 →") -> M08803 →
A99: 합 계 | F99: =J99+H99+L99 -> 138982 | H99: =ROUNDDOWN(SUMIF(P95:P98,O99,H95:H98),0) -> 34973 | J99: =ROUNDDOWN(SUMIF(P95:P98,O99,J95:J98),0) -> 103677 | L99: =ROUNDDOWN(SUMIF(P95:P98,O99,L95:L98),0) -> 332 | O99: T7_1
A100: 제 20 호표 | N100: =HYPERLINK("#N"&ROW(N103),"_x0005_`BDCOD|B02723_x0007_`POSS|"&ROW(N102)&"_x0007_`POSE|"&ROW(N103)&"_x0007_`") -> _x0005_`BDCOD|B02723_x0007_`POSS|102_x0007_`POSE|103_x0007_`
...

Sheet 단가산출근거목록표
A1: 단가산출근거 목록표 | J1: STmate | K1: STmate
A2: 공사명 : 2026년 처인구 숲길(등산로) 유지관리공사(2차) | J2: =MID(CELL("filename",$A$1),FIND("]",CELL("filename",$A$1))+1,LEN(CELL("filename",$A$1))) -> 단가산출근거목록표
A3: 코드번호 | B3: 명 칭 | C3: 규 격 | D3: 단위 | E3: 합 계 | F3: 노 무 비 | G3: 재 료 비 | H3: 경 비 | I3: 비 고 | K3: =HYPERLINK("#'〓 목 차 〓'!B2","목차 →") -> 목차 →
A4: D00970 | B4: 고임돌채집, 운반 | C4: 기계(80%)인력(20%) | D4: ㎥ | E4: =단가산출근거!C154 -> 26887 | F4: =단가산출근거!D154 -> 20935 | G4: =단가산출근거!E154 -> 2818 | H4: =단가산출근거!F154 -> 3134 | I4: 산림4-5-2 | J4: ="_x0007_`COD|D00970_x0005_`QTY1|1_x0005_`BQC|산림4-5-2_x0005_`EQC|_x0005_`JDC|_x0005_`WQC|_x0005_`EDT|_x0005_`ADJ|F_x0005_`DET|"&ROW(단가산출근거!A5)&"_x0005_`" -> _x0007_`COD|D00970_x0005_`QTY1|1_x0005_`BQC|산림4-5-2_x0005_`EQC|_x0005_`JDC|_x0005_`WQC|_x0005_`EDT|_x0005_`ADJ|F_x0005_`DET|5_x0005_` | K4: =HYPERLINK("#"&단가산출근거!G2&"!A"&ROW(단가산출근거!A5),"D00970 →") -> D00970 →
A5: D01261 | B5: 관목 식재(군식) | C5: H0.3m~0.7m이하 | D5: 주 | E5: =단가산출근거!C204 -> 3175 | F5: =단가산출근거!D204 -> 2925 | G5: =단가산출근거!E204 -> 250 | H5: =단가산출근거!F204 -> 0 | J5: ="_x0007_`COD|D01261_x0005_`QTY1|1_x0005_`BQC|_x0005_`EQC|_x0005_`JDC|_x0005_`WQC|_x0005_`EDT|_x0005_`ADJ|F_x0005_`DET|"&ROW(단가산출근거!A155)&"_x0005_`" -> _x0007_`COD|D01261_x0005_`QTY1|1_x0005_`BQC|_x0005_`EQC|_x0005_`JDC|_x0005_`WQC|_x0005_`EDT|_x0005_`ADJ|F_x0005_`DET|155_x0005_` | K5: =HYPERLINK("#"&단가산출근거!G2&"!A"&ROW(단가산출근거!A155),"D01261 →") -> D01261 →
A6: D01293 | B6: 관목 식재(군식) | C6: H0.3m미만 | D6: 주 | E6: =단가산출근거!C254 -> 2244 | F6: =단가산출근거!D254 -> 1994 | G6: =단가산출근거!E254 -> 250 | H6: =단가산출근거!F254 -> 0 | J6: ="_x0007_`COD|D01293_x0005_`QTY1|1_x0005_`BQC|_x0005_`EQC|_x0005_`JDC|_x0005_`WQC|_x0005_`EDT|_x0005_`ADJ|F_x0005_`DET|"&ROW(단가산출근거!A205)&"_x0005_`" -> _x0007_`COD|D01293_x0005_`QTY1|1_x0005_`BQC|_x0005_`EQC|_x0005_`JDC|_x0005_`WQC|_x0005_`EDT|_x0005_`ADJ|F_x0005_`DET|205_x0005_` | K6: =HYPERLINK("#"&단가산출근거!G2&"!A"&ROW(단가산출근거!A205),"D01293 →") -> D01293 →
A7: D01258 | B7: 관목 식재(군식) | C7: H0.8m~1.1m이하 | D7: 주 | E7: =단가산출근거!C304 -> 4888 | F7: =단가산출근거!D304 -> 4388 | G7: =단가산출근거!E304 -> 500 | H7: =단가산출근거!F304 -> 0 | J7: ="_x0007_`COD|D01258_x0005_`QTY1|1_x0005_`BQC|_x0005_`EQC|_x0005_`JDC|_x0005_`WQC|_x0005_`EDT|_x0005_`ADJ|F_x0005_`DET|"&ROW(단가산출근거!A255)&"_x0005_`" -> _x0007_`COD|D01258_x0005_`QTY1|1_x0005_`BQC|_x0005_`EQC|_x0005_`JDC|_x0005_`WQC|_x0005_`EDT|_x0005_`ADJ|F_x0005_`DET|255_x0005_` | K7: =HYPERLINK("#"&단가산출근거!G2&"!A"&ROW(단가산출근거!A255),"D01258 →") -> D01258 →
A8: D01294 | B8: 관목 식재(군식) | C8: H1.2m~1.5m이하 | D8: 주 | E8: =단가산출근거!C354 -> 7269 | F8: =단가산출근거!D354 -> 6269 | G8: =단가산출근거!E354 -> 1000 | H8: =단가산출근거!F354 -> 0 | J8: ="_x0007_`COD|D01294_x0005_`QTY1|1_x0005_`BQC|_x0005_`EQC|_x0005_`JDC|_x0005_`WQC|_x0005_`EDT|_x0005_`ADJ|F_x0005_`DET|"&ROW(단가산출근거!A305)&"_x0005_`" -> _x0007_`COD|D01294_x0005_`QTY1|1_x0005_`BQC|_x0005_`EQC|_x0005_`JDC|_x0005_`WQC|_x0005_`EDT|_x0005_`ADJ|F_x0005_`DET|305_x0005_` | K8: =HYPERLINK("#"&단가산출근거!G2&"!A"&ROW(단가산출근거!A305),"D01294 →") -> D01294 →
A9: D01356 | B9: 관목 식재(군식, 산지할증A) | C9: H0.3m~0.7m이하 | D9: 주 | E9: =단가산출근거!C404 -> 3614 | F9: =단가산출근거!D404 -> 3364 | G9: =단가산출근거!E404 -> 250 | H9: =단가산출근거!F404 -> 0 | J9: ="_x0007_`COD|D01356_x0005_`QTY1|1_x0005_`BQC|_x0005_`EQC|_x0005_`JDC|_x0005_`WQC|_x0005_`EDT|_x0005_`ADJ|F_x0005_`DET|"&ROW(단가산출근거!A355)&"_x0005_`" -> _x0007_`COD|D01356_x0005_`QTY1|1_x0005_`BQC|_x0005_`EQC|_x0005_`JDC|_x0005_`WQC|_x0005_`EDT|_x0005_`ADJ|F_x0005_`DET|355_x0005_` | K9: =HYPERLINK("#"&단가산출근거!G2&"!A"&ROW(단가산출근거!A355),"D01356 →") -> D01356 →
A10: D01355 | B10: 관목 식재(군식, 산지할증A) | C10: H0.3m미만 | D10: 주 | E10: =단가산출근거!C454 -> 2543 | F10: =단가산출근거!D454 -> 2293 | G10: =단가산출근거!E454 -> 250 | H10: =단가산출근거!F454 -> 0 | J10: ="_x0007_`COD|D01355_x0005_`QTY1|1_x0005_`BQC|_x0005_`EQC|_x0005_`JDC|_x0005_`WQC|_x0005_`EDT|_x0005_`ADJ|F_x0005_`DET|"&ROW(단가산출근거!A405)&"_x0005_`" -> _x0007_`COD|D01355_x0005_`QTY1|1_x0005_`BQC|_x0005_`EQC|_x0005_`JDC|_x0005_`WQC|_x0005_`EDT|_x0005_`ADJ|F_x0005_`DET|405_x0005_` | K10: =HYPERLINK("#"&단가산출근거!G2&"!A"&ROW(단가산출근거!A405),"D01355 →") -> D01355 →
A11: D01357 | B11: 관목 식재(군식, 산지할증A) | C11: H0.8m~1.1m이하 | D11: 주 | E11: =단가산출근거!C504 -> 5546 | F11: =단가산출근거!D504 -> 5046 | G11: =단가산출근거!E504 -> 500 | H11: =단가산출근거!F504 -> 0 | J11: ="_x0007_`COD|D01357_x0005_`QTY1|1_x0005_`BQC|_x0005_`EQC|_x0005_`JDC|_x0005_`WQC|_x0005_`EDT|_x0005_`ADJ|F_x0005_`DET|"&ROW(단가산출근거!A455)&"_x0005_`" -> _x0007_`COD|D01357_x0005_`QTY1|1_x0005_`BQC|_x0005_`EQC|_x0005_`JDC|_x0005_`WQC|_x0005_`EDT|_x0005_`ADJ|F_x0005_`DET|455_x0005_` | K11: =HYPERLINK("#"&단가산출근거!G2&"!A"&ROW(단가산출근거!A455),"D01357 →") -> D01357 →
A12: D01358 | B12: 관목 식재(군식, 산지할증A) | C12: H1.2m~1.5m이하 | D12: 주 | E12: =단가산출근거!C554 -> 8209 | F12: =단가산출근거!D554 -> 7209 | G12: =단가산출근거!E554 -> 1000 | H12: =단가산출근거!F554 -> 0 | J12: ="_x0007_`COD|D01358_x0005_`QTY1|1_x0005_`BQC|_x0005_`EQC|_x0005_`JDC|_x0005_`WQC|_x0005_`EDT|_x0005_`ADJ|F_x0005_`DET|"&ROW(단가산출근거!A505)&"_x0005_`" -> _x0007_`COD|D01358_x0005_`QTY1|1_x0005_`BQC|_x0005_`EQC|_x0005_`JDC|_x0005_`WQC|_x0005_`EDT|_x0005_`ADJ|F_x0005_`DET|505_x0005_` | K12: =HYPERLINK("#"&단가산출근거!G2&"!A"&ROW(단가산출근거!A505),"D01358 →") -> D01358 →
A13: D01326 | B13: 관목 식재(군식, 산지할증B) | C13: H0.3m~0.7m이하 | D13: 주 | E13: =단가산출근거!C604 -> 3906 | F13: =단가산출근거!D604 -> 3656 | G13: =단가산출근거!E604 -> 250 | H13: =단가산출근거!F604 -> 0 | J13: ="_x0007_`COD|D01326_x0005_`QTY1|1_x0005_`BQC|_x0005_`EQC|_x0005_`JDC|_x0005_`WQC|_x0005_`EDT|_x0005_`ADJ|F_x0005_`DET|"&ROW(단가산출근거!A555)&"_x0005_`" -> _x0007_`COD|D01326_x0005_`QTY1|1_x0005_`BQC|_x0005_`EQC|_x0005_`JDC|_x0005_`WQC|_x0005_`EDT|_x0005_`ADJ|F_x0005_`DET|555_x0005_` | K13: =HYPERLINK("#"&단가산출근거!G2&"!A"&ROW(단가산출근거!A555),"D01326 →") -> D01326 →
A14: D01330 | B14: 관목 식재(군식, 산지할증B) | C14: H0.3m미만 | D14: 주 | E14: =단가산출근거!C654 -> 2743 | F14: =단가산출근거!D654 -> 2493 | G14: =단가산출근거!E654 -> 250 | H14: =단가산출근거!F654 -> 0 | J14: ="_x0007_`COD|D01330_x0005_`QTY1|1_x0005_`BQC|_x0005_`EQC|_x0005_`JDC|_x0005_`WQC|_x0005_`EDT|_x0005_`ADJ|F_x0005_`DET|"&ROW(단가산출근거!A605)&"_x0005_`" -> _x0007_`COD|D01330_x0005_`QTY1|1_x0005_`BQC|_x0005_`EQC|_x0005_`JDC|_x0005_`WQC|_x0005_`EDT|_x0005_`ADJ|F_x0005_`DET|605_x0005_` | K14: =HYPERLINK("#"&단가산출근거!G2&"!A"&ROW(단가산출근거!A605),"D01330 →") -> D01330 →
A15: D01331 | B15: 관목 식재(군식, 산지할증B) | C15: H0.8m~1.1m이하 | D15: 주 | E15: =단가산출근거!C704 -> 5985 | F15: =단가산출근거!D704 -> 5485 | G15: =단가산출근거!E704 -> 500 | H15: =단가산출근거!F704 -> 0 | J15: ="_x0007_`COD|D01331_x0005_`QTY1|1_x0005_`BQC|_x0005_`EQC|_x0005_`JDC|_x0005_`WQC|_x0005_`EDT|_x0005_`ADJ|F_x0005_`DET|"&ROW(단가산출근거!A655)&"_x0005_`" -> _x0007_`COD|D01331_x0005_`QTY1|1_x0005_`BQC|_x0005_`EQC|_x0005_`JDC|_x0005_`WQC|_x0005_`EDT|_x0005_`ADJ|F_x0005_`DET|655_x0005_` | K15: =HYPERLINK("#"&단가산출근거!G2&"!A"&ROW(단가산출근거!A655),"D01331 →") -> D01331 →
A16: D01332 | B16: 관목 식재(군식, 산지할증B) | C16: H1.2m~1.5m이하 | D16: 주 | E16: =단가산출근거!C754 -> 8836 | F16: =단가산출근거!D754 -> 7836 | G16: =단가산출근거!E754 -> 1000 | H16: =단가산출근거!F754 -> 0 | J16: ="_x0007_`COD|D01332_x0005_`QTY1|1_x0005_`BQC|_x0005_`EQC|_x0005_`JDC|_x0005_`WQC|_x0005_`EDT|_x0005_`ADJ|F_x0005_`DET|"&ROW(단가산출근거!A705)&"_x0005_`" -> _x0007_`COD|D01332_x0005_`QTY1|1_x0005_`BQC|_x0005_`EQC|_x0005_`JDC|_x0005_`WQC|_x0005_`EDT|_x0005_`ADJ|F_x0005_`DET|705_x0005_` | K16: =HYPERLINK("#"&단가산출근거!G2&"!A"&ROW(단가산출근거!A705),"D01332 →") -> D01332 →
A17: D01262 | B17: 관목 식재(단식) | C17: H0.3m~0.7m이하 | D17: 주 | E17: =단가산출근거!C804 -> 7621 | F17: =단가산출근거!D804 -> 7021 | G17: =단가산출근거!E804 -> 600 | H17: =단가산출근거!F804 -> 0 | J17: ="_x0007_`COD|D01262_x0005_`QTY1|1_x0005_`BQC|_x0005_`EQC|공통4-2-2_x0005_`JDC|_x0005_`WQC|_x0005_`EDT|_x0005_`ADJ|F_x0005_`DET|"&ROW(단가산출근거!A755)&"_x0005_`" -> _x0007_`COD|D01262_x0005_`QTY1|1_x0005_`BQC|_x0005_`EQC|공통4-2-2_x0005_`JDC|_x0005_`WQC|_x0005_`EDT|_x0005_`ADJ|F_x0005_`DET|755_x0005_` | K17: =HYPERLINK("#"&단가산출근거!G2&"!A"&ROW(단가산출근거!A755),"D01262 →") -> D01262 →
A18: D01290 | B18: 관목 식재(단식) | C18: H0.3m미만 | D18: 주 | E18: =단가산출근거!C854 -> 6172 | F18: =단가산출근거!D854 -> 5485 | G18: =단가산출근거!E854 -> 687 | H18: =단가산출근거!F854 -> 0 | J18: ="_x0007_`COD|D01290_x0005_`QTY1|1_x0005_`BQC|_x0005_`EQC|공통4-2-2_x0005_`JDC|_x0005_`WQC|_x0005_`EDT|_x0005_`ADJ|F_x0005_`DET|"&ROW(단가산출근거!A805)&"_x0005_`" -> _x0007_`COD|D01290_x0005_`QTY1|1_x0005_`BQC|_x0005_`EQC|공통4-2-2_x0005_`JDC|_x0005_`WQC|_x0005_`EDT|_x0005_`ADJ|F_x0005_`DET|805_x0005_` | K18: =HYPERLINK("#"&단가산출근거!G2&"!A"&ROW(단가산출근거!A805),"D01290 →") -> D01290 →
A19: D01291 | B19: 관목 식재(단식) | C19: H0.8m~1.1m이하 | D19: 주 | E19: =단가산출근거!C904 -> 13035 | F19: =단가산출근거!D904 -> 11702 | G19: =단가산출근거!E904 -> 1333 | H19: =단가산출근거!F904 -> 0 | J19: ="_x0007_`COD|D01291_x0005_`QTY1|1_x0005_`BQC|_x0005_`EQC|공통4-2-2_x0005_`JDC|_x0005_`WQC|_x0005_`EDT|_x0005_`ADJ|F_x0005_`DET|"&ROW(단가산출근거!A855)&"_x0005_`" -> _x0007_`COD|D01291_x0005_`QTY1|1_x0005_`BQC|_x0005_`EQC|공통4-2-2_x0005_`JDC|_x0005_`WQC|_x0005_`EDT|_x0005_`ADJ|F_x0005_`DET|855_x0005_` | K19: =HYPERLINK("#"&단가산출근거!G2&"!A"&ROW(단가산출근거!A855),"D01291 →") -> D01291 →
A20: D01292 | B20: 관목 식재(단식) | C20: H1.2m~1.5m이하 | D20: 주 | E20: =단가산출근거!C954 -> 17866 | F20: =단가산출근거!D954 -> 15957 | G20: =단가산출근거!E954 -> 1909 | H20: =단가산출근거!F954 -> 0 | J20: ="_x0007_`COD|D01292_x0005_`QTY1|1_x0005_`BQC|_x0005_`EQC|공통4-2-2_x0005_`JDC|_x0005_`WQC|_x0005_`EDT|_x0005_`ADJ|F_x0005_`DET|"&ROW(단가산출근거!A905)&"_x0005_`" -> _x0007_`COD|D01292_x0005_`QTY1|1_x0005_`BQC|_x0005_`EQC|공통4-2-2_x0005_`JDC|_x0005_`WQC|_x0005_`EDT|_x0005_`ADJ|F_x0005_`DET|905_x0005_` | K20: =HYPERLINK("#"&단가산출근거!G2&"!A"&ROW(단가산출근거!A905),"D01292 →") -> D01292 →
A21: D01352 | B21: 관목 식재(단식, 산지할증A) | C21: H0.3m~0.7m이하 | D21: 주 | E21: =단가산출근거!C1004 -> 8674 | F21: =단가산출근거!D1004 -> 8074 | G21: =단가산출근거!E1004 -> 600 | H21: =단가산출근거!F1004 -> 0 | J21: ="_x0007_`COD|D01352_x0005_`QTY1|1_x0005_`BQC|_x0005_`EQC|공통4-2-2_x0005_`JDC|_x0005_`WQC|_x0005_`EDT|_x0005_`ADJ|F_x0005_`DET|"&ROW(단가산출근거!A955)&"_x0005_`" -> _x0007_`COD|D01352_x0005_`QTY1|1_x0005_`BQC|_x0005_`EQC|공통4-2-2_x0005_`JDC|_x0005_`WQC|_x0005_`EDT|_x0005_`ADJ|F_x0005_`DET|955_x0005_` | K21: =HYPERLINK("#"&단가산출근거!G2&"!A"&ROW(단가산출근거!A955),"D01352 →") -> D01352 →
A22: D01351 | B22: 관목 식재(단식, 산지할증A) | C22: H0.3m미만 | D22: 주 | E22: =단가산출근거!C1054 -> 6995 | F22: =단가산출근거!D1054 -> 6308 | G22: =단가산출근거!E1054 -> 687 | H22: =단가산출근거!F1054 -> 0 | J22: ="_x0007_`COD|D01351_x0005_`QTY1|1_x0005_`BQC|_x0005_`EQC|공통4-2-2_x0005_`JDC|_x0005_`WQC|_x0005_`EDT|_x0005_`ADJ|F_x0005_`DET|"&ROW(단가산출근거!A1005)&"_x0005_`" -> _x0007_`COD|D01351_x0005_`QTY1|1_x0005_`BQC|_x0005_`EQC|공통4-2-2_x0005_`JDC|_x0005_`WQC|_x0005_`EDT|_x0005_`ADJ|F_x0005_`DET|1005_x0005_` | K22: =HYPERLINK("#"&단가산출근거!G2&"!A"&ROW(단가산출근거!A1005),"D01351 →") -> D01351 →
A23: D01353 | B23: 관목 식재(단식, 산지할증A) | C23: H0.8m~1.1m이하 | D23: 주 | E23: =단가산출근거!C1104 -> 14790 | F23: =단가산출근거!D1104 -> 13457 | G23: =단가산출근거!E1104 -> 1333 | H23: =단가산출근거!F1104 -> 0 | J23: ="_x0007_`COD|D01353_x0005_`QTY1|1_x0005_`BQC|_x0005_`EQC|공통4-2-2_x0005_`JDC|_x0005_`WQC|_x0005_`EDT|_x0005_`ADJ|F_x0005_`DET|"&ROW(단가산출근거!A1055)&"_x0005_`" -> _x0007_`COD|D01353_x0005_`QTY1|1_x0005_`BQC|_x0005_`EQC|공통4-2-2_x0005_`JDC|_x0005_`WQC|_x0005_`EDT|_x0005_`ADJ|F_x0005_`DET|1055_x0005_` | K23: =HYPERLINK("#"&단가산출근거!G2&"!A"&ROW(단가산출근거!A1055),"D01353 →") -> D01353 →
A24: D01354 | B24: 관목 식재(단식, 산지할증A) | C24: H1.2m~1.5m이하 | D24: 주 | E24: =단가산출근거!C1154 -> 20260 | F24: =단가산출근거!D1154 -> 18351 | G24: =단가산출근거!E1154 -> 1909 | H24: =단가산출근거!F1154 -> 0 | J24: ="_x0007_`COD|D01354_x0005_`QTY1|1_x0005_`BQC|_x0005_`EQC|공통4-2-2_x0005_`JDC|_x0005_`WQC|_x0005_`EDT|_x0005_`ADJ|F_x0005_`DET|"&ROW(단가산출근거!A1105)&"_x0005_`" -> _x0007_`COD|D01354_x0005_`QTY1|1_x0005_`BQC|_x0005_`EQC|공통4-2-2_x0005_`JDC|_x0005_`WQC|_x0005_`EDT|_x0005_`ADJ|F_x0005_`DET|1105_x0005_` | K24: =HYPERLINK("#"&단가산출근거!G2&"!A"&ROW(단가산출근거!A1105),"D01354 →") -> D01354 →
A25: D01327 | B25: 관목 식재(단식, 산지할증B) | C25: H0.3m~0.7m이하 | D25: 주 | E25: =단가산출근거!C1204 -> 9376 | F25: =단가산출근거!D1204 -> 8776 | G25: =단가산출근거!E1204 -> 600 | H25: =단가산출근거!F1204 -> 0 | J25: ="_x0007_`COD|D01327_x0005_`QTY1|1_x0005_`BQC|_x0005_`EQC|공통4-2-2_x0005_`JDC|_x0005_`WQC|_x0005_`EDT|_x0005_`ADJ|F_x0005_`DET|"&ROW(단가산출근거!A1155)&"_x0005_`" -> _x0007_`COD|D01327_x0005_`QTY1|1_x0005_`BQC|_x0005_`EQC|공통4-2-2_x0005_`JDC|_x0005_`WQC|_x0005_`EDT|_x0005_`ADJ|F_x0005_`DET|1155_x0005_` | K25: =HYPERLINK("#"&단가산출근거!G2&"!A"&ROW(단가산출근거!A1155),"D01327 →") -> D01327 →
A26: D01325 | B26: 관목 식재(단식, 산지할증B) | C26: H0.3m미만 | D26: 주 | E26: =단가산출근거!C1254 -> 7543 | F26: =단가산출근거!D1254 -> 6856 | G26: =단가산출근거!E1254 -> 687 | H26: =단가산출근거!F1254 -> 0 | J26: ="_x0007_`COD|D01325_x0005_`QTY1|1_x0005_`BQC|_x0005_`EQC|공통4-2-2_x0005_`JDC|_x0005_`WQC|_x0005_`EDT|_x0005_`ADJ|F_x0005_`DET|"&ROW(단가산출근거!A1205)&"_x0005_`" -> _x0007_`COD|D01325_x0005_`QTY1|1_x0005_`BQC|_x0005_`EQC|공통4-2-2_x0005_`JDC|_x0005_`WQC|_x0005_`EDT|_x0005_`ADJ|F_x0005_`DET|1205_x0005_` | K26: =HYPERLINK("#"&단가산출근거!G2&"!A"&ROW(단가산출근거!A1205),"D01325 →") -> D01325 →
A27: D01328 | B27: 관목 식재(단식, 산지할증B) | C27: H0.8m~1.1m이하 | D27: 주 | E27: =단가산출근거!C1304 -> 15960 | F27: =단가산출근거!D1304 -> 14627 | G27: =단가산출근거!E1304 -> 1333 | H27: =단가산출근거!F1304 -> 0 | J27: ="_x0007_`COD|D01328_x0005_`QTY1|1_x0005_`BQC|_x0005_`EQC|공통4-2-2_x0005_`JDC|_x0005_`WQC|_x0005_`EDT|_x0005_`ADJ|F_x0005_`DET|"&ROW(단가산출근거!A1255)&"_x0005_`" -> _x0007_`COD|D01328_x0005_`QTY1|1_x0005_`BQC|_x0005_`EQC|공통4-2-2_x0005_`JDC|_x0005_`WQC|_x0005_`EDT|_x0005_`ADJ|F_x0005_`DET|1255_x0005_` | K27: =HYPERLINK("#"&단가산출근거!G2&"!A"&ROW(단가산출근거!A1255),"D01328 →") -> D01328 →
A28: D01329 | B28: 관목 식재(단식, 산지할증B) | C28: H1.2m~1.5m이하 | D28: 주 | E28: =단가산출근거!C1354 -> 21856 | F28: =단가산출근거!D1354 -> 19947 | G28: =단가산출근거!E1354 -> 1909 | H28: =단가산출근거!F1354 -> 0 | J28: ="_x0007_`COD|D01329_x0005_`QTY1|1_x0005_`BQC|_x0005_`EQC|공통4-2-2_x0005_`JDC|_x0005_`WQC|_x0005_`EDT|_x0005_`ADJ|F_x0005_`DET|"&ROW(단가산출근거!A1305)&"_x0005_`" -> _x0007_`COD|D01329_x0005_`QTY1|1_x0005_`BQC|_x0005_`EQC|공통4-2-2_x0005_`JDC|_x0005_`WQC|_x0005_`EDT|_x0005_`ADJ|F_x0005_`DET|1305_x0005_` | K28: =HYPERLINK("#"&단가산출근거!G2&"!A"&ROW(단가산출근거!A1305),"D01329 →") -> D01329 →
A29: D01309 | B29: 교목 식재(기계) | C29: B10~17 (R12~20) | D29: 주 | E29: =단가산출근거!C1454 -> 156165 | F29: =단가산출근거!D1454 -> 112486 | G29: =단가산출근거!E1454 -> 32003 | H29: =단가산출근거!F1454 -> 11676 | I29: 공통4-3-5 | J29: ="_x0007_`COD|D01309_x0005_`QTY1|1_x0005_`BQC|공통4-3-5_x0005_`EQC|_x0005_`JDC|_x0005_`WQC|_x0005_`EDT|_x0005_`ADJ|F_x0005_`DET|"&ROW(단가산출근거!A1355)&"_x0005_`" -> _x0007_`COD|D01309_x0005_`QTY1|1_x0005_`BQC|공통4-3-5_x0005_`EQC|_x0005_`JDC|_x0005_`WQC|_x0005_`EDT|_x0005_`ADJ|F_x0005_`DET|1355_x0005_` | K29: =HYPERLINK("#"&단가산출근거!G2&"!A"&ROW(단가산출근거!A1355),"D01309 →") -> D01309 →
A30: D01310 | B30: 교목 식재(기계) | C30: B18~24 (R21~29) | D30: 주 | E30: =단가산출근거!C1554 -> 295003 | F30: =단가산출근거!D1554 -> 194229 | G30: =단가산출근거!E1554 -> 58803 | H30: =단가산출근거!F1554 -> 41971 | I30: 공통4-3-5 | J30: ="_x0007_`COD|D01310_x0005_`QTY1|1_x0005_`BQC|공통4-3-5_x0005_`EQC|_x0005_`JDC|_x0005_`WQC|_x0005_`EDT|_x0005_`ADJ|F_x0005_`DET|"&ROW(단가산출근거!A1455)&"_x0005_`" -> _x0007_`COD|D01310_x0005_`QTY1|1_x0005_`BQC|공통4-3-5_x0005_`EQC|_x0005_`JDC|_x0005_`WQC|_x0005_`EDT|_x0005_`ADJ|F_x0005_`DET|1455_x0005_` | K30: =HYPERLINK("#"&단가산출근거!G2&"!A"&ROW(단가산출근거!A1455),"D01310 →") -> D01310 →
A31: D01311 | B31: 교목 식재(기계) | C31: B25~34 (R30~41) | D31: 주 | E31: =단가산출근거!C1654 -> 404707 | F31: =단가산출근거!D1654 -> 249723 | G31: =단가산출근거!E1654 -> 92413 | H31: =단가산출근거!F1654 -> 62571 | I31: 공통4-3-5 | J31: ="_x0007_`COD|D01311_x0005_`QTY1|1_x0005_`BQC|공통4-3-5_x0005_`EQC|_x0005_`JDC|_x0005_`WQC|_x0005_`EDT|_x0005_`ADJ|F_x0005_`DET|"&ROW(단가산출근거!A1555)&"_x0005_`" -> _x0007_`COD|D01311_x0005_`QTY1|1_x0005_`BQC|공통4-3-5_x0005_`EQC|_x0005_`JDC|_x0005_`WQC|_x0005_`EDT|_x0005_`ADJ|F_x0005_`DET|1555_x0005_` | K31: =HYPERLINK("#"&단가산출근거!G2&"!A"&ROW(단가산출근거!A1555),"D01311 →") -> D01311 →
A32: D01312 | B32: 교목 식재(기계) | C32: B35~44 (R42~53) | D32: 주 | E32: =단가산출근거!C1754 -> 600641 | F32: =단가산출근거!D1754 -> 364400 | G32: =단가산출근거!E1754 -> 103163 | H32: =단가산출근거!F1754 -> 133078 | I32: 공통4-3-5 | J32: ="_x0007_`COD|D01312_x0005_`QTY1|1_x0005_`BQC|공통4-3-5_x0005_`EQC|_x0005_`JDC|_x0005_`WQC|_x0005_`EDT|_x0005_`ADJ|F_x0005_`DET|"&ROW(단가산출근거!A1655)&"_x0005_`" -> _x0007_`COD|D01312_x0005_`QTY1|1_x0005_`BQC|공통4-3-5_x0005_`EQC|_x0005_`JDC|_x0005_`WQC|_x0005_`EDT|_x0005_`ADJ|F_x0005_`DET|1655_x0005_` | K32: =HYPERLINK("#"&단가산출근거!G2&"!A"&ROW(단가산출근거!A1655),"D01312 →") -> D01312 →
A33: D01313 | B33: 교목 식재(기계) | C33: B45~49 (R54~59) | D33: 주 | E33: =단가산출근거!C1854 -> 741552 | F33: =단가산출근거!D1854 -> 455500 | G33: =단가산출근거!E1854 -> 119704 | H33: =단가산출근거!F1854 -> 166348 | I33: 공통4-3-5 | J33: ="_x0007_`COD|D01313_x0005_`QTY1|1_x0005_`BQC|공통4-3-5_x0005_`EQC|_x0005_`JDC|_x0005_`WQC|_x0005_`EDT|_x0005_`ADJ|F_x0005_`DET|"&ROW(단가산출근거!A1755)&"_x0005_`" -> _x0007_`COD|D01313_x0005_`QTY1|1_x0005_`BQC|공통4-3-5_x0005_`EQC|_x0005_`JDC|_x0005_`WQC|_x0005_`EDT|_x0005_`ADJ|F_x0005_`DET|1755_x0005_` | K33: =HYPERLINK("#"&단가산출근거!G2&"!A"&ROW(단가산출근거!A1755),"D01313 →") -> D01313 →
A34: D01305 | B34: 교목 식재(기계) | C34: B5(R6) 이하 | D34: 주 | E34: =단가산출근거!C1904 -> 48369 | F34: =단가산출근거!D1904 -> 29996 | G34: =단가산출근거!E1904 -> 15260 | H34: =단가산출근거!F1904 -> 3113 | I34: 공통4-3-5 | J34: ="_x0007_`COD|D01305_x0005_`QTY1|1_x0005_`BQC|공통4-3-5_x0005_`EQC|_x0005_`JDC|_x0005_`WQC|_x0005_`EDT|_x0005_`ADJ|F_x0005_`DET|"&ROW(단가산출근거!A1855)&"_x0005_`" -> _x0007_`COD|D01305_x0005_`QTY1|1_x0005_`BQC|공통4-3-5_x0005_`EQC|_x0005_`JDC|_x0005_`WQC|_x0005_`EDT|_x0005_`ADJ|F_x0005_`DET|1855_x0005_` | K34: =HYPERLINK("#"&단가산출근거!G2&"!A"&ROW(단가산출근거!A1855),"D01305 →") -> D01305 →
A35: D01307 | B35: 교목 식재(기계) | C35: B6~7 (R7~8) | D35: 주 | E35: =단가산출근거!C2004 -> 89780 | F35: =단가산출근거!D2004 -> 61356 | G35: =단가산출근거!E2004 -> 22056 | H35: =단가산출근거!F2004 -> 6368 | I35: 공통4-3-5 | J35: ="_x0007_`COD|D01307_x0005_`QTY1|1_x0005_`BQC|공통4-3-5_x0005_`EQC|_x0005_`JDC|_x0005_`WQC|_x0005_`EDT|_x0005_`ADJ|F_x0005_`DET|"&ROW(단가산출근거!A1905)&"_x0005_`" -> _x0007_`COD|D01307_x0005_`QTY1|1_x0005_`BQC|공통4-3-5_x0005_`EQC|_x0005_`JDC|_x0005_`WQC|_x0005_`EDT|_x0005_`ADJ|F_x0005_`DET|1905_x0005_` | K35: =HYPERLINK("#"&단가산출근거!G2&"!A"&ROW(단가산출근거!A1905),"D01307 →") -> D01307 →
A36: D01308 | B36: 교목 식재(기계) | C36: B8~9 (R9~11) | D36: 주 | E36: =단가산출근거!C2104 -> 113980 | F36: =단가산출근거!D2104 -> 79402 | G36: =단가산출근거!E2104 -> 26337 | H36: =단가산출근거!F2104 -> 8241 | I36: 공통4-3-5 | J36: ="_x0007_`COD|D01308_x0005_`QTY1|1_x0005_`BQC|공통4-3-5_x0005_`EQC|_x0005_`JDC|_x0005_`WQC|_x0005_`EDT|_x0005_`ADJ|F_x0005_`DET|"&ROW(단가산출근거!A2005)&"_x0005_`" -> _x0007_`COD|D01308_x0005_`QTY1|1_x0005_`BQC|공통4-3-5_x0005_`EQC|_x0005_`JDC|_x0005_`WQC|_x0005_`EDT|_x0005_`ADJ|F_x0005_`DET|2005_x0005_` | K36: =HYPERLINK("#"&단가산출근거!G2&"!A"&ROW(단가산출근거!A2005),"D01308 →") -> D01308 →
A37: D01315 | B37: 교목 식재(기계) | C37: 수고 2.0m 이하 | D37: 주 | E37: =단가산출근거!C2154 -> 41811 | F37: =단가산출근거!D2154 -> 24542 | G37: =단가산출근거!E2154 -> 14722 | H37: =단가산출근거!F2154 -> 2547 | I37: 공통4-3-4 | J37: ="_x0007_`COD|D01315_x0005_`QTY1|1_x0005_`BQC|공통4-3-4_x0005_`EQC|_x0005_`JDC|_x0005_`WQC|_x0005_`EDT|_x0005_`ADJ|F_x0005_`DET|"&ROW(단가산출근거!A2105)&"_x0005_`" -> _x0007_`COD|D01315_x0005_`QTY1|1_x0005_`BQC|공통4-3-4_x0005_`EQC|_x0005_`JDC|_x0005_`WQC|_x0005_`EDT|_x0005_`ADJ|F_x0005_`DET|2105_x0005_` | K37: =HYPERLINK("#"&단가산출근거!G2&"!A"&ROW(단가산출근거!A2105),"D01315 →") -> D01315 →
A38: D01317 | B38: 교목 식재(기계) | C38: 수고 3.0m 이하 | D38: 주 | E38: =단가산출근거!C2204 -> 66405 | F38: =단가산출근거!D2204 -> 44994 | G38: =단가산출근거!E2204 -> 16741 | H38: =단가산출근거!F2204 -> 4670 | I38: 공통4-3-4 | J38: ="_x0007_`COD|D01317_x0005_`QTY1|1_x0005_`BQC|공통4-3-4_x0005_`EQC|_x0005_`JDC|_x0005_`WQC|_x0005_`EDT|_x0005_`ADJ|F_x0005_`DET|"&ROW(단가산출근거!A2155)&"_x0005_`" -> _x0007_`COD|D01317_x0005_`QTY1|1_x0005_`BQC|공통4-3-4_x0005_`EQC|_x0005_`JDC|_x0005_`WQC|_x0005_`EDT|_x0005_`ADJ|F_x0005_`DET|2155_x0005_` | K38: =HYPERLINK("#"&단가산출근거!G2&"!A"&ROW(단가산출근거!A2155),"D01317 →") -> D01317 →
A39: D01319 | B39: 교목 식재(기계) | C39: 수고 5.0m 이하 | D39: 주 | E39: =단가산출근거!C2304 -> 109559 | F39: =단가산출근거!D2304 -> 67492 | G39: =단가산출근거!E2304 -> 35062 | H39: =단가산출근거!F2304 -> 7005 | I39: 공통4-3-4 | J39: ="_x0007_`COD|D01319_x0005_`QTY1|1_x0005_`BQC|공통4-3-4_x0005_`EQC|_x0005_`JDC|_x0005_`WQC|_x0005_`EDT|_x0005_`ADJ|F_x0005_`DET|"&ROW(단가산출근거!A2205)&"_x0005_`" -> _x0007_`COD|D01319_x0005_`QTY1|1_x0005_`BQC|공통4-3-4_x0005_`EQC|_x0005_`JDC|_x0005_`WQC|_x0005_`EDT|_x0005_`ADJ|F_x0005_`DET|2205_x0005_` | K39: =HYPERLINK("#"&단가산출근거!G2&"!A"&ROW(단가산출근거!A2205),"D01319 →") -> D01319 →
A40: D01304 | B40: 교목 식재(인력) | C40: B5(R6) 이하 | D40: 주 | E40: =단가산출근거!C2354 -> 55131 | F40: =단가산출근거!D2354 -> 42831 | G40: =단가산출근거!E2354 -> 12300 | H40: =단가산출근거!F2354 -> 0 | I40: 공통4-3-5 | J40: ="_x0007_`COD|D01304_x0005_`QTY1|1_x0005_`BQC|공통4-3-5_x0005_`EQC|_x0005_`JDC|_x0005_`WQC|_x0005_`EDT|_x0005_`ADJ|F_x0005_`DET|"&ROW(단가산출근거!A2305)&"_x0005_`" -> _x0007_`COD|D01304_x0005_`QTY1|1_x0005_`BQC|공통4-3-5_x0005_`EQC|_x0005_`JDC|_x0005_`WQC|_x0005_`EDT|_x0005_`ADJ|F_x0005_`DET|2305_x0005_` | K40: =HYPERLINK("#"&단가산출근거!G2&"!A"&ROW(단가산출근거!A2305),"D01304 →") -> D01304 →
A41: D01306 | B41: 교목 식재(인력) | C41: B6~7 (R7~8) | D41: 주 | E41: =단가산출근거!C2404 -> 101663 | F41: =단가산출근거!D2404 -> 85663 | G41: =단가산출근거!E2404 -> 16000 | H41: =단가산출근거!F2404 -> 0 | I41: 공통4-3-5 | J41: ="_x0007_`COD|D01306_x0005_`QTY1|1_x0005_`BQC|공통4-3-5_x0005_`EQC|_x0005_`JDC|_x0005_`WQC|_x0005_`EDT|_x0005_`ADJ|F_x0005_`DET|"&ROW(단가산출근거!A2355)&"_x0005_`" -> _x0007_`COD|D01306_x0005_`QTY1|1_x0005_`BQC|공통4-3-5_x0005_`EQC|_x0005_`JDC|_x0005_`WQC|_x0005_`EDT|_x0005_`ADJ|F_x0005_`DET|2355_x0005_` | K41: =HYPERLINK("#"&단가산출근거!G2&"!A"&ROW(단가산출근거!A2355),"D01306 →") -> D01306 →
A42: D01314 | B42: 교목 식재(인력) | C42: 수고 2.0m 이하 | D42: 주 | E42: =단가산출근거!C2454 -> 41923 | F42: =단가산출근거!D2454 -> 32123 | G42: =단가산출근거!E2454 -> 9800 | H42: =단가산출근거!F2454 -> 0 | I42: 공통4-3-4 | J42: ="_x0007_`COD|D01314_x0005_`QTY1|1_x0005_`BQC|공통4-3-4_x0005_`EQC|_x0005_`JDC|_x0005_`WQC|_x0005_`EDT|_x0005_`ADJ|F_x0005_`DET|"&ROW(단가산출근거!A2405)&"_x0005_`" -> _x0007_`COD|D01314_x0005_`QTY1|1_x0005_`BQC|공통4-3-4_x0005_`EQC|_x0005_`JDC|_x0005_`WQC|_x0005_`EDT|_x0005_`ADJ|F_x0005_`DET|2405_x0005_` | K42: =HYPERLINK("#"&단가산출근거!G2&"!A"&ROW(단가산출근거!A2405),"D01314 →") -> D01314 →
A43: D01316 | B43: 교목 식재(인력) | C43: 수고 3.0m 이하 | D43: 주 | E43: =단가산출근거!C2504 -> 76547 | F43: =단가산출근거!D2504 -> 64247 | G43: =단가산출근거!E2504 -> 12300 | H43: =단가산출근거!F2504 -> 0 | I43: 공통4-3-4 | J43: ="_x0007_`COD|D01316_x0005_`QTY1|1_x0005_`BQC|공통4-3-4_x0005_`EQC|_x0005_`JDC|_x0005_`WQC|_x0005_`EDT|_x0005_`ADJ|F_x0005_`DET|"&ROW(단가산출근거!A2455)&"_x0005_`" -> _x0007_`COD|D01316_x0005_`QTY1|1_x0005_`BQC|공통4-3-4_x0005_`EQC|_x0005_`JDC|_x0005_`WQC|_x0005_`EDT|_x0005_`ADJ|F_x0005_`DET|2455_x0005_` | K43: =HYPERLINK("#"&단가산출근거!G2&"!A"&ROW(단가산출근거!A2455),"D01316 →") -> D01316 →
A44: D01318 | B44: 교목 식재(인력) | C44: 수고 5.0m 이하 | D44: 주 | E44: =단가산출근거!C2554 -> 135479 | F44: =단가산출근거!D2554 -> 107079 | G44: =단가산출근거!E2554 -> 28400 | H44: =단가산출근거!F2554 -> 0 | I44: 공통4-3-4 | J44: ="_x0007_`COD|D01318_x0005_`QTY1|1_x0005_`BQC|공통4-3-4_x0005_`EQC|_x0005_`JDC|_x0005_`WQC|_x0005_`EDT|_x0005_`ADJ|F_x0005_`DET|"&ROW(단가산출근거!A2505)&"_x0005_`" -> _x0007_`COD|D01318_x0005_`QTY1|1_x0005_`BQC|공통4-3-4_x0005_`EQC|_x0005_`JDC|_x0005_`WQC|_x0005_`EDT|_x0005_`ADJ|F_x0005_`DET|2505_x0005_` | K44: =HYPERLINK("#"&단가산출근거!G2&"!A"&ROW(단가산출근거!A2505),"D01318 →") -> D01318 →
A45: D01346 | B45: 교목 식재(인력, 산지할증A) | C45: B5(R6) 이하 | D45: 주 | E45: =단가산출근거!C2604 -> 61556 | F45: =단가산출근거!D2604 -> 49256 | G45: =단가산출근거!E2604 -> 12300 | H45: =단가산출근거!F2604 -> 0 | I45: 공통4-3-5 | J45: ="_x0007_`COD|D01346_x0005_`QTY1|1_x0005_`BQC|공통4-3-5_x0005_`EQC|_x0005_`JDC|_x0005_`WQC|_x0005_`EDT|_x0005_`ADJ|F_x0005_`DET|"&ROW(단가산출근거!A2555)&"_x0005_`" -> _x0007_`COD|D01346_x0005_`QTY1|1_x0005_`BQC|공통4-3-5_x0005_`EQC|_x0005_`JDC|_x0005_`WQC|_x0005_`EDT|_x0005_`ADJ|F_x0005_`DET|2555_x0005_` | K45: =HYPERLINK("#"&단가산출근거!G2&"!A"&ROW(단가산출근거!A2555),"D01346 →") -> D01346 →
A46: D01347 | B46: 교목 식재(인력, 산지할증A) | C46: B6~7 (R7~8) | D46: 주 | E46: =단가산출근거!C2654 -> 114512 | F46: =단가산출근거!D2654 -> 98512 | G46: =단가산출근거!E2654 -> 16000 | H46: =단가산출근거!F2654 -> 0 | I46: 공통4-3-5 | J46: ="_x0007_`COD|D01347_x0005_`QTY1|1_x0005_`BQC|공통4-3-5_x0005_`EQC|_x0005_`JDC|_x0005_`WQC|_x0005_`EDT|_x0005_`ADJ|F_x0005_`DET|"&ROW(단가산출근거!A2605)&"_x0005_`" -> _x0007_`COD|D01347_x0005_`QTY1|1_x0005_`BQC|공통4-3-5_x0005_`EQC|_x0005_`JDC|_x0005_`WQC|_x0005_`EDT|_x0005_`ADJ|F_x0005_`DET|2605_x0005_` | K46: =HYPERLINK("#"&단가산출근거!G2&"!A"&ROW(단가산출근거!A2605),"D01347 →") -> D01347 →
A47: D01348 | B47: 교목 식재(인력, 산지할증A) | C47: 수고 2.0m 이하 | D47: 주 | E47: =단가산출근거!C2704 -> 46742 | F47: =단가산출근거!D2704 -> 36942 | G47: =단가산출근거!E2704 -> 9800 | H47: =단가산출근거!F2704 -> 0 | I47: 공통4-3-4 | J47: ="_x0007_`COD|D01348_x0005_`QTY1|1_x0005_`BQC|공통4-3-4_x0005_`EQC|_x0005_`JDC|_x0005_`WQC|_x0005_`EDT|_x0005_`ADJ|F_x0005_`DET|"&ROW(단가산출근거!A2655)&"_x0005_`" -> _x0007_`COD|D01348_x0005_`QTY1|1_x0005_`BQC|공통4-3-4_x0005_`EQC|_x0005_`JDC|_x0005_`WQC|_x0005_`EDT|_x0005_`ADJ|F_x0005_`DET|2655_x0005_` | K47: =HYPERLINK("#"&단가산출근거!G2&"!A"&ROW(단가산출근거!A2655),"D01348 →") -> D01348 →
A48: D01349 | B48: 교목 식재(인력, 산지할증A) | C48: 수고 3.0m 이하 | D48: 주 | E48: =단가산출근거!C2754 -> 86184 | F48: =단가산출근거!D2754 -> 73884 | G48: =단가산출근거!E2754 -> 12300 | H48: =단가산출근거!F2754 -> 0 | I48: 공통4-3-4 | J48: ="_x0007_`COD|D01349_x0005_`QTY1|1_x0005_`BQC|공통4-3-4_x0005_`EQC|_x0005_`JDC|_x0005_`WQC|_x0005_`EDT|_x0005_`ADJ|F_x0005_`DET|"&ROW(단가산출근거!A2705)&"_x0005_`" -> _x0007_`COD|D01349_x0005_`QTY1|1_x0005_`BQC|공통4-3-4_x0005_`EQC|_x0005_`JDC|_x0005_`WQC|_x0005_`EDT|_x0005_`ADJ|F_x0005_`DET|2705_x0005_` | K48: =HYPERLINK("#"&단가산출근거!G2&"!A"&ROW(단가산출근거!A2705),"D01349 →") -> D01349 →
A49: D01350 | B49: 교목 식재(인력, 산지할증A) | C49: 수고 5.0m 이하 | D49: 주 | E49: =단가산출근거!C2804 -> 151541 | F49: =단가산출근거!D2804 -> 123141 | G49: =단가산출근거!E2804 -> 28400 | H49: =단가산출근거!F2804 -> 0 | I49: 공통4-3-4 | J49: ="_x0007_`COD|D01350_x0005_`QTY1|1_x0005_`BQC|공통4-3-4_x0005_`EQC|_x0005_`JDC|_x0005_`WQC|_x0005_`EDT|_x0005_`ADJ|F_x0005_`DET|"&ROW(단가산출근거!A2755)&"_x0005_`" -> _x0007_`COD|D01350_x0005_`QTY1|1_x0005_`BQC|공통4-3-4_x0005_`EQC|_x0005_`JDC|_x0005_`WQC|_x0005_`EDT|_x0005_`ADJ|F_x0005_`DET|2755_x0005_` | K49: =HYPERLINK("#"&단가산출근거!G2&"!A"&ROW(단가산출근거!A2755),"D01350 →") -> D01350 →
A50: D01320 | B50: 교목 식재(인력, 산지할증B) | C50: B5(R6) 이하 | D50: 주 | E50: =단가산출근거!C2854 -> 65839 | F50: =단가산출근거!D2854 -> 53539 | G50: =단가산출근거!E2854 -> 12300 | H50: =단가산출근거!F2854 -> 0 | I50: 공통4-3-5 | J50: ="_x0007_`COD|D01320_x0005_`QTY1|1_x0005_`BQC|공통4-3-5_x0005_`EQC|_x0005_`JDC|_x0005_`WQC|_x0005_`EDT|_x0005_`ADJ|F_x0005_`DET|"&ROW(단가산출근거!A2805)&"_x0005_`" -> _x0007_`COD|D01320_x0005_`QTY1|1_x0005_`BQC|공통4-3-5_x0005_`EQC|_x0005_`JDC|_x0005_`WQC|_x0005_`EDT|_x0005_`ADJ|F_x0005_`DET|2805_x0005_` | K50: =HYPERLINK("#"&단가산출근거!G2&"!A"&ROW(단가산출근거!A2805),"D01320 →") -> D01320 →
A51: D01321 | B51: 교목 식재(인력, 산지할증B) | C51: B6~7 (R7~8) | D51: 주 | E51: =단가산출근거!C2904 -> 123079 | F51: =단가산출근거!D2904 -> 107079 | G51: =단가산출근거!E2904 -> 16000 | H51: =단가산출근거!F2904 -> 0 | I51: 공통4-3-5 | J51: ="_x0007_`COD|D01321_x0005_`QTY1|1_x0005_`BQC|공통4-3-5_x0005_`EQC|_x0005_`JDC|_x0005_`WQC|_x0005_`EDT|_x0005_`ADJ|F_x0005_`DET|"&ROW(단가산출근거!A2855)&"_x0005_`" -> _x0007_`COD|D01321_x0005_`QTY1|1_x0005_`BQC|공통4-3-5_x0005_`EQC|_x0005_`JDC|_x0005_`WQC|_x0005_`EDT|_x0005_`ADJ|F_x0005_`DET|2855_x0005_` | K51: =HYPERLINK("#"&단가산출근거!G2&"!A"&ROW(단가산출근거!A2855),"D01321 →") -> D01321 →
A52: D01322 | B52: 교목 식재(인력, 산지할증B) | C52: 수고 2.0m 이하 | D52: 주 | E52: =단가산출근거!C2954 -> 49954 | F52: =단가산출근거!D2954 -> 40154 | G52: =단가산출근거!E2954 -> 9800 | H52: =단가산출근거!F2954 -> 0 | I52: 공통4-3-4 | J52: ="_x0007_`COD|D01322_x0005_`QTY1|1_x0005_`BQC|공통4-3-4_x0005_`EQC|_x0005_`JDC|_x0005_`WQC|_x0005_`EDT|_x0005_`ADJ|F_x0005_`DET|"&ROW(단가산출근거!A2905)&"_x0005_`" -> _x0007_`COD|D01322_x0005_`QTY1|1_x0005_`BQC|공통4-3-4_x0005_`EQC|_x0005_`JDC|_x0005_`WQC|_x0005_`EDT|_x0005_`ADJ|F_x0005_`DET|2905_x0005_` | K52: =HYPERLINK("#"&단가산출근거!G2&"!A"&ROW(단가산출근거!A2905),"D01322 →") -> D01322 →
A53: D01323 | B53: 교목 식재(인력, 산지할증B) | C53: 수고 3.0m 이하 | D53: 주 | E53: =단가산출근거!C3004 -> 92609 | F53: =단가산출근거!D3004 -> 80309 | G53: =단가산출근거!E3004 -> 12300 | H53: =단가산출근거!F3004 -> 0 | I53: 공통4-3-4 | J53: ="_x0007_`COD|D01323_x0005_`QTY1|1_x0005_`BQC|공통4-3-4_x0005_`EQC|_x0005_`JDC|_x0005_`WQC|_x0005_`EDT|_x0005_`ADJ|F_x0005_`DET|"&ROW(단가산출근거!A2955)&"_x0005_`" -> _x0007_`COD|D01323_x0005_`QTY1|1_x0005_`BQC|공통4-3-4_x0005_`EQC|_x0005_`JDC|_x0005_`WQC|_x0005_`EDT|_x0005_`ADJ|F_x0005_`DET|2955_x0005_` | K53: =HYPERLINK("#"&단가산출근거!G2&"!A"&ROW(단가산출근거!A2955),"D01323 →") -> D01323 →
A54: D01324 | B54: 교목 식재(인력, 산지할증B) | C54: 수고 5.0m 이하 | D54: 주 | E54: =단가산출근거!C3054 -> 162249 | F54: =단가산출근거!D3054 -> 133849 | G54: =단가산출근거!E3054 -> 28400 | H54: =단가산출근거!F3054 -> 0 | I54: 공통4-3-4 | J54: ="_x0007_`COD|D01324_x0005_`QTY1|1_x0005_`BQC|공통4-3-4_x0005_`EQC|_x0005_`JDC|_x0005_`WQC|_x0005_`EDT|_x0005_`ADJ|F_x0005_`DET|"&ROW(단가산출근거!A3005)&"_x0005_`" -> _x0007_`COD|D01324_x0005_`QTY1|1_x0005_`BQC|공통4-3-4_x0005_`EQC|_x0005_`JDC|_x0005_`WQC|_x0005_`EDT|_x0005_`ADJ|F_x0005_`DET|3005_x0005_` | K54: =HYPERLINK("#"&단가산출근거!G2&"!A"&ROW(단가산출근거!A3005),"D01324 →") -> D01324 →
A55: D00784 | B55: 구조물되메우기 및 다짐 | C55: 굴삭기0.7㎥90%+인력10% | D55: ㎥ | E55: =단가산출근거!C3154 -> 12430 | F55: =단가산출근거!D3154 -> 11169 | G55: =단가산출근거!E3154 -> 725 | H55: =단가산출근거!F3154 -> 536 | I55: 산림8-13 | J55: ="_x0007_`COD|D00784_x0005_`QTY1|1_x0005_`BQC|산림8-13_x0005_`EQC|_x0005_`JDC|_x0005_`WQC|_x0005_`EDT|_x0005_`ADJ|F_x0005_`DET|"&ROW(단가산출근거!A3055)&"_x0005_`" -> _x0007_`COD|D00784_x0005_`QTY1|1_x0005_`BQC|산림8-13_x0005_`EQC|_x0005_`JDC|_x0005_`WQC|_x0005_`EDT|_x0005_`ADJ|F_x0005_`DET|3055_x0005_` | K55: =HYPERLINK("#"&단가산출근거!G2&"!A"&ROW(단가산출근거!A3055),"D00784 →") -> D00784 →
A56: D00787 | B56: 구조물잔토처리 | C56: 굴삭기0.7㎥ | D56: ㎥ | E56: =단가산출근거!C3204 -> 1814 | F56: =단가산출근거!D3204 -> 1039 | G56: =단가산출근거!E3204 -> 343 | H56: =단가산출근거!F3204 -> 432 | J56: ="_x0007_`COD|D00787_x0005_`QTY1|1_x0005_`BQC|_x0005_`EQC|_x0005_`JDC|_x0005_`WQC|_x0005_`EDT|_x0005_`ADJ|F_x0005_`DET|"&ROW(단가산출근거!A3155)&"_x0005_`" -> _x0007_`COD|D00787_x0005_`QTY1|1_x0005_`BQC|_x0005_`EQC|_x0005_`JDC|_x0005_`WQC|_x0005_`EDT|_x0005_`ADJ|F_x0005_`DET|3155_x0005_` | K56: =HYPERLINK("#"&단가산출근거!G2&"!A"&ROW(단가산출근거!A3155),"D00787 →") -> D00787 →
A57: D01302 | B57: 구조물터파기(토사) | C57: Type-3(굴삭기0.6㎥) | D57: ㎥ | E57: =단가산출근거!C3254 -> 5311 | F57: =단가산출근거!D3254 -> 3147 | G57: =단가산출근거!E3254 -> 915 | H57: =단가산출근거!F3254 -> 1249 | I57: 공통3-2-4 | J57: ="_x0007_`COD|D01302_x0005_`QTY1|1_x0005_`BQC|공통3-2-4_x0005_`EQC|_x0005_`JDC|_x0005_`WQC|_x0005_`EDT|_x0005_`ADJ|F_x0005_`DET|"&ROW(단가산출근거!A3205)&"_x0005_`" -> _x0007_`COD|D01302_x0005_`QTY1|1_x0005_`BQC|공통3-2-4_x0005_`EQC|_x0005_`JDC|_x0005_`WQC|_x0005_`EDT|_x0005_`ADJ|F_x0005_`DET|3205_x0005_` | K57: =HYPERLINK("#"&단가산출근거!G2&"!A"&ROW(단가산출근거!A3205),"D01302 →") -> D01302 →
A58: D00783 | B58: 구조물터파기(토사) | C58: 굴삭기0.7㎥90%+인력10% | D58: ㎥ | E58: =단가산출근거!C3304 -> 6415 | F58: =단가산출근거!D3304 -> 5659 | G58: =단가산출근거!E3304 -> 335 | H58: =단가산출근거!F3304 -> 421 | I58: 산림8-12 | J58: ="_x0007_`COD|D00783_x0005_`QTY1|1_x0005_`BQC|산림8-12_x0005_`EQC|_x0005_`JDC|_x0005_`WQC|_x0005_`EDT|_x0005_`ADJ|F_x0005_`DET|"&ROW(단가산출근거!A3255)&"_x0005_`" -> _x0007_`COD|D00783_x0005_`QTY1|1_x0005_`BQC|산림8-12_x0005_`EQC|_x0005_`JDC|_x0005_`WQC|_x0005_`EDT|_x0005_`ADJ|F_x0005_`DET|3255_x0005_` | K58: =HYPERLINK("#"&단가산출근거!G2&"!A"&ROW(단가산출근거!A3255),"D00783 →") -> D00783 →
A59: D01272 | B59: 구조물터파기(토사) | C59: 굴삭기0.7㎥90%+인력10%, 관부설 | D59: ㎥ | E59: =단가산출근거!C3354 -> 7809 | F59: =단가산출근거!D3354 -> 7053 | G59: =단가산출근거!E3354 -> 335 | H59: =단가산출근거!F3354 -> 421 | I59: 산림8-12 | J59: ="_x0007_`COD|D01272_x0005_`QTY1|1_x0005_`BQC|산림8-12_x0005_`EQC|_x0005_`JDC|_x0005_`WQC|_x0005_`EDT|_x0005_`ADJ|F_x0005_`DET|"&ROW(단가산출근거!A3305)&"_x0005_`" -> _x0007_`COD|D01272_x0005_`QTY1|1_x0005_`BQC|산림8-12_x0005_`EQC|_x0005_`JDC|_x0005_`WQC|_x0005_`EDT|_x0005_`ADJ|F_x0005_`DET|3305_x0005_` | K59: =HYPERLINK("#"&단가산출근거!G2&"!A"&ROW(단가산출근거!A3305),"D01272 →") -> D01272 →
A60: D01264 | B60: 데크 상판 설치 | C60: 카스(90*21T) | D60: ㎡ | E60: =단가산출근거!C3404 -> 65145 | F60: =단가산출근거!D3404 -> 55832 | G60: =단가산출근거!E3404 -> 8197 | H60: =단가산출근거!F3404 -> 1116 | J60: ="_x0007_`COD|D01264_x0005_`QTY1|1_x0005_`BQC|_x0005_`EQC|_x0005_`JDC|_x0005_`WQC|_x0005_`EDT|_x0005_`ADJ|F_x0005_`DET|"&ROW(단가산출근거!A3355)&"_x0005_`" -> _x0007_`COD|D01264_x0005_`QTY1|1_x0005_`BQC|_x0005_`EQC|_x0005_`JDC|_x0005_`WQC|_x0005_`EDT|_x0005_`ADJ|F_x0005_`DET|3355_x0005_` | K60: =HYPERLINK("#"&단가산출근거!G2&"!A"&ROW(단가산출근거!A3355),"D01264 →") -> D01264 →
A61: D01303 | B61: 되메우기 | C61: 굴삭기0.6㎥90%+인력10% | D61: ㎥ | E61: =단가산출근거!C3454 -> 3113 | F61: =단가산출근거!D3454 -> 2546 | G61: =단가산출근거!E3454 -> 240 | H61: =단가산출근거!F3454 -> 327 | J61: ="_x0007_`COD|D01303_x0005_`QTY1|1_x0005_`BQC|_x0005_`EQC|_x0005_`JDC|_x0005_`WQC|_x0005_`EDT|_x0005_`ADJ|F_x0005_`DET|"&ROW(단가산출근거!A3405)&"_x0005_`" -> _x0007_`COD|D01303_x0005_`QTY1|1_x0005_`BQC|_x0005_`EQC|_x0005_`JDC|_x0005_`WQC|_x0005_`EDT|_x0005_`ADJ|F_x0005_`DET|3405_x0005_` | K61: =HYPERLINK("#"&단가산출근거!G2&"!A"&ROW(단가산출근거!A3405),"D01303 →") -> D01303 →
A62: D01212 | B62: 등산로 주변정리 | C62: 가지정리, 1종 | D62: ㎡ | E62: =단가산출근거!C3504 -> 722 | F62: =단가산출근거!D3504 -> 722 | G62: =단가산출근거!E3504 -> 0 | H62: =단가산출근거!F3504 -> 0 | I62: 산림3-8 | J62: ="_x0007_`COD|D01212_x0005_`QTY1|1_x0005_`BQC|산림3-8_x0005_`EQC|_x0005_`JDC|_x0005_`WQC|_x0005_`EDT|_x0005_`ADJ|F_x0005_`DET|"&ROW(단가산출근거!A3455)&"_x0005_`" -> _x0007_`COD|D01212_x0005_`QTY1|1_x0005_`BQC|산림3-8_x0005_`EQC|_x0005_`JDC|_x0005_`WQC|_x0005_`EDT|_x0005_`ADJ|F_x0005_`DET|3455_x0005_` | K62: =HYPERLINK("#"&단가산출근거!G2&"!A"&ROW(단가산출근거!A3455),"D01212 →") -> D01212 →
A63: D01215 | B63: 보행매트 철거 | C63: W1.5m 이하, 설치품의 30% | D63: ㎡ | E63: =단가산출근거!C3554 -> 2141 | F63: =단가산출근거!D3554 -> 2141 | G63: =단가산출근거!E3554 -> 0 | H63: =단가산출근거!F3554 -> 0 | I63: 공통4-4-4 | J63: ="_x0007_`COD|D01215_x0005_`QTY1|1_x0005_`BQC|공통4-4-4_x0005_`EQC|_x0005_`JDC|_x0005_`WQC|_x0005_`EDT|_x0005_`ADJ|F_x0005_`DET|"&ROW(단가산출근거!A3505)&"_x0005_`" -> _x0007_`COD|D01215_x0005_`QTY1|1_x0005_`BQC|공통4-4-4_x0005_`EQC|_x0005_`JDC|_x0005_`WQC|_x0005_`EDT|_x0005_`ADJ|F_x0005_`DET|3505_x0005_` | K63: =HYPERLINK("#"&단가산출근거!G2&"!A"&ROW(단가산출근거!A3505),"D01215 →") -> D01215 →
A64: D01214 | B64: 보행매트 철거 | C64: W2.0m 이하, 설치품의 30% | D64: ㎡ | E64: =단가산출근거!C3604 -> 1482 | F64: =단가산출근거!D3604 -> 1482 | G64: =단가산출근거!E3604 -> 0 | H64: =단가산출근거!F3604 -> 0 | I64: 공통4-4-4 | J64: ="_x0007_`COD|D01214_x0005_`QTY1|1_x0005_`BQC|공통4-4-4_x0005_`EQC|_x0005_`JDC|_x0005_`WQC|_x0005_`EDT|_x0005_`ADJ|F_x0005_`DET|"&ROW(단가산출근거!A3555)&"_x0005_`" -> _x0007_`COD|D01214_x0005_`QTY1|1_x0005_`BQC|공통4-4-4_x0005_`EQC|_x0005_`JDC|_x0005_`WQC|_x0005_`EDT|_x0005_`ADJ|F_x0005_`DET|3555_x0005_` | K64: =HYPERLINK("#"&단가산출근거!G2&"!A"&ROW(단가산출근거!A3555),"D01214 →") -> D01214 →
A65: D01274 | B65: 성토면 고르기 | C65: 굴착기 1.0㎥ | D65: ㎡ | E65: =단가산출근거!C3654 -> 915 | F65: =단가산출근거!D3654 -> 445 | G65: =단가산출근거!E3654 -> 247 | H65: =단가산출근거!F3654 -> 223 | I65: 공통3-6-1 | J65: ="_x0007_`COD|D01274_x0005_`QTY1|1_x0005_`BQC|공통3-6-1_x0005_`EQC|_x0005_`JDC|_x0005_`WQC|_x0005_`EDT|_x0005_`ADJ|F_x0005_`DET|"&ROW(단가산출근거!A3605)&"_x0005_`" -> _x0007_`COD|D01274_x0005_`QTY1|1_x0005_`BQC|공통3-6-1_x0005_`EQC|_x0005_`JDC|_x0005_`WQC|_x0005_`EDT|_x0005_`ADJ|F_x0005_`DET|3605_x0005_` | K65: =HYPERLINK("#"&단가산출근거!G2&"!A"&ROW(단가산출근거!A3605),"D01274 →") -> D01274 →
A66: D01298 | B66: 식생매트설치 | D66: ㎡ | E66: =단가산출근거!C3754 -> 7628 | F66: =단가산출근거!D3754 -> 6371 | G66: =단가산출근거!E3754 -> 531 | H66: =단가산출근거!F3754 -> 726 | I66: 공통4-1-4 | J66: ="_x0007_`COD|D01298_x0005_`QTY1|1_x0005_`BQC|공통4-1-4_x0005_`EQC|_x0005_`JDC|_x0005_`WQC|_x0005_`EDT|_x0005_`ADJ|F_x0005_`DET|"&ROW(단가산출근거!A3655)&"_x0005_`" -> _x0007_`COD|D01298_x0005_`QTY1|1_x0005_`BQC|공통4-1-4_x0005_`EQC|_x0005_`JDC|_x0005_`WQC|_x0005_`EDT|_x0005_`ADJ|F_x0005_`DET|3655_x0005_` | K66: =HYPERLINK("#"&단가산출근거!G2&"!A"&ROW(단가산출근거!A3655),"D01298 →") -> D01298 →
A67: D01055 | B67: 식생토낭설치 | C67: 80cm*40cm*20cm | D67: 개 | E67: =단가산출근거!C3804 -> 16277 | F67: =단가산출근거!D3804 -> 16277 | G67: =단가산출근거!E3804 -> 0 | H67: =단가산출근거!F3804 -> 0 | I67: 산림12-18 | J67: ="_x0007_`COD|D01055_x0005_`QTY1|1_x0005_`BQC|산림12-18_x0005_`EQC|_x0005_`JDC|_x0005_`WQC|_x0005_`EDT|_x0005_`ADJ|F_x0005_`DET|"&ROW(단가산출근거!A3755)&"_x0005_`" -> _x0007_`COD|D01055_x0005_`QTY1|1_x0005_`BQC|산림12-18_x0005_`EQC|_x0005_`JDC|_x0005_`WQC|_x0005_`EDT|_x0005_`ADJ|F_x0005_`DET|3755_x0005_` | K67: =HYPERLINK("#"&단가산출근거!G2&"!A"&ROW(단가산출근거!A3755),"D01055 →") -> D01055 →
A68: D01226 | B68: 안전로프 로프교체 | C68: 인력 | D68: m | E68: =단가산출근거!C3854 -> 7054 | F68: =단가산출근거!D3854 -> 7054 | G68: =단가산출근거!E3854 -> 0 | H68: =단가산출근거!F3854 -> 0 | I68: 2024 | J68: ="_x0007_`COD|D01226_x0005_`QTY1|1_x0005_`BQC|2024_x0005_`EQC|_x0005_`JDC|_x0005_`WQC|_x0005_`EDT|_x0005_`ADJ|F_x0005_`DET|"&ROW(단가산출근거!A3805)&"_x0005_`" -> _x0007_`COD|D01226_x0005_`QTY1|1_x0005_`BQC|2024_x0005_`EQC|_x0005_`JDC|_x0005_`WQC|_x0005_`EDT|_x0005_`ADJ|F_x0005_`DET|3805_x0005_` | K68: =HYPERLINK("#"&단가산출근거!G2&"!A"&ROW(단가산출근거!A3805),"D01226 →") -> D01226 →
A69: D01225 | B69: 안전로프기둥 재설치 | C69: 인력 | D69: 개소 | E69: =단가산출근거!C3904 -> 14281 | F69: =단가산출근거!D3904 -> 14281 | G69: =단가산출근거!E3904 -> 0 | H69: =단가산출근거!F3904 -> 0 | I69: * | J69: ="_x0007_`COD|D01225_x0005_`QTY1|1_x0005_`BQC|*_x0005_`EQC|_x0005_`JDC|_x0005_`WQC|_x0005_`EDT|_x0005_`ADJ|F_x0005_`DET|"&ROW(단가산출근거!A3855)&"_x0005_`" -> _x0007_`COD|D01225_x0005_`QTY1|1_x0005_`BQC|*_x0005_`EQC|_x0005_`JDC|_x0005_`WQC|_x0005_`EDT|_x0005_`ADJ|F_x0005_`DET|3855_x0005_` | K69: =HYPERLINK("#"&단가산출근거!G2&"!A"&ROW(단가산출근거!A3855),"D01225 →") -> D01225 →
A70: D01136 | B70: 야자섬유 매트 포장 | C70: W1.5m 이하 | D70: ㎡ | E70: =단가산출근거!C3954 -> 7138 | F70: =단가산출근거!D3954 -> 7138 | G70: =단가산출근거!E3954 -> 0 | H70: =단가산출근거!F3954 -> 0 | I70: 공통4-4-4 | J70: ="_x0007_`COD|D01136_x0005_`QTY1|1_x0005_`BQC|공통4-4-4_x0005_`EQC|_x0005_`JDC|_x0005_`WQC|_x0005_`EDT|_x0005_`ADJ|F_x0005_`DET|"&ROW(단가산출근거!A3905)&"_x0005_`" -> _x0007_`COD|D01136_x0005_`QTY1|1_x0005_`BQC|공통4-4-4_x0005_`EQC|_x0005_`JDC|_x0005_`WQC|_x0005_`EDT|_x0005_`ADJ|F_x0005_`DET|3905_x0005_` | K70: =HYPERLINK("#"&단가산출근거!G2&"!A"&ROW(단가산출근거!A3905),"D01136 →") -> D01136 →
A71: D01213 | B71: 야자섬유 매트 포장 | C71: W2.0m 이하 | D71: ㎡ | E71: =단가산출근거!C4004 -> 4942 | F71: =단가산출근거!D4004 -> 4942 | G71: =단가산출근거!E4004 -> 0 | H71: =단가산출근거!F4004 -> 0 | J71: ="_x0007_`COD|D01213_x0005_`QTY1|1_x0005_`BQC|_x0005_`EQC|_x0005_`JDC|_x0005_`WQC|_x0005_`EDT|_x0005_`ADJ|F_x0005_`DET|"&ROW(단가산출근거!A3955)&"_x0005_`" -> _x0007_`COD|D01213_x0005_`QTY1|1_x0005_`BQC|_x0005_`EQC|_x0005_`JDC|_x0005_`WQC|_x0005_`EDT|_x0005_`ADJ|F_x0005_`DET|3955_x0005_` | K71: =HYPERLINK("#"&단가산출근거!G2&"!A"&ROW(단가산출근거!A3955),"D01213 →") -> D01213 →
A72: D01238 | B72: 예초 | C72: 연 1회 | D72: ㎡ | E72: =단가산출근거!C4054 -> 514 | F72: =단가산출근거!D4054 -> 485 | G72: =단가산출근거!E4054 -> 0 | H72: =단가산출근거!F4054 -> 29 | J72: ="_x0007_`COD|D01238_x0005_`QTY1|1_x0005_`BQC|_x0005_`EQC|_x0005_`JDC|_x0005_`WQC|_x0005_`EDT|_x0005_`ADJ|F_x0005_`DET|"&ROW(단가산출근거!A4005)&"_x0005_`" -> _x0007_`COD|D01238_x0005_`QTY1|1_x0005_`BQC|_x0005_`EQC|_x0005_`JDC|_x0005_`WQC|_x0005_`EDT|_x0005_`ADJ|F_x0005_`DET|4005_x0005_` | K72: =HYPERLINK("#"&단가산출근거!G2&"!A"&ROW(단가산출근거!A4005),"D01238 →") -> D01238 →
A73: D01277 | B73: 예초 | C73: 연 2회 | D73: ㎡ | E73: =단가산출근거!C4104 -> 450 | F73: =단가산출근거!D4104 -> 425 | G73: =단가산출근거!E4104 -> 0 | H73: =단가산출근거!F4104 -> 25 | J73: ="_x0007_`COD|D01277_x0005_`QTY1|1_x0005_`BQC|_x0005_`EQC|_x0005_`JDC|_x0005_`WQC|_x0005_`EDT|_x0005_`ADJ|F_x0005_`DET|"&ROW(단가산출근거!A4055)&"_x0005_`" -> _x0007_`COD|D01277_x0005_`QTY1|1_x0005_`BQC|_x0005_`EQC|_x0005_`JDC|_x0005_`WQC|_x0005_`EDT|_x0005_`ADJ|F_x0005_`DET|4055_x0005_` | K73: =HYPERLINK("#"&단가산출근거!G2&"!A"&ROW(단가산출근거!A4055),"D01277 →") -> D01277 →
A74: D01278 | B74: 예초 | C74: 연 3회 | D74: ㎡ | E74: =단가산출근거!C4154 -> 360 | F74: =단가산출근거!D4154 -> 340 | G74: =단가산출근거!E4154 -> 0 | H74: =단가산출근거!F4154 -> 20 | J74: ="_x0007_`COD|D01278_x0005_`QTY1|1_x0005_`BQC|_x0005_`EQC|_x0005_`JDC|_x0005_`WQC|_x0005_`EDT|_x0005_`ADJ|F_x0005_`DET|"&ROW(단가산출근거!A4105)&"_x0005_`" -> _x0007_`COD|D01278_x0005_`QTY1|1_x0005_`BQC|_x0005_`EQC|_x0005_`JDC|_x0005_`WQC|_x0005_`EDT|_x0005_`ADJ|F_x0005_`DET|4105_x0005_` | K74: =HYPERLINK("#"&단가산출근거!G2&"!A"&ROW(단가산출근거!A4105),"D01278 →") -> D01278 →
A75: D01336 | B75: 예초(경사지) | C75: 연 1회 | D75: ㎡ | E75: =단가산출근거!C4204 -> 600 | F75: =단가산출근거!D4204 -> 566 | G75: =단가산출근거!E4204 -> 0 | H75: =단가산출근거!F4204 -> 34 | J75: ="_x0007_`COD|D01336_x0005_`QTY1|1_x0005_`BQC|_x0005_`EQC|_x0005_`JDC|_x0005_`WQC|_x0005_`EDT|_x0005_`ADJ|F_x0005_`DET|"&ROW(단가산출근거!A4155)&"_x0005_`" -> _x0007_`COD|D01336_x0005_`QTY1|1_x0005_`BQC|_x0005_`EQC|_x0005_`JDC|_x0005_`WQC|_x0005_`EDT|_x0005_`ADJ|F_x0005_`DET|4155_x0005_` | K75: =HYPERLINK("#"&단가산출근거!G2&"!A"&ROW(단가산출근거!A4155),"D01336 →") -> D01336 →
A76: D01337 | B76: 예초(경사지) | C76: 연 2회 | D76: ㎡ | E76: =단가산출근거!C4254 -> 514 | F76: =단가산출근거!D4254 -> 485 | G76: =단가산출근거!E4254 -> 0 | H76: =단가산출근거!F4254 -> 29 | J76: ="_x0007_`COD|D01337_x0005_`QTY1|1_x0005_`BQC|_x0005_`EQC|_x0005_`JDC|_x0005_`WQC|_x0005_`EDT|_x0005_`ADJ|F_x0005_`DET|"&ROW(단가산출근거!A4205)&"_x0005_`" -> _x0007_`COD|D01337_x0005_`QTY1|1_x0005_`BQC|_x0005_`EQC|_x0005_`JDC|_x0005_`WQC|_x0005_`EDT|_x0005_`ADJ|F_x0005_`DET|4205_x0005_` | K76: =HYPERLINK("#"&단가산출근거!G2&"!A"&ROW(단가산출근거!A4205),"D01337 →") -> D01337 →
A77: D01338 | B77: 예초(경사지) | C77: 연 3회 | D77: ㎡ | E77: =단가산출근거!C4304 -> 399 | F77: =단가산출근거!D4304 -> 377 | G77: =단가산출근거!E4304 -> 0 | H77: =단가산출근거!F4304 -> 22 | J77: ="_x0007_`COD|D01338_x0005_`QTY1|1_x0005_`BQC|_x0005_`EQC|_x0005_`JDC|_x0005_`WQC|_x0005_`EDT|_x0005_`ADJ|F_x0005_`DET|"&ROW(단가산출근거!A4255)&"_x0005_`" -> _x0007_`COD|D01338_x0005_`QTY1|1_x0005_`BQC|_x0005_`EQC|_x0005_`JDC|_x0005_`WQC|_x0005_`EDT|_x0005_`ADJ|F_x0005_`DET|4255_x0005_` | K77: =HYPERLINK("#"&단가산출근거!G2&"!A"&ROW(단가산출근거!A4255),"D01338 →") -> D01338 →
A78: D01282 | B78: 일반 전정(기계시공) | C78: 낙엽수, B31~41cm미만 | D78: 주 | E78: =단가산출근거!C4354 -> 68897 | F78: =단가산출근거!D4354 -> 57816 | G78: =단가산출근거!E4354 -> 2279 | H78: =단가산출근거!F4354 -> 8802 | I78: 유지1-2-2 | J78: ="_x0007_`COD|D01282_x0005_`QTY1|1_x0005_`BQC|유지1-2-2_x0005_`EQC|_x0005_`JDC|_x0005_`WQC|_x0005_`EDT|_x0005_`ADJ|F_x0005_`DET|"&ROW(단가산출근거!A4305)&"_x0005_`" -> _x0007_`COD|D01282_x0005_`QTY1|1_x0005_`BQC|유지1-2-2_x0005_`EQC|_x0005_`JDC|_x0005_`WQC|_x0005_`EDT|_x0005_`ADJ|F_x0005_`DET|4305_x0005_` | K78: =HYPERLINK("#"&단가산출근거!G2&"!A"&ROW(단가산출근거!A4305),"D01282 →") -> D01282 →
A79: D01283 | B79: 일반 전정(기계시공) | C79: 낙엽수, B41~51cm미만 | D79: 주 | E79: =단가산출근거!C4404 -> 95396 | F79: =단가산출근거!D4404 -> 80053 | G79: =단가산출근거!E4404 -> 3156 | H79: =단가산출근거!F4404 -> 12187 | I79: 유지1-2-2 | J79: ="_x0007_`COD|D01283_x0005_`QTY1|1_x0005_`BQC|유지1-2-2_x0005_`EQC|_x0005_`JDC|_x0005_`WQC|_x0005_`EDT|_x0005_`ADJ|F_x0005_`DET|"&ROW(단가산출근거!A4355)&"_x0005_`" -> _x0007_`COD|D01283_x0005_`QTY1|1_x0005_`BQC|유지1-2-2_x0005_`EQC|_x0005_`JDC|_x0005_`WQC|_x0005_`EDT|_x0005_`ADJ|F_x0005_`DET|4355_x0005_` | K79: =HYPERLINK("#"&단가산출근거!G2&"!A"&ROW(단가산출근거!A4355),"D01283 →") -> D01283 →
A80: D01284 | B80: 일반 전정(기계시공) | C80: 낙엽수, B51~61cm미만 | D80: 주 | E80: =단가산출근거!C4454 -> 155021 | F80: =단가산출근거!D4454 -> 130087 | G80: =단가산출근거!E4454 -> 5129 | H80: =단가산출근거!F4454 -> 19805 | I80: 유지1-2-2 | J80: ="_x0007_`COD|D01284_x0005_`QTY1|1_x0005_`BQC|유지1-2-2_x0005_`EQC|_x0005_`JDC|_x0005_`WQC|_x0005_`EDT|_x0005_`ADJ|F_x0005_`DET|"&ROW(단가산출근거!A4405)&"_x0005_`" -> _x0007_`COD|D01284_x0005_`QTY1|1_x0005_`BQC|유지1-2-2_x0005_`EQC|_x0005_`JDC|_x0005_`WQC|_x0005_`EDT|_x0005_`ADJ|F_x0005_`DET|4405_x0005_` | K80: =HYPERLINK("#"&단가산출근거!G2&"!A"&ROW(단가산출근거!A4405),"D01284 →") -> D01284 →
A81: D01285 | B81: 일반 전정(기계시공) | C81: 낙엽수, B61cm초과 | D81: 주 | E81: =단가산출근거!C4504 -> 206693 | F81: =단가산출근거!D4504 -> 173449 | G81: =단가산출근거!E4504 -> 6838 | H81: =단가산출근거!F4504 -> 26406 | I81: 유지1-2-2 | J81: ="_x0007_`COD|D01285_x0005_`QTY1|1_x0005_`BQC|유지1-2-2_x0005_`EQC|_x0005_`JDC|_x0005_`WQC|_x0005_`EDT|_x0005_`ADJ|F_x0005_`DET|"&ROW(단가산출근거!A4455)&"_x0005_`" -> _x0007_`COD|D01285_x0005_`QTY1|1_x0005_`BQC|유지1-2-2_x0005_`EQC|_x0005_`JDC|_x0005_`WQC|_x0005_`EDT|_x0005_`ADJ|F_x0005_`DET|4455_x0005_` | K81: =HYPERLINK("#"&단가산출근거!G2&"!A"&ROW(단가산출근거!A4455),"D01285 →") -> D01285 →
A82: D01286 | B82: 일반 전정(기계시공) | C82: 상록수, B31~41cm미만 | D82: 주 | E82: =단가산출근거!C4554 -> 56370 | F82: =단가산출근거!D4554 -> 47304 | G82: =단가산출근거!E4554 -> 1865 | H82: =단가산출근거!F4554 -> 7201 | I82: 유지1-2-2 | J82: ="_x0007_`COD|D01286_x0005_`QTY1|1_x0005_`BQC|유지1-2-2_x0005_`EQC|_x0005_`JDC|_x0005_`WQC|_x0005_`EDT|_x0005_`ADJ|F_x0005_`DET|"&ROW(단가산출근거!A4505)&"_x0005_`" -> _x0007_`COD|D01286_x0005_`QTY1|1_x0005_`BQC|유지1-2-2_x0005_`EQC|_x0005_`JDC|_x0005_`WQC|_x0005_`EDT|_x0005_`ADJ|F_x0005_`DET|4505_x0005_` | K82: =HYPERLINK("#"&단가산출근거!G2&"!A"&ROW(단가산출근거!A4505),"D01286 →") -> D01286 →
A83: D01287 | B83: 일반 전정(기계시공) | C83: 상록수, B41~51cm미만 | D83: 주 | E83: =단가산출근거!C4604 -> 82676 | F83: =단가산출근거!D4604 -> 69379 | G83: =단가산출근거!E4604 -> 2735 | H83: =단가산출근거!F4604 -> 10562 | I83: 유지1-2-2 | J83: ="_x0007_`COD|D01287_x0005_`QTY1|1_x0005_`BQC|유지1-2-2_x0005_`EQC|_x0005_`JDC|_x0005_`WQC|_x0005_`EDT|_x0005_`ADJ|F_x0005_`DET|"&ROW(단가산출근거!A4555)&"_x0005_`" -> _x0007_`COD|D01287_x0005_`QTY1|1_x0005_`BQC|유지1-2-2_x0005_`EQC|_x0005_`JDC|_x0005_`WQC|_x0005_`EDT|_x0005_`ADJ|F_x0005_`DET|4555_x0005_` | K83: =HYPERLINK("#"&단가산출근거!G2&"!A"&ROW(단가산출근거!A4555),"D01287 →") -> D01287 →
A84: D01288 | B84: 일반 전정(기계시공) | C84: 상록수, B51~61cm미만 | D84: 주 | E84: =단가산출근거!C4654 -> 124017 | F84: =단가산출근거!D4654 -> 104070 | G84: =단가산출근거!E4654 -> 4103 | H84: =단가산출근거!F4654 -> 15844 | I84: 유지1-2-2 | J84: ="_x0007_`COD|D01288_x0005_`QTY1|1_x0005_`BQC|유지1-2-2_x0005_`EQC|_x0005_`JDC|_x0005_`WQC|_x0005_`EDT|_x0005_`ADJ|F_x0005_`DET|"&ROW(단가산출근거!A4605)&"_x0005_`" -> _x0007_`COD|D01288_x0005_`QTY1|1_x0005_`BQC|유지1-2-2_x0005_`EQC|_x0005_`JDC|_x0005_`WQC|_x0005_`EDT|_x0005_`ADJ|F_x0005_`DET|4605_x0005_` | K84: =HYPERLINK("#"&단가산출근거!G2&"!A"&ROW(단가산출근거!A4605),"D01288 →") -> D01288 →
A85: D01289 | B85: 일반 전정(기계시공) | C85: 상록수, B61cm초과 | D85: 주 | E85: =단가산출근거!C4704 -> 177166 | F85: =단가산출근거!D4704 -> 148671 | G85: =단가산출근거!E4704 -> 5861 | H85: =단가산출근거!F4704 -> 22634 | I85: 유지1-2-2 | J85: ="_x0007_`COD|D01289_x0005_`QTY1|1_x0005_`BQC|유지1-2-2_x0005_`EQC|_x0005_`JDC|_x0005_`WQC|_x0005_`EDT|_x0005_`ADJ|F_x0005_`DET|"&ROW(단가산출근거!A4655)&"_x0005_`" -> _x0007_`COD|D01289_x0005_`QTY1|1_x0005_`BQC|유지1-2-2_x0005_`EQC|_x0005_`JDC|_x0005_`WQC|_x0005_`EDT|_x0005_`ADJ|F_x0005_`DET|4655_x0005_` | K85: =HYPERLINK("#"&단가산출근거!G2&"!A"&ROW(단가산출근거!A4655),"D01289 →") -> D01289 →
A86: D01279 | B86: 일반 전정(인력시공) | C86: 낙엽수, B11cm미만 | D86: 주 | E86: =단가산출근거!C4754 -> 18381 | F86: =단가산출근거!D4754 -> 17846 | G86: =단가산출근거!E4754 -> 0 | H86: =단가산출근거!F4754 -> 535 | I86: 유지1-2-2 | J86: ="_x0007_`COD|D01279_x0005_`QTY1|1_x0005_`BQC|유지1-2-2_x0005_`EQC|_x0005_`JDC|_x0005_`WQC|_x0005_`EDT|_x0005_`ADJ|F_x0005_`DET|"&ROW(단가산출근거!A4705)&"_x0005_`" -> _x0007_`COD|D01279_x0005_`QTY1|1_x0005_`BQC|유지1-2-2_x0005_`EQC|_x0005_`JDC|_x0005_`WQC|_x0005_`EDT|_x0005_`ADJ|F_x0005_`DET|4705_x0005_` | K86: =HYPERLINK("#"&단가산출근거!G2&"!A"&ROW(단가산출근거!A4705),"D01279 →") -> D01279 →
A87: D01235 | B87: 일반 전정(인력시공) | C87: 낙엽수, B11~21cm미만 | D87: 주 | E87: =단가산출근거!C4804 -> 30079 | F87: =단가산출근거!D4804 -> 29203 | G87: =단가산출근거!E4804 -> 0 | H87: =단가산출근거!F4804 -> 876 | I87: 유지1-2-2 | J87: ="_x0007_`COD|D01235_x0005_`QTY1|1_x0005_`BQC|유지1-2-2_x0005_`EQC|_x0005_`JDC|_x0005_`WQC|_x0005_`EDT|_x0005_`ADJ|F_x0005_`DET|"&ROW(단가산출근거!A4755)&"_x0005_`" -> _x0007_`COD|D01235_x0005_`QTY1|1_x0005_`BQC|유지1-2-2_x0005_`EQC|_x0005_`JDC|_x0005_`WQC|_x0005_`EDT|_x0005_`ADJ|F_x0005_`DET|4755_x0005_` | K87: =HYPERLINK("#"&단가산출근거!G2&"!A"&ROW(단가산출근거!A4755),"D01235 →") -> D01235 →
A88: D01236 | B88: 일반 전정(인력시공) | C88: 낙엽수, B21~31cm미만 | D88: 주 | E88: =단가산출근거!C4854 -> 50903 | F88: =단가산출근거!D4854 -> 49421 | G88: =단가산출근거!E4854 -> 0 | H88: =단가산출근거!F4854 -> 1482 | I88: 유지1-2-2 | J88: ="_x0007_`COD|D01236_x0005_`QTY1|1_x0005_`BQC|유지1-2-2_x0005_`EQC|_x0005_`JDC|_x0005_`WQC|_x0005_`EDT|_x0005_`ADJ|F_x0005_`DET|"&ROW(단가산출근거!A4805)&"_x0005_`" -> _x0007_`COD|D01236_x0005_`QTY1|1_x0005_`BQC|유지1-2-2_x0005_`EQC|_x0005_`JDC|_x0005_`WQC|_x0005_`EDT|_x0005_`ADJ|F_x0005_`DET|4805_x0005_` | K88: =HYPERLINK("#"&단가산출근거!G2&"!A"&ROW(단가산출근거!A4805),"D01236 →") -> D01236 →
A89: D01281 | B89: 일반 전정(인력시공) | C89: 상록수, B11cm미만 | D89: 주 | E89: =단가산출근거!C4904 -> 15754 | F89: =단가산출근거!D4904 -> 15296 | G89: =단가산출근거!E4904 -> 0 | H89: =단가산출근거!F4904 -> 458 | I89: 유지1-2-2 | J89: ="_x0007_`COD|D01281_x0005_`QTY1|1_x0005_`BQC|유지1-2-2_x0005_`EQC|_x0005_`JDC|_x0005_`WQC|_x0005_`EDT|_x0005_`ADJ|F_x0005_`DET|"&ROW(단가산출근거!A4855)&"_x0005_`" -> _x0007_`COD|D01281_x0005_`QTY1|1_x0005_`BQC|유지1-2-2_x0005_`EQC|_x0005_`JDC|_x0005_`WQC|_x0005_`EDT|_x0005_`ADJ|F_x0005_`DET|4855_x0005_` | K89: =HYPERLINK("#"&단가산출근거!G2&"!A"&ROW(단가산출근거!A4855),"D01281 →") -> D01281 →
A90: D01280 | B90: 일반 전정(인력시공) | C90: 상록수, B11~21cm미만 | D90: 주 | E90: =단가산출근거!C4954 -> 27572 | F90: =단가산출근거!D4954 -> 26769 | G90: =단가산출근거!E4954 -> 0 | H90: =단가산출근거!F4954 -> 803 | I90: 유지1-2-2 | J90: ="_x0007_`COD|D01280_x0005_`QTY1|1_x0005_`BQC|유지1-2-2_x0005_`EQC|_x0005_`JDC|_x0005_`WQC|_x0005_`EDT|_x0005_`ADJ|F_x0005_`DET|"&ROW(단가산출근거!A4905)&"_x0005_`" -> _x0007_`COD|D01280_x0005_`QTY1|1_x0005_`BQC|유지1-2-2_x0005_`EQC|_x0005_`JDC|_x0005_`WQC|_x0005_`EDT|_x0005_`ADJ|F_x0005_`DET|4905_x0005_` | K90: =HYPERLINK("#"&단가산출근거!G2&"!A"&ROW(단가산출근거!A4905),"D01280 →") -> D01280 →
A91: D01237 | B91: 일반 전정(인력시공) | C91: 상록수, B21~31cm미만 | D91: 주 | E91: =단가산출근거!C5004 -> 44115 | F91: =단가산출근거!D5004 -> 42831 | G91: =단가산출근거!E5004 -> 0 | H91: =단가산출근거!F5004 -> 1284 | I91: 유지1-2-2 | J91: ="_x0007_`COD|D01237_x0005_`QTY1|1_x0005_`BQC|유지1-2-2_x0005_`EQC|_x0005_`JDC|_x0005_`WQC|_x0005_`EDT|_x0005_`ADJ|F_x0005_`DET|"&ROW(단가산출근거!A4955)&"_x0005_`" -> _x0007_`COD|D01237_x0005_`QTY1|1_x0005_`BQC|유지1-2-2_x0005_`EQC|_x0005_`JDC|_x0005_`WQC|_x0005_`EDT|_x0005_`ADJ|F_x0005_`DET|4955_x0005_` | K91: =HYPERLINK("#"&단가산출근거!G2&"!A"&ROW(단가산출근거!A4955),"D01237 →") -> D01237 →
A92: D01362 | B92: 일반 전정(인력시공, 산지할증A) | C92: 낙엽수, B11cm미만 | D92: 주 | E92: =단가산출근거!C5054 -> 21058 | F92: =단가산출근거!D5054 -> 20523 | G92: =단가산출근거!E5054 -> 0 | H92: =단가산출근거!F5054 -> 535 | I92: 유지1-2-2 | J92: ="_x0007_`COD|D01362_x0005_`QTY1|1_x0005_`BQC|유지1-2-2_x0005_`EQC|_x0005_`JDC|_x0005_`WQC|_x0005_`EDT|_x0005_`ADJ|F_x0005_`DET|"&ROW(단가산출근거!A5005)&"_x0005_`" -> _x0007_`COD|D01362_x0005_`QTY1|1_x0005_`BQC|유지1-2-2_x0005_`EQC|_x0005_`JDC|_x0005_`WQC|_x0005_`EDT|_x0005_`ADJ|F_x0005_`DET|5005_x0005_` | K92: =HYPERLINK("#"&단가산출근거!G2&"!A"&ROW(단가산출근거!A5005),"D01362 →") -> D01362 →
A93: D01363 | B93: 일반 전정(인력시공, 산지할증A) | C93: 낙엽수, B11~21cm미만 | D93: 주 | E93: =단가산출근거!C5104 -> 34459 | F93: =단가산출근거!D5104 -> 33583 | G93: =단가산출근거!E5104 -> 0 | H93: =단가산출근거!F5104 -> 876 | I93: 유지1-2-2 | J93: ="_x0007_`COD|D01363_x0005_`QTY1|1_x0005_`BQC|유지1-2-2_x0005_`EQC|_x0005_`JDC|_x0005_`WQC|_x0005_`EDT|_x0005_`ADJ|F_x0005_`DET|"&ROW(단가산출근거!A5055)&"_x0005_`" -> _x0007_`COD|D01363_x0005_`QTY1|1_x0005_`BQC|유지1-2-2_x0005_`EQC|_x0005_`JDC|_x0005_`WQC|_x0005_`EDT|_x0005_`ADJ|F_x0005_`DET|5055_x0005_` | K93: =HYPERLINK("#"&단가산출근거!G2&"!A"&ROW(단가산출근거!A5055),"D01363 →") -> D01363 →
A94: D01364 | B94: 일반 전정(인력시공, 산지할증A) | C94: 낙엽수, B21~31cm미만 | D94: 주 | E94: =단가산출근거!C5154 -> 58316 | F94: =단가산출근거!D5154 -> 56834 | G94: =단가산출근거!E5154 -> 0 | H94: =단가산출근거!F5154 -> 1482 | I94: 유지1-2-2 | J94: ="_x0007_`COD|D01364_x0005_`QTY1|1_x0005_`BQC|유지1-2-2_x0005_`EQC|_x0005_`JDC|_x0005_`WQC|_x0005_`EDT|_x0005_`ADJ|F_x0005_`DET|"&ROW(단가산출근거!A5105)&"_x0005_`" -> _x0007_`COD|D01364_x0005_`QTY1|1_x0005_`BQC|유지1-2-2_x0005_`EQC|_x0005_`JDC|_x0005_`WQC|_x0005_`EDT|_x0005_`ADJ|F_x0005_`DET|5105_x0005_` | K94: =HYPERLINK("#"&단가산출근거!G2&"!A"&ROW(단가산출근거!A5105),"D01364 →") -> D01364 →
