Workbook

Sheet laroux

Sheet 설계서표지
A4: 2026년 처인구 숲길(등산로) 유지관리공사(2차)
A13: 2026. 08.
A21: 용인특례시 처인구청

Sheet 설계갑지
B1: 과 장 | D1: 팀 장 | F1: 심사자 | H1: 실무관 | J1: 설계자 | M1: 설 계 | N1: 2026 년 8 월 일
M2: 심 사 | N2: 2026 년 월 일
B5: 설 계 서
C8: ▣ 공 사 명 : 2026년 처인구 숲길(등산로) 유지관리공사(2차)
C10: 구 분 | E10: 금 액 | N10: 비 고
C11: 총 공 사 비 | E11: ="일금 "&NUMBERSTRING(TRUNC(K11,-3),1)&"원정" -> 일금 이천팔백삼만원정 | K11: =K12+K15 -> 28030000 | N11: 도급공사비+관급자재대
C12: 도급공사비 | E12: ="일금 "&NUMBERSTRING(TRUNC(K12,0),1)&"원정" -> 일금 이천팔백삼만원정 | K12: =K13+K14 -> 28030000 | N12: 공급가액+부가가치세
C13: 공 급 가 액 | E13: ="일금 "&NUMBERSTRING(TRUNC(K13,0),1)&"원정" -> 일금 이천오백사십팔만일천팔백일십구원정 | K13: =공사원가계산서!D28 -> 25481819
C14: 부가 가치세 | E14: ="일금 "&NUMBERSTRING(TRUNC(K14,0),1)&"원정" -> 일금 이백오십사만팔천일백팔십일원정 | K14: =공사원가계산서!D29 -> 2548181
C15: 관급 자재대 | E15: ="일금 "&NUMBERSTRING(TRUNC(K15,0),1)&"원정" -> 일금 영원정 | N15: 도급자설치+관급자설치 (천원미만절상)
C16: 도급자설치 | E16: ="일금 "&NUMBERSTRING(TRUNC(K16,0),1)&"원정" -> 일금 영원정
C17: 관급자설치 | E17: ="일금 "&NUMBERSTRING(TRUNC(K17,0),1)&"원정" -> 일금 영원정

Sheet 목 차
E1: 목 차
E4: 설계설명서
E5: 시방서
E6: 예정공정표
E7: 공사원가계산서
E8: 일위대가표
E9: 단가산출서
E10: 기계경비산출서
E11: 수량산출서
E12: 자재단가대비표
E13: 기타
E23: 설계설명서
... E162: 자재집계표

Sheet 설계설명서
A1: 설 계 설 명 서
A2: 1. 공 사 명 : 2026년 처인구 숲길(등산로) 유지관리공사(2차)
A4: 2. 위 치
B5: - 처인구 이동, 남사, 원삼, 백암, 양지 (상황에 따라 변동될 수 있음)
A7: 3. 공사구간
B8: -. 9.5km
A10: 3. 공사 개요
B12: 1. 숲길정비공 | G12: 2. 편의시설
B14: 3. 운동시설 | G14: 4. 안내판 설치
B16: 5. 보수공 | G16: 6. 철거공
B18: 7. 식재공 | G18: 8. 유지관리공
B20: 9. 수목제거공 | G20: 10. 기초공
B22: 11. 소운반공 | G22: 12. 폐기물처리
A24: 4. 설계기준
B25: 1. 환 율 : 1,442(원/$)
B26: 2. 자재시세 : 2026년 1월 인터넷 조달청 가격정보에 우선하여 산정하였으며 일부는 2026년 1월호 물가자료지 및 물가정보지에 의거
B27: 하여 산정하였음.
B28: 3. 노임 및 품셈 : 대한건설 협회가 2026년 상반기에 발표한 시중노임단가 적용
A30: 5. 공사 기간
B31: 착공일로부터 12월 31일 까지

Sheet 예정공정표
A1: 공 사 예 정 공 정 표
A3: 공사명 : 2026년 처인구 숲길(등산로) 유지관리공사(2차)
C4: 착공일 | D4: 8월 | E4: 2월 | F4: 3월 | G4: 4월 | H4: 5월 | I4: 6월 | J4: 7월 | K4: 8월 | L4: 9월 | M4: 10월 | N4: 11월 | O4: 12월 | P4: 비고
A5: 공정
A6: 현장확인 및 준비
A8: =설계설명서!B12 -> 1. 숲길정비공
A10: =설계설명서!G12 -> 2. 편의시설
A12: =설계설명서!B14 -> 3. 운동시설
A14: =설계설명서!G14 -> 4. 안내판 설치
A16: =설계설명서!B16 -> 5. 보수공
A18: =설계설명서!G16 -> 6. 철거공
A20: =설계설명서!B18 -> 7. 식재공
A22: =설계설명서!G18 -> 8. 유지관리공
A24: =설계설명서!B20 -> 9. 수목제거공
A26: =설계설명서!G20 -> 10. 기초공
A28: =설계설명서!B22 -> 11. 소운반공
A30: =설계설명서!G22 -> 12. 폐기물처리
A32: 13. 뒷정리

Sheet 〓 목 차 〓
D1: =IF('[1]〓 INITIAL 〓'!C4,"※※ 기본정보의 일부가 삭제되어 Stmate로 변환할 수 없습니다 ※※","")
B2: 목 차 | D2: ※ 본 엑셀자료는 【STmate w24.02】버전 이상에서 STmate 자료로 다시 등록할 수 있습니다.
D3: 단, 임의로 수정한 내용(Sheet삭제, 산근내용변경, 기타계산식변경..)은 반영되지 않을 수 있습니다.
B4: 1. ※※안내※※ | D4: =HYPERLINK("#'※※안내※※'!A1","※※안내※※ →") -> ※※안내※※ →
B5: 2. 공사원가계산서 | D5: =HYPERLINK("#"&#REF!&"!A1","공사원가계산서 →") -> #REF!
B6: 3. 총괄내역서 | D6: =HYPERLINK("#"&#REF!&"!A1","총괄내역서 →") -> #REF!
B7: 4. 설계내역서 | D7: =HYPERLINK("#"&#REF!&"!A1","설계내역서 →") -> #REF!
B8: 5. 일위대가목록표 | D8: =HYPERLINK("#"&#REF!&"!A1","일위대가목록표 →") -> #REF!
B9: 6. 일위대가표 | D9: =HYPERLINK("#"&#REF!&"!A1","일위대가표 →") -> #REF!
B10: 7. 단가산출근거목록표 | D10: =HYPERLINK("#"&#REF!&"!A1","단가산출근거목록표 →") -> #REF!
B11: 8. 단가산출근거 | D11: =HYPERLINK("#"&#REF!&"!A1","단가산출근거 →") -> #REF!
B12: 9. 환율및기초자료 | D12: =HYPERLINK("#"&#REF!&"!A1","환율및기초자료 →") -> #REF!
B13: 10. 중기목록표 | D13: =HYPERLINK("#"&#REF!&"!A1","중기목록표 →") -> #REF!
B14: 11. 중기사용료 | D14: =HYPERLINK("#"&#REF!&"!A1","중기사용료 →") -> #REF!
B15: 12. 재료비목록표 | D15: =HYPERLINK("#"&#REF!&"!A1","재료비목록표 →") -> #REF!
B16: 13. 노무비목록표 | D16: =HYPERLINK("#"&#REF!&"!A1","노무비목록표 →") -> #REF!
B17: 14. 경비목록표 | D17: =HYPERLINK("#"&#REF!&"!A1","경비목록표 →") -> #REF!
B18: 15. 자재단가대비표 | D18: =HYPERLINK("#"&#REF!&"!A1","자재단가대비표 →") -> #REF!

Sheet ※※안내※※
A2: =HYPERLINK("#'〓 목 차 〓'!B2","목차 →") -> 목차 → | B2: === 엑셀파일에 작성에 대한 안내문(반드시 읽어보세요) ===
B4: 엑셀파일 수정후 계산식 반영이 안될경우 :【 Ctrl+Alt(+Shift)+F9 】
B6: ◈ 엑셀파일내의 산식은 기초단가, 복합단가, 내역서 및 총괄내역서까지 연결됩니다.
B7: (모든산식은 단가만을 불러오며, 명칭, 규격, 단위, 비고.. 등은 TEXT로 입력됩니다)
B8: ◈ 각 Sheet우측에는 해당 항목을 찾아가는 위치이동(→) 링크가 있으며, 클릭하면 이동됩니다.
B9: (Alt + ← 키를 이용하여 찾아갔던 항목을 되돌아 올 수 있습니다.)
B10: ◈ 자재단가 대비표의 적용단가는 수식이 적용되지 않았으나, 우측에 최소단가 수식을 입력하였습니다.
B11: ◈ 일위대가표 및 중기사용료 및 총괄내역서의 양식은 일반양식을 적용합니다.
B12: =HYPERLINK("#"&#REF!&"!Y3","◈ 단가산출근거의 수량부분은 산출근거 우측 연두색 부분에서 수정합니다. →") -> #REF!
B13: ◈ [목차] 및 [안내]Sheet의 이름을 변경하지 마시고, Sheet이름을 변경할때 공백문자 및 특수문자를 사용하지 마십시요.
B15: ※※※ 아래의 내용(안내 및 오류)을 확인/검토 하세요 ※※※
B16: =HYPERLINK("#"&#REF!&"!I"&ROW(#REF!)," → ") -> #REF! | C16: 【총괄내역서】29번째줄의 I열 이윤보정액은 총공사비 금액이 다를경우 임의조정(±α) 하십시요.
B17: =HYPERLINK("#"&#REF!&"!B"&ROW(#REF!)," → ") -> #REF! | C17: 【단가산출근거】792번째줄 에서 사용된【S00209】코드의 %단위(T%) 는 산식을 입력할 수 없으니 손료계산 형식으로 변경하십시요.
B18: =HYPERLINK("#"&#REF!&"!B"&ROW(#REF!)," → ") -> #REF! | C18: 【단가산출근거】842번째줄 에서 사용된【S00209】코드의 %단위(T%) 는 산식을 입력할 수 없으니 손료계산 형식으로 변경하십시요.
B19: =HYPERLINK("#"&#REF!&"!B"&ROW(#REF!)," → ") -> #REF! | C19: 【단가산출근거】892번째줄 에서 사용된【S00209】코드의 %단위(T%) 는 산식을 입력할 수 없으니 손료계산 형식으로 변경하십시요.
B20: =HYPERLINK("#"&#REF!&"!B"&ROW(#REF!)," → ") -> #REF! | C20: 【단가산출근거】942번째줄 에서 사용된【S00209】코드의 %단위(T%) 는 산식을 입력할 수 없으니 손료계산 형식으로 변경하십시요.
B21: =HYPERLINK("#"&#REF!&"!B"&ROW(#REF!)," → ") -> #REF! | C21: 【단가산출근거】992번째줄 에서 사용된【S00209】코드의 %단위(T%) 는 산식을 입력할 수 없으니 손료계산 형식으로 변경하십시요.
B22: =HYPERLINK("#"&#REF!&"!B"&ROW(#REF!)," → ") -> #REF! | C22: 【단가산출근거】1042번째줄 에서 사용된【S00209】코드의 %단위(T%) 는 산식을 입력할 수 없으니 손료계산 형식으로 변경하십시요.
B23: =HYPERLINK("#"&#REF!&"!B"&ROW(#REF!)," → ") -> #REF! | C23: 【단가산출근거】1092번째줄 에서 사용된【S00209】코드의 %단위(T%) 는 산식을 입력할 수 없으니 손료계산 형식으로 변경하십시요.
B24: =HYPERLINK("#"&#REF!&"!B"&ROW(#REF!)," → ") -> #REF! | C24: 【단가산출근거】1142번째줄 에서 사용된【S00209】코드의 %단위(T%) 는 산식을 입력할 수 없으니 손료계산 형식으로 변경하십시요.
B25: =HYPERLINK("#"&#REF!&"!B"&ROW(#REF!)," → ") -> #REF! | C25: 【단가산출근거】1192번째줄 에서 사용된【S00209】코드의 %단위(T%) 는 산식을 입력할 수 없으니 손료계산 형식으로 변경하십시요.
B26: =HYPERLINK("#"&#REF!&"!B"&ROW(#REF!)," → ") -> #REF! | C26: 【단가산출근거】1242번째줄 에서 사용된【S00209】코드의 %단위(T%) 는 산식을 입력할 수 없으니 손료계산 형식으로 변경하십시요.
B27: =HYPERLINK("#"&#REF!&"!B"&ROW(#REF!)," → ") -> #REF! | C27: 【단가산출근거】1292번째줄 에서 사용된【S00209】코드의 %단위(T%) 는 산식을 입력할 수 없으니 손료계산 형식으로 변경하십시요.
B28: =HYPERLINK("#"&#REF!&"!B"&ROW(#REF!)," → ") -> #REF! | C28: 【단가산출근거】1342번째줄 에서 사용된【S00209】코드의 %단위(T%) 는 산식을 입력할 수 없으니 손료계산 형식으로 변경하십시요.
... B48: =HYPERLINK("#"&#REF!&"!B"&ROW(#REF!)," → ") -> #REF! | C48: 【단가산출근거】2512번째줄 에서 사용된【L00194】코드의 %단위(L%) 는 산식을 입력할 수 없으니 손료계산 형식으로 변경하십시요.

Sheet 공사원가계산서
A1: 공 사 원 가 계 산 서 | G1: STmate | H1: STmate
A2: 공사명 : 2026년 처인구 숲길(등산로) 유지관리공사(2차) | G2: =MID(CELL("filename",$A$1),FIND("]",CELL("filename",$A$1))+1,LEN(CELL("filename",$A$1))) -> 공사원가계산서
A3: 구 분 | D3: 금 액 | E3: 구 성 비 | F3: 비 고
A4: 비 목 | H4: =HYPERLINK("#'〓 목 차 〓'!B2","목차 →") -> 목차 →
A5: 순 공 사 원 가 | B5: 재 료 비 | C5: 직 접 재 료 비 | D5: =총괄내역서!F17-D6+D7 -> 14806164 | E5: =D5/D31*100 -> 52.822562 | H5: =HYPERLINK("#"&총괄내역서!H2&"!F"&ROW(총괄내역서!F17),"총괄표 →") -> 총괄표 →
C6: 간 접 재 료 비 | D6: 0 | E6: =D6/D31*100 -> 0
C7: 작업설,부산물등(△) | D7: 0 | E7: =D7/D31*100 -> 0
C8: 소 계 | D8: =+D5+D6-D7 -> 14806164 | E8: =D8/D31*100 -> 52.822562
B9: 노 무 비 | C9: 직 접 노 무 비 | D9: =총괄내역서!E17 -> 4038536 | E9: =D9/D31*100 -> 14.407906 | H9: =HYPERLINK("#"&총괄내역서!H2&"!E"&ROW(총괄내역서!E17),"총괄표 →") -> 총괄표 →
C10: 간 접 노 무 비 | D10: =총괄내역서!D18 -> 743090 | E10: =D10/D31*100 -> 2.6510524 | F10: =총괄내역서!E18 -> 직접노무비 x 18.4% | H10: =HYPERLINK("#"&총괄내역서!H2&"!D"&ROW(총괄내역서!D18),"총괄표 →") -> 총괄표 →
C11: 소 계 | D11: =+D9+D10 -> 4781626 | E11: =D11/D31*100 -> 17.058958
B12: 경 비 | C12: 산 출 경 비 | D12: =총괄내역서!G17 -> 838050 | E12: =D12/D31*100 -> 2.9898323 | H12: =HYPERLINK("#"&총괄내역서!H2&"!G"&ROW(총괄내역서!G17),"총괄표 →") -> 총괄표 →
C13: 산 재 보 험 료 | D13: =총괄내역서!D19 -> 170225 | E13: =D13/D31*100 -> 0.60729575 | F13: =총괄내역서!E19 -> (직접노무비+간접노무비) x 3.56% | H13: =HYPERLINK("#"&총괄내역서!H2&"!D"&ROW(총괄내역서!D19),"총괄표 →") -> 총괄표 →
C14: 고 용 보 험 료 | D14: =총괄내역서!D20 -> 48294 | E14: =D14/D31*100 -> 0.17229397 | F14: =총괄내역서!E20 -> (직접노무비+간접노무비) x 1.01% | H14: =HYPERLINK("#"&총괄내역서!H2&"!D"&ROW(총괄내역서!D20),"총괄표 →") -> 총괄표 →
C15: 건 강 보 험 료 | D15: =총괄내역서!D21 -> 145185 | E15: =D15/D31*100 -> 0.5179629 | F15: =총괄내역서!E21 -> 직접노무비 x 3.595% | H15: =HYPERLINK("#"&총괄내역서!H2&"!D"&ROW(총괄내역서!D21),"총괄표 →") -> 총괄표 →
C16: 노인장기요양보험료 | D16: =총괄내역서!D22 -> 19077 | E16: =D16/D31*100 -> 0.068059222 | F16: =총괄내역서!E22 -> 건강보험료 x 13.14% | H16: =HYPERLINK("#"&총괄내역서!H2&"!D"&ROW(총괄내역서!D22),"총괄표 →") -> 총괄표 →
C17: 연 금 보 험 료 | D17: =총괄내역서!D23 -> 191830 | E17: =D17/D31*100 -> 0.68437389 | F17: =총괄내역서!E23 -> 직접노무비 x 4.75% | H17: =HYPERLINK("#"&총괄내역서!H2&"!D"&ROW(총괄내역서!D23),"총괄표 →") -> 총괄표 →
C18: 퇴 직 공 제 부 금 비 | D18: =총괄내역서!D24 -> 0 | E18: =D18/D31*100 -> 0 | F18: =총괄내역서!E24 -> 직접노무비 x 2.3% | H18: =HYPERLINK("#"&총괄내역서!H2&"!D"&ROW(총괄내역서!D24),"총괄표 →") -> 총괄표 →
C19: 산업안전보건관리비 | D19: =총괄내역서!D25 -> 390085 | E19: =D19/D31*100 -> 1.3916696 | F19: =총괄내역서!E25 -> (직노+직재+간재) x 2.07% = 390,085 | H19: =HYPERLINK("#"&총괄내역서!H2&"!D"&ROW(총괄내역서!D25),"총괄표 →") -> 총괄표 →
C20: 기 타 경 비 | D20: =총괄내역서!D26 -> 920626 | E20: =D20/D31*100 -> 3.284431 | F20: =총괄내역서!E26 -> (직접노무비+간접노무비+재료비) x 4.7% | H20: =HYPERLINK("#"&총괄내역서!H2&"!D"&ROW(총괄내역서!D26),"총괄표 →") -> 총괄표 →
C21: 환 경 보 전 비 | D21: =총괄내역서!D27 -> 59048 | E21: =D21/D31*100 -> 0.21066001 | F21: =총괄내역서!E27 -> (재료비 + 직접노무비 + 산출경비) x 0.3% | H21: =HYPERLINK("#"&총괄내역서!H2&"!D"&ROW(총괄내역서!D27),"총괄표 →") -> 총괄표 →
C22: 건설기계대여금지급보증 금액 | D22: =총괄내역서!D28 -> 31492 | E22: =D22/D31*100 -> 0.11235105 | F22: =총괄내역서!E28 -> (재료비 + 직접노무비 + 산출경비) x 0.16% | H22: =HYPERLINK("#"&총괄내역서!H2&"!D"&ROW(총괄내역서!D28),"총괄표 →") -> 총괄표 →
C23: 석면피해구제분담금 | D23: =총괄내역서!D29 -> 286 | E23: =D23/D31*100 -> 0.0010203354 | F23: =총괄내역서!E29 -> (직접노무비+간접노무비) x 0.006%
C24: 임금채권부담금 | D24: =총괄내역서!D30 -> 4303 | E24: =D24/D31*100 -> 0.015351409 | F24: =총괄내역서!E30 -> (직접노무비+간접노무비) x 0.09%
C25: 소 계 | D25: =+D12+D13+D14+D15+D16+D17+D18+D19+D20+D21+D22+D23+D24 -> 2818501 | E25: =D25/D31*100 -> 10.055301
A26: 일 반 관 리 비 | D26: =총괄내역서!D32 -> 1792503 | E26: =D26/D31*100 -> 6.3949447 | F26: ="순공사원가 x "&ROUND(총괄내역서!M32,5)&"%" -> 순공사원가 x 8% | H26: =HYPERLINK("#"&총괄내역서!H2&"!D"&ROW(총괄내역서!D32),"총괄표 →") -> 총괄표 →
A27: 이 윤 | D27: =총괄내역서!D34 -> 1283025 | E27: =D27/D31*100 -> 4.5773279 | F27: ="(노무비+경비+일반관리비) x "&ROUND(총괄내역서!M34,5)&"%" -> (노무비+경비+일반관리비) x 15% | H27: =HYPERLINK("#"&총괄내역서!H2&"!D"&ROW(총괄내역서!D34),"총괄표 →") -> 총괄표 →
A28: 총 원 가 | D28: =총괄내역서!D35 -> 25481819 | E28: =D28/D31*100 -> 90.909094 | H28: =HYPERLINK("#"&총괄내역서!H2&"!D"&ROW(총괄내역서!D35),"총괄표 →") -> 총괄표 →
A29: 부 가 가 치 세 | D29: =총괄내역서!D36 -> 2548181 | E29: =D29/D31*100 -> 9.0909062 | F29: ="총 원 가 x "&ROUND(총괄내역서!M36,5)&"%" -> 총 원 가 x 10% | H29: =HYPERLINK("#"&총괄내역서!H2&"!D"&ROW(총괄내역서!D36),"총괄표 →") -> 총괄표 →
A30: 도 급 공 사 비 | D30: =총괄내역서!D37 -> 28030000 | E30: =D30/D31*100 -> 100 | H30: =HYPERLINK("#"&총괄내역서!H2&"!D"&ROW(총괄내역서!D37),"총괄표 →") -> 총괄표 →
A31: 총 공 사 비 | D31: =D30 -> 28030000 | E31: 100

Sheet 총괄내역서
A1: 총 괄 내 역 서 | H1: STmate | Q1: STmate
A2: 공사명 : 2026년 처인구 숲길(등산로) 유지관리공사(2차) | H2: =MID(CELL("filename",$A$1),FIND("]",CELL("filename",$A$1))+1,LEN(CELL("filename",$A$1))) -> 총괄내역서
A3: 공 종 | B3: 명 칭 | C3: 규 격 | D3: 합 계 | E3: 노 무 비 | F3: 재 료 비 | G3: 경 비 | H3: _x0007_`JTYP|0_x0005_`ACTL|F_x0005_` | I3: 수정은 아래의 연두색 부분에 | Q3: =HYPERLINK("#'〓 목 차 〓'!B2","목차 →") -> 목차 →
A4: □ | B4: 2026년 처인구 숲길(등산로) 유지관리공사(2차) | D4: =설계내역서!G5 -> 19682750 | E4: =설계내역서!I5 -> 4038536 | F4: =설계내역서!K5 -> 14806164 | G4: =설계내역서!M5 -> 838050 | Q4: =HYPERLINK("#"&설계내역서!O2&"!A"&ROW(설계내역서!A5),"내역 →") -> 내역 →
A5: 1. | B5: 숲길정비공 | D5: =설계내역서!G6 -> 0 | E5: =설계내역서!I6 -> 0 | F5: =설계내역서!K6 -> 0 | G5: =설계내역서!M6 -> 0 | Q5: =HYPERLINK("#"&설계내역서!O2&"!A"&ROW(설계내역서!A6),"내역 →") -> 내역 →
A6: 2. | B6: 편의시설 | D6: =설계내역서!G153 -> 6284196 | E6: =설계내역서!I153 -> 914568 | F6: =설계내역서!K153 -> 5366664 | G6: =설계내역서!M153 -> 2964 | Q6: =HYPERLINK("#"&설계내역서!O2&"!A"&ROW(설계내역서!A153),"내역 →") -> 내역 →
A7: 3. | B7: 운동시설 | D7: =설계내역서!G161 -> 0 | E7: =설계내역서!I161 -> 0 | F7: =설계내역서!K161 -> 0 | G7: =설계내역서!M161 -> 0 | Q7: =HYPERLINK("#"&설계내역서!O2&"!A"&ROW(설계내역서!A161),"내역 →") -> 내역 →
A8: 4. | B8: 안내판 설치 | D8: =설계내역서!G180 -> 9300000 | E8: =설계내역서!I180 -> 0 | F8: =설계내역서!K180 -> 9300000 | G8: =설계내역서!M180 -> 0 | Q8: =HYPERLINK("#"&설계내역서!O2&"!A"&ROW(설계내역서!A180),"내역 →") -> 내역 →
A9: 5. | B9: 보수공 | D9: =설계내역서!G191 -> 1264200 | E9: =설계내역서!I191 -> 1102700 | F9: =설계내역서!K191 -> 139500 | G9: =설계내역서!M191 -> 22000 | Q9: =HYPERLINK("#"&설계내역서!O2&"!A"&ROW(설계내역서!A191),"내역 →") -> 내역 →
A10: 6. | B10: 철거공 | D10: =설계내역서!G237 -> 0 | E10: =설계내역서!I237 -> 0 | F10: =설계내역서!K237 -> 0 | G10: =설계내역서!M237 -> 0 | Q10: =HYPERLINK("#"&설계내역서!O2&"!A"&ROW(설계내역서!A237),"내역 →") -> 내역 →
A11: 7. | B11: 식재공 | D11: =설계내역서!G301 -> 0 | E11: =설계내역서!I301 -> 0 | F11: =설계내역서!K301 -> 0 | G11: =설계내역서!M301 -> 0 | Q11: =HYPERLINK("#"&설계내역서!O2&"!A"&ROW(설계내역서!A301),"내역 →") -> 내역 →
A12: 8. | B12: 유지관리공 | D12: =설계내역서!G373 -> 2081873 | E12: =설계내역서!I373 -> 2021268 | F12: =설계내역서!K373 -> 0 | G12: =설계내역서!M373 -> 60605 | Q12: =HYPERLINK("#"&설계내역서!O2&"!A"&ROW(설계내역서!A373),"내역 →") -> 내역 →
A13: 9. | B13: 수목제거공 | D13: =설계내역서!G407 -> 0 | E13: =설계내역서!I407 -> 0 | F13: =설계내역서!K407 -> 0 | G13: =설계내역서!M407 -> 0 | Q13: =HYPERLINK("#"&설계내역서!O2&"!A"&ROW(설계내역서!A407),"내역 →") -> 내역 →
A14: 10. | B14: 기초공 | D14: =설계내역서!G435 -> 0 | E14: =설계내역서!I435 -> 0 | F14: =설계내역서!K435 -> 0 | G14: =설계내역서!M435 -> 0 | Q14: =HYPERLINK("#"&설계내역서!O2&"!A"&ROW(설계내역서!A435),"내역 →") -> 내역 →
A15: 11. | B15: 소운반공 | D15: =설계내역서!G445 -> 752481 | E15: =설계내역서!I445 -> 0 | F15: =설계내역서!K445 -> 0 | G15: =설계내역서!M445 -> 752481 | Q15: =HYPERLINK("#"&설계내역서!O2&"!A"&ROW(설계내역서!A445),"내역 →") -> 내역 →
A16: 11. | B16: 폐기물처리 | D16: =설계내역서!G474 -> 0 | E16: =설계내역서!I474 -> 0 | F16: =설계내역서!K474 -> 0 | G16: =설계내역서!M474 -> 0 | Q16: =HYPERLINK("#"&설계내역서!O2&"!A"&ROW(설계내역서!A474),"내역 →") -> 내역 →
A17: 가. | B17: 순공사비계 | D17: =설계내역서!G482 -> 19682750 | E17: =설계내역서!I482 -> 4038536 | F17: =설계내역서!K482 -> 14806164 | G17: =설계내역서!M482 -> 838050 | Q17: =HYPERLINK("#"&설계내역서!O2&"!A"&ROW(설계내역서!A482),"내역 →") -> 내역 →
B18: 1. 간접노무비 | D18: =ROUNDDOWN(E17*M18/100,0) -> 743090 | E18: ="직접노무비 x "&ROUND(M18,5)&"%" -> 직접노무비 x 18.4% | H18: _x0007_`DTP|201_x0005_`QTY1|1_x0005_`BDC|_x0005_`SRE|LA_x0005_` | I18: 0 | M18: 18.4 | N18: 0 | O18: 0 | P18: 0
B19: 2. 산재보험료 | D19: =ROUNDDOWN(((E17+D18))*M19/100,0) -> 170225 | E19: ="(직접노무비+간접노무비) x "&ROUND(M19,5)&"%" -> (직접노무비+간접노무비) x 3.56% | H19: _x0007_`DTP|301_x0005_`QTY1|1_x0005_`BDC|_x0005_`SRE|SA_x0005_` | I19: 0 | M19: 3.56 | N19: 0 | O19: 0 | P19: 0
B20: 3. 고용보험료 | D20: =ROUNDDOWN(((E17+D18))*M20/100,0) -> 48294 | E20: ="(직접노무비+간접노무비) x "&ROUND(M20,5)&"%" -> (직접노무비+간접노무비) x 1.01% | H20: _x0007_`DTP|302_x0005_`QTY1|1_x0005_`BDC|_x0005_`SRE|SA_x0005_` | I20: 0 | M20: 1.01 | N20: 0 | O20: 0 | P20: 0
B21: 4. 건강보험료 | D21: =ROUNDDOWN((E17)*M21/100,0) -> 145185 | E21: ="직접노무비 x "&ROUND(M21,5)&"%" -> 직접노무비 x 3.595% | H21: _x0007_`DTP|303_x0005_`QTY1|1_x0005_`BDC|_x0005_`SRE|SA_x0005_` | I21: 0 | J21: =E17 -> 4038536 | M21: 3.595 | N21: 0 | O21: 0 | P21: 0
B22: 5. 노인장기요양보험료 | D22: =ROUNDDOWN(D21*M22/100,0) -> 19077 | E22: ="건강보험료 x "&ROUND(M22,5)&"%" -> 건강보험료 x 13.14% | H22: _x0007_`DTP|310_x0005_`QTY1|1_x0005_`BDC|_x0005_`SRE|SA_x0005_` | I22: 0 | J22: =D21 -> 145185 | M22: 13.14 | N22: 0 | O22: 0 | P22: 0
B23: 6. 연금보험료 | D23: =ROUNDDOWN((E17)*M23/100,0) -> 191830 | E23: ="직접노무비 x "&ROUND(M23,5)&"%" -> 직접노무비 x 4.75% | H23: _x0007_`DTP|304_x0005_`QTY1|1_x0005_`BDC|_x0005_`SRE|SA_x0005_` | I23: 0 | J23: =E17 -> 4038536 | M23: 4.75 | N23: 0 | O23: 0 | P23: 0
B24: 7. 퇴직공제부금비 | E24: ="직접노무비 x "&ROUND(M24,5)&"%" -> 직접노무비 x 2.3% | H24: _x0007_`DTP|305_x0005_`QTY1|1_x0005_`BDC|_x0005_`SRE|SA_x0005_` | I24: 0 | J24: =E17 -> 4038536 | M24: 2.3 | N24: 0 | O24: 0 | P24: 0
B25: 8. 산업안전보건관리비 | D25: =ROUNDDOWN(((E17+(F17)))*M25/100,0) -> 390085 | E25: ="(직노+직재+간재) x "&ROUND(M25,5)&"% = "&TEXT(D25,"#,0")&"" -> (직노+직재+간재) x 2.07% = 390,085 | H25: _x0007_`DTP|306_x0005_`QTY1|1_x0005_`BDC|_x0005_`SRE|SA_x0005_`ANK|1_x0005_` | I25: 0 | J25: =((E17+(F17))) -> 18844700 | M25: 2.07 | N25: 0 | O25: 0 | P25: 0
B26: 9. 기타경비 | D26: =ROUNDDOWN(((((E17+D18)+(F17))))*M26/100,0) -> 920626 | E26: ="(직접노무비+간접노무비+재료비) x "&ROUND(M26,5)&"%" -> (직접노무비+간접노무비+재료비) x 4.7% | H26: _x0007_`DTP|321_x0005_`QTY1|1_x0005_`BDC|_x0005_`SRE|SA_x0005_` | I26: 0 | M26: 4.7 | N26: 0 | O26: 0 | P26: 0
B27: 10. 환경보전비 | D27: =ROUNDDOWN((D17)*M27/100,0) -> 59048 | E27: ="(재료비 + 직접노무비 + 산출경비) x "&ROUND(M27,5)&"%" -> (재료비 + 직접노무비 + 산출경비) x 0.3% | H27: _x0007_`DTP|309_x0005_`QTY1|1_x0005_`BDC|_x0005_`SRE|SA_x0005_` | I27: 0 | M27: 0.3 | N27: 0 | O27: 0 | P27: 0
B28: 11. 건설기계대여금지급보증 금액 | D28: =ROUNDDOWN((D17)*M28/100,0) -> 31492 | E28: ="(재료비 + 직접노무비 + 산출경비) x "&ROUND(M28,5)&"%" -> (재료비 + 직접노무비 + 산출경비) x 0.16% | H28: _x0007_`DTP|311_x0005_`QTY1|1_x0005_`BDC|_x0005_`SRE|SA_x0005_` | I28: 0 | M28: 0.16 | N28: 0 | O28: 0 | P28: 0
B29: 12. 석면피해구제분담금 | D29: =ROUNDDOWN(((((E17+D18))))*M29/100,0) -> 286 | E29: ="(직접노무비+간접노무비) x "&ROUND(M29,5)&"%" -> (직접노무비+간접노무비) x 0.006% | M29: 0.006
B30: 13. 임금채권부담금 | D30: =ROUNDDOWN(((((E17+D18))))*M30/100,0) -> 4303 | E30: ="(직접노무비+간접노무비) x "&ROUND(M30,5)&"%" -> (직접노무비+간접노무비) x 0.09% | M30: 0.09
A31: 나. | B31: 소 계 | D31: =(D17+D18+D19+D20+D21+D22+D23+D24+D25+D26+D27+D28+D29+D30) -> 22406291 | H31: _x0007_`DTP|400_x0005_`QTY1|1_x0005_`BDC|_x0005_`SRE|TA-F_x0005_` | I31: 0 | M31: 0 | N31: 0 | O31: 0 | P31: 0
B32: 12. 일반관리비 | D32: =ROUNDDOWN(((D31)+0)*M32/100,0) -> 1792503 | E32: ="(나.소 계) x "&ROUND(M32,5)&"%" -> (나.소 계) x 8% | H32: _x0007_`DTP|401_x0005_`QTY1|1_x0005_`BDC|_x0005_`SRE|TA_x0005_` | I32: 0 | M32: 8 | N32: 0 | O32: 0 | P32: 0
A33: 다. | B33: 소 계 | D33: =(D31+D32) -> 24198794 | H33: _x0007_`DTP|410_x0005_`QTY1|1_x0005_`BDC|_x0005_`SRE|TA-F_x0005_` | I33: 0 | J33: =D33 -> 24198794 | L33: =D33 -> 24198794 | M33: 0 | N33: 0 | O33: 0 | P33: 0
B34: 13. 이 윤 | D34: =ROUNDDOWN(((D33)-(F17))*M34/100,0)-5000-200-17-120000-650-2 -> 1283025 | E34: ="(다.소계 - 재료비) x "&ROUND(M34,5)&"% = "&TEXT(J34,"#,##0") -> (다.소계 - 재료비) x 15% = 1,408,894 | H34: _x0007_`DTP|402_x0005_`QTY1|1_x0005_`BDC|_x0005_`SRE|TA_x0005_` | J34: =ROUNDDOWN(((J33)-(F17))*M34/100,0) -> 1408894 | L34: =ROUNDDOWN(((L33)-(F17))*M34/100,0)-I34 -> 1408894 | M34: 15 | N34: 0 | O34: 0 | P34: 0
A35: 라. | B35: 공급가액 | D35: =(D33+D34) -> 25481819 | H35: _x0007_`DTP|500_x0005_`QTY1|1_x0005_`BDC|_x0005_`SRE|TA-F_x0005_` | I35: 0 | J35: =(J33+J34) -> 25607688 | L35: =(L33+L34) -> 25607688 | M35: 0 | N35: 0 | O35: 0 | P35: 0
B36: 14. 부가가치세 | D36: =ROUNDDOWN((D35)*M36/100,0)+I36 -> 2548181 | E36: ="공급가액 x "&ROUND(M36,5)&"%" -> 공급가액 x 10% | H36: _x0007_`DTP|502_x0005_`QTY1|1_x0005_`BDC|_x0005_`SRE|TA_x0005_` | I36: 0 | J36: =ROUNDDOWN((J35)*M36/100,0)+I36 -> 2560768 | L36: =ROUNDDOWN((L35)*M36/100,0)+I36 -> 2560768 | M36: 10 | N36: 0 | O36: 0 | P36: 0
A37: 마. | B37: 도급공사비 | D37: =(D35+D36) -> 28030000 | H37: _x0007_`DTP|600_x0005_`QTY1|1_x0005_`BDC|_x0005_`SRE|TA-F_x0005_` | I37: 0 | J37: =(J35+J36) -> 28168456 | L37: =(L35+L36) -> 28168456 | M37: 0 | N37: 0 | O37: 0 | P37: 0

Sheet 설계내역서
A1: 설 계 내 역 서 | O1: STmate | AC1: STmate
A2: 공사명 : 2026년 처인구 숲길(등산로) 유지관리공사(2차) | O2: =MID(CELL("filename",$A$1),FIND("]",CELL("filename",$A$1))+1,LEN(CELL("filename",$A$1))) -> 설계내역서
A3: 공 종 | B3: 명 칭 | C3: 규 격 | D3: 수 량 | E3: 단위 | F3: 합 계 | H3: 노 무 비 | J3: 재 료 비 | L3: 경 비 | N3: 비 고
F4: 단 가 | G4: 금 액 | H4: 단 가 | I4: 금 액 | J4: 단 가 | K4: 금 액 | L4: 단 가 | M4: 금 액 | AC4: =HYPERLINK("#'〓 목 차 〓'!B2","목차 →") -> 목차 →
A5: □ | B5: 수지구 숲길(등산로) 정비 및 유지관리 연간단가공사 | F5: 0 | G5: =SUMIF(Q6:Q481,P5,G6:G481) -> 19682750 | H5: 0 | I5: =SUMIF(Q6:Q481,P5,I6:I481) -> 4038536 | J5: 0 | K5: =SUMIF(Q6:Q481,P5,K6:K481) -> 14806164 | L5: 0 | M5: =SUMIF(Q6:Q481,P5,M6:M481) -> 838050 | O5: ="_x0007_`COD|E5_x0005_`QTY1|1_x0005_`EXI|1_x0005_`ITT|0_x0005_`END|"&ROW(M482)&"_x0005_`" -> _x0007_`COD|E5_x0005_`QTY1|1_x0005_`EXI|1_x0005_`ITT|0_x0005_`END|482_x0005_` | P5: E5_1 | Q5: E10_1
A6: 1. | B6: 숲길정비공 | F6: 0 | G6: =SUMIF(Q7:Q152,P6,G7:G152) -> 0 | H6: 0 | I6: =SUMIF(Q7:Q152,P6,I7:I152) -> 0 | J6: 0 | K6: =SUMIF(Q7:Q152,P6,K7:K152) -> 0 | L6: 0 | M6: =SUMIF(Q7:Q152,P6,M7:M152) -> 0 | O6: ="_x0007_`COD|E4_x0005_`QTY1|1_x0005_`EXI|0_x0005_`ITT|0_x0005_`END|"&ROW(M153)&"_x0005_`" -> _x0007_`COD|E4_x0005_`QTY1|1_x0005_`EXI|0_x0005_`ITT|0_x0005_`END|153_x0005_` | P6: E4_1 | Q6: E5_1
B7: 등산로만들기(산지할증A) | C7: B=1.0m | D7: 0 | E7: m | F7: =J7+H7+L7 -> 28619 | G7: =K7+I7+M7 -> 0 | H7: =일위대가목록표!F54 -> 28487 | I7: =ROUNDDOWN(H7*D7,0) -> 0 | J7: =일위대가목록표!G54 -> 22 | K7: =ROUNDDOWN(J7*D7,0) -> 0 | L7: =일위대가목록표!H54 -> 110 | M7: =ROUNDDOWN(L7*D7,0) -> 0 | N7: B02823 | O7: _x0007_`COD|B02823_x0005_`QTY1|1_x0005_`EXI|0_x0005_`IPR|0_x0005_`BLA|F_x0005_` | P7: B02823_1 | Q7: E4_1 | AC7: =HYPERLINK("#"&일위대가목록표!J2&"!A"&ROW(일위대가목록표!A54),"B02823 →") -> B02823 →
B8: 등산로만들기(산지할증A) | C8: B=1.2m | D8: 0 | E8: m | F8: =J8+H8+L8 -> 34343 | G8: =K8+I8+M8 -> 0 | H8: =일위대가목록표!F55 -> 34185 | I8: =ROUNDDOWN(H8*D8,0) -> 0 | J8: =일위대가목록표!G55 -> 26 | K8: =ROUNDDOWN(J8*D8,0) -> 0 | L8: =일위대가목록표!H55 -> 132 | M8: =ROUNDDOWN(L8*D8,0) -> 0 | N8: B02824 | O8: _x0007_`COD|B02824_x0005_`QTY1|1_x0005_`EXI|0_x0005_`IPR|0_x0005_`BLA|F_x0005_` | P8: B02824_1 | Q8: E4_1 | AC8: =HYPERLINK("#"&일위대가목록표!J2&"!A"&ROW(일위대가목록표!A55),"B02824 →") -> B02824 →
B9: 등산로만들기(산지할증A) | C9: B=1.5m | D9: 0 | E9: m | F9: =J9+H9+L9 -> 42929 | G9: =K9+I9+M9 -> 0 | H9: =일위대가목록표!F56 -> 42731 | I9: =ROUNDDOWN(H9*D9,0) -> 0 | J9: =일위대가목록표!G56 -> 33 | K9: =ROUNDDOWN(J9*D9,0) -> 0 | L9: =일위대가목록표!H56 -> 165 | M9: =ROUNDDOWN(L9*D9,0) -> 0 | N9: B02825 | O9: _x0007_`COD|B02825_x0005_`QTY1|1_x0005_`EXI|0_x0005_`IPR|0_x0005_`BLA|F_x0005_` | P9: B02825_1 | Q9: E4_1 | AC9: =HYPERLINK("#"&일위대가목록표!J2&"!A"&ROW(일위대가목록표!A56),"B02825 →") -> B02825 →
B10: 등산로만들기(산지할증A) | C10: B=2.0m | D10: 0 | E10: m | F10: =J10+H10+L10 -> 57240 | G10: =K10+I10+M10 -> 0 | H10: =일위대가목록표!F57 -> 56976 | I10: =ROUNDDOWN(H10*D10,0) -> 0 | J10: =일위대가목록표!G57 -> 44 | K10: =ROUNDDOWN(J10*D10,0) -> 0 | L10: =일위대가목록표!H57 -> 220 | M10: =ROUNDDOWN(L10*D10,0) -> 0 | N10: B02826 | O10: _x0007_`COD|B02826_x0005_`QTY1|1_x0005_`EXI|0_x0005_`IPR|0_x0005_`BLA|F_x0005_` | P10: B02826_1 | Q10: E4_1 | AC10: =HYPERLINK("#"&일위대가목록표!J2&"!A"&ROW(일위대가목록표!A57),"B02826 →") -> B02826 →
B11: 등산로만들기(산지할증B) | C11: B=1.0m | D11: 0 | E11: m | F11: =J11+H11+L11 -> 31097 | G11: =K11+I11+M11 -> 0 | H11: =일위대가목록표!F58 -> 30965 | I11: =ROUNDDOWN(H11*D11,0) -> 0 | J11: =일위대가목록표!G58 -> 22 | K11: =ROUNDDOWN(J11*D11,0) -> 0 | L11: =일위대가목록표!H58 -> 110 | M11: =ROUNDDOWN(L11*D11,0) -> 0 | N11: B02668 | O11: _x0007_`COD|B02668_x0005_`QTY1|1_x0005_`EXI|0_x0005_`IPR|0_x0005_`BLA|F_x0005_` | P11: B02668_1 | Q11: E4_1 | AC11: =HYPERLINK("#"&일위대가목록표!J2&"!A"&ROW(일위대가목록표!A58),"B02668 →") -> B02668 →
B12: 등산로만들기(산지할증B) | C12: B=1.2m | D12: 0 | E12: m | F12: =J12+H12+L12 -> 37316 | G12: =K12+I12+M12 -> 0 | H12: =일위대가목록표!F59 -> 37158 | I12: =ROUNDDOWN(H12*D12,0) -> 0 | J12: =일위대가목록표!G59 -> 26 | K12: =ROUNDDOWN(J12*D12,0) -> 0 | L12: =일위대가목록표!H59 -> 132 | M12: =ROUNDDOWN(L12*D12,0) -> 0 | N12: B02669 | O12: _x0007_`COD|B02669_x0005_`QTY1|1_x0005_`EXI|0_x0005_`IPR|0_x0005_`BLA|F_x0005_` | P12: B02669_1 | Q12: E4_1 | AC12: =HYPERLINK("#"&일위대가목록표!J2&"!A"&ROW(일위대가목록표!A59),"B02669 →") -> B02669 →
B13: 등산로만들기(산지할증B) | C13: B=1.5m | D13: 0 | E13: m | F13: =J13+H13+L13 -> 46645 | G13: =K13+I13+M13 -> 0 | H13: =일위대가목록표!F60 -> 46447 | I13: =ROUNDDOWN(H13*D13,0) -> 0 | J13: =일위대가목록표!G60 -> 33 | K13: =ROUNDDOWN(J13*D13,0) -> 0 | L13: =일위대가목록표!H60 -> 165 | M13: =ROUNDDOWN(L13*D13,0) -> 0 | N13: B02670 | O13: _x0007_`COD|B02670_x0005_`QTY1|1_x0005_`EXI|0_x0005_`IPR|0_x0005_`BLA|F_x0005_` | P13: B02670_1 | Q13: E4_1 | AC13: =HYPERLINK("#"&일위대가목록표!J2&"!A"&ROW(일위대가목록표!A60),"B02670 →") -> B02670 →
B14: 등산로만들기(산지할증B) | C14: B=2.0m | D14: 0 | E14: m | F14: =J14+H14+L14 -> 62194 | G14: =K14+I14+M14 -> 0 | H14: =일위대가목록표!F61 -> 61930 | I14: =ROUNDDOWN(H14*D14,0) -> 0 | J14: =일위대가목록표!G61 -> 44 | K14: =ROUNDDOWN(J14*D14,0) -> 0 | L14: =일위대가목록표!H61 -> 220 | M14: =ROUNDDOWN(L14*D14,0) -> 0 | N14: B02671 | O14: _x0007_`COD|B02671_x0005_`QTY1|1_x0005_`EXI|0_x0005_`IPR|0_x0005_`BLA|F_x0005_` | P14: B02671_1 | Q14: E4_1 | AC14: =HYPERLINK("#"&일위대가목록표!J2&"!A"&ROW(일위대가목록표!A61),"B02671 →") -> B02671 →
B15: 등산로만들기 | C15: B=1.0m | D15: 0 | E15: m | F15: =J15+H15+L15 -> 24904 | G15: =K15+I15+M15 -> 0 | H15: =일위대가목록표!F50 -> 24772 | I15: =ROUNDDOWN(H15*D15,0) -> 0 | J15: =일위대가목록표!G50 -> 22 | K15: =ROUNDDOWN(J15*D15,0) -> 0 | L15: =일위대가목록표!H50 -> 110 | M15: =ROUNDDOWN(L15*D15,0) -> 0 | N15: B02627 | O15: _x0007_`COD|B02627_x0005_`QTY1|1_x0005_`EXI|0_x0005_`IPR|0_x0005_`BLA|F_x0005_` | P15: B02627_1 | Q15: E4_1 | AC15: =HYPERLINK("#"&일위대가목록표!J2&"!A"&ROW(일위대가목록표!A50),"B02627 →") -> B02627 →
B16: 등산로만들기 | C16: B=1.2m | D16: 0 | E16: m | F16: =J16+H16+L16 -> 29884 | G16: =K16+I16+M16 -> 0 | H16: =일위대가목록표!F51 -> 29726 | I16: =ROUNDDOWN(H16*D16,0) -> 0 | J16: =일위대가목록표!G51 -> 26 | K16: =ROUNDDOWN(J16*D16,0) -> 0 | L16: =일위대가목록표!H51 -> 132 | M16: =ROUNDDOWN(L16*D16,0) -> 0 | N16: B02626 | O16: _x0007_`COD|B02626_x0005_`QTY1|1_x0005_`EXI|0_x0005_`IPR|0_x0005_`BLA|F_x0005_` | P16: B02626_1 | Q16: E4_1 | AC16: =HYPERLINK("#"&일위대가목록표!J2&"!A"&ROW(일위대가목록표!A51),"B02626 →") -> B02626 →
B17: 등산로만들기 | C17: B=1.5m | D17: 0 | E17: m | F17: =J17+H17+L17 -> 37356 | G17: =K17+I17+M17 -> 0 | H17: =일위대가목록표!F52 -> 37158 | I17: =ROUNDDOWN(H17*D17,0) -> 0 | J17: =일위대가목록표!G52 -> 33 | K17: =ROUNDDOWN(J17*D17,0) -> 0 | L17: =일위대가목록표!H52 -> 165 | M17: =ROUNDDOWN(L17*D17,0) -> 0 | N17: B02020 | O17: _x0007_`COD|B02020_x0005_`QTY1|1_x0005_`EXI|0_x0005_`IPR|0_x0005_`BLA|F_x0005_` | P17: B02020_1 | Q17: E4_1 | AC17: =HYPERLINK("#"&일위대가목록표!J2&"!A"&ROW(일위대가목록표!A52),"B02020 →") -> B02020 →
B18: 등산로만들기 | C18: B=2.0m | D18: 0 | E18: m | F18: =J18+H18+L18 -> 49808 | G18: =K18+I18+M18 -> 0 | H18: =일위대가목록표!F53 -> 49544 | I18: =ROUNDDOWN(H18*D18,0) -> 0 | J18: =일위대가목록표!G53 -> 44 | K18: =ROUNDDOWN(J18*D18,0) -> 0 | L18: =일위대가목록표!H53 -> 220 | M18: =ROUNDDOWN(L18*D18,0) -> 0 | N18: B02628 | O18: _x0007_`COD|B02628_x0005_`QTY1|1_x0005_`EXI|0_x0005_`IPR|0_x0005_`BLA|F_x0005_` | P18: B02628_1 | Q18: E4_1 | AC18: =HYPERLINK("#"&일위대가목록표!J2&"!A"&ROW(일위대가목록표!A53),"B02628 →") -> B02628 →
B19: 등산로 정비(산지할증A) | C19: B=1.0m | D19: 0 | E19: m | F19: =J19+H19+L19 -> 14309 | G19: =K19+I19+M19 -> 0 | H19: =일위대가목록표!F42 -> 14243 | I19: =ROUNDDOWN(H19*D19,0) -> 0 | J19: =일위대가목록표!G42 -> 11 | K19: =ROUNDDOWN(J19*D19,0) -> 0 | L19: =일위대가목록표!H42 -> 55 | M19: =ROUNDDOWN(L19*D19,0) -> 0 | N19: B02827 | O19: _x0007_`COD|B02827_x0005_`QTY1|1_x0005_`EXI|0_x0005_`IPR|0_x0005_`BLA|F_x0005_` | P19: B02827_1 | Q19: E4_1 | AC19: =HYPERLINK("#"&일위대가목록표!J2&"!A"&ROW(일위대가목록표!A42),"B02827 →") -> B02827 →
B20: 등산로 정비(산지할증A) | C20: B=1.2m | D20: 0 | E20: m | F20: =J20+H20+L20 -> 17171 | G20: =K20+I20+M20 -> 0 | H20: =일위대가목록표!F43 -> 17092 | I20: =ROUNDDOWN(H20*D20,0) -> 0 | J20: =일위대가목록표!G43 -> 13 | K20: =ROUNDDOWN(J20*D20,0) -> 0 | L20: =일위대가목록표!H43 -> 66 | M20: =ROUNDDOWN(L20*D20,0) -> 0 | N20: B02828 | O20: _x0007_`COD|B02828_x0005_`QTY1|1_x0005_`EXI|0_x0005_`IPR|0_x0005_`BLA|F_x0005_` | P20: B02828_1 | Q20: E4_1 | AC20: =HYPERLINK("#"&일위대가목록표!J2&"!A"&ROW(일위대가목록표!A43),"B02828 →") -> B02828 →
B21: 등산로 정비(산지할증A) | C21: B=1.5m | D21: 0 | E21: m | F21: =J21+H21+L21 -> 21463 | G21: =K21+I21+M21 -> 0 | H21: =일위대가목록표!F44 -> 21365 | I21: =ROUNDDOWN(H21*D21,0) -> 0 | J21: =일위대가목록표!G44 -> 16 | K21: =ROUNDDOWN(J21*D21,0) -> 0 | L21: =일위대가목록표!H44 -> 82 | M21: =ROUNDDOWN(L21*D21,0) -> 0 | N21: B02829 | O21: _x0007_`COD|B02829_x0005_`QTY1|1_x0005_`EXI|0_x0005_`IPR|0_x0005_`BLA|F_x0005_` | P21: B02829_1 | Q21: E4_1 | AC21: =HYPERLINK("#"&일위대가목록표!J2&"!A"&ROW(일위대가목록표!A44),"B02829 →") -> B02829 →
B22: 등산로 정비(산지할증A) | C22: B=2.0m | D22: 0 | E22: m | F22: =J22+H22+L22 -> 28619 | G22: =K22+I22+M22 -> 0 | H22: =일위대가목록표!F45 -> 28487 | I22: =ROUNDDOWN(H22*D22,0) -> 0 | J22: =일위대가목록표!G45 -> 22 | K22: =ROUNDDOWN(J22*D22,0) -> 0 | L22: =일위대가목록표!H45 -> 110 | M22: =ROUNDDOWN(L22*D22,0) -> 0 | N22: B02830 | O22: _x0007_`COD|B02830_x0005_`QTY1|1_x0005_`EXI|0_x0005_`IPR|0_x0005_`BLA|F_x0005_` | P22: B02830_1 | Q22: E4_1 | AC22: =HYPERLINK("#"&일위대가목록표!J2&"!A"&ROW(일위대가목록표!A45),"B02830 →") -> B02830 →
B23: 등산로 정비(산지할증B) | C23: B=1.0m | D23: 0 | E23: m | F23: =J23+H23+L23 -> 15548 | G23: =K23+I23+M23 -> 0 | H23: =일위대가목록표!F46 -> 15482 | I23: =ROUNDDOWN(H23*D23,0) -> 0 | J23: =일위대가목록표!G46 -> 11 | K23: =ROUNDDOWN(J23*D23,0) -> 0 | L23: =일위대가목록표!H46 -> 55 | M23: =ROUNDDOWN(L23*D23,0) -> 0 | N23: B02664 | O23: _x0007_`COD|B02664_x0005_`QTY1|1_x0005_`EXI|0_x0005_`IPR|0_x0005_`BLA|F_x0005_` | P23: B02664_1 | Q23: E4_1 | AC23: =HYPERLINK("#"&일위대가목록표!J2&"!A"&ROW(일위대가목록표!A46),"B02664 →") -> B02664 →
B24: 등산로 정비(산지할증B) | C24: B=1.2m | D24: 0 | E24: m | F24: =J24+H24+L24 -> 18658 | G24: =K24+I24+M24 -> 0 | H24: =일위대가목록표!F47 -> 18579 | I24: =ROUNDDOWN(H24*D24,0) -> 0 | J24: =일위대가목록표!G47 -> 13 | K24: =ROUNDDOWN(J24*D24,0) -> 0 | L24: =일위대가목록표!H47 -> 66 | M24: =ROUNDDOWN(L24*D24,0) -> 0 | N24: B02665 | O24: _x0007_`COD|B02665_x0005_`QTY1|1_x0005_`EXI|0_x0005_`IPR|0_x0005_`BLA|F_x0005_` | P24: B02665_1 | Q24: E4_1 | AC24: =HYPERLINK("#"&일위대가목록표!J2&"!A"&ROW(일위대가목록표!A47),"B02665 →") -> B02665 →
B25: 등산로 정비(산지할증B) | C25: B=1.5m | D25: 0 | E25: m | F25: =J25+H25+L25 -> 23321 | G25: =K25+I25+M25 -> 0 | H25: =일위대가목록표!F48 -> 23223 | I25: =ROUNDDOWN(H25*D25,0) -> 0 | J25: =일위대가목록표!G48 -> 16 | K25: =ROUNDDOWN(J25*D25,0) -> 0 | L25: =일위대가목록표!H48 -> 82 | M25: =ROUNDDOWN(L25*D25,0) -> 0 | N25: B02666 | O25: _x0007_`COD|B02666_x0005_`QTY1|1_x0005_`EXI|0_x0005_`IPR|0_x0005_`BLA|F_x0005_` | P25: B02666_1 | Q25: E4_1 | AC25: =HYPERLINK("#"&일위대가목록표!J2&"!A"&ROW(일위대가목록표!A48),"B02666 →") -> B02666 →
B26: 등산로 정비(산지할증B) | C26: B=2.0m | D26: 0 | E26: m | F26: =J26+H26+L26 -> 31097 | G26: =K26+I26+M26 -> 0 | H26: =일위대가목록표!F49 -> 30965 | I26: =ROUNDDOWN(H26*D26,0) -> 0 | J26: =일위대가목록표!G49 -> 22 | K26: =ROUNDDOWN(J26*D26,0) -> 0 | L26: =일위대가목록표!H49 -> 110 | M26: =ROUNDDOWN(L26*D26,0) -> 0 | N26: B02667 | O26: _x0007_`COD|B02667_x0005_`QTY1|1_x0005_`EXI|0_x0005_`IPR|0_x0005_`BLA|F_x0005_` | P26: B02667_1 | Q26: E4_1 | AC26: =HYPERLINK("#"&일위대가목록표!J2&"!A"&ROW(일위대가목록표!A49),"B02667 →") -> B02667 →
B27: 등산로 정비 | C27: B=1.0m | D27: 0 | E27: m | F27: =J27+H27+L27 -> 12452 | G27: =K27+I27+M27 -> 0 | H27: =일위대가목록표!F38 -> 12386 | I27: =ROUNDDOWN(H27*D27,0) -> 0 | J27: =일위대가목록표!G38 -> 11 | K27: =ROUNDDOWN(J27*D27,0) -> 0 | L27: =일위대가목록표!H38 -> 55 | M27: =ROUNDDOWN(L27*D27,0) -> 0 | N27: B02660 | O27: _x0007_`COD|B02660_x0005_`QTY1|1_x0005_`EXI|0_x0005_`IPR|0_x0005_`BLA|F_x0005_` | P27: B02660_1 | Q27: E4_1 | AC27: =HYPERLINK("#"&일위대가목록표!J2&"!A"&ROW(일위대가목록표!A38),"B02660 →") -> B02660 →
B28: 등산로 정비 | C28: B=1.2m | D28: 0 | E28: m | F28: =J28+H28+L28 -> 14942 | G28: =K28+I28+M28 -> 0 | H28: =일위대가목록표!F39 -> 14863 | I28: =ROUNDDOWN(H28*D28,0) -> 0 | J28: =일위대가목록표!G39 -> 13 | K28: =ROUNDDOWN(J28*D28,0) -> 0 | L28: =일위대가목록표!H39 -> 66 | M28: =ROUNDDOWN(L28*D28,0) -> 0 | N28: B02661 | O28: _x0007_`COD|B02661_x0005_`QTY1|1_x0005_`EXI|0_x0005_`IPR|0_x0005_`BLA|F_x0005_` | P28: B02661_1 | Q28: E4_1 | AC28: =HYPERLINK("#"&일위대가목록표!J2&"!A"&ROW(일위대가목록표!A39),"B02661 →") -> B02661 →
B29: 등산로 정비 | C29: B=1.5m | D29: 0 | E29: m | F29: =J29+H29+L29 -> 18677 | G29: =K29+I29+M29 -> 0 | H29: =일위대가목록표!F40 -> 18579 | I29: =ROUNDDOWN(H29*D29,0) -> 0 | J29: =일위대가목록표!G40 -> 16 | K29: =ROUNDDOWN(J29*D29,0) -> 0 | L29: =일위대가목록표!H40 -> 82 | M29: =ROUNDDOWN(L29*D29,0) -> 0 | N29: B02662 | O29: _x0007_`COD|B02662_x0005_`QTY1|1_x0005_`EXI|0_x0005_`IPR|0_x0005_`BLA|F_x0005_` | P29: B02662_1 | Q29: E4_1 | AC29: =HYPERLINK("#"&일위대가목록표!J2&"!A"&ROW(일위대가목록표!A40),"B02662 →") -> B02662 →
B30: 등산로 정비 | C30: B=2.0m | D30: 0 | E30: m | F30: =J30+H30+L30 -> 24904 | G30: =K30+I30+M30 -> 0 | H30: =일위대가목록표!F41 -> 24772 | I30: =ROUNDDOWN(H30*D30,0) -> 0 | J30: =일위대가목록표!G41 -> 22 | K30: =ROUNDDOWN(J30*D30,0) -> 0 | L30: =일위대가목록표!H41 -> 110 | M30: =ROUNDDOWN(L30*D30,0) -> 0 | N30: B02663 | O30: _x0007_`COD|B02663_x0005_`QTY1|1_x0005_`EXI|0_x0005_`IPR|0_x0005_`BLA|F_x0005_` | P30: B02663_1 | Q30: E4_1 | AC30: =HYPERLINK("#"&일위대가목록표!J2&"!A"&ROW(일위대가목록표!A41),"B02663 →") -> B02663 →
B31: 안전로프(산지할증A) | C31: H1200 | D31: 0 | E31: 경간 | F31: =J31+H31+L31 -> 119492 | G31: =K31+I31+M31 -> 0 | H31: =일위대가목록표!F211 -> 59204 | I31: =ROUNDDOWN(H31*D31,0) -> 0 | J31: =일위대가목록표!G211 -> 60106 | K31: =ROUNDDOWN(J31*D31,0) -> 0 | L31: =일위대가목록표!H211 -> 182 | M31: =ROUNDDOWN(L31*D31,0) -> 0 | N31: B02831 | O31: _x0007_`COD|B02831_x0005_`QTY1|1_x0005_`EXI|0_x0005_`IPR|0_x0005_`BLA|F_x0005_` | P31: B02831_1 | Q31: E4_1 | AC31: =HYPERLINK("#"&일위대가목록표!J2&"!A"&ROW(일위대가목록표!A211),"B02831 →") -> B02831 →
B32: 안전로프(산지할증B) | C32: H1200 | D32: 0 | E32: 경간 | F32: =J32+H32+L32 -> 124640 | G32: =K32+I32+M32 -> 0 | H32: =일위대가목록표!F212 -> 64352 | I32: =ROUNDDOWN(H32*D32,0) -> 0 | J32: =일위대가목록표!G212 -> 60106 | K32: =ROUNDDOWN(J32*D32,0) -> 0 | L32: =일위대가목록표!H212 -> 182 | M32: =ROUNDDOWN(L32*D32,0) -> 0 | N32: B02087 | O32: _x0007_`COD|B02087_x0005_`QTY1|1_x0005_`EXI|0_x0005_`IPR|0_x0005_`BLA|F_x0005_` | P32: B02087_1 | Q32: E4_1 | AC32: =HYPERLINK("#"&일위대가목록표!J2&"!A"&ROW(일위대가목록표!A212),"B02087 →") -> B02087 →
B33: 안전로프 | C33: H1200 | D33: 0 | E33: 경간 | F33: =J33+H33+L33 -> 112115 | G33: =K33+I33+M33 -> 0 | H33: =일위대가목록표!F194 -> 51482 | I33: =ROUNDDOWN(H33*D33,0) -> 0 | J33: =일위대가목록표!G194 -> 60451 | K33: =ROUNDDOWN(J33*D33,0) -> 0 | L33: =일위대가목록표!H194 -> 182 | M33: =ROUNDDOWN(L33*D33,0) -> 0 | N33: B02474 | O33: _x0007_`COD|B02474_x0005_`QTY1|1_x0005_`EXI|0_x0005_`IPR|0_x0005_`BLA|F_x0005_` | P33: B02474_1 | Q33: E4_1 | AC33: =HYPERLINK("#"&일위대가목록표!J2&"!A"&ROW(일위대가목록표!A194),"B02474 →") -> B02474 →
B34: 안전로프 시종점(산지할증A) | C34: 기초&턴버클 | D34: 0 | E34: 개소 | F34: =J34+H34+L34 -> 191989 | G34: =K34+I34+M34 -> 0 | H34: =일위대가목록표!F203 -> 53486 | I34: =ROUNDDOWN(H34*D34,0) -> 0 | J34: =일위대가목록표!G203 -> 138335 | K34: =ROUNDDOWN(J34*D34,0) -> 0 | L34: =일위대가목록표!H203 -> 168 | M34: =ROUNDDOWN(L34*D34,0) -> 0 | N34: B02832 | O34: _x0007_`COD|B02832_x0005_`QTY1|1_x0005_`EXI|0_x0005_`IPR|0_x0005_`BLA|F_x0005_` | P34: B02832_1 | Q34: E4_1 | AC34: =HYPERLINK("#"&일위대가목록표!J2&"!A"&ROW(일위대가목록표!A203),"B02832 →") -> B02832 →
B35: 안전로프 시종점(산지할증B) | C35: 기초&턴버클 | D35: 0 | E35: 개소 | F35: =J35+H35+L35 -> 195815 | G35: =K35+I35+M35 -> 0 | H35: =일위대가목록표!F204 -> 57312 | I35: =ROUNDDOWN(H35*D35,0) -> 0 | J35: =일위대가목록표!G204 -> 138335 | K35: =ROUNDDOWN(J35*D35,0) -> 0 | L35: =일위대가목록표!H204 -> 168 | M35: =ROUNDDOWN(L35*D35,0) -> 0 | N35: B02086 | O35: _x0007_`COD|B02086_x0005_`QTY1|1_x0005_`EXI|0_x0005_`IPR|0_x0005_`BLA|F_x0005_` | P35: B02086_1 | Q35: E4_1 | AC35: =HYPERLINK("#"&일위대가목록표!J2&"!A"&ROW(일위대가목록표!A204),"B02086 →") -> B02086 →
B36: 안전로프 시종점 | C36: 기초&턴버클 | D36: 0 | E36: 개소 | F36: =J36+H36+L36 -> 186250 | G36: =K36+I36+M36 -> 0 | H36: =일위대가목록표!F202 -> 47747 | I36: =ROUNDDOWN(H36*D36,0) -> 0 | J36: =일위대가목록표!G202 -> 138335 | K36: =ROUNDDOWN(J36*D36,0) -> 0 | L36: =일위대가목록표!H202 -> 168 | M36: =ROUNDDOWN(L36*D36,0) -> 0 | N36: B02473 | O36: _x0007_`COD|B02473_x0005_`QTY1|1_x0005_`EXI|0_x0005_`IPR|0_x0005_`BLA|F_x0005_` | P36: B02473_1 | Q36: E4_1 | AC36: =HYPERLINK("#"&일위대가목록표!J2&"!A"&ROW(일위대가목록표!A202),"B02473 →") -> B02473 →
B37: 목재계단(산지할증A) | C37: W800*320*H150 | D37: 0 | E37: 단 | F37: =J37+H37+L37 -> 120585 | G37: =K37+I37+M37 -> 0 | H37: =일위대가목록표!F107 -> 44012 | I37: =ROUNDDOWN(H37*D37,0) -> 0 | J37: =일위대가목록표!G107 -> 76573 | K37: =ROUNDDOWN(J37*D37,0) -> 0 | L37: =일위대가목록표!H107 -> 0 | M37: =ROUNDDOWN(L37*D37,0) -> 0 | N37: B02833 | O37: _x0007_`COD|B02833_x0005_`QTY1|1_x0005_`EXI|0_x0005_`IPR|0_x0005_`BLA|F_x0005_` | P37: B02833_1 | Q37: E4_1 | AC37: =HYPERLINK("#"&일위대가목록표!J2&"!A"&ROW(일위대가목록표!A107),"B02833 →") -> B02833 →
B38: 목재계단(산지할증A) | C38: W1000*320*H150 | D38: 0 | E38: 단 | F38: =J38+H38+L38 -> 150826 | G38: =K38+I38+M38 -> 0 | H38: =일위대가목록표!F103 -> 55541 | I38: =ROUNDDOWN(H38*D38,0) -> 0 | J38: =일위대가목록표!G103 -> 95285 | K38: =ROUNDDOWN(J38*D38,0) -> 0 | L38: =일위대가목록표!H103 -> 0 | M38: =ROUNDDOWN(L38*D38,0) -> 0 | N38: B02834 | O38: _x0007_`COD|B02834_x0005_`QTY1|1_x0005_`EXI|0_x0005_`IPR|0_x0005_`BLA|F_x0005_` | P38: B02834_1 | Q38: E4_1 | AC38: =HYPERLINK("#"&일위대가목록표!J2&"!A"&ROW(일위대가목록표!A103),"B02834 →") -> B02834 →
B39: 목재계단(산지할증A) | C39: W1200*320*H150 | D39: 0 | E39: 단 | F39: =J39+H39+L39 -> 180510 | G39: =K39+I39+M39 -> 0 | H39: =일위대가목록표!F104 -> 67071 | I39: =ROUNDDOWN(H39*D39,0) -> 0 | J39: =일위대가목록표!G104 -> 113439 | K39: =ROUNDDOWN(J39*D39,0) -> 0 | L39: =일위대가목록표!H104 -> 0 | M39: =ROUNDDOWN(L39*D39,0) -> 0 | N39: B02835 | O39: _x0007_`COD|B02835_x0005_`QTY1|1_x0005_`EXI|0_x0005_`IPR|0_x0005_`BLA|F_x0005_` | P39: B02835_1 | Q39: E4_1 | AC39: =HYPERLINK("#"&일위대가목록표!J2&"!A"&ROW(일위대가목록표!A104),"B02835 →") -> B02835 →
B40: 목재계단(산지할증A) | C40: W1500*320*H150 | D40: 0 | E40: 단 | F40: =J40+H40+L40 -> 225427 | G40: =K40+I40+M40 -> 0 | H40: =일위대가목록표!F105 -> 83369 | I40: =ROUNDDOWN(H40*D40,0) -> 0 | J40: =일위대가목록표!G105 -> 142058 | K40: =ROUNDDOWN(J40*D40,0) -> 0 | L40: =일위대가목록표!H105 -> 0 | M40: =ROUNDDOWN(L40*D40,0) -> 0 | N40: B02836 | O40: _x0007_`COD|B02836_x0005_`QTY1|1_x0005_`EXI|0_x0005_`IPR|0_x0005_`BLA|F_x0005_` | P40: B02836_1 | Q40: E4_1 | AC40: =HYPERLINK("#"&일위대가목록표!J2&"!A"&ROW(일위대가목록표!A105),"B02836 →") -> B02836 →
...

Sheet 일위대가목록표
A1: 일위대가 목록표 | J1: STmate | K1: STmate
A2: 공사명 : 2026년 처인구 숲길(등산로) 유지관리공사(2차) | J2: =MID(CELL("filename",$A$1),FIND("]",CELL("filename",$A$1))+1,LEN(CELL("filename",$A$1))) -> 일위대가목록표
A3: 코드번호 | B3: 명 칭 | C3: 규 격 | D3: 단위 | E3: 합 계 | F3: 노 무 비 | G3: 재 료 비 | H3: 경 비 | I3: 비 고 | K3: =HYPERLINK("#'〓 목 차 〓'!B2","목차 →") -> 목차 →
A4: B02797 | B4: 거적 덮기 | C4: T=4mm | D4: ㎡ | E4: =일위대가표!F12 -> 4359 | F4: =일위대가표!H12 -> 590 | G4: =일위대가표!J12 -> 3769 | H4: =일위대가표!L12 -> 0 | I4: 산림4-25 | J4: ="_x0007_`COD|B02797_x0005_`QTY1|1_x0005_`BQC|산림4-25_x0005_`EQC|_x0005_`JDC|_x0005_`WQC|_x0005_`EDT|_x0005_`ADJ|F_x0005_`DET|"&ROW(일위대가표!A5)&"_x0005_`" -> _x0007_`COD|B02797_x0005_`QTY1|1_x0005_`BQC|산림4-25_x0005_`EQC|_x0005_`JDC|_x0005_`WQC|_x0005_`EDT|_x0005_`ADJ|F_x0005_`DET|5_x0005_` | K4: =HYPERLINK("#"&일위대가표!N2&"!A"&ROW(일위대가표!A5),"B02797 →") -> B02797 →
A5: B02589 | B5: 공원안내판 설치 | C5: 1000*750 | D5: 개소 | E5: =일위대가표!F16 -> 2376000 | F5: =일위대가표!H16 -> 0 | G5: =일위대가표!J16 -> 2376000 | H5: =일위대가표!L16 -> 0 | J5: ="_x0007_`COD|B02589_x0005_`QTY1|1_x0005_`BQC|_x0005_`EQC|_x0005_`JDC|_x0005_`WQC|_x0005_`EDT|_x0005_`ADJ|F_x0005_`DET|"&ROW(일위대가표!A13)&"_x0005_`" -> _x0007_`COD|B02589_x0005_`QTY1|1_x0005_`BQC|_x0005_`EQC|_x0005_`JDC|_x0005_`WQC|_x0005_`EDT|_x0005_`ADJ|F_x0005_`DET|13_x0005_` | K5: =HYPERLINK("#"&일위대가표!N2&"!A"&ROW(일위대가표!A13),"B02589 →") -> B02589 →
A6: B02590 | B6: 관광안내판 설치 | C6: 2000*1200 | D6: 개소 | E6: =일위대가표!F20 -> 6648000 | F6: =일위대가표!H20 -> 0 | G6: =일위대가표!J20 -> 6648000 | H6: =일위대가표!L20 -> 0 | J6: ="_x0007_`COD|B02590_x0005_`QTY1|1_x0005_`BQC|_x0005_`EQC|_x0005_`JDC|_x0005_`WQC|_x0005_`EDT|_x0005_`ADJ|F_x0005_`DET|"&ROW(일위대가표!A17)&"_x0005_`" -> _x0007_`COD|B02590_x0005_`QTY1|1_x0005_`BQC|_x0005_`EQC|_x0005_`JDC|_x0005_`WQC|_x0005_`EDT|_x0005_`ADJ|F_x0005_`DET|17_x0005_` | K6: =HYPERLINK("#"&일위대가표!N2&"!A"&ROW(일위대가표!A17),"B02590 →") -> B02590 →
A7: B02713 | B7: 관목제거 | C7: H0.3~0.7 | D7: 주 | E7: =일위대가표!F24 -> 516 | F7: =일위대가표!H24 -> 516 | G7: =일위대가표!J24 -> 0 | H7: =일위대가표!L24 -> 0 | I7: 25조경설계대가 | J7: ="_x0007_`COD|B02713_x0005_`QTY1|1_x0005_`BQC|25조경설계대가_x0005_`EQC|_x0005_`JDC|_x0005_`WQC|_x0005_`EDT|_x0005_`ADJ|F_x0005_`DET|"&ROW(일위대가표!A21)&"_x0005_`" -> _x0007_`COD|B02713_x0005_`QTY1|1_x0005_`BQC|25조경설계대가_x0005_`EQC|_x0005_`JDC|_x0005_`WQC|_x0005_`EDT|_x0005_`ADJ|F_x0005_`DET|21_x0005_` | K7: =HYPERLINK("#"&일위대가표!N2&"!A"&ROW(일위대가표!A21),"B02713 →") -> B02713 →
A8: B02712 | B8: 관목제거 | C8: H0.3미만 | D8: 주 | E8: =일위대가표!F28 -> 172 | F8: =일위대가표!H28 -> 172 | G8: =일위대가표!J28 -> 0 | H8: =일위대가표!L28 -> 0 | I8: 25조경설계대가 | J8: ="_x0007_`COD|B02712_x0005_`QTY1|1_x0005_`BQC|25조경설계대가_x0005_`EQC|_x0005_`JDC|_x0005_`WQC|_x0005_`EDT|_x0005_`ADJ|F_x0005_`DET|"&ROW(일위대가표!A25)&"_x0005_`" -> _x0007_`COD|B02712_x0005_`QTY1|1_x0005_`BQC|25조경설계대가_x0005_`EQC|_x0005_`JDC|_x0005_`WQC|_x0005_`EDT|_x0005_`ADJ|F_x0005_`DET|25_x0005_` | K8: =HYPERLINK("#"&일위대가표!N2&"!A"&ROW(일위대가표!A25),"B02712 →") -> B02712 →
A9: B02714 | B9: 관목제거 | C9: H0.8~1.1 | D9: 주 | E9: =일위대가표!F32 -> 688 | F9: =일위대가표!H32 -> 688 | G9: =일위대가표!J32 -> 0 | H9: =일위대가표!L32 -> 0 | I9: 25조경설계대가 | J9: ="_x0007_`COD|B02714_x0005_`QTY1|1_x0005_`BQC|25조경설계대가_x0005_`EQC|_x0005_`JDC|_x0005_`WQC|_x0005_`EDT|_x0005_`ADJ|F_x0005_`DET|"&ROW(일위대가표!A29)&"_x0005_`" -> _x0007_`COD|B02714_x0005_`QTY1|1_x0005_`BQC|25조경설계대가_x0005_`EQC|_x0005_`JDC|_x0005_`WQC|_x0005_`EDT|_x0005_`ADJ|F_x0005_`DET|29_x0005_` | K9: =HYPERLINK("#"&일위대가표!N2&"!A"&ROW(일위대가표!A29),"B02714 →") -> B02714 →
A10: B02715 | B10: 관목제거 | C10: H1.2~1.5 | D10: 주 | E10: =일위대가표!F36 -> 1032 | F10: =일위대가표!H36 -> 1032 | G10: =일위대가표!J36 -> 0 | H10: =일위대가표!L36 -> 0 | I10: 25조경설계대가 | J10: ="_x0007_`COD|B02715_x0005_`QTY1|1_x0005_`BQC|25조경설계대가_x0005_`EQC|_x0005_`JDC|_x0005_`WQC|_x0005_`EDT|_x0005_`ADJ|F_x0005_`DET|"&ROW(일위대가표!A33)&"_x0005_`" -> _x0007_`COD|B02715_x0005_`QTY1|1_x0005_`BQC|25조경설계대가_x0005_`EQC|_x0005_`JDC|_x0005_`WQC|_x0005_`EDT|_x0005_`ADJ|F_x0005_`DET|33_x0005_` | K10: =HYPERLINK("#"&일위대가표!N2&"!A"&ROW(일위대가표!A33),"B02715 →") -> B02715 →
A11: B02716 | B11: 관목제거 | C11: H1.6~2.0 | D11: 주 | E11: =일위대가표!F40 -> 1376 | F11: =일위대가표!H40 -> 1376 | G11: =일위대가표!J40 -> 0 | H11: =일위대가표!L40 -> 0 | I11: 25조경설계대가 | J11: ="_x0007_`COD|B02716_x0005_`QTY1|1_x0005_`BQC|25조경설계대가_x0005_`EQC|_x0005_`JDC|_x0005_`WQC|_x0005_`EDT|_x0005_`ADJ|F_x0005_`DET|"&ROW(일위대가표!A37)&"_x0005_`" -> _x0007_`COD|B02716_x0005_`QTY1|1_x0005_`BQC|25조경설계대가_x0005_`EQC|_x0005_`JDC|_x0005_`WQC|_x0005_`EDT|_x0005_`ADJ|F_x0005_`DET|37_x0005_` | K11: =HYPERLINK("#"&일위대가표!N2&"!A"&ROW(일위대가표!A37),"B02716 →") -> B02716 →
A12: B02717 | B12: 관목제거 | C12: H2.1~2.5 | D12: 주 | E12: =일위대가표!F44 -> 1720 | F12: =일위대가표!H44 -> 1720 | G12: =일위대가표!J44 -> 0 | H12: =일위대가표!L44 -> 0 | I12: 25조경설계대가 | J12: ="_x0007_`COD|B02717_x0005_`QTY1|1_x0005_`BQC|25조경설계대가_x0005_`EQC|_x0005_`JDC|_x0005_`WQC|_x0005_`EDT|_x0005_`ADJ|F_x0005_`DET|"&ROW(일위대가표!A41)&"_x0005_`" -> _x0007_`COD|B02717_x0005_`QTY1|1_x0005_`BQC|25조경설계대가_x0005_`EQC|_x0005_`JDC|_x0005_`WQC|_x0005_`EDT|_x0005_`ADJ|F_x0005_`DET|41_x0005_` | K12: =HYPERLINK("#"&일위대가표!N2&"!A"&ROW(일위대가표!A41),"B02717 →") -> B02717 →
A13: B02645 | B13: 구름걷기 | C13: 2745*715*1830 | D13: 개소 | E13: =일위대가표!F48 -> 3950000 | F13: =일위대가표!H48 -> 0 | G13: =일위대가표!J48 -> 3950000 | H13: =일위대가표!L48 -> 0 | J13: ="_x0007_`COD|B02645_x0005_`QTY1|1_x0005_`BQC|_x0005_`EQC|_x0005_`JDC|_x0005_`WQC|_x0005_`EDT|_x0005_`ADJ|F_x0005_`DET|"&ROW(일위대가표!A45)&"_x0005_`" -> _x0007_`COD|B02645_x0005_`QTY1|1_x0005_`BQC|_x0005_`EQC|_x0005_`JDC|_x0005_`WQC|_x0005_`EDT|_x0005_`ADJ|F_x0005_`DET|45_x0005_` | K13: =HYPERLINK("#"&일위대가표!N2&"!A"&ROW(일위대가표!A45),"B02645 →") -> B02645 →
A14: B02587 | B14: 금지행위안내판 설치 | C14: 600*900 | D14: 개소 | E14: =일위대가표!F52 -> 2004000 | F14: =일위대가표!H52 -> 0 | G14: =일위대가표!J52 -> 2004000 | H14: =일위대가표!L52 -> 0 | J14: ="_x0007_`COD|B02587_x0005_`QTY1|1_x0005_`BQC|_x0005_`EQC|_x0005_`JDC|_x0005_`WQC|_x0005_`EDT|_x0005_`ADJ|F_x0005_`DET|"&ROW(일위대가표!A49)&"_x0005_`" -> _x0007_`COD|B02587_x0005_`QTY1|1_x0005_`BQC|_x0005_`EQC|_x0005_`JDC|_x0005_`WQC|_x0005_`EDT|_x0005_`ADJ|F_x0005_`DET|49_x0005_` | K14: =HYPERLINK("#"&일위대가표!N2&"!A"&ROW(일위대가표!A49),"B02587 →") -> B02587 →
A15: B02299 | B15: 기초다짐 및 뒷채움 | C15: 잡석, 75mm미만 | D15: ㎥ | E15: =일위대가표!F59 -> 15336 | F15: =일위대가표!H59 -> 12868 | G15: =일위대가표!J59 -> 1153 | H15: =일위대가표!L59 -> 1315 | I15: 산림12-3 | J15: ="_x0007_`COD|B02299_x0005_`QTY1|1_x0005_`BQC|산림12-3_x0005_`EQC|_x0005_`JDC|_x0005_`WQC|_x0005_`EDT|_x0005_`ADJ|F_x0005_`DET|"&ROW(일위대가표!A53)&"_x0005_`" -> _x0007_`COD|B02299_x0005_`QTY1|1_x0005_`BQC|산림12-3_x0005_`EQC|_x0005_`JDC|_x0005_`WQC|_x0005_`EDT|_x0005_`ADJ|F_x0005_`DET|53_x0005_` | K15: =HYPERLINK("#"&일위대가표!N2&"!A"&ROW(일위대가표!A53),"B02299 →") -> B02299 →
A16: B02562 | B16: 녹막이페인트칠 | C16: 철재면 1회 | D16: ㎡ | E16: =일위대가표!F67 -> 5122 | F16: =일위대가표!H67 -> 4461 | G16: =일위대가표!J67 -> 572 | H16: =일위대가표!L67 -> 89 | I16: 건축11-2-6 | J16: ="_x0007_`COD|B02562_x0005_`QTY1|1_x0005_`BQC|건축11-2-6_x0005_`EQC|_x0005_`JDC|_x0005_`WQC|_x0005_`EDT|_x0005_`ADJ|F_x0005_`DET|"&ROW(일위대가표!A60)&"_x0005_`" -> _x0007_`COD|B02562_x0005_`QTY1|1_x0005_`BQC|건축11-2-6_x0005_`EQC|_x0005_`JDC|_x0005_`WQC|_x0005_`EDT|_x0005_`ADJ|F_x0005_`DET|60_x0005_` | K16: =HYPERLINK("#"&일위대가표!N2&"!A"&ROW(일위대가표!A60),"B02562 →") -> B02562 →
A17: B02107 | B17: 녹막이페인트칠 | C17: 철재면 2회 | D17: ㎡ | E17: =일위대가표!F75 -> 10251 | F17: =일위대가표!H75 -> 8922 | G17: =일위대가표!J75 -> 1151 | H17: =일위대가표!L75 -> 178 | I17: 건축11-2-6 | J17: ="_x0007_`COD|B02107_x0005_`QTY1|1_x0005_`BQC|건축11-2-6_x0005_`EQC|_x0005_`JDC|_x0005_`WQC|_x0005_`EDT|_x0005_`ADJ|F_x0005_`DET|"&ROW(일위대가표!A68)&"_x0005_`" -> _x0007_`COD|B02107_x0005_`QTY1|1_x0005_`BQC|건축11-2-6_x0005_`EQC|_x0005_`JDC|_x0005_`WQC|_x0005_`EDT|_x0005_`ADJ|F_x0005_`DET|68_x0005_` | K17: =HYPERLINK("#"&일위대가표!N2&"!A"&ROW(일위대가표!A68),"B02107 →") -> B02107 →
A18: B02531 | B18: 다리근육모으기 | C18: 2065*550*1800 | D18: 개소 | E18: =일위대가표!F79 -> 5450000 | F18: =일위대가표!H79 -> 0 | G18: =일위대가표!J79 -> 5450000 | H18: =일위대가표!L79 -> 0 | J18: ="_x0007_`COD|B02531_x0005_`QTY1|1_x0005_`BQC|_x0005_`EQC|_x0005_`JDC|_x0005_`WQC|_x0005_`EDT|_x0005_`ADJ|F_x0005_`DET|"&ROW(일위대가표!A76)&"_x0005_`" -> _x0007_`COD|B02531_x0005_`QTY1|1_x0005_`BQC|_x0005_`EQC|_x0005_`JDC|_x0005_`WQC|_x0005_`EDT|_x0005_`ADJ|F_x0005_`DET|76_x0005_` | K18: =HYPERLINK("#"&일위대가표!N2&"!A"&ROW(일위대가표!A76),"B02531 →") -> B02531 →
A19: B02537 | B19: 다리근육모으기&양팔당기기 | C19: 2300*715*1800 | D19: 개소 | E19: =일위대가표!F83 -> 6110000 | F19: =일위대가표!H83 -> 0 | G19: =일위대가표!J83 -> 6110000 | H19: =일위대가표!L83 -> 0 | J19: ="_x0007_`COD|B02537_x0005_`QTY1|1_x0005_`BQC|_x0005_`EQC|_x0005_`JDC|_x0005_`WQC|_x0005_`EDT|_x0005_`ADJ|F_x0005_`DET|"&ROW(일위대가표!A80)&"_x0005_`" -> _x0007_`COD|B02537_x0005_`QTY1|1_x0005_`BQC|_x0005_`EQC|_x0005_`JDC|_x0005_`WQC|_x0005_`EDT|_x0005_`ADJ|F_x0005_`DET|80_x0005_` | K19: =HYPERLINK("#"&일위대가표!N2&"!A"&ROW(일위대가표!A80),"B02537 →") -> B02537 →
A20: B02533 | B20: 달리기 | C20: 3585*575*1830 | D20: 개소 | E20: =일위대가표!F87 -> 4335000 | F20: =일위대가표!H87 -> 0 | G20: =일위대가표!J87 -> 4335000 | H20: =일위대가표!L87 -> 0 | J20: ="_x0007_`COD|B02533_x0005_`QTY1|1_x0005_`BQC|_x0005_`EQC|_x0005_`JDC|_x0005_`WQC|_x0005_`EDT|_x0005_`ADJ|F_x0005_`DET|"&ROW(일위대가표!A84)&"_x0005_`" -> _x0007_`COD|B02533_x0005_`QTY1|1_x0005_`BQC|_x0005_`EQC|_x0005_`JDC|_x0005_`WQC|_x0005_`EDT|_x0005_`ADJ|F_x0005_`DET|84_x0005_` | K20: =HYPERLINK("#"&일위대가표!N2&"!A"&ROW(일위대가표!A84),"B02533 →") -> B02533 →
A21: B02655 | B21: 데크계단 오일스테인칠 | C21: W1500, 상판&난간 | D21: m | E21: =일위대가표!F92 -> 23923 | F21: =일위대가표!H92 -> 21519 | G21: =일위대가표!J92 -> 1886 | H21: =일위대가표!L92 -> 518 | J21: ="_x0007_`COD|B02655_x0005_`QTY1|1_x0005_`BQC|_x0005_`EQC|_x0005_`JDC|_x0005_`WQC|_x0005_`EDT|_x0005_`ADJ|F_x0005_`DET|"&ROW(일위대가표!A88)&"_x0005_`" -> _x0007_`COD|B02655_x0005_`QTY1|1_x0005_`BQC|_x0005_`EQC|_x0005_`JDC|_x0005_`WQC|_x0005_`EDT|_x0005_`ADJ|F_x0005_`DET|88_x0005_` | K21: =HYPERLINK("#"&일위대가표!N2&"!A"&ROW(일위대가표!A88),"B02655 →") -> B02655 →
A22: B02732 | B22: 데크난간 보수 | C22: 1500*1200 | D22: 개소 | E22: =일위대가표!F99 -> 138982 | F22: =일위대가표!H99 -> 34973 | G22: =일위대가표!J99 -> 103677 | H22: =일위대가표!L99 -> 332 | J22: ="_x0007_`COD|B02732_x0005_`QTY1|1_x0005_`BQC|_x0005_`EQC|_x0005_`JDC|_x0005_`WQC|_x0005_`EDT|_x0005_`ADJ|F_x0005_`DET|"&ROW(일위대가표!A93)&"_x0005_`" -> _x0007_`COD|B02732_x0005_`QTY1|1_x0005_`BQC|_x0005_`EQC|_x0005_`JDC|_x0005_`WQC|_x0005_`EDT|_x0005_`ADJ|F_x0005_`DET|93_x0005_` | K22: =HYPERLINK("#"&일위대가표!N2&"!A"&ROW(일위대가표!A93),"B02732 →") -> B02732 →
A23: B02723 | B23: 데크평상 재도장 | C23: 3000*3000 | D23: 개소 | E23: =일위대가표!F104 -> 180586 | F23: =일위대가표!H104 -> 160621 | G23: =일위대가표!J104 -> 16461 | H23: =일위대가표!L104 -> 3504 | J23: ="_x0007_`COD|B02723_x0005_`QTY1|1_x0005_`BQC|_x0005_`EQC|_x0005_`JDC|_x0005_`WQC|_x0005_`EDT|_x0005_`ADJ|F_x0005_`DET|"&ROW(일위대가표!A100)&"_x0005_`" -> _x0007_`COD|B02723_x0005_`QTY1|1_x0005_`BQC|_x0005_`EQC|_x0005_`JDC|_x0005_`WQC|_x0005_`EDT|_x0005_`ADJ|F_x0005_`DET|100_x0005_` | K23: =HYPERLINK("#"&일위대가표!N2&"!A"&ROW(일위대가표!A100),"B02723 →") -> B02723 →
A24: B02619 | B24: 독립기초 | C24: 300*300*300 | D24: 개소 | E24: =일위대가표!F112 -> 34417 | F24: =일위대가표!H112 -> 28360 | G24: =일위대가표!J112 -> 5965 | H24: =일위대가표!L112 -> 92 | J24: ="_x0007_`COD|B02619_x0005_`QTY1|1_x0005_`BQC|_x0005_`EQC|_x0005_`JDC|_x0005_`WQC|_x0005_`EDT|_x0005_`ADJ|F_x0005_`DET|"&ROW(일위대가표!A105)&"_x0005_`" -> _x0007_`COD|B02619_x0005_`QTY1|1_x0005_`BQC|_x0005_`EQC|_x0005_`JDC|_x0005_`WQC|_x0005_`EDT|_x0005_`ADJ|F_x0005_`DET|105_x0005_` | K24: =HYPERLINK("#"&일위대가표!N2&"!A"&ROW(일위대가표!A105),"B02619 →") -> B02619 →
A25: B02620 | B25: 독립기초 | C25: 400*400*400 | D25: 개소 | E25: =일위대가표!F120 -> 76627 | F25: =일위대가표!H120 -> 62268 | G25: =일위대가표!J120 -> 14139 | H25: =일위대가표!L120 -> 220 | J25: ="_x0007_`COD|B02620_x0005_`QTY1|1_x0005_`BQC|_x0005_`EQC|_x0005_`JDC|_x0005_`WQC|_x0005_`EDT|_x0005_`ADJ|F_x0005_`DET|"&ROW(일위대가표!A113)&"_x0005_`" -> _x0007_`COD|B02620_x0005_`QTY1|1_x0005_`BQC|_x0005_`EQC|_x0005_`JDC|_x0005_`WQC|_x0005_`EDT|_x0005_`ADJ|F_x0005_`DET|113_x0005_` | K25: =HYPERLINK("#"&일위대가표!N2&"!A"&ROW(일위대가표!A113),"B02620 →") -> B02620 →
A26: B02621 | B26: 독립기초 | C26: 500*500*500 | D26: 개소 | E26: =일위대가표!F128 -> 133028 | F26: =일위대가표!H128 -> 108000 | G26: =일위대가표!J128 -> 24684 | H26: =일위대가표!L128 -> 344 | J26: ="_x0007_`COD|B02621_x0005_`QTY1|1_x0005_`BQC|_x0005_`EQC|_x0005_`JDC|_x0005_`WQC|_x0005_`EDT|_x0005_`ADJ|F_x0005_`DET|"&ROW(일위대가표!A121)&"_x0005_`" -> _x0007_`COD|B02621_x0005_`QTY1|1_x0005_`BQC|_x0005_`EQC|_x0005_`JDC|_x0005_`WQC|_x0005_`EDT|_x0005_`ADJ|F_x0005_`DET|121_x0005_` | K26: =HYPERLINK("#"&일위대가표!N2&"!A"&ROW(일위대가표!A121),"B02621 →") -> B02621 →
A27: B02894 | B27: 독립기초(산지할증A) | C27: 300*300*300 | D27: 개소 | E27: =일위대가표!F137 -> 38671 | F27: =일위대가표!H137 -> 32614 | G27: =일위대가표!J137 -> 5965 | H27: =일위대가표!L137 -> 92 | J27: ="_x0007_`COD|B02894_x0005_`QTY1|1_x0005_`BQC|_x0005_`EQC|_x0005_`JDC|_x0005_`WQC|_x0005_`EDT|_x0005_`ADJ|F_x0005_`DET|"&ROW(일위대가표!A129)&"_x0005_`" -> _x0007_`COD|B02894_x0005_`QTY1|1_x0005_`BQC|_x0005_`EQC|_x0005_`JDC|_x0005_`WQC|_x0005_`EDT|_x0005_`ADJ|F_x0005_`DET|129_x0005_` | K27: =HYPERLINK("#"&일위대가표!N2&"!A"&ROW(일위대가표!A129),"B02894 →") -> B02894 →
A28: B02895 | B28: 독립기초(산지할증A) | C28: 400*400*400 | D28: 개소 | E28: =일위대가표!F146 -> 85967 | F28: =일위대가표!H146 -> 71608 | G28: =일위대가표!J146 -> 14139 | H28: =일위대가표!L146 -> 220 | J28: ="_x0007_`COD|B02895_x0005_`QTY1|1_x0005_`BQC|_x0005_`EQC|_x0005_`JDC|_x0005_`WQC|_x0005_`EDT|_x0005_`ADJ|F_x0005_`DET|"&ROW(일위대가표!A138)&"_x0005_`" -> _x0007_`COD|B02895_x0005_`QTY1|1_x0005_`BQC|_x0005_`EQC|_x0005_`JDC|_x0005_`WQC|_x0005_`EDT|_x0005_`ADJ|F_x0005_`DET|138_x0005_` | K28: =HYPERLINK("#"&일위대가표!N2&"!A"&ROW(일위대가표!A138),"B02895 →") -> B02895 →
A29: B02896 | B29: 독립기초(산지할증A) | C29: 500*500*500 | D29: 개소 | E29: =일위대가표!F155 -> 149228 | F29: =일위대가표!H155 -> 124200 | G29: =일위대가표!J155 -> 24684 | H29: =일위대가표!L155 -> 344 | J29: ="_x0007_`COD|B02896_x0005_`QTY1|1_x0005_`BQC|_x0005_`EQC|_x0005_`JDC|_x0005_`WQC|_x0005_`EDT|_x0005_`ADJ|F_x0005_`DET|"&ROW(일위대가표!A147)&"_x0005_`" -> _x0007_`COD|B02896_x0005_`QTY1|1_x0005_`BQC|_x0005_`EQC|_x0005_`JDC|_x0005_`WQC|_x0005_`EDT|_x0005_`ADJ|F_x0005_`DET|147_x0005_` | K29: =HYPERLINK("#"&일위대가표!N2&"!A"&ROW(일위대가표!A147),"B02896 →") -> B02896 →
A30: B02618 | B30: 독립기초(산지할증B) | C30: 300*300*300 | D30: 개소 | E30: =일위대가표!F164 -> 41507 | F30: =일위대가표!H164 -> 35450 | G30: =일위대가표!J164 -> 5965 | H30: =일위대가표!L164 -> 92 | J30: ="_x0007_`COD|B02618_x0005_`QTY1|1_x0005_`BQC|_x0005_`EQC|_x0005_`JDC|_x0005_`WQC|_x0005_`EDT|_x0005_`ADJ|F_x0005_`DET|"&ROW(일위대가표!A156)&"_x0005_`" -> _x0007_`COD|B02618_x0005_`QTY1|1_x0005_`BQC|_x0005_`EQC|_x0005_`JDC|_x0005_`WQC|_x0005_`EDT|_x0005_`ADJ|F_x0005_`DET|156_x0005_` | K30: =HYPERLINK("#"&일위대가표!N2&"!A"&ROW(일위대가표!A156),"B02618 →") -> B02618 →
A31: B02617 | B31: 독립기초(산지할증B) | C31: 400*400*400 | D31: 개소 | E31: =일위대가표!F173 -> 92194 | F31: =일위대가표!H173 -> 77835 | G31: =일위대가표!J173 -> 14139 | H31: =일위대가표!L173 -> 220 | J31: ="_x0007_`COD|B02617_x0005_`QTY1|1_x0005_`BQC|_x0005_`EQC|_x0005_`JDC|_x0005_`WQC|_x0005_`EDT|_x0005_`ADJ|F_x0005_`DET|"&ROW(일위대가표!A165)&"_x0005_`" -> _x0007_`COD|B02617_x0005_`QTY1|1_x0005_`BQC|_x0005_`EQC|_x0005_`JDC|_x0005_`WQC|_x0005_`EDT|_x0005_`ADJ|F_x0005_`DET|165_x0005_` | K31: =HYPERLINK("#"&일위대가표!N2&"!A"&ROW(일위대가표!A165),"B02617 →") -> B02617 →
A32: B02616 | B32: 독립기초(산지할증B) | C32: 500*500*500 | D32: 개소 | E32: =일위대가표!F182 -> 160028 | F32: =일위대가표!H182 -> 135000 | G32: =일위대가표!J182 -> 24684 | H32: =일위대가표!L182 -> 344 | J32: ="_x0007_`COD|B02616_x0005_`QTY1|1_x0005_`BQC|_x0005_`EQC|_x0005_`JDC|_x0005_`WQC|_x0005_`EDT|_x0005_`ADJ|F_x0005_`DET|"&ROW(일위대가표!A174)&"_x0005_`" -> _x0007_`COD|B02616_x0005_`QTY1|1_x0005_`BQC|_x0005_`EQC|_x0005_`JDC|_x0005_`WQC|_x0005_`EDT|_x0005_`ADJ|F_x0005_`DET|174_x0005_` | K32: =HYPERLINK("#"&일위대가표!N2&"!A"&ROW(일위대가표!A174),"B02616 →") -> B02616 →
A33: B02685 | B33: 돌붙임(큰돌) | C33: 메붙임,직경40~60cm | D33: ㎡ | E33: =일위대가표!F190 -> 67286 | F33: =일위대가표!H190 -> 54084 | G33: =일위대가표!J190 -> 6177 | H33: =일위대가표!L190 -> 7025 | I33: 산림12-4-다 | J33: ="_x0007_`COD|B02685_x0005_`QTY1|1_x0005_`BQC|산림12-4-다_x0005_`EQC|_x0005_`JDC|_x0005_`WQC|_x0005_`EDT|_x0005_`ADJ|F_x0005_`DET|"&ROW(일위대가표!A183)&"_x0005_`" -> _x0007_`COD|B02685_x0005_`QTY1|1_x0005_`BQC|산림12-4-다_x0005_`EQC|_x0005_`JDC|_x0005_`WQC|_x0005_`EDT|_x0005_`ADJ|F_x0005_`DET|183_x0005_` | K33: =HYPERLINK("#"&일위대가표!N2&"!A"&ROW(일위대가표!A183),"B02685 →") -> B02685 →
A34: B02145 | B34: 돌붙임(큰돌) | C34: 찰붙임,직경40~60cm | D34: ㎡ | E34: =일위대가표!F198 -> 92473 | F34: =일위대가표!H198 -> 72570 | G34: =일위대가표!J198 -> 8648 | H34: =일위대가표!L198 -> 11255 | I34: 산림12-4-다 | J34: ="_x0007_`COD|B02145_x0005_`QTY1|1_x0005_`BQC|산림12-4-다_x0005_`EQC|_x0005_`JDC|_x0005_`WQC|_x0005_`EDT|_x0005_`ADJ|F_x0005_`DET|"&ROW(일위대가표!A191)&"_x0005_`" -> _x0007_`COD|B02145_x0005_`QTY1|1_x0005_`BQC|산림12-4-다_x0005_`EQC|_x0005_`JDC|_x0005_`WQC|_x0005_`EDT|_x0005_`ADJ|F_x0005_`DET|191_x0005_` | K34: =HYPERLINK("#"&일위대가표!N2&"!A"&ROW(일위대가표!A191),"B02145 →") -> B02145 →
A35: B02146 | B35: 돌쌓기(큰돌) | C35: 메쌓기,직경40~60cm | D35: ㎡ | E35: =일위대가표!F206 -> 103073 | F35: =일위대가표!H206 -> 81995 | G35: =일위대가표!J206 -> 9884 | H35: =일위대가표!L206 -> 11194 | I35: 산림12-4-다 | J35: ="_x0007_`COD|B02146_x0005_`QTY1|1_x0005_`BQC|산림12-4-다_x0005_`EQC|_x0005_`JDC|_x0005_`WQC|_x0005_`EDT|_x0005_`ADJ|F_x0005_`DET|"&ROW(일위대가표!A199)&"_x0005_`" -> _x0007_`COD|B02146_x0005_`QTY1|1_x0005_`BQC|산림12-4-다_x0005_`EQC|_x0005_`JDC|_x0005_`WQC|_x0005_`EDT|_x0005_`ADJ|F_x0005_`DET|199_x0005_` | K35: =HYPERLINK("#"&일위대가표!N2&"!A"&ROW(일위대가표!A199),"B02146 →") -> B02146 →
A36: B02144 | B36: 돌쌓기(큰돌) | C36: 찰쌓기,직경40~60cm | D36: ㎡ | E36: =일위대가표!F214 -> 132158 | F36: =일위대가표!H214 -> 98014 | G36: =일위대가표!J214 -> 12355 | H36: =일위대가표!L214 -> 21789 | I36: 산림12-4-다 | J36: ="_x0007_`COD|B02144_x0005_`QTY1|1_x0005_`BQC|산림12-4-다_x0005_`EQC|_x0005_`JDC|_x0005_`WQC|_x0005_`EDT|_x0005_`ADJ|F_x0005_`DET|"&ROW(일위대가표!A207)&"_x0005_`" -> _x0007_`COD|B02144_x0005_`QTY1|1_x0005_`BQC|산림12-4-다_x0005_`EQC|_x0005_`JDC|_x0005_`WQC|_x0005_`EDT|_x0005_`ADJ|F_x0005_`DET|207_x0005_` | K36: =HYPERLINK("#"&일위대가표!N2&"!A"&ROW(일위대가표!A207),"B02144 →") -> B02144 →
A37: B01447 | B37: 되메우고 다지기 | C37: 인력, 15cm | D37: ㎥ | E37: =일위대가표!F218 -> 24089 | F37: =일위대가표!H218 -> 24089 | G37: =일위대가표!J218 -> 0 | H37: =일위대가표!L218 -> 0 | J37: ="_x0007_`COD|B01447_x0005_`QTY1|1_x0005_`BQC|_x0005_`EQC|_x0005_`JDC|_x0005_`WQC|_x0005_`EDT|_x0005_`ADJ|F_x0005_`DET|"&ROW(일위대가표!A215)&"_x0005_`" -> _x0007_`COD|B01447_x0005_`QTY1|1_x0005_`BQC|_x0005_`EQC|_x0005_`JDC|_x0005_`WQC|_x0005_`EDT|_x0005_`ADJ|F_x0005_`DET|215_x0005_` | K37: =HYPERLINK("#"&일위대가표!N2&"!A"&ROW(일위대가표!A215),"B01447 →") -> B01447 →
A38: B02660 | B38: 등산로 정비 | C38: B=1.0m | D38: m | E38: =일위대가표!F225 -> 12452 | F38: =일위대가표!H225 -> 12386 | G38: =일위대가표!J225 -> 11 | H38: =일위대가표!L225 -> 55 | J38: ="_x0007_`COD|B02660_x0005_`QTY1|1_x0005_`BQC|_x0005_`EQC|_x0005_`JDC|_x0005_`WQC|_x0005_`EDT|_x0005_`ADJ|F_x0005_`DET|"&ROW(일위대가표!A219)&"_x0005_`" -> _x0007_`COD|B02660_x0005_`QTY1|1_x0005_`BQC|_x0005_`EQC|_x0005_`JDC|_x0005_`WQC|_x0005_`EDT|_x0005_`ADJ|F_x0005_`DET|219_x0005_` | K38: =HYPERLINK("#"&일위대가표!N2&"!A"&ROW(일위대가표!A219),"B02660 →") -> B02660 →
A39: B02661 | B39: 등산로 정비 | C39: B=1.2m | D39: m | E39: =일위대가표!F232 -> 14942 | F39: =일위대가표!H232 -> 14863 | G39: =일위대가표!J232 -> 13 | H39: =일위대가표!L232 -> 66 | J39: ="_x0007_`COD|B02661_x0005_`QTY1|1_x0005_`BQC|_x0005_`EQC|_x0005_`JDC|_x0005_`WQC|_x0005_`EDT|_x0005_`ADJ|F_x0005_`DET|"&ROW(일위대가표!A226)&"_x0005_`" -> _x0007_`COD|B02661_x0005_`QTY1|1_x0005_`BQC|_x0005_`EQC|_x0005_`JDC|_x0005_`WQC|_x0005_`EDT|_x0005_`ADJ|F_x0005_`DET|226_x0005_` | K39: =HYPERLINK("#"&일위대가표!N2&"!A"&ROW(일위대가표!A226),"B02661 →") -> B02661 →
A40: B02662 | B40: 등산로 정비 | C40: B=1.5m | D40: m | E40: =일위대가표!F239 -> 18677 | F40: =일위대가표!H239 -> 18579 | G40: =일위대가표!J239 -> 16 | H40: =일위대가표!L239 -> 82 | J40: ="_x0007_`COD|B02662_x0005_`QTY1|1_x0005_`BQC|_x0005_`EQC|_x0005_`JDC|_x0005_`WQC|_x0005_`EDT|_x0005_`ADJ|F_x0005_`DET|"&ROW(일위대가표!A233)&"_x0005_`" -> _x0007_`COD|B02662_x0005_`QTY1|1_x0005_`BQC|_x0005_`EQC|_x0005_`JDC|_x0005_`WQC|_x0005_`EDT|_x0005_`ADJ|F_x0005_`DET|233_x0005_` | K40: =HYPERLINK("#"&일위대가표!N2&"!A"&ROW(일위대가표!A233),"B02662 →") -> B02662 →
...

Sheet 일위대가표
A1: 일 위 대 가 표 | N1: STmate | Z1: STmate
A2: 공사명 : 2026년 처인구 숲길(등산로) 유지관리공사(2차) | N2: =MID(CELL("filename",$A$1),FIND("]",CELL("filename",$A$1))+1,LEN(CELL("filename",$A$1))) -> 일위대가표
A3: 명 칭 | B3: 규 격 | C3: 수 량 | D3: 단위 | E3: 합 계 | G3: 노 무 비 | I3: 재 료 비 | K3: 경 비 | M3: 비 고
E4: 단 가 | F4: 금 액 | G4: 단 가 | H4: 금 액 | I4: 단 가 | J4: 금 액 | K4: 단 가 | L4: 금 액 | Z4: =HYPERLINK("#'〓 목 차 〓'!B2","목차 →") -> 목차 →
A5: 제 1 호표 | N5: =HYPERLINK("#N"&ROW(N11),"_x0005_`BDCOD|B02797_x0007_`POSS|"&ROW(N7)&"_x0007_`POSE|"&ROW(N11)&"_x0007_`") -> _x0005_`BDCOD|B02797_x0007_`POSS|7_x0007_`POSE|11_x0007_`
A6: 거적 덮기 | B6: T=4mm | D6: ㎡ | M6: B02797 | O6: B02797
A7: 볏짚거적 | B7: 1.0mx60m/Roll | C7: 1.1 | D7: ㎡ | E7: =I7+G7+K7 -> 600 | F7: =J7+H7+L7 -> 660 | G7: 0 | H7: =IF(C7=0,0,ROUNDDOWN(G7*C7,1)) -> 0 | I7: =재료비목록표!E39 -> 600 | J7: =IF(C7=0,0,ROUNDDOWN(I7*C7,1)) -> 660 | K7: 0 | L7: =IF(C7=0,0,ROUNDDOWN(K7*C7,1)) -> 0 | M7: M08845 | N7: _x0007_`COD|M08845_x0005_`EXI|0_x0005_`DVD|F_x0005_`BMK| _x0005_`IPR|1_x0005_`KWN|0_x0005_`BLA|F_x0005_` | O7: M08845_1 | P7: T7_1 | Q7: 1_01 | Z7: =HYPERLINK("#"&재료비목록표!G2&"!A"&ROW(재료비목록표!A39),"M08845 →") -> M08845 →
A8: 조경공 | C8: 0.002 | D8: 인 | E8: =I8+G8+K8 -> 235204 | F8: =J8+H8+L8 -> 470.4 | G8: =노무비목록표!E15 -> 235204 | H8: =IF(C8=0,0,ROUNDDOWN(G8*C8,1)) -> 470.4 | I8: 0 | J8: =IF(C8=0,0,ROUNDDOWN(I8*C8,1)) -> 0 | K8: 0 | L8: =IF(C8=0,0,ROUNDDOWN(K8*C8,1)) -> 0 | M8: L00184 | N8: _x0007_`COD|L00184_x0005_`EXI|0_x0005_`DVD|F_x0005_`BMK| _x0005_`IPR|0_x0005_`BLA|F_x0005_` | O8: L00184_1 | P8: T7_1 | Z8: =HYPERLINK("#"&노무비목록표!G2&"!A"&ROW(노무비목록표!A15),"L00184 →") -> L00184 →
A9: 보통인부 | C9: 0.0007 | D9: 인 | E9: =I9+G9+K9 -> 172068 | F9: =J9+H9+L9 -> 120.4 | G9: =노무비목록표!E10 -> 172068 | H9: =IF(C9=0,0,ROUNDDOWN(G9*C9,1)) -> 120.4 | I9: 0 | J9: =IF(C9=0,0,ROUNDDOWN(I9*C9,1)) -> 0 | K9: 0 | L9: =IF(C9=0,0,ROUNDDOWN(K9*C9,1)) -> 0 | M9: L00017 | N9: _x0007_`COD|L00017_x0005_`EXI|0_x0005_`DVD|F_x0005_`BMK| _x0005_`IPR|0_x0005_`BLA|F_x0005_` | O9: L00017_1 | P9: T7_1 | Z9: =HYPERLINK("#"&노무비목록표!G2&"!A"&ROW(노무비목록표!A10),"L00017 →") -> L00017 →
A10: 고정핀 | B10: ￠10*300mm | C10: 3 | D10: EA | E10: =I10+G10+K10 -> 1000 | F10: =J10+H10+L10 -> 3000 | G10: 0 | H10: =IF(C10=0,0,ROUNDDOWN(G10*C10,1)) -> 0 | I10: =재료비목록표!E12 -> 1000 | J10: =IF(C10=0,0,ROUNDDOWN(I10*C10,1)) -> 3000 | K10: 0 | L10: =IF(C10=0,0,ROUNDDOWN(K10*C10,1)) -> 0 | M10: M08843 | N10: _x0007_`COD|M08843_x0005_`EXI|0_x0005_`DVD|F_x0005_`BMK| _x0005_`IPR|1_x0005_`KWN|0_x0005_`BLA|F_x0005_` | O10: M08843_1 | P10: T7_1 | Q10: 1_01 | Z10: =HYPERLINK("#"&재료비목록표!G2&"!A"&ROW(재료비목록표!A12),"M08843 →") -> M08843 →
A11: 잡재료비(고정끈 등) | B11: 재료비의 % | C11: 3 | D11: % | E11: =I11+G11+K11 -> 3660 | F11: =J11+H11+L11 -> 109.8 | G11: 0 | H11: =IF(C11=0,0,ROUNDDOWN(G11*C11/100,1)) -> 0 | I11: =J7+J10 -> 3660 | J11: =IF(C11=0,0,ROUNDDOWN(I11*C11/100,1)) -> 109.8 | K11: 0 | L11: =IF(C11=0,0,ROUNDDOWN(K11*C11/100,1)) -> 0 | N11: _x0007_`COD|PR_x0005_`EXI|1_x0005_`DVD|F_x0005_`BMK| _x0005_`IPR|1_x0005_`EQC|A01_x0005_`PRI|1_x0005_`PRO|1_x0005_`UNI|%_x0005_`BLA|F_x0005_` | O11: PRA01_1 | P11: T7_1 | Q11: 1_01
