Workbook

Sheet 표지 (6)
A1: 내 역 서
A2: 일 위 대 가 표
A3: 단 가 대 비 표
A4: 물 량 산 출 근 거

Sheet 총괄예산서
B1: 공사명: 고운마을 임대주택 및 캠핑장복구 부대시설공사
B2: 공 종 | D2: 도급액 | E2: 도급자 관급자재대 | F2: 관급 자재대 | G2: 기 타 | J2: 소계
G3: 한전불입금 | H3: 사용전 검사비 | I3: 시설분담금
B4: 건축+토목+설비공사 | C4: 변경전 | D4: 1006336305 | E4: 232971695 | J4: 1239308000
C5: 변경후 | D5: ='원가계산 (공사별)'!I37 -> #REF! | E5: ='원가계산 (공사별)'!I38 -> #REF! | I5: 0 | J5: =D5+E5 -> #REF!
C6: 증감 | D6: =SUM(D5-D4) -> #REF! | E6: =SUM(E5-E4) -> #REF! | J6: =SUM(J5-J4) -> #REF!
B7: 폐기물처리비 | C7: 변경전 | D7: 67120000 | J7: =SUM(D7:I7) -> 67120000
C8: 변경후 | D8: 67120000 | G8: 0 | H8: 0 | J8: =D8 -> 67120000
C9: 증감 | D9: =SUM(D8-D7) -> 0 | J9: =SUM(J8-J7) -> 0
B10: 전기공사 | C10: 변경전 | D10: 160231000 | E10: 24580700 | J10: =SUM(D10:I10) -> 184811700
C11: 변경후 | D11: 160231000 | E11: 24580700 | G11: 0 | H11: 0 | J11: =E11+D11+G11+H11 -> 184811700
C12: 증감 | J12: =SUM(J11-J10) -> 0
B13: 통신공사 | C13: 변경전 | D13: 135201000 | E13: 41442060 | J13: =SUM(D13:I13) -> 176643060
C14: 변경후 | D14: 135201000 | E14: 41442060 | J14: =SUM(D14:I14) -> 176643060
C15: 증감 | J15: =SUM(J14-J13) -> 0
B16: 기술지도계약비 | J16: =D16 -> 0
B17: 합 계 | C17: 변경전 | D17: =SUM(D4+D7+D10+D13) -> 1368888305 | E17: =SUM(E4+E7+E10+E13) -> 298994455 | J17: =SUM(D17:I17) -> 1667882760
C18: 변경후 | D18: =SUM(D5+D8+D11+D14) -> #REF! | E18: =SUM(E5+E8+E11+E14) -> #REF! | J18: =SUM(D18:I18) -> #REF!
C19: 증감 | D19: =SUM(D18-D17) -> #REF! | E19: =SUM(E18-E17) -> #REF! | J19: =SUM(J18-J17) -> #REF!

Sheet 갑지
A1: 설 계 서 용 지 ( 갑 지 )
A3: 과 장 | C3: 팀 장 | E3: 검토자 | G3: 설계자 | I3: 2026년 | L3: 7 | M3: 월 | O3: 일 | P3: 설 계
A8: 2026 | B8: 년도
B11: ='[23](건축)공종별집계표'!A2 -> 공사명: 고운마을 임대주택 및 캠핑장복구 부대시설공사
C16: 총 공 사 비: | E16: ="일금"&NUMBERSTRING(L16,1)&"원정" -> #REF! | L16: ='원가계산 (공사별)'!I41 -> #REF! | T16: 1241070000
E17: (VAT 포함)
D20: 공사개요 | E20: 1. 건축공사
E21: 2. 토목공사
E22: 3. 기계설비
E23: 4.폐기물처리비
D28: 내 역 | E28: 1. 도급 예정액 : | G28: ='원가계산 (공사별)'!I37 -> #REF! | I28: 원
E30: 2. 도급자관급자재대 : | G30: ='원가계산 (공사별)'!I38 -> #REF! | I30: 원
E32: 3. 지급자재대 : | I32: 원
E34: 4. 폐기물처리비 : | G34: ='원가계산 (공사별)'!I40 -> 67120000 | I34: 원
G45: =[23]원가계산!E41 -> 1.306428e+09

Sheet 원가계산 (공사별)
B2: 공 사 원 가 계 산 서
B3: =#REF! -> #REF!
B4: 비 목 | E4: 구성비 | F4: 건축 | G4: 토목 | H4: 기계 | I4: 합계 | J4: 비고 | K4: 비고 | L4: 비 고 | N4: 요율
B5: 순 공 사 원 가 | C5: 재료비 | D5: 직 접 재 료 비 | F5: =#REF! -> #REF! | G5: =SUM(#REF!) -> #REF! | H5: =SUM(#REF!) -> #REF! | I5: =SUM(F5:H5) -> #REF!
D6: 간 접 재 료 비
D7: 작업실,부산물등(△)
D8: 소 계 | F8: =F5 -> #REF! | G8: =G5 -> #REF! | H8: =H5 -> #REF! | I8: =SUM(F8:H8) -> #REF!
C9: 노무비 | D9: 직 접 노 무 비 | F9: =#REF! -> #REF! | G9: =SUM(#REF!) -> #REF! | H9: =SUM(#REF!) -> #REF! | I9: =SUM(F9:H9) -> #REF!
D10: 간 접 노 무 비 | E10: ="직접노무비 x 17.40%" -> 직접노무비 x 17.40% | F10: =INT(F9*N10) -> #REF! | G10: =INT(G9*N10) -> #REF! | H10: =INT(H9*N10) -> #REF! | I10: =SUM(F10:H10) -> #REF! | K10: ="직접노무비 x " & N10*100 & "%" -> 직접노무비 x 17.4% | N10: 0.174
D11: 소 계 | F11: =SUM(F9:F10) -> #REF! | G11: =SUM(G9:G10) -> #REF! | H11: =SUM(H9:H10) -> #REF! | I11: =SUM(F11:H11) -> #REF!
C12: 경 비 | D12: 산 출 경 비 | F12: =#REF! -> #REF! | G12: =SUM(#REF!) -> #REF! | H12: =SUM(#REF!) -> #REF! | I12: =SUM(F12:H12) -> #REF!
D13: 산 재 보 험 료 | E13: ="노무비 x 3.56%" -> 노무비 x 3.56% | F13: =INT(F11*$N13)+2 -> #REF! | G13: =INT(G11*$N13) -> #REF! | H13: =INT(H11*$N13) -> #REF! | I13: =SUM(F13:H13) -> #REF! | K13: ="노무비 x " & N13*100 & "%" -> 노무비 x 3.56% | N13: 0.0356
D14: 고 용 보 험 료 | E14: ="노무비 x 1.01%" -> 노무비 x 1.01% | F14: =INT(F11*$N14)+2.72 -> #REF! | G14: =INT(G11*$N14) -> #REF! | H14: =INT(H11*$N14) -> #REF! | I14: =SUM(F14:H14) -> #REF! | K14: ="노무비 x " & N14*100 & "%" -> 노무비 x 1.01% | N14: 0.0101
D15: 퇴직공제부금비 | E15: ="직접노무비 x 2.3%" -> 직접노무비 x 2.3% | F15: =INT(F9*$N15)+0.9 -> #REF! | G15: =INT(G9*$N15) -> #REF! | H15: =INT(H9*$N15) -> #REF! | I15: =SUM(F15:H15) -> #REF! | K15: ="직접노무비 x " & N15*100 & "%" -> 직접노무비 x 2.3% | N15: 0.023
D16: 건 강 보 험 료 | E16: ="직접노무비 x 3.595%" -> 직접노무비 x 3.595% | F16: =INT(F9*$N16)+1 -> #REF! | G16: =INT(G9*$N16) -> #REF! | H16: =INT(H9*$N16) -> #REF! | I16: =SUM(F16:H16) -> #REF! | K16: ="직접노무비 x " & N16*100 & "%" -> 직접노무비 x 3.595% | N16: 0.03595
D17: 연 금 보 험 료 | E17: ="직접노무비 x 4.75%" -> 직접노무비 x 4.75% | F17: =INT(F9*$N17)+2 -> #REF! | G17: =INT(G9*$N17) -> #REF! | H17: =INT(H9*$N17) -> #REF! | I17: =SUM(F17:H17) -> #REF! | K17: ="직접노무비 x " & N17*100 & "%" -> 직접노무비 x 4.75% | N17: 0.0475
D18: 노인장기요양보험료 | E18: ="건강보험료 x 13.14%" -> 건강보험료 x 13.14% | F18: =INT(F16*$N18) -> #REF! | G18: =INT(G16*$N18) -> #REF! | H18: =INT(H16*$N18)+1 -> #REF! | I18: =SUM(F18:H18) -> #REF! | K18: ="건강보험료 x " & N18*100 & "%" -> 건강보험료 x 13.14% | N18: 0.1314
D19: 산업안전보건관리비 | F19: =IF(F42="",F19,MIN(F22,F23)) -> #REF! | G19: =IF(G42="",G19,MIN(G22,G23)) -> #REF! | H19: =SUM(H22) -> #REF! | I19: =SUM(F19:H19) -> #REF!
D20: 기 초 금 액
D21: - 도급자관급 미포함 공사 | K21: ="((재료비+직접노무비) x " & N21*100 & "% x 1.2" -> ((재료비+직접노무비) x 3.11% x 1.2 | N21: 0.0311
D22: - 도급자관급 포함 공사 | E22: ⓐ(재료+직노)*2.28%*1.2+4,325,000 | F22: =INT(((F8+F9)*$N22)+(1441667))*1.2 -> #REF! | G22: =INT(((G8+G9)*$N22)+(1441667))*1.2 -> #REF! | H22: =INT(((H8+H9)*$N22)+(1441667))*1.2 -> #REF! | I22: =SUM(F22:H22) -> #REF! | J22: 율+4,325,000*1.2 | K22: ="ⓐ ((재료비+직접노무비) x " & N22*100 & "% " & IF(O22="","", "+ " & TEXT(O22, "#,###")) & ") x 1.2" -> ⓐ ((재료비+직접노무비) x 2.28% ) x 1.2 | L22: 율+4,325,000*1.2 | N22: 0.0228
D23: (ⓐ와 ⓑ 중 작은 금액 적용) | E23: ⓑ(재료+직노+도급자관급/1.1)*2.28% | F23: =INT((F8+F9+F42/1.1)*$N23)+1441667 -> #REF! | G23: =INT((G8+G9+G42/1.1)*$N23)+1441667 -> #REF! | H23: =INT((H8+H9+H42/1.1)*$N23)+1441667+0.9 -> #REF! | I23: =SUM(F23:H23) -> #REF! | J23: 율+4,325,000 | K23: ="ⓑ (재료비+직접노무비+도급자관급/1.1) x " & N23*100 & "% " & IF(O23="","", "+ " & TEXT(O23, "#,###")) -> ⓑ (재료비+직접노무비+도급자관급/1.1) x 2.28% | L23: 율+4,325,000 | N23: 0.0228
D24: 기 타 경 비 | E24: (재료비+노무비) x 5.2% | F24: =INT(F8+F11)*N24 -> #REF! | G24: =INT(G8+G11)*N24 -> #REF! | H24: =INT(H8+H11)*N24 -> #REF! | I24: =SUM(F24:H24) -> #REF! | K24: ="(재료비+노무비) x " & N24*100 & "%" -> (재료비+노무비) x 5.2% | N24: 0.052
D25: 환 경 보 전 비 | E25: ="(재료비+직노+기계경비) x0.5% " -> (재료비+직노+기계경비) x0.5% | F25: =INT((F8+F9+F12)*$N25) -> #REF! | G25: =INT((G8+G9+G12)*$N25)-0.9 -> #REF! | H25: =INT((H8+H9+H12)*$N25)+1.81 -> #REF! | I25: =SUM(F25:H25) -> #REF! | K25: ="(재료비+직노+기계경비) x " & N25*100 & "%" -> (재료비+직노+기계경비) x 0.5% | N25: 0.005
D26: 건설하도급대금지급보증서발급수수료 | E26: ="(재료비+직노+기계경비) x 0.081%" -> (재료비+직노+기계경비) x 0.081% | F26: =INT((F8+F9+F12)*$N26) -> #REF! | G26: =INT((G8+G9+G12)*$N26) -> #REF! | H26: =INT((H8+H9+H12)*$N26)+0.9 -> #REF! | I26: =SUM(F26:H26) -> #REF! | K26: ="(재료비+직노+기계경비) x " & N26*100 & "%" -> (재료비+직노+기계경비) x 0.081% | N26: 0.00081
D27: 건설기계대여대금지급보증서발급수수료 | E27: ="(재료비+직노+기계경비) x 0.07%" -> (재료비+직노+기계경비) x 0.07% | F27: =INT((F8+F9+F12)*$N27) -> #REF! | G27: =INT((G8+G9+G12)*$N27) -> #REF! | H27: =INT((H8+H9+H12)*$N27)+0.9 -> #REF! | I27: =SUM(F27:H27) -> #REF! | K27: ="(재료비+직노+기계경비) x " & N27*100 & "%" -> (재료비+직노+기계경비) x 0.07% | N27: 0.0007
D28: 석면분담금 | E28: 노무비 x 0.006% | F28: =(F11*0.006)/100 -> #REF! | G28: =(G11*0.006)/100 -> #REF! | H28: =(H11*0.006)/100 -> #REF! | I28: =F28+G28+H28 -> #REF! | K28: 노무비 x 0.006%
D29: 임금채권부담금 | E29: 노무비 x 0.09% | F29: =(F11*0.09)/100 -> #REF! | G29: =(G11*0.09)/100 -> #REF! | H29: =(H11*0.09)/100 -> #REF! | I29: =SUM(F29:H29) -> #REF! | K29: 노무비 x 0.09%
D30: 품 질 시 험 비
D31: 소 계 | F31: =SUM(F12:F19,F24:F30) -> #REF! | G31: =SUM(G12:G19,G24:G30) -> #REF! | H31: =SUM(H12:H19,H24:H30)+0.9 -> #REF! | I31: =SUM(F31:H31) -> #REF! | M31: =SUM(I12+I13+I14+I15+I16+I17+I18+I19+I24+I25+I26+I28+I27+I29) -> #REF!
B32: 합 계 | F32: =INT(SUM(F8+F11+F31)) -> #REF! | G32: =INT(SUM(G8+G11+G31)) -> #REF! | H32: =INT(SUM(H8+H11+H31))+0.9 -> #REF! | I32: =SUM(F32:H32) -> #REF!
B33: 일반관리비 | E33: ="합계 x 8% " -> 합계 x 8% | F33: =INT($F$32*$N$33) -> #REF! | G33: =INT($G$32*$N$33) -> #REF! | H33: =INT($H$32*$N$33)+0.9 -> #REF! | I33: =SUM(F33:H33) -> #REF! | K33: ="합계 x " & N33*100 & "%" -> 합계 x 8% | N33: 0.08
B34: 이윤 | E34: ="(노무비+경비+일반관리비) x15% " -> (노무비+경비+일반관리비) x15% | F34: =((F11+F31+F33)*N34)-21371.81 -> #REF! | G34: =((G11+G31+G33)*N34) -> #REF! | H34: =((H11+H31+H33)*N34) -> #REF! | I34: =SUM(F34:H34) -> #REF! | K34: ="(노무비+경비+일반관리비) x " & N34*100 & "%" -> (노무비+경비+일반관리비) x 15% | N34: 0.15 | Q34: 79776350 | S34: =SUM(I34-Q34) -> #REF!
B35: 공급가액 | F35: =(F32+F33+F34) -> #REF! | G35: =(G32+G33+G34) -> #REF! | H35: =(H32+H33+H34) -> #REF! | I35: =SUM(F35:H35) -> #REF!
B36: 부가가치세 | E36: 공급가액 X 10% | F36: =INT((F35)*N36) -> #REF! | G36: =INT((G35)*N36) -> #REF! | H36: =INT((H35)*N36)+1.81 -> #REF! | I36: =SUM(F36:H36) -> #REF! | K36: ="공급가액 x " & N36*100 & "%" -> 공급가액 x 10% | N36: 0.1
B37: 도급액 | F37: =(F35+F36) -> #REF! | G37: =G35+G36 -> #REF! | H37: =H35+H36 -> #REF! | I37: =ROUND(F37+G37+H37,-1) -> #REF!
B38: 도급자관급자재대 | F38: =#REF! -> #REF! | G38: =#REF! -> #REF! | H38: =SUM(#REF!) -> #REF! | I38: =SUM(F38+G38+H38) -> #REF!
B39: 관급자관급자재대
B40: 폐기물처리비 | F40: 5522000 | G40: 61598000 | I40: =SUM(F40:H40) -> 67120000 | J40: 부가세포함
B41: 총 공 사 비 | F41: =SUM(F37:F38)+F40 -> #REF! | G41: =SUM(G37:G38)+G40 -> #REF! | H41: =SUM(H37:H38) -> #REF! | I41: =SUM(F41+G41+H41) -> #REF!
D42: 수수료 제외 도급자관급 | F42: =#REF! -> #REF! | G42: =#REF! -> #REF! | H42: 0 | K42: 1010550305 | L42: =SUM(F37+F38) -> #REF!
F44: =SUM(F42+G42) -> #REF!
F46: 228346569 | G46: 329732456 | H46: 2.285

Sheet (폐기물처리비)공종별집계표
A1: 건설폐기물 처리비
A2: 공사명:고운마을 임대주택 및 캠핑장 복구 부대시설공사
A3: 품 명 | B3: 규 격 | C3: 단위 | D3: 수량 | E3: 재 료 비 | G3: 노 무 비 | I3: 경 비 | K3: 합 계 | M3: 비 고 | N3: 품목코드 | O3: 변수 | P3: 설정 | Q3: 공종코드 | R3: 일위 | S3: 단산 | T3: 자재 | U3: 손료적용 | V3: 손료저장 | W3: 적용율 | X3: JUK1 | Y3: JUK2 | Z3: JUK3 | AA3: JUK4 | AB3: JUK5 | AC3: JUK6 | AD3: JUK7 | AE3: JUK8 | AF3: JUK9 | AG3: JUK10 | AH3: JUK11 | AI3: JUK12 | AJ3: JUK13 | AK3: JUK14 | AL3: JUK15 | AM3: JUK16 | AN3: JUK17 | AO3: JUK18 | AP3: JUK19 | AQ3: JUK20 | AR3: 자재구분 | AS3: 공종구분 | AT3: 공종레벨 | AU3: 공종+자재 | AV3: 고유번호
E4: 단 가 | F4: 금 액 | G4: 단 가 | H4: 금 액 | I4: 단 가 | J4: 금 액 | K4: 단 가 | L4: 금 액
A5: 040101 건설폐기물 처리비 | L5: =SUM(L6:L11) -> 0
A6: 폐콘크리트 | B6: 이물질이 없는 순수한 폐콘크리트 | C6: TON | D6: 1403.1 | F6: =TRUNC(E6*D6, 0) -> 0 | H6: =TRUNC(G6*D6, 0) -> 0 | N6: 541062899BD6C3A27D2899B427F0 | R6: F | S6: F | T6: T | AU6: 0106541062899BD6C3A27D2899B427F0 | AV6: 117
A7: 혼합건설폐기물 | B7: 건설폐재류에 가연성 5% 이하 혼합 | C7: TON | D7: 4.6 | F7: =TRUNC(E7*D7, 0) -> 0 | H7: =TRUNC(G7*D7, 0) -> 0 | N7: 541062899BD6C3A27D289D248C40 | R7: F | S7: F | T7: T | AU7: 0106541062899BD6C3A27D289D248C40 | AV7: 118
A8: 건설폐재류 운반비 | B8: 24톤 덤프트럭, 18km | C8: TON | D8: 1403.1 | F8: =TRUNC(E8*D8, 0) -> 0 | H8: =TRUNC(G8*D8, 0) -> 0
A9: 혼합건설폐기물 운반비 | B9: 15톤 덤프트럭, 18km | C9: TON | D9: 4.6 | F9: =TRUNC(E9*D9, 0) -> 0 | H9: =TRUNC(G9*D9, 0) -> 0 | N9: 541062899BD6C3A27D289D24AF50 | R9: F | S9: F | T9: T | AU9: 0106541062899BD6C3A27D289D24AF50 | AV9: 120
A10: 부가가치세 | C10: % | D10: 10 | N10: 541062899BD6C3A27D29BCF4E5B0 | R10: F | S10: F | T10: T | AU10: 0106541062899BD6C3A27D29BCF4E5B0 | AV10: 151
A11: 단수조정 | C11: 식 | D11: 1 | N11: 541062899BD6C3A27D29BBD497F0 | R11: F | S11: F | T11: T | AU11: 0106541062899BD6C3A27D29BBD497F0 | AV11: 171
A20: [ 합 계 ] | F20: =SUM(F5:F16) -> 0 | H20: =SUM(H5:H16) -> 0 | J20: =SUM(J5:J16) -> 0 | L20: =J20 -> 0
