Workbook
Name _: "="
Name _1_: #REF!
Name _2_0옹벽부용수: #REF!
Name _3B2_: #REF!
Name _4fg34444_: BlankMacro1
Name _5옹벽부용수: #REF!
Name _A: #REF!
Name _A100000: #REF!
Name _A900000: #REF!
Name _bar10: #REF!
Name _bar13: #REF!
Name _bar16: #REF!
Name _bar19: #REF!
Name _bar22: #REF!
Name _bar25: #REF!
Name _bar29: #REF!
Name _bar32: #REF!
Name _BFF1: #REF!
Name _dia10: #REF!
Name _dia13: #REF!
Name _dia16: #REF!
Name _dia19: #REF!
Name _dia22: #REF!
Name _dia25: #REF!
Name _dia29: #REF!
Name _dia32: #REF!
Name _dia35: #REF!
Name _faf98: #REF!
Name _FBB1: #REF!
Name _FBB2: #REF!
Name _FBB3: #REF!
Name _FHH1: #REF!
Name _FHH2: #REF!
Name _FHH3: #REF!
Name _FRL2: #REF!
Name _FRU2: #REF!
Name _FSL1: #REF!
Name _FSL2: #REF!
Name _FSU1: #REF!
Name _FSU2: #REF!
Name _GHH1: #REF!
Name _GHH2: #REF!
Name _HSH1: #REF!
Name _HSH2: #REF!
Name _JEA1: #REF!
Name _JEA2: #REF!
Name _JH10: #REF!
Name _JH11: #REF!
Name _JH12: #REF!
Name _JH13: #REF!
Name _JH14: #REF!
Name _JH15: #REF!
Name _JH16: #REF!
Name _JH17: #REF!
Name _JH18: #REF!
Name _JH19: #REF!
Name _JH20: #REF!
Name _jh8: #REF!
Name _JH9: #REF!
Name _JK7: #REF!

Sheet 갑지
A1: 담당자 | H1: 팀장 | P1: 과장 | U1: 부장 | Z1: 2026년 8월 설계
A2: 2026년도
D4: 서귀포 천제연 관개수로 준설사업
D6: 설 계 내 역 서
H10: ○ 위 치 : 제주특별자치도 서귀포시 중문동 2785-2번지(천제연폭포 일원)
H11: ○ 사 업 개 요 : 관개수로 준설(인력) 62m3, 관개수로 준설(기계) 14m3
F14: 도급공사비 : | K14: =공사원가계산서!C40 -> 81213000 | R14: ="(금"&NUMBERSTRING(K14,1)&"원)" -> (금팔천일백이십일만삼천원)
F15: 총공사비 : | K15: =공사원가계산서!C40 -> 81213000 | R15: ="(금"&NUMBERSTRING(K15,1)&"원)" -> (금팔천일백이십일만삼천원)

Sheet 공사원가계산서
A2: 공 사 원 가 계 산 서
A4: 공 사 명 : 서귀포 천제연 관개수로 준설사업 | D4: 공사기간 : 92일
A5: 구 분 | B5: 비 목 | C5: 금 액 | D5: 구 성 비
A6: 재료비 | B6: 직 접 재 료 비 | C6: =총괄설계내역서!E4 -> 865332
B7: 간 접 재 료 비 | C7: 0
B8: 소 계 | C8: =SUM(C6:C7) -> 865332
A9: 노무비 | B9: 직 접 노 무 비 | C9: =총괄설계내역서!F4 -> 34558622
B10: 간 접 노 무 비 | C10: =INT(C9*E10) -> 6600696 | D10: 직접노무비* | E10: 0.191 | F10: 6개월 이하 | H10: =C6+C9+C12 -> 36458198 | J10: =C8+C9+C12 -> 36458198
B11: 소 계 | C11: =SUM(C9:C10) -> 41159318
A12: 경 비 | B12: 산 출 경 비 | C12: =총괄설계내역서!G4 -> 1034244
B13: 산 재 보 험 료 | C13: =ROUNDDOWN(C11*E13,0) -> 1465271 | D13: 노무비* | E13: 0.0356 | F13: 26년3월13일 기준 | H13: =INT($C$8+$C$9)*0.0315*1.2 -> 1339025.5 | I13: 5억미만 | J13: =SUM(C8:C9) -> 35423954
B14: 고 용 보 험 료 | C14: =ROUNDDOWN(C11*E14,0) -> 415709 | D14: 노무비* | E14: 0.0101 | F14: 26년3월13일 기준 | H14: =INT($C$8+$C$9+($C$38/1.1))*0.0315 -> 1115854.6
B15: 석 면 부 담 금 | C15: =ROUNDDOWN(C11*E15,0) -> 2469 | D15: 노무비* | E15: 6e-05 | F15: 26년3월13일 기준
B16: 임금채권부담금 | C16: =ROUNDDOWN(C11*E16,0) -> 37043 | D16: 노무비* | E16: 0.0009 | F16: 26년3월13일 기준
B17: 건 강 보 험 료 | C17: =ROUNDDOWN(C9*E17,0) -> 1242382 | D17: (직접노무비) * | E17: 0.03595 | F17: 26년3월13일 기준(1개월이상)
B18: 연 금 보 험 료 | C18: =ROUNDDOWN(C9*E18,0) -> 1641534 | D18: (직접노무비) * | E18: 0.0475 | F18: 26년3월13일 기준(1개월이상)
B19: 노인장기요양보험료 | C19: =ROUNDDOWN((C17)*E19,0) -> 163248 | D19: (건강보험료)* | E19: 0.1314 | F19: 26년3월13일 기준(1개월이상) | H19: =((($C$8+$C$9)*0.0253)+3300000)*1.2 -> 5035471.2 | I19: 5~50억미만 | J19: =C8+C9+C38 -> 35423954 | L19: =C31+C32 -> 64316077
B20: 산업안전보건관리비 | C20: =H14 -> 1115854.6 | D20: (재료비+직노+(관급/1.1))* | E20: 0.0315 | F20: 5억 미만 | H20: =($C$8+$C$9+($C$38/1.1))*0.0253+3300000 -> 4196226
B21: 건설하도급대금 지급보증서 발급수수료 | C21: =ROUNDDOWN((C8+C9+C12)*E21,0) -> 0 | D21: (재료비+직접노무비+경비)* | E21: 0 | F21: 50억미만
B22: 건설기계대여대금지급보증서발급금액 | C22: =ROUNDDOWN((C8+C9+C12)*E22,0) -> 247915 | D22: (재료비+직접노무비+경비)* | E22: 0.0068 | F22: 전문(준설공사)
B23: 환 경 보 전 비 | C23: =ROUNDDOWN((C8+C9+C12)*E23,0) -> 291665 | D23: (재료비+직접노무비+경비)* | E23: 0.008 | F23: 기타공사
B24: 건설근로자 퇴직공제부금비 | C24: =ROUNDDOWN(C9*E24,0) -> 0 | D24: (직접노무비) * | E24: 0 | F24: 1억이상
B25: 기 타 경 비 | C25: =ROUNDDOWN((C8+C11)*E25,0) -> 2311355 | D25: (재료비+노무비)* | E25: 0.055 | F25: 6개월 이하
B26: 안 전 관 리 비 | C26: =총괄설계내역서!D6 -> 3758410
B27: 가 설 비 | C27: =총괄설계내역서!D7 -> 3800175
B28: 운 반 비
B29: 품 질 시 험 비
B30: 소 계 | C30: =SUM(C12:C29) -> 17527275
A31: 순 공 사 원 가 | C31: =ROUNDDOWN(C8+C11+C30,0) -> 59551924
A32: 일 반 관 리 비 ( 8.00 % ) | C32: =ROUNDDOWN(C31*E32,0) -> 4764153 | D32: 합계* | E32: 0.08 | F32: 5억~50억 미만(전문)
A33: 이 윤 (15.00 % ) | C33: =ROUND((C11+C30+C32)*E33,0) -> 9517612 | D33: (노무비+경비+일반관리비)* | E33: 0.15
A34: 폐 기 물 수 수 료
A35: 총 원 가 | C35: =ROUNDDOWN(SUM(C31:C34),-4) -> 73830000 | D35: 천원단위 절삭
A36: 부 가 가 치 세 | C36: =(C35*0.1) -> 7383000
A37: 도 급 액 | C37: =SUM(C35:C36) -> 81213000
A38: 관 급 자 재 대(도급자) | C38: =ROUNDUP(0,-3) -> 0
A39: 관 급 자 재 대(관급자) | C39: =ROUNDUP(0,-3) -> 0
A40: 총 공 사 비 | C40: =SUM(C37:C39) -> 81213000

Sheet 총괄설계내역서
A1: 총 괄 설 계 내 역 서 | H1: STmate | Q1: STmate
A2: 공사명 : 서귀포 천제연 관개수로 준설사업 | H2: =MID(CELL("filename",$A$1),FIND("]",CELL("filename",$A$1))+1,LEN(CELL("filename",$A$1))) -> 총괄설계내역서
A3: 순 번 | B3: 공 종 | C3: 규 격 | D3: 합 계 | E3: 재 료 비 | F3: 노 무 비 | G3: 경 비 | H3: _x0007_`JTYP|0_x0005_`ACTL|F_x0005_` | I3: 수정은 아래의 연두색 부분에 | Q3: =HYPERLINK("#'〓 목 차 〓'!B2","목차 →") -> 목차 →
A4: ■. | B4: 순공사비 | D4: =설계내역서!G5 -> 36458198 | E4: =설계내역서!I5 -> 865332 | F4: =설계내역서!K5 -> 34558622 | G4: =설계내역서!M5 -> 1034244 | Q4: =HYPERLINK("#"&설계내역서!P2&"!A"&ROW(설계내역서!A5),"내역 →") -> 내역 →
A5: 1. | B5: 토공 | D5: =설계내역서!G6 -> 36458198 | E5: =설계내역서!I6 -> 865332 | F5: =설계내역서!K6 -> 34558622 | G5: =설계내역서!M6 -> 1034244 | Q5: =HYPERLINK("#"&설계내역서!P2&"!A"&ROW(설계내역서!A6),"내역 →") -> 내역 →
A6: ■. | B6: 안전관리비 | D6: =설계내역서!G25 -> 3758410 | E6: =설계내역서!I25 -> 1551900 | F6: =설계내역서!K25 -> 2206510 | G6: =설계내역서!M25 -> 0 | Q6: =HYPERLINK("#"&설계내역서!P2&"!A"&ROW(설계내역서!A25),"내역 →") -> 내역 →
A7: ■. | B7: 가설비 | D7: =설계내역서!G34 -> 3800175 | E7: =설계내역서!I34 -> 0 | F7: =설계내역서!K34 -> 0 | G7: =설계내역서!M34 -> 3800175 | Q7: =HYPERLINK("#"&설계내역서!P2&"!A"&ROW(설계내역서!A34),"내역 →") -> 내역 →
Q8: =HYPERLINK("#"&설계내역서!P2&"!A"&ROW(설계내역서!A45),"내역 →") -> 내역 →
H9: _x0007_`DTP|400_x0005_`QTY1|1_x0005_`BDC|_x0005_`SRE|TA-F_x0005_` | I9: 0 | M9: 0 | N9: 0 | O9: 0 | P9: 0
H10: _x0007_`DTP|410_x0005_`QTY1|1_x0005_`BDC|_x0005_`SRE|TA-F_x0005_` | I10: 0 | J10: =D10 -> 0 | L10: =D10 -> 0 | M10: 0 | N10: 0 | O10: 0 | P10: 0
H11: _x0007_`DTP|500_x0005_`QTY1|1_x0005_`BDC|_x0005_`SRE|TA-F_x0005_` | I11: 0 | J11: =(J10) -> 0 | L11: =(L10) -> 0 | M11: 0 | N11: 0 | O11: 0 | P11: 0
H12: _x0007_`DTP|502_x0005_`QTY1|1_x0005_`BDC|_x0005_`SRE|TA_x0005_` | I12: 0 | J12: =ROUNDDOWN((J11)*M12/100,0)+I12 -> 0 | L12: =ROUNDDOWN((L11)*M12/100,0)+I12 -> 0 | M12: 10 | N12: 0 | O12: 0 | P12: 0
H13: _x0007_`DTP|600_x0005_`QTY1|1_x0005_`BDC|_x0005_`SRE|TA-F_x0005_` | I13: 0 | J13: =(J11+J12) -> 0 | L13: =(L11+L12) -> 0 | M13: 0 | N13: 0 | O13: 0 | P13: 0

Sheet 설계내역서
A1: 설 계 내 역 서 | P1: STmate | AD1: STmate
A2: 공사명 : 서귀포 천제연 관개수로 준설사업 | P2: =MID(CELL("filename",$A$1),FIND("]",CELL("filename",$A$1))+1,LEN(CELL("filename",$A$1))) -> 설계내역서
A3: 순 번 | B3: 공 종 | C3: 규 격 | D3: 수 량 | E3: 단위 | F3: 합 계 | H3: 재 료 비 | J3: 노 무 비 | L3: 경 비 | N3: 분류코드 | O3: 비 고
F4: 단 가 | G4: 금 액 | H4: 단 가 | I4: 금 액 | J4: 단 가 | K4: 금 액 | L4: 단 가 | M4: 금 액 | AD4: =HYPERLINK("#'〓 목 차 〓'!B2","목차 →") -> 목차 →
A5: ■. | B5: 순공사비 | F5: 0 | G5: =SUMIF(R6:R17,Q5,G6:G17) -> 36458198 | H5: 0 | I5: =SUMIF(R6:R17,Q5,I6:I17) -> 865332 | J5: 0 | K5: =SUMIF(R6:R17,Q5,K6:K17) -> 34558622 | L5: 0 | M5: =SUMIF(R6:R17,Q5,M6:M17) -> 1034244 | P5: ="_x0007_`COD|E3_x0005_`QTY1|1_x0005_`EXI|0_x0005_`ITT|0_x0005_`END|"&ROW(M18)&"_x0005_`" -> _x0007_`COD|E3_x0005_`QTY1|1_x0005_`EXI|0_x0005_`ITT|0_x0005_`END|18_x0005_` | Q5: E3_1 | R5: E10_1
A6: 1. | B6: 토공 | F6: 0 | G6: =SUMIF(R7:R17,Q6,G7:G17) -> 36458198 | H6: 0 | I6: =SUMIF(R7:R17,Q6,I7:I17) -> 865332 | J6: 0 | K6: =SUMIF(R7:R17,Q6,K7:K17) -> 34558622 | L6: 0 | M6: =SUMIF(R7:R17,Q6,M7:M17) -> 1034244 | P6: ="_x0007_`COD|E2_x0005_`QTY1|1_x0005_`EXI|0_x0005_`ITT|0_x0005_`END|"&ROW(M18)&"_x0005_`" -> _x0007_`COD|E2_x0005_`QTY1|1_x0005_`EXI|0_x0005_`ITT|0_x0005_`END|18_x0005_` | Q6: E2_1 | R6: E3_1
A7: 1-1. | B7: 터파기 | F7: 0 | G7: =SUMIF(R8:R8,Q7,G8:G8) -> 4478446 | H7: 0 | I7: =SUMIF(R8:R8,Q7,I8:I8) -> 0 | J7: 0 | K7: =SUMIF(R8:R8,Q7,K8:K8) -> 4478446 | L7: 0 | M7: =SUMIF(R8:R8,Q7,M8:M8) -> 0 | P7: ="_x0007_`COD|E1_x0005_`QTY1|1_x0005_`EXI|0_x0005_`ITT|0_x0005_`END|"&ROW(M9)&"_x0005_`" -> _x0007_`COD|E1_x0005_`QTY1|1_x0005_`EXI|0_x0005_`ITT|0_x0005_`END|9_x0005_` | Q7: E1_1 | R7: E2_1
B8: 터파기(보통토사) | C8: (인력) | D8: 62 | E8: ㎥ | F8: =H8+J8+L8 -> 72233 | G8: =I8+K8+M8 -> 4478446 | H8: =IF(D8=0,0,단가산출근거목록표!F4) -> 0 | I8: =ROUNDDOWN(H8*D8,0) -> 0 | J8: =IF(D8=0,0,단가산출근거목록표!G4) -> 72233 | K8: =ROUNDDOWN(J8*D8,0) -> 4478446 | L8: =IF(D8=0,0,단가산출근거목록표!H4) -> 0 | M8: =ROUNDDOWN(L8*D8,0) -> 0 | O8: 산근 1호표 | P8: _x0007_`COD|D82338_x0005_`QTY1|1_x0005_`EXI|0_x0005_`IPR|0_x0005_`BLA|F_x0005_` | Q8: D82338_1 | R8: E1_1 | AD8: =HYPERLINK("#"&단가산출근거목록표!J2&"!A"&ROW(단가산출근거목록표!A4),"D00001 →") -> D00001 →
A9: 1-2. | B9: 하수관준설 | F9: 0 | G9: =SUMIF(R10:R10,Q9,G10:G10) -> 4740372 | H9: 0 | I9: =SUMIF(R10:R10,Q9,I10:I10) -> 794500 | J9: 0 | K9: =SUMIF(R10:R10,Q9,K10:K10) -> 3000928 | L9: 0 | M9: =SUMIF(R10:R10,Q9,M10:M10) -> 944944 | P9: ="_x0007_`COD|E1_x0005_`QTY1|1_x0005_`EXI|0_x0005_`ITT|0_x0005_`END|"&ROW(M11)&"_x0005_`" -> _x0007_`COD|E1_x0005_`QTY1|1_x0005_`EXI|0_x0005_`ITT|0_x0005_`END|11_x0005_` | Q9: E1_1 | R9: E2_1
B10: 하수관준설 | C10: (흡입식,수로암거) | D10: 14 | E10: ㎥ | F10: =H10+J10+L10 -> 338598 | G10: =I10+K10+M10 -> 4740372 | H10: =IF(D10=0,0,단가산출근거목록표!F5) -> 56750 | I10: =ROUNDDOWN(H10*D10,0) -> 794500 | J10: =IF(D10=0,0,단가산출근거목록표!G5) -> 214352 | K10: =ROUNDDOWN(J10*D10,0) -> 3000928 | L10: =IF(D10=0,0,단가산출근거목록표!H5) -> 67496 | M10: =ROUNDDOWN(L10*D10,0) -> 944944 | O10: 산근 2호표 | P10: _x0007_`COD|D82865_x0005_`QTY1|1_x0005_`EXI|0_x0005_`IPR|0_x0005_`BLA|F_x0005_` | Q10: D82865_1 | R10: E1_1 | AD10: =HYPERLINK("#"&단가산출근거목록표!J2&"!A"&ROW(단가산출근거목록표!A5),"D00002 →") -> D00002 →
A11: 1-3. | B11: 소운반 | F11: 0 | G11: =SUMIF(R12:R15,Q11,G12:G15) -> 26832324 | H11: 0 | I11: =SUMIF(R12:R15,Q11,I12:I15) -> 0 | J11: 0 | K11: =SUMIF(R12:R15,Q11,K12:K15) -> 26832324 | L11: 0 | M11: =SUMIF(R12:R15,Q11,M12:M15) -> 0 | P11: ="_x0007_`COD|E1_x0005_`QTY1|1_x0005_`EXI|0_x0005_`ITT|0_x0005_`END|"&ROW(M16)&"_x0005_`" -> _x0007_`COD|E1_x0005_`QTY1|1_x0005_`EXI|0_x0005_`ITT|0_x0005_`END|16_x0005_` | Q11: E1_1 | R11: E2_1
B12: 소운반 | C12: (인력,1구간,L=152m) | D12: 24 | E12: ㎥ | F12: =H12+J12+L12 -> 387996 | G12: =I12+K12+M12 -> 9311904 | H12: =IF(D12=0,0,단가산출근거목록표!F6) -> 0 | I12: =ROUNDDOWN(H12*D12,0) -> 0 | J12: =IF(D12=0,0,단가산출근거목록표!G6) -> 387996 | K12: =ROUNDDOWN(J12*D12,0) -> 9311904 | L12: =IF(D12=0,0,단가산출근거목록표!H6) -> 0 | M12: =ROUNDDOWN(L12*D12,0) -> 0 | O12: 산근 3호표 | P12: _x0007_`COD|D82463_x0005_`QTY1|1_x0005_`EXI|0_x0005_`IPR|0_x0005_`BLA|F_x0005_` | Q12: D82463_1 | R12: E1_1 | AD12: =HYPERLINK("#"&단가산출근거목록표!J2&"!A"&ROW(단가산출근거목록표!A6),"D00003 →") -> D00003 →
B13: 소운반 | C13: (인력,2구간,L=166m) | D13: 14 | E13: ㎥ | F13: =H13+J13+L13 -> 412245 | G13: =I13+K13+M13 -> 5771430 | H13: =IF(D13=0,0,단가산출근거목록표!F7) -> 0 | I13: =ROUNDDOWN(H13*D13,0) -> 0 | J13: =IF(D13=0,0,단가산출근거목록표!G7) -> 412245 | K13: =ROUNDDOWN(J13*D13,0) -> 5771430 | L13: =IF(D13=0,0,단가산출근거목록표!H7) -> 0 | M13: =ROUNDDOWN(L13*D13,0) -> 0 | O13: 산근 4호표 | P13: _x0007_`COD|D82469_x0005_`QTY1|1_x0005_`EXI|0_x0005_`IPR|0_x0005_`BLA|F_x0005_` | Q13: D82469_1 | R13: E1_1 | AD13: =HYPERLINK("#"&단가산출근거목록표!J2&"!A"&ROW(단가산출근거목록표!A7),"D00004 →") -> D00004 →
B14: 소운반 | C14: (인력,3구간,L=135m) | D14: 14 | E14: ㎥ | F14: =H14+J14+L14 -> 353353 | G14: =I14+K14+M14 -> 4946942 | H14: =IF(D14=0,0,단가산출근거목록표!F8) -> 0 | I14: =ROUNDDOWN(H14*D14,0) -> 0 | J14: =IF(D14=0,0,단가산출근거목록표!G8) -> 353353 | K14: =ROUNDDOWN(J14*D14,0) -> 4946942 | L14: =IF(D14=0,0,단가산출근거목록표!H8) -> 0 | M14: =ROUNDDOWN(L14*D14,0) -> 0 | O14: 산근 5호표 | P14: _x0007_`COD|D82470_x0005_`QTY1|1_x0005_`EXI|0_x0005_`IPR|0_x0005_`BLA|F_x0005_` | Q14: D82470_1 | R14: E1_1 | AD14: =HYPERLINK("#"&단가산출근거목록표!J2&"!A"&ROW(단가산출근거목록표!A8),"D00005 →") -> D00005 →
B15: 소운반 | C15: (인력,4구간,L=259m) | D15: 11 | E15: ㎥ | F15: =H15+J15+L15 -> 618368 | G15: =I15+K15+M15 -> 6802048 | H15: =IF(D15=0,0,단가산출근거목록표!F9) -> 0 | I15: =ROUNDDOWN(H15*D15,0) -> 0 | J15: =IF(D15=0,0,단가산출근거목록표!G9) -> 618368 | K15: =ROUNDDOWN(J15*D15,0) -> 6802048 | L15: =IF(D15=0,0,단가산출근거목록표!H9) -> 0 | M15: =ROUNDDOWN(L15*D15,0) -> 0 | O15: 산근 6호표 | P15: _x0007_`COD|D82859_x0005_`QTY1|1_x0005_`EXI|0_x0005_`IPR|0_x0005_`BLA|F_x0005_` | Q15: D82859_1 | R15: E1_1 | AD15: =HYPERLINK("#"&단가산출근거목록표!J2&"!A"&ROW(단가산출근거목록표!A9),"D00006 →") -> D00006 →
A16: 1-4. | B16: 폐기물상차 | F16: 0 | G16: =SUMIF(R17:R17,Q16,G17:G17) -> 407056 | H16: 0 | I16: =SUMIF(R17:R17,Q16,I17:I17) -> 70832 | J16: 0 | K16: =SUMIF(R17:R17,Q16,K17:K17) -> 246924 | L16: 0 | M16: =SUMIF(R17:R17,Q16,M17:M17) -> 89300 | P16: ="_x0007_`COD|E1_x0005_`QTY1|1_x0005_`EXI|0_x0005_`ITT|0_x0005_`END|"&ROW(M18)&"_x0005_`" -> _x0007_`COD|E1_x0005_`QTY1|1_x0005_`EXI|0_x0005_`ITT|0_x0005_`END|18_x0005_` | Q16: E1_1 | R16: E2_1
B17: 폐기물상차 | C17: (폐토사류) | D17: 76 | E17: ㎥ | F17: =H17+J17+L17 -> 5356 | G17: =I17+K17+M17 -> 407056 | H17: =IF(D17=0,0,단가산출근거목록표!F10) -> 932 | I17: =ROUNDDOWN(H17*D17,0) -> 70832 | J17: =IF(D17=0,0,단가산출근거목록표!G10) -> 3249 | K17: =ROUNDDOWN(J17*D17,0) -> 246924 | L17: =IF(D17=0,0,단가산출근거목록표!H10) -> 1175 | M17: =ROUNDDOWN(L17*D17,0) -> 89300 | O17: 산근 7호표 | P17: _x0007_`COD|D10103_x0005_`QTY1|1_x0005_`EXI|0_x0005_`IPR|0_x0005_`BLA|F_x0005_`PSKP|1_x0005_` | Q17: D10103_1 | R17: E1_1 | AD17: =HYPERLINK("#"&단가산출근거목록표!J2&"!A"&ROW(단가산출근거목록표!A10),"D00007 →") -> D00007 →
A25: ■. | B25: 안전관리비 | F25: 0 | G25: =SUMIF(R26:R32,Q25,G26:G32) -> 3758410 | H25: 0 | I25: =SUMIF(R26:R32,Q25,I26:I32) -> 1551900 | J25: 0 | K25: =SUMIF(R26:R32,Q25,K26:K32) -> 2206510 | L25: 0 | M25: =SUMIF(R26:R32,Q25,M26:M32) -> 0 | P25: ="_x0007_`COD|E3_x0005_`QTY1|1_x0005_`EXI|0_x0005_`ITT|0_x0005_`END|"&ROW(M33)&"_x0005_`" -> _x0007_`COD|E3_x0005_`QTY1|1_x0005_`EXI|0_x0005_`ITT|0_x0005_`END|33_x0005_` | Q25: E3_1 | R25: E10_1
A26: 1. | B26: 공사안내표지판 | F26: 0 | G26: =SUMIF(R27:R28,Q26,G27:G28) -> 1400000 | H26: 0 | I26: =SUMIF(R27:R28,Q26,I27:I28) -> 1400000 | J26: 0 | K26: =SUMIF(R27:R28,Q26,K27:K28) -> 0 | L26: 0 | M26: =SUMIF(R27:R28,Q26,M27:M28) -> 0 | P26: ="_x0007_`COD|E1_x0005_`QTY1|1_x0005_`EXI|0_x0005_`ITT|0_x0005_`END|"&ROW(M29)&"_x0005_`" -> _x0007_`COD|E1_x0005_`QTY1|1_x0005_`EXI|0_x0005_`ITT|0_x0005_`END|29_x0005_` | Q26: E1_1 | R26: E3_1
B27: 공사안내표지판 | C27: (1.2X0.6) | D27: 5 | E27: 개소 | F27: =H27+J27+L27 -> 180000 | G27: =I27+K27+M27 -> 900000 | H27: =IF(D27=0,0,일식견적목록표!F4) -> 180000 | I27: =ROUNDDOWN(H27*D27,0) -> 900000 | J27: =IF(D27=0,0,일식견적목록표!G4) -> 0 | K27: =ROUNDDOWN(J27*D27,0) -> 0 | L27: =IF(D27=0,0,일식견적목록표!H4) -> 0 | M27: =ROUNDDOWN(L27*D27,0) -> 0 | O27: W00001 | P27: _x0007_`COD|W00187_x0005_`QTY1|1_x0005_`EXI|0_x0005_`IPR|0_x0005_`BLA|F_x0005_` | Q27: W00187_1 | R27: E1_1 | AD27: =HYPERLINK("#"&일식견적목록표!J2&"!A"&ROW(일식견적목록표!A4),"W00001 →") -> W00001 →
B28: 공사안내표지판 | C28: (0.6X0.8) | D28: 5 | E28: 개소 | F28: =H28+J28+L28 -> 100000 | G28: =I28+K28+M28 -> 500000 | H28: =IF(D28=0,0,일식견적목록표!F5) -> 100000 | I28: =ROUNDDOWN(H28*D28,0) -> 500000 | J28: =IF(D28=0,0,일식견적목록표!G5) -> 0 | K28: =ROUNDDOWN(J28*D28,0) -> 0 | L28: =IF(D28=0,0,일식견적목록표!H5) -> 0 | M28: =ROUNDDOWN(L28*D28,0) -> 0 | O28: W00002 | P28: _x0007_`COD|W00188_x0005_`QTY1|1_x0005_`EXI|0_x0005_`IPR|0_x0005_`BLA|F_x0005_` | Q28: W00188_1 | R28: E1_1 | AD28: =HYPERLINK("#"&일식견적목록표!J2&"!A"&ROW(일식견적목록표!A5),"W00002 →") -> W00002 →
A29: 2. | B29: PE드럼 설치및해체 | F29: 0 | G29: =SUMIF(R30:R30,Q29,G30:G30) -> 359900 | H29: 0 | I29: =SUMIF(R30:R30,Q29,I30:I30) -> 151900 | J29: 0 | K29: =SUMIF(R30:R30,Q29,K30:K30) -> 208000 | L29: 0 | M29: =SUMIF(R30:R30,Q29,M30:M30) -> 0 | P29: ="_x0007_`COD|E1_x0005_`QTY1|1_x0005_`EXI|0_x0005_`ITT|0_x0005_`END|"&ROW(M31)&"_x0005_`" -> _x0007_`COD|E1_x0005_`QTY1|1_x0005_`EXI|0_x0005_`ITT|0_x0005_`END|31_x0005_` | Q29: E1_1 | R29: E3_1
B30: PE드럼 설치및해체 | C30: (윙카호수,손율3개월) | D30: 100 | E30: m | F30: =H30+J30+L30 -> 3599 | G30: =I30+K30+M30 -> 359900 | H30: =IF(D30=0,0,단가산출근거목록표!F11) -> 1519 | I30: =ROUNDDOWN(H30*D30,0) -> 151900 | J30: =IF(D30=0,0,단가산출근거목록표!G11) -> 2080 | K30: =ROUNDDOWN(J30*D30,0) -> 208000 | L30: =IF(D30=0,0,단가산출근거목록표!H11) -> 0 | M30: =ROUNDDOWN(L30*D30,0) -> 0 | O30: 산근 8호표 | P30: _x0007_`COD|D81828_x0005_`QTY1|1_x0005_`EXI|0_x0005_`IPR|0_x0005_`BLA|F_x0005_` | Q30: D81828_1 | R30: E1_1 | AD30: =HYPERLINK("#"&단가산출근거목록표!J2&"!A"&ROW(단가산출근거목록표!A11),"D00008 →") -> D00008 →
A31: 3. | B31: 교통신호수 | F31: 0 | G31: =SUMIF(R32:R32,Q31,G32:G32) -> 1998510 | H31: 0 | I31: =SUMIF(R32:R32,Q31,I32:I32) -> 0 | J31: 0 | K31: =SUMIF(R32:R32,Q31,K32:K32) -> 1998510 | L31: 0 | M31: =SUMIF(R32:R32,Q31,M32:M32) -> 0 | P31: ="_x0007_`COD|E1_x0005_`QTY1|1_x0005_`EXI|0_x0005_`ITT|0_x0005_`END|"&ROW(M33)&"_x0005_`" -> _x0007_`COD|E1_x0005_`QTY1|1_x0005_`EXI|0_x0005_`ITT|0_x0005_`END|33_x0005_` | Q31: E1_1 | R31: E3_1
B32: 교통신호수(보행안전) | C32: (1일 1인) | D32: 10 | E32: 일 | F32: =H32+J32+L32 -> 199851 | G32: =I32+K32+M32 -> 1998510 | H32: =IF(D32=0,0,단가산출근거목록표!F12) -> 0 | I32: =ROUNDDOWN(H32*D32,0) -> 0 | J32: =IF(D32=0,0,단가산출근거목록표!G12) -> 199851 | K32: =ROUNDDOWN(J32*D32,0) -> 1998510 | L32: =IF(D32=0,0,단가산출근거목록표!H12) -> 0 | M32: =ROUNDDOWN(L32*D32,0) -> 0 | O32: 산근 9호표 | P32: _x0007_`COD|D81812_x0005_`QTY1|1_x0005_`EXI|0_x0005_`IPR|0_x0005_`BLA|F_x0005_` | Q32: D81812_1 | R32: E1_1 | AD32: =HYPERLINK("#"&단가산출근거목록표!J2&"!A"&ROW(단가산출근거목록표!A12),"D00009 →") -> D00009 →
F33: 0 | P33: _x0007_`COD|_x0005_`QTY1|1_x0005_`EXI|1_x0005_`ITT|0_x0005_` | Q33: CMT_1 | R33: E10_1
A34: ■. | B34: 가설비 | F34: 0 | G34: =SUMIF(R35:R36,Q34,G35:G36) -> 3800175 | H34: 0 | I34: =SUMIF(R35:R36,Q34,I35:I36) -> 0 | J34: 0 | K34: =SUMIF(R35:R36,Q34,K35:K36) -> 0 | L34: 0 | M34: =SUMIF(R35:R36,Q34,M35:M36) -> 3800175 | P34: ="_x0007_`COD|E3_x0005_`QTY1|1_x0005_`EXI|0_x0005_`ITT|0_x0005_`END|"&ROW(M37)&"_x0005_`" -> _x0007_`COD|E3_x0005_`QTY1|1_x0005_`EXI|0_x0005_`ITT|0_x0005_`END|37_x0005_` | Q34: E3_1 | R34: E10_1
B35: 가설사무실(3개월) | C35: (사무실:3.0x9.0,창고:3.0x6.0) | D35: 1 | E35: 식 | F35: =H35+J35+L35 -> 2424368 | G35: =I35+K35+M35 -> 2424368 | H35: =IF(D35=0,0,단가산출근거목록표!F13) -> 0 | I35: =ROUNDDOWN(H35*D35,0) -> 0 | J35: =IF(D35=0,0,단가산출근거목록표!G13) -> 0 | K35: =ROUNDDOWN(J35*D35,0) -> 0 | L35: =IF(D35=0,0,단가산출근거목록표!H13) -> 2424368 | M35: =ROUNDDOWN(L35*D35,0) -> 2424368 | O35: 산근 10호표 | P35: _x0007_`COD|D82419_x0005_`QTY1|1_x0005_`EXI|0_x0005_`IPR|0_x0005_`BLA|F_x0005_` | Q35: D82419_1 | R35: E3_1 | AD35: =HYPERLINK("#"&단가산출근거목록표!J2&"!A"&ROW(단가산출근거목록표!A13),"D00010 →") -> D00010 →
B36: 근로자 편의시설(3개월) | C36: (컨테이너:3.0x6.0) | D36: 1 | E36: 식 | F36: =H36+J36+L36 -> 1375807 | G36: =I36+K36+M36 -> 1375807 | H36: =IF(D36=0,0,단가산출근거목록표!F14) -> 0 | I36: =ROUNDDOWN(H36*D36,0) -> 0 | J36: =IF(D36=0,0,단가산출근거목록표!G14) -> 0 | K36: =ROUNDDOWN(J36*D36,0) -> 0 | L36: =IF(D36=0,0,단가산출근거목록표!H14) -> 1375807 | M36: =ROUNDDOWN(L36*D36,0) -> 1375807 | O36: 산근 11호표 | P36: _x0007_`COD|D82483_x0005_`QTY1|1_x0005_`EXI|0_x0005_`IPR|0_x0005_`BLA|F_x0005_` | Q36: D82483_1 | R36: E3_1 | AD36: =HYPERLINK("#"&단가산출근거목록표!J2&"!A"&ROW(단가산출근거목록표!A14),"D00011 →") -> D00011 →
B45: 직접공사비 | G45: =SUMIF(R5:R44,"E10_1",G5:G44) -> 44016783 | I45: =SUMIF(R5:R44,"E10_1",I5:I44) -> 2417232 | K45: =SUMIF(R5:R44,"E10_1",K5:K44) -> 36765132 | M45: =SUMIF(R5:R44,"E10_1",M5:M44) -> 4834419

Sheet 단가산출근거목록표
A1: 단가산출근거 목록표 | J1: STmate | K1: STmate
A2: 공사명 : 서귀포 천제연 관개수로 준설사업 | J2: =MID(CELL("filename",$A$1),FIND("]",CELL("filename",$A$1))+1,LEN(CELL("filename",$A$1))) -> 단가산출근거목록표
A3: 호표 | B3: 공 종 | C3: 규 격 | D3: 단위 | E3: 합 계 | F3: 재 료 비 | G3: 노 무 비 | H3: 경 비 | I3: 비 고 | K3: =HYPERLINK("#'〓 목 차 〓'!B2","목차 →") -> 목차 →
A4: 제 1호표 | B4: 터파기(보통토사) | C4: (인력) | D4: ㎥ | E4: =단가산출근거!C54 -> 72233 | F4: =단가산출근거!D54 -> 0 | G4: =단가산출근거!E54 -> 72233 | H4: =단가산출근거!F54 -> 0 | I4: 제 1호표 | J4: ="_x0007_`COD|D82338_x0005_`QTY1|1_x0005_`BQC|25년도_x0005_`EQC|_x0005_`JDC|_x0005_`WQC|_x0005_`EDT|_x0005_`ADJ|F_x0005_`DET|"&ROW(단가산출근거!A5)&"_x0005_`" -> _x0007_`COD|D82338_x0005_`QTY1|1_x0005_`BQC|25년도_x0005_`EQC|_x0005_`JDC|_x0005_`WQC|_x0005_`EDT|_x0005_`ADJ|F_x0005_`DET|5_x0005_` | K4: =HYPERLINK("#"&단가산출근거!G2&"!A"&ROW(단가산출근거!A5),"D00001 →") -> D00001 →
A5: 제 2호표 | B5: 하수관준설 | C5: (흡입식,수로암거) | D5: ㎥ | E5: =단가산출근거!C154 -> 338598 | F5: =단가산출근거!D154 -> 56750 | G5: =단가산출근거!E154 -> 214352 | H5: =단가산출근거!F154 -> 67496 | I5: 제 2호표 | J5: ="_x0007_`COD|D82865_x0005_`QTY1|1_x0005_`BQC|2026년_x0005_`EQC|_x0005_`JDC|_x0005_`WQC|_x0005_`EDT|_x0005_`ADJ|F_x0005_`DET|"&ROW(단가산출근거!A55)&"_x0005_`" -> _x0007_`COD|D82865_x0005_`QTY1|1_x0005_`BQC|2026년_x0005_`EQC|_x0005_`JDC|_x0005_`WQC|_x0005_`EDT|_x0005_`ADJ|F_x0005_`DET|55_x0005_` | K5: =HYPERLINK("#"&단가산출근거!G2&"!A"&ROW(단가산출근거!A55),"D00002 →") -> D00002 →
A6: 제 3호표 | B6: 소운반 | C6: (인력,1구간,L=152m) | D6: ㎥ | E6: =단가산출근거!C204 -> 387996 | F6: =단가산출근거!D204 -> 0 | G6: =단가산출근거!E204 -> 387996 | H6: =단가산출근거!F204 -> 0 | I6: 제 3호표 | J6: ="_x0007_`COD|D82463_x0005_`QTY1|1_x0005_`BQC|2026년_x0005_`EQC|_x0005_`JDC|_x0005_`WQC|_x0005_`EDT|_x0005_`ADJ|F_x0005_`DET|"&ROW(단가산출근거!A155)&"_x0005_`" -> _x0007_`COD|D82463_x0005_`QTY1|1_x0005_`BQC|2026년_x0005_`EQC|_x0005_`JDC|_x0005_`WQC|_x0005_`EDT|_x0005_`ADJ|F_x0005_`DET|155_x0005_` | K6: =HYPERLINK("#"&단가산출근거!G2&"!A"&ROW(단가산출근거!A155),"D00003 →") -> D00003 →
A7: 제 4호표 | B7: 소운반 | C7: (인력,2구간,L=166m) | D7: ㎥ | E7: =단가산출근거!C254 -> 412245 | F7: =단가산출근거!D254 -> 0 | G7: =단가산출근거!E254 -> 412245 | H7: =단가산출근거!F254 -> 0 | I7: 제 4호표 | J7: ="_x0007_`COD|D82469_x0005_`QTY1|1_x0005_`BQC|2026년_x0005_`EQC|_x0005_`JDC|_x0005_`WQC|_x0005_`EDT|_x0005_`ADJ|F_x0005_`DET|"&ROW(단가산출근거!A205)&"_x0005_`" -> _x0007_`COD|D82469_x0005_`QTY1|1_x0005_`BQC|2026년_x0005_`EQC|_x0005_`JDC|_x0005_`WQC|_x0005_`EDT|_x0005_`ADJ|F_x0005_`DET|205_x0005_` | K7: =HYPERLINK("#"&단가산출근거!G2&"!A"&ROW(단가산출근거!A205),"D00004 →") -> D00004 →
A8: 제 5호표 | B8: 소운반 | C8: (인력,3구간,L=135m) | D8: ㎥ | E8: =단가산출근거!C304 -> 353353 | F8: =단가산출근거!D304 -> 0 | G8: =단가산출근거!E304 -> 353353 | H8: =단가산출근거!F304 -> 0 | I8: 제 5호표 | J8: ="_x0007_`COD|D82470_x0005_`QTY1|1_x0005_`BQC|2026년_x0005_`EQC|_x0005_`JDC|_x0005_`WQC|_x0005_`EDT|_x0005_`ADJ|F_x0005_`DET|"&ROW(단가산출근거!A255)&"_x0005_`" -> _x0007_`COD|D82470_x0005_`QTY1|1_x0005_`BQC|2026년_x0005_`EQC|_x0005_`JDC|_x0005_`WQC|_x0005_`EDT|_x0005_`ADJ|F_x0005_`DET|255_x0005_` | K8: =HYPERLINK("#"&단가산출근거!G2&"!A"&ROW(단가산출근거!A255),"D00005 →") -> D00005 →
A9: 제 6호표 | B9: 소운반 | C9: (인력,4구간,L=259m) | D9: ㎥ | E9: =단가산출근거!C354 -> 618368 | F9: =단가산출근거!D354 -> 0 | G9: =단가산출근거!E354 -> 618368 | H9: =단가산출근거!F354 -> 0 | I9: 제 6호표 | J9: ="_x0007_`COD|D82859_x0005_`QTY1|1_x0005_`BQC|2026년_x0005_`EQC|_x0005_`JDC|_x0005_`WQC|_x0005_`EDT|_x0005_`ADJ|F_x0005_`DET|"&ROW(단가산출근거!A305)&"_x0005_`" -> _x0007_`COD|D82859_x0005_`QTY1|1_x0005_`BQC|2026년_x0005_`EQC|_x0005_`JDC|_x0005_`WQC|_x0005_`EDT|_x0005_`ADJ|F_x0005_`DET|305_x0005_` | K9: =HYPERLINK("#"&단가산출근거!G2&"!A"&ROW(단가산출근거!A305),"D00006 →") -> D00006 →
A10: 제 7호표 | B10: 폐기물상차 | C10: (폐토사류) | D10: ㎥ | E10: =단가산출근거!C404 -> 5356 | F10: =단가산출근거!D404 -> 932 | G10: =단가산출근거!E404 -> 3249 | H10: =단가산출근거!F404 -> 1175 | I10: 제 7호표 | J10: ="_x0007_`COD|D10103_x0005_`QTY1|1_x0005_`BQC|_x0005_`EQC|_x0005_`JDC|_x0005_`WQC|_x0005_`EDT|_x0005_`ADJ|F_x0005_`DET|"&ROW(단가산출근거!A355)&"_x0005_`" -> _x0007_`COD|D10103_x0005_`QTY1|1_x0005_`BQC|_x0005_`EQC|_x0005_`JDC|_x0005_`WQC|_x0005_`EDT|_x0005_`ADJ|F_x0005_`DET|355_x0005_` | K10: =HYPERLINK("#"&단가산출근거!G2&"!A"&ROW(단가산출근거!A355),"D00007 →") -> D00007 →
A11: 제 8호표 | B11: PE드럼 설치및해체 | C11: (윙카호수,손율3개월) | D11: m | E11: =단가산출근거!C454 -> 3599 | F11: =단가산출근거!D454 -> 1519 | G11: =단가산출근거!E454 -> 2080 | H11: =단가산출근거!F454 -> 0 | I11: 제 8호표 | J11: ="_x0007_`COD|D81828_x0005_`QTY1|1_x0005_`BQC|_x0005_`EQC|_x0005_`JDC|_x0005_`WQC|_x0005_`EDT|_x0005_`ADJ|F_x0005_`DET|"&ROW(단가산출근거!A405)&"_x0005_`" -> _x0007_`COD|D81828_x0005_`QTY1|1_x0005_`BQC|_x0005_`EQC|_x0005_`JDC|_x0005_`WQC|_x0005_`EDT|_x0005_`ADJ|F_x0005_`DET|405_x0005_` | K11: =HYPERLINK("#"&단가산출근거!G2&"!A"&ROW(단가산출근거!A405),"D00008 →") -> D00008 →
A12: 제 9호표 | B12: 교통신호수(보행안전) | C12: (1일 1인) | D12: 일 | E12: =단가산출근거!C504 -> 199851 | F12: =단가산출근거!D504 -> 0 | G12: =단가산출근거!E504 -> 199851 | H12: =단가산출근거!F504 -> 0 | I12: 제 9호표 | J12: ="_x0007_`COD|D81812_x0005_`QTY1|1_x0005_`BQC|_x0005_`EQC|_x0005_`JDC|_x0005_`WQC|_x0005_`EDT|_x0005_`ADJ|F_x0005_`DET|"&ROW(단가산출근거!A455)&"_x0005_`" -> _x0007_`COD|D81812_x0005_`QTY1|1_x0005_`BQC|_x0005_`EQC|_x0005_`JDC|_x0005_`WQC|_x0005_`EDT|_x0005_`ADJ|F_x0005_`DET|455_x0005_` | K12: =HYPERLINK("#"&단가산출근거!G2&"!A"&ROW(단가산출근거!A455),"D00009 →") -> D00009 →
A13: 제 10호표 | B13: 가설사무실(3개월) | C13: (사무실:3.0x9.0,창고:3.0x6.0) | D13: 식 | E13: =단가산출근거!C554 -> 2424368 | F13: =단가산출근거!D554 -> 0 | G13: =단가산출근거!E554 -> 0 | H13: =단가산출근거!F554 -> 2424368 | I13: 제 10호표 | J13: ="_x0007_`COD|D82419_x0005_`QTY1|1_x0005_`BQC|2025년_x0005_`EQC|_x0005_`JDC|_x0005_`WQC|_x0005_`EDT|_x0005_`ADJ|T_x0005_`SBM|S_x0005_`ADJM|1_x0005_`ADJL|1_x0005_`ADJS|1_x0005_`DET|"&ROW(단가산출근거!A505)&"_x0005_`" -> _x0007_`COD|D82419_x0005_`QTY1|1_x0005_`BQC|2025년_x0005_`EQC|_x0005_`JDC|_x0005_`WQC|_x0005_`EDT|_x0005_`ADJ|T_x0005_`SBM|S_x0005_`ADJM|1_x0005_`ADJL|1_x0005_`ADJS|1_x0005_`DET|505_x0005_` | K13: =HYPERLINK("#"&단가산출근거!G2&"!A"&ROW(단가산출근거!A505),"D00010 →") -> D00010 →
A14: 제 11호표 | B14: 근로자 편의시설(3개월) | C14: (컨테이너:3.0x6.0) | D14: 식 | E14: =단가산출근거!C604 -> 1375807 | F14: =단가산출근거!D604 -> 0 | G14: =단가산출근거!E604 -> 0 | H14: =단가산출근거!F604 -> 1375807 | I14: 제 11호표 | J14: ="_x0007_`COD|D82483_x0005_`QTY1|1_x0005_`BQC|2025년_x0005_`EQC|_x0005_`JDC|_x0005_`WQC|_x0005_`EDT|_x0005_`ADJ|T_x0005_`SBM|S_x0005_`ADJM|1_x0005_`ADJL|1_x0005_`ADJS|1_x0005_`DET|"&ROW(단가산출근거!A555)&"_x0005_`" -> _x0007_`COD|D82483_x0005_`QTY1|1_x0005_`BQC|2025년_x0005_`EQC|_x0005_`JDC|_x0005_`WQC|_x0005_`EDT|_x0005_`ADJ|T_x0005_`SBM|S_x0005_`ADJM|1_x0005_`ADJL|1_x0005_`ADJS|1_x0005_`DET|555_x0005_` | K14: =HYPERLINK("#"&단가산출근거!G2&"!A"&ROW(단가산출근거!A555),"D00011 →") -> D00011 →

Sheet 단가산출근거
A1: 단 가 산 출 근 거 | G1: STmate | Y1: STmate
A2: 공사명 : 서귀포 천제연 관개수로 준설사업 | G2: =MID(CELL("filename",$A$1),FIND("]",CELL("filename",$A$1))+1,LEN(CELL("filename",$A$1))) -> 단가산출근거
A3: 공 종 | B3: 산 출 내 역 | C3: 합 계 | D3: 재 료 비 | E3: 노 무 비 | F3: 경 비 | Z3: 수량부분 값 수정은 아래의 연두색 부분에
H4: QTY | I4: T | J4: M | K4: L | L4: S | Y4: =HYPERLINK("#'〓 목 차 〓'!B2","목차 →") -> 목차 →
A5: 제 1호표 | B5: 제 1호표 | C5: =C54 -> 72233 | D5: =D54 -> 0 | E5: =E54 -> 72233 | F5: =F54 -> 0 | G5: =HYPERLINK("#G"&ROW(G23),"_x0005_`BDCOD|D82338_x0007_`POSS|"&ROW(G7)&"_x0007_`POSE|"&ROW(G23)&"_x0007_`") -> _x0005_`BDCOD|D82338_x0007_`POSS|7_x0007_`POSE|23_x0007_`
B6: 터파기(보통토사) (인력) / ㎥ | M6: D82338
G7: _x0007_
B8: ▶ 26년도 품셈3-2-1(굴착) 적용 | G8: _x0007_' ▶ 26년도 품셈3-2-1(굴착) 적용'
G9: _x0007_
B10: ▶ 인력/토사 적용 | G10: _x0007_' ▶ 인력/토사 적용'
G11: _x0007_
B12: =" ▶ 1일작업량 : V="&Z12&" ㎥ " -> ▶ 1일작업량 : V=3.6 ㎥ | G12: _x0007_' ▶ 1일작업량 :' V=3.6 '㎥' | Z12: 3.6 | AA12: = | AB12: =Z12 -> 3.6
G13: _x0007_
G14: _x0007_
B15: 1)노 무 비(100%) | G15: _x0007_'1)노 무 비(100%)'
G16: _x0007_
A17: L00002 | B17: =" 특별인부 : "&TEXT(I17,"#,##0"&IF(I17<>INT(I17),".###",""))&" / V = "&TEXT(C17,"#,##0.0")&"" -> 특별인부 : 260,040 / V = 72,233.3 | C17: =D17+E17+F17 -> 72233.3 | D17: =IF(H17=0,0,ROUNDDOWN(J17*H17,1)) -> 0 | E17: =IF(H17=0,0,ROUNDDOWN(K17*H17,1)) -> 72233.3 | F17: =IF(H17=0,0,ROUNDDOWN(L17*H17,1)) -> 0 | G17: _x0007_'특별인부 :'&L01003& / V = | H17: =ROUNDUP(AC17,14-LEN(ABS(INT(AC17)))) -> 0.27777778 | I17: =J17+K17+L17 -> 260040 | K17: =노무비목록표!E5 -> 260040 | M17: L01003_1 | N17: T1_1 | X17: =노무비목록표!B5&" / "&노무비목록표!C5 -> 특별인부 / | Y17: =HYPERLINK("#"&노무비목록표!G2&"!A"&ROW(노무비목록표!A5),"L00002 →") -> L00002 → | Z17: 1/ | AA17: =AB12 -> 3.6 | AB17: = | AC17: =1/AB12 -> 0.27777778
G18: _x0007_
G19: _x0007_
B20: 소계 | C20: =D20+E20+F20 -> 72233.3 | D20: =SUMIF(N7:N19,M20,D7:D19) -> 0 | E20: =SUMIF(N7:N19,M20,E7:E19) -> 72233.3 | F20: =SUMIF(N7:N19,M20,F7:F19) -> 0 | G20: _x0007_(=) | M20: T1_1 | N20: T2_1
G21: _x0007_
G22: _x0007_
B23: 계 | C23: =D23+E23+F23 -> 72233.3 | D23: =SUMIF(N7:N22,M23,D7:D22) -> 0 | E23: =SUMIF(N7:N22,M23,E7:E22) -> 72233.3 | F23: =SUMIF(N7:N22,M23,F7:F22) -> 0 | G23: _x0007_(==) | M23: T2_1 | N23: T7_1
A54: 총 계 | C54: =D54+E54+F54 -> 72233 | D54: =ROUNDDOWN(SUMIF(N7:N23,M54,D7:D23),0) -> 0 | E54: =ROUNDDOWN(SUMIF(N7:N23,M54,E7:E23),0) -> 72233 | F54: =ROUNDDOWN(SUMIF(N7:N23,M54,F7:F23),0) -> 0 | M54: T7_1
A55: 제 2호표 | B55: 제 2호표 | C55: =C154 -> 338598 | D55: =D154 -> 56750 | E55: =E154 -> 214352 | F55: =F154 -> 67496 | G55: =HYPERLINK("#G"&ROW(G105),"_x0005_`BDCOD|D82865_x0007_`POSS|"&ROW(G57)&"_x0007_`POSE|"&ROW(G105)&"_x0007_`") -> _x0005_`BDCOD|D82865_x0007_`POSS|57_x0007_`POSE|105_x0007_`
B56: 하수관준설 (흡입식,수로암거) / ㎥ | M56: D82865
G57: _x0007_
G58: _x0007_
B59: ▶ 2026년 품셈 유지관리 2-4-8 하수관준설(흡입식) 적용 | G59: _x0007_' ▶ 2026년 품셈 유지관리 2-4-8 하수관준설(흡입식) 적용'
G60: _x0007_
B61: ▶ 수로암거 B-TYPE 품적용 | G61: _x0007_' ▶ 수로암거 B-TYPE 품적용'
G62: _x0007_
B63: =" ▶ 1일작업량 : V = "&Z63&" ㎥ = "&AB63&"" -> ▶ 1일작업량 : V = 9.8 ㎥ = 9.80 | G63: _x0007_' ▶ 1일작업량 :' V = 9.8 '㎥'= | Z63: 9.8 | AA63: = | AB63: =TEXT(ROUND(Z63,2),"#,0.00") -> 9.80
G64: _x0007_
B65: =" ▶ 1일시간 : T="&Z65&" hr " -> ▶ 1일시간 : T=8 hr | G65: _x0007_' ▶ 1일시간 :' T=8 'hr' | Z65: 8 | AA65: = | AB65: =Z65 -> 8
G66: _x0007_
B67: =" Q = V / T = "&AD67&" ㎥/hr " -> Q = V / T = 1.23 ㎥/hr | G67: _x0007_ Q = V / T = '㎥/hr' | Z67: =AB63 -> 9.80 | AA67: / | AB67: =AB65 -> 8 | AC67: = | AD67: =TEXT(ROUND(AB63/AB65,2),"#,0.00") -> 1.23
G68: _x0007_
G69: _x0007_
B70: 1. 노 무 비 | G70: _x0007_'1. 노 무 비'
G71: _x0007_
A72: L00004 | B72: =" 1)배관공(수도): "&Z72&" 인 * "&TEXT(I72,"#,##0"&IF(I72<>INT(I72),".###",""))&" / V = "&TEXT(C72,"#,##0.0")&"" -> 1)배관공(수도): 3 인 * 301,967 / V = 92,438.8 | C72: =D72+E72+F72 -> 92438.8 | D72: =IF(H72=0,0,ROUNDDOWN(J72*H72,1)) -> 0 | E72: =IF(H72=0,0,ROUNDDOWN(K72*H72,1)) -> 92438.8 | F72: =IF(H72=0,0,ROUNDDOWN(L72*H72,1)) -> 0 | G72: _x0007_'1)배관공(수도):'3.0'인'* &L01040& / V = | H72: =ROUNDUP(AD72,14-LEN(ABS(INT(AD72)))) -> 0.30612245 | I72: =J72+K72+L72 -> 301967 | K72: =노무비목록표!E7 -> 301967 | M72: L01040_1 | N72: T1_1 | X72: =노무비목록표!B7&" / "&노무비목록표!C7 -> 배관공(수도) / | Y72: =HYPERLINK("#"&노무비목록표!G2&"!A"&ROW(노무비목록표!A7),"L00004 →") -> L00004 → | Z72: 3 | AA72: *1/ | AB72: =AB63 -> 9.80 | AC72: = | AD72: =Z72*1/AB63 -> 0.30612245
G73: _x0007_
A74: L00001 | B74: =" 2)보 통 인 부 : "&Z74&" 인 * "&TEXT(I74,"#,##0"&IF(I74<>INT(I74),".###",""))&" / V = "&TEXT(C74,"#,##0.0")&"" -> 2)보 통 인 부 : 1 인 * 197,878 / V = 20,191.6 | C74: =D74+E74+F74 -> 20191.6 | D74: =IF(H74=0,0,ROUNDDOWN(J74*H74,1)) -> 0 | E74: =IF(H74=0,0,ROUNDDOWN(K74*H74,1)) -> 20191.6 | F74: =IF(H74=0,0,ROUNDDOWN(L74*H74,1)) -> 0 | G74: _x0007_'2)보 통 인 부 :'1.0'인'* &L01002& / V = | H74: =ROUNDUP(AD74,14-LEN(ABS(INT(AD74)))) -> 0.10204082 | I74: =J74+K74+L74 -> 197878 | K74: =노무비목록표!E4 -> 197878 | M74: L01002_1 | N74: T1_1 | X74: =노무비목록표!B4&" / "&노무비목록표!C4 -> 보통인부 / | Y74: =HYPERLINK("#"&노무비목록표!G2&"!A"&ROW(노무비목록표!A4),"L00001 →") -> L00001 → | Z74: 1 | AA74: *1/ | AB74: =AB63 -> 9.80 | AC74: = | AD74: =Z74*1/AB63 -> 0.10204082
G75: _x0007_
B76: 소계 | C76: =D76+E76+F76 -> 112630.4 | D76: =SUMIF(N57:N75,M76,D57:D75) -> 0 | E76: =SUMIF(N57:N75,M76,E57:E75) -> 112630.4 | F76: =SUMIF(N57:N75,M76,F57:F75) -> 0 | G76: _x0007_(=) | M76: T1_1 | N76: T2_1
G77: _x0007_
G78: _x0007_
G79: _x0007_
B80: 2. 진공흡입 준설차 25톤(7.64㎥적) | G80: _x0007_'2. 진공흡입 준설차 25톤(7.64㎥적)'
G81: _x0007_
A82: X00004 | B82: =" 재 료 비 : "&TEXT(I82,"#,##0"&IF(I82<>INT(I82),".###",""))&" / Q = "&TEXT(C82,"#,##0.0")&"" -> 재 료 비 : 53,168 / Q = 43,226.0 | C82: =D82+E82+F82 -> 43226 | D82: =IF(H82=0,0,ROUNDDOWN(J82*H82,1)) -> 43226 | E82: =IF(H82=0,0,ROUNDDOWN(K82*H82,1)) -> 0 | F82: =IF(H82=0,0,ROUNDDOWN(L82*H82,1)) -> 0 | G82: _x0007_'재 료 비 : '&X30076M& / Q = | H82: =ROUNDUP(AC82,14-LEN(ABS(INT(AC82)))) -> 0.81300813 | I82: =J82+K82+L82 -> 53168 | J82: =중기목록표!F7 -> 53168 | M82: X30076_1 | N82: T1_1 | X82: =중기목록표!B7&" / "&중기목록표!C7 -> 진공흡입 준설차 / 25톤(7.64㎥적) | Y82: =HYPERLINK("#"&중기목록표!J2&"!A"&ROW(중기목록표!A7),"X00004 →") -> X00004 → | Z82: 1/ | AA82: =AD67 -> 1.23 | AB82: = | AC82: =1/AD67 -> 0.81300813
G83: _x0007_
A84: X00004 | B84: =" 노 무 비 : "&TEXT(I84,"#,##0"&IF(I84<>INT(I84),".###",""))&" / Q = "&TEXT(C84,"#,##0.0")&"" -> 노 무 비 : 67,873 / Q = 55,181.3 | C84: =D84+E84+F84 -> 55181.3 | D84: =IF(H84=0,0,ROUNDDOWN(J84*H84,1)) -> 0 | E84: =IF(H84=0,0,ROUNDDOWN(K84*H84,1)) -> 55181.3 | F84: =IF(H84=0,0,ROUNDDOWN(L84*H84,1)) -> 0 | G84: _x0007_'노 무 비 : '&X30076L& / Q = | H84: =ROUNDUP(AC84,14-LEN(ABS(INT(AC84)))) -> 0.81300813 | I84: =J84+K84+L84 -> 67873 | K84: =중기목록표!G7 -> 67873 | M84: X30076_1 | N84: T1_1 | X84: =중기목록표!B7&" / "&중기목록표!C7 -> 진공흡입 준설차 / 25톤(7.64㎥적) | Y84: =HYPERLINK("#"&중기목록표!J2&"!A"&ROW(중기목록표!A7),"X00004 →") -> X00004 → | Z84: 1/ | AA84: =AD67 -> 1.23 | AB84: = | AC84: =1/AD67 -> 0.81300813
G85: _x0007_
A86: X00004 | B86: =" 경 비 : "&TEXT(I86,"#,##0"&IF(I86<>INT(I86),".###",""))&" / Q = "&TEXT(C86,"#,##0.0")&"" -> 경 비 : 73,035 / Q = 59,378.0 | C86: =D86+E86+F86 -> 59378 | D86: =IF(H86=0,0,ROUNDDOWN(J86*H86,1)) -> 0 | E86: =IF(H86=0,0,ROUNDDOWN(K86*H86,1)) -> 0 | F86: =IF(H86=0,0,ROUNDDOWN(L86*H86,1)) -> 59378 | G86: _x0007_'경 비 : '&X30076S& / Q = | H86: =ROUNDUP(AC86,14-LEN(ABS(INT(AC86)))) -> 0.81300813 | I86: =J86+K86+L86 -> 73035 | L86: =중기목록표!H7 -> 73035 | M86: X30076_1 | N86: T1_1 | X86: =중기목록표!B7&" / "&중기목록표!C7 -> 진공흡입 준설차 / 25톤(7.64㎥적) | Y86: =HYPERLINK("#"&중기목록표!J2&"!A"&ROW(중기목록표!A7),"X00004 →") -> X00004 → | Z86: 1/ | AA86: =AD67 -> 1.23 | AB86: = | AC86: =1/AD67 -> 0.81300813
G87: _x0007_
G88: _x0007_
B89: 소계 | C89: =D89+E89+F89 -> 157785.3 | D89: =SUMIF(N77:N88,M89,D77:D88) -> 43226 | E89: =SUMIF(N77:N88,M89,E77:E88) -> 55181.3 | F89: =SUMIF(N77:N88,M89,F77:F88) -> 59378 | G89: _x0007_(=) | M89: T1_1 | N89: T2_1
G90: _x0007_
G91: _x0007_
G92: _x0007_
B93: 3. 물탱크(살수차) 5500ℓ | G93: _x0007_'3. 물탱크(살수차) 5500ℓ'
G94: _x0007_
A95: X00002 | B95: =" 재 료 비 : "&TEXT(I95,"#,##0"&IF(I95<>INT(I95),".###",""))&" / Q = "&TEXT(C95,"#,##0.0")&"" -> 재 료 비 : 16,635 / Q = 13,524.3 | C95: =D95+E95+F95 -> 13524.3 | D95: =IF(H95=0,0,ROUNDDOWN(J95*H95,1)) -> 13524.3 | E95: =IF(H95=0,0,ROUNDDOWN(K95*H95,1)) -> 0 | F95: =IF(H95=0,0,ROUNDDOWN(L95*H95,1)) -> 0 | G95: _x0007_'재 료 비 : '&X00185M& / Q = | H95: =ROUNDUP(AC95,14-LEN(ABS(INT(AC95)))) -> 0.81300813 | I95: =J95+K95+L95 -> 16635 | J95: =중기목록표!F5 -> 16635 | M95: X00185_1 | N95: T1_1 | X95: =중기목록표!B5&" / "&중기목록표!C5 -> 물탱크(살수차) / 5500ℓ | Y95: =HYPERLINK("#"&중기목록표!J2&"!A"&ROW(중기목록표!A5),"X00002 →") -> X00002 → | Z95: 1/ | AA95: =AD67 -> 1.23 | AB95: = | AC95: =1/AD67 -> 0.81300813
G96: _x0007_
A97: X00002 | B97: =" 노 무 비 : "&TEXT(I97,"#,##0"&IF(I97<>INT(I97),".###",""))&" / Q = "&TEXT(C97,"#,##0.0")&"" -> 노 무 비 : 57,245 / Q = 46,540.6 | C97: =D97+E97+F97 -> 46540.6 | D97: =IF(H97=0,0,ROUNDDOWN(J97*H97,1)) -> 0 | E97: =IF(H97=0,0,ROUNDDOWN(K97*H97,1)) -> 46540.6 | F97: =IF(H97=0,0,ROUNDDOWN(L97*H97,1)) -> 0 | G97: _x0007_'노 무 비 : '&X00185L& / Q = | H97: =ROUNDUP(AC97,14-LEN(ABS(INT(AC97)))) -> 0.81300813 | I97: =J97+K97+L97 -> 57245 | K97: =중기목록표!G5 -> 57245 | M97: X00185_1 | N97: T1_1 | X97: =중기목록표!B5&" / "&중기목록표!C5 -> 물탱크(살수차) / 5500ℓ | Y97: =HYPERLINK("#"&중기목록표!J2&"!A"&ROW(중기목록표!A5),"X00002 →") -> X00002 → | Z97: 1/ | AA97: =AD67 -> 1.23 | AB97: = | AC97: =1/AD67 -> 0.81300813
G98: _x0007_
A99: X00002 | B99: =" 경 비 : "&TEXT(I99,"#,##0"&IF(I99<>INT(I99),".###",""))&" / Q = "&TEXT(C99,"#,##0.0")&"" -> 경 비 : 9,986 / Q = 8,118.6 | C99: =D99+E99+F99 -> 8118.6 | D99: =IF(H99=0,0,ROUNDDOWN(J99*H99,1)) -> 0 | E99: =IF(H99=0,0,ROUNDDOWN(K99*H99,1)) -> 0 | F99: =IF(H99=0,0,ROUNDDOWN(L99*H99,1)) -> 8118.6 | G99: _x0007_'경 비 : '&X00185S& / Q = | H99: =ROUNDUP(AC99,14-LEN(ABS(INT(AC99)))) -> 0.81300813 | I99: =J99+K99+L99 -> 9986 | L99: =중기목록표!H5 -> 9986 | M99: X00185_1 | N99: T1_1 | X99: =중기목록표!B5&" / "&중기목록표!C5 -> 물탱크(살수차) / 5500ℓ | Y99: =HYPERLINK("#"&중기목록표!J2&"!A"&ROW(중기목록표!A5),"X00002 →") -> X00002 → | Z99: 1/ | AA99: =AD67 -> 1.23 | AB99: = | AC99: =1/AD67 -> 0.81300813
G100: _x0007_
B101: 소계 | C101: =D101+E101+F101 -> 68183.5 | D101: =SUMIF(N90:N100,M101,D90:D100) -> 13524.3 | E101: =SUMIF(N90:N100,M101,E90:E100) -> 46540.6 | F101: =SUMIF(N90:N100,M101,F90:F100) -> 8118.6 | G101: _x0007_(=) | M101: T1_1 | N101: T2_1
G102: _x0007_
G103: _x0007_
G104: _x0007_
B105: 계 | C105: =D105+E105+F105 -> 338599.2 | D105: =SUMIF(N57:N104,M105,D57:D104) -> 56750.3 | E105: =SUMIF(N57:N104,M105,E57:E104) -> 214352.3 | F105: =SUMIF(N57:N104,M105,F57:F104) -> 67496.6 | G105: _x0007_(==) | M105: T2_1 | N105: T7_1
A154: 총 계 | C154: =D154+E154+F154 -> 338598 | D154: =ROUNDDOWN(SUMIF(N57:N105,M154,D57:D105),0) -> 56750 | E154: =ROUNDDOWN(SUMIF(N57:N105,M154,E57:E105),0) -> 214352 | F154: =ROUNDDOWN(SUMIF(N57:N105,M154,F57:F105),0) -> 67496 | M154: T7_1
A155: 제 3호표 | B155: 제 3호표 | C155: =C204 -> 387996 | D155: =D204 -> 0 | E155: =E204 -> 387996 | F155: =F204 -> 0 | G155: =HYPERLINK("#G"&ROW(G183),"_x0005_`BDCOD|D82463_x0007_`POSS|"&ROW(G157)&"_x0007_`POSE|"&ROW(G183)&"_x0007_`") -> _x0005_`BDCOD|D82463_x0007_`POSS|157_x0007_`POSE|183_x0007_`
B156: 소운반 (인력,1구간,L=152m) / ㎥ | M156: D82463
G157: _x0007_
B158: 1. 소운반(인력) | G158: _x0007_'1. 소운반(인력)'
G159: _x0007_
G160: _x0007_
B161: ▶ 인력1회 운반량 : 25 kg | G161: _x0007_'▶ 인력1회 운반량 : 25 kg'
G162: _x0007_
B163: ▶ 평균운반거리 : L = 152 m | G163: _x0007_'▶ 평균운반거리 : L = 152 m'
G164: _x0007_
G165: _x0007_
G166: _x0007_
B167: 1)소운반 | G167: _x0007_'1)소운반'
G168: _x0007_
B169: =" L="&Z169&" m , V="&AD169&" m/hr , T="&AH169&" min " -> L=152 m , V=2500 m/hr , T=450 min | G169: _x0007_ L=152'm', V=2500'm/hr', T=450'min' | Z169: 152 | AA169: = | AB169: =Z169 -> 152 | AC169: , | AD169: 2500 | AE169: = | AF169: =AD169 -> 2500 | AG169: , | AH169: 450 | AI169: = | AJ169: =AH169 -> 450
G170: _x0007_
B171: =" t1="&Z171&" 분 , q="&AD171&" kg /"&AF171&" kg/㎥ = "&AH171&" ㎥ " -> t1=1.5 분 , q=25 kg /1700 kg/㎥ = 0.01 ㎥ | G171: _x0007_ t1=1.5'분', q=25'kg'/1700'kg/㎥'='㎥' | Z171: 1.5 | AA171: = | AB171: =Z171 -> 1.5 | AC171: , | AD171: 25 | AE171: / | AF171: 1700 | AG171: = | AH171: =TEXT(ROUND(AD171/AF171,2),"#,0.00") -> 0.01
G172: _x0007_
B173: =" N=V*T/(("&AD173&"*L)+(V*t1))= "&AM173&" 회 " -> N=V*T/((120*L)+(V*t1))= 51.16 회 | G173: _x0007_ N=V*T/((120*L)+(V*t1))='회' | Z173: =AF169 -> 2500 | AA173: * | AB173: =AJ169 -> 450 | AC173: /(( | AD173: 120 | AE173: * | AF173: =AB169 -> 152 | AG173: )+( | AH173: =AF169 -> 2500 | AI173: * | AJ173: =AB171 -> 1.5 | AK173: )) | AL173: = | AM173: =TEXT(ROUND(AF169*AJ169/((AD173*AB169)+(AF169*AB171)),2),"#,0.00") -> 51.16
G174: _x0007_
B175: =" Q= N*q= "&AD175&" ㎥/일 " -> Q= N*q= 0.51 ㎥/일 | G175: _x0007_ Q= N*q='㎥/일' | Z175: =AM173 -> 51.16 | AA175: * | AB175: =AH171 -> 0.01 | AC175: = | AD175: =TEXT(ROUND(AM173*AH171,2),"#,0.00") -> 0.51
G176: _x0007_
A177: L00001 | B177: =" 보통인부: "&Z177&" 인 * "&TEXT(I177,"#,##0"&IF(I177<>INT(I177),".###",""))&" / Q = "&TEXT(C177,"#,##0.0")&"" -> 보통인부: 1 인 * 197,878 / Q = 387,996.0 | C177: =D177+E177+F177 -> 387996 | D177: =IF(H177=0,0,ROUNDDOWN(J177*H177,1)) -> 0 | E177: =IF(H177=0,0,ROUNDDOWN(K177*H177,1)) -> 387996 | F177: =IF(H177=0,0,ROUNDDOWN(L177*H177,1)) -> 0 | G177: _x0007_'보통인부:'1'인' * &L01002& / Q = | H177: =ROUNDUP(AD177,14-LEN(ABS(INT(AD177)))) -> 1.9607843 | I177: =J177+K177+L177 -> 197878 | K177: =노무비목록표!E4 -> 197878 | M177: L01002_1 | N177: T1_1 | X177: =노무비목록표!B4&" / "&노무비목록표!C4 -> 보통인부 / | Y177: =HYPERLINK("#"&노무비목록표!G2&"!A"&ROW(노무비목록표!A4),"L00001 →") -> L00001 → | Z177: 1 | AA177: *1/ | AB177: =AD175 -> 0.51 | AC177: = | AD177: =Z177*1/AD175 -> 1.9607843
G178: _x0007_
...

Sheet 환율및기초자료
A1: 1. 환 율 | I1: STmate | J1: STmate
C2: 100,000$ 미만 | D2: 100,000$ 이상 | E2: 유로화(€) | G2: 엔화(100￥) | I2: =MID(CELL("filename",$A$1),FIND("]",CELL("filename",$A$1))+1,LEN(CELL("filename",$A$1))) -> 환율및기초자료
C3: 1470 | D3: 1470 | E3: 1000 | G3: 1000
A5: 2. 인 건 비
C6: 건설기계운전사 | D6: =노무비목록표!E8 -> 325791 | E6: * 1/8 * 16/12 * 25/20 = | G6: =ROUNDDOWN(D6*0.20833333334,0) -> 67873 | H6: L00005 | J6: =HYPERLINK("#"&노무비목록표!G2&"!A"&ROW(노무비목록표!A8),"L00005 →") -> L00005 →
C7: 화물차운전사 | D7: =노무비목록표!E9 -> 274776 | E7: * 1/8 * 16/12 * 25/20 = | G7: =ROUNDDOWN(D7*0.20833333334,0) -> 57245 | H7: L00006 | J7: =HYPERLINK("#"&노무비목록표!G2&"!A"&ROW(노무비목록표!A9),"L00006 →") -> L00006 →
A9: 3. 단가 및 재료비
B10: NO | C10: 단 가 명 | D10: 규 격 | E10: 단위 | F10: 가 격 | H10: 비 고
B11: 1 | C11: 건설기계운전사 | E11: 인 | F11: =노무비목록표!E8 -> 325791 | H11: L00005 | J11: =HYPERLINK("#"&노무비목록표!G2&"!A"&ROW(노무비목록표!A8),"L00005 →") -> L00005 →
B12: 2 | C12: 화물차운전사 | E12: 인 | F12: =노무비목록표!E9 -> 274776 | H12: L00006 | J12: =HYPERLINK("#"&노무비목록표!G2&"!A"&ROW(노무비목록표!A9),"L00006 →") -> L00006 →
B13: 3 | C13: 경유 | D13: 저유황 | E13: L | F13: =재료비목록표!E6 -> 1376 | H13: M00003 | J13: =HYPERLINK("#"&재료비목록표!G2&"!A"&ROW(재료비목록표!A6),"M00003 →") -> M00003 →

Sheet 중기목록표
A1: 중기 목록표 | J1: STmate | K1: STmate
A2: 공사명 : 서귀포 천제연 관개수로 준설사업 | J2: =MID(CELL("filename",$A$1),FIND("]",CELL("filename",$A$1))+1,LEN(CELL("filename",$A$1))) -> 중기목록표
A3: 호표 | B3: 공 종 | C3: 규 격 | D3: 단위 | E3: 합 계 | F3: 재 료 비 | G3: 노 무 비 | H3: 경 비 | I3: 비 고 | K3: =HYPERLINK("#'〓 목 차 〓'!B2","목차 →") -> 목차 →
A4: 제 1호표 | B4: 굴착기(무한궤도) | C4: 0.7㎥ | D4: 시간 | E4: =중기사용료!F11 -> 111900 | F4: =중기사용료!H11 -> 19473 | G4: =중기사용료!J11 -> 67873 | H4: =중기사용료!L11 -> 24554 | I4: 제 1호표 | J4: ="_x0007_`COD|X00020_x0005_`QTY1|1_x0005_`BQC|_x0005_`EQC|03020100700_x0005_`JDC|00000201007000000_x0005_`WQC|_x0005_`EDT|2026_x0005_`ADJ|F_x0005_`RXX|0_x0005_`DET|"&ROW(중기사용료!A5)&"_x0005_`" -> _x0007_`COD|X00020_x0005_`QTY1|1_x0005_`BQC|_x0005_`EQC|03020100700_x0005_`JDC|00000201007000000_x0005_`WQC|_x0005_`EDT|2026_x0005_`ADJ|F_x0005_`RXX|0_x0005_`DET|5_x0005_` | K4: =HYPERLINK("#"&중기사용료!N2&"!A"&ROW(중기사용료!A5),"X00001 →") -> X00001 →
A5: 제 2호표 | B5: 물탱크(살수차) | C5: 5500ℓ | D5: 시간 | E5: =중기사용료!F18 -> 83866 | F5: =중기사용료!H18 -> 16635 | G5: =중기사용료!J18 -> 57245 | H5: =중기사용료!L18 -> 9986 | I5: 제 2호표 | J5: ="_x0007_`COD|X00185_x0005_`QTY1|1_x0005_`BQC|_x0005_`EQC|03720400550_x0005_`JDC|00007204005500000_x0005_`WQC|_x0005_`EDT|2026_x0005_`ADJ|F_x0005_`RXX|0_x0005_`DET|"&ROW(중기사용료!A12)&"_x0005_`" -> _x0007_`COD|X00185_x0005_`QTY1|1_x0005_`BQC|_x0005_`EQC|03720400550_x0005_`JDC|00007204005500000_x0005_`WQC|_x0005_`EDT|2026_x0005_`ADJ|F_x0005_`RXX|0_x0005_`DET|12_x0005_` | K5: =HYPERLINK("#"&중기사용료!N2&"!A"&ROW(중기사용료!A12),"X00002 →") -> X00002 →
A6: 제 3호표 | B6: 트럭탑재형 크레인 | C6: 10톤 | D6: 시간 | E6: =중기사용료!F25 -> 98047 | F6: =중기사용료!H25 -> 17007 | G6: =중기사용료!J25 -> 57245 | H6: =중기사용료!L25 -> 23795 | I6: 제 3호표 | J6: ="_x0007_`COD|X00595_x0005_`QTY1|1_x0005_`BQC|08' 신규_x0005_`EQC|03210500100_x0005_`JDC|00002105001000000_x0005_`WQC|_x0005_`EDT|2026_x0005_`ADJ|F_x0005_`RXX|0_x0005_`DET|"&ROW(중기사용료!A19)&"_x0005_`" -> _x0007_`COD|X00595_x0005_`QTY1|1_x0005_`BQC|08' 신규_x0005_`EQC|03210500100_x0005_`JDC|00002105001000000_x0005_`WQC|_x0005_`EDT|2026_x0005_`ADJ|F_x0005_`RXX|0_x0005_`DET|19_x0005_` | K6: =HYPERLINK("#"&중기사용료!N2&"!A"&ROW(중기사용료!A19),"X00003 →") -> X00003 →
A7: 제 4호표 | B7: 진공흡입 준설차 | C7: 25톤(7.64㎥적) | D7: 시간 | E7: =중기사용료!F32 -> 194076 | F7: =중기사용료!H32 -> 53168 | G7: =중기사용료!J32 -> 67873 | H7: =중기사용료!L32 -> 73035 | I7: 제 4호표 | J7: ="_x0007_`COD|X30076_x0005_`QTY1|1_x0005_`BQC|08하' 신규_x0005_`EQC|03711000250_x0005_`JDC|00007110002500000_x0005_`WQC|_x0005_`EDT|2026_x0005_`ADJ|F_x0005_`RXX|0_x0005_`DET|"&ROW(중기사용료!A26)&"_x0005_`" -> _x0007_`COD|X30076_x0005_`QTY1|1_x0005_`BQC|08하' 신규_x0005_`EQC|03711000250_x0005_`JDC|00007110002500000_x0005_`WQC|_x0005_`EDT|2026_x0005_`ADJ|F_x0005_`RXX|0_x0005_`DET|26_x0005_` | K7: =HYPERLINK("#"&중기사용료!N2&"!A"&ROW(중기사용료!A26),"X00004 →") -> X00004 →

Sheet 중기사용료
A1: 중 기 사 용 료 | N1: STmate | Z1: STmate
A2: 공사명 : 서귀포 천제연 관개수로 준설사업 | N2: =MID(CELL("filename",$A$1),FIND("]",CELL("filename",$A$1))+1,LEN(CELL("filename",$A$1))) -> 중기사용료
A3: 공 종 | B3: 규 격 | C3: 수 량 | D3: 단위 | E3: 합 계 | G3: 재 료 비 | I3: 노 무 비 | K3: 경 비 | M3: 비 고
E4: 단 가 | F4: 금 액 | G4: 단 가 | H4: 금 액 | I4: 단 가 | J4: 금 액 | K4: 단 가 | L4: 금 액 | Z4: =HYPERLINK("#'〓 목 차 〓'!B2","목차 →") -> 목차 →
A5: 제 1 호표 | N5: =HYPERLINK("#N"&ROW(N10),"_x0005_`BDCOD|X00020_x0007_`POSS|"&ROW(N7)&"_x0007_`POSE|"&ROW(N10)&"_x0007_`") -> _x0005_`BDCOD|X00020_x0007_`POSS|7_x0007_`POSE|10_x0007_`
A6: 굴착기(무한궤도) | B6: 0.7㎥ | D6: 시간 | M6: X00001 | O6: X00020
A7: 굴착기(무한궤도) | B7: 0.7㎥ | C7: 0.2085 | D7: 천원 | E7: =G7+I7+K7 -> 117766 | F7: =H7+J7+L7 -> 24554.2 | G7: 0 | H7: =IF(C7=0,0,ROUNDDOWN(G7*C7,1)) -> 0 | I7: 0 | J7: =IF(C7=0,0,ROUNDDOWN(I7*C7,1)) -> 0 | K7: =경비목록표!E4 -> 117766 | L7: =IF(C7=0,0,ROUNDDOWN(K7*C7,1)) -> 24554.2 | M7: S00001 | N7: _x0007_`COD|S00020_x0005_`EXI|0_x0005_`DVD|F_x0005_`BMK| _x0005_`IPR|0_x0005_`BLA|F_x0005_` | O7: S00020_1 | P7: T7_1 | Z7: =HYPERLINK("#"&경비목록표!G2&"!A"&ROW(경비목록표!A4),"S00001 →") -> S00001 →
A8: 건설기계운전사 | C8: 1 | D8: 인 | E8: =G8+I8+K8 -> 67873 | F8: =H8+J8+L8 -> 67873 | G8: 0 | H8: =IF(C8=0,0,ROUNDDOWN(G8*C8,1)) -> 0 | I8: =환율및기초자료!G6 -> 67873 | J8: =IF(C8=0,0,ROUNDDOWN(I8*C8,1)) -> 67873 | K8: 0 | L8: =IF(C8=0,0,ROUNDDOWN(K8*C8,1)) -> 0 | M8: L00005 | N8: _x0007_`COD|L01048_x0005_`EXI|0_x0005_`DVD|F_x0005_`BMK| _x0005_`IPR|0_x0005_`BLA|F_x0005_` | O8: L01048_1 | P8: T7_1 | Z8: =HYPERLINK("#"&환율및기초자료!I2&"!A"&ROW(환율및기초자료!A6),"L00005 →") -> L00005 →
A9: 경유 | B9: 저유황 | C9: 11.6 | D9: L | E9: =G9+I9+K9 -> 1376 | F9: =H9+J9+L9 -> 15961.6 | G9: =재료비목록표!E6 -> 1376 | H9: =IF(C9=0,0,ROUNDDOWN(G9*C9,1)) -> 15961.6 | I9: 0 | J9: =IF(C9=0,0,ROUNDDOWN(I9*C9,1)) -> 0 | K9: 0 | L9: =IF(C9=0,0,ROUNDDOWN(K9*C9,1)) -> 0 | M9: M00003 | N9: _x0007_`COD|M00435_x0005_`EXI|0_x0005_`DVD|F_x0005_`BMK| _x0005_`IPR|1_x0005_`KWN|0_x0005_`BLA|F_x0005_` | O9: M00435_1 | P9: T7_1 | Q9: 1_01 | Z9: =HYPERLINK("#"&재료비목록표!G2&"!A"&ROW(재료비목록표!A6),"M00003 →") -> M00003 →
A10: 잡품 | B10: 주연료의% | C10: 22 | D10: % | E10: =G10+I10+K10 -> 15961.6 | F10: =H10+J10+L10 -> 3511.5 | G10: =H9 -> 15961.6 | H10: =IF(C10=0,0,ROUNDDOWN(G10*C10/100,1)) -> 3511.5 | I10: 0 | J10: =IF(C10=0,0,ROUNDDOWN(I10*C10/100,1)) -> 0 | K10: 0 | L10: =IF(C10=0,0,ROUNDDOWN(K10*C10/100,1)) -> 0 | N10: _x0007_`COD|PR_x0005_`EXI|1_x0005_`DVD|F_x0005_`BMK| _x0005_`IPR|0_x0005_`EQC|A01_x0005_`PRI|1_x0005_`PRO|1_x0005_`UNI|%_x0005_`BLA|F_x0005_` | O10: PRA01_1 | P10: T7_1
A11: 합 계 | F11: =H11+J11+L11 -> 111900 | H11: =ROUNDDOWN(SUMIF(P7:P10,O11,H7:H10),0) -> 19473 | J11: =ROUNDDOWN(SUMIF(P7:P10,O11,J7:J10),0) -> 67873 | L11: =ROUNDDOWN(SUMIF(P7:P10,O11,L7:L10),0) -> 24554 | O11: T7_1
A12: 제 2 호표 | N12: =HYPERLINK("#N"&ROW(N17),"_x0005_`BDCOD|X00185_x0007_`POSS|"&ROW(N14)&"_x0007_`POSE|"&ROW(N17)&"_x0007_`") -> _x0005_`BDCOD|X00185_x0007_`POSS|14_x0007_`POSE|17_x0007_`
A13: 물탱크(살수차) | B13: 5500ℓ | D13: 시간 | M13: X00002 | O13: X00185
A14: 물탱크(살수차) | B14: 5500ℓ | C14: 0.2113 | D14: 천원 | E14: =G14+I14+K14 -> 47263 | F14: =H14+J14+L14 -> 9986.6 | G14: 0 | H14: =IF(C14=0,0,ROUNDDOWN(G14*C14,1)) -> 0 | I14: 0 | J14: =IF(C14=0,0,ROUNDDOWN(I14*C14,1)) -> 0 | K14: =경비목록표!E5 -> 47263 | L14: =IF(C14=0,0,ROUNDDOWN(K14*C14,1)) -> 9986.6 | M14: S00002 | N14: _x0007_`COD|S00185_x0005_`EXI|0_x0005_`DVD|F_x0005_`BMK| _x0005_`IPR|0_x0005_`BLA|F_x0005_` | O14: S00185_1 | P14: T7_1 | Z14: =HYPERLINK("#"&경비목록표!G2&"!A"&ROW(경비목록표!A5),"S00002 →") -> S00002 →
A15: 화물차운전사 | C15: 1 | D15: 인 | E15: =G15+I15+K15 -> 57245 | F15: =H15+J15+L15 -> 57245 | G15: 0 | H15: =IF(C15=0,0,ROUNDDOWN(G15*C15,1)) -> 0 | I15: =환율및기초자료!G7 -> 57245 | J15: =IF(C15=0,0,ROUNDDOWN(I15*C15,1)) -> 57245 | K15: 0 | L15: =IF(C15=0,0,ROUNDDOWN(K15*C15,1)) -> 0 | M15: L00006 | N15: _x0007_`COD|L01049_x0005_`EXI|0_x0005_`DVD|F_x0005_`BMK| _x0005_`IPR|0_x0005_`BLA|F_x0005_` | O15: L01049_1 | P15: T7_1 | Z15: =HYPERLINK("#"&환율및기초자료!I2&"!A"&ROW(환율및기초자료!A7),"L00006 →") -> L00006 →
A16: 경유 | B16: 저유황 | C16: 9.3 | D16: L | E16: =G16+I16+K16 -> 1376 | F16: =H16+J16+L16 -> 12796.8 | G16: =재료비목록표!E6 -> 1376 | H16: =IF(C16=0,0,ROUNDDOWN(G16*C16,1)) -> 12796.8 | I16: 0 | J16: =IF(C16=0,0,ROUNDDOWN(I16*C16,1)) -> 0 | K16: 0 | L16: =IF(C16=0,0,ROUNDDOWN(K16*C16,1)) -> 0 | M16: M00003 | N16: _x0007_`COD|M00435_x0005_`EXI|0_x0005_`DVD|F_x0005_`BMK| _x0005_`IPR|1_x0005_`KWN|0_x0005_`BLA|F_x0005_` | O16: M00435_1 | P16: T7_1 | Q16: 1_01 | Z16: =HYPERLINK("#"&재료비목록표!G2&"!A"&ROW(재료비목록표!A6),"M00003 →") -> M00003 →
A17: 잡품 | B17: 주연료의% | C17: 30 | D17: % | E17: =G17+I17+K17 -> 12796.8 | F17: =H17+J17+L17 -> 3839 | G17: =H16 -> 12796.8 | H17: =IF(C17=0,0,ROUNDDOWN(G17*C17/100,1)) -> 3839 | I17: 0 | J17: =IF(C17=0,0,ROUNDDOWN(I17*C17/100,1)) -> 0 | K17: 0 | L17: =IF(C17=0,0,ROUNDDOWN(K17*C17/100,1)) -> 0 | N17: _x0007_`COD|PR_x0005_`EXI|1_x0005_`DVD|F_x0005_`BMK| _x0005_`IPR|0_x0005_`EQC|A01_x0005_`PRI|1_x0005_`PRO|1_x0005_`UNI|%_x0005_`BLA|F_x0005_` | O17: PRA01_1 | P17: T7_1
A18: 합 계 | F18: =H18+J18+L18 -> 83866 | H18: =ROUNDDOWN(SUMIF(P14:P17,O18,H14:H17),0) -> 16635 | J18: =ROUNDDOWN(SUMIF(P14:P17,O18,J14:J17),0) -> 57245 | L18: =ROUNDDOWN(SUMIF(P14:P17,O18,L14:L17),0) -> 9986 | O18: T7_1
A19: 제 3 호표 | N19: =HYPERLINK("#N"&ROW(N24),"_x0005_`BDCOD|X00595_x0007_`POSS|"&ROW(N21)&"_x0007_`POSE|"&ROW(N24)&"_x0007_`") -> _x0005_`BDCOD|X00595_x0007_`POSS|21_x0007_`POSE|24_x0007_`
A20: 트럭탑재형 크레인 | B20: 10톤 | D20: 시간 | M20: X00003 | O20: X00595
A21: 트럭탑재형 크레인 | B21: 10톤 | C21: 0.2598 | D21: 천원 | E21: =G21+I21+K21 -> 91593 | F21: =H21+J21+L21 -> 23795.8 | G21: 0 | H21: =IF(C21=0,0,ROUNDDOWN(G21*C21,1)) -> 0 | I21: 0 | J21: =IF(C21=0,0,ROUNDDOWN(I21*C21,1)) -> 0 | K21: =경비목록표!E6 -> 91593 | L21: =IF(C21=0,0,ROUNDDOWN(K21*C21,1)) -> 23795.8 | M21: S00003 | N21: _x0007_`COD|S00595_x0005_`EXI|0_x0005_`DVD|F_x0005_`BMK| _x0005_`IPR|0_x0005_`BLA|F_x0005_` | O21: S00595_1 | P21: T7_1 | Z21: =HYPERLINK("#"&경비목록표!G2&"!A"&ROW(경비목록표!A6),"S00003 →") -> S00003 →
A22: 화물차운전사 | C22: 1 | D22: 인 | E22: =G22+I22+K22 -> 57245 | F22: =H22+J22+L22 -> 57245 | G22: 0 | H22: =IF(C22=0,0,ROUNDDOWN(G22*C22,1)) -> 0 | I22: =환율및기초자료!G7 -> 57245 | J22: =IF(C22=0,0,ROUNDDOWN(I22*C22,1)) -> 57245 | K22: 0 | L22: =IF(C22=0,0,ROUNDDOWN(K22*C22,1)) -> 0 | M22: L00006 | N22: _x0007_`COD|L01049_x0005_`EXI|0_x0005_`DVD|F_x0005_`BMK| _x0005_`IPR|0_x0005_`BLA|F_x0005_` | O22: L01049_1 | P22: T7_1 | Z22: =HYPERLINK("#"&환율및기초자료!I2&"!A"&ROW(환율및기초자료!A7),"L00006 →") -> L00006 →
A23: 경유 | B23: 저유황 | C23: 10.3 | D23: L | E23: =G23+I23+K23 -> 1376 | F23: =H23+J23+L23 -> 14172.8 | G23: =재료비목록표!E6 -> 1376 | H23: =IF(C23=0,0,ROUNDDOWN(G23*C23,1)) -> 14172.8 | I23: 0 | J23: =IF(C23=0,0,ROUNDDOWN(I23*C23,1)) -> 0 | K23: 0 | L23: =IF(C23=0,0,ROUNDDOWN(K23*C23,1)) -> 0 | M23: M00003 | N23: _x0007_`COD|M00435_x0005_`EXI|0_x0005_`DVD|F_x0005_`BMK| _x0005_`IPR|1_x0005_`KWN|0_x0005_`BLA|F_x0005_` | O23: M00435_1 | P23: T7_1 | Q23: 1_01 | Z23: =HYPERLINK("#"&재료비목록표!G2&"!A"&ROW(재료비목록표!A6),"M00003 →") -> M00003 →
A24: 잡품 | B24: 주연료의% | C24: 20 | D24: % | E24: =G24+I24+K24 -> 14172.8 | F24: =H24+J24+L24 -> 2834.5 | G24: =H23 -> 14172.8 | H24: =IF(C24=0,0,ROUNDDOWN(G24*C24/100,1)) -> 2834.5 | I24: 0 | J24: =IF(C24=0,0,ROUNDDOWN(I24*C24/100,1)) -> 0 | K24: 0 | L24: =IF(C24=0,0,ROUNDDOWN(K24*C24/100,1)) -> 0 | N24: _x0007_`COD|PR_x0005_`EXI|1_x0005_`DVD|F_x0005_`BMK| _x0005_`IPR|0_x0005_`EQC|A01_x0005_`PRI|1_x0005_`PRO|1_x0005_`UNI|%_x0005_`BLA|F_x0005_` | O24: PRA01_1 | P24: T7_1
A25: 합 계 | F25: =H25+J25+L25 -> 98047 | H25: =ROUNDDOWN(SUMIF(P21:P24,O25,H21:H24),0) -> 17007 | J25: =ROUNDDOWN(SUMIF(P21:P24,O25,J21:J24),0) -> 57245 | L25: =ROUNDDOWN(SUMIF(P21:P24,O25,L21:L24),0) -> 23795 | O25: T7_1
A26: 제 4 호표 | N26: =HYPERLINK("#N"&ROW(N31),"_x0005_`BDCOD|X30076_x0007_`POSS|"&ROW(N28)&"_x0007_`POSE|"&ROW(N31)&"_x0007_`") -> _x0005_`BDCOD|X30076_x0007_`POSS|28_x0007_`POSE|31_x0007_`
A27: 진공흡입 준설차 | B27: 25톤(7.64㎥적) | D27: 시간 | M27: X00004 | O27: X30076
A28: 진공흡입 준설차 | B28: 25톤(7.64㎥적) | C28: 0.2413 | D28: 천원 | E28: =G28+I28+K28 -> 302677 | F28: =H28+J28+L28 -> 73035.9 | G28: 0 | H28: =IF(C28=0,0,ROUNDDOWN(G28*C28,1)) -> 0 | I28: 0 | J28: =IF(C28=0,0,ROUNDDOWN(I28*C28,1)) -> 0 | K28: =경비목록표!E7 -> 302677 | L28: =IF(C28=0,0,ROUNDDOWN(K28*C28,1)) -> 73035.9 | M28: S00004 | N28: _x0007_`COD|S01167_x0005_`EXI|0_x0005_`DVD|F_x0005_`BMK| _x0005_`IPR|0_x0005_`BLA|F_x0005_` | O28: S01167_1 | P28: T7_1 | Z28: =HYPERLINK("#"&경비목록표!G2&"!A"&ROW(경비목록표!A7),"S00004 →") -> S00004 →
A29: 건설기계운전사 | C29: 1 | D29: 인 | E29: =G29+I29+K29 -> 67873 | F29: =H29+J29+L29 -> 67873 | G29: 0 | H29: =IF(C29=0,0,ROUNDDOWN(G29*C29,1)) -> 0 | I29: =환율및기초자료!G6 -> 67873 | J29: =IF(C29=0,0,ROUNDDOWN(I29*C29,1)) -> 67873 | K29: 0 | L29: =IF(C29=0,0,ROUNDDOWN(K29*C29,1)) -> 0 | M29: L00005 | N29: _x0007_`COD|L01048_x0005_`EXI|0_x0005_`DVD|F_x0005_`BMK| _x0005_`IPR|0_x0005_`BLA|F_x0005_` | O29: L01048_1 | P29: T7_1 | Z29: =HYPERLINK("#"&환율및기초자료!I2&"!A"&ROW(환율및기초자료!A6),"L00005 →") -> L00005 →
A30: 경유 | B30: 저유황 | C30: 27.6 | D30: L | E30: =G30+I30+K30 -> 1376 | F30: =H30+J30+L30 -> 37977.6 | G30: =재료비목록표!E6 -> 1376 | H30: =IF(C30=0,0,ROUNDDOWN(G30*C30,1)) -> 37977.6 | I30: 0 | J30: =IF(C30=0,0,ROUNDDOWN(I30*C30,1)) -> 0 | K30: 0 | L30: =IF(C30=0,0,ROUNDDOWN(K30*C30,1)) -> 0 | M30: M00003 | N30: _x0007_`COD|M00435_x0005_`EXI|0_x0005_`DVD|F_x0005_`BMK| _x0005_`IPR|1_x0005_`KWN|0_x0005_`BLA|F_x0005_` | O30: M00435_1 | P30: T7_1 | Q30: 1_01 | Z30: =HYPERLINK("#"&재료비목록표!G2&"!A"&ROW(재료비목록표!A6),"M00003 →") -> M00003 →
A31: 잡품 | B31: 주연료의% | C31: 40 | D31: % | E31: =G31+I31+K31 -> 37977.6 | F31: =H31+J31+L31 -> 15191 | G31: =H30 -> 37977.6 | H31: =IF(C31=0,0,ROUNDDOWN(G31*C31/100,1)) -> 15191 | I31: 0 | J31: =IF(C31=0,0,ROUNDDOWN(I31*C31/100,1)) -> 0 | K31: 0 | L31: =IF(C31=0,0,ROUNDDOWN(K31*C31/100,1)) -> 0 | N31: _x0007_`COD|PR_x0005_`EXI|1_x0005_`DVD|F_x0005_`BMK| _x0005_`IPR|0_x0005_`EQC|A01_x0005_`PRI|1_x0005_`PRO|1_x0005_`UNI|%_x0005_`BLA|F_x0005_` | O31: PRA01_1 | P31: T7_1
A32: 합 계 | F32: =H32+J32+L32 -> 194076 | H32: =ROUNDDOWN(SUMIF(P28:P31,O32,H28:H31),0) -> 53168 | J32: =ROUNDDOWN(SUMIF(P28:P31,O32,J28:J31),0) -> 67873 | L32: =ROUNDDOWN(SUMIF(P28:P31,O32,L28:L31),0) -> 73035 | O32: T7_1

Sheet 재료비목록표
A1: 재료비 목록표 | G1: STmate | H1: STmate
A2: 공사명 : 서귀포 천제연 관개수로 준설사업 | G2: =MID(CELL("filename",$A$1),FIND("]",CELL("filename",$A$1))+1,LEN(CELL("filename",$A$1))) -> 재료비목록표
A3: 호표 | B3: 공 종 | C3: 규 격 | D3: 단위 | E3: 단 가 | F3: 비 고 | H3: =HYPERLINK("#'〓 목 차 〓'!B2","목차 →") -> 목차 →
A4: 1 | B4: PE드럼 | C4: (일체형) | D4: 개 | E4: 16000 | F4: 1 | G4: _x0007_`COD|M00254_x0005_`QTY1|1_x0005_`BQC|사급(26/01)_x0005_`EQC|도심사_x0005_`JDC|_x0005_`WQC|_x0005_`EDT|_x0005_`
A5: 2 | B5: 윙카호스 | C5: (10m/Roll,DC) | D5: Roll | E5: 15000 | F5: 2 | G5: _x0007_`COD|M00255_x0005_`QTY1|1_x0005_`BQC|사급(26/01)_x0005_`EQC|도심사_x0005_`JDC|_x0005_`WQC|_x0005_`EDT|_x0005_`
A6: 3 | B6: 경유 | C6: 저유황 | D6: L | E6: 1376 | F6: 3 | G6: _x0007_`COD|M00435_x0005_`QTY1|1_x0005_`BQC|_x0005_`EQC|_x0005_`JDC|1510150520282163_x0005_`WQC|_x0005_`EDT|2026.01.06_x0005_`
A7: 4 | B7: 콘테이너(가설사무실) | C7: (3.0*9.0) | D7: 개 | E7: 4600000 | F7: 4 | G7: _x0007_`COD|M00524_x0005_`QTY1|1_x0005_`BQC|사급(25/04)_x0005_`EQC|_x0005_`JDC|_x0005_`WQC|_x0005_`EDT|_x0005_`
A8: 5 | B8: 콘테이너(가설창고) | C8: (3.0*6.0) | D8: 개 | E8: 3200000 | F8: 5 | G8: _x0007_`COD|M00525_x0005_`QTY1|1_x0005_`BQC|사급(25/04)_x0005_`EQC|_x0005_`JDC|_x0005_`WQC|_x0005_`EDT|_x0005_`
A9: 6 | B9: 야간점멸등 | C9: (공사용) | D9: EA | E9: 18000 | F9: 6 | G9: _x0007_`COD|M01100_x0005_`QTY1|1_x0005_`BQC|사급(26/01)_x0005_`EQC|도심사_x0005_`JDC|_x0005_`WQC|_x0005_`EDT|_x0005_`

Sheet 노무비목록표
A1: 노무비 목록표 | G1: STmate | H1: STmate
A2: 공사명 : 서귀포 천제연 관개수로 준설사업 | G2: =MID(CELL("filename",$A$1),FIND("]",CELL("filename",$A$1))+1,LEN(CELL("filename",$A$1))) -> 노무비목록표
A3: 호표 | B3: 공 종 | C3: 규 격 | D3: 단위 | E3: 단 가 | F3: 비 고 | H3: =HYPERLINK("#'〓 목 차 〓'!B2","목차 →") -> 목차 →
A4: 1 | B4: 보통인부 | D4: 인 | E4: 197878 | F4: 1 | G4: _x0007_`COD|L01002_x0005_`QTY1|1_x0005_`BQC|01000000075_x0005_`EQC|01000001002_x0005_`JDC|L001010101000002_x0005_`WQC|_x0005_`EDT|2026.상_x0005_`
A5: 2 | B5: 특별인부 | D5: 인 | E5: 260040 | F5: 2 | G5: _x0007_`COD|L01003_x0005_`QTY1|1_x0005_`BQC|01000000074_x0005_`EQC|01000001003_x0005_`JDC|L001010101000003_x0005_`WQC|_x0005_`EDT|2026.상_x0005_`
A6: 3 | B6: 비계공 | D6: 인 | E6: 324229 | F6: 3 | G6: _x0007_`COD|L01006_x0005_`QTY1|1_x0005_`BQC|01000000013_x0005_`EQC|01000001006_x0005_`JDC|L001010101000006_x0005_`WQC|_x0005_`EDT|2026.상_x0005_`
A7: 4 | B7: 배관공(수도) | D7: 인 | E7: 301967 | F7: 4 | G7: _x0007_`COD|L01040_x0005_`QTY1|1_x0005_`BQC|01000000026_x0005_`EQC|01000001040_x0005_`JDC|L001010101000040_x0005_`WQC|_x0005_`EDT|2026.상_x0005_`
A8: 5 | B8: 건설기계운전사 | D8: 인 | E8: 325791 | F8: 5 | G8: _x0007_`COD|L01048_x0005_`QTY1|1_x0005_`BQC|01000000076_x0005_`EQC|01000001048_x0005_`JDC|L001010101000048_x0005_`WQC|_x0005_`EDT|2026.상_x0005_`
A9: 6 | B9: 화물차운전사 | D9: 인 | E9: 274776 | F9: 6 | G9: _x0007_`COD|L01049_x0005_`QTY1|1_x0005_`BQC|01000000078_x0005_`EQC|01000001049_x0005_`JDC|L001010101000049_x0005_`WQC|_x0005_`EDT|2026.상_x0005_`
A10: 7 | B10: 교통정리원 | C10: 기타 직종 | D10: 인 | E10: 199851 | F10: 7 | G10: _x0007_`COD|L05012_x0005_`QTY1|1_x0005_`BQC|25상' 신규_x0005_`EQC|01000005013_x0005_`JDC|L001010501000123_x0005_`WQC|_x0005_`EDT|2026.상_x0005_`

Sheet 경비목록표
A1: 경비 목록표 | G1: STmate | H1: STmate
A2: 공사명 : 서귀포 천제연 관개수로 준설사업 | G2: =MID(CELL("filename",$A$1),FIND("]",CELL("filename",$A$1))+1,LEN(CELL("filename",$A$1))) -> 경비목록표
A3: 호표 | B3: 공 종 | C3: 규 격 | D3: 단위 | E3: 단 가 | F3: 비 고 | H3: =HYPERLINK("#'〓 목 차 〓'!B2","목차 →") -> 목차 →
A4: 1 | B4: 굴착기(무한궤도) | C4: 0.7㎥ | D4: 천원 | E4: 117766 | F4: 1 | G4: _x0007_`COD|S00020_x0005_`QTY1|1_x0005_`BQC|_x0005_`EQC|02020100700_x0005_`JDC|0000020100700000_x0005_`WQC|_x0005_`EDT|2026_x0005_`
A5: 2 | B5: 물탱크(살수차) | C5: 5500ℓ | D5: 천원 | E5: 47263 | F5: 2 | G5: _x0007_`COD|S00185_x0005_`QTY1|1_x0005_`BQC|_x0005_`EQC|02720400550_x0005_`JDC|0000720400550000_x0005_`WQC|_x0005_`EDT|2026_x0005_`
A6: 3 | B6: 트럭탑재형 크레인 | C6: 10톤 | D6: 천원 | E6: 91593 | F6: 3 | G6: _x0007_`COD|S00595_x0005_`QTY1|1_x0005_`BQC|_x0005_`EQC|02210500100_x0005_`JDC|0000210500100000_x0005_`WQC|_x0005_`EDT|2026_x0005_`
A7: 4 | B7: 진공흡입 준설차 | C7: 25톤(7.64㎥적) | D7: 천원 | E7: 302677 | F7: 4 | G7: _x0007_`COD|S01167_x0005_`QTY1|1_x0005_`BQC|_x0005_`EQC|02711000250_x0005_`JDC|0000711000250000_x0005_`WQC|_x0005_`EDT|2026_x0005_`

Sheet 일식견적목록표
A1: 일식/견적 목록표 | J1: STmate | K1: STmate
A2: 공사명 : 서귀포 천제연 관개수로 준설사업 | J2: =MID(CELL("filename",$A$1),FIND("]",CELL("filename",$A$1))+1,LEN(CELL("filename",$A$1))) -> 일식견적목록표
A3: 호표 | B3: 공 종 | C3: 규 격 | D3: 단위 | E3: 합 계 | F3: 재 료 비 | G3: 노 무 비 | H3: 경 비 | I3: 비 고 | K3: =HYPERLINK("#'〓 목 차 〓'!B2","목차 →") -> 목차 →
A4: 1 | B4: 공사안내표지판 | C4: (1.2X0.6) | D4: 개소 | E4: =F4+G4+H4 -> 180000 | F4: 180000 | G4: 0 | H4: 0 | I4: 1 | J4: _x0007_`COD|W00187_x0005_`QTY1|1_x0005_`BQC|25년도_x0005_`EQC|도심사_견적_x0005_`JDC|_x0005_`WQC|_x0005_`EDT|_x0005_`ATP|0_x0005_`
A5: 2 | B5: 공사안내표지판 | C5: (0.6X0.8) | D5: 개소 | E5: =F5+G5+H5 -> 100000 | F5: 100000 | G5: 0 | H5: 0 | I5: 2 | J5: _x0007_`COD|W00188_x0005_`QTY1|1_x0005_`BQC|25년도_x0005_`EQC|도심사_견적_x0005_`JDC|_x0005_`WQC|_x0005_`EDT|_x0005_`ATP|0_x0005_`

Sheet 〓 INITIAL 〓
B2: ※※ 현재 Sheet를 수정 또는 삭제하지 마십시요[수정/삭제시 STmate 데이타로 변환할 수 없습니다] ※※
B4: [Sheet정보] | C4: =ISERROR(SUM(C6:X15,C18:X23)) -> TRUE | D4: =ROW(C24) -> 24
B5: 목차 | C5: Sheet | D5: FPos | E5: ITNAME | F5: NAME | G5: SIZE | H5: QTY | I5: UNIT | J5: SPOS | K5: EPOS | L5: TAMT | M5: TAMOUNT | N5: MAMT | O5: MAMOUNT | P5: LAMT | Q5: LAMOUNT | R5: SAMT | S5: SAMOUNT | T5: AAMT | U5: AAMOUNT | V5: NAMT | W5: NAMOUNT | X5: INFO
B6: 1. 재료비목록표 | C6: =IF(D6="","재료비목록표",MID(D6,FIND("]",D6)+1,LEN(D6))) -> #REF! | D6: =CELL("filename",#REF!) -> #REF! | F6: =HYPERLINK("#"&C6&"!"&ADDRESS(3,COLUMN(#REF!),1),COLUMN(#REF!)) -> #REF! | G6: =HYPERLINK("#"&C6&"!"&ADDRESS(3,COLUMN(#REF!),1),COLUMN(#REF!)) -> #REF! | I6: =HYPERLINK("#"&C6&"!"&ADDRESS(3,COLUMN(#REF!),1),COLUMN(#REF!)) -> #REF! | J6: =HYPERLINK("#"&C6&"!A"&ROW(#REF!),ROW(#REF!)) -> #REF! | K6: =HYPERLINK("#"&C6&"!A"&ROW(#REF!),ROW(#REF!)) -> #REF! | L6: =HYPERLINK("#"&C6&"!"&ADDRESS(3,COLUMN(#REF!),1),COLUMN(#REF!)) -> #REF! | X6: =HYPERLINK("#"&C6&"!"&ADDRESS(3,COLUMN(#REF!),1),COLUMN(#REF!)) -> #REF!
B7: 2. 노무비목록표 | C7: =IF(D7="","노무비목록표",MID(D7,FIND("]",D7)+1,LEN(D7))) -> #REF! | D7: =CELL("filename",#REF!) -> #REF! | F7: =HYPERLINK("#"&C7&"!"&ADDRESS(3,COLUMN(#REF!),1),COLUMN(#REF!)) -> #REF! | G7: =HYPERLINK("#"&C7&"!"&ADDRESS(3,COLUMN(#REF!),1),COLUMN(#REF!)) -> #REF! | I7: =HYPERLINK("#"&C7&"!"&ADDRESS(3,COLUMN(#REF!),1),COLUMN(#REF!)) -> #REF! | J7: =HYPERLINK("#"&C7&"!A"&ROW(#REF!),ROW(#REF!)) -> #REF! | K7: =HYPERLINK("#"&C7&"!A"&ROW(#REF!),ROW(#REF!)) -> #REF! | L7: =HYPERLINK("#"&C7&"!"&ADDRESS(3,COLUMN(#REF!),1),COLUMN(#REF!)) -> #REF! | X7: =HYPERLINK("#"&C7&"!"&ADDRESS(3,COLUMN(#REF!),1),COLUMN(#REF!)) -> #REF!
B8: 3. 경비목록표 | C8: =IF(D8="","경비목록표",MID(D8,FIND("]",D8)+1,LEN(D8))) -> #REF! | D8: =CELL("filename",#REF!) -> #REF! | F8: =HYPERLINK("#"&C8&"!"&ADDRESS(3,COLUMN(#REF!),1),COLUMN(#REF!)) -> #REF! | G8: =HYPERLINK("#"&C8&"!"&ADDRESS(3,COLUMN(#REF!),1),COLUMN(#REF!)) -> #REF! | I8: =HYPERLINK("#"&C8&"!"&ADDRESS(3,COLUMN(#REF!),1),COLUMN(#REF!)) -> #REF! | J8: =HYPERLINK("#"&C8&"!A"&ROW(#REF!),ROW(#REF!)) -> #REF! | K8: =HYPERLINK("#"&C8&"!A"&ROW(#REF!),ROW(#REF!)) -> #REF! | L8: =HYPERLINK("#"&C8&"!"&ADDRESS(3,COLUMN(#REF!),1),COLUMN(#REF!)) -> #REF! | X8: =HYPERLINK("#"&C8&"!"&ADDRESS(3,COLUMN(#REF!),1),COLUMN(#REF!)) -> #REF!
B9: 4. 일식목록표 | C9: =IF(D9="","일식견적목록표",MID(D9,FIND("]",D9)+1,LEN(D9))) -> #REF! | D9: =CELL("filename",#REF!) -> #REF! | F9: =HYPERLINK("#"&C9&"!"&ADDRESS(3,COLUMN(#REF!),1),COLUMN(#REF!)) -> #REF! | G9: =HYPERLINK("#"&C9&"!"&ADDRESS(3,COLUMN(#REF!),1),COLUMN(#REF!)) -> #REF! | I9: =HYPERLINK("#"&C9&"!"&ADDRESS(3,COLUMN(#REF!),1),COLUMN(#REF!)) -> #REF! | J9: =HYPERLINK("#"&C9&"!A"&ROW(#REF!),ROW(#REF!)) -> #REF! | K9: =HYPERLINK("#"&C9&"!A"&ROW(#REF!),ROW(#REF!)) -> #REF! | L9: =HYPERLINK("#"&C9&"!"&ADDRESS(3,COLUMN(#REF!),1),COLUMN(#REF!)) -> #REF! | N9: =HYPERLINK("#"&C9&"!"&ADDRESS(3,COLUMN(#REF!),1),COLUMN(#REF!)) -> #REF! | P9: =HYPERLINK("#"&C9&"!"&ADDRESS(3,COLUMN(#REF!),1),COLUMN(#REF!)) -> #REF! | R9: =HYPERLINK("#"&C9&"!"&ADDRESS(3,COLUMN(#REF!),1),COLUMN(#REF!)) -> #REF! | X9: =HYPERLINK("#"&C9&"!"&ADDRESS(3,COLUMN(#REF!),1),COLUMN(#REF!)) -> #REF!
B10: 5. 환율 및 기초자료 | C10: =IF(D10="","환율및기초자료",MID(D10,FIND("]",D10)+1,LEN(D10))) -> #REF! | D10: =CELL("filename",#REF!) -> #REF! | E10: =HYPERLINK("#"&C10&"!"&ADDRESS(5,COLUMN(#REF!),1),COLUMN(#REF!)) -> #REF! | F10: =HYPERLINK("#"&C10&"!"&ADDRESS(5,COLUMN(#REF!),1),COLUMN(#REF!)) -> #REF! | G10: =HYPERLINK("#"&C10&"!"&ADDRESS(5,COLUMN(#REF!),1),COLUMN(#REF!)) -> #REF! | I10: =HYPERLINK("#"&C10&"!"&ADDRESS(5,COLUMN(#REF!),1),COLUMN(#REF!)) -> #REF! | J10: =HYPERLINK("#"&C10&"!A"&ROW(#REF!),ROW(#REF!)) -> #REF! | K10: =HYPERLINK("#"&C10&"!A"&ROW(#REF!),ROW(#REF!)) -> #REF! | L10: =HYPERLINK("#"&C10&"!"&ADDRESS(5,COLUMN(#REF!),1),COLUMN(#REF!)) -> #REF! | X10: =HYPERLINK("#"&C10&"!"&ADDRESS(5,COLUMN(#REF!),1),COLUMN(#REF!)) -> #REF!
B11: 6. 중기목록표 | C11: =IF(D11="","중기목록표",MID(D11,FIND("]",D11)+1,LEN(D11))) -> #REF! | D11: =CELL("filename",#REF!) -> #REF! | F11: =HYPERLINK("#"&C11&"!"&ADDRESS(3,COLUMN(#REF!),1),COLUMN(#REF!)) -> #REF! | G11: =HYPERLINK("#"&C11&"!"&ADDRESS(3,COLUMN(#REF!),1),COLUMN(#REF!)) -> #REF! | I11: =HYPERLINK("#"&C11&"!"&ADDRESS(3,COLUMN(#REF!),1),COLUMN(#REF!)) -> #REF! | J11: =HYPERLINK("#"&C11&"!A"&ROW(#REF!),ROW(#REF!)) -> #REF! | K11: =HYPERLINK("#"&C11&"!A"&ROW(#REF!),ROW(#REF!)) -> #REF! | L11: =HYPERLINK("#"&C11&"!"&ADDRESS(3,COLUMN(#REF!),1),COLUMN(#REF!)) -> #REF! | N11: =HYPERLINK("#"&C11&"!"&ADDRESS(3,COLUMN(#REF!),1),COLUMN(#REF!)) -> #REF! | P11: =HYPERLINK("#"&C11&"!"&ADDRESS(3,COLUMN(#REF!),1),COLUMN(#REF!)) -> #REF! | R11: =HYPERLINK("#"&C11&"!"&ADDRESS(3,COLUMN(#REF!),1),COLUMN(#REF!)) -> #REF! | X11: =HYPERLINK("#"&C11&"!"&ADDRESS(3,COLUMN(#REF!),1),COLUMN(#REF!)) -> #REF!
B12: 7. 실적단가표
B13: 8. 일위대가목록표
B14: 9. 산출근거목록표 | C14: =IF(D14="","단가산출근거목록표",MID(D14,FIND("]",D14)+1,LEN(D14))) -> #REF! | D14: =CELL("filename",#REF!) -> #REF! | F14: =HYPERLINK("#"&C14&"!"&ADDRESS(3,COLUMN(#REF!),1),COLUMN(#REF!)) -> #REF! | G14: =HYPERLINK("#"&C14&"!"&ADDRESS(3,COLUMN(#REF!),1),COLUMN(#REF!)) -> #REF! | I14: =HYPERLINK("#"&C14&"!"&ADDRESS(3,COLUMN(#REF!),1),COLUMN(#REF!)) -> #REF! | J14: =HYPERLINK("#"&C14&"!A"&ROW(#REF!),ROW(#REF!)) -> #REF! | K14: =HYPERLINK("#"&C14&"!A"&ROW(#REF!),ROW(#REF!)) -> #REF! | L14: =HYPERLINK("#"&C14&"!"&ADDRESS(3,COLUMN(#REF!),1),COLUMN(#REF!)) -> #REF! | N14: =HYPERLINK("#"&C14&"!"&ADDRESS(3,COLUMN(#REF!),1),COLUMN(#REF!)) -> #REF! | P14: =HYPERLINK("#"&C14&"!"&ADDRESS(3,COLUMN(#REF!),1),COLUMN(#REF!)) -> #REF! | R14: =HYPERLINK("#"&C14&"!"&ADDRESS(3,COLUMN(#REF!),1),COLUMN(#REF!)) -> #REF! | X14: =HYPERLINK("#"&C14&"!"&ADDRESS(3,COLUMN(#REF!),1),COLUMN(#REF!)) -> #REF!
B15: 10. 자재단가대비표
B16: 11. 내역서 | C16: =IF(D16="","설계내역서",MID(D16,FIND("]",D16)+1,LEN(D16))) -> #REF! | D16: =CELL("filename",#REF!) -> #REF! | E16: =HYPERLINK("#"&C16&"!"&ADDRESS(4,COLUMN(#REF!),1),COLUMN(#REF!)) -> #REF! | F16: =HYPERLINK("#"&C16&"!"&ADDRESS(4,COLUMN(#REF!),1),COLUMN(#REF!)) -> #REF! | G16: =HYPERLINK("#"&C16&"!"&ADDRESS(4,COLUMN(#REF!),1),COLUMN(#REF!)) -> #REF! | H16: =HYPERLINK("#"&C16&"!"&ADDRESS(4,COLUMN(#REF!),1),COLUMN(#REF!)) -> #REF! | I16: =HYPERLINK("#"&C16&"!"&ADDRESS(4,COLUMN(#REF!),1),COLUMN(#REF!)) -> #REF! | J16: =HYPERLINK("#"&C16&"!A"&ROW(#REF!),ROW(#REF!)) -> #REF! | K16: =HYPERLINK("#"&C16&"!A"&ROW(#REF!),ROW(#REF!)) -> #REF! | L16: =HYPERLINK("#"&C16&"!"&ADDRESS(4,COLUMN(#REF!),1),COLUMN(#REF!)) -> #REF! | M16: =HYPERLINK("#"&C16&"!"&ADDRESS(4,COLUMN(#REF!),1),COLUMN(#REF!)) -> #REF! | N16: =HYPERLINK("#"&C16&"!"&ADDRESS(4,COLUMN(#REF!),1),COLUMN(#REF!)) -> #REF! | O16: =HYPERLINK("#"&C16&"!"&ADDRESS(4,COLUMN(#REF!),1),COLUMN(#REF!)) -> #REF! | P16: =HYPERLINK("#"&C16&"!"&ADDRESS(4,COLUMN(#REF!),1),COLUMN(#REF!)) -> #REF! | Q16: =HYPERLINK("#"&C16&"!"&ADDRESS(4,COLUMN(#REF!),1),COLUMN(#REF!)) -> #REF! | R16: =HYPERLINK("#"&C16&"!"&ADDRESS(4,COLUMN(#REF!),1),COLUMN(#REF!)) -> #REF! | S16: =HYPERLINK("#"&C16&"!"&ADDRESS(4,COLUMN(#REF!),1),COLUMN(#REF!)) -> #REF! | X16: =HYPERLINK("#"&C16&"!"&ADDRESS(4,COLUMN(#REF!),1),COLUMN(#REF!)) -> #REF!
B17: 12. 총괄내역서 | C17: =IF(D17="","총괄설계내역서",MID(D17,FIND("]",D17)+1,LEN(D17))) -> #REF! | D17: =CELL("filename",#REF!) -> #REF! | E17: =HYPERLINK("#"&C17&"!"&ADDRESS(3,COLUMN(#REF!),1),COLUMN(#REF!)) -> #REF! | F17: =HYPERLINK("#"&C17&"!"&ADDRESS(3,COLUMN(#REF!),1),COLUMN(#REF!)) -> #REF! | G17: =HYPERLINK("#"&C17&"!"&ADDRESS(3,COLUMN(#REF!),1),COLUMN(#REF!)) -> #REF! | I17: =HYPERLINK("#"&C17&"!"&ADDRESS(3,COLUMN(#REF!),1),COLUMN(#REF!)) -> #REF! | J17: =HYPERLINK("#"&C17&"!A"&ROW(#REF!),ROW(#REF!)) -> #REF! | K17: =HYPERLINK("#"&C17&"!A"&ROW(#REF!),ROW(#REF!)) -> #REF! | L17: =HYPERLINK("#"&C17&"!"&ADDRESS(3,COLUMN(#REF!),1),COLUMN(#REF!)) -> #REF! | M17: =HYPERLINK("#"&C17&"!"&ADDRESS(3,COLUMN(#REF!),1),COLUMN(#REF!)) -> #REF! | N17: =HYPERLINK("#"&C17&"!"&ADDRESS(3,COLUMN(#REF!),1),COLUMN(#REF!)) -> #REF! | O17: =HYPERLINK("#"&C17&"!"&ADDRESS(3,COLUMN(#REF!),1),COLUMN(#REF!)) -> #REF! | P17: =HYPERLINK("#"&C17&"!"&ADDRESS(3,COLUMN(#REF!),1),COLUMN(#REF!)) -> #REF! | Q17: =HYPERLINK("#"&C17&"!"&ADDRESS(3,COLUMN(#REF!),1),COLUMN(#REF!)) -> #REF! | X17: =HYPERLINK("#"&C17&"!"&ADDRESS(3,COLUMN(#REF!),1),COLUMN(#REF!)) -> #REF!
B18: 13. 중기사용료 | C18: =IF(D18="","중기사용료",MID(D18,FIND("]",D18)+1,LEN(D18))) -> #REF! | D18: =CELL("filename",#REF!) -> #REF! | F18: =HYPERLINK("#"&C18&"!"&ADDRESS(4,COLUMN(#REF!),1),COLUMN(#REF!)) -> #REF! | G18: =HYPERLINK("#"&C18&"!"&ADDRESS(4,COLUMN(#REF!),1),COLUMN(#REF!)) -> #REF! | H18: =HYPERLINK("#"&C18&"!"&ADDRESS(4,COLUMN(#REF!),1),COLUMN(#REF!)) -> #REF! | I18: =HYPERLINK("#"&C18&"!"&ADDRESS(4,COLUMN(#REF!),1),COLUMN(#REF!)) -> #REF! | J18: =HYPERLINK("#"&C18&"!A"&ROW(#REF!),ROW(#REF!)) -> #REF! | K18: =HYPERLINK("#"&C18&"!A"&ROW(#REF!),ROW(#REF!)) -> #REF! | L18: =HYPERLINK("#"&C18&"!"&ADDRESS(4,COLUMN(#REF!),1),COLUMN(#REF!)) -> #REF! | M18: =HYPERLINK("#"&C18&"!"&ADDRESS(4,COLUMN(#REF!),1),COLUMN(#REF!)) -> #REF! | N18: =HYPERLINK("#"&C18&"!"&ADDRESS(4,COLUMN(#REF!),1),COLUMN(#REF!)) -> #REF! | O18: =HYPERLINK("#"&C18&"!"&ADDRESS(4,COLUMN(#REF!),1),COLUMN(#REF!)) -> #REF! | P18: =HYPERLINK("#"&C18&"!"&ADDRESS(4,COLUMN(#REF!),1),COLUMN(#REF!)) -> #REF! | Q18: =HYPERLINK("#"&C18&"!"&ADDRESS(4,COLUMN(#REF!),1),COLUMN(#REF!)) -> #REF! | R18: =HYPERLINK("#"&C18&"!"&ADDRESS(4,COLUMN(#REF!),1),COLUMN(#REF!)) -> #REF! | S18: =HYPERLINK("#"&C18&"!"&ADDRESS(4,COLUMN(#REF!),1),COLUMN(#REF!)) -> #REF! | X18: =HYPERLINK("#"&C18&"!"&ADDRESS(4,COLUMN(#REF!),1),COLUMN(#REF!)) -> #REF!
B19: 14. 일위대가표
B20: 15. 단가산출근거 | C20: =IF(D20="","단가산출근거",MID(D20,FIND("]",D20)+1,LEN(D20))) -> #REF! | D20: =CELL("filename",#REF!) -> #REF! | E20: =HYPERLINK("#"&C20&"!"&ADDRESS(4,COLUMN(#REF!),1),COLUMN(#REF!)) -> #REF! | F20: =HYPERLINK("#"&C20&"!"&ADDRESS(4,COLUMN(#REF!),1),COLUMN(#REF!)) -> #REF! | J20: =HYPERLINK("#"&C20&"!A"&ROW(#REF!),ROW(#REF!)) -> #REF! | K20: =HYPERLINK("#"&C20&"!A"&ROW(#REF!),ROW(#REF!)) -> #REF! | L20: =HYPERLINK("#"&C20&"!"&ADDRESS(4,COLUMN(#REF!),1),COLUMN(#REF!)) -> #REF! | N20: =HYPERLINK("#"&C20&"!"&ADDRESS(4,COLUMN(#REF!),1),COLUMN(#REF!)) -> #REF! | P20: =HYPERLINK("#"&C20&"!"&ADDRESS(4,COLUMN(#REF!),1),COLUMN(#REF!)) -> #REF! | R20: =HYPERLINK("#"&C20&"!"&ADDRESS(4,COLUMN(#REF!),1),COLUMN(#REF!)) -> #REF! | X20: =HYPERLINK("#"&C20&"!"&ADDRESS(4,COLUMN(#REF!),1),COLUMN(#REF!)) -> #REF!
B21: 16.
B22: 17.
B23: 18. 표준시장목록표
B24: [공사정보] | D24: =ROW(C33) -> 33
B25: M_DVER | C25: 26.05
B26: PNAME | C26: 중산간서로(우남육교)
B27: PCLAS | C27: 0
B28: SCLAS | C28: 0
B29: K_ORD | C29: 0
B30: PRIPR | C30: True
B31: ACTYP | C31: 1
B32: ACTOP | C32: 2
B33: [초기값] | D33: =ROW(C52) -> 52
B34: P_ORD | C34: 1 | D34: 1 | E34: 0 | F34: 0 | G34: 0 | H34: 0
B35: EXNM_ | C35: =#REF! -> #REF! | D35: =#REF! -> #REF! | E35: =#REF! -> #REF! | F35: =#REF! -> #REF! | G35: =#REF! -> #REF! | H35: =#REF! -> #REF! | I35: =#REF! -> #REF! | J35: =#REF! -> #REF!
B36: EXRNM | C36: False
B37: RXNM_ | C37: 1/8 * 16/12 * 25/20 | D37: 1/8*16/12*25/20 | E37: 1/8*16/12*25/20*24/15 | F37: 1/8*16/12*25/20*12/10 | G37: 1/8*16/12*25/20*24/5
B38: COND_ | C38: L01048L01052L01054L01055L01053L01050L01049L01047
B39: KCDNM | C39: 1
B40: JCDNM | C40: 0
B41: ECDNM | C41: 0
B42: ACDNM | C42: 1
B43: BPNNM | C43: 1
B44: ZCDNM | C44: 2
B45: CHGNM | C45: True
B46: CHBNM | C46: True
B47: CHNNM | C47: True
B48: CUTNM | C48: False
B49: OPTNM | C49: SML
B50: S_JDA | C50: False
B51: SUBNM
B52: [인쇄정보] | D52: =ROW(C75) -> 75
B53: BMSTR | C53: 재 료 비 | D53: 노 무 비 | E53: 경 비 | F53: 합 계
B54: BMKNM | C54: TMLS
B55: JEMNM | C55: 123456
B56: JMKN1 | C56: 가격 정보 | D56: 가.정
B57: JMKN2 | C57: 물가 자료 | D57: 물.자
B58: JMKN3 | C58: 물가 정보 | D58: 물.정
B59: JMKN4 | C59: 거래 가격 | D59: 거.래
B60: JMKN5 | C60: 유통 물가 | D60: 유.통
B61: JMKN6 | C61: 적용 단가
B62: CAP_CODE | C62: 코드번호
B63: CAP_NO | C63: 호표
B64: CAP_IBRD | C64: 분류번호
B65: CAP_EQCOD | C65: 시설코드
B66: CAP_ITNUM | C66: 순 번
B67: CAP_NAME | C67: 공 종
B68: CAP_SIZE | C68: 규 격
B69: CAP_QTY | C69: 수 량
B70: CAP_SUNIT | C70: 단위
B71: CAP_AMT | C71: 단 가
B72: CAP_PAGE | C72: 페이지
... B74: CAP_BIGO | C74: 비 고
B75: [PREPARE] | D75: =ROW(C79) -> 79
B76: PREP_VER | C76: w26.05
B77: PREP_COP | C77: 대성기술공사
B78: PREP_DATE | C78: 2026-05-29 09:23
B79: [.끝.]
