Workbook
Name _12: #N/A
Name _13: #N/A
Name _15_3_0Crite: #REF!
Name _16_3_0Crite: #REF!
Name _19_3_0Criteria: #REF!
Name _1월: #REF!
Name _2: #N/A
Name _2._날_개_벽: #REF!
Name _20_3_0Criteria: #REF!
Name _22_3__Crite: #REF!
Name _24_3__Criteria: #REF!
Name _26a1234_: #REF!
Name _28a16385_: #REF!
Name _2월: #REF!
Name _3: #N/A
Name _31G_0Extr: #REF!
Name _32G_0Extr: #REF!
Name _35G_0Extract: #REF!
Name _36G_0Extract: #REF!
Name _38G__Extr: #REF!
Name _3월: #REF!
Name _4: #REF!
Name _40G__Extract: #REF!
Name _43p1_: #REF!
Name _4월: #REF!
Name _5: #REF!
Name _56단: #REF!
Name _5월: #REF!
Name _6: #REF!
Name _6월: #REF!
Name _8: #REF!
Name _9: #REF!
Name _H600000: #REF!
Name _KT1: #REF!
Name _KT2: #N/A
Name _PVC100: #REF!
Name _PVC125: #REF!
Name _PVC150: #REF!
Name \0: #REF!
Name \a: #REF!
Name \b: #REF!
Name \c: #N/A
Name \d: #N/A
Name \e: #N/A
Name \f: #REF!
Name \g: #REF!
Name \i: #N/A
Name \j: #N/A
Name \k: #REF!
Name \l: #N/A
Name \m: #N/A
Name \n: #N/A
Name \o: #REF!
Name \p: #REF!
Name \q: #REF!
Name \r: #REF!
Name \s: #REF!
Name \t: #REF!
Name \u: #N/A
Name \w: #REF!

Sheet 원가계산서
B2: 원 가 계 산 서
B4: 공사명 : | D4: 가리양수장 외 18개소 기계설비 보수공사
B5: 일 금 : | D5: =K33 -> 25586000 | G5: 원정 | O5: 26.08.
B6: 공종별 구분 | K6: 공사비
B8: 순공사비 원가 | C8: 노무비 | D8: 직접 노무비 | K8: =내역서!I25 -> 8657154.8
D9: 간접 노무비 | G9: ( | H9: 19.1 | I9: % | J9: ) | K9: =INT(($H$9/100)*K8) -> 1653516
D10: 노 무 비 계 | K10: =SUM(K8:K9) -> 10310671
C11: 재 료 비 | K11: =내역서!K25 -> 6358294.2
C12: 경 비 | D12: 경 비 | K12: =내역서!M25 -> 966409.45
D13: 보험료 | E13: 산재보험료 | G13: ( | H13: 3.56 | I13: % | J13: ) | K13: =INT(($H$13/100)*K10) -> 367059
E14: 고용보험료 | G14: ( | H14: 1.01 | I14: % | J14: ) | K14: =INT(($H$14/100)*K10) -> 104137
E15: 퇴직공제부금 | G15: ( | H15: 0 | I15: % | J15: ) | K15: =INT((H15/100)*K8) -> 0
E16: 건강보험료 | G16: ( | H16: 0 | I16: % | J16: ) | K16: =INT((H16/100)*K8) -> 0
E17: 노인장기요양보험료 | G17: ( | H17: 0 | I17: % | J17: ) | K17: =INT((H17/100)*K16) -> 0
E18: 연금보험료 | G18: ( | H18: 0 | I18: % | J18: ) | K18: =INT((H18/100)*K8) -> 0
G19: 계 | K19: =SUM(K13:K18) -> 471196
D20: 산업안전 보건 관리비 | G20: ( | H20: 3.15 | I20: % | J20: ) | K20: =INT((K8+K11)*H20%) -> 472986
H21: 기초액 | K21: =ROUND((0)*K20,0) -> 0
G22: 소계 | K22: =SUM(K20:K21) -> 472986
D23: 기 타 경 비 | G23: ( | H23: 5.5 | I23: % | J23: ) | K23: =INT(($H$23/100)*(K10+K11)) -> 916793
D24: 건설하도금대금지급보증서발급수수료(0.081%) | K24: =INT((K8+K11+K12)*0) -> 0
D25: 경 비 계 | K25: =K12+K19+K22+K23+K24 -> 2827384.4
B26: 소 계 | K26: =K10+K11+K25 -> 19496349
B27: 환경보전비 | G27: ( | I27: % | J27: )
B28: 일반관리비 | G28: ( | H28: 8 | I28: % | J28: ) | K28: =INT(($H$28/100)*(K10+K11+K25)) -> 1559707
B29: 합 계 | K29: =SUM(K26:K28) -> 21056056
B30: 이 윤 | G30: ( | H30: 15 | I30: % | J30: ) | K30: =(K29-K11)*0.15 -> 2204664.3
B31: 총 원 가 | K31: =TRUNC((((H30/100)*($K$29-K11))+K29),-4) -> 23260000
B32: 부 가 세 | G32: ( | H32: 10 | I32: % | J32: ) | K32: =INT(K31*0.1) -> 2326000
B33: 총 계 | K33: =SUM(K31:K32) -> 25586000

Sheet 내역서
B1: 공 사 비 내 역 서
B3: 공사명: 가리양수장 외 15개소 기계설비 보수공사
B4: 종 별 | C4: 재료또는 치 수 | D4: 원수 | E4: 단위 | F4: 총 액 | H4: 노무비 | J4: 재료비 | L4: 경 비 | N4: 비 고 | P4: 서의성IC 옆 관로보수 | R4: 정안 40m 7본
F5: 단가 | G5: 금액 | H5: 단가 | I5: 금액 | J5: 단가 | K5: 금액 | L5: 단가 | M5: 금액 | P5: 200mm 조인트로 보수 | Q5: 장비 4시간
B6: =B37 -> 1.가리양수장 제수밸브 교체 | D6: 1 | E6: 식 | G6: =I6+K6+M6 -> 847133 | I6: =I42 -> 223660 | K6: =K42 -> 619000 | M6: =M42 -> 4473 | N6: 다인
B7: =B44 -> 2.탑리양수간선 제수밸브 교체 및 물막이 수문 설치 | D7: 1 | E7: 식 | G7: =I7+K7+M7 -> 1017358.7 | I7: =I53 -> 357147.49 | K7: =K53 -> 649273 | M7: =M53 -> 10938.238 | N7: 동부
B8: =B55 -> 3.운산2양수장 송수관로 교체 | D8: 1 | E8: 식 | G8: =I8+K8+M8 -> 1365208 | I8: =I61 -> 992930 | K8: =K61 -> 252962 | M8: =M61 -> 119316 | N8: 동부
B9: =B64 -> 4.서제양수장 분해점검 | D9: 1 | E9: 식 | G9: =I9+K9+M9 -> 463835 | I9: =I68 -> 457365 | K9: =K68 -> 0 | M9: =M68 -> 6470 | N9: 위천
B10: =B70 -> 5.산수1-6지선 물막이 수문 | D10: 1 | E10: 식 | G10: =I10+K10+M10 -> 369099.14 | I10: =I77 -> 289899.13 | K10: =K77 -> 65000 | M10: =M77 -> 14200.005 | N10: 위천
B11: =B79 -> 6.노연양수장 스크린 설치, 펌프 점검, 관로보수 | D11: 1 | E11: 식 | G11: =I11+K11+M11 -> 2753209.5 | I11: =I96 -> 2020362.4 | K11: =K96 -> 607677 | M11: =M96 -> 125170.1 | N11: 다인
B12: =B99 -> 7.달제양수장 공기변 교체 | D12: 1 | E12: 식 | G12: =I12+K12+M12 -> 310352 | I12: =I103 -> 78776 | K12: =K103 -> 230000 | M12: =M103 -> 1576 | N12: 다인
B13: =B105 -> 8.백현양수장 관로 누수보수 및 공기변 교체 | D13: 1 | E13: 식 | G13: =I13+K13+M13 -> 1401593 | I13: =I112 -> 799209 | K13: =K112 -> 495192 | M13: =M112 -> 107192 | N13: 위천
B14: =B114 -> 9.신당지인수로 스크린 설치 | D14: 1 | E14: 식 | G14: =I14+K14+M14 -> 529093.51 | I14: =I119 -> 238825.11 | K14: =K119 -> 278327.18 | M14: =M119 -> 11941.22 | N14: 다인
B15: =B122 -> 10.이연1용수간선 수문 보수(단북면 성암리 1433) | D15: 1 | E15: 식 | G15: =I15+K15+M15 -> 1321297 | I15: =I142 -> 414800 | K15: =K142 -> 889263 | M15: =M142 -> 17234 | N15: 다인
B16: =B145 -> 11.문덕양수장 볼밸브 교체 및 송수관로 보수 | D16: 1 | E16: 식 | G16: =I16+K16+M16 -> 378963 | I16: =I151 -> 213136 | K16: =K151 -> 165000 | M16: =M151 -> 827 | N16: 동부
B17: =B153 -> 12.정안1용수간선 송수관로 보수 | D17: 1 | E17: 식 | G17: =I17+K17+M17 -> 1856318 | I17: =I159 -> 986276 | K17: =K159 -> 752576 | M17: =M159 -> 117466 | N17: 다인
B18: =B161 -> 13.용기양수장 송수관로 보수 | D18: 1 | E18: 식 | G18: =I18+K18+M18 -> 764357 | I18: =I165 -> 484165 | K18: =K165 -> 226596 | M18: =M165 -> 53596 | N18: 위천
B19: =B167 -> 14.신기양수장 유입수문 긴급인양 | D19: 1 | E19: 식 | G19: =I19+K19+M19 -> 350000 | I19: =I169 -> 0 | K19: =K169 -> 0 | M19: =M169 -> 350000 | N19: 다인
B20: =B171 -> 15.양서양수장 여과기 배관보수 | D20: 1 | E20: 식 | G20: =I20+K20+M20 -> 148278 | I20: =I174 -> 123948 | K20: =K174 -> 24330 | M20: =M174 -> 0 | N20: 다인
B21: =B176 -> 16.대동양수장 체크밸브 바이패스 보수 | D21: 1 | E21: 식 | G21: =I21+K21+M21 -> 293657 | I21: =I180 -> 247897 | K21: =K180 -> 45760 | M21: =M180 -> 0 | N21: 다인
B22: =B182 -> 17.유산2양수장 수중펌프 교체 | D22: 1 | E22: 식 | G22: =I22+K22+M22 -> 764810 | I22: =I185 -> 253311 | K22: =K185 -> 503900 | M22: =M185 -> 7599 | N22: 위천
B23: =B187 -> 18.외곡간이양수장 수중펌프 교체 | D23: 1 | E23: 식 | G23: =I23+K23+M23 -> 764810 | I23: =I190 -> 253311 | K23: =K190 -> 503900 | M23: =M190 -> 7599 | N23: 위천
B24: =B192 -> 19.산제취입보 물막이 수문 설치 | D24: 1 | E24: 식 | G24: =I24+K24+M24 -> 282486.54 | I24: =I199 -> 222136.65 | K24: =K199 -> 49538 | M24: =M199 -> 10811.891 | N24: 위천
B25: 소 계 | G25: =I25+K25+M25 -> 15981858 | I25: =SUM(I6:I24) -> 8657154.8 | K25: =SUM(K6:K24) -> 6358294.2 | M25: =SUM(M6:M24) -> 966409.45
B35: 종 별 | C35: 재료또는 치 수 | D35: 원수 | E35: 단위 | F35: 총 액 | H35: 노무비 | J35: 재료비 | L35: 경 비 | N35: 비 고
F36: 단가 | G36: 금액 | H36: 단가 | I36: 금액 | J36: 단가 | K36: 금액 | L36: 단가 | M36: 금액
B37: 1.가리양수장 제수밸브 교체
B38: -제수밸브 200mm 교체
B39: 제수밸브 | C39: 200D | D39: 1 | E39: EA | F39: =H39+J39+L39 -> 619000 | G39: =I39+K39+M39 -> 619000 | J39: =단가대비표!O6 -> 619000 | K39: =INT(J39*$D39) -> 619000
B40: 밸브 교체(철거 및 설치) | C40: 200D | D40: 1 | E40: 식 | F40: =H40+J40+L40 -> 228133 | G40: =I40+K40+M40 -> 228133 | H40: =일위대가!H66 -> 223660 | I40: =H40*$D40 -> 223660 | J40: =일위대가!J66 -> 0 | K40: =INT(J40*$D40) -> 0 | L40: =일위대가!L66 -> 4473 | M40: =L40*$D40 -> 4473 | N40: 일위1호
B42: 1. 계 | G42: =I42+K42+M42 -> 847133 | I42: =SUM(I39:I41) -> 223660 | K42: =SUM(K39:K41) -> 619000 | M42: =SUM(M39:M41) -> 4473
B44: 2.탑리양수간선 제수밸브 교체 및 물막이 수문 설치
B45: -제수밸브 교체 및 물막이수문(600*600) 설치
B46: 제수밸브 | C46: 200D | D46: 1 | E46: EA | F46: =H46+J46+L46 -> 619000 | G46: =I46+K46+M46 -> 619000 | J46: =단가대비표!O6 -> 619000 | K46: =INT(J46*$D46) -> 619000
B47: 밸브 교체(철거 및 설치) | C47: 200D | D47: 1 | E47: 식 | F47: =H47+J47+L47 -> 228133 | G47: =I47+K47+M47 -> 228133 | H47: =일위대가!H66 -> 223660 | I47: =H47*$D47 -> 223660 | L47: =일위대가!L66 -> 4473 | M47: =L47*$D47 -> 4473 | N47: 일위1호
B48: 물막이 문비(강판) | C48: 600*600*6t | D48: =0.6*0.6*0.006*7.85*1000*1.2 -> 20.3472 | E48: kg | F48: =H48+J48+L48 -> 1056 | G48: =I48+K48+M48 -> 21486 | J48: =단가대비표!O14 -> 1056 | K48: =INT(J48*$D48) -> 21486
B49: 물막이 문틀(평강) | C49: 50*6t*0.6m | D49: =2.36*0.6*2*1.2 -> 3.3984 | E49: kg | F49: =H49+J49+L49 -> 1010 | G49: =I49+K49+M49 -> 3432 | J49: =단가대비표!O15 -> 1010 | K49: =INT(J49*$D49) -> 3432
B50: 세트앵커 | C50: '1/2"*4"(SS275) | D50: 4 | E50: 개 | F50: =H50+J50+L50 -> 390 | G50: =I50+K50+M50 -> 1560 | J50: =단가대비표!O20 -> 390 | K50: =INT(J50*$D50) -> 1560
B51: 잡철물제작설치비 | C51: 현장제작설치/일반철제 | D51: =(D48+D49)/1000 -> 0.0237456 | E51: ton | F51: =H51+J51+L51 -> 5754774 | G51: =I51+K51+M51 -> 136649.73 | H51: =일위대가!H83 -> 5328496 | I51: =H51*$D51 -> 126528.33 | J51: =일위대가!J83 -> 159854 | K51: =INT(J51*$D51) -> 3795 | L51: =일위대가!L83 -> 266424 | M51: =L51*$D51 -> 6326.3977 | N51: 일위2호
B52: 녹막이 페인트칠 | C52: 철재면 2회 | D52: =0.6*0.6*2+0.05*0.6*2 -> 0.78 | E52: M2 | G52: =I52+K52+M52 -> 7098 | H52: =일위대가!H91 -> 8922 | I52: =H52*$D52 -> 6959.16 | J52: =일위대가!J91 -> 0 | K52: =INT(J52*$D52) -> 0 | L52: =일위대가!L91 -> 178 | M52: =L52*$D52 -> 138.84 | N52: 일위3호
B53: 2. 계 | G53: =I53+K53+M53 -> 1017358.7 | I53: =SUM(I46:I52) -> 357147.49 | K53: =SUM(K46:K52) -> 649273 | M53: =SUM(M46:M52) -> 10938.238
B55: 3.운산2양수장 송수관로 교체
B56: -운산2양수장 송수관로(D100,백관) 교체
B57: 강관 부설 | C57: 100D | D57: 0.5 | E57: 6본 | F57: =H57+J57+L57 -> 1062712 | G57: =I57+K57+M57 -> 531356 | H57: =일위대가!H99 -> 697228 | I57: =H57*$D57 -> 348614 | J57: =일위대가!J99 -> 351540 | K57: =INT(J57*$D57) -> 175770 | L57: =일위대가!L99 -> 13944 | M57: =L57*$D57 -> 6972 | N57: 일위4호
B58: 강관 용접 | C58: 100D | D58: 4 | E58: 개소 | F58: =H58+J58+L58 -> 44233 | G58: =I58+K58+M58 -> 176932 | H58: =일위대가!H106 -> 42945 | I58: =H58*$D58 -> 171780 | J58: =일위대가!J106 -> 0 | K58: =INT(J58*$D58) -> 0 | L58: =일위대가!L106 -> 1288 | M58: =L58*$D58 -> 5152 | N58: 일위5호
B59: 장비대 | C59: 굴삭기 0.2㎥ | D59: 8 | E59: hr | F59: =H59+J59+L59 -> 82115 | G59: =I59+K59+M59 -> 656920 | H59: 59067 | I59: =H59*$D59 -> 472536 | J59: 9649 | K59: =INT(J59*$D59) -> 77192 | L59: 13399 | M59: =INT(D59*L59) -> 107192 | N59: 단가산출 | O59: 의성군위수자원-336
B61: 3. 계 | G61: =I61+K61+M61 -> 1365208 | I61: =SUM(I57:I59) -> 992930 | K61: =SUM(K57:K59) -> 252962 | M61: =SUM(M57:M59) -> 119316
B62: 종 별 | C62: 재료또는 치 수 | D62: 원수 | E62: 단위 | F62: 총 액 | H62: 노무비 | J62: 재료비 | L62: 경 비 | N62: 비 고
F63: 단가 | G63: 금액 | H63: 단가 | I63: 금액 | J63: 단가 | K63: 금액 | L63: 단가 | M63: 금액
B64: 4.서제양수장 분해점검 | N64: 자재제공
B65: 작업준비및 정리 | C65: 720㎥/hr | D65: 1 | E65: 대 | F65: =H65+J65+L65 -> 74837 | G65: =I65+K65+M65 -> 74837 | H65: =일위대가!H114 -> 72657 | I65: =H65*$D65 -> 72657 | L65: =일위대가!L114 -> 2180 | M65: =INT(D65*L65) -> 2180 | N65: 일위6호
B66: Casing분해,조립 | C66: " | D66: 1 | E66: 대 | F66: =H66+J66+L66 -> 147300 | G66: =I66+K66+M66 -> 147300 | H66: =일위대가!H120 -> 143010 | I66: =H66*$D66 -> 143010 | L66: =일위대가!L120 -> 4290 | M66: =INT(D66*L66) -> 4290 | N66: 일위6호
B67: 점검,패킹 교체 | C67: 기계설비공 | D67: 1 | E67: 인 | F67: =H67+J67+L67 -> 241698 | G67: =I67+K67+M67 -> 241698 | H67: =단가대비표!P36 -> 241698 | I67: =H67*$D67 -> 241698
B68: 4. 계 | G68: =I68+K68+M68 -> 463835 | I68: =SUM(I65:I67) -> 457365 | K68: =SUM(K65:K67) -> 0 | M68: =SUM(M65:M67) -> 6470
B70: 5.산수1-6지선 물막이 수문
B71: -물막이 수문 설치(1000*600)
B72: 물막이 문비(강판) | C72: 1000*500*9t | D72: =1*1*0.009*7.85*500*1.2 -> 42.39 | E72: kg | F72: =H72+J72+L72 -> 1056 | G72: =I72+K72+M72 -> 44763 | J72: =단가대비표!O14 -> 1056 | K72: =INT(J72*$D72) -> 44763
B73: 물막이 문틀(평강) | C73: 100*9t*0.5m | D73: =7.065*0.6*2*1.2 -> 10.1736 | E73: kg | F73: =H73+J73+L73 -> 1010 | G73: =I73+K73+M73 -> 10275 | J73: =단가대비표!O15 -> 1010 | K73: =INT(J73*$D73) -> 10275
B74: 세트앵커 | C74: '1/2"*4"(SS275) | D74: 4 | E74: 개 | F74: =H74+J74+L74 -> 390 | G74: =I74+K74+M74 -> 1560 | J74: =단가대비표!O20 -> 390 | K74: =INT(J74*$D74) -> 1560
B75: 잡철물제작설치비 | C75: 현장제작설치/일반철제 | D75: =(D72+D73)/1000 -> 0.0525636 | E75: ton | F75: =H75+J75+L75 -> 5754774 | G75: =I75+K75+M75 -> 302491.14 | H75: =일위대가!H83 -> 5328496 | I75: =H75*$D75 -> 280084.93 | J75: =일위대가!J83 -> 159854 | K75: =INT(J75*$D75) -> 8402 | L75: =일위대가!L83 -> 266424 | M75: =L75*$D75 -> 14004.205 | N75: 일위2호
B76: 녹막이 페인트칠 | C76: 철재면 2회 | D76: =1*0.5*2+0.1*0.5*2 -> 1.1 | E76: M2 | F76: =H76+J76+L76 -> 9100 | G76: =I76+K76+M76 -> 10010 | H76: =일위대가!H91 -> 8922 | I76: =H76*$D76 -> 9814.2 | J76: =일위대가!J91 -> 0 | K76: =INT(J76*$D76) -> 0 | L76: =일위대가!L91 -> 178 | M76: =L76*$D76 -> 195.8 | N76: 일위3호
B77: 5. 계 | G77: =I77+K77+M77 -> 369099.14 | I77: =SUM(I72:I76) -> 289899.13 | K77: =SUM(K72:K76) -> 65000 | M77: =SUM(M72:M76) -> 14200.005
B79: 6.노연양수장 스크린 설치, 펌프 점검, 관로보수
B80: -스크린 설치(1800*1500)
B81: 평강 | C81: 75*6t | D81: =(1.5*24*3.53+1.8*3*3.53)*1.15 -> 168.0633 | E81: kg | F81: =H81+J81+L81 -> 1090 | G81: =I81+K81+M81 -> 183188 | J81: =단가대비표!O16 -> 1090 | K81: =INT(J81*$D81) -> 183188
B82: 세트앵커 | C82: '1/2"*4"(SS275) | D82: 4 | E82: 개 | F82: =H82+J82+L82 -> 390 | G82: =I82+K82+M82 -> 1560 | J82: =단가대비표!O20 -> 390 | K82: =INT(J82*$D82) -> 1560
B83: 잡철물제작설치비 | C83: 현장제작설치/일반철제 | D83: =(D81)/1000 -> 0.1680633 | E83: ton | F83: =H83+J83+L83 -> 5754774 | G83: =I83+K83+M83 -> 967165.72 | H83: =일위대가!H83 -> 5328496 | I83: =H83*$D83 -> 895524.62 | J83: =일위대가!J83 -> 159854 | K83: =INT(J83*$D83) -> 26865 | L83: =일위대가!L83 -> 266424 | M83: =L83*$D83 -> 44776.097 | N83: 일위2호
B84: 장비대 | C84: 굴삭기 0.2㎥ | D84: 2 | E84: hr | F84: =H84+J84+L84 -> 82115 | G84: =I84+K84+M84 -> 164230 | H84: =H59 -> 59067 | I84: =H84*$D84 -> 118134 | J84: =J59 -> 9649 | K84: =J84*$D84 -> 19298 | L84: =L59 -> 13399 | M84: =L84*$D84 -> 26798 | N84: 단가산출 | O84: 의성군위수자원-336
B85: -수중펌프 점검
B86: 수중펌프 인양,점검 및 재설치 | C86: 기계설비공 | D86: 1 | E86: 인 | F86: =H86+J86+L86 -> 241698 | G86: =I86+K86+M86 -> 241698 | H86: =단가대비표!P36 -> 241698 | I86: =H86*$D86 -> 241698
B87: -송수관로 보수(농로 아래)
B88: 잡자재비 | C88: 보수용철판 등 | D88: 1 | E88: 식 | F88: =H88+J88+L88 -> 100000 | G88: =I88+K88+M88 -> 100000 | J88: 100000 | K88: =INT(J88*$D88) -> 100000
B89: 누수보수작업 | C89: 배관공 | D89: 1 | E89: 인 | F89: =H89+J89+L89 -> 247897 | G89: =I89+K89+M89 -> 247897 | H89: =단가대비표!P35 -> 247897 | I89: =H89*$D89 -> 247897
B90: 장비대 | C90: 굴삭기 0.2㎥ | D90: 4 | E90: hr | F90: =H90+J90+L90 -> 82115 | G90: =I90+K90+M90 -> 328460 | H90: 59067 | I90: =H90*$D90 -> 236268 | J90: 9649 | K90: =INT(J90*$D90) -> 38596 | L90: 13399 | M90: =L90*$D90 -> 53596
B91: -송수관로 보수(펌프 토출)
B92: 백관 | C92: 200mm, 백관 | D92: 3 | E92: m | F92: =H92+J92+L92 -> 48660 | G92: =I92+K92+M92 -> 145980 | J92: =단가대비표!O9 -> 48660 | K92: =INT(J92*$D92) -> 145980
B93: 백관 | C93: 150mm, 백관 | D93: 3 | E93: m | F93: =H93+J93+L93 -> 30730 | G93: =I93+K93+M93 -> 92190 | J93: =단가대비표!O10 -> 30730 | K93: =INT(J93*$D93) -> 92190
B94: 강관 용접 | C94: 200mm | D94: 2 | E94: 개소 | F94: =H94+J94+L94 -> 79392.616 | G94: =I94+K94+M94 -> 158785.23 | H94: =단가대비표!P40*0.281 -> 79392.616 | I94: =H94*$D94 -> 158785.23
B95: 강관 용접 | C95: 150mm | D95: 2 | E95: 개소 | F95: =H95+J95+L95 -> 61027.776 | G95: =I95+K95+M95 -> 122055.55 | H95: =단가대비표!P40*0.216 -> 61027.776 | I95: =H95*$D95 -> 122055.55
B96: 6. 계 | G96: =I96+K96+M96 -> 2753209.5 | I96: =SUM(I81:I95) -> 2020362.4 | K96: =SUM(K81:K95) -> 607677 | M96: =SUM(M81:M95) -> 125170.1
B97: 종 별 | C97: 재료또는 치 수 | D97: 원수 | E97: 단위 | F97: 총 액 | H97: 노무비 | J97: 재료비 | L97: 경 비 | N97: 비 고
F98: 단가 | G98: 금액 | H98: 단가 | I98: 금액 | J98: 단가 | K98: 금액 | L98: 단가 | M98: 금액
B99: 7.달제양수장 공기변 교체
B100: 공기밸브 | C100: 80D | D100: 1 | E100: 대 | F100: =H100+J100+L100 -> 230000 | G100: =I100+K100+M100 -> 230000 | J100: =단가대비표!O26 -> 230000 | K100: =INT(J100*$D100) -> 230000
B101: 밸브설치 | C101: 기계설비공 | D101: 1 | E101: 인 | F101: =H101+J101+L101 -> 80352 | G101: =I101+K101+M101 -> 80352 | H101: =일위대가!H142 -> 78776 | I101: =H101*$D101 -> 78776 | J101: =일위대가!J142 -> 0 | L101: =일위대가!L142 -> 1576 | M101: =L101*$D101 -> 1576
B103: 7. 계 | G103: =I103+K103+M103 -> 310352 | I103: =SUM(I100:I101) -> 78776 | K103: =SUM(K100:K101) -> 230000 | M103: =SUM(M100:M101) -> 1576
B105: 8.백현양수장 관로 누수보수 및 공기변 교체
B106: 멀티조인트 | C106: 200A | D106: 1 | E106: EA | F106: =H106+J106+L106 -> 188000 | G106: =I106+K106+M106 -> 188000 | J106: 188000 | K106: =J106*$D106 -> 188000 | N106: 시중단가
B107: 누수보수작업 | C107: 배관공 | D107: 1 | E107: 인 | F107: =H107+J107+L107 -> 247897 | G107: =I107+K107+M107 -> 247897 | H107: =단가대비표!P35 -> 247897 | I107: =H107*$D107 -> 247897
B108: 시공장비대 | C108: 굴삭기 0.2㎥ | D108: 8 | E108: hr | F108: =H108+J108+L108 -> 82115 | G108: =I108+K108+M108 -> 656920 | H108: =H59 -> 59067 | I108: =H108*$D108 -> 472536 | J108: =J59 -> 9649 | K108: =J108*$D108 -> 77192 | L108: =L59 -> 13399 | M108: =L108*$D108 -> 107192
B109: 공기밸브 | C109: 80D | D109: 1 | E109: 대 | F109: =H109+J109+L109 -> 230000 | G109: =I109+K109+M109 -> 230000 | J109: =단가대비표!O26 -> 230000 | K109: =INT(J109*$D109) -> 230000
B110: 밸브설치 | C110: 해체 및 설치 | D110: 1 | E110: 인 | F110: =H110+J110+L110 -> 80352 | G110: =I110+K110+M110 -> 78776 | H110: =일위대가!H142 -> 78776 | I110: =H110*$D110 -> 78776 | J110: =일위대가!J142 -> 0 | L110: =일위대가!L142 -> 1576 | N110: 일위8호
B112: 8. 계 | G112: =I112+K112+M112 -> 1401593 | I112: =SUM(I106:I110) -> 799209 | K112: =SUM(K106:K110) -> 495192 | M112: =SUM(M106:M110) -> 107192
B114: 9.신당지인수로 스크린 설치
B115: -스크린 설치(STS, 300*300)
B116: 환봉 | C116: 스테인리스,⍉6 | D116: =3.14*60*60/4*2000*7.93/1000000 -> 44.82036 | E116: kg | F116: =H116+J116+L116 -> 6050 | G116: =I116+K116+M116 -> 271163.18 | J116: 6050 | K116: =J116*$D116 -> 271163.18
B117: 잡철물제작설치비 | C117: 현장제작설치/일반철제 | D117: =D116/1000 -> 0.04482036 | E117: ton | F117: =H117+J117+L117 -> 5754774 | G117: =I117+K117+M117 -> 257930.33 | H117: =일위대가!H83 -> 5328496 | I117: =H117*$D117 -> 238825.11 | J117: =일위대가!J83 -> 159854 | K117: =INT(J117*$D117) -> 7164 | L117: =일위대가!L83 -> 266424 | M117: =L117*$D117 -> 11941.22 | N117: 일위2호
B119: 9. 계 | G119: =I119+K119+M119 -> 529093.51 | I119: =SUM(I113:I117) -> 238825.11 | K119: =SUM(K113:K117) -> 278327.18 | M119: =SUM(M113:M117) -> 11941.22
B120: 종 별 | C120: 재료또는 치 수 | D120: 원수 | E120: 단위 | F120: 총 액 | H120: 노무비 | J120: 재료비 | L120: 경 비 | N120: 비 고
F121: 단가 | G121: 금액 | H121: 단가 | I121: 금액 | J121: 단가 | K121: 금액 | L121: 단가 | M121: 금액
...

Sheet 일위대가
A2: 기계설비 일위대가 총괄표
A4: 종 별 | B4: 재료또는 | C4: 원 수 | D4: 단위 | E4: 총 액 | G4: 노 무 비 | I4: 재 료 비 | K4: 경 비 | M4: 비 고
B5: 치 수 | E5: 단가 | F5: 금 액 | G5: 단가 | H5: 금 액 | I5: 단가 | J5: 금 액 | K5: 단가 | L5: 금 액
A6: 【1호표.강관 용접 배관 및 부설 (1개소당)】 | F6: ※ 건설공사 표준품셈(토목부문) 6-3-1 적용(KSD3565, 부설제외, 800mm이상은 내외부용접)
A7: ▶ Φ100 | F7: ※ 건설공사 표준품셈(토목부문) 6-3-2 적용
A8: 용 접 공 | C8: 1.2 | D8: 인 | F8: =H8+J8+L8 -> 339043.2 | G8: =단가대비표!P32 -> 282536 | H8: =TRUNC(G8*$C8,1) -> 339043.2
A9: 용 접 봉 | C9: 2.9 | D9: kg | F9: =H9+J9+L9 -> 9271.3 | I9: =단가대비표!O30 -> 3197 | J9: =TRUNC(I9*$C9,1) -> 9271.3
A10: 용접기 손료 | C10: 3.58 | D10: hr | F10: =H10+J10+L10 -> 415.2 | K10: =단가대비표!O31 -> 116 | L10: =TRUNC(K10*$C10,1) -> 415.2
A11: 발전기 손료 | B11: 50 kw | C11: 1.79 | D11: hr | F11: =H11+J11+L11 -> 101013.2 | G11: 36248 | H11: =TRUNC(G11*$C11,1) -> 64883.9 | I11: 15495 | J11: =TRUNC(I11*$C11,1) -> 27736 | K11: 4689 | L11: =TRUNC(K11*$C11,1) -> 8393.3
A12: 도 장 공 | C12: 0.68 | D12: 인 | F12: =H12+J12+L12 -> 178851.5 | G12: =단가대비표!P33 -> 263017 | H12: =TRUNC(G12*$C12,1) -> 178851.5
A13: 보 통 인 부 | D13: 인 | F13: =H13+J13+L13 -> 0 | G13: =단가대비표!P34 -> 172068 | H13: =TRUNC(G13*$C13,1) -> 0 | O13: 0.16
A14: 에 폭 시 | C14: 1.59 | D14: kg | F14: =H14+J14+L14 -> 8904 | I14: 5600 | J14: =TRUNC(I14*$C14,1) -> 8904 | O14: 1.59
A15: 신 너 | C15: 0.14 | D15: kg | F15: =H15+J15+L15 -> 583.3 | I15: 4167 | J15: =TRUNC(I15*$C15,1) -> 583.3 | O15: 0.14
A16: 프 라 이 머 | C16: 0.32 | D16: kg | F16: =H16+J16+L16 -> 2400 | I16: 7500 | J16: =TRUNC(I16*$C16,1) -> 2400 | O16: 0.32
A17: 액상 접착제 | D17: kg | F17: =H17+J17+L17 -> 0 | I17: 20746 | J17: =TRUNC(I17*$C17,1) -> 0 | O17: 0.32
A18: 매 스 틱 | D18: m | F18: =H18+J18+L18 -> 0 | I18: 3500 | J18: =TRUNC(I18*$C18,1) -> 0 | O18: 3.51
A19: 안쪽층 테이프 | D19: ㎡ | F19: =H19+J19+L19 -> 0 | I19: 7733 | J19: =TRUNC(I19*$C19,1) -> 0 | O19: 2.97
A20: 바깥층 테이프 | D20: ㎡ | F20: =H20+J20+L20 -> 0 | I20: 7400 | J20: =TRUNC(I20*$C20,1) -> 0 | O20: 2.97
A21: 공 구 손 료 | C21: 1 | D21: 식 | F21: =H21+J21+L21 -> 20342.5 | L21: =TRUNC((H8)*0.06,1) -> 20342.5
A22: 소계 | F22: =H22+J22+L22 -> 660823 | H22: =INT(SUM(H8:H21)) -> 582778 | J22: =INT(SUM(J8:J21)) -> 48894 | L22: =INT(SUM(L8:L21)) -> 29151
A24: 【2호표.플랜지 죠인트 접합 (개소당 ) | F24: ※ 건설공사 표준품셈(토목부문) 6-8-7 적용
A25: ▶ Φ1000
A26: 배 관 공 | C26: 0.35 | D26: 인 | F26: =H26+J26+L26 -> 86763 | G26: =단가대비표!P35 -> 247897 | H26: =INT(G26*C26) -> 86763
A27: 보 통 인 부 | C27: 0.17 | D27: 인 | F27: =H27+J27+L27 -> 29251 | G27: =단가대비표!P34 -> 172068 | H27: =INT(G27*C27) -> 29251
A28: 공 구 손 료 | B28: 0.02 | C28: 1 | D28: 식 | F28: =H28+J28+L28 -> 2320 | K28: =INT(H29*0.02) -> 2320 | L28: =INT(K28*C28) -> 2320
A29: 소 계 | F29: =H29+J29+L29 -> 118334 | H29: =INT(SUM(H26:H28)) -> 116014 | L29: =INT(SUM(L25:L28)) -> 2320
A30: 철거,설치 | B30: 1.4 | F30: =H30+J30+L30 -> 165667.6 | H30: =H29*1.4 -> 162419.6 | L30: =L29*1.4 -> 3248
A32: 【3호표. 강관절단 (개소당)】 | F32: ※ 건설공사 표준품셈 6-3-4 적용
A33: ▶ Ф1000
A34: 용 접 공 | C34: 0.96 | D34: 인 | F34: =H34+J34+L34 -> 271234.5 | G34: =단가대비표!P32 -> 282536 | H34: =TRUNC(G34*$C34,1) -> 271234.5
A35: 공 구 손 료 | B35: 0.02 | C35: 1 | D35: 식 | F35: =H35+J35+L35 -> 5424.6 | L35: =TRUNC(H36*0.02,1) -> 5424.6
A36: 소 계 | F36: =H36+J36+L36 -> 276658 | H36: =INT(SUM(H34:H35)) -> 271234 | L36: =INT(SUM(L34:L35)) -> 5424
A38: 【4호표. 일반펌프( 육상용 진공펌프, 입형 펌프 등 설치, 대당)】 | F38: ※ 건설공사 표준품셈(기계설비부문) 4-1-1 적용
A39: ▶ 3.7 kW 이하
A40: 기 계 설 비 공 | C40: 1.122 | D40: 인 | F40: =H40+J40+L40 -> 271185.1 | G40: =단가대비표!P36 -> 241698 | H40: =TRUNC(G40*$C40,1) -> 271185.1
A41: 보 통 인 부 | C41: 0.372 | D41: 인 | F41: =H41+J41+L41 -> 64009.2 | G41: =단가대비표!P34 -> 172068 | H41: =TRUNC(G41*$C41,1) -> 64009.2
A42: 공 구 손 료 | B42: 3 % | C42: 1 | D42: 식 | F42: =H42+J42+L42 -> 10055.8 | L42: =TRUNC(H43*0.03,1) -> 10055.8
A43: 소계 | F43: =H43+J43+L43 -> 345249 | H43: =INT(SUM(H40:H42)) -> 335194 | L43: =INT(SUM(L40:L42)) -> 10055
A44: 철거설치 | B44: 설치의 140% | F44: =H44+J44+L44 -> 483348.6 | H44: =H43*1.4 -> 469271.6 | L44: =L43*1.4 -> 14077
A46: 【2호표.횡축원심펌프 보수(대당),601-800㎥/h】 | F46: ※ 양·배수장 펌프 및 전동기 보수 적산기준
A47: <작업준비 및 정리>
A48: 플랜트기계설치공 | C48: 0.07 | D48: 인 | F48: =INT(H48+J48+L48) -> 16126 | G48: =단가대비표!P37 -> 230376 | H48: =ROUND(G48*$C48,0) -> 16126
A49: 특별인부 | C49: 0.25 | D49: 인 | F49: =INT(H49+J49+L49) -> 56531 | G49: =단가대비표!P38 -> 226122 | H49: =ROUND(G49*$C49,0) -> 56531
A50: 기계설치공 | C50: 0 | D50: 인 | F50: =INT(H50+J50+L50) -> 0 | G50: =단가대비표!P36 -> 241698 | H50: =ROUND(G50*$C50,0) -> 0
A51: 공구손료 | B51: 0.03 | C51: 1 | D51: 식 | F51: =INT(H51+J51+L51) -> 2180 | L51: =ROUND((H52)*B51,0) -> 2180
A52: 소계 | F52: =L52+J52+H52 -> 74837 | H52: =SUM(H48:H51) -> 72657 | L52: =SUM(L48:L51) -> 2180
A53: <Casing분해,조립>
A54: 플랜트기계설치공 | C54: 0.13 | D54: 인 | F54: =INT(H54+J54+L54) -> 29949 | G54: =G48 -> 230376 | H54: =ROUND(G54*$C54,0) -> 29949
A55: 특별인부 | C55: 0.5 | D55: 인 | F55: =INT(H55+J55+L55) -> 113061 | G55: =G49 -> 226122 | H55: =ROUND(G55*$C55,0) -> 113061
A56: 기계설치공 | C56: 0 | D56: 인 | F56: =INT(H56+J56+L56) -> 0 | G56: =G50 -> 241698 | H56: =ROUND(G56*$C56,0) -> 0
A57: 공구손료 | B57: 0.03 | C57: 1 | D57: 식 | F57: =INT(H57+J57+L57) -> 4290 | L57: =ROUND((H58)*B57,0) -> 4290
A58: 소계 | F58: =L58+J58+H58 -> 147300 | H58: =SUM(H54:H57) -> 143010 | L58: =SUM(L54:L57) -> 4290
A60: 【1호표.일반밸브 및 콕류 설치, 200mm】 | F60: ※ 건설공사 표준품셈(기계설비부문) 5-1-1 적용
A61: ▶ Φ200
A62: 배관공 | B62: 일반공사 | C62: 0.471 | D62: 인 | F62: =H62+J62+L62 -> 116759 | G62: =단가대비표!P35 -> 247897 | H62: =INT(G62*C62) -> 116759
A63: 보통인부 | B63: 일반공사 | C63: 0.188 | D63: 인 | F63: =H63+J63+L63 -> 32348 | G63: =단가대비표!P34 -> 172068 | H63: =INT(G63*C63) -> 32348
A64: 기존밸브 철거 | B64: 0.5 | H64: =(H63+H62)*0.5 -> 74553.5
A65: 공구손료 | B65: 0.02 | L65: =H66*0.02 -> 4473.2
A66: 소 계 | F66: =H66+J66+L66 -> 228133 | H66: =INT(SUM(H62:H64)) -> 223660 | L66: =INT(SUM(L61:L65)) -> 4473
P67: 잡철물 제작 및 설치 | Q67: 현장제작 설치(일반철재) | S67: ton | U67: 5754774 | W67: 5328496 | Y67: 159854 | AA67: 266424
A68: 【1호표.일반밸브 및 콕류 설치, 80mm】 | F68: ※ 건설공사 표준품셈(기계설비부문) 5-1-1 적용
A69: ▶ Φ200
A70: 배관공 | B70: 일반공사 | C70: 0.214 | D70: 인 | F70: =H70+J70+L70 -> 0 | G70: =단가대비표!P43 -> 0 | H70: =INT(G70*C70) -> 0
A71: 보통인부 | B71: 일반공사 | C71: 0.105 | D71: 인 | F71: =H71+J71+L71 -> 27570 | G71: =단가대비표!P42 -> 262580 | H71: =INT(G71*C71) -> 27570
A72: 기존밸브 철거 | B72: 0.5 | H72: =(H71+H70)*0.5 -> 13785
A73: 공구손료 | B73: 0.02 | L73: =H74*0.02 -> 827.1
A74: 소 계 | F74: =H74+J74+L74 -> 42182 | H74: =INT(SUM(H70:H72)) -> 41355 | L74: =INT(SUM(L69:L73)) -> 827
P75: 잡철물 제작 및 설치 | Q75: 현장제작 설치(일반철재) | S75: ton | U75: 5754774 | W75: 5328496 | Y75: 159854 | AA75: 266424
A76: 【2호표.잡철물 제작 및 설치(현장제작 설치, 일반철재)】
A77: 철공 | B77: 일반공사 | C77: 12.38 | D77: 인 | F77: =H77+J77+L77 -> 2968823 | G77: =단가대비표!P39 -> 239808 | H77: =INT(G77*C77) -> 2968823 | P77: 철공 | R77: 12.38 | S77: 인 | U77: 2968823 | V77: 239808 | W77: 2968823 | Y77: 0 | AA77: 0
A78: 용접공 | B78: 일반공사 | C78: 3.38 | D78: 인 | F78: =H78+J78+L78 -> 954971 | G78: =단가대비표!P40 -> 282536 | H78: =INT(G78*C78) -> 954971 | P78: 용접공 | R78: 3.38 | S78: 인 | U78: 954971 | V78: 282536 | W78: 954971 | Y78: 0 | AA78: 0
A79: 특별인부 | B79: 일반공사 | C79: 4.5 | D79: 인 | F79: =H79+J79+L79 -> 1017549 | G79: =단가대비표!P41 -> 226122 | H79: =INT(G79*C79) -> 1017549 | P79: 특별인부 | R79: 4.5 | S79: 인 | U79: 1017549 | V79: 226122 | W79: 1017549 | Y79: 0 | AA79: 0
A80: 보통인부 | B80: 일반공사 | C80: 2.25 | D80: 인 | F80: =H80+J80+L80 -> 387153 | G80: =단가대비표!P34 -> 172068 | H80: =INT(G80*C80) -> 387153 | P80: 보통인부 | R80: 2.25 | S80: 인 | U80: 387153 | V80: 172068 | W80: 387153 | Y80: 0 | AA80: 0
A81: 공구손료 및 경장비의 기계경비 | B81: 인력품 5% | C81: 1 | D81: 식 | F81: =H81+J81+L81 -> 266424 | K81: =INT(H83*0.05) -> 266424 | L81: =K81*C81 -> 266424 | P81: 공구손료 및 경장비의 기계경비 | Q81: 인력품 5% | R81: 1 | S81: 식 | U81: 266424 | W81: 0 | Y81: 0 | Z81: 266424 | AA81: 266424
A82: 잡재료비 | B82: 인력품 3% | C82: 1 | D82: 식 | F82: =H82+J82+L82 -> 159854.88 | I82: =H83*0.03 -> 159854.88 | J82: =I82*C82 -> 159854.88 | P82: 잡재료비 | Q82: 인력품 3% | R82: 1 | S82: 식 | U82: 159854 | W82: 0 | X82: 159854 | Y82: 159854 | AA82: 0
A83: 소 계 | F83: =H83+J83+L83 -> 5754774 | H83: =INT(SUM(H77:H82)) -> 5328496 | J83: =INT(SUM(J77:J82)) -> 159854 | L83: =INT(SUM(L77:L82)) -> 266424
A85: 【3호표.녹막이 페인트칠 철재면 2회 노무비】
A86: 도장공 | B86: 일반공사 | C86: 0.015 | D86: 인 | F86: =H86+J86+L86 -> 3945 | G86: =단가대비표!P33 -> 263017 | H86: =INT(G86*C86) -> 3945
A87: 보통인부 | B87: 일반공사 | C87: 0.003 | D87: 인 | F87: =H87+J87+L87 -> 516 | G87: =단가대비표!P34 -> 172068 | H87: =INT(G87*C87) -> 516
A88: 도장공 | B88: 일반공사 | C88: 0.015 | D88: 인 | F88: =H88+J88+L88 -> 3945 | G88: =단가대비표!P33 -> 263017 | H88: =INT(G88*C88) -> 3945
A89: 보통인부 | B89: 일반공사 | C89: 0.003 | D89: 인 | F89: =H89+J89+L89 -> 516 | G89: =단가대비표!P34 -> 172068 | H89: =INT(G89*C89) -> 516
A90: 공구손료 및 잡재료비 | B90: 0.02 | C90: 1 | D90: 식 | F90: =H90+J90+L90 -> 178.44 | K90: =SUM(H86:H89)*0.02 -> 178.44 | L90: =K90*C90 -> 178.44
A91: 소 계 | F91: =H91+J91+L91 -> 9100 | H91: =INT(SUM(H85:H90)) -> 8922 | J91: =INT(SUM(J85:J90)) -> 0 | L91: =INT(SUM(L85:L90)) -> 178
A93: 【4호표.강관 부설】 | F93: ※ 건설공사 표준품셈(토목부문) 6-3-1 적용
A94: 강관(아연도) | B94: 100D | C94: 18 | D94: m | I94: =단가대비표!O11 -> 19530 | J94: =I94*C94 -> 351540
A95: 배관공(수도) | B95: 일반공사 | C95: 2 | D95: 인 | G95: =단가대비표!P42 -> 262580 | H95: =INT(G95*C95) -> 525160
A96: 보통인부 | B96: 일반공사 | C96: 1 | D96: 인 | G96: =단가대비표!P34 -> 172068 | H96: =INT(G96*C96) -> 172068
A97: 장비대 | B97: 2W
A98: 공구손료 및 잡재료비 | B98: 0.02 | C98: 1 | D98: 식 | L98: =H99*0.02 -> 13944.56
A99: 소 계 | F99: =H99+J99+L99 -> 1062712 | H99: =INT(SUM(H92:H98)) -> 697228 | J99: =INT(SUM(J92:J98)) -> 351540 | L99: =INT(SUM(L92:L98)) -> 13944
A101: 【5호표.강관 용접접합 (용접개소당)】 | F101: ※ 건설공사표준품셈(기계설비부문) 1-1-1 적용, 배관용 탄소강관(KSD 3507) 배관
F102: * 부설(배관) 제외
A103: ▶ Φ100
A104: 용 접 공 | C104: 0.152 | D104: 인 | F104: =H104+J104+L104 -> 42945 | G104: =단가대비표!P32 -> 282536 | H104: =INT(G104*C104) -> 42945
A105: 공구손료 | B105: 3 % | C105: 1 | D105: 식 | F105: =H105+J105+L105 -> 1288 | K105: =INT(H106*0.03) -> 1288 | L105: =INT(K105*C105) -> 1288
A106: 소 계 | F106: =H106+J106+L106 -> 44233 | H106: =INT(SUM(H104:H105)) -> 42945 | J106: =INT(SUM(J104:J105)) -> 0 | L106: =INT(SUM(L104:L105)) -> 1288
A108: 【6호표.횡축원심펌프 보수(대당),601-800㎥/h】 | F108: ※ 양·배수장 펌프 및 전동기 보수 적산기준
A109: <작업준비 및 정리>
A110: 플랜트기계설치공 | C110: 0.07 | D110: 인 | F110: =INT(H110+J110+L110) -> 16126 | G110: =단가대비표!P37 -> 230376 | H110: =ROUND(G110*$C110,0) -> 16126
A111: 특별인부 | C111: 0.25 | D111: 인 | F111: =INT(H111+J111+L111) -> 56531 | G111: =단가대비표!P38 -> 226122 | H111: =ROUND(G111*$C111,0) -> 56531
...

Sheet 단가대비표
B1: 단 가 대 비 표
B3: 품 명 | C3: 규격 | D3: 단위 | E3: 재 료 비 | P3: 노무비 26년상반기 | Q3: 비고
E4: 물가자료(26.08) | G4: 유통물가(26.05) | I4: 공사단가 | K4: 조사가격1 | M4: 조사가격1 | O4: 적용단가
E5: 단가 | F5: PAGE | G5: 단가 | H5: PAGE | I5: 단가 | J5: PAGE | K5: 단가 | L5: PAGE | M5: 단가 | N5: PAGE
B6: 수도용소프트실제수밸브 | C6: 표준형 200D | D6: EA | I6: 619000 | J6: M073235 | O6: =MIN(E6,G6,I6,K6,M6) -> 619000
B7: 고무패킹 | C7: 1000A용 | D7: 개 | I7: 46080 | J7: M032917 | O7: =MIN(E7,G7,I7,K7,M7) -> 46080
B8: 강관 | C8: 1000A*9T | D8: m | E8: 939610 | F8: 724 | I8: 510573 | J8: M052604 | O8: =MIN(E8,G8,I8,K8,M8) -> 510573
B9: 강관 | C9: 200D | D9: m | I9: 48660 | J9: M053400 | O9: =MIN(E9,G9,I9,K9,M9) -> 48660
B10: 강관 | C10: 150D | D10: m | I10: 30730 | J10: M053400 | O10: =MIN(E10,G10,I10,K10,M10) -> 30730
B11: 강관 | C11: 100D | D11: m | I11: 19530 | J11: M052604 | O11: =MIN(E11,G11,I11,K11,M11) -> 19530
B13: 이중벽PE파이프 | C13: D=200㎜, SN12.5 | D13: m | I13: 12500 | O13: =MIN(E13,G13,I13,K13,M13) -> 12500
B14: 강판(SS400) | C14: 6t | D14: kg | E14: 1210 | F14: 14 | G14: 1056 | H14: 26 | O14: =MIN(E14,G14,I14,K14,M14) -> 1056
B15: 평강(SS400) | C15: 50*6t | D15: kg | E15: 1030 | F15: 23 | G15: 1010 | H15: 5 | O15: =MIN(E15,G15,I15,K15,M15) -> 1010
B16: 평강(SS400) | C16: 75*6t | D16: kg | E16: 1090 | F16: 5 | O16: =MIN(E16,G16,I16,K16,M16) -> 1090
B17: 단상수중펌프 | C17: 50D*1.5kW | D17: 대 | G17: 1032000 | H17: 908 | K17: 503900 | O17: =MIN(E17,G17,I17,K17,M17) -> 503900
B18: 볼밸브 | C18: 32D, 0.98Mpa | D18: EA | I18: 40000 | O18: =MIN(E18,G18,I18,K18,M18) -> 40000
B19: 누수보수용 클램프 | C19: 200mm | D19: 개 | E19: 205000 | F19: 738 | O19: =MIN(E19,G19,I19,K19,M19) -> 205000
B20: 세트앵커 | C20: '1/2"*4"(SS275) | D20: 개 | E20: 390 | F20: 93 | O20: =MIN(E20,G20,I20,K20,M20) -> 390
B21: 진공펌프 | C21: 40A*3.7kw,전동기포함 | D21: 대 | I21: 3021000 | J21: M070562 | O21: =MIN(E21,G21,I21,K21,M21) -> 3021000
B22: 고재대 | C22: 철scrap,중량A | D22: kg | E22: -335 | F22: 하47 | G22: -385 | H22: 1198 | O22: =MIN(E22,G22,I22,K22,M22) -> -385
B23: 베어링 | C23: 6318 | D23: EA | E23: 104430 | F23: 1418 | O23: =MIN(E23,G23,I23,K23,M23) -> 104430
B24: 유니온(백) | C24: KS 65D | D24: EA | I24: 24330 | O24: =MIN(E24,G24,I24,K24,M24) -> 24330
B25: 그리스패킹 | C25: 3/4"*20m | D25: 롤 | K25: 90000 | L25: 대광 | M25: 95000 | N25: 대성 | O25: =MIN(E25,G25,I25,K25,M25) -> 90000
B26: 급속공기밸브 | C26: 80mm | D26: 대 | I26: 230000 | J26: M070551 | O26: =MIN(E26,G26,I26,K26,M26) -> 230000
B27: 청동주물 | C27: BC6 | D27: kg | E27: 32450 | F27: 43 | G27: 31700 | H27: 45 | O27: =MIN(E27,G27,I27,K27,M27) -> 31700
B28: 전동셔터용 모터 | C28: 0.4kw | D28: 대 | E28: 550000 | F28: 570 | G28: 700000 | H28: 450 | O28: =MIN(E28,G28,I28,K28,M28) -> 550000
B29: 펌프축 부하측 베어링자리 보수 | C29: 선반가공 | D29: 식 | K29: 350000 | L29: 대광 | M29: 400000 | N29: 대성 | O29: =MIN(E29,G29,I29,K29,M29) -> 350000
B30: 용 접 봉 | C30: 4.0mm,연강용 | D30: kg | I30: 3197 | J30: 공사단가 | O30: =MIN(E30,G30,I30,K30,M30) -> 3197
B31: 기구손료 | D31: hr | I31: 116 | J31: 공사단가 | O31: =MIN(E31,G31,I31,K31,M31) -> 116
B32: 용접공 | C32: 일반공사 직종 | D32: 인 | P32: =VLOOKUP(B32,노임!$A$3:$B$171,2,FALSE) -> 282536
B33: 도장공 | C33: " | D33: 인 | P33: =VLOOKUP(B33,노임!$A$3:$B$171,2,FALSE) -> 263017
B34: 보통인부 | C34: " | D34: 인 | P34: =VLOOKUP(B34,노임!$A$3:$B$171,2,FALSE) -> 172068
B35: 배관공 | C35: " | D35: 인 | P35: =VLOOKUP(B35,노임!$A$3:$B$171,2,FALSE) -> 247897
B36: 기계설비공 | C36: " | D36: 인 | P36: =VLOOKUP(B36,노임!$A$3:$B$171,2,FALSE) -> 241698
B37: 플랜트기계설치공 | C37: " | D37: 인 | P37: =VLOOKUP(B37,노임!$A$3:$B$171,2,FALSE) -> 230376
B38: 특별인부 | C38: " | D38: 인 | P38: =VLOOKUP(B38,노임!$A$3:$B$171,2,FALSE) -> 226122
B39: 철공 | C39: " | D39: 인 | P39: =VLOOKUP(B39,노임!$A$3:$B$171,2,FALSE) -> 239808
B40: 용접공 | C40: " | D40: 인 | P40: =VLOOKUP(B40,노임!$A$3:$B$171,2,FALSE) -> 282536
B41: 특별인부 | C41: " | D41: 인 | P41: =VLOOKUP(B41,노임!$A$3:$B$171,2,FALSE) -> 226122
B42: 배관공(수도) | P42: =VLOOKUP(B42,노임!$A$3:$B$171,2,FALSE) -> 262580

Sheet 견적서

Sheet 노임
A1: 노임
A2: 명 칭 | B2: 단 가 | C2: 비 고
A3: 작업반장 | B3: 215907 | C3: 2026년 상반기 | E3: L001010101000001 | F3: L001010101000001
A4: 보통인부 | B4: 172068 | C4: 2026년 상반기 | E4: L001010101000002 | F4: L001010101000002
A5: 특별인부 | B5: 226122 | C5: 2026년 상반기 | E5: L001010101000003 | F5: L001010101000003
A6: 조력공 | B6: 179028 | C6: 2026년 상반기 | E6: L001010101000004 | F6: L001010101000004
A7: 제도사 | B7: 237324 | C7: 2026년 상반기 | E7: L001010101000005 | F7: L001010101000005
A8: 비계공 | B8: 281939 | C8: 2026년 상반기 | E8: L001010101000006 | F8: L001010101000006
A9: 형틀목공 | B9: 275790 | C9: 2026년 상반기 | E9: L001010101000007 | F9: L001010101000007
A10: 철근공 | B10: 268187 | C10: 2026년 상반기 | E10: L001010101000008 | F10: L001010101000008
A11: 철공 | B11: 239808 | C11: 2026년 상반기 | E11: L001010101000009 | F11: L001010101000009
A12: 철판공 | B12: 221481 | C12: 2026년 상반기 | E12: L001010101000010 | F12: L001010101000010
A13: 철골공 | B13: 252641 | C13: 2026년 상반기 | E13: L001010101000011 | F13: L001010101000011
A14: 용접공 | B14: 282536 | C14: 2026년 상반기 | E14: L001010101000012 | F14: L001010101000012
... A171: 측부 | B171: 151706 | C171: 2026년 | E171: L001040901000341 | F171: L001040901000341
