Workbook
Name _12: #N/A
Name _13: #N/A
Name _15_3_0Crite: #REF!
Name _16_3_0Crite: #REF!
Name _19_3_0Criteria: #REF!
Name _1월: #REF!
Name _2: #N/A
Name _2._날_개_벽: #REF!
Name _20_3_0Criteria: #REF!
Name _22_3__Crite: #REF!
Name _24_3__Criteria: #REF!
Name _26a1234_: #REF!
Name _28a16385_: #REF!
Name _2월: #REF!
Name _3: #N/A
Name _31G_0Extr: #REF!
Name _32G_0Extr: #REF!
Name _35G_0Extract: #REF!
Name _36G_0Extract: #REF!
Name _38G__Extr: #REF!
Name _3월: #REF!
Name _4: #REF!
Name _40G__Extract: #REF!
Name _43p1_: #REF!
Name _4월: #REF!
Name _5: #REF!
Name _56단: #REF!
Name _5월: #REF!
Name _6: #REF!
Name _6월: #REF!
Name _8: #REF!
Name _9: #REF!
Name _H600000: #REF!
Name _KT1: #REF!
Name _KT2: #N/A
Name _PVC100: #REF!
Name _PVC125: #REF!
Name _PVC150: #REF!
Name \0: #REF!
Name \a: #REF!
Name \b: #REF!
Name \c: #N/A
Name \d: #N/A
Name \e: #N/A
Name \f: #REF!
Name \g: #REF!
Name \i: #N/A
Name \j: #N/A
Name \k: #REF!
Name \l: #N/A
Name \m: #N/A
Name \n: #N/A
Name \o: #REF!
Name \p: #REF!
Name \q: #REF!
Name \r: #REF!
Name \s: #REF!
Name \t: #REF!
Name \u: #N/A
Name \w: #REF!

Sheet 원가계산서
B2: 원 가 계 산 서
B4: 공사명 : | D4: 가리양수장 외 18개소 기계설비 보수공사
B5: 일 금 : | D5: =K33 -> 25586000 | G5: 원정 | O5: 26.08.
B6: 공종별 구분 | K6: 공사비
B8: 순공사비 원가 | C8: 노무비 | D8: 직접 노무비 | K8: =내역서!I25 -> 8657154.8
D9: 간접 노무비 | G9: ( | H9: 19.1 | I9: % | J9: ) | K9: =INT(($H$9/100)*K8) -> 1653516
D10: 노 무 비 계 | K10: =SUM(K8:K9) -> 10310671
C11: 재 료 비 | K11: =내역서!K25 -> 6358294.2
C12: 경 비 | D12: 경 비 | K12: =내역서!M25 -> 966409.45
D13: 보험료 | E13: 산재보험료 | G13: ( | H13: 3.56 | I13: % | J13: ) | K13: =INT(($H$13/100)*K10) -> 367059
E14: 고용보험료 | G14: ( | H14: 1.01 | I14: % | J14: ) | K14: =INT(($H$14/100)*K10) -> 104137
E15: 퇴직공제부금 | G15: ( | H15: 0 | I15: % | J15: ) | K15: =INT((H15/100)*K8) -> 0
E16: 건강보험료 | G16: ( | H16: 0 | I16: % | J16: ) | K16: =INT((H16/100)*K8) -> 0
E17: 노인장기요양보험료 | G17: ( | H17: 0 | I17: % | J17: ) | K17: =INT((H17/100)*K16) -> 0
E18: 연금보험료 | G18: ( | H18: 0 | I18: % | J18: ) | K18: =INT((H18/100)*K8) -> 0
G19: 계 | K19: =SUM(K13:K18) -> 471196
D20: 산업안전 보건 관리비 | G20: ( | H20: 3.15 | I20: % | J20: ) | K20: =INT((K8+K11)*H20%) -> 472986
H21: 기초액 | K21: =ROUND((0)*K20,0) -> 0
G22: 소계 | K22: =SUM(K20:K21) -> 472986
D23: 기 타 경 비 | G23: ( | H23: 5.5 | I23: % | J23: ) | K23: =INT(($H$23/100)*(K10+K11)) -> 916793
D24: 건설하도금대금지급보증서발급수수료(0.081%) | K24: =INT((K8+K11+K12)*0) -> 0
D25: 경 비 계 | K25: =K12+K19+K22+K23+K24 -> 2827384.4
B26: 소 계 | K26: =K10+K11+K25 -> 19496349
B27: 환경보전비 | G27: ( | I27: % | J27: )
B28: 일반관리비 | G28: ( | H28: 8 | I28: % | J28: ) | K28: =INT(($H$28/100)*(K10+K11+K25)) -> 1559707
B29: 합 계 | K29: =SUM(K26:K28) -> 21056056
B30: 이 윤 | G30: ( | H30: 15 | I30: % | J30: ) | K30: =(K29-K11)*0.15 -> 2204664.3
B31: 총 원 가 | K31: =TRUNC((((H30/100)*($K$29-K11))+K29),-4) -> 23260000
B32: 부 가 세 | G32: ( | H32: 10 | I32: % | J32: ) | K32: =INT(K31*0.1) -> 2326000
B33: 총 계 | K33: =SUM(K31:K32) -> 25586000

Sheet 내역서
B1: 공 사 비 내 역 서
B3: 공사명: 가리양수장 외 15개소 기계설비 보수공사
B4: 종 별 | C4: 재료또는 치 수 | D4: 원수 | E4: 단위 | F4: 총 액 | H4: 노무비 | J4: 재료비 | L4: 경 비 | N4: 비 고 | P4: 서의성IC 옆 관로보수 | R4: 정안 40m 7본
F5: 단가 | G5: 금액 | H5: 단가 | I5: 금액 | J5: 단가 | K5: 금액 | L5: 단가 | M5: 금액 | P5: 200mm 조인트로 보수 | Q5: 장비 4시간
B6: =B37 -> 1.가리양수장 제수밸브 교체 | D6: 1 | E6: 식 | G6: =I6+K6+M6 -> 847133 | I6: =I42 -> 223660 | K6: =K42 -> 619000 | M6: =M42 -> 4473 | N6: 다인
B7: =B44 -> 2.탑리양수간선 제수밸브 교체 및 물막이 수문 설치 | D7: 1 | E7: 식 | G7: =I7+K7+M7 -> 1017358.7 | I7: =I53 -> 357147.49 | K7: =K53 -> 649273 | M7: =M53 -> 10938.238 | N7: 동부
B8: =B55 -> 3.운산2양수장 송수관로 교체 | D8: 1 | E8: 식 | G8: =I8+K8+M8 -> 1365208 | I8: =I61 -> 992930 | K8: =K61 -> 252962 | M8: =M61 -> 119316 | N8: 동부
B9: =B64 -> 4.서제양수장 분해점검 | D9: 1 | E9: 식 | G9: =I9+K9+M9 -> 463835 | I9: =I68 -> 457365 | K9: =K68 -> 0 | M9: =M68 -> 6470 | N9: 위천
B10: =B70 -> 5.산수1-6지선 물막이 수문 | D10: 1 | E10: 식 | G10: =I10+K10+M10 -> 369099.14 | I10: =I77 -> 289899.13 | K10: =K77 -> 65000 | M10: =M77 -> 14200.005 | N10: 위천
B11: =B79 -> 6.노연양수장 스크린 설치, 펌프 점검, 관로보수 | D11: 1 | E11: 식 | G11: =I11+K11+M11 -> 2753209.5 | I11: =I96 -> 2020362.4 | K11: =K96 -> 607677 | M11: =M96 -> 125170.1 | N11: 다인
B12: =B99 -> 7.달제양수장 공기변 교체 | D12: 1 | E12: 식 | G12: =I12+K12+M12 -> 310352 | I12: =I103 -> 78776 | K12: =K103 -> 230000 | M12: =M103 -> 1576 | N12: 다인
B13: =B105 -> 8.백현양수장 관로 누수보수 및 공기변 교체 | D13: 1 | E13: 식 | G13: =I13+K13+M13 -> 1401593 | I13: =I112 -> 799209 | K13: =K112 -> 495192 | M13: =M112 -> 107192 | N13: 위천
B14: =B114 -> 9.신당지인수로 스크린 설치 | D14: 1 | E14: 식 | G14: =I14+K14+M14 -> 529093.51 | I14: =I119 -> 238825.11 | K14: =K119 -> 278327.18 | M14: =M119 -> 11941.22 | N14: 다인
B15: =B122 -> 10.이연1용수간선 수문 보수(단북면 성암리 1433) | D15: 1 | E15: 식 | G15: =I15+K15+M15 -> 1321297 | I15: =I142 -> 414800 | K15: =K142 -> 889263 | M15: =M142 -> 17234 | N15: 다인
B16: =B145 -> 11.문덕양수장 볼밸브 교체 및 송수관로 보수 | D16: 1 | E16: 식 | G16: =I16+K16+M16 -> 378963 | I16: =I151 -> 213136 | K16: =K151 -> 165000 | M16: =M151 -> 827 | N16: 동부
B17: =B153 -> 12.정안1용수간선 송수관로 보수 | D17: 1 | E17: 식 | G17: =I17+K17+M17 -> 1856318 | I17: =I159 -> 986276 | K17: =K159 -> 752576 | M17: =M159 -> 117466 | N17: 다인
B18: =B161 -> 13.용기양수장 송수관로 보수 | D18: 1 | E18: 식 | G18: =I18+K18+M18 -> 764357 | I18: =I165 -> 484165 | K18: =K165 -> 226596 | M18: =M165 -> 53596 | N18: 위천
B19: =B167 -> 14.신기양수장 유입수문 긴급인양 | D19: 1 | E19: 식 | G19: =I19+K19+M19 -> 350000 | I19: =I169 -> 0 | K19: =K169 -> 0 | M19: =M169 -> 350000 | N19: 다인
B20: =B171 -> 15.양서양수장 여과기 배관보수 | D20: 1 | E20: 식 | G20: =I20+K20+M20 -> 148278 | I20: =I174 -> 123948 | K20: =K174 -> 24330 | M20: =M174 -> 0 | N20: 다인
B21: =B176 -> 16.대동양수장 체크밸브 바이패스 보수 | D21: 1 | E21: 식 | G21: =I21+K21+M21 -> 293657 | I21: =I180 -> 247897 | K21: =K180 -> 45760 | M21: =M180 -> 0 | N21: 다인
B22: =B182 -> 17.유산2양수장 수중펌프 교체 | D22: 1 | E22: 식 | G22: =I22+K22+M22 -> 764810 | I22: =I185 -> 253311 | K22: =K185 -> 503900 | M22: =M185 -> 7599 | N22: 위천
B23: =B187 -> 18.외곡간이양수장 수중펌프 교체 | D23: 1 | E23: 식 | G23: =I23+K23+M23 -> 764810 | I23: =I190 -> 253311 | K23: =K190 -> 503900 | M23: =M190 -> 7599 | N23: 위천
B24: =B192 -> 19.산제취입보 물막이 수문 설치 | D24: 1 | E24: 식 | G24: =I24+K24+M24 -> 282486.54 | I24: =I199 -> 222136.65 | K24: =K199 -> 49538 | M24: =M199 -> 10811.891 | N24: 위천
B25: 소 계 | G25: =I25+K25+M25 -> 15981858 | I25: =SUM(I6:I24) -> 8657154.8 | K25: =SUM(K6:K24) -> 6358294.2 | M25: =SUM(M6:M24) -> 966409.45
B35: 종 별 | C35: 재료또는 치 수 | D35: 원수 | E35: 단위 | F35: 총 액 | H35: 노무비 | J35: 재료비 | L35: 경 비 | N35: 비 고
F36: 단가 | G36: 금액 | H36: 단가 | I36: 금액 | J36: 단가 | K36: 금액 | L36: 단가 | M36: 금액
B37: 1.가리양수장 제수밸브 교체
B38: -제수밸브 200mm 교체
B39: 제수밸브 | C39: 200D | D39: 1 | E39: EA | F39: =H39+J39+L39 -> 619000 | G39: =I39+K39+M39 -> 619000 | J39: =단가대비표!O6 -> 619000 | K39: =INT(J39*$D39) -> 619000
B40: 밸브 교체(철거 및 설치) | C40: 200D | D40: 1 | E40: 식 | F40: =H40+J40+L40 -> 228133 | G40: =I40+K40+M40 -> 228133 | H40: =일위대가!H66 -> 223660 | I40: =H40*$D40 -> 223660 | J40: =일위대가!J66 -> 0 | K40: =INT(J40*$D40) -> 0 | L40: =일위대가!L66 -> 4473 | M40: =L40*$D40 -> 4473 | N40: 일위1호
B42: 1. 계 | G42: =I42+K42+M42 -> 847133 | I42: =SUM(I39:I41) -> 223660 | K42: =SUM(K39:K41) -> 619000 | M42: =SUM(M39:M41) -> 4473
B44: 2.탑리양수간선 제수밸브 교체 및 물막이 수문 설치
B45: -제수밸브 교체 및 물막이수문(600*600) 설치
B46: 제수밸브 | C46: 200D | D46: 1 | E46: EA | F46: =H46+J46+L46 -> 619000 | G46: =I46+K46+M46 -> 619000 | J46: =단가대비표!O6 -> 619000 | K46: =INT(J46*$D46) -> 619000
B47: 밸브 교체(철거 및 설치) | C47: 200D | D47: 1 | E47: 식 | F47: =H47+J47+L47 -> 228133 | G47: =I47+K47+M47 -> 228133 | H47: =일위대가!H66 -> 223660 | I47: =H47*$D47 -> 223660 | L47: =일위대가!L66 -> 4473 | M47: =L47*$D47 -> 4473 | N47: 일위1호
B48: 물막이 문비(강판) | C48: 600*600*6t | D48: =0.6*0.6*0.006*7.85*1000*1.2 -> 20.3472 | E48: kg | F48: =H48+J48+L48 -> 1056 | G48: =I48+K48+M48 -> 21486 | J48: =단가대비표!O14 -> 1056 | K48: =INT(J48*$D48) -> 21486
B49: 물막이 문틀(평강) | C49: 50*6t*0.6m | D49: =2.36*0.6*2*1.2 -> 3.3984 | E49: kg | F49: =H49+J49+L49 -> 1010 | G49: =I49+K49+M49 -> 3432 | J49: =단가대비표!O15 -> 1010 | K49: =INT(J49*$D49) -> 3432
B50: 세트앵커 | C50: '1/2"*4"(SS275) | D50: 4 | E50: 개 | F50: =H50+J50+L50 -> 390 | G50: =I50+K50+M50 -> 1560 | J50: =단가대비표!O20 -> 390 | K50: =INT(J50*$D50) -> 1560
B51: 잡철물제작설치비 | C51: 현장제작설치/일반철제 | D51: =(D48+D49)/1000 -> 0.0237456 | E51: ton | F51: =H51+J51+L51 -> 5754774 | G51: =I51+K51+M51 -> 136649.73 | H51: =일위대가!H83 -> 5328496 | I51: =H51*$D51 -> 126528.33 | J51: =일위대가!J83 -> 159854 | K51: =INT(J51*$D51) -> 3795 | L51: =일위대가!L83 -> 266424 | M51: =L51*$D51 -> 6326.3977 | N51: 일위2호
B52: 녹막이 페인트칠 | C52: 철재면 2회 | D52: =0.6*0.6*2+0.05*0.6*2 -> 0.78 | E52: M2 | G52: =I52+K52+M52 -> 7098 | H52: =일위대가!H91 -> 8922 | I52: =H52*$D52 -> 6959.16 | J52: =일위대가!J91 -> 0 | K52: =INT(J52*$D52) -> 0 | L52: =일위대가!L91 -> 178 | M52: =L52*$D52 -> 138.84 | N52: 일위3호
...

Sheet 일위대가
A2: 기계설비 일위대가 총괄표
A4: 종 별 | B4: 재료또는 | C4: 원 수 | D4: 단위 | E4: 총 액 | G4: 노 무 비 | I4: 재 료 비 | K4: 경 비 | M4: 비 고
B5: 치 수 | E5: 단가 | F5: 금 액 | G5: 단가 | H5: 금 액 | I5: 단가 | J5: 금 액 | K5: 단가 | L5: 금 액
A6: 【1호표.강관 용접 배관 및 부설 (1개소당)】 | F6: ※ 건설공사 표준품셈(토목부문) 6-3-1 적용(KSD3565, 부설제외, 800mm이상은 내외부용접)
A7: ▶ Φ100 | F7: ※ 건설공사 표준품셈(토목부문) 6-3-2 적용
A8: 용 접 공 | C8: 1.2 | D8: 인 | F8: =H8+J8+L8 -> 339043.2 | G8: =단가대비표!P32 -> 282536 | H8: =TRUNC(G8*$C8,1) -> 339043.2
A9: 용 접 봉 | C9: 2.9 | D9: kg | F9: =H9+J9+L9 -> 9271.3 | I9: =단가대비표!O30 -> 3197 | J9: =TRUNC(I9*$C9,1) -> 9271.3
A10: 용접기 손료 | C10: 3.58 | D10: hr | F10: =H10+J10+L10 -> 415.2 | K10: =단가대비표!O31 -> 116 | L10: =TRUNC(K10*$C10,1) -> 415.2
A11: 발전기 손료 | B11: 50 kw | C11: 1.79 | D11: hr | F11: =H11+J11+L11 -> 101013.2 | G11: 36248 | H11: =TRUNC(G11*$C11,1) -> 64883.9 | I11: 15495 | J11: =TRUNC(I11*$C11,1) -> 27736 | K11: 4689 | L11: =TRUNC(K11*$C11,1) -> 8393.3
A12: 도 장 공 | C12: 0.68 | D12: 인 | F12: =H12+J12+L12 -> 178851.5 | G12: =단가대비표!P33 -> 263017 | H12: =TRUNC(G12*$C12,1) -> 178851.5
A13: 보 통 인 부 | D13: 인 | F13: =H13+J13+L13 -> 0 | G13: =단가대비표!P34 -> 172068 | H13: =TRUNC(G13*$C13,1) -> 0 | O13: 0.16
A14: 에 폭 시 | C14: 1.59 | D14: kg | F14: =H14+J14+L14 -> 8904 | I14: 5600 | J14: =TRUNC(I14*$C14,1) -> 8904 | O14: 1.59
A15: 신 너 | C15: 0.14 | D15: kg | F15: =H15+J15+L15 -> 583.3 | I15: 4167 | J15: =TRUNC(I15*$C15,1) -> 583.3 | O15: 0.14
A16: 프 라 이 머 | C16: 0.32 | D16: kg | F16: =H16+J16+L16 -> 2400 | I16: 7500 | J16: =TRUNC(I16*$C16,1) -> 2400 | O16: 0.32
A17: 액상 접착제 | D17: kg | F17: =H17+J17+L17 -> 0 | I17: 20746 | J17: =TRUNC(I17*$C17,1) -> 0 | O17: 0.32
A18: 매 스 틱 | D18: m | F18: =H18+J18+L18 -> 0 | I18: 3500 | J18: =TRUNC(I18*$C18,1) -> 0 | O18: 3.51
A19: 안쪽층 테이프 | D19: ㎡ | F19: =H19+J19+L19 -> 0 | I19: 7733 | J19: =TRUNC(I19*$C19,1) -> 0 | O19: 2.97
A20: 바깥층 테이프 | D20: ㎡ | F20: =H20+J20+L20 -> 0 | I20: 7400 | J20: =TRUNC(I20*$C20,1) -> 0 | O20: 2.97
A21: 공 구 손 료 | C21: 1 | D21: 식 | F21: =H21+J21+L21 -> 20342.5 | L21: =TRUNC((H8)*0.06,1) -> 20342.5
A22: 소계 | F22: =H22+J22+L22 -> 660823 | H22: =INT(SUM(H8:H21)) -> 582778 | J22: =INT(SUM(J8:J21)) -> 48894 | L22: =INT(SUM(L8:L21)) -> 29151
A24: 【2호표.플랜지 죠인트 접합 (개소당 ) | F24: ※ 건설공사 표준품셈(토목부문) 6-8-7 적용
A25: ▶ Φ1000
A26: 배 관 공 | C26: 0.35 | D26: 인 | F26: =H26+J26+L26 -> 86763 | G26: =단가대비표!P35 -> 247897 | H26: =INT(G26*C26) -> 86763
A27: 보 통 인 부 | C27: 0.17 | D27: 인 | F27: =H27+J27+L27 -> 29251 | G27: =단가대비표!P34 -> 172068 | H27: =INT(G27*C27) -> 29251
A28: 공 구 손 료 | B28: 0.02 | C28: 1 | D28: 식 | F28: =H28+J28+L28 -> 2320 | K28: =INT(H29*0.02) -> 2320 | L28: =INT(K28*C28) -> 2320
A29: 소 계 | F29: =H29+J29+L29 -> 118334 | H29: =INT(SUM(H26:H28)) -> 116014 | L29: =INT(SUM(L25:L28)) -> 2320
A30: 철거,설치 | B30: 1.4 | F30: =H30+J30+L30 -> 165667.6 | H30: =H29*1.4 -> 162419.6 | L30: =L29*1.4 -> 3248
A32: 【3호표. 강관절단 (개소당)】 | F32: ※ 건설공사 표준품셈 6-3-4 적용
A33: ▶ Ф1000
A34: 용 접 공 | C34: 0.96 | D34: 인 | F34: =H34+J34+L34 -> 271234.5 | G34: =단가대비표!P32 -> 282536 | H34: =TRUNC(G34*$C34,1) -> 271234.5
A35: 공 구 손 료 | B35: 0.02 | C35: 1 | D35: 식 | F35: =H35+J35+L35 -> 5424.6 | L35: =TRUNC(H36*0.02,1) -> 5424.6
A36: 소 계 | F36: =H36+J36+L36 -> 276658 | H36: =INT(SUM(H34:H35)) -> 271234 | L36: =INT(SUM(L34:L35)) -> 5424
A38: 【4호표. 일반펌프( 육상용 진공펌프, 입형 펌프 등 설치, 대당)】 | F38: ※ 건설공사 표준품셈(기계설비부문) 4-1-1 적용
A39: ▶ 3.7 kW 이하
A40: 기 계 설 비 공 | C40: 1.122 | D40: 인 | F40: =H40+J40+L40 -> 271185.1 | G40: =단가대비표!P36 -> 241698 | H40: =TRUNC(G40*$C40,1) -> 271185.1
A41: 보 통 인 부 | C41: 0.372 | D41: 인 | F41: =H41+J41+L41 -> 64009.2 | G41: =단가대비표!P34 -> 172068 | H41: =TRUNC(G41*$C41,1) -> 64009.2
A42: 공 구 손 료 | B42: 3 % | C42: 1 | D42: 식 | F42: =H42+J42+L42 -> 10055.8 | L42: =TRUNC(H43*0.03,1) -> 10055.8
A43: 소계 | F43: =H43+J43+L43 -> 345249 | H43: =INT(SUM(H40:H42)) -> 335194 | L43: =INT(SUM(L40:L42)) -> 10055
A44: 철거설치 | B44: 설치의 140% | F44: =H44+J44+L44 -> 483348.6 | H44: =H43*1.4 -> 469271.6 | L44: =L43*1.4 -> 14077
A46: 【2호표.횡축원심펌프 보수(대당),601-800㎥/h】 | F46: ※ 양·배수장 펌프 및 전동기 보수 적산기준
...

Sheet 단가대비표
B1: 단 가 대 비 표
B3: 품 명 | C3: 규격 | D3: 단위 | E3: 재 료 비 | P3: 노무비 26년상반기 | Q3: 비고
E4: 물가자료(26.08) | G4: 유통물가(26.05) | I4: 공사단가 | K4: 조사가격1 | M4: 조사가격1 | O4: 적용단가
E5: 단가 | F5: PAGE | G5: 단가 | H5: PAGE | I5: 단가 | J5: PAGE | K5: 단가 | L5: PAGE | M5: 단가 | N5: PAGE
B6: 수도용소프트실제수밸브 | C6: 표준형 200D | D6: EA | I6: 619000 | J6: M073235 | O6: =MIN(E6,G6,I6,K6,M6) -> 619000
B7: 고무패킹 | C7: 1000A용 | D7: 개 | I7: 46080 | J7: M032917 | O7: =MIN(E7,G7,I7,K7,M7) -> 46080
B8: 강관 | C8: 1000A*9T | D8: m | E8: 939610 | F8: 724 | I8: 510573 | J8: M052604 | O8: =MIN(E8,G8,I8,K8,M8) -> 510573
B9: 강관 | C9: 200D | D9: m | I9: 48660 | J9: M053400 | O9: =MIN(E9,G9,I9,K9,M9) -> 48660
B10: 강관 | C10: 150D | D10: m | I10: 30730 | J10: M053400 | O10: =MIN(E10,G10,I10,K10,M10) -> 30730
B11: 강관 | C11: 100D | D11: m | I11: 19530 | J11: M052604 | O11: =MIN(E11,G11,I11,K11,M11) -> 19530
B13: 이중벽PE파이프 | C13: D=200㎜, SN12.5 | D13: m | I13: 12500 | O13: =MIN(E13,G13,I13,K13,M13) -> 12500
B14: 강판(SS400) | C14: 6t | D14: kg | E14: 1210 | F14: 14 | G14: 1056 | H14: 26 | O14: =MIN(E14,G14,I14,K14,M14) -> 1056
B15: 평강(SS400) | C15: 50*6t | D15: kg | E15: 1030 | F15: 23 | G15: 1010 | H15: 5 | O15: =MIN(E15,G15,I15,K15,M15) -> 1010
B16: 평강(SS400) | C16: 75*6t | D16: kg | E16: 1090 | F16: 5 | O16: =MIN(E16,G16,I16,K16,M16) -> 1090
B17: 단상수중펌프 | C17: 50D*1.5kW | D17: 대 | G17: 1032000 | H17: 908 | K17: 503900 | O17: =MIN(E17,G17,I17,K17,M17) -> 503900
B18: 볼밸브 | C18: 32D, 0.98Mpa | D18: EA | I18: 40000 | O18: =MIN(E18,G18,I18,K18,M18) -> 40000
B19: 누수보수용 클램프 | C19: 200mm | D19: 개 | E19: 205000 | F19: 738 | O19: =MIN(E19,G19,I19,K19,M19) -> 205000
B20: 세트앵커 | C20: '1/2"*4"(SS275) | D20: 개 | E20: 390 | F20: 93 | O20: =MIN(E20,G20,I20,K20,M20) -> 390
B21: 진공펌프 | C21: 40A*3.7kw,전동기포함 | D21: 대 | I21: 3021000 | J21: M070562 | O21: =MIN(E21,G21,I21,K21,M21) -> 3021000
B22: 고재대 | C22: 철scrap,중량A | D22: kg | E22: -335 | F22: 하47 | G22: -385 | H22: 1198 | O22: =MIN(E22,G22,I22,K22,M22) -> -385
B23: 베어링 | C23: 6318 | D23: EA | E23: 104430 | F23: 1418 | O23: =MIN(E23,G23,I23,K23,M23) -> 104430
B24: 유니온(백) | C24: KS 65D | D24: EA | I24: 24330 | O24: =MIN(E24,G24,I24,K24,M24) -> 24330
B25: 그리스패킹 | C25: 3/4"*20m | D25: 롤 | K25: 90000 | L25: 대광 | M25: 95000 | N25: 대성 | O25: =MIN(E25,G25,I25,K25,M25) -> 90000
B26: 급속공기밸브 | C26: 80mm | D26: 대 | I26: 230000 | J26: M070551 | O26: =MIN(E26,G26,I26,K26,M26) -> 230000
B27: 청동주물 | C27: BC6 | D27: kg | E27: 32450 | F27: 43 | G27: 31700 | H27: 45 | O27: =MIN(E27,G27,I27,K27,M27) -> 31700
B28: 전동셔터용 모터 | C28: 0.4kw | D28: 대 | E28: 550000 | F28: 570 | G28: 700000 | H28: 450 | O28: =MIN(E28,G28,I28,K28,M28) -> 550000
B29: 펌프축 부하측 베어링자리 보수 | C29: 선반가공 | D29: 식 | K29: 350000 | L29: 대광 | M29: 400000 | N29: 대성 | O29: =MIN(E29,G29,I29,K29,M29) -> 350000
B30: 용 접 봉 | C30: 4.0mm,연강용 | D30: kg | I30: 3197 | J30: 공사단가 | O30: =MIN(E30,G30,I30,K30,M30) -> 3197
B31: 기구손료 | D31: hr | I31: 116 | J31: 공사단가 | O31: =MIN(E31,G31,I31,K31,M31) -> 116
B32: 용접공 | C32: 일반공사 직종 | D32: 인 | P32: =VLOOKUP(B32,노임!$A$3:$B$171,2,FALSE) -> 282536
B33: 도장공 | C33: " | D33: 인 | P33: =VLOOKUP(B33,노임!$A$3:$B$171,2,FALSE) -> 263017
B34: 보통인부 | C34: " | D34: 인 | P34: =VLOOKUP(B34,노임!$A$3:$B$171,2,FALSE) -> 172068
B35: 배관공 | C35: " | D35: 인 | P35: =VLOOKUP(B35,노임!$A$3:$B$171,2,FALSE) -> 247897
B36: 기계설비공 | C36: " | D36: 인 | P36: =VLOOKUP(B36,노임!$A$3:$B$171,2,FALSE) -> 241698
B37: 플랜트기계설치공 | C37: " | D37: 인 | P37: =VLOOKUP(B37,노임!$A$3:$B$171,2,FALSE) -> 230376
B38: 특별인부 | C38: " | D38: 인 | P38: =VLOOKUP(B38,노임!$A$3:$B$171,2,FALSE) -> 226122
B39: 철공 | C39: " | D39: 인 | P39: =VLOOKUP(B39,노임!$A$3:$B$171,2,FALSE) -> 239808
B40: 용접공 | C40: " | D40: 인 | P40: =VLOOKUP(B40,노임!$A$3:$B$171,2,FALSE) -> 282536
B41: 특별인부 | C41: " | D41: 인 | P41: =VLOOKUP(B41,노임!$A$3:$B$171,2,FALSE) -> 226122
B42: 배관공(수도) | P42: =VLOOKUP(B42,노임!$A$3:$B$171,2,FALSE) -> 262580

Sheet 견적서

Sheet 노임
A1: 노임
A2: 명 칭 | B2: 단 가 | C2: 비 고
A3: 작업반장 | B3: 215907 | C3: 2026년 상반기 | E3: L001010101000001 | F3: L001010101000001
A4: 보통인부 | B4: 172068 | C4: 2026년 상반기 | E4: L001010101000002 | F4: L001010101000002
A5: 특별인부 | B5: 226122 | C5: 2026년 상반기 | E5: L001010101000003 | F5: L001010101000003
A6: 조력공 | B6: 179028 | C6: 2026년 상반기 | E6: L001010101000004 | F6: L001010101000004
A7: 제도사 | B7: 237324 | C7: 2026년 상반기 | E7: L001010101000005 | F7: L001010101000005
A8: 비계공 | B8: 281939 | C8: 2026년 상반기 | E8: L001010101000006 | F8: L001010101000006
A9: 형틀목공 | B9: 275790 | C9: 2026년 상반기 | E9: L001010101000007 | F9: L001010101000007
A10: 철근공 | B10: 268187 | C10: 2026년 상반기 | E10: L001010101000008 | F10: L001010101000008
A11: 철공 | B11: 239808 | C11: 2026년 상반기 | E11: L001010101000009 | F11: L001010101000009
A12: 철판공 | B12: 221481 | C12: 2026년 상반기 | E12: L001010101000010 | F12: L001010101000010
A13: 철골공 | B13: 252641 | C13: 2026년 상반기 | E13: L001010101000011 | F13: L001010101000011
A14: 용접공 | B14: 282536 | C14: 2026년 상반기 | E14: L001010101000012 | F14: L001010101000012
... A171: 측부 | B171: 151706 | C171: 2026년 | E171: L001040901000341 | F171: L001040901000341
