Workbook

Sheet 수지예산서
E1: 수 지 예 산 서
B4: 1.수 입 | G4: 은진면 방축리 용수로 등 정비공사
I5: 【 단위 : 천원 】
B6: 과 목 | E6: 인가액 | F6: 신청액 | G6: 년도별 내역 | I6: 비 고
G7: 2026년도 | H7: 2027년도
B8: 도 비 | H8: 0
B9: 시 비 | E9: =G9 -> 22014 | F9: =G9 -> 22014 | G9: =G24 -> 22014 | H9: 0 | I9: 1
B10: 계 | E10: =SUM(E8:E9) -> 22014 | F10: =SUM(F8:F9) -> 22014 | G10: =SUM(G8:G9) -> 22014 | H10: =SUM(H8:H9) -> 0
B12: 2.지 출
I13: =I5 -> 【 단위 : 천원 】
B14: 과 목 | E14: =E6 -> 인가액 | F14: =F6 -> 신청액 | G14: 년도별 내역 | I14: 비 고
G15: =+G7 -> 2026년도 | H15: =+H7 -> 2027년도
B16: 내 공 사 비 | C16: ❍ | D16: 순공사비 | E16: =G16 -> 21800 | F16: =G16 -> 21800 | G16: =원가계산서!F30/1000 -> 21800 | H16: 0
C17: ❍ | D17: 자재대 | E17: =G17 -> 0 | F17: =G17 -> 0 | G17: 0 | H17: 0
D18: 소계 | E18: =SUM(E16:E17) -> 21800 | F18: =SUM(F16:F17) -> 21800 | G18: =SUM(G16:G17) -> 21800 | H18: =SUM(H16:H17) -> 0
E19: =G19 -> 0 | F19: =G19 -> 0 | H19: 0 | K19: =G18+G19 -> 21800
B20: 부 대 비 | C20: ❍ | D20: 세부설계비 | E20: =G20 -> 0 | F20: =G20 -> 0 | H20: 0
C21: ❍ | D21: 공사감리비 | E21: =G21 -> 0 | F21: =G21 -> 0 | H21: 0
C22: ❍ | D22: 사업관리비 | E22: =G22 -> 214 | F22: =G22 -> 214 | G22: =관리비!G34 -> 214 | H22: 0
D23: 소계 | E23: =SUM(E20:E22) -> 214 | F23: =SUM(F20:F22) -> 214 | G23: =SUM(G20:G22) -> 214 | H23: =SUM(H20:H22) -> 0
B24: 합 계 | E24: =E18+E19+E23 -> 22014 | F24: =SUM(F21:F23) -> 428 | G24: =G18+G19+G23 -> 22014 | H24: =H18+H19+H23 -> 0

Sheet 관리비
A1: 측설비 및 공사감리비, 사업관리비
A3: 1.측 설 비 산 출 내 역
J4: 【 단위 : 천원 】
A5: 공 종 | B5: 대 상 액 (부가세제외) | F5: 율 | G5: 측량설계비 | H5: 적용측량설계비 | J5: 비 고
B6: 순공사비 | C6: 지급자재 | D6: 폐기물처리비 | E6: 계 | F6: (%)
K8: 자리수조정
K10: 낙율적용
A11: 요율산출 내역
A12: -기준요율 : 하한요율-{(하한요율-상한요율)/대상액차인액×(실대상액-하한대상액)}
A15: 2.공 사 감 리 비 산 출 내 역
J16: 【 단위 : 천원 】
A17: 공 종 | B17: 대 상 액 (부가세제외) | F17: 율 | G17: 공사감리비 | H17: 비 고 | J17: 비 고
B18: 순공사비 | C18: 지급자재 | D18: 폐기물처리비 | E18: 계 | F18: (%)
K20: 자리수조정
M22: =I22-1137 -> -1137
A23: 요율산출 내역
A24: -기준요율 : 하한요율-{(하한요율-상한요율)/대상액차인액×(실대상액-하한대상액)}
A27: 사 업 관 리 비 산 출 내 역
J28: 【 단위 : 천원 】
A29: 공 종 | B29: 대 상 액 (부가세제외) | F29: 율 | G29: 사업관리비 | H29: 비 고 | J29: 비 고
B30: 순공사비 | C30: 지급자재 | E30: 계 | F30: (%)
A31: 관리비 | B31: =원가계산서!F30/1000/1.1 -> 19818.182 | C31: 0 | E31: =SUM(B31:D31) -> 19818.182 | F31: 1.08 | G31: =(INT(E31*F31/100)) -> 214
K32: 자리수조정
K33: 자리수조정
A34: 합 계 | G34: =SUM(G31:G33) -> 214 | H34: ≒ | I34: =G34 -> 214
A35: 요율산출 내역
A36: -기준요율 : 하한요율-{(하한요율-상한요율)/대상액차인액×(실대상액-하한대상액)}
A38: *요율산출 내역 및 요율은 대상액에 따라 다음표의 값을 참조하여 수정할것*
A39: 요 율 표
A40: 구 분 | B40: 10억원까지 | C40: 20억원 | D40: 50억원 | E40: 100억원 | F40: 200억원 | G40: 500억원 | H40: 1천억원
A41: 기본조사 | B41: 2.34 | C41: 2.19 | D41: 2.01 | E41: 1.86 | F41: 1.72 | G41: 1.54 | H41: 1.4
A42: 세부설계 | B42: 3.79 | C42: 3.6 | D42: 3.3 | E42: 3.05 | F42: 2.81 | G42: 2.53 | H42: 2.34
A43: 공사감리 | B43: 8.25 | C43: 8 | D43: 7.57 | E43: 7.14 | F43: 6.74 | G43: 6.24 | H43: 5.83
A44: 사업관리 | B44: 1.7 | C44: 1.57 | D44: 1.42 | E44: 1.32 | F44: 1.22 | G44: 1.1 | H44: 1.02

Sheet 원가계산서
B1: 원가계산서
B2: =내역서!B2 -> 공사명 : 은진면 방축리 용수로 등 정비공사
B3: 비 목 | E3: 구분 | F3: 금 액 | G3: 요율 | H3: 산 출 근 거
C4: 재 | D4: 직 접 재 료 비 | E4: 1 | F4: =내역서!L5 -> 2900641
C5: 료 | D5: 간 접 재 료 비 | E5: 2
C6: 비 | D6: 작업설.부산물등(△) | E6: 3
D7: 소 계 | E7: A | F7: =TRUNC((F4+F5+F6),0) -> 2900641 | H7: (1 + 2 + 3 )
C8: 노 | D8: 직 접 노 무 비 | E8: 4 | F8: =내역서!J5 -> 8312445
B9: 순 | C9: 무 | D9: 간 접 노 무 비 | E9: 5 | F9: =TRUNC(F8*G9, 0) -> 1587676 | G9: 0.191 | H9: 4 × 0.191
C10: 비 | D10: 소 계 | E10: B | F10: =TRUNC((F8+F9),0) -> 9900121 | H10: ( 4 + 5 )
B11: 공 | D11: 산 출 경 비 | E11: 6 | F11: =내역서!N5 -> 1998723
D12: 산 재 보 험 료 | E12: 7 | F12: =TRUNC(F10*G12,0) -> 352444 | G12: 3.56% | H12: B × 0.0356
B13: 사 | D13: 고 용 보 험 료 | E13: 8 | F13: =TRUNC(F10*G13,0) -> 99991 | G13: 1.01% | H13: B × 0.0101
C14: 경 | D14: 건 강 보 험 료 | E14: 9 | G14: 3.545% | H14: 4 × 0.03545
B15: 원 | D15: 연 금 보 험 료 | E15: 10 | G15: 4.5% | H15: 4 × 0.045
D16: 노인장기요양 보 험 료 | E16: 11 | G16: 12.95% | H16: 9 × 0.1295
B17: 가 | D17: 퇴 직 공 제 부 금 비 | E17: 12 | G17: 0.023 | H17: 4 × 0.023
D18: 건설기계대여금지급보증서발급액 | E18: 13 | G18: 0.4% | H18: (A + 4 + 6) × 0.004
D19: 산 업 안 전 보건관리비 | E19: 14 | F19: =TRUNC((F7+F8)*G19, 0) -> 353212 | G19: 3.15% | H19: (A + 4) × 0.0315
D20: 환 경 보 전 비 | E20: 16 | G20: 0.8% | H20: (A + 4 + 6) ×0.008
D21: 공 사 이 행 보증수수료 | E21: 17
C22: 비 | D22: 하도급대금지급보증수수료 | E22: 18
D23: 기 타 경 비 | E23: 19 | F23: =TRUNC((F7+F10)*G23, 0) -> 704041 | G23: 0.055 | H23: (A + B) × 0.055
D24: 소 계 | E24: C | F24: =SUM(F11:F23) -> 3508411 | H24: (6:19)
D25: 순 공 사 원 가 | E25: D | F25: =TRUNC((F7+F10+F24),0) -> 16309173 | H25: (A + B + C)
D26: 일 반 관 리 비 | E26: E | F26: =TRUNC(F25*G26,0) -> 1304733 | G26: 0.08 | H26: D × 0.08
D27: 이 윤 | E27: F | F27: =TRUNC((F10+F24+F26)*0.15,0)-2713 -> 2204276 | G27: 0.15 | H27: (B + C + E) ×0.15
D28: 총 원 가 | E28: G | F28: =TRUNC((F25+F26+F27),0) -> 19818182 | H28: (D + E + F)
D29: 부 가 가 치 세 | E29: H | F29: =IF(L50<> "0.9",TRUNC(F28*0.1,0),TRUNC(F28*0.1,0)+1) -> 1981818 | G29: 10% | H29: G × 0.1
D30: 도 급 액 | E30: I | F30: =F28+F29 -> 21800000 | H30: (G + H)
D31: 총 공 사 비 | E31: K | F31: =F30 -> 21800000 | H31: (I + J)
L50: =RIGHT(F28*0.1,3) -> 8.2

Sheet 내역서
B1: 내역서
B2: 공사명 : 은진면 방축리 용수로 등 정비공사
B3: 공종 | C3: 품 명 | D3: 규 격 | E3: 수 량 | F3: 단위 | G3: 합 계 | I3: 노무비 | K3: 재료비 | M3: 경 비 | O3: 비 고
G4: 단 가 | H4: 금 액 | I4: 단 가 | J4: 금 액 | K4: 단 가 | L4: 금 액 | M4: 단 가 | N4: 금 액
C5: 순 공 사 비 | H5: =H70 -> 13211809 | J5: =J70 -> 8312445 | L5: =L70 -> 2900641 | N5: =N70 -> 1998723
B7: ○ | C7: 은진면 방축리 81-3 | H7: =J7+L7+N7 -> 10567342 | J7: =J8+J14+J22+J31 -> 6998562 | L7: =L8+L14+L22+L31 -> 2413496 | N7: =N8+N14+N22+N31 -> 1155284
B8: 1 | C8: 토공 | H8: =J8+L8+N8 -> 3102735 | J8: =SUM(J9:J13) -> 2284285 | L8: =SUM(L9:L13) -> 494835 | N8: =SUM(N9:N13) -> 323615
C9: 마대쌓기 | D9: 1ton백 | E9: 35 | F9: EA | G9: =I9+K9+M9 -> 42223 | H9: =J9+L9+N9 -> 1477805 | I9: 23927 | J9: =TRUNC(E9*I9, 0) -> 837445 | K9: 13005 | L9: =TRUNC(E9*K9, 0) -> 455175 | M9: 5291 | N9: =TRUNC(E9*M9, 0) -> 185185
C10: 성토 | E10: 30 | F10: M3 | G10: =I10+K10+M10 -> 10831 | H10: =J10+L10+N10 -> 324930 | I10: 8228 | J10: =TRUNC(E10*I10, 0) -> 246840 | K10: 1322 | L10: =TRUNC(E10*K10, 0) -> 39660 | M10: 1281 | N10: =TRUNC(E10*M10, 0) -> 38430
C11: 준설 | D11: 인력 | E11: 4 | F11: 명 | G11: =I11+K11+M11 -> 200000 | H11: =J11+L11+N11 -> 800000 | I11: 200000 | J11: =TRUNC(E11*I11, 0) -> 800000 | L11: =TRUNC(E11*K11, 0) -> 0 | N11: =TRUNC(E11*M11, 0) -> 0
C12: 양수 | E12: 1 | F12: 식 | G12: =I12+K12+M12 -> 500000 | H12: =J12+L12+N12 -> 500000 | I12: 400000 | J12: =TRUNC(E12*I12, 0) -> 400000 | L12: =TRUNC(E12*K12, 0) -> 0 | M12: 100000 | N12: =TRUNC(E12*M12, 0) -> 100000
B14: 2 | C14: 구조물공 | H14: =J14+L14+N14 -> 4823303 | J14: =SUM(J15:J20) -> 3327416 | L14: =SUM(L15:L20) -> 812218 | N14: =SUM(N15:N20) -> 683669
C15: 면갈기 | E15: 4 | F15: M2 | G15: =I15+K15+M15 -> 10000 | H15: =J15+L15+N15 -> 40000 | I15: 10000 | J15: =TRUNC(E15*I15, 0) -> 40000 | L15: =TRUNC(E15*K15, 0) -> 0 | N15: =TRUNC(E15*M15, 0) -> 0
C16: 케미칼앙카 | D16: HD13 | E16: 135 | F16: 공 | G16: =I16+K16+M16 -> 22193 | H16: =J16+L16+N16 -> 2996055 | I16: 19304 | J16: =TRUNC(E16*I16, 0) -> 2606040 | K16: 2310 | L16: =TRUNC(E16*K16, 0) -> 311850 | M16: 579 | N16: =TRUNC(E16*M16, 0) -> 78165
C17: 철근가공조립 | D17: =D16 -> HD13 | E17: 0.1 | F17: TON | G17: =I17+K17+M17 -> 1500000 | H17: =J17+L17+N17 -> 150000 | I17: 700000 | J17: =TRUNC(E17*I17, 0) -> 70000 | K17: 800000 | L17: =TRUNC(E17*K17, 0) -> 80000 | N17: =TRUNC(E17*M17, 0) -> 0
C18: 거푸집 설치 | E18: 16 | F18: M2 | G18: =I18+K18+M18 -> 46078 | H18: =J18+L18+N18 -> 737248 | I18: 34461 | J18: =TRUNC(E18*I18, 0) -> 551376 | K18: 11273 | L18: =TRUNC(E18*K18, 0) -> 180368 | M18: 344 | N18: =TRUNC(E18*M18, 0) -> 5504
C19: 레미콘타설 | E19: 2 | F19: M3 | G19: =I19+K19+M19 -> 150000 | H19: =J19+L19+N19 -> 300000 | I19: 30000 | J19: =TRUNC(E19*I19, 0) -> 60000 | K19: 120000 | L19: =TRUNC(E19*K19, 0) -> 240000 | N19: =TRUNC(E19*M19, 0) -> 0
C20: P/C | E20: 1 | F20: 회 | G20: =I20+K20+M20 -> 600000 | H20: =J20+L20+N20 -> 600000 | J20: =TRUNC(E20*I20, 0) -> 0 | L20: =TRUNC(E20*K20, 0) -> 0 | M20: 600000 | N20: =TRUNC(E20*M20, 0) -> 600000
B22: 3 | C22: 배수공 | H22: =J22+L22+N22 -> 511304 | J22: =SUM(J23:J29) -> 136861 | L22: =SUM(L23:L29) -> 326443 | N22: =SUM(N23:N29) -> 48000
C23: PE이중벽관 | D23: D=200mm | E23: 6 | F23: M | G23: =I23+K23+M23 -> 35000 | H23: =J23+L23+N23 -> 210000 | I23: 10000 | J23: =TRUNC(E23*I23, 0) -> 60000 | K23: 20000 | L23: =TRUNC(E23*K23, 0) -> 120000 | M23: 5000 | N23: =TRUNC(E23*M23, 0) -> 30000
C24: PE배관 | D24: D=50mm | E24: 6 | F24: M | G24: =I24+K24+M24 -> 14000 | H24: =J24+L24+N24 -> 84000 | I24: 7000 | J24: =TRUNC(E24*I24, 0) -> 42000 | K24: 4000 | L24: =TRUNC(E24*K24, 0) -> 24000 | M24: 3000 | N24: =TRUNC(E24*M24, 0) -> 18000
C25: 엘보우 | D25: D=200mm | E25: 1 | F25: EA | G25: =I25+K25+M25 -> 67700 | H25: =J25+L25+N25 -> 67700 | J25: =TRUNC(E25*I25, 0) -> 0 | K25: 67700 | L25: =TRUNC(E25*K25, 0) -> 67700 | N25: =TRUNC(E25*M25, 0) -> 0
C26: 소켓 | D26: D=50mm | E26: 1 | F26: EA | G26: =I26+K26+M26 -> 20000 | H26: =J26+L26+N26 -> 20000 | J26: =TRUNC(E26*I26, 0) -> 0 | K26: 20000 | L26: =TRUNC(E26*K26, 0) -> 20000 | N26: =TRUNC(E26*M26, 0) -> 0
C27: 밸브 | D27: D=50mm | E27: 1 | F27: EA | G27: =I27+K27+M27 -> 30000 | H27: =J27+L27+N27 -> 30000 | J27: =TRUNC(E27*I27, 0) -> 0 | K27: 30000 | L27: =TRUNC(E27*K27, 0) -> 30000 | N27: =TRUNC(E27*M27, 0) -> 0
C28: PE밴드 | D28: D=200mm | E28: 3 | F28: EA | G28: =I28+K28+M28 -> 21000 | H28: =J28+L28+N28 -> 63000 | J28: =TRUNC(E28*I28, 0) -> 0 | K28: 21000 | L28: =TRUNC(E28*K28, 0) -> 63000 | N28: =TRUNC(E28*M28, 0) -> 0
C29: 천공 | D29: D=75mm | E29: 1 | F29: EA | G29: =I29+K29+M29 -> 36604 | H29: =J29+L29+N29 -> 36604 | I29: 34861 | J29: =TRUNC(E29*I29, 0) -> 34861 | K29: 1743 | L29: =TRUNC(E29*K29, 0) -> 1743 | N29: =TRUNC(E29*M29, 0) -> 0
B31: 4 | C31: 방수공 | H31: =J31+L31+N31 -> 2130000 | J31: =J32+J33 -> 1250000 | L31: =L32+L33 -> 780000 | N31: =N32+N33 -> 100000
C32: 레미탈 | D32: 방수액 | E32: 85 | F32: 포 | G32: =I32+K32+M32 -> 18000 | H32: =J32+L32+N32 -> 1530000 | I32: 10000 | J32: =TRUNC(E32*I32, 0) -> 850000 | K32: 8000 | L32: =TRUNC(E32*K32, 0) -> 680000 | N32: =TRUNC(E32*M32, 0) -> 0
C33: 크랙보수 | E33: 1 | F33: 식 | G33: =I33+K33+M33 -> 600000 | H33: =J33+L33+N33 -> 600000 | I33: 400000 | J33: =TRUNC(E33*I33, 0) -> 400000 | K33: 100000 | L33: =TRUNC(E33*K33, 0) -> 100000 | M33: 100000 | N33: =TRUNC(E33*M33, 0) -> 100000
B35: ○ | C35: 연산면 백석리 319-1 | H35: =J35+L35+N35 -> 1355575 | J35: =J36 -> 598175 | L35: =L36 -> 325125 | N35: =N36 -> 432275
B36: 1 | C36: 토공 | H36: =J36+L36+N36 -> 1355575 | J36: =J37+J38 -> 598175 | L36: =L37+L38 -> 325125 | N36: =N37+N38 -> 432275
C37: 마대쌓기 | E37: 25 | F37: EA | G37: =I37+K37+M37 -> 42223 | H37: =J37+L37+N37 -> 1055575 | I37: 23927 | J37: =TRUNC(E37*I37, 0) -> 598175 | K37: 13005 | L37: =TRUNC(E37*K37, 0) -> 325125 | M37: 5291 | N37: =TRUNC(E37*M37, 0) -> 132275
C38: 성토 | E38: 1 | F38: 식 | G38: =I38+K38+M38 -> 300000 | H38: =J38+L38+N38 -> 300000 | J38: =TRUNC(E38*I38, 0) -> 0 | L38: =TRUNC(E38*K38, 0) -> 0 | M38: 300000 | N38: =TRUNC(E38*M38, 0) -> 300000
B40: ○ | C40: 노성면 병사리 415-1 | H40: =J40+L40+N40 -> 1288892 | J40: =J41+J46+J50 -> 715708 | L40: =L41+L46+L50 -> 162020 | N40: =N41+N46+N50 -> 411164
B41: 1 | C41: 토공 | H41: =J41+L41+N1 -> 347728 | J41: =J42+J43+J44 -> 295708 | L41: =L42+L43+L44 -> 52020 | N41: =N42+N43+N44 -> 321164
C42: 마대쌓기 | E42: 4 | F42: EA | G42: =I42+K42+M42 -> 42223 | H42: =J42+L42+N42 -> 168892 | I42: 23927 | J42: =TRUNC(E42*I42, 0) -> 95708 | K42: 13005 | L42: =TRUNC(E42*K42, 0) -> 52020 | M42: 5291 | N42: =TRUNC(E42*M42, 0) -> 21164
C43: 성토 | E43: 1 | F43: 식 | G43: =I43+K43+M43 -> 300000 | H43: =J43+L43+N43 -> 300000 | J43: =TRUNC(E43*I43, 0) -> 0 | L43: =TRUNC(E43*K43, 0) -> 0 | M43: 300000 | N43: =TRUNC(E43*M43, 0) -> 300000
C44: 가드레일 철거,설치 | E44: 1 | F44: =F42 -> EA | G44: =I44+K44+M44 -> 200000 | H44: =J44+L44+N44 -> 200000 | I44: 200000 | J44: =TRUNC(E44*I44, 0) -> 200000 | L44: =TRUNC(E44*K44, 0) -> 0 | N44: =TRUNC(E44*M44, 0) -> 0
B46: 2 | C46: 구조물공 | H46: =J46+L46+N46 -> 550000 | J46: =J47+J48 -> 400000 | L46: =L47+L48 -> 70000 | N46: =N47+N48 -> 80000
C47: 컷팅 및 깨기 | E47: 1 | F47: 식 | G47: =I47+K47+M47 -> 300000 | H47: =J47+L47+N47 -> 300000 | I47: 200000 | J47: =TRUNC(E47*I47, 0) -> 200000 | K47: 20000 | L47: =TRUNC(E47*K47, 0) -> 20000 | M47: 80000 | N47: =TRUNC(E47*M47, 0) -> 80000
...

Sheet 일위대가목록
B1: 일 위 대 가 목 록
B2: [ 농어촌공사 일위대가 ]
A3: 코 드 | B3: 품 명 | C3: 규 격 | D3: 단위 | E3: 재 료 비 | F3: 노 무 비 | G3: 경 비 | H3: 합 계 | I3: 번 호 | J3: 비 고 | K3: 노임계수 | L3: 할증 | M3: 품셈개요 | N3: 장비일위
A4: 509C0145FE5A9E598C6C97C83A6AB66D15DEF0AA | B4: 굴착기(무한궤도) | C4: 0.2㎥ | D4: HR | E4: =일위대가!F9 -> 8915 | F4: =일위대가!H9 -> 59020 | G4: =일위대가!J9 -> 13873 | H4: =E4+F4+G4 -> 81808 | I4: 호표 1 | K4: A | N4: T
A5: 509C0145FE5A9E598C6C97C83A6E119E33BA46E8 | B5: 굴착기(무한궤도) | C5: 0.6㎥ | D5: HR | E5: =일위대가!F16 -> 18337 | F5: =일위대가!H16 -> 59020 | G5: =일위대가!J16 -> 23423 | H5: =E5+F5+G5 -> 100780 | I5: 호표 2 | K5: A | N5: T
A6: 509C0145FE5A9E598C6C97C83B0F73EA1B3D4D56 | B6: 굴착기(무한궤도) | C6: 1.0㎥ | D6: HR | E6: =일위대가!F23 -> 35057 | F6: =일위대가!H23 -> 59020 | G6: =일위대가!J23 -> 29621 | H6: =E6+F6+G6 -> 123698 | I6: 호표 3 | K6: A | N6: T
A7: 509C0145FE5A9F6928C7BEC33843BB29FD7ECEDA | B7: 진동롤러(핸드가이드식) | C7: 0.7ton | D7: HR | E7: =일위대가!F30 -> 3663 | F7: =일위대가!H30 -> 36248 | G7: =일위대가!J30 -> 1967 | H7: =E7+F7+G7 -> 41878 | I7: 호표 4 | K7: A | N7: T
A8: 509C0145FE5A99D9A6733091393636CA93E6A7F9 | B8: 물탱크(살수차) | C8: 5500L | D8: HR | E8: =일위대가!F37 -> 17816 | F8: =일위대가!H37 -> 49778 | G8: =일위대가!J37 -> 9986 | H8: =E8+F8+G8 -> 77580 | I8: 호표 5 | K8: A | N8: T
A9: 57A8B14C55543F69F2177A7B3AC0F8 | B9: 톤 마대 만들기 (개) | C9: 100*100cm | D9: 개 | E9: =일위대가!F43 -> 10457 | F9: =일위대가!H43 -> 14447 | G9: =일위대가!J43 -> 3138 | H9: =E9+F9+G9 -> 28042 | I9: 호표 6
A10: 57A8B14C55543F69F2177A4E366092 | B10: 톤 마대 쌓기(1m3/개) | C10: 100*100cm | D10: 개 | E10: =일위대가!F49 -> 2548 | F10: =일위대가!H49 -> 9480 | G10: =일위대가!J49 -> 2153 | H10: =E10+F10+G10 -> 14181 | I10: 호표 7
A11: 57A8B14C0D565A5954F3D28D36D8CB | B11: 케미컬앵커 | C11: 천공:￠18, 삽입L:130mm | D11: EA | E11: =일위대가!F56 -> 2310 | F11: =일위대가!H56 -> 19304 | G11: =일위대가!J56 -> 579 | H11: =E11+F11+G11 -> 22193 | I11: 호표 8
A12: 57A8E1470251BC09058497BB37A1DC | B12: 성토 | C12: 소형장비 | D12: M3 | E12: =일위대가!F65 -> 1322 | F12: =일위대가!H65 -> 8228 | G12: =일위대가!J65 -> 1281 | H12: =E12+F12+G12 -> 10831 | I12: 호표 9
A13: 57A8D1417252E139E3D2CDB13B3CB9 | B13: P.E.관 분기관 천공 및 접합 | C13: ∮75mm | D13: 개소 | E13: =일위대가!F71 -> 0 | F13: =일위대가!H71 -> 34861 | G13: =일위대가!J71 -> 1743 | H13: =E13+F13+G13 -> 36604 | I13: 호표 10

Sheet 일위대가
A1: [ 농어촌공사 일위대가 ]
A2: 품 명 | B2: 규 격 | C2: 단위 | D2: 수량 | E2: 재 료 비 | G2: 노 무 비 | I2: 경 비 | K2: 합 계 | M2: 비 고 | N2: 일위대가 | O2: 품목코드 | P2: 일위 | Q2: 단산 | R2: 자재 | S2: 손료적용 | T2: 손료저장 | U2: 적용율 | V2: JUK1 | W2: JUK2 | X2: JUK3 | Y2: JUK4 | Z2: JUK5 | AA2: JUK6 | AB2: JUK7 | AC2: JUK8 | AD2: JUK9 | AE2: JUK10 | AF2: JUK11 | AG2: JUK12 | AH2: JUK13 | AI2: JUK14 | AJ2: JUK15 | AK2: JUK16 | AL2: JUK17 | AM2: JUK18 | AN2: JUK19 | AO2: JUK20 | AP2: 할증적용 | AQ2: 할증저장 | AR2: 할증율 | AS2: HAL1 | AT2: HAL2 | AU2: HAL3 | AV2: 자재구분 | AW2: 일위대가+자재 | AX2: 장비일위 | AY2: 설정 | AZ2: 할증체크
E3: 단 가 | F3: 금 액 | G3: 단 가 | H3: 금 액 | I3: 단 가 | J3: 금 액 | K3: 단 가 | L3: 금 액
A4: 굴착기(무한궤도) 0.2㎥ HR ( 호표 1 ) | N4: 509C0145FE5A9E598C6C97C83A6AB66D15DEF0AA
A5: 굴착기(무한궤도) | B5: 0.2㎥ | C5: 대 | D5: 0.2085 | E5: =단가대비표!O5 -> 0 | F5: =TRUNC(E5*D5,1) -> 0 | G5: =단가대비표!P5 -> 0 | H5: =TRUNC(G5*D5,1) -> 0 | I5: =단가대비표!V5 -> 66538 | J5: =TRUNC(I5*D5,1) -> 13873.1 | K5: =TRUNC(E5+G5+I5,1) -> 66538 | L5: =TRUNC(F5+H5+J5,1) -> 13873.1 | M5: 천원 | N5: 509C0145FE5A9E598C6C97C83A6AB66D15DEF0AA | O5: 509C0145FE5A9E598C6C97C83A6AB66D15DEF0 | P5: F | Q5: F | R5: T | AW5: 509C0145FE5A9E598C6C97C83A6AB66D15DEF0AA509C0145FE5A9E598C6C97C83A6AB66D15DEF0
A6: 경유 | B6: 경유, 저유황 | C6: L | D6: 5 | E6: =단가대비표!O11 -> 1473.63 | F6: =TRUNC(E6*D6,1) -> 7368.1 | G6: =단가대비표!P11 -> 0 | H6: =TRUNC(G6*D6,1) -> 0 | I6: =단가대비표!V11 -> 0 | J6: =TRUNC(I6*D6,1) -> 0 | K6: =TRUNC(E6+G6+I6,1) -> 1473.6 | L6: =TRUNC(F6+H6+J6,1) -> 7368.1 | N6: 509C0145FE5A9E598C6C97C83A6AB66D15DEF0AA | O6: 5083C1483C5F8D8939105258327A835E0C0794 | P6: F | Q6: F | R6: T | V6: 1 | AW6: 509C0145FE5A9E598C6C97C83A6AB66D15DEF0AA5083C1483C5F8D8939105258327A835E0C0794
A7: 잡재료 | B7: 주연료비의 21% | C7: 식 | D7: 1 | E7: =TRUNC(SUMIF(V5:V8, RIGHTB(O7, 1), F5:F8)*U7, 2) -> 1547.3 | F7: =TRUNC(E7*D7,1) -> 1547.3 | G7: 0 | H7: =TRUNC(G7*D7,1) -> 0 | I7: 0 | J7: =TRUNC(I7*D7,1) -> 0 | K7: =TRUNC(E7+G7+I7,1) -> 1547.3 | L7: =TRUNC(F7+H7+J7,1) -> 1547.3 | N7: 509C0145FE5A9E598C6C97C83A6AB66D15DEF0AA | O7: 5692714243553C49FD20DF2F3695001 | P7: F | Q7: F | R7: F | S7: 0 | T7: 0 | U7: 0.21 | AW7: 509C0145FE5A9E598C6C97C83A6AB66D15DEF0AA5692714243553C49FD20DF2F3695001
A8: 건설기계운전사 | B8: 일반공사 직종 | C8: 인 | D8: 1 | E8: =TRUNC(단가대비표!O18*1/8*16/12*25/20, 1) -> 0 | F8: =TRUNC(E8*D8,1) -> 0 | G8: =TRUNC(단가대비표!P18*1/8*16/12*25/20, 1) -> 59020.2 | H8: =TRUNC(G8*D8,1) -> 59020.2 | I8: =TRUNC(단가대비표!V18*1/8*16/12*25/20, 1) -> 0 | J8: =TRUNC(I8*D8,1) -> 0 | K8: =TRUNC(E8+G8+I8,1) -> 59020.2 | L8: =TRUNC(F8+H8+J8,1) -> 59020.2 | N8: 509C0145FE5A9E598C6C97C83A6AB66D15DEF0AA | O8: 5757814A7E57A819D5A8647831B5501C9C048E | P8: F | Q8: F | R8: T | AW8: 509C0145FE5A9E598C6C97C83A6AB66D15DEF0AA5757814A7E57A819D5A8647831B5501C9C048E | AX8: T
A9: [ 합 계 ] | F9: =TRUNC(SUMIF(N5:N8, N4, F5:F8),0) -> 8915 | H9: =TRUNC(SUMIF(N5:N8, N4, H5:H8),0) -> 59020 | J9: =TRUNC(SUMIF(N5:N8, N4, J5:J8),0) -> 13873 | L9: =F9+H9+J9 -> 81808 | N9: TOTAL | O9: TOTAL
A11: 굴착기(무한궤도) 0.6㎥ HR ( 호표 2 ) | N11: 509C0145FE5A9E598C6C97C83A6E119E33BA46E8
A12: 굴착기(무한궤도) | B12: 0.6㎥ | C12: 대 | D12: 0.2085 | E12: =단가대비표!O6 -> 0 | F12: =TRUNC(E12*D12,1) -> 0 | G12: =단가대비표!P6 -> 0 | H12: =TRUNC(G12*D12,1) -> 0 | I12: =단가대비표!V6 -> 112342 | J12: =TRUNC(I12*D12,1) -> 23423.3 | K12: =TRUNC(E12+G12+I12,1) -> 112342 | L12: =TRUNC(F12+H12+J12,1) -> 23423.3 | M12: 천원 | N12: 509C0145FE5A9E598C6C97C83A6E119E33BA46E8 | O12: 509C0145FE5A9E598C6C97C83A6E119E33BA46 | P12: F | Q12: F | R12: T | AW12: 509C0145FE5A9E598C6C97C83A6E119E33BA46E8509C0145FE5A9E598C6C97C83A6E119E33BA46
A13: 경유 | B13: 경유, 저유황 | C13: L | D13: 10.2 | E13: =단가대비표!O11 -> 1473.63 | F13: =TRUNC(E13*D13,1) -> 15031 | G13: =단가대비표!P11 -> 0 | H13: =TRUNC(G13*D13,1) -> 0 | I13: =단가대비표!V11 -> 0 | J13: =TRUNC(I13*D13,1) -> 0 | K13: =TRUNC(E13+G13+I13,1) -> 1473.6 | L13: =TRUNC(F13+H13+J13,1) -> 15031 | N13: 509C0145FE5A9E598C6C97C83A6E119E33BA46E8 | O13: 5083C1483C5F8D8939105258327A835E0C0794 | P13: F | Q13: F | R13: T | V13: 1 | AW13: 509C0145FE5A9E598C6C97C83A6E119E33BA46E85083C1483C5F8D8939105258327A835E0C0794
A14: 잡재료 | B14: 주연료비의 22% | C14: 식 | D14: 1 | E14: =TRUNC(SUMIF(V12:V15, RIGHTB(O14, 1), F12:F15)*U14, 2) -> 3306.82 | F14: =TRUNC(E14*D14,1) -> 3306.8 | G14: 0 | H14: =TRUNC(G14*D14,1) -> 0 | I14: 0 | J14: =TRUNC(I14*D14,1) -> 0 | K14: =TRUNC(E14+G14+I14,1) -> 3306.8 | L14: =TRUNC(F14+H14+J14,1) -> 3306.8 | N14: 509C0145FE5A9E598C6C97C83A6E119E33BA46E8 | O14: 5692714243553C49FD20DF2F3695001 | P14: F | Q14: F | R14: F | S14: 0 | T14: 0 | U14: 0.22 | AW14: 509C0145FE5A9E598C6C97C83A6E119E33BA46E85692714243553C49FD20DF2F3695001
A15: 건설기계운전사 | B15: 일반공사 직종 | C15: 인 | D15: 1 | E15: =TRUNC(단가대비표!O18*1/8*16/12*25/20, 1) -> 0 | F15: =TRUNC(E15*D15,1) -> 0 | G15: =TRUNC(단가대비표!P18*1/8*16/12*25/20, 1) -> 59020.2 | H15: =TRUNC(G15*D15,1) -> 59020.2 | I15: =TRUNC(단가대비표!V18*1/8*16/12*25/20, 1) -> 0 | J15: =TRUNC(I15*D15,1) -> 0 | K15: =TRUNC(E15+G15+I15,1) -> 59020.2 | L15: =TRUNC(F15+H15+J15,1) -> 59020.2 | N15: 509C0145FE5A9E598C6C97C83A6E119E33BA46E8 | O15: 5757814A7E57A819D5A8647831B5501C9C048E | P15: F | Q15: F | R15: T | AW15: 509C0145FE5A9E598C6C97C83A6E119E33BA46E85757814A7E57A819D5A8647831B5501C9C048E | AX15: T
A16: [ 합 계 ] | F16: =TRUNC(SUMIF(N12:N15, N11, F12:F15),0) -> 18337 | H16: =TRUNC(SUMIF(N12:N15, N11, H12:H15),0) -> 59020 | J16: =TRUNC(SUMIF(N12:N15, N11, J12:J15),0) -> 23423 | L16: =F16+H16+J16 -> 100780 | N16: TOTAL | O16: TOTAL
A18: 굴착기(무한궤도) 1.0㎥ HR ( 호표 3 ) | N18: 509C0145FE5A9E598C6C97C83B0F73EA1B3D4D56
A19: 굴착기(무한궤도) | B19: 1.0㎥ | C19: 대 | D19: 0.2085 | E19: =단가대비표!O7 -> 0 | F19: =TRUNC(E19*D19,1) -> 0 | G19: =단가대비표!P7 -> 0 | H19: =TRUNC(G19*D19,1) -> 0 | I19: =단가대비표!V7 -> 142069 | J19: =TRUNC(I19*D19,1) -> 29621.3 | K19: =TRUNC(E19+G19+I19,1) -> 142069 | L19: =TRUNC(F19+H19+J19,1) -> 29621.3 | M19: 천원 | N19: 509C0145FE5A9E598C6C97C83B0F73EA1B3D4D56 | O19: 509C0145FE5A9E598C6C97C83B0F73EA1B3D4D | P19: F | Q19: F | R19: T | AW19: 509C0145FE5A9E598C6C97C83B0F73EA1B3D4D56509C0145FE5A9E598C6C97C83B0F73EA1B3D4D
A20: 경유 | B20: 경유, 저유황 | C20: L | D20: 19.5 | E20: =단가대비표!O11 -> 1473.63 | F20: =TRUNC(E20*D20,1) -> 28735.7 | G20: =단가대비표!P11 -> 0 | H20: =TRUNC(G20*D20,1) -> 0 | I20: =단가대비표!V11 -> 0 | J20: =TRUNC(I20*D20,1) -> 0 | K20: =TRUNC(E20+G20+I20,1) -> 1473.6 | L20: =TRUNC(F20+H20+J20,1) -> 28735.7 | N20: 509C0145FE5A9E598C6C97C83B0F73EA1B3D4D56 | O20: 5083C1483C5F8D8939105258327A835E0C0794 | P20: F | Q20: F | R20: T | V20: 1 | AW20: 509C0145FE5A9E598C6C97C83B0F73EA1B3D4D565083C1483C5F8D8939105258327A835E0C0794
A21: 잡재료 | B21: 주연료비의 22% | C21: 식 | D21: 1 | E21: =TRUNC(SUMIF(V19:V22, RIGHTB(O21, 1), F19:F22)*U21, 2) -> 6321.85 | F21: =TRUNC(E21*D21,1) -> 6321.8 | G21: 0 | H21: =TRUNC(G21*D21,1) -> 0 | I21: 0 | J21: =TRUNC(I21*D21,1) -> 0 | K21: =TRUNC(E21+G21+I21,1) -> 6321.8 | L21: =TRUNC(F21+H21+J21,1) -> 6321.8 | N21: 509C0145FE5A9E598C6C97C83B0F73EA1B3D4D56 | O21: 5692714243553C49FD20DF2F3695001 | P21: F | Q21: F | R21: F | S21: 0 | T21: 0 | U21: 0.22 | AW21: 509C0145FE5A9E598C6C97C83B0F73EA1B3D4D565692714243553C49FD20DF2F3695001
A22: 건설기계운전사 | B22: 일반공사 직종 | C22: 인 | D22: 1 | E22: =TRUNC(단가대비표!O18*1/8*16/12*25/20, 1) -> 0 | F22: =TRUNC(E22*D22,1) -> 0 | G22: =TRUNC(단가대비표!P18*1/8*16/12*25/20, 1) -> 59020.2 | H22: =TRUNC(G22*D22,1) -> 59020.2 | I22: =TRUNC(단가대비표!V18*1/8*16/12*25/20, 1) -> 0 | J22: =TRUNC(I22*D22,1) -> 0 | K22: =TRUNC(E22+G22+I22,1) -> 59020.2 | L22: =TRUNC(F22+H22+J22,1) -> 59020.2 | N22: 509C0145FE5A9E598C6C97C83B0F73EA1B3D4D56 | O22: 5757814A7E57A819D5A8647831B5501C9C048E | P22: F | Q22: F | R22: T | AW22: 509C0145FE5A9E598C6C97C83B0F73EA1B3D4D565757814A7E57A819D5A8647831B5501C9C048E | AX22: T
A23: [ 합 계 ] | F23: =TRUNC(SUMIF(N19:N22, N18, F19:F22),0) -> 35057 | H23: =TRUNC(SUMIF(N19:N22, N18, H19:H22),0) -> 59020 | J23: =TRUNC(SUMIF(N19:N22, N18, J19:J22),0) -> 29621 | L23: =F23+H23+J23 -> 123698 | N23: TOTAL | O23: TOTAL
A25: 진동롤러(핸드가이드식) 0.7ton HR ( 호표 4 ) | N25: 509C0145FE5A9F6928C7BEC33843BB29FD7ECEDA
A26: 진동롤러(핸드가이드식) | B26: 0.7ton | C26: 대 | D26: 0.2825 | E26: =단가대비표!O8 -> 0 | F26: =TRUNC(E26*D26,1) -> 0 | G26: =단가대비표!P8 -> 0 | H26: =TRUNC(G26*D26,1) -> 0 | I26: =단가대비표!V8 -> 6966 | J26: =TRUNC(I26*D26,1) -> 1967.8 | K26: =TRUNC(E26+G26+I26,1) -> 6966 | L26: =TRUNC(F26+H26+J26,1) -> 1967.8 | M26: 천원 | N26: 509C0145FE5A9F6928C7BEC33843BB29FD7ECEDA | O26: 509C0145FE5A9F6928C7BEC33843BB29FD7ECE | P26: F | Q26: F | R26: T | AW26: 509C0145FE5A9F6928C7BEC33843BB29FD7ECEDA509C0145FE5A9F6928C7BEC33843BB29FD7ECE
A27: 경유 | B27: 경유, 저유황 | C27: L | D27: 2.2 | E27: =단가대비표!O11 -> 1473.63 | F27: =TRUNC(E27*D27,1) -> 3241.9 | G27: =단가대비표!P11 -> 0 | H27: =TRUNC(G27*D27,1) -> 0 | I27: =단가대비표!V11 -> 0 | J27: =TRUNC(I27*D27,1) -> 0 | K27: =TRUNC(E27+G27+I27,1) -> 1473.6 | L27: =TRUNC(F27+H27+J27,1) -> 3241.9 | N27: 509C0145FE5A9F6928C7BEC33843BB29FD7ECEDA | O27: 5083C1483C5F8D8939105258327A835E0C0794 | P27: F | Q27: F | R27: T | V27: 1 | AW27: 509C0145FE5A9F6928C7BEC33843BB29FD7ECEDA5083C1483C5F8D8939105258327A835E0C0794
A28: 잡재료 | B28: 주연료비의 13% | C28: 식 | D28: 1 | E28: =TRUNC(SUMIF(V26:V29, RIGHTB(O28, 1), F26:F29)*U28, 2) -> 421.44 | F28: =TRUNC(E28*D28,1) -> 421.4 | G28: 0 | H28: =TRUNC(G28*D28,1) -> 0 | I28: 0 | J28: =TRUNC(I28*D28,1) -> 0 | K28: =TRUNC(E28+G28+I28,1) -> 421.4 | L28: =TRUNC(F28+H28+J28,1) -> 421.4 | N28: 509C0145FE5A9F6928C7BEC33843BB29FD7ECEDA | O28: 5692714243553C49FD20DF2F3695001 | P28: F | Q28: F | R28: F | S28: 0 | T28: 0 | U28: 0.13 | AW28: 509C0145FE5A9F6928C7BEC33843BB29FD7ECEDA5692714243553C49FD20DF2F3695001
A29: 일반기계운전사 | B29: 일반공사 직종 | C29: 인 | D29: 1 | E29: =TRUNC(단가대비표!O20*1/8*16/12*25/20, 1) -> 0 | F29: =TRUNC(E29*D29,1) -> 0 | G29: =TRUNC(단가대비표!P20*1/8*16/12*25/20, 1) -> 36248.9 | H29: =TRUNC(G29*D29,1) -> 36248.9 | I29: =TRUNC(단가대비표!V20*1/8*16/12*25/20, 1) -> 0 | J29: =TRUNC(I29*D29,1) -> 0 | K29: =TRUNC(E29+G29+I29,1) -> 36248.9 | L29: =TRUNC(F29+H29+J29,1) -> 36248.9 | N29: 509C0145FE5A9F6928C7BEC33843BB29FD7ECEDA | O29: 5757814A7E57A819D5A8647831B5501C9C05AD | P29: F | Q29: F | R29: T | AW29: 509C0145FE5A9F6928C7BEC33843BB29FD7ECEDA5757814A7E57A819D5A8647831B5501C9C05AD | AX29: T
A30: [ 합 계 ] | F30: =TRUNC(SUMIF(N26:N29, N25, F26:F29),0) -> 3663 | H30: =TRUNC(SUMIF(N26:N29, N25, H26:H29),0) -> 36248 | J30: =TRUNC(SUMIF(N26:N29, N25, J26:J29),0) -> 1967 | L30: =F30+H30+J30 -> 41878 | N30: TOTAL | O30: TOTAL
A32: 물탱크(살수차) 5500L HR ( 호표 5 ) | N32: 509C0145FE5A99D9A6733091393636CA93E6A7F9
A33: 물탱크(살수차) | B33: 5500L | C33: 대 | D33: 0.2113 | E33: =단가대비표!O9 -> 0 | F33: =TRUNC(E33*D33,1) -> 0 | G33: =단가대비표!P9 -> 0 | H33: =TRUNC(G33*D33,1) -> 0 | I33: =단가대비표!V9 -> 47263 | J33: =TRUNC(I33*D33,1) -> 9986.6 | K33: =TRUNC(E33+G33+I33,1) -> 47263 | L33: =TRUNC(F33+H33+J33,1) -> 9986.6 | M33: 천원 | N33: 509C0145FE5A99D9A6733091393636CA93E6A7F9 | O33: 509C0145FE5A99D9A6733091393636CA93E6A7 | P33: F | Q33: F | R33: T | AW33: 509C0145FE5A99D9A6733091393636CA93E6A7F9509C0145FE5A99D9A6733091393636CA93E6A7
A34: 경유 | B34: 경유, 저유황 | C34: L | D34: 9.3 | E34: =단가대비표!O11 -> 1473.63 | F34: =TRUNC(E34*D34,1) -> 13704.7 | G34: =단가대비표!P11 -> 0 | H34: =TRUNC(G34*D34,1) -> 0 | I34: =단가대비표!V11 -> 0 | J34: =TRUNC(I34*D34,1) -> 0 | K34: =TRUNC(E34+G34+I34,1) -> 1473.6 | L34: =TRUNC(F34+H34+J34,1) -> 13704.7 | N34: 509C0145FE5A99D9A6733091393636CA93E6A7F9 | O34: 5083C1483C5F8D8939105258327A835E0C0794 | P34: F | Q34: F | R34: T | V34: 1 | AW34: 509C0145FE5A99D9A6733091393636CA93E6A7F95083C1483C5F8D8939105258327A835E0C0794
A35: 잡재료 | B35: 주연료비의 30% | C35: 식 | D35: 1 | E35: =TRUNC(SUMIF(V33:V36, RIGHTB(O35, 1), F33:F36)*U35, 2) -> 4111.41 | F35: =TRUNC(E35*D35,1) -> 4111.4 | G35: 0 | H35: =TRUNC(G35*D35,1) -> 0 | I35: 0 | J35: =TRUNC(I35*D35,1) -> 0 | K35: =TRUNC(E35+G35+I35,1) -> 4111.4 | L35: =TRUNC(F35+H35+J35,1) -> 4111.4 | N35: 509C0145FE5A99D9A6733091393636CA93E6A7F9 | O35: 5692714243553C49FD20DF2F3695001 | P35: F | Q35: F | R35: F | S35: 0 | T35: 0 | U35: 0.3 | AW35: 509C0145FE5A99D9A6733091393636CA93E6A7F95692714243553C49FD20DF2F3695001
A36: 화물차운전사 | B36: 일반공사 직종 | C36: 인 | D36: 1 | E36: =TRUNC(단가대비표!O19*1/8*16/12*25/20, 1) -> 0 | F36: =TRUNC(E36*D36,1) -> 0 | G36: =TRUNC(단가대비표!P19*1/8*16/12*25/20, 1) -> 49778.3 | H36: =TRUNC(G36*D36,1) -> 49778.3 | I36: =TRUNC(단가대비표!V19*1/8*16/12*25/20, 1) -> 0 | J36: =TRUNC(I36*D36,1) -> 0 | K36: =TRUNC(E36+G36+I36,1) -> 49778.3 | L36: =TRUNC(F36+H36+J36,1) -> 49778.3 | N36: 509C0145FE5A99D9A6733091393636CA93E6A7F9 | O36: 5757814A7E57A819D5A8647831B5501C9C048F | P36: F | Q36: F | R36: T | AW36: 509C0145FE5A99D9A6733091393636CA93E6A7F95757814A7E57A819D5A8647831B5501C9C048F | AX36: T
A37: [ 합 계 ] | F37: =TRUNC(SUMIF(N33:N36, N32, F33:F36),0) -> 17816 | H37: =TRUNC(SUMIF(N33:N36, N32, H33:H36),0) -> 49778 | J37: =TRUNC(SUMIF(N33:N36, N32, J33:J36),0) -> 9986 | L37: =F37+H37+J37 -> 77580 | N37: TOTAL | O37: TOTAL
A39: 톤 마대 만들기 (개) 100*100cm 개 ( 호표 6 ) | N39: 57A8B14C55543F69F2177A7B3AC0F8
A40: 보통인부 | B40: 일반공사 직종 | C40: 인 | D40: 0.038 | E40: =단가대비표!O15 -> 0 | F40: =TRUNC(E40*D40,1) -> 0 | G40: =단가대비표!P15 -> 172068 | H40: =TRUNC(G40*D40,1) -> 6538.5 | I40: =단가대비표!V15 -> 0 | J40: =TRUNC(I40*D40,1) -> 0 | K40: =TRUNC(E40+G40+I40,1) -> 172068 | L40: =TRUNC(F40+H40+J40,1) -> 6538.5 | N40: 57A8B14C55543F69F2177A7B3AC0F8 | O40: 5757814A7E57A819D5A8647831B5501C9C0029 | P40: F | Q40: F | R40: T | AW40: 57A8B14C55543F69F2177A7B3AC0F85757814A7E57A819D5A8647831B5501C9C0029
A41: 톤마대 | B41: 1000kg | C41: 개 | D41: 1 | E41: =단가대비표!O14 -> 8000 | F41: =TRUNC(E41*D41,1) -> 8000 | G41: =단가대비표!P14 -> 0 | H41: =TRUNC(G41*D41,1) -> 0 | I41: =단가대비표!V14 -> 0 | J41: =TRUNC(I41*D41,1) -> 0 | K41: =TRUNC(E41+G41+I41,1) -> 8000 | L41: =TRUNC(F41+H41+J41,1) -> 8000 | M41: 노무비 65.9% | N41: 57A8B14C55543F69F2177A7B3AC0F8 | O41: 57A8B14C55543F69F21769DF365882 | P41: F | Q41: F | R41: T | AW41: 57A8B14C55543F69F2177A7B3AC0F857A8B14C55543F69F21769DF365882
A42: 굴삭기(무한궤도) | B42: 0.6㎥ | C42: HR | D42: 0.134 | E42: =일위대가목록!E5 -> 18337 | F42: =TRUNC(E42*D42,1) -> 2457.1 | G42: =일위대가목록!F5 -> 59020 | H42: =TRUNC(G42*D42,1) -> 7908.6 | I42: =일위대가목록!G5 -> 23423 | J42: =TRUNC(I42*D42,1) -> 3138.6 | K42: =TRUNC(E42+G42+I42,1) -> 100780 | L42: =TRUNC(F42+H42+J42,1) -> 13504.3 | N42: 57A8B14C55543F69F2177A7B3AC0F8 | O42: 509C0145FE5A9E598C6C97C83A6E119E33BA46E8 | P42: T | Q42: F | R42: F | AW42: 57A8B14C55543F69F2177A7B3AC0F8509C0145FE5A9E598C6C97C83A6E119E33BA46E8
A43: [ 합 계 ] | F43: =TRUNC(SUMIF(N40:N42, N39, F40:F42),0) -> 10457 | H43: =TRUNC(SUMIF(N40:N42, N39, H40:H42),0) -> 14447 | J43: =TRUNC(SUMIF(N40:N42, N39, J40:J42),0) -> 3138 | L43: =F43+H43+J43 -> 28042 | N43: TOTAL | O43: TOTAL
A45: 톤 마대 쌓기(1m3/개) 100*100cm 개 ( 호표 7 ) | N45: 57A8B14C55543F69F2177A4E366092
A46: 특별인부 | B46: 일반공사 직종 | C46: 인 | D46: 0.0091 | E46: =단가대비표!O16 -> 0 | F46: =TRUNC(E46*D46,1) -> 0 | G46: =단가대비표!P16 -> 226122 | H46: =TRUNC(G46*D46,1) -> 2057.7 | I46: =단가대비표!V16 -> 0 | J46: =TRUNC(I46*D46,1) -> 0 | K46: =TRUNC(E46+G46+I46,1) -> 226122 | L46: =TRUNC(F46+H46+J46,1) -> 2057.7 | N46: 57A8B14C55543F69F2177A4E366092 | O46: 5757814A7E57A819D5A8647831B5501C9C0028 | P46: F | Q46: F | R46: T | AW46: 57A8B14C55543F69F2177A4E3660925757814A7E57A819D5A8647831B5501C9C0028
...

Sheet 단가대비표
A1: 단 가 대 비 표
A2: [ 농어촌공사 일위대가 ]
A3: 코 드 | B3: 품 명 | C3: 규격 | D3: 단위 | E3: 재 료 비 | P3: 노 무 비 | Q3: 경 비 | W3: 번 호 | X3: 비 고 | Y3: 품목구분 | Z3: 노임구분 | AA3: 소수점처리 | AB3: 자재구분
E4: 조달청가격 | F4: PAGE | G4: 거래가격 | H4: PAGE | I4: 유통물가 | J4: PAGE | K4: 조사가격1 | L4: PAGE | M4: 조사가격2 | N4: PAGE | O4: 적용단가 | Q4: 조달청가격 | R4: 거래가격 | S4: 유통물가 | T4: 조사가격1 | U4: 조사가격2 | V4: 적용단가
A5: 509C0145FE5A9E598C6C97C83A6AB66D15DEF0 | B5: 굴착기(무한궤도) | C5: 0.2㎥ | D5: 대 | E5: 0 | G5: 0 | I5: 0 | K5: 0 | M5: 0 | O5: 0 | P5: 0 | Q5: 0 | R5: 0 | S5: 0 | T5: 0 | U5: 66538 | V5: =SMALL(Q5:U5,COUNTIF(Q5:U5,0)+1) -> 66538 | W5: 자재 1 | X5: 천원
A6: 509C0145FE5A9E598C6C97C83A6E119E33BA46 | B6: 굴착기(무한궤도) | C6: 0.6㎥ | D6: 대 | E6: 0 | G6: 0 | I6: 0 | K6: 0 | M6: 0 | O6: 0 | P6: 0 | Q6: 0 | R6: 0 | S6: 0 | T6: 0 | U6: 112342 | V6: =SMALL(Q6:U6,COUNTIF(Q6:U6,0)+1) -> 112342 | W6: 자재 2 | X6: 천원
A7: 509C0145FE5A9E598C6C97C83B0F73EA1B3D4D | B7: 굴착기(무한궤도) | C7: 1.0㎥ | D7: 대 | E7: 0 | G7: 0 | I7: 0 | K7: 0 | M7: 0 | O7: 0 | P7: 0 | Q7: 0 | R7: 0 | S7: 0 | T7: 0 | U7: 142069 | V7: =SMALL(Q7:U7,COUNTIF(Q7:U7,0)+1) -> 142069 | W7: 자재 3 | X7: 천원
A8: 509C0145FE5A9F6928C7BEC33843BB29FD7ECE | B8: 진동롤러(핸드가이드식) | C8: 0.7ton | D8: 대 | E8: 0 | G8: 0 | I8: 0 | K8: 0 | M8: 0 | O8: 0 | P8: 0 | Q8: 0 | R8: 0 | S8: 0 | T8: 0 | U8: 6966 | V8: =SMALL(Q8:U8,COUNTIF(Q8:U8,0)+1) -> 6966 | W8: 자재 4 | X8: 천원
A9: 509C0145FE5A99D9A6733091393636CA93E6A7 | B9: 물탱크(살수차) | C9: 5500L | D9: 대 | E9: 0 | G9: 0 | I9: 0 | K9: 0 | M9: 0 | O9: 0 | P9: 0 | Q9: 0 | R9: 0 | S9: 0 | T9: 0 | U9: 47263 | V9: =SMALL(Q9:U9,COUNTIF(Q9:U9,0)+1) -> 47263 | W9: 자재 5 | X9: 천원
A10: 508381426151F0C925AF1CC43356BE6E98D207 | B10: 케미컬앵커(내진주입식몰탈) | C10: HIT-HY 200R,330ml 믹서1EA | D10: ml | E10: 0 | G10: 110 | H10: 97 | I10: 0 | K10: 0 | M10: 0 | O10: =SMALL(E10:M10,COUNTIF(E10:M10,0)+1) -> 110 | P10: 0 | Q10: 0 | R10: 0 | S10: 0 | T10: 0 | U10: 0 | V10: 0 | W10: 자재 6 | X10: 대리점상차도
A11: 5083C1483C5F8D8939105258327A835E0C0794 | B11: 경유 | C11: 경유, 저유황 | D11: L | E11: 0 | G11: 1473.63 | H11: 1451 | I11: 1480.9 | J11: 1189 | K11: 0 | M11: 0 | O11: =SMALL(E11:M11,COUNTIF(E11:M11,0)+1) -> 1473.63 | P11: 0 | Q11: 0 | R11: 0 | S11: 0 | T11: 0 | U11: 0 | V11: 0 | W11: 자재 7
A12: 50DBB14C6C52D2798AF7D79138AF8DB48DBA1A | B12: PE 이중벽 이음관 엘보 | C12: ∮200mm*90도 | D12: EA | E12: 0 | G12: 67700 | H12: 813 | I12: 77900 | J12: 580 | K12: 0 | M12: 0 | O12: =SMALL(E12:M12,COUNTIF(E12:M12,0)+1) -> 67700 | P12: 0 | Q12: 0 | R12: 0 | S12: 0 | T12: 0 | U12: 0 | V12: 0 | W12: 자재 8 | X12: 공장상차도
A13: 50DBB14C6C52D2798AF7D79138AF8DB59032ED | B13: PE 이중벽 이음관(PE밴드) | C13: ∮200mm | D13: EA | E13: 0 | G13: 21000 | H13: 813 | I13: 24200 | J13: 580 | K13: 0 | M13: 0 | O13: =SMALL(E13:M13,COUNTIF(E13:M13,0)+1) -> 21000 | P13: 0 | Q13: 0 | R13: 0 | S13: 0 | T13: 0 | U13: 0 | V13: 0 | W13: 자재 9 | X13: 공장상차도
A14: 57A8B14C55543F69F21769DF365882 | B14: 톤마대 | C14: 1000kg | D14: 개 | E14: 0 | G14: 0 | I14: 8000 | J14: 765 | K14: 0 | M14: 0 | O14: =SMALL(E14:M14,COUNTIF(E14:M14,0)+1) -> 8000 | P14: 0 | Q14: 0 | R14: 0 | S14: 0 | T14: 0 | U14: 0 | V14: 0 | W14: 자재 10 | X14: 노무비 65.9% | Y14: 1
A15: 5757814A7E57A819D5A8647831B5501C9C0029 | B15: 보통인부 | C15: 일반공사 직종 | D15: 인 | E15: 0 | G15: 0 | I15: 0 | K15: 0 | M15: 0 | O15: 0 | P15: 172068 | Q15: 0 | R15: 0 | S15: 0 | T15: 0 | U15: 0 | V15: 0 | W15: 노임 1 | Y15: B
A16: 5757814A7E57A819D5A8647831B5501C9C0028 | B16: 특별인부 | C16: 일반공사 직종 | D16: 인 | E16: 0 | G16: 0 | I16: 0 | K16: 0 | M16: 0 | O16: 0 | P16: 226122 | Q16: 0 | R16: 0 | S16: 0 | T16: 0 | U16: 0 | V16: 0 | W16: 노임 2 | Y16: B
A17: 5757814A7E57A819D5A8647831B5501C9C0486 | B17: 배관공(수도) | C17: 일반공사 직종 | D17: 인 | E17: 0 | G17: 0 | I17: 0 | K17: 0 | M17: 0 | O17: 0 | P17: 262580 | Q17: 0 | R17: 0 | S17: 0 | T17: 0 | U17: 0 | V17: 0 | W17: 노임 3 | Y17: B
A18: 5757814A7E57A819D5A8647831B5501C9C048E | B18: 건설기계운전사 | C18: 일반공사 직종 | D18: 인 | E18: 0 | G18: 0 | I18: 0 | K18: 0 | M18: 0 | O18: 0 | P18: 283297 | Q18: 0 | R18: 0 | S18: 0 | T18: 0 | U18: 0 | V18: 0 | W18: 노임 4 | Y18: B
A19: 5757814A7E57A819D5A8647831B5501C9C048F | B19: 화물차운전사 | C19: 일반공사 직종 | D19: 인 | E19: 0 | G19: 0 | I19: 0 | K19: 0 | M19: 0 | O19: 0 | P19: 238936 | Q19: 0 | R19: 0 | S19: 0 | T19: 0 | U19: 0 | V19: 0 | W19: 노임 5 | Y19: B
A20: 5757814A7E57A819D5A8647831B5501C9C05AD | B20: 일반기계운전사 | C20: 일반공사 직종 | D20: 인 | E20: 0 | G20: 0 | I20: 0 | K20: 0 | M20: 0 | O20: 0 | P20: 173995 | Q20: 0 | R20: 0 | S20: 0 | T20: 0 | U20: 0 | V20: 0 | W20: 노임 6 | Y20: B

Sheet  공사설정 
A1: 이 Sheet는 수정하지 마십시요
A2: 공사구분 | B2: A | C2: 타이틀
A3: 확정내역 | B3: 원내역
A4: 자재단가적용 | B4: 5
A5: 경비단가적용 | B5: 5
A6: 품목코드형식 | B6: XXXX-XXXXXXXXXXXXX
A7: 내역금액소수점처리 | B7: C | C7: 1
A8: 일위대가내역소수점처리 | B8: C | C8: 2
A9: 단가명 | B9: 조달청가격 | C9: 거래가격 | D9: 유통물가 | E9: 조사가격1 | F9: 조사가격2 | G9: TTTTT
A10: 환율 | B10: 0 | C10: 0 | D10: 0
A11: 시간당작업량 | B11: R | C11: 4
A12: 1회 사이클시간 | B12: R | C12: 4
A13: 시간당 작업사이클 | B13: R | C13: 3
A14: 일반변수 | B14: C | C14: 5
A15: 시간당 노임산출 계수 | B15: A | C15: 1/8*16/12*25/20 | D15: 1/8*16/12*25/20 | E15: 1/8*16/12*25/20 | F15: 1
A16: 재료비 할증 계수 | B16: 0 | C16: 0
A17: 노무비 할증 계수 | B17: 0 | C17: 0 | D17: 0 | E17: 0 | F17: 0 | G17: 0 | H17: 0 | I17: 0 | J17: 0 | K17: 0 | L17: 0 | M17: 0
A18: 경비 할증 계수 | B18: 0 | C18: 0
A19: 내역,일위대가 품명,규격,단위 따로적용
A20: 내역단가 소수점처리 | C20: 1
A21: 코드 | B21: 공종구분명 | C21: 원가비목코드
A22: 1 | B22: 작 업 부 산 물 | C22: A3
A23: 2 | B23: 운 반 비 | C23: C1
A24: 3 | B24: 관 급 자 재 비 | C24: DJ
A25: 4 | B25: 사 급 자 재 비 | C25: D3
A26: 5 | B26: 외 자 재
A27: 6 | B27: 폐기물처리비
A28: 7 | B28: ...
A29: 8 | B29: ...
A30: 9 | B30: ...
A31: A | B31: ....
A32: B | B32: .....
A33: C | B33: ....
A34: D | B34: ....
A35: E | B35: ....
A36: F | B36: ....
A37: G | B37: ....
A38: H | B38: ....
A39: I | B39: ....
A40: J | B40: ....
...

Sheet Sheet1
