Workbook
Name ___DOG1: #REF!
Name ___DOG2: #REF!
Name ___DOG3: #REF!
Name ___DOG4: #REF!
Name ___PI48: #REF!
Name ___PI60: #REF!
Name ___RO110: #REF!
Name ___RO22: #REF!
Name ___RO35: #REF!
Name ___RO60: #REF!
Name ___RO80: #REF!
Name ___TON1: #REF!
Name ___TON2: #REF!
Name ___WW2: #REF!
Name ___WW6: #REF!
Name __DOG1: #REF!
Name __DOG2: #REF!
Name __DOG3: #REF!
Name __DOG4: #REF!
Name __PI48: #REF!
Name __PI60: #REF!
Name __RO110: #REF!
Name __RO22: #REF!
Name __RO35: #REF!
Name __RO60: #REF!
Name __RO80: #REF!
Name __TON1: #REF!
Name __TON2: #REF!
Name __WW2: #REF!
Name __WW6: #REF!
Name _12_3_0Criteria: #REF!
Name _12_3_0Criteria: #REF!
Name _18G_0Extr: #REF!
Name _18G_0Extr: #REF!
Name _24G_0Extract: #REF!
Name _24G_0Extract: #REF!
Name _6_3_0Crite: #REF!
Name _A: #REF!
Name _AA158221: #REF!
Name _aab42: #REF!
Name _CDT2: #REF!
Name _DOG1: #REF!
Name _DOG2: #REF!
Name _DOG3: #REF!
Name _DOG4: #REF!
Name _K: #N/A
Name _PI48: #REF!
Name _PI60: #REF!
Name _RO110: #REF!
Name _RO22: #REF!
Name _RO35: #REF!
Name _RO60: #REF!
Name _RO80: #REF!
Name _TON1: #REF!
Name _TON2: #REF!
Name _WW2: #REF!
Name _WW6: #REF!
Name _YO1: #N/A
Name ¤Ç315: #REF!
Name \a: #REF!

Sheet VXXXXX

Sheet 원가계산서 
A2: 공 사 원 가 계 산 서
A4: 사 업 명 : | D4: 추자정수장 해수담수화시설 노후 기계설비 개량공사
A5: 비 목 | E5: 구 분 | G5: 금 액 | H5: 구성비 | I5: 비 고
A6: 순 공 사 원 가 | C6: 재 료 비 | E6: 직접재료비
E7: 간접재료비
E8: 소계
C9: 노 무 비 | E9: 직접노무비
E10: 간접노무비
E11: 소계
C12: 경 비 | E12: 기계경비
E13: 운반비
E14: 가설사무실및가설창고
E15: 특허권사용료
E16: 산재보험료
E17: 고용보험료
E18: 건강보험료
E19: 연금보험료
E20: 노인장기요양보험료
E21: 퇴직공제부금비
E22: 산업안전보건관리비
E23: 환경보전비
E24: 건설기계대여금 지급보증액
... E29: 소계
C30: 순 공 사 비 계
B31: 일반관리비 (6.5%)
B32: 이윤 (15%)
B33: 총원가
B34: 폐기물처리비
B35: 작업설부산물
B36: 부가가치세
B37: 도급공사비계
B38: 관급자재대
B39: 총공사비

Sheet 공종별집계표
A1: CODE | B1: 명 칭 | D1: 규 격 | E1: 수량 | F1: 단위 | G1: 합 계 | I1: 재 료 비 | K1: 노 무 비 | M1: 경 비 | O1: 비 고
G2: 단 가 | H2: 금 액 | I2: 단 가 | J2: 금 액 | K2: 단 가 | L2: 금 액 | M2: 단 가 | N2: 금 액
B3: Ⅰ. 가파담수장 RO 1호기 고압배관 교체 | C3: 추자정수장 해수담수화시설 노후 기계설비 개량공사 | E3: 1 | F3: 식
A4: 도급 | B4: 1.1 | C4: 추자정수장 해수담수화설비 | E4: 1 | F4: 식
A5: 관급 | B5: 2 | C5: 관급자재 | E5: 1 | F5: 식

Sheet 도급집계
A1: CODE | B1: 명 칭 | D1: 규 격 | E1: 수량 | F1: 단위 | G1: 합 계 | I1: 재 료 비 | K1: 노 무 비 | M1: 경 비 | O1: 비 고
G2: 단 가 | H2: 금 액 | I2: 단 가 | J2: 금 액 | K2: 단 가 | L2: 금 액 | M2: 단 가 | N2: 금 액
A3: 도급 | B3: 1 | C3: 추자정수장 해수담수화설비 | E3: 1 | F3: 식
A5: 2M-100 | B5: 1.1 | C5: 추자정수장 해수담수화시설 노후 기계설비 개량공사 | E5: 1 | F5: 식
A6: 2. | C6: 1. 해수담수화 전처리설비 | E6: 1 | F6: 식
A7: 3. | C7: 2. RO 설비 | E7: 1 | F7: 식
A8: 4. | C8: 3. 고도정수 처리설비 | E8: 1 | F8: 식
A9: 5. | C9: 4. 약품설비 | E9: 1 | F9: 식
A10: 6. | C10: 5. 저지배수지 설비 | E10: 1 | F10: 식
A11: 9. | C11: 6. 폐기물 처리 | E11: 1 | F11: 식
A12: 10. | C12: 7. 작업설 부산물 | E12: 1 | F12: 식
A2469: 111111111111111111111111111111111111111111111111111111111111111111111111111111111111111111111111111111111111111111111111111111111111111111111111111111111111111111111111111111111111111111111111111111111111111111111111111111111111111111111111111111111111111111111111111111111111111111111111111111111111111111111111111111111111111111111111111111111111111111111111111111111111111111111111111111111111111111111111111111111111111111111111111111111111111111111111111111111111111111111111111111111111111111111111111111111111111111111111111111111111111111111111111111111111111111111111111111111111111111111111111111111111111111111111111111111111111111111111111111111111111111111111111111111111111111111111111111111111111111111111111111111111111111111111111111111111111111111111111111111111111111111111111111111111111111111111111111111111111111111111111111111111111111111111111111111111111111111111111111111111111111111111111111111111111111111111111111111111111111111111111111111111111111111111111111111111111111111111111111111111111111111111111111111111111111111111111111111111111111111111111111111111111111111111111111111111111111111111111111111111111111111111111111111111111

Sheet 도급내역서
A1: CODE | B1: 명 칭 | D1: 규 격 | E1: 수량 | F1: 단위 | G1: 합 계 | I1: 재 료 비 | K1: 노 무 비 | M1: 경 비 | O1: 비 고
G2: 단 가 | H2: 금 액 | I2: 단 가 | J2: 금 액 | K2: 단 가 | L2: 금 액 | M2: 단 가 | N2: 금 액
A3: 배관공사 | B3: 1 | C3: 추자정수장 해수담수화설비 | E3: 1 | F3: 식
A5: 2M-100 | B5: 1.1 | C5: 추자정수장 해수담수화시설 노후 기계설비 개량공사 | E5: 1 | F5: 식
A6: 2. | C6: 1. 해수담수화 전처리설비 | E6: 1 | F6: 식
A7: 3. | C7: 2. RO 설비 | E7: 1 | F7: 식
A8: 4. | C8: 3. 고도정수 처리설비 | E8: 1 | F8: 식
A9: 5. | C9: 4. 약품설비 | E9: 1 | F9: 식
A10: 6. | C10: 5. 저지배수지 설비 | E10: 1 | F10: 식
A11: 9. | C11: 6. 폐기물 처리 | E11: 1 | F11: 식
A12: 10. | C12: 7. 작업설 부산물 | E12: 1 | F12: 식
A27: 2M-100 | B27: 1.1 | C27: 추자정수장 해수담수화시설 노후 기계설비 개량공사 | E27: 1 | F27: 식
A28: 2. | C28: 1. 해수담수화 전처리설비 | E28: 1 | F28: 식
A29: 2-1 | C29: 원수펌프 | D29: 편흡입 볼류트펌프 - 170㎥/hr×25mH×30kW, 380V×60Hz×3PH, 임펠러:316 | E29: 2 | F29: 대
A30: 2-2 | C30: 디스크필터 | D30: DISC TYPE - 100㎛×170㎥/hr (예비계열 추가 설치) | E30: 1 | F30: 대
A31: 2-3 | C31: 분리막 여과장치(가압식 UF막) | D31: 외압형 분리막 여과장치 - 2,250㎥/일 | E31: 1 | F31: 대
A32: 2-4 | C32: 분리막 여과장치 A/B/C 공압식 밸브 | D32: 분리막 여과장치의 공압밸브 - 150A | E32: 32 | F32: 대
A33: 2-4-1 | C33: 분리막 여과장치 A/B/C 공압식 밸브 | D33: 분리막 여과장치의 공압밸브 - 100A | E33: 5 | F33: 대
A34: 2-4-2 | C34: 분리막 여과장치 A/B/C 공압식 밸브 | D34: 분리막 여과장치의 공압밸브 - 80A | E34: 2 | F34: 대
A35: 2-4-3 | C35: 분리막 여과장치 A/B/C 공압식 밸브 | D35: 분리막 여과장치의 공압밸브 - 65A | E35: 2 | F35: 대
A36: 2-4-4 | C36: 분리막 여과장치 A/B/C 공압식 밸브 | D36: 분리막 여과장치의 공압밸브 - 50A | E36: 9 | F36: 대
A37: 2-5 | C37: 분리막 여과장치 A/B/C 계측기 | D37: 여과장치에 설치된 계측기 - 압력트랜스미터, 압력게이지 | E37: 21 | F37: 대
A38: 2-5-1 | C38: 분리막 여과장치 A/B/C 계측기 | D38: 여과장치에 설치된 계측기 - 유량계(150A), 탁도계 | E38: 3 | F38: SET
A39: 2-6 | C39: CIP 탱크 | D39: 8㎥, PE(레벨스위치 포함) | E39: 1 | F39: 대
A40: 2-7 | C40: CIP 펌프 | D40: 입형다단펌프 - 77㎥/hr×30mH×7.5kW, 380V×60Hz×3PH, 임펠러:316 | E40: 2 | F40: 대
... A51: 위험물052 | C51: 도어클로저 | D51: 80~120kg, 방화용 | E51: 2 | F51: 개
A75: 3. | C75: 2. RO 설비 | E75: 1 | F75: 식
A76: 3-1 | C76: SWRO 설비 | D76: 500㎥/일 - 1000psi, 8“×36EA, 계측기 및 밸브 포함 | E76: 1 | F76: 대
A77: 3-6 | C77: 플러싱 펌프 | D77: 편흡입 볼류트펌프 - 51㎥/hr×30mH×7.5kW, 380V×60Hz×3PH, 임펠러:316 | E77: 1 | F77: 대
A78: 3-7 | C78: 공급 펌프 | D78: 편흡입 볼류트펌프 - 90㎥/hr×40mH×18.5kW, 380V×60Hz×3PH, 임펠러:316, (예비품 구매 포함) | E78: 3 | F78: 대
A79: 3-8 | C79: 전처리 필터 | D79: 고유량 카트리지필터 기존유입배관 교체 | E79: 3 | F79: 대
A80: 3-9 | C80: CIP 설비 | D80: SWRO A/B/C 약품세정 설비 - CIP 펌프, CIP필터, CIP 탱크, 약품주입설비 등 | E80: 1 | F80: 식
A81: 거푸집설치 | C81: 합판 거푸집 설치 | D81: 6회 사용 | E81: 2.8 | F81: M2
A82: 무근타설인력 | C82: 콘크리트 타설 | D82: 인력비빔(1:3:6) | E82: 2.1 | F82: M3
E98: 0
A99: 4. | C99: 3. 고도정수 처리설비 | E99: 1 | F99: 식
A100: 4-1 | C100: 여과수 순환펌프 | D100: 편흡입 볼류트펌프 - 40㎥/hr×30mH×7.5kW, 380V×60Hz×3PH, 임펠러:316L | E100: 2 | F100: 대
A101: 4-2 | C101: 자동역세 여과기 | D101: 웨지와이어타입 - 46㎥/hr, 316 | E101: 1 | F101: 대
A102: 4-3 | C102: 역세수 펌프 | D102: 편흡입 볼류트펌프 - 36㎥/hr×30mH×7.5kW, 380V×60Hz×3PH, 임펠러:316L | E102: 2 | F102: 대
A103: 4-4 | C103: 막여과장치(MF막,협회 인증제품) | D103: 외압식 막여과장치 - 500㎥/일 | E103: 2 | F103: 대
A104: 4-5 | C104: 막여과장치 공압식 밸브 | D104: 막여과장치 공압밸브 - 100A | E104: 3 | F104: 대
A105: 4-5-1 | C105: 막여과장치 공압식 밸브 | D105: 막여과장치 공압밸브 - 80A | E105: 18 | F105: 대
A106: 4-5-2 | C106: 막여과장치 공압식 밸브 | D106: 막여과장치 공압밸브 - 65A | E106: 4 | F106: 대
A107: 4-5-3 | C107: 막여과장치 공압식 밸브 | D107: 막여과장치 공압밸브 - 50A | E107: 4 | F107: 대
A108: 4-5-4 | C108: 막여과장치 공압식 밸브 | D108: 막여과장치 공압밸브 - 32A | E108: 6 | F108: 대
A109: 4-5-5 | C109: 막여과장치 공압식 밸브 | D109: 막여과장치 공압밸브 - 25A | E109: 4 | F109: 대
A110: 4-6 | C110: 막여과장치 계측기 | D110: 막여과장치에 설치된 계측기 - 압력트랜스미터, 압력게이지 | E110: 6 | F110: 대
A111: 4-6-1 | C111: 막여과장치 계측기 | D111: 막여과장치에 설치된 계측기 - 유량계, 탁도계 등 | E111: 2 | F111: SET
... A114: 4-11 | C114: BWRO 설비(BWRO막,협회 인증제품) | D114: 500㎥/일 반투막 교체 - 300psi, 8“×24EA | E114: 1 | F114: 대
E121: 0
A122: 5. | C122: 4. 약품설비 | E122: 1 | F122: 식
A123: 5-4 | C123: 황산 저장탱크 | D123: 2.0㎥, PE탱크(레벨스위치 포함) | E123: 1 | F123: 대
A124: 5-5 | C124: 황산 펌프 | D124: 다이어프램펌프 - 2,040mL/min×80mH×0.2kW, 220V×60Hz | E124: 4 | F124: 대
A125: 거푸집설치 | C125: 합판 거푸집 설치 | D125: 6회 사용 | E125: 1.6 | F125: M2
A126: 무근타설인력 | C126: 콘크리트 타설 | D126: 인력비빔(1:3:6) | E126: 0.4 | F126: M3
E145: 0
A146: 6. | C146: 5. 저지배수지 설비 | E146: 1 | F146: 식
A147: 6-1 | C147: 1단 송수펌프 | D147: 편흡입 볼류트펌프 - 62.5㎥/hr×30mH×15kW, 380V×60Hz×3PH, 임펠러:316 | E147: 1 | F147: 대
E150: 0
A170: 9. | C170: 6. 폐기물 처리 | E170: 1 | F170: 식
A171: 9-1 | C171: 폐기물 처리비 | D171: 폐합성수지 등 | E171: 17718 | F171: Kg
A194: 10. | C194: 7. 작업설 부산물 | E194: 1 | F194: 식
A195: 10-1 | C195: 고철 처리비 | D195: 강설등 | E195: 9865 | F195: Kg
A2663: 111111111111111111111111111111111111111111111111111111111111111111111111111111111111111111111111111111111111111111111111111111111111111111111111111111111111111111111111111111111111111111111111111111111111111111111111111111111111111111111111111111111111111111111111111111111111111111111111111111111111111111111111111111111111111111111111111111111111111111111111111111111111111111111111111111111111111111111111111111111111111111111111111111111111111111111111111111111111111111111111111111111111111111111111111111111111111111111111111111111111111111111111111111111111111111111111111111111111111111111111111111111111111111111111111111111111111111111111111111111111111111111111111111111111111111111111111111111111111111111111111111111111111111111111111111111111111111111111111111111111111111111111111111111111111111111111111111111111111111111111111111111111111111111111111111111111111111111111111111111111111111111111111111111111111111111111111111111111111111111111111111111111111111111111111111111111111111111111111111111111111111111111111111111111111111111111111111111111111111111111111111111111111111111111111111111111111111111111111111111111111111111111111111111111111

Sheet 관급자재
A1: CODE | B1: 명 칭 | D1: 규 격 | E1: 수량 | F1: 단위 | G1: 합 계 | I1: 재 료 비 | K1: 노 무 비 | M1: 경 비 | O1: 비 고
G2: 단 가 | H2: 금 액 | I2: 단 가 | J2: 금 액 | K2: 단 가 | L2: 금 액 | M2: 단 가 | N2: 금 액
A3: 관급 | B3: 1 | C3: 관급자재 | E3: 1 | F3: 식
A5: 2M-100 | B5: 1.1 | C5: 추자정수장 해수담수화시설 노후 기계설비 개량공사 | E5: 1 | F5: 식
A6: 2. | C6: 1. 해수담수화 전처리시설 | E6: 1 | F6: 식
A7: 4. | C7: 3. 고도정수 처리설비 | E7: 1 | F7: 식
C10: 부가세 | E10: 10 | F10: %
A27: 2M-100 | B27: 1.1 | C27: 추자정수장 해수담수화시설 노후 기계설비 개량공사 | E27: 1 | F27: 식
A28: 2. | C28: 1. 해수담수화 전처리시설 | E28: 1 | F28: 식
A29: 2-3 | C29: 분리막 여과장치(가압식 UF막) | D29: 외압형 분리막 여과장치 - 2,250㎥/일 | E29: 1 | F29: 대
E30: 0
A31: 4. | C31: 3. 고도정수 처리설비 | E31: 1 | F31: 식
A32: 4-4 | C32: 막여과장치(MF막,협회 인증제품) | D32: 외압식 막여과장치 - 500㎥/일 | E32: 2 | F32: 대
A33: 4-11 | C33: BWRO 설비(BWRO막,협회 인증제품) | D33: 500㎥/일 반투막 교체 - 300psi, 8“×24EA | E33: 1 | F33: 대
A2493: 111111111111111111111111111111111111111111111111111111111111111111111111111111111111111111111111111111111111111111111111111111111111111111111111111111111111111111111111111111111111111111111111111111111111111111111111111111111111111111111111111111111111111111111111111111111111111111111111111111111111111111111111111111111111111111111111111111111111111111111111111111111111111111111111111111111111111111111111111111111111111111111111111111111111111111111111111111111111111111111111111111111111111111111111111111111111111111111111111111111111111111111111111111111111111111111111111111111111111111111111111111111111111111111111111111111111111111111111111111111111111111111111111111111111111111111111111111111111111111111111111111111111111111111111111111111111111111111111111111111111111111111111111111111111111111111111111111111111111111111111111111111111111111111111111111111111111111111111111111111111111111111111111111111111111111111111111111111111111111111111111111111111111111111111111111111111111111111111111111111111111111111111111111111111111111111111111111111111111111111111111111111111111111111111111111111111111111111111111111111111111111111111111111111111111

Sheet (기계장비-출력하지않음)
A1: CODE | B1: 명 칭 | D1: 규 격 | E1: 단위 | F1: 적 용 단 가 | G1: 견 적 단 가 | Q1: 비 고 | S1: 수량
G2: A 사 | H2: 업체명 | I2: B 사 | J2: 업체명 | K2: C 사 | L2: 업체명 | M2: 단 가 | N2: 페이지 | O2: 단 가 | P2: 페이지
A3: 범용기자재 | B3: 1. | C3: 추자정수장 해수담수화시설 개량 및 증설사업
A4: 1.1 | C4: =#REF! -> #REF!
A5: 1-1 | B5: 1-1 | C5: =#REF! -> #REF! | D5: =#REF! -> #REF! | E5: =#REF! -> #REF! | F5: 0 | S5: =#REF! -> #REF!
A6: 1-2 | B6: 1-2 | C6: =#REF! -> #REF! | D6: =#REF! -> #REF! | E6: =#REF! -> #REF! | S6: =#REF! -> #REF!
A7: 1-3 | B7: 1-3 | C7: =#REF! -> #REF! | D7: =#REF! -> #REF! | E7: =#REF! -> #REF! | S7: =#REF! -> #REF!
A8: 1-4 | B8: 1-4 | C8: =#REF! -> #REF! | D8: =#REF! -> #REF! | E8: =#REF! -> #REF! | S8: =#REF! -> #REF!
A9: 1-5 | B9: 1-5 | C9: =#REF! -> #REF! | D9: =#REF! -> #REF! | E9: =#REF! -> #REF! | F9: 0 | S9: =#REF! -> #REF!
A10: 1-6 | B10: 1-6 | C10: =#REF! -> #REF! | D10: =#REF! -> #REF! | E10: =#REF! -> #REF! | S10: =#REF! -> #REF!
A11: 1-7 | B11: 1-7 | C11: =#REF! -> #REF! | D11: =#REF! -> #REF! | E11: =#REF! -> #REF! | S11: =#REF! -> #REF!
C12: =#REF! -> #REF! | D12: =#REF! -> #REF! | E12: =#REF! -> #REF! | S12: =#REF! -> #REF!
C13: =#REF! -> #REF! | D13: =#REF! -> #REF! | E13: =#REF! -> #REF! | S13: =#REF! -> #REF!
A14: 2-1 | B14: 2-1 | C14: =#REF! -> #REF! | D14: =#REF! -> #REF! | E14: =#REF! -> #REF! | S14: =#REF! -> #REF!
A15: 2-2 | B15: 2-2 | C15: =#REF! -> #REF! | D15: =#REF! -> #REF! | E15: =#REF! -> #REF! | S15: =#REF! -> #REF!
A16: 2-3 | B16: 2-3 | C16: =#REF! -> #REF! | D16: =#REF! -> #REF! | E16: =#REF! -> #REF! | F16: 0 | S16: =#REF! -> #REF!
A17: 2-4 | B17: 2-4 | C17: =#REF! -> #REF! | D17: =#REF! -> #REF! | E17: =#REF! -> #REF! | S17: =#REF! -> #REF!
A18: 2-4-1 | B18: 2-4-1 | C18: =#REF! -> #REF! | D18: =#REF! -> #REF! | E18: =#REF! -> #REF!
A19: 2-4-2 | B19: 2-4-2 | C19: =#REF! -> #REF! | D19: =#REF! -> #REF! | E19: =#REF! -> #REF!
A20: 2-4-3 | B20: 2-4-3 | C20: =#REF! -> #REF! | D20: =#REF! -> #REF! | E20: =#REF! -> #REF!
A21: 2-4-4 | B21: 2-4-4 | C21: =#REF! -> #REF! | D21: =#REF! -> #REF! | E21: =#REF! -> #REF!
A22: 2-5 | B22: 2-5 | C22: =#REF! -> #REF! | D22: =#REF! -> #REF! | E22: =#REF! -> #REF! | S22: =#REF! -> #REF!
A23: 2-5-1 | B23: 2-5-1 | C23: =#REF! -> #REF! | D23: =#REF! -> #REF! | E23: =#REF! -> #REF!
A24: 2-6 | B24: 2-6 | C24: =#REF! -> #REF! | D24: =#REF! -> #REF! | E24: =#REF! -> #REF! | F24: 0 | S24: =#REF! -> #REF!
A25: 2-7 | B25: 2-7 | C25: =#REF! -> #REF! | D25: =#REF! -> #REF! | E25: =#REF! -> #REF! | F25: 0 | S25: =#REF! -> #REF!
A26: 2-8 | B26: 2-8 | C26: =#REF! -> #REF! | D26: =#REF! -> #REF! | E26: =#REF! -> #REF! | F26: 0 | S26: =#REF! -> #REF!
A27: 콘크리트절단 | B27: 콘크리트절단 | C27: =#REF! -> #REF! | D27: =#REF! -> #REF! | E27: =#REF! -> #REF!
A28: 콘크리트헐기철 | B28: 콘크리트헐기철 | C28: =#REF! -> #REF! | D28: =#REF! -> #REF! | E28: =#REF! -> #REF!
A29: 강재창호설치3060 | B29: 강재창호설치3060 | C29: =#REF! -> #REF! | D29: =#REF! -> #REF! | E29: =#REF! -> #REF!
A30: 문틀주위충전MOR | B30: 문틀주위충전MOR | C30: =#REF! -> #REF! | D30: =#REF! -> #REF! | E30: =#REF! -> #REF!
A31: 쇠흙손마감 | B31: 쇠흙손마감 | C31: =#REF! -> #REF! | D31: =#REF! -> #REF! | E31: =#REF! -> #REF!
A32: 수성도장붓2회 | B32: 수성도장붓2회 | C32: =#REF! -> #REF! | D32: =#REF! -> #REF! | E32: =#REF! -> #REF!
A33: 위험물0514 | B33: 위험물0514 | C33: =#REF! -> #REF! | D33: =#REF! -> #REF! | E33: =#REF! -> #REF!
A34: 위험물0501 | B34: 위험물0501 | C34: =#REF! -> #REF! | D34: =#REF! -> #REF! | E34: =#REF! -> #REF!
A35: 위험물053 | B35: 위험물053 | C35: =#REF! -> #REF! | D35: =#REF! -> #REF! | E35: =#REF! -> #REF!
A36: 위험물054 | B36: 위험물054 | C36: =#REF! -> #REF! | D36: =#REF! -> #REF! | E36: =#REF! -> #REF!
A37: 위험물052 | B37: 위험물052 | C37: =#REF! -> #REF! | D37: =#REF! -> #REF! | E37: =#REF! -> #REF!
C38: =#REF! -> #REF! | D38: =#REF! -> #REF! | E38: =#REF! -> #REF! | F38: 0 | S38: =#REF! -> #REF!
C39: =#REF! -> #REF! | D39: =#REF! -> #REF! | E39: =#REF! -> #REF! | F39: 0 | S39: =#REF! -> #REF!
A40: 3-1 | B40: 3-1 | C40: =#REF! -> #REF! | D40: =#REF! -> #REF! | E40: =#REF! -> #REF! | S40: =#REF! -> #REF!
A41: 3-4 | B41: 3-4 | C41: =#REF! -> #REF! | D41: =#REF! -> #REF! | E41: =#REF! -> #REF! | S41: =#REF! -> #REF!
A42: 3-5 | B42: 3-5 | C42: =#REF! -> #REF! | D42: =#REF! -> #REF! | E42: =#REF! -> #REF!
A43: 3-6 | B43: 3-6 | C43: =#REF! -> #REF! | D43: =#REF! -> #REF! | E43: =#REF! -> #REF!
A44: 3-7 | B44: 3-7 | C44: =#REF! -> #REF! | D44: =#REF! -> #REF! | E44: =#REF! -> #REF!
A45: 3-8 | B45: 3-8 | C45: =#REF! -> #REF! | D45: =#REF! -> #REF! | E45: =#REF! -> #REF!
A46: 3-9 | B46: 3-9 | C46: =#REF! -> #REF! | D46: =#REF! -> #REF! | E46: =#REF! -> #REF!
A47: 거푸집설치 | B47: 거푸집설치 | C47: =#REF! -> #REF! | D47: =#REF! -> #REF! | E47: =#REF! -> #REF!
A48: 무근타설인력 | B48: 무근타설인력 | C48: =#REF! -> #REF! | D48: =#REF! -> #REF! | E48: =#REF! -> #REF!
C49: =#REF! -> #REF! | D49: =#REF! -> #REF! | E49: =#REF! -> #REF!
C50: =#REF! -> #REF! | D50: =#REF! -> #REF! | E50: =#REF! -> #REF!
A51: 4-1 | B51: 4-1 | C51: =#REF! -> #REF! | D51: =#REF! -> #REF! | E51: =#REF! -> #REF!
A52: 4-2 | B52: 4-2 | C52: =#REF! -> #REF! | D52: =#REF! -> #REF! | E52: =#REF! -> #REF!
A53: 4-3 | B53: 4-3 | C53: =#REF! -> #REF! | D53: =#REF! -> #REF! | E53: =#REF! -> #REF!
A54: 4-4 | B54: 4-4 | C54: =#REF! -> #REF! | D54: =#REF! -> #REF! | E54: =#REF! -> #REF!
A55: 4-5 | B55: 4-5 | C55: =#REF! -> #REF! | D55: =#REF! -> #REF! | E55: =#REF! -> #REF!
A56: 4-5-1 | B56: 4-5-1 | C56: =#REF! -> #REF! | D56: =#REF! -> #REF! | E56: =#REF! -> #REF!
A57: 4-5-2 | B57: 4-5-2 | C57: =#REF! -> #REF! | D57: =#REF! -> #REF! | E57: =#REF! -> #REF!
A58: 4-5-3 | B58: 4-5-3 | C58: =#REF! -> #REF! | D58: =#REF! -> #REF! | E58: =#REF! -> #REF!
A59: 4-5-4 | B59: 4-5-4 | C59: =#REF! -> #REF! | D59: =#REF! -> #REF! | E59: =#REF! -> #REF!
A60: 4-5-5 | B60: 4-5-5 | C60: =#REF! -> #REF! | D60: =#REF! -> #REF! | E60: =#REF! -> #REF!
A61: 4-6 | B61: 4-6 | C61: =#REF! -> #REF! | D61: =#REF! -> #REF! | E61: =#REF! -> #REF!
A62: 4-6-1 | B62: 4-6-1 | C62: =#REF! -> #REF! | D62: =#REF! -> #REF! | E62: =#REF! -> #REF!
... A67: 4-11 | B67: 4-11 | C67: =#REF! -> #REF! | D67: =#REF! -> #REF! | E67: =#REF! -> #REF!
C68: =#REF! -> #REF! | D68: =#REF! -> #REF! | E68: =#REF! -> #REF!
C69: =#REF! -> #REF! | D69: =#REF! -> #REF! | E69: =#REF! -> #REF!
A70: 5-1 | B70: 5-1 | C70: =#REF! -> #REF! | D70: =#REF! -> #REF! | E70: =#REF! -> #REF!
A71: 5-2 | B71: 5-2 | C71: =#REF! -> #REF! | D71: =#REF! -> #REF! | E71: =#REF! -> #REF!
A72: 5-3 | B72: 5-3 | C72: =#REF! -> #REF! | D72: =#REF! -> #REF! | E72: =#REF! -> #REF!
A73: 5-4 | B73: 5-4 | C73: =#REF! -> #REF! | D73: =#REF! -> #REF! | E73: =#REF! -> #REF!
A74: 5-5 | B74: 5-5 | C74: =#REF! -> #REF! | D74: =#REF! -> #REF! | E74: =#REF! -> #REF!
A75: 5-6 | B75: 5-6 | C75: =#REF! -> #REF! | D75: =#REF! -> #REF! | E75: =#REF! -> #REF!
A76: 5-7 | B76: 5-7 | C76: =#REF! -> #REF! | D76: =#REF! -> #REF! | E76: =#REF! -> #REF!
A77: 5-8 | B77: 5-8 | C77: =#REF! -> #REF! | D77: =#REF! -> #REF! | E77: =#REF! -> #REF!
A78: 5-9 | B78: 5-9 | C78: =#REF! -> #REF! | D78: =#REF! -> #REF! | E78: =#REF! -> #REF!
A79: 5-10 | B79: 5-10 | C79: =#REF! -> #REF! | D79: =#REF! -> #REF! | E79: =#REF! -> #REF!
A80: 5-11 | B80: 5-11 | C80: =#REF! -> #REF! | D80: =#REF! -> #REF! | E80: =#REF! -> #REF!
A81: 5-12 | B81: 5-12 | C81: =#REF! -> #REF! | D81: =#REF! -> #REF! | E81: =#REF! -> #REF!
A82: 5-13 | B82: 5-13 | C82: =#REF! -> #REF! | E82: =#REF! -> #REF!
A83: 거푸집설치 | B83: 거푸집설치 | C83: =#REF! -> #REF! | E83: =#REF! -> #REF!
A84: 무근타설인력 | B84: 무근타설인력 | C84: =#REF! -> #REF! | E84: =#REF! -> #REF!
C85: =#REF! -> #REF! | D85: =#REF! -> #REF! | E85: =#REF! -> #REF!
C86: =#REF! -> #REF! | D86: =#REF! -> #REF! | E86: =#REF! -> #REF!
A87: 6-1 | B87: 6-1 | C87: =#REF! -> #REF! | D87: =#REF! -> #REF! | E87: =#REF! -> #REF!
A88: 6-2 | B88: 6-2 | C88: =#REF! -> #REF! | D88: =#REF! -> #REF! | E88: =#REF! -> #REF!
A89: 6-3 | B89: 6-3 | C89: =#REF! -> #REF! | D89: =#REF! -> #REF! | E89: =#REF! -> #REF!
C90: =#REF! -> #REF! | D90: =#REF! -> #REF! | E90: =#REF! -> #REF!
C91: =#REF! -> #REF! | D91: =#REF! -> #REF! | E91: =#REF! -> #REF!
A92: 7-1 | B92: 7-1 | C92: =#REF! -> #REF! | D92: =#REF! -> #REF! | E92: =#REF! -> #REF!
A93: 7-2 | B93: 7-2 | C93: =#REF! -> #REF! | D93: =#REF! -> #REF! | E93: =#REF! -> #REF!
A94: 7-3 | B94: 7-3 | C94: =#REF! -> #REF! | D94: =#REF! -> #REF! | E94: =#REF! -> #REF!
A95: 7-4 | B95: 7-4 | C95: =#REF! -> #REF! | D95: =#REF! -> #REF! | E95: =#REF! -> #REF!
A96: 7-5 | B96: 7-5 | C96: =#REF! -> #REF! | D96: =#REF! -> #REF! | E96: =#REF! -> #REF!
A97: 7-6 | B97: 7-6 | C97: =#REF! -> #REF! | D97: =#REF! -> #REF! | E97: =#REF! -> #REF!
A98: 7-7 | B98: 7-7 | C98: =#REF! -> #REF! | D98: =#REF! -> #REF! | E98: =#REF! -> #REF!
A99: 7-8 | B99: 7-8 | C99: =#REF! -> #REF! | D99: =#REF! -> #REF! | E99: =#REF! -> #REF!
A100: 7-9 | B100: 7-9 | C100: =#REF! -> #REF! | D100: =#REF! -> #REF! | E100: =#REF! -> #REF!
C101: =#REF! -> #REF! | D101: =#REF! -> #REF! | E101: =#REF! -> #REF!
C102: =#REF! -> #REF! | D102: =#REF! -> #REF! | E102: =#REF! -> #REF!
A103: 8-1 | B103: 8-1 | C103: =#REF! -> #REF! | D103: =#REF! -> #REF! | E103: =#REF! -> #REF!
A104: 8-2 | B104: 8-2 | C104: =#REF! -> #REF! | D104: =#REF! -> #REF! | E104: =#REF! -> #REF!
...

Sheet (기계대당설치비-출력하지 않음)
A1: CODE | B1: CODE | C1: 명 칭 | E1: 규 격 | F1: 수량 | G1: 단위 | H1: 합 계 | J1: 재 료 비 | L1: 노 무 비 | N1: 경 비 | P1: 비 고 | R1: 노 무 비
H2: 단 가 | I2: 금 액 | J2: 단 가 | K2: 금 액 | L2: 단 가 | M2: 금 액 | N2: 단 가 | O2: 금 액
A3: 2. | B3: 2. | C3: =IF(ISBLANK($B3),"",VLOOKUP($B3,'(기계장비-출력하지않음)'!$A$3:$T$215,2,FALSE)) -> 2. | D3: =IF(ISBLANK($B3),"",VLOOKUP($B3,'(기계장비-출력하지않음)'!$A$3:$T$215,3,FALSE)) -> 추자정수장 해수담수화시설 개량 및 증설사업
A4: 2.1 | B4: 2.1 | C4: =IF(ISBLANK($B4),"",VLOOKUP($B4,'(기계장비-출력하지않음)'!$A$3:$T$215,2,FALSE)) -> 0 | D4: =IF(ISBLANK($B4),"",VLOOKUP($B4,'(기계장비-출력하지않음)'!$A$3:$T$215,3,FALSE)) -> #REF! | E4: =IF(ISBLANK($B4),"",VLOOKUP($B4,'(기계장비-출력하지않음)'!$A$3:$T$215,4,FALSE)) -> 0 | I4: =K4+M4+O4 -> 0
A5: N1-1 | B5: N1-1 | C5: 1-1 | D5: =IF(ISBLANK($B5),"",VLOOKUP($B5,'(기계장비-출력하지않음)'!$A$3:$T$215,3,FALSE)) -> #REF! | E5: =IF(ISBLANK($B5),"",VLOOKUP($B5,'(기계장비-출력하지않음)'!$A$3:$T$215,4,FALSE)) -> #REF! | F5: =#REF! -> #REF! | G5: =IF(ISBLANK($B5),"",VLOOKUP($B5,'(기계장비-출력하지않음)'!$A$3:$T$215,5,FALSE)) -> #REF! | H5: =J5+L5+N5 -> #REF! | I5: =K5+M5+O5 -> #REF! | J5: =IF(ISBLANK($A5),"",VLOOKUP($A5,#REF!,10,FALSE)) -> #REF! | K5: =INT(F5*J5) -> #REF! | L5: =IF(ISBLANK($A5),"",VLOOKUP($A5,#REF!,12,FALSE)) -> #REF! | M5: =INT(F5*L5) -> #REF! | N5: =IF(ISBLANK($A5),"",VLOOKUP($A5,#REF!,14,FALSE)) -> #REF! | O5: =INT(F5*N5) -> #REF! | P5: =IF(ISBLANK($A5),"",VLOOKUP($A5,#REF!,16,FALSE)) -> #REF!
A6: N1-2 | B6: N1-2 | C6: 1-2 | D6: =IF(ISBLANK($B6),"",VLOOKUP($B6,'(기계장비-출력하지않음)'!$A$3:$T$215,3,FALSE)) -> #REF! | E6: =IF(ISBLANK($B6),"",VLOOKUP($B6,'(기계장비-출력하지않음)'!$A$3:$T$215,4,FALSE)) -> #REF! | F6: =#REF! -> #REF! | G6: =IF(ISBLANK($B6),"",VLOOKUP($B6,'(기계장비-출력하지않음)'!$A$3:$T$215,5,FALSE)) -> #REF! | H6: =J6+L6+N6 -> #REF! | I6: =K6+M6+O6 -> #REF! | J6: =IF(ISBLANK($A6),"",VLOOKUP($A6,#REF!,10,FALSE)) -> #REF! | K6: =INT(F6*J6) -> #REF! | L6: =IF(ISBLANK($A6),"",VLOOKUP($A6,#REF!,12,FALSE)) -> #REF! | M6: =INT(F6*L6) -> #REF! | N6: =IF(ISBLANK($A6),"",VLOOKUP($A6,#REF!,14,FALSE)) -> #REF! | O6: =INT(F6*N6) -> #REF! | P6: =IF(ISBLANK($A6),"",VLOOKUP($A6,#REF!,16,FALSE)) -> #REF!
A7: N1-3 | B7: N1-3 | C7: 1-3 | D7: =IF(ISBLANK($B7),"",VLOOKUP($B7,'(기계장비-출력하지않음)'!$A$3:$T$215,3,FALSE)) -> #REF! | E7: =IF(ISBLANK($B7),"",VLOOKUP($B7,'(기계장비-출력하지않음)'!$A$3:$T$215,4,FALSE)) -> #REF! | F7: =#REF! -> #REF! | G7: =IF(ISBLANK($B7),"",VLOOKUP($B7,'(기계장비-출력하지않음)'!$A$3:$T$215,5,FALSE)) -> #REF! | H7: =J7+L7+N7 -> #REF! | I7: =K7+M7+O7 -> #REF! | J7: =IF(ISBLANK($A7),"",VLOOKUP($A7,#REF!,10,FALSE)) -> #REF! | K7: =INT(F7*J7) -> #REF! | L7: =IF(ISBLANK($A7),"",VLOOKUP($A7,#REF!,12,FALSE)) -> #REF! | M7: =INT(F7*L7) -> #REF! | N7: =IF(ISBLANK($A7),"",VLOOKUP($A7,#REF!,14,FALSE)) -> #REF! | O7: =INT(F7*N7) -> #REF! | P7: =IF(ISBLANK($A7),"",VLOOKUP($A7,#REF!,16,FALSE)) -> #REF!
A8: N1-4 | B8: N1-4 | C8: 1-4 | D8: =IF(ISBLANK($B8),"",VLOOKUP($B8,'(기계장비-출력하지않음)'!$A$3:$T$215,3,FALSE)) -> #REF! | E8: =IF(ISBLANK($B8),"",VLOOKUP($B8,'(기계장비-출력하지않음)'!$A$3:$T$215,4,FALSE)) -> #REF! | F8: =#REF! -> #REF! | G8: =IF(ISBLANK($B8),"",VLOOKUP($B8,'(기계장비-출력하지않음)'!$A$3:$T$215,5,FALSE)) -> #REF! | H8: =J8+L8+N8 -> #REF! | I8: =K8+M8+O8 -> #REF! | J8: =IF(ISBLANK($A8),"",VLOOKUP($A8,#REF!,10,FALSE)) -> #REF! | K8: =INT(F8*J8) -> #REF! | L8: =IF(ISBLANK($A8),"",VLOOKUP($A8,#REF!,12,FALSE)) -> #REF! | M8: =INT(F8*L8) -> #REF! | N8: =IF(ISBLANK($A8),"",VLOOKUP($A8,#REF!,14,FALSE)) -> #REF! | O8: =INT(F8*N8) -> #REF! | P8: =IF(ISBLANK($A8),"",VLOOKUP($A8,#REF!,16,FALSE)) -> #REF!
A9: N1-5 | B9: N1-5 | C9: 1-5 | D9: =IF(ISBLANK($B9),"",VLOOKUP($B9,'(기계장비-출력하지않음)'!$A$3:$T$215,3,FALSE)) -> #REF! | E9: =IF(ISBLANK($B9),"",VLOOKUP($B9,'(기계장비-출력하지않음)'!$A$3:$T$215,4,FALSE)) -> #REF! | F9: =#REF! -> #REF! | G9: =IF(ISBLANK($B9),"",VLOOKUP($B9,'(기계장비-출력하지않음)'!$A$3:$T$215,5,FALSE)) -> #REF! | H9: =J9+L9+N9 -> #REF! | I9: =K9+M9+O9 -> #REF! | J9: =IF(ISBLANK($A9),"",VLOOKUP($A9,#REF!,10,FALSE)) -> #REF! | K9: =INT(F9*J9) -> #REF! | L9: =IF(ISBLANK($A9),"",VLOOKUP($A9,#REF!,12,FALSE)) -> #REF! | M9: =INT(F9*L9) -> #REF! | N9: =IF(ISBLANK($A9),"",VLOOKUP($A9,#REF!,14,FALSE)) -> #REF! | O9: =INT(F9*N9) -> #REF! | P9: =IF(ISBLANK($A9),"",VLOOKUP($A9,#REF!,16,FALSE)) -> #REF!
A10: N1-6 | B10: N1-6 | C10: 1-6 | D10: =IF(ISBLANK($B10),"",VLOOKUP($B10,'(기계장비-출력하지않음)'!$A$3:$T$215,3,FALSE)) -> #REF! | E10: =IF(ISBLANK($B10),"",VLOOKUP($B10,'(기계장비-출력하지않음)'!$A$3:$T$215,4,FALSE)) -> #REF! | F10: =#REF! -> #REF! | G10: =IF(ISBLANK($B10),"",VLOOKUP($B10,'(기계장비-출력하지않음)'!$A$3:$T$215,5,FALSE)) -> #REF! | H10: =J10+L10+N10 -> #REF! | I10: =K10+M10+O10 -> #REF! | J10: =IF(ISBLANK($A10),"",VLOOKUP($A10,#REF!,10,FALSE)) -> #REF! | K10: =INT(F10*J10) -> #REF! | L10: =IF(ISBLANK($A10),"",VLOOKUP($A10,#REF!,12,FALSE)) -> #REF! | M10: =INT(F10*L10) -> #REF! | N10: =IF(ISBLANK($A10),"",VLOOKUP($A10,#REF!,14,FALSE)) -> #REF! | O10: =INT(F10*N10) -> #REF! | P10: =IF(ISBLANK($A10),"",VLOOKUP($A10,#REF!,16,FALSE)) -> #REF!
A11: N1-7 | B11: N1-7 | C11: 1-7 | D11: =IF(ISBLANK($B11),"",VLOOKUP($B11,'(기계장비-출력하지않음)'!$A$3:$T$215,3,FALSE)) -> #REF! | E11: =IF(ISBLANK($B11),"",VLOOKUP($B11,'(기계장비-출력하지않음)'!$A$3:$T$215,4,FALSE)) -> #REF! | F11: =#REF! -> #REF! | G11: =IF(ISBLANK($B11),"",VLOOKUP($B11,'(기계장비-출력하지않음)'!$A$3:$T$215,5,FALSE)) -> #REF! | H11: =J11+L11+N11 -> #REF! | I11: =K11+M11+O11 -> #REF! | J11: =IF(ISBLANK($A11),"",VLOOKUP($A11,#REF!,10,FALSE)) -> #REF! | K11: =INT(F11*J11) -> #REF! | L11: =IF(ISBLANK($A11),"",VLOOKUP($A11,#REF!,12,FALSE)) -> #REF! | M11: =INT(F11*L11) -> #REF! | N11: =IF(ISBLANK($A11),"",VLOOKUP($A11,#REF!,14,FALSE)) -> #REF! | O11: =INT(F11*N11) -> #REF! | P11: =IF(ISBLANK($A11),"",VLOOKUP($A11,#REF!,16,FALSE)) -> #REF!
D12: =IF(ISBLANK($B12),"",VLOOKUP($B12,'(기계장비-출력하지않음)'!$A$3:$T$215,3,FALSE)) | E12: =IF(ISBLANK($B12),"",VLOOKUP($B12,'(기계장비-출력하지않음)'!$A$3:$T$215,4,FALSE)) | F12: =#REF! -> #REF! | P12: =IF(ISBLANK($A12),"",VLOOKUP($A12,#REF!,16,FALSE))
D13: =IF(ISBLANK($B13),"",VLOOKUP($B13,'(기계장비-출력하지않음)'!$A$3:$T$215,3,FALSE)) | E13: =IF(ISBLANK($B13),"",VLOOKUP($B13,'(기계장비-출력하지않음)'!$A$3:$T$215,4,FALSE)) | F13: =#REF! -> #REF! | P13: =IF(ISBLANK($A13),"",VLOOKUP($A13,#REF!,16,FALSE))
A14: N2-1 | B14: N2-1 | C14: 2-1 | D14: =IF(ISBLANK($B14),"",VLOOKUP($B14,'(기계장비-출력하지않음)'!$A$3:$T$215,3,FALSE)) -> #REF! | E14: =IF(ISBLANK($B14),"",VLOOKUP($B14,'(기계장비-출력하지않음)'!$A$3:$T$215,4,FALSE)) -> #REF! | F14: =#REF! -> #REF! | G14: =IF(ISBLANK($B14),"",VLOOKUP($B14,'(기계장비-출력하지않음)'!$A$3:$T$215,5,FALSE)) -> #REF! | H14: =J14+L14+N14 -> #REF! | I14: =K14+M14+O14 -> #REF! | J14: =IF(ISBLANK($A14),"",VLOOKUP($A14,#REF!,10,FALSE)) -> #REF! | K14: =INT(F14*J14) -> #REF! | L14: =IF(ISBLANK($A14),"",VLOOKUP($A14,#REF!,12,FALSE)) -> #REF! | M14: =INT(F14*L14) -> #REF! | N14: =IF(ISBLANK($A14),"",VLOOKUP($A14,#REF!,14,FALSE)) -> #REF! | O14: =INT(F14*N14) -> #REF! | P14: =IF(ISBLANK($A14),"",VLOOKUP($A14,#REF!,16,FALSE)) -> #REF!
A15: N2-2 | B15: N2-2 | C15: 2-2 | D15: =IF(ISBLANK($B15),"",VLOOKUP($B15,'(기계장비-출력하지않음)'!$A$3:$T$215,3,FALSE)) -> #REF! | E15: =IF(ISBLANK($B15),"",VLOOKUP($B15,'(기계장비-출력하지않음)'!$A$3:$T$215,4,FALSE)) -> #REF! | F15: =#REF! -> #REF! | G15: =IF(ISBLANK($B15),"",VLOOKUP($B15,'(기계장비-출력하지않음)'!$A$3:$T$215,5,FALSE)) -> #REF! | H15: =J15+L15+N15 -> #REF! | I15: =K15+M15+O15 -> #REF! | J15: =IF(ISBLANK($A15),"",VLOOKUP($A15,#REF!,10,FALSE)) -> #REF! | K15: =INT(F15*J15) -> #REF! | L15: =IF(ISBLANK($A15),"",VLOOKUP($A15,#REF!,12,FALSE)) -> #REF! | M15: =INT(F15*L15) -> #REF! | N15: =IF(ISBLANK($A15),"",VLOOKUP($A15,#REF!,14,FALSE)) -> #REF! | O15: =INT(F15*N15) -> #REF! | P15: =IF(ISBLANK($A15),"",VLOOKUP($A15,#REF!,16,FALSE)) -> #REF!
A16: N2-3 | B16: N2-3 | C16: 2-3 | D16: =IF(ISBLANK($B16),"",VLOOKUP($B16,'(기계장비-출력하지않음)'!$A$3:$T$215,3,FALSE)) -> #REF! | E16: =IF(ISBLANK($B16),"",VLOOKUP($B16,'(기계장비-출력하지않음)'!$A$3:$T$215,4,FALSE)) -> #REF! | F16: =#REF! -> #REF! | G16: =IF(ISBLANK($B16),"",VLOOKUP($B16,'(기계장비-출력하지않음)'!$A$3:$T$215,5,FALSE)) -> #REF! | H16: =J16+L16+N16 -> #REF! | I16: =K16+M16+O16 -> #REF! | J16: =IF(ISBLANK($A16),"",VLOOKUP($A16,#REF!,10,FALSE)) -> #REF! | K16: =INT(F16*J16) -> #REF! | L16: =IF(ISBLANK($A16),"",VLOOKUP($A16,#REF!,12,FALSE)) -> #REF! | M16: =INT(F16*L16) -> #REF! | N16: =IF(ISBLANK($A16),"",VLOOKUP($A16,#REF!,14,FALSE)) -> #REF! | O16: =INT(F16*N16) -> #REF! | P16: =IF(ISBLANK($A16),"",VLOOKUP($A16,#REF!,16,FALSE)) -> #REF!
A17: N2-4 | B17: N2-4 | C17: 2-4 | D17: =IF(ISBLANK($B17),"",VLOOKUP($B17,'(기계장비-출력하지않음)'!$A$3:$T$215,3,FALSE)) -> #REF! | E17: =IF(ISBLANK($B17),"",VLOOKUP($B17,'(기계장비-출력하지않음)'!$A$3:$T$215,4,FALSE)) -> #REF! | F17: =#REF! -> #REF! | G17: =IF(ISBLANK($B17),"",VLOOKUP($B17,'(기계장비-출력하지않음)'!$A$3:$T$215,5,FALSE)) -> #REF! | H17: =J17+L17+N17 -> #REF! | I17: =K17+M17+O17 -> #REF! | J17: =IF(ISBLANK($A17),"",VLOOKUP($A17,#REF!,10,FALSE)) -> #REF! | K17: =INT(F17*J17) -> #REF! | L17: =IF(ISBLANK($A17),"",VLOOKUP($A17,#REF!,12,FALSE)) -> #REF! | M17: =INT(F17*L17) -> #REF! | N17: =IF(ISBLANK($A17),"",VLOOKUP($A17,#REF!,14,FALSE)) -> #REF! | O17: =INT(F17*N17) -> #REF! | P17: =IF(ISBLANK($A17),"",VLOOKUP($A17,#REF!,16,FALSE)) -> #REF!
A18: N2-4-1 | B18: N2-4-1 | C18: 2-4 | D18: =IF(ISBLANK($B18),"",VLOOKUP($B18,'(기계장비-출력하지않음)'!$A$3:$T$215,3,FALSE)) -> #REF! | E18: =IF(ISBLANK($B18),"",VLOOKUP($B18,'(기계장비-출력하지않음)'!$A$3:$T$215,4,FALSE)) -> #REF! | F18: =#REF! -> #REF! | G18: =IF(ISBLANK($B18),"",VLOOKUP($B18,'(기계장비-출력하지않음)'!$A$3:$T$215,5,FALSE)) -> #REF! | H18: =J18+L18+N18 -> #REF! | I18: =K18+M18+O18 -> #REF! | J18: =IF(ISBLANK($A18),"",VLOOKUP($A18,#REF!,10,FALSE)) -> #REF! | K18: =INT(F18*J18) -> #REF! | L18: =IF(ISBLANK($A18),"",VLOOKUP($A18,#REF!,12,FALSE)) -> #REF! | M18: =INT(F18*L18) -> #REF! | N18: =IF(ISBLANK($A18),"",VLOOKUP($A18,#REF!,14,FALSE)) -> #REF! | O18: =INT(F18*N18) -> #REF! | P18: =IF(ISBLANK($A18),"",VLOOKUP($A18,#REF!,16,FALSE)) -> #REF!
A19: N2-4-2 | B19: N2-4-2 | C19: 2-4 | D19: =IF(ISBLANK($B19),"",VLOOKUP($B19,'(기계장비-출력하지않음)'!$A$3:$T$215,3,FALSE)) -> #REF! | E19: =IF(ISBLANK($B19),"",VLOOKUP($B19,'(기계장비-출력하지않음)'!$A$3:$T$215,4,FALSE)) -> #REF! | F19: =#REF! -> #REF! | G19: =IF(ISBLANK($B19),"",VLOOKUP($B19,'(기계장비-출력하지않음)'!$A$3:$T$215,5,FALSE)) -> #REF! | H19: =J19+L19+N19 -> #REF! | I19: =K19+M19+O19 -> #REF! | J19: =IF(ISBLANK($A19),"",VLOOKUP($A19,#REF!,10,FALSE)) -> #REF! | K19: =INT(F19*J19) -> #REF! | L19: =IF(ISBLANK($A19),"",VLOOKUP($A19,#REF!,12,FALSE)) -> #REF! | M19: =INT(F19*L19) -> #REF! | N19: =IF(ISBLANK($A19),"",VLOOKUP($A19,#REF!,14,FALSE)) -> #REF! | O19: =INT(F19*N19) -> #REF! | P19: =IF(ISBLANK($A19),"",VLOOKUP($A19,#REF!,16,FALSE)) -> #REF!
A20: N2-4-3 | B20: N2-4-3 | C20: 2-4 | D20: =IF(ISBLANK($B20),"",VLOOKUP($B20,'(기계장비-출력하지않음)'!$A$3:$T$215,3,FALSE)) -> #REF! | E20: =IF(ISBLANK($B20),"",VLOOKUP($B20,'(기계장비-출력하지않음)'!$A$3:$T$215,4,FALSE)) -> #REF! | F20: =#REF! -> #REF! | G20: =IF(ISBLANK($B20),"",VLOOKUP($B20,'(기계장비-출력하지않음)'!$A$3:$T$215,5,FALSE)) -> #REF! | H20: =J20+L20+N20 -> #REF! | I20: =K20+M20+O20 -> #REF! | J20: =IF(ISBLANK($A20),"",VLOOKUP($A20,#REF!,10,FALSE)) -> #REF! | K20: =INT(F20*J20) -> #REF! | L20: =IF(ISBLANK($A20),"",VLOOKUP($A20,#REF!,12,FALSE)) -> #REF! | M20: =INT(F20*L20) -> #REF! | N20: =IF(ISBLANK($A20),"",VLOOKUP($A20,#REF!,14,FALSE)) -> #REF! | O20: =INT(F20*N20) -> #REF! | P20: =IF(ISBLANK($A20),"",VLOOKUP($A20,#REF!,16,FALSE)) -> #REF!
A21: N2-4-4 | B21: N2-4-4 | C21: 2-4 | D21: =IF(ISBLANK($B21),"",VLOOKUP($B21,'(기계장비-출력하지않음)'!$A$3:$T$215,3,FALSE)) -> #REF! | E21: =IF(ISBLANK($B21),"",VLOOKUP($B21,'(기계장비-출력하지않음)'!$A$3:$T$215,4,FALSE)) -> #REF! | F21: =#REF! -> #REF! | G21: =IF(ISBLANK($B21),"",VLOOKUP($B21,'(기계장비-출력하지않음)'!$A$3:$T$215,5,FALSE)) -> #REF! | H21: =J21+L21+N21 -> #REF! | I21: =K21+M21+O21 -> #REF! | J21: =IF(ISBLANK($A21),"",VLOOKUP($A21,#REF!,10,FALSE)) -> #REF! | K21: =INT(F21*J21) -> #REF! | L21: =IF(ISBLANK($A21),"",VLOOKUP($A21,#REF!,12,FALSE)) -> #REF! | M21: =INT(F21*L21) -> #REF! | N21: =IF(ISBLANK($A21),"",VLOOKUP($A21,#REF!,14,FALSE)) -> #REF! | O21: =INT(F21*N21) -> #REF! | P21: =IF(ISBLANK($A21),"",VLOOKUP($A21,#REF!,16,FALSE)) -> #REF!
A22: N2-5 | B22: N2-5 | C22: 2-5 | D22: =IF(ISBLANK($B22),"",VLOOKUP($B22,'(기계장비-출력하지않음)'!$A$3:$T$215,3,FALSE)) -> #REF! | E22: =IF(ISBLANK($B22),"",VLOOKUP($B22,'(기계장비-출력하지않음)'!$A$3:$T$215,4,FALSE)) -> #REF! | F22: =#REF! -> #REF! | G22: =IF(ISBLANK($B22),"",VLOOKUP($B22,'(기계장비-출력하지않음)'!$A$3:$T$215,5,FALSE)) -> #REF! | H22: =J22+L22+N22 -> #REF! | I22: =K22+M22+O22 -> #REF! | J22: =IF(ISBLANK($A22),"",VLOOKUP($A22,#REF!,10,FALSE)) -> #REF! | K22: =INT(F22*J22) -> #REF! | L22: =IF(ISBLANK($A22),"",VLOOKUP($A22,#REF!,12,FALSE)) -> #REF! | M22: =INT(F22*L22) -> #REF! | N22: =IF(ISBLANK($A22),"",VLOOKUP($A22,#REF!,14,FALSE)) -> #REF! | O22: =INT(F22*N22) -> #REF! | P22: =IF(ISBLANK($A22),"",VLOOKUP($A22,#REF!,16,FALSE)) -> #REF!
A23: N2-5-1 | B23: N2-5-1 | C23: 2-5-1 | D23: =IF(ISBLANK($B23),"",VLOOKUP($B23,'(기계장비-출력하지않음)'!$A$3:$T$215,3,FALSE)) -> #REF! | E23: =IF(ISBLANK($B23),"",VLOOKUP($B23,'(기계장비-출력하지않음)'!$A$3:$T$215,4,FALSE)) -> #REF! | F23: =#REF! -> #REF! | G23: =IF(ISBLANK($B23),"",VLOOKUP($B23,'(기계장비-출력하지않음)'!$A$3:$T$215,5,FALSE)) -> #REF! | H23: =J23+L23+N23 -> #REF! | I23: =K23+M23+O23 -> #REF! | J23: =IF(ISBLANK($A23),"",VLOOKUP($A23,#REF!,10,FALSE)) -> #REF! | K23: =INT(F23*J23) -> #REF! | L23: =IF(ISBLANK($A23),"",VLOOKUP($A23,#REF!,12,FALSE)) -> #REF! | M23: =INT(F23*L23) -> #REF! | N23: =IF(ISBLANK($A23),"",VLOOKUP($A23,#REF!,14,FALSE)) -> #REF! | O23: =INT(F23*N23) -> #REF! | P23: =IF(ISBLANK($A23),"",VLOOKUP($A23,#REF!,16,FALSE)) -> #REF!
A24: N2-6 | B24: N2-6 | C24: 2-6 | D24: =IF(ISBLANK($B24),"",VLOOKUP($B24,'(기계장비-출력하지않음)'!$A$3:$T$215,3,FALSE)) -> #REF! | E24: =IF(ISBLANK($B24),"",VLOOKUP($B24,'(기계장비-출력하지않음)'!$A$3:$T$215,4,FALSE)) -> #REF! | F24: =#REF! -> #REF! | G24: =IF(ISBLANK($B24),"",VLOOKUP($B24,'(기계장비-출력하지않음)'!$A$3:$T$215,5,FALSE)) -> #REF! | H24: =J24+L24+N24 -> #REF! | I24: =K24+M24+O24 -> #REF! | J24: =IF(ISBLANK($A24),"",VLOOKUP($A24,#REF!,10,FALSE)) -> #REF! | K24: =INT(F24*J24) -> #REF! | L24: =IF(ISBLANK($A24),"",VLOOKUP($A24,#REF!,12,FALSE)) -> #REF! | M24: =INT(F24*L24) -> #REF! | N24: =IF(ISBLANK($A24),"",VLOOKUP($A24,#REF!,14,FALSE)) -> #REF! | O24: =INT(F24*N24) -> #REF! | P24: =IF(ISBLANK($A24),"",VLOOKUP($A24,#REF!,16,FALSE)) -> #REF!
A25: N2-7 | B25: N2-7 | C25: 2-7 | D25: =IF(ISBLANK($B25),"",VLOOKUP($B25,'(기계장비-출력하지않음)'!$A$3:$T$215,3,FALSE)) -> #REF! | E25: =IF(ISBLANK($B25),"",VLOOKUP($B25,'(기계장비-출력하지않음)'!$A$3:$T$215,4,FALSE)) -> #REF! | F25: =#REF! -> #REF! | G25: =IF(ISBLANK($B25),"",VLOOKUP($B25,'(기계장비-출력하지않음)'!$A$3:$T$215,5,FALSE)) -> #REF! | H25: =J25+L25+N25 -> #REF! | I25: =K25+M25+O25 -> #REF! | J25: =IF(ISBLANK($A25),"",VLOOKUP($A25,#REF!,10,FALSE)) -> #REF! | K25: =INT(F25*J25) -> #REF! | L25: =IF(ISBLANK($A25),"",VLOOKUP($A25,#REF!,12,FALSE)) -> #REF! | M25: =INT(F25*L25) -> #REF! | N25: =IF(ISBLANK($A25),"",VLOOKUP($A25,#REF!,14,FALSE)) -> #REF! | O25: =INT(F25*N25) -> #REF! | P25: =IF(ISBLANK($A25),"",VLOOKUP($A25,#REF!,16,FALSE)) -> #REF!
... A37: N위험물052 | B37: N위험물052 | C37: 위험물052 | D37: =IF(ISBLANK($B37),"",VLOOKUP($B37,'(기계장비-출력하지않음)'!$A$3:$T$215,3,FALSE)) -> #REF! | E37: =IF(ISBLANK($B37),"",VLOOKUP($B37,'(기계장비-출력하지않음)'!$A$3:$T$215,4,FALSE)) -> #REF! | F37: =#REF! -> #REF! | G37: =IF(ISBLANK($B37),"",VLOOKUP($B37,'(기계장비-출력하지않음)'!$A$3:$T$215,5,FALSE)) -> #REF! | H37: =J37+L37+N37 -> #REF! | I37: =K37+M37+O37 -> #REF! | J37: =IF(ISBLANK($A37),"",VLOOKUP($A37,#REF!,10,FALSE)) -> #REF! | K37: =INT(F37*J37) -> #REF! | L37: =IF(ISBLANK($A37),"",VLOOKUP($A37,#REF!,12,FALSE)) -> #REF! | M37: =INT(F37*L37) -> #REF! | N37: =IF(ISBLANK($A37),"",VLOOKUP($A37,#REF!,14,FALSE)) -> #REF! | O37: =INT(F37*N37) -> #REF! | P37: =IF(ISBLANK($A37),"",VLOOKUP($A37,#REF!,16,FALSE)) -> #REF!
D38: =IF(ISBLANK($B38),"",VLOOKUP($B38,'(기계장비-출력하지않음)'!$A$3:$T$215,3,FALSE)) | E38: =IF(ISBLANK($B38),"",VLOOKUP($B38,'(기계장비-출력하지않음)'!$A$3:$T$215,4,FALSE)) | F38: =#REF! -> #REF!
A39: N3-1 | B39: N3-1 | C39: 3-1 | D39: =IF(ISBLANK($B39),"",VLOOKUP($B39,'(기계장비-출력하지않음)'!$A$3:$T$215,3,FALSE)) -> #REF! | E39: =IF(ISBLANK($B39),"",VLOOKUP($B39,'(기계장비-출력하지않음)'!$A$3:$T$215,4,FALSE)) -> #REF! | F39: =#REF! -> #REF! | G39: =IF(ISBLANK($B39),"",VLOOKUP($B39,'(기계장비-출력하지않음)'!$A$3:$T$215,5,FALSE)) -> #REF! | H39: =J39+L39+N39 -> #REF! | I39: =K39+M39+O39 -> #REF! | J39: =IF(ISBLANK($A39),"",VLOOKUP($A39,#REF!,10,FALSE)) -> #REF! | K39: =INT(F39*J39) -> #REF! | L39: =IF(ISBLANK($A39),"",VLOOKUP($A39,#REF!,12,FALSE)) -> #REF! | M39: =INT(F39*L39) -> #REF! | N39: =IF(ISBLANK($A39),"",VLOOKUP($A39,#REF!,14,FALSE)) -> #REF! | O39: =INT(F39*N39) -> #REF! | P39: =IF(ISBLANK($A39),"",VLOOKUP($A39,#REF!,16,FALSE)) -> #REF!
A40: N3-4 | B40: N3-4 | C40: 3-4 | D40: =IF(ISBLANK($B40),"",VLOOKUP($B40,'(기계장비-출력하지않음)'!$A$3:$T$215,3,FALSE)) -> #REF! | E40: =IF(ISBLANK($B40),"",VLOOKUP($B40,'(기계장비-출력하지않음)'!$A$3:$T$215,4,FALSE)) -> #REF! | F40: =#REF! -> #REF! | G40: =IF(ISBLANK($B40),"",VLOOKUP($B40,'(기계장비-출력하지않음)'!$A$3:$T$215,5,FALSE)) -> #REF! | H40: =J40+L40+N40 -> #REF! | I40: =K40+M40+O40 -> #REF! | J40: =IF(ISBLANK($A40),"",VLOOKUP($A40,#REF!,10,FALSE)) -> #REF! | K40: =INT(F40*J40) -> #REF! | L40: =IF(ISBLANK($A40),"",VLOOKUP($A40,#REF!,12,FALSE)) -> #REF! | M40: =INT(F40*L40) -> #REF! | N40: =IF(ISBLANK($A40),"",VLOOKUP($A40,#REF!,14,FALSE)) -> #REF! | O40: =INT(F40*N40) -> #REF! | P40: =IF(ISBLANK($A40),"",VLOOKUP($A40,#REF!,16,FALSE)) -> #REF!
A41: N3-5 | B41: N3-5 | C41: 3-5 | D41: =IF(ISBLANK($B41),"",VLOOKUP($B41,'(기계장비-출력하지않음)'!$A$3:$T$215,3,FALSE)) -> #REF! | E41: =IF(ISBLANK($B41),"",VLOOKUP($B41,'(기계장비-출력하지않음)'!$A$3:$T$215,4,FALSE)) -> #REF! | F41: =#REF! -> #REF! | G41: =IF(ISBLANK($B41),"",VLOOKUP($B41,'(기계장비-출력하지않음)'!$A$3:$T$215,5,FALSE)) -> #REF! | H41: =J41+L41+N41 -> #REF! | I41: =K41+M41+O41 -> #REF! | J41: =IF(ISBLANK($A41),"",VLOOKUP($A41,#REF!,10,FALSE)) -> #REF! | K41: =INT(F41*J41) -> #REF! | L41: =IF(ISBLANK($A41),"",VLOOKUP($A41,#REF!,12,FALSE)) -> #REF! | M41: =INT(F41*L41) -> #REF! | N41: =IF(ISBLANK($A41),"",VLOOKUP($A41,#REF!,14,FALSE)) -> #REF! | O41: =INT(F41*N41) -> #REF! | P41: =IF(ISBLANK($A41),"",VLOOKUP($A41,#REF!,16,FALSE)) -> #REF!
A42: N3-6 | B42: N3-6 | C42: 3-6 | D42: =IF(ISBLANK($B42),"",VLOOKUP($B42,'(기계장비-출력하지않음)'!$A$3:$T$215,3,FALSE)) -> #REF! | E42: =IF(ISBLANK($B42),"",VLOOKUP($B42,'(기계장비-출력하지않음)'!$A$3:$T$215,4,FALSE)) -> #REF! | F42: =#REF! -> #REF! | G42: =IF(ISBLANK($B42),"",VLOOKUP($B42,'(기계장비-출력하지않음)'!$A$3:$T$215,5,FALSE)) -> #REF! | H42: =J42+L42+N42 -> #REF! | I42: =K42+M42+O42 -> #REF! | J42: =IF(ISBLANK($A42),"",VLOOKUP($A42,#REF!,10,FALSE)) -> #REF! | K42: =INT(F42*J42) -> #REF! | L42: =IF(ISBLANK($A42),"",VLOOKUP($A42,#REF!,12,FALSE)) -> #REF! | M42: =INT(F42*L42) -> #REF! | N42: =IF(ISBLANK($A42),"",VLOOKUP($A42,#REF!,14,FALSE)) -> #REF! | O42: =INT(F42*N42) -> #REF! | P42: =IF(ISBLANK($A42),"",VLOOKUP($A42,#REF!,16,FALSE)) -> #REF!
A43: N3-7 | B43: N3-7 | C43: 3-7 | D43: =IF(ISBLANK($B43),"",VLOOKUP($B43,'(기계장비-출력하지않음)'!$A$3:$T$215,3,FALSE)) -> #REF! | E43: =IF(ISBLANK($B43),"",VLOOKUP($B43,'(기계장비-출력하지않음)'!$A$3:$T$215,4,FALSE)) -> #REF! | F43: =#REF! -> #REF! | G43: =IF(ISBLANK($B43),"",VLOOKUP($B43,'(기계장비-출력하지않음)'!$A$3:$T$215,5,FALSE)) -> #REF! | H43: =J43+L43+N43 -> #REF! | I43: =K43+M43+O43 -> #REF! | J43: =IF(ISBLANK($A43),"",VLOOKUP($A43,#REF!,10,FALSE)) -> #REF! | K43: =INT(F43*J43) -> #REF! | L43: =IF(ISBLANK($A43),"",VLOOKUP($A43,#REF!,12,FALSE)) -> #REF! | M43: =INT(F43*L43) -> #REF! | N43: =IF(ISBLANK($A43),"",VLOOKUP($A43,#REF!,14,FALSE)) -> #REF! | O43: =INT(F43*N43) -> #REF! | P43: =IF(ISBLANK($A43),"",VLOOKUP($A43,#REF!,16,FALSE)) -> #REF!
A44: N3-8 | B44: N3-8 | C44: 3-8 | D44: =IF(ISBLANK($B44),"",VLOOKUP($B44,'(기계장비-출력하지않음)'!$A$3:$T$215,3,FALSE)) -> #REF! | E44: =IF(ISBLANK($B44),"",VLOOKUP($B44,'(기계장비-출력하지않음)'!$A$3:$T$215,4,FALSE)) -> #REF! | F44: =#REF! -> #REF! | G44: =IF(ISBLANK($B44),"",VLOOKUP($B44,'(기계장비-출력하지않음)'!$A$3:$T$215,5,FALSE)) -> #REF! | H44: =J44+L44+N44 -> #REF! | I44: =K44+M44+O44 -> #REF! | J44: =IF(ISBLANK($A44),"",VLOOKUP($A44,#REF!,10,FALSE)) -> #REF! | K44: =INT(F44*J44) -> #REF! | L44: =IF(ISBLANK($A44),"",VLOOKUP($A44,#REF!,12,FALSE)) -> #REF! | M44: =INT(F44*L44) -> #REF! | N44: =IF(ISBLANK($A44),"",VLOOKUP($A44,#REF!,14,FALSE)) -> #REF! | O44: =INT(F44*N44) -> #REF! | P44: =IF(ISBLANK($A44),"",VLOOKUP($A44,#REF!,16,FALSE)) -> #REF!
A45: N3-9 | B45: N3-9 | C45: 3-9 | D45: =IF(ISBLANK($B45),"",VLOOKUP($B45,'(기계장비-출력하지않음)'!$A$3:$T$215,3,FALSE)) -> #REF! | E45: =IF(ISBLANK($B45),"",VLOOKUP($B45,'(기계장비-출력하지않음)'!$A$3:$T$215,4,FALSE)) -> #REF! | F45: =#REF! -> #REF! | G45: =IF(ISBLANK($B45),"",VLOOKUP($B45,'(기계장비-출력하지않음)'!$A$3:$T$215,5,FALSE)) -> #REF! | H45: =J45+L45+N45 -> #REF! | I45: =K45+M45+O45 -> #REF! | J45: =IF(ISBLANK($A45),"",VLOOKUP($A45,#REF!,10,FALSE)) -> #REF! | K45: =INT(F45*J45) -> #REF! | L45: =IF(ISBLANK($A45),"",VLOOKUP($A45,#REF!,12,FALSE)) -> #REF! | M45: =INT(F45*L45) -> #REF! | N45: =IF(ISBLANK($A45),"",VLOOKUP($A45,#REF!,14,FALSE)) -> #REF! | O45: =INT(F45*N45) -> #REF! | P45: =IF(ISBLANK($A45),"",VLOOKUP($A45,#REF!,16,FALSE)) -> #REF!
A46: N거푸집설치 | B46: N거푸집설치 | C46: 거푸집설치 | D46: =IF(ISBLANK($B46),"",VLOOKUP($B46,'(기계장비-출력하지않음)'!$A$3:$T$215,3,FALSE)) -> #REF! | E46: =IF(ISBLANK($B46),"",VLOOKUP($B46,'(기계장비-출력하지않음)'!$A$3:$T$215,4,FALSE)) -> #REF! | F46: =#REF! -> #REF! | G46: =IF(ISBLANK($B46),"",VLOOKUP($B46,'(기계장비-출력하지않음)'!$A$3:$T$215,5,FALSE)) -> #REF! | H46: =J46+L46+N46 -> #REF! | I46: =K46+M46+O46 -> #REF! | J46: =IF(ISBLANK($A46),"",VLOOKUP($A46,#REF!,10,FALSE)) -> #REF! | K46: =INT(F46*J46) -> #REF! | L46: =IF(ISBLANK($A46),"",VLOOKUP($A46,#REF!,12,FALSE)) -> #REF! | M46: =INT(F46*L46) -> #REF! | N46: =IF(ISBLANK($A46),"",VLOOKUP($A46,#REF!,14,FALSE)) -> #REF! | O46: =INT(F46*N46) -> #REF! | P46: =IF(ISBLANK($A46),"",VLOOKUP($A46,#REF!,16,FALSE)) -> #REF!
A47: N무근타설인력 | B47: N무근타설인력 | C47: 무근타설인력 | D47: =IF(ISBLANK($B47),"",VLOOKUP($B47,'(기계장비-출력하지않음)'!$A$3:$T$215,3,FALSE)) -> #REF! | E47: =IF(ISBLANK($B47),"",VLOOKUP($B47,'(기계장비-출력하지않음)'!$A$3:$T$215,4,FALSE)) -> #REF! | F47: =#REF! -> #REF! | G47: =IF(ISBLANK($B47),"",VLOOKUP($B47,'(기계장비-출력하지않음)'!$A$3:$T$215,5,FALSE)) -> #REF! | H47: =J47+L47+N47 -> #REF! | I47: =K47+M47+O47 -> #REF! | J47: =IF(ISBLANK($A47),"",VLOOKUP($A47,#REF!,10,FALSE)) -> #REF! | K47: =INT(F47*J47) -> #REF! | L47: =IF(ISBLANK($A47),"",VLOOKUP($A47,#REF!,12,FALSE)) -> #REF! | M47: =INT(F47*L47) -> #REF! | N47: =IF(ISBLANK($A47),"",VLOOKUP($A47,#REF!,14,FALSE)) -> #REF! | O47: =INT(F47*N47) -> #REF! | P47: =IF(ISBLANK($A47),"",VLOOKUP($A47,#REF!,16,FALSE)) -> #REF!
D48: =IF(ISBLANK($B48),"",VLOOKUP($B48,'(기계장비-출력하지않음)'!$A$3:$T$215,3,FALSE)) | E48: =IF(ISBLANK($B48),"",VLOOKUP($B48,'(기계장비-출력하지않음)'!$A$3:$T$215,4,FALSE)) | F48: =#REF! -> #REF! | G48: =IF(ISBLANK($B48),"",VLOOKUP($B48,'(기계장비-출력하지않음)'!$A$3:$T$215,5,FALSE)) | P48: =IF(ISBLANK($A48),"",VLOOKUP($A48,#REF!,16,FALSE))
D49: =IF(ISBLANK($B49),"",VLOOKUP($B49,'(기계장비-출력하지않음)'!$A$3:$T$215,3,FALSE)) | E49: =IF(ISBLANK($B49),"",VLOOKUP($B49,'(기계장비-출력하지않음)'!$A$3:$T$215,4,FALSE)) | F49: =#REF! -> #REF! | G49: =IF(ISBLANK($B49),"",VLOOKUP($B49,'(기계장비-출력하지않음)'!$A$3:$T$215,5,FALSE)) | P49: =IF(ISBLANK($A49),"",VLOOKUP($A49,#REF!,16,FALSE))
A50: N4-1 | B50: N4-1 | C50: 4-1 | D50: =IF(ISBLANK($B50),"",VLOOKUP($B50,'(기계장비-출력하지않음)'!$A$3:$T$215,3,FALSE)) -> #REF! | E50: =IF(ISBLANK($B50),"",VLOOKUP($B50,'(기계장비-출력하지않음)'!$A$3:$T$215,4,FALSE)) -> #REF! | F50: =#REF! -> #REF! | G50: =IF(ISBLANK($B50),"",VLOOKUP($B50,'(기계장비-출력하지않음)'!$A$3:$T$215,5,FALSE)) -> #REF! | H50: =J50+L50+N50 -> #REF! | I50: =K50+M50+O50 -> #REF! | J50: =IF(ISBLANK($A50),"",VLOOKUP($A50,#REF!,10,FALSE)) -> #REF! | K50: =INT(F50*J50) -> #REF! | L50: =IF(ISBLANK($A50),"",VLOOKUP($A50,#REF!,12,FALSE)) -> #REF! | M50: =INT(F50*L50) -> #REF! | N50: =IF(ISBLANK($A50),"",VLOOKUP($A50,#REF!,14,FALSE)) -> #REF! | O50: =INT(F50*N50) -> #REF! | P50: =IF(ISBLANK($A50),"",VLOOKUP($A50,#REF!,16,FALSE)) -> #REF!
A51: N4-2 | B51: N4-2 | C51: 4-2 | D51: =IF(ISBLANK($B51),"",VLOOKUP($B51,'(기계장비-출력하지않음)'!$A$3:$T$215,3,FALSE)) -> #REF! | E51: =IF(ISBLANK($B51),"",VLOOKUP($B51,'(기계장비-출력하지않음)'!$A$3:$T$215,4,FALSE)) -> #REF! | F51: =#REF! -> #REF! | G51: =IF(ISBLANK($B51),"",VLOOKUP($B51,'(기계장비-출력하지않음)'!$A$3:$T$215,5,FALSE)) -> #REF! | H51: =J51+L51+N51 -> #REF! | I51: =K51+M51+O51 -> #REF! | J51: =IF(ISBLANK($A51),"",VLOOKUP($A51,#REF!,10,FALSE)) -> #REF! | K51: =INT(F51*J51) -> #REF! | L51: =IF(ISBLANK($A51),"",VLOOKUP($A51,#REF!,12,FALSE)) -> #REF! | M51: =INT(F51*L51) -> #REF! | N51: =IF(ISBLANK($A51),"",VLOOKUP($A51,#REF!,14,FALSE)) -> #REF! | O51: =INT(F51*N51) -> #REF! | P51: =IF(ISBLANK($A51),"",VLOOKUP($A51,#REF!,16,FALSE)) -> #REF!
A52: N4-3 | B52: N4-3 | C52: 4-3 | D52: =IF(ISBLANK($B52),"",VLOOKUP($B52,'(기계장비-출력하지않음)'!$A$3:$T$215,3,FALSE)) -> #REF! | E52: =IF(ISBLANK($B52),"",VLOOKUP($B52,'(기계장비-출력하지않음)'!$A$3:$T$215,4,FALSE)) -> #REF! | F52: =#REF! -> #REF! | G52: =IF(ISBLANK($B52),"",VLOOKUP($B52,'(기계장비-출력하지않음)'!$A$3:$T$215,5,FALSE)) -> #REF! | H52: =J52+L52+N52 -> #REF! | I52: =K52+M52+O52 -> #REF! | J52: =IF(ISBLANK($A52),"",VLOOKUP($A52,#REF!,10,FALSE)) -> #REF! | K52: =INT(F52*J52) -> #REF! | L52: =IF(ISBLANK($A52),"",VLOOKUP($A52,#REF!,12,FALSE)) -> #REF! | M52: =INT(F52*L52) -> #REF! | N52: =IF(ISBLANK($A52),"",VLOOKUP($A52,#REF!,14,FALSE)) -> #REF! | O52: =INT(F52*N52) -> #REF! | P52: =IF(ISBLANK($A52),"",VLOOKUP($A52,#REF!,16,FALSE)) -> #REF!
A53: N4-4 | B53: N4-4 | C53: 4-4 | D53: =IF(ISBLANK($B53),"",VLOOKUP($B53,'(기계장비-출력하지않음)'!$A$3:$T$215,3,FALSE)) -> #REF! | E53: =IF(ISBLANK($B53),"",VLOOKUP($B53,'(기계장비-출력하지않음)'!$A$3:$T$215,4,FALSE)) -> #REF! | F53: =#REF! -> #REF! | G53: =IF(ISBLANK($B53),"",VLOOKUP($B53,'(기계장비-출력하지않음)'!$A$3:$T$215,5,FALSE)) -> #REF! | H53: =J53+L53+N53 -> #REF! | I53: =K53+M53+O53 -> #REF! | J53: =IF(ISBLANK($A53),"",VLOOKUP($A53,#REF!,10,FALSE)) -> #REF! | K53: =INT(F53*J53) -> #REF! | L53: =IF(ISBLANK($A53),"",VLOOKUP($A53,#REF!,12,FALSE)) -> #REF! | M53: =INT(F53*L53) -> #REF! | N53: =IF(ISBLANK($A53),"",VLOOKUP($A53,#REF!,14,FALSE)) -> #REF! | O53: =INT(F53*N53) -> #REF! | P53: =IF(ISBLANK($A53),"",VLOOKUP($A53,#REF!,16,FALSE)) -> #REF!
A54: N4-5 | B54: N4-5 | C54: 4-5 | D54: =IF(ISBLANK($B54),"",VLOOKUP($B54,'(기계장비-출력하지않음)'!$A$3:$T$215,3,FALSE)) -> #REF! | E54: =IF(ISBLANK($B54),"",VLOOKUP($B54,'(기계장비-출력하지않음)'!$A$3:$T$215,4,FALSE)) -> #REF! | F54: =#REF! -> #REF! | G54: =IF(ISBLANK($B54),"",VLOOKUP($B54,'(기계장비-출력하지않음)'!$A$3:$T$215,5,FALSE)) -> #REF! | H54: =J54+L54+N54 -> #REF! | I54: =K54+M54+O54 -> #REF! | J54: =IF(ISBLANK($A54),"",VLOOKUP($A54,#REF!,10,FALSE)) -> #REF! | K54: =INT(F54*J54) -> #REF! | L54: =IF(ISBLANK($A54),"",VLOOKUP($A54,#REF!,12,FALSE)) -> #REF! | M54: =INT(F54*L54) -> #REF! | N54: =IF(ISBLANK($A54),"",VLOOKUP($A54,#REF!,14,FALSE)) -> #REF! | O54: =INT(F54*N54) -> #REF! | P54: =IF(ISBLANK($A54),"",VLOOKUP($A54,#REF!,16,FALSE)) -> #REF!
A55: N4-5-1 | B55: N4-5-1 | C55: 4-5-1 | D55: =IF(ISBLANK($B55),"",VLOOKUP($B55,'(기계장비-출력하지않음)'!$A$3:$T$215,3,FALSE)) -> #REF! | E55: =IF(ISBLANK($B55),"",VLOOKUP($B55,'(기계장비-출력하지않음)'!$A$3:$T$215,4,FALSE)) -> #REF! | F55: =#REF! -> #REF! | G55: =IF(ISBLANK($B55),"",VLOOKUP($B55,'(기계장비-출력하지않음)'!$A$3:$T$215,5,FALSE)) -> #REF! | H55: =J55+L55+N55 -> #REF! | I55: =K55+M55+O55 -> #REF! | J55: =IF(ISBLANK($A55),"",VLOOKUP($A55,#REF!,10,FALSE)) -> #REF! | K55: =INT(F55*J55) -> #REF! | L55: =IF(ISBLANK($A55),"",VLOOKUP($A55,#REF!,12,FALSE)) -> #REF! | M55: =INT(F55*L55) -> #REF! | N55: =IF(ISBLANK($A55),"",VLOOKUP($A55,#REF!,14,FALSE)) -> #REF! | O55: =INT(F55*N55) -> #REF! | P55: =IF(ISBLANK($A55),"",VLOOKUP($A55,#REF!,16,FALSE)) -> #REF!
A56: N4-5-2 | B56: N4-5-2 | C56: 4-5-2 | D56: =IF(ISBLANK($B56),"",VLOOKUP($B56,'(기계장비-출력하지않음)'!$A$3:$T$215,3,FALSE)) -> #REF! | E56: =IF(ISBLANK($B56),"",VLOOKUP($B56,'(기계장비-출력하지않음)'!$A$3:$T$215,4,FALSE)) -> #REF! | F56: =#REF! -> #REF! | G56: =IF(ISBLANK($B56),"",VLOOKUP($B56,'(기계장비-출력하지않음)'!$A$3:$T$215,5,FALSE)) -> #REF! | H56: =J56+L56+N56 -> #REF! | I56: =K56+M56+O56 -> #REF! | J56: =IF(ISBLANK($A56),"",VLOOKUP($A56,#REF!,10,FALSE)) -> #REF! | K56: =INT(F56*J56) -> #REF! | L56: =IF(ISBLANK($A56),"",VLOOKUP($A56,#REF!,12,FALSE)) -> #REF! | M56: =INT(F56*L56) -> #REF! | N56: =IF(ISBLANK($A56),"",VLOOKUP($A56,#REF!,14,FALSE)) -> #REF! | O56: =INT(F56*N56) -> #REF! | P56: =IF(ISBLANK($A56),"",VLOOKUP($A56,#REF!,16,FALSE)) -> #REF!
A57: N4-5-3 | B57: N4-5-3 | C57: 4-5-3 | D57: =IF(ISBLANK($B57),"",VLOOKUP($B57,'(기계장비-출력하지않음)'!$A$3:$T$215,3,FALSE)) -> #REF! | E57: =IF(ISBLANK($B57),"",VLOOKUP($B57,'(기계장비-출력하지않음)'!$A$3:$T$215,4,FALSE)) -> #REF! | F57: =#REF! -> #REF! | G57: =IF(ISBLANK($B57),"",VLOOKUP($B57,'(기계장비-출력하지않음)'!$A$3:$T$215,5,FALSE)) -> #REF! | H57: =J57+L57+N57 -> #REF! | I57: =K57+M57+O57 -> #REF! | J57: =IF(ISBLANK($A57),"",VLOOKUP($A57,#REF!,10,FALSE)) -> #REF! | K57: =INT(F57*J57) -> #REF! | L57: =IF(ISBLANK($A57),"",VLOOKUP($A57,#REF!,12,FALSE)) -> #REF! | M57: =INT(F57*L57) -> #REF! | N57: =IF(ISBLANK($A57),"",VLOOKUP($A57,#REF!,14,FALSE)) -> #REF! | O57: =INT(F57*N57) -> #REF! | P57: =IF(ISBLANK($A57),"",VLOOKUP($A57,#REF!,16,FALSE)) -> #REF!
A58: N4-5-4 | B58: N4-5-4 | C58: 4-5-4 | D58: =IF(ISBLANK($B58),"",VLOOKUP($B58,'(기계장비-출력하지않음)'!$A$3:$T$215,3,FALSE)) -> #REF! | E58: =IF(ISBLANK($B58),"",VLOOKUP($B58,'(기계장비-출력하지않음)'!$A$3:$T$215,4,FALSE)) -> #REF! | F58: =#REF! -> #REF! | G58: =IF(ISBLANK($B58),"",VLOOKUP($B58,'(기계장비-출력하지않음)'!$A$3:$T$215,5,FALSE)) -> #REF! | H58: =J58+L58+N58 -> #REF! | I58: =K58+M58+O58 -> #REF! | J58: =IF(ISBLANK($A58),"",VLOOKUP($A58,#REF!,10,FALSE)) -> #REF! | K58: =INT(F58*J58) -> #REF! | L58: =IF(ISBLANK($A58),"",VLOOKUP($A58,#REF!,12,FALSE)) -> #REF! | M58: =INT(F58*L58) -> #REF! | N58: =IF(ISBLANK($A58),"",VLOOKUP($A58,#REF!,14,FALSE)) -> #REF! | O58: =INT(F58*N58) -> #REF! | P58: =IF(ISBLANK($A58),"",VLOOKUP($A58,#REF!,16,FALSE)) -> #REF!
A59: N4-5-5 | B59: N4-5-5 | C59: 4-5-5 | D59: =IF(ISBLANK($B59),"",VLOOKUP($B59,'(기계장비-출력하지않음)'!$A$3:$T$215,3,FALSE)) -> #REF! | E59: =IF(ISBLANK($B59),"",VLOOKUP($B59,'(기계장비-출력하지않음)'!$A$3:$T$215,4,FALSE)) -> #REF! | F59: =#REF! -> #REF! | G59: =IF(ISBLANK($B59),"",VLOOKUP($B59,'(기계장비-출력하지않음)'!$A$3:$T$215,5,FALSE)) -> #REF! | H59: =J59+L59+N59 -> #REF! | I59: =K59+M59+O59 -> #REF! | J59: =IF(ISBLANK($A59),"",VLOOKUP($A59,#REF!,10,FALSE)) -> #REF! | K59: =INT(F59*J59) -> #REF! | L59: =IF(ISBLANK($A59),"",VLOOKUP($A59,#REF!,12,FALSE)) -> #REF! | M59: =INT(F59*L59) -> #REF! | N59: =IF(ISBLANK($A59),"",VLOOKUP($A59,#REF!,14,FALSE)) -> #REF! | O59: =INT(F59*N59) -> #REF! | P59: =IF(ISBLANK($A59),"",VLOOKUP($A59,#REF!,16,FALSE)) -> #REF!
A60: N4-6 | B60: N4-6 | C60: 4-6 | D60: =IF(ISBLANK($B60),"",VLOOKUP($B60,'(기계장비-출력하지않음)'!$A$3:$T$215,3,FALSE)) -> #REF! | E60: =IF(ISBLANK($B60),"",VLOOKUP($B60,'(기계장비-출력하지않음)'!$A$3:$T$215,4,FALSE)) -> #REF! | F60: =#REF! -> #REF! | G60: =IF(ISBLANK($B60),"",VLOOKUP($B60,'(기계장비-출력하지않음)'!$A$3:$T$215,5,FALSE)) -> #REF! | H60: =J60+L60+N60 -> #REF! | I60: =K60+M60+O60 -> #REF! | J60: =IF(ISBLANK($A60),"",VLOOKUP($A60,#REF!,10,FALSE)) -> #REF! | K60: =INT(F60*J60) -> #REF! | L60: =IF(ISBLANK($A60),"",VLOOKUP($A60,#REF!,12,FALSE)) -> #REF! | M60: =INT(F60*L60) -> #REF! | N60: =IF(ISBLANK($A60),"",VLOOKUP($A60,#REF!,14,FALSE)) -> #REF! | O60: =INT(F60*N60) -> #REF! | P60: =IF(ISBLANK($A60),"",VLOOKUP($A60,#REF!,16,FALSE)) -> #REF!
A61: N4-6-1 | B61: N4-6-1 | C61: 4-6-1 | D61: =IF(ISBLANK($B61),"",VLOOKUP($B61,'(기계장비-출력하지않음)'!$A$3:$T$215,3,FALSE)) -> #REF! | E61: =IF(ISBLANK($B61),"",VLOOKUP($B61,'(기계장비-출력하지않음)'!$A$3:$T$215,4,FALSE)) -> #REF! | F61: =#REF! -> #REF! | G61: =IF(ISBLANK($B61),"",VLOOKUP($B61,'(기계장비-출력하지않음)'!$A$3:$T$215,5,FALSE)) -> #REF! | H61: =J61+L61+N61 -> #REF! | I61: =K61+M61+O61 -> #REF! | J61: =IF(ISBLANK($A61),"",VLOOKUP($A61,#REF!,10,FALSE)) -> #REF! | K61: =INT(F61*J61) -> #REF! | L61: =IF(ISBLANK($A61),"",VLOOKUP($A61,#REF!,12,FALSE)) -> #REF! | M61: =INT(F61*L61) -> #REF! | N61: =IF(ISBLANK($A61),"",VLOOKUP($A61,#REF!,14,FALSE)) -> #REF! | O61: =INT(F61*N61) -> #REF! | P61: =IF(ISBLANK($A61),"",VLOOKUP($A61,#REF!,16,FALSE)) -> #REF!
... A66: N4-11 | B66: N4-11 | C66: 4-11 | D66: =IF(ISBLANK($B66),"",VLOOKUP($B66,'(기계장비-출력하지않음)'!$A$3:$T$215,3,FALSE)) -> #REF! | E66: =IF(ISBLANK($B66),"",VLOOKUP($B66,'(기계장비-출력하지않음)'!$A$3:$T$215,4,FALSE)) -> #REF! | F66: =#REF! -> #REF! | G66: =IF(ISBLANK($B66),"",VLOOKUP($B66,'(기계장비-출력하지않음)'!$A$3:$T$215,5,FALSE)) -> #REF! | H66: =J66+L66+N66 -> #REF! | I66: =K66+M66+O66 -> #REF! | J66: =IF(ISBLANK($A66),"",VLOOKUP($A66,#REF!,10,FALSE)) -> #REF! | K66: =INT(F66*J66) -> #REF! | L66: =IF(ISBLANK($A66),"",VLOOKUP($A66,#REF!,12,FALSE)) -> #REF! | M66: =INT(F66*L66) -> #REF! | N66: =IF(ISBLANK($A66),"",VLOOKUP($A66,#REF!,14,FALSE)) -> #REF! | O66: =INT(F66*N66) -> #REF! | P66: =IF(ISBLANK($A66),"",VLOOKUP($A66,#REF!,16,FALSE)) -> #REF!
D67: =IF(ISBLANK($B67),"",VLOOKUP($B67,'(기계장비-출력하지않음)'!$A$3:$T$215,3,FALSE)) | E67: =IF(ISBLANK($B67),"",VLOOKUP($B67,'(기계장비-출력하지않음)'!$A$3:$T$215,4,FALSE)) | F67: =#REF! -> #REF! | G67: =IF(ISBLANK($B67),"",VLOOKUP($B67,'(기계장비-출력하지않음)'!$A$3:$T$215,5,FALSE))
D68: =IF(ISBLANK($B68),"",VLOOKUP($B68,'(기계장비-출력하지않음)'!$A$3:$T$215,3,FALSE)) | E68: =IF(ISBLANK($B68),"",VLOOKUP($B68,'(기계장비-출력하지않음)'!$A$3:$T$215,4,FALSE)) | F68: =#REF! -> #REF! | G68: =IF(ISBLANK($B68),"",VLOOKUP($B68,'(기계장비-출력하지않음)'!$A$3:$T$215,5,FALSE))
A69: N5-1 | B69: N5-1 | C69: 5-1 | D69: =IF(ISBLANK($B69),"",VLOOKUP($B69,'(기계장비-출력하지않음)'!$A$3:$T$215,3,FALSE)) -> #REF! | E69: =IF(ISBLANK($B69),"",VLOOKUP($B69,'(기계장비-출력하지않음)'!$A$3:$T$215,4,FALSE)) -> #REF! | F69: =#REF! -> #REF! | G69: =IF(ISBLANK($B69),"",VLOOKUP($B69,'(기계장비-출력하지않음)'!$A$3:$T$215,5,FALSE)) -> #REF! | H69: =J69+L69+N69 -> #REF! | I69: =K69+M69+O69 -> #REF! | J69: =IF(ISBLANK($A69),"",VLOOKUP($A69,#REF!,10,FALSE)) -> #REF! | K69: =INT(F69*J69) -> #REF! | L69: =IF(ISBLANK($A69),"",VLOOKUP($A69,#REF!,12,FALSE)) -> #REF! | M69: =INT(F69*L69) -> #REF! | N69: =IF(ISBLANK($A69),"",VLOOKUP($A69,#REF!,14,FALSE)) -> #REF! | O69: =INT(F69*N69) -> #REF! | P69: =IF(ISBLANK($A69),"",VLOOKUP($A69,#REF!,16,FALSE)) -> #REF!
A70: N5-2 | B70: N5-2 | C70: 5-2 | D70: =IF(ISBLANK($B70),"",VLOOKUP($B70,'(기계장비-출력하지않음)'!$A$3:$T$215,3,FALSE)) -> #REF! | E70: =IF(ISBLANK($B70),"",VLOOKUP($B70,'(기계장비-출력하지않음)'!$A$3:$T$215,4,FALSE)) -> #REF! | F70: =#REF! -> #REF! | G70: =IF(ISBLANK($B70),"",VLOOKUP($B70,'(기계장비-출력하지않음)'!$A$3:$T$215,5,FALSE)) -> #REF! | H70: =J70+L70+N70 -> #REF! | I70: =K70+M70+O70 -> #REF! | J70: =IF(ISBLANK($A70),"",VLOOKUP($A70,#REF!,10,FALSE)) -> #REF! | K70: =INT(F70*J70) -> #REF! | L70: =IF(ISBLANK($A70),"",VLOOKUP($A70,#REF!,12,FALSE)) -> #REF! | M70: =INT(F70*L70) -> #REF! | N70: =IF(ISBLANK($A70),"",VLOOKUP($A70,#REF!,14,FALSE)) -> #REF! | O70: =INT(F70*N70) -> #REF! | P70: =IF(ISBLANK($A70),"",VLOOKUP($A70,#REF!,16,FALSE)) -> #REF!
A71: N5-3 | B71: N5-3 | C71: 5-3 | D71: =IF(ISBLANK($B71),"",VLOOKUP($B71,'(기계장비-출력하지않음)'!$A$3:$T$215,3,FALSE)) -> #REF! | E71: =IF(ISBLANK($B71),"",VLOOKUP($B71,'(기계장비-출력하지않음)'!$A$3:$T$215,4,FALSE)) -> #REF! | F71: =#REF! -> #REF! | G71: =IF(ISBLANK($B71),"",VLOOKUP($B71,'(기계장비-출력하지않음)'!$A$3:$T$215,5,FALSE)) -> #REF! | H71: =J71+L71+N71 -> #REF! | I71: =K71+M71+O71 -> #REF! | J71: =IF(ISBLANK($A71),"",VLOOKUP($A71,#REF!,10,FALSE)) -> #REF! | K71: =INT(F71*J71) -> #REF! | L71: =IF(ISBLANK($A71),"",VLOOKUP($A71,#REF!,12,FALSE)) -> #REF! | M71: =INT(F71*L71) -> #REF! | N71: =IF(ISBLANK($A71),"",VLOOKUP($A71,#REF!,14,FALSE)) -> #REF! | O71: =INT(F71*N71) -> #REF! | P71: =IF(ISBLANK($A71),"",VLOOKUP($A71,#REF!,16,FALSE)) -> #REF!
A72: N5-4 | B72: N5-4 | C72: 5-4 | D72: =IF(ISBLANK($B72),"",VLOOKUP($B72,'(기계장비-출력하지않음)'!$A$3:$T$215,3,FALSE)) -> #REF! | E72: =IF(ISBLANK($B72),"",VLOOKUP($B72,'(기계장비-출력하지않음)'!$A$3:$T$215,4,FALSE)) -> #REF! | F72: =#REF! -> #REF! | G72: =IF(ISBLANK($B72),"",VLOOKUP($B72,'(기계장비-출력하지않음)'!$A$3:$T$215,5,FALSE)) -> #REF! | H72: =J72+L72+N72 -> #REF! | I72: =K72+M72+O72 -> #REF! | J72: =IF(ISBLANK($A72),"",VLOOKUP($A72,#REF!,10,FALSE)) -> #REF! | K72: =INT(F72*J72) -> #REF! | L72: =IF(ISBLANK($A72),"",VLOOKUP($A72,#REF!,12,FALSE)) -> #REF! | M72: =INT(F72*L72) -> #REF! | N72: =IF(ISBLANK($A72),"",VLOOKUP($A72,#REF!,14,FALSE)) -> #REF! | O72: =INT(F72*N72) -> #REF! | P72: =IF(ISBLANK($A72),"",VLOOKUP($A72,#REF!,16,FALSE)) -> #REF!
A73: N5-5 | B73: N5-5 | C73: 5-5 | D73: =IF(ISBLANK($B73),"",VLOOKUP($B73,'(기계장비-출력하지않음)'!$A$3:$T$215,3,FALSE)) -> #REF! | E73: =IF(ISBLANK($B73),"",VLOOKUP($B73,'(기계장비-출력하지않음)'!$A$3:$T$215,4,FALSE)) -> #REF! | F73: =#REF! -> #REF! | G73: =IF(ISBLANK($B73),"",VLOOKUP($B73,'(기계장비-출력하지않음)'!$A$3:$T$215,5,FALSE)) -> #REF! | H73: =J73+L73+N73 -> #REF! | I73: =K73+M73+O73 -> #REF! | J73: =IF(ISBLANK($A73),"",VLOOKUP($A73,#REF!,10,FALSE)) -> #REF! | K73: =INT(F73*J73) -> #REF! | L73: =IF(ISBLANK($A73),"",VLOOKUP($A73,#REF!,12,FALSE)) -> #REF! | M73: =INT(F73*L73) -> #REF! | N73: =IF(ISBLANK($A73),"",VLOOKUP($A73,#REF!,14,FALSE)) -> #REF! | O73: =INT(F73*N73) -> #REF! | P73: =IF(ISBLANK($A73),"",VLOOKUP($A73,#REF!,16,FALSE)) -> #REF!
A74: N5-6 | B74: N5-6 | C74: 5-6 | D74: =IF(ISBLANK($B74),"",VLOOKUP($B74,'(기계장비-출력하지않음)'!$A$3:$T$215,3,FALSE)) -> #REF! | E74: =IF(ISBLANK($B74),"",VLOOKUP($B74,'(기계장비-출력하지않음)'!$A$3:$T$215,4,FALSE)) -> #REF! | F74: =#REF! -> #REF! | G74: =IF(ISBLANK($B74),"",VLOOKUP($B74,'(기계장비-출력하지않음)'!$A$3:$T$215,5,FALSE)) -> #REF! | H74: =J74+L74+N74 -> #REF! | I74: =K74+M74+O74 -> #REF! | J74: =IF(ISBLANK($A74),"",VLOOKUP($A74,#REF!,10,FALSE)) -> #REF! | K74: =INT(F74*J74) -> #REF! | L74: =IF(ISBLANK($A74),"",VLOOKUP($A74,#REF!,12,FALSE)) -> #REF! | M74: =INT(F74*L74) -> #REF! | N74: =IF(ISBLANK($A74),"",VLOOKUP($A74,#REF!,14,FALSE)) -> #REF! | O74: =INT(F74*N74) -> #REF! | P74: =IF(ISBLANK($A74),"",VLOOKUP($A74,#REF!,16,FALSE)) -> #REF!
A75: N5-7 | B75: N5-7 | C75: 5-7 | D75: =IF(ISBLANK($B75),"",VLOOKUP($B75,'(기계장비-출력하지않음)'!$A$3:$T$215,3,FALSE)) -> #REF! | E75: =IF(ISBLANK($B75),"",VLOOKUP($B75,'(기계장비-출력하지않음)'!$A$3:$T$215,4,FALSE)) -> #REF! | F75: =#REF! -> #REF! | G75: =IF(ISBLANK($B75),"",VLOOKUP($B75,'(기계장비-출력하지않음)'!$A$3:$T$215,5,FALSE)) -> #REF! | H75: =J75+L75+N75 -> #REF! | I75: =K75+M75+O75 -> #REF! | J75: =IF(ISBLANK($A75),"",VLOOKUP($A75,#REF!,10,FALSE)) -> #REF! | K75: =INT(F75*J75) -> #REF! | L75: =IF(ISBLANK($A75),"",VLOOKUP($A75,#REF!,12,FALSE)) -> #REF! | M75: =INT(F75*L75) -> #REF! | N75: =IF(ISBLANK($A75),"",VLOOKUP($A75,#REF!,14,FALSE)) -> #REF! | O75: =INT(F75*N75) -> #REF! | P75: =IF(ISBLANK($A75),"",VLOOKUP($A75,#REF!,16,FALSE)) -> #REF!
A76: N5-8 | B76: N5-8 | C76: 5-8 | D76: =IF(ISBLANK($B76),"",VLOOKUP($B76,'(기계장비-출력하지않음)'!$A$3:$T$215,3,FALSE)) -> #REF! | E76: =IF(ISBLANK($B76),"",VLOOKUP($B76,'(기계장비-출력하지않음)'!$A$3:$T$215,4,FALSE)) -> #REF! | F76: =#REF! -> #REF! | G76: =IF(ISBLANK($B76),"",VLOOKUP($B76,'(기계장비-출력하지않음)'!$A$3:$T$215,5,FALSE)) -> #REF! | H76: =J76+L76+N76 -> #REF! | I76: =K76+M76+O76 -> #REF! | J76: =IF(ISBLANK($A76),"",VLOOKUP($A76,#REF!,10,FALSE)) -> #REF! | K76: =INT(F76*J76) -> #REF! | L76: =IF(ISBLANK($A76),"",VLOOKUP($A76,#REF!,12,FALSE)) -> #REF! | M76: =INT(F76*L76) -> #REF! | N76: =IF(ISBLANK($A76),"",VLOOKUP($A76,#REF!,14,FALSE)) -> #REF! | O76: =INT(F76*N76) -> #REF! | P76: =IF(ISBLANK($A76),"",VLOOKUP($A76,#REF!,16,FALSE)) -> #REF!
A77: N5-9 | B77: N5-9 | C77: 5-9 | D77: =IF(ISBLANK($B77),"",VLOOKUP($B77,'(기계장비-출력하지않음)'!$A$3:$T$215,3,FALSE)) -> #REF! | E77: =IF(ISBLANK($B77),"",VLOOKUP($B77,'(기계장비-출력하지않음)'!$A$3:$T$215,4,FALSE)) -> #REF! | F77: =#REF! -> #REF! | G77: =IF(ISBLANK($B77),"",VLOOKUP($B77,'(기계장비-출력하지않음)'!$A$3:$T$215,5,FALSE)) -> #REF! | H77: =J77+L77+N77 -> #REF! | I77: =K77+M77+O77 -> #REF! | J77: =IF(ISBLANK($A77),"",VLOOKUP($A77,#REF!,10,FALSE)) -> #REF! | K77: =INT(F77*J77) -> #REF! | L77: =IF(ISBLANK($A77),"",VLOOKUP($A77,#REF!,12,FALSE)) -> #REF! | M77: =INT(F77*L77) -> #REF! | N77: =IF(ISBLANK($A77),"",VLOOKUP($A77,#REF!,14,FALSE)) -> #REF! | O77: =INT(F77*N77) -> #REF! | P77: =IF(ISBLANK($A77),"",VLOOKUP($A77,#REF!,16,FALSE)) -> #REF!
A78: N5-10 | B78: N5-10 | C78: 5-10 | D78: =IF(ISBLANK($B78),"",VLOOKUP($B78,'(기계장비-출력하지않음)'!$A$3:$T$215,3,FALSE)) -> #REF! | E78: =IF(ISBLANK($B78),"",VLOOKUP($B78,'(기계장비-출력하지않음)'!$A$3:$T$215,4,FALSE)) -> #REF! | F78: =#REF! -> #REF! | G78: =IF(ISBLANK($B78),"",VLOOKUP($B78,'(기계장비-출력하지않음)'!$A$3:$T$215,5,FALSE)) -> #REF! | H78: =J78+L78+N78 -> #REF! | I78: =K78+M78+O78 -> #REF! | J78: =IF(ISBLANK($A78),"",VLOOKUP($A78,#REF!,10,FALSE)) -> #REF! | K78: =INT(F78*J78) -> #REF! | L78: =IF(ISBLANK($A78),"",VLOOKUP($A78,#REF!,12,FALSE)) -> #REF! | M78: =INT(F78*L78) -> #REF! | N78: =IF(ISBLANK($A78),"",VLOOKUP($A78,#REF!,14,FALSE)) -> #REF! | O78: =INT(F78*N78) -> #REF! | P78: =IF(ISBLANK($A78),"",VLOOKUP($A78,#REF!,16,FALSE)) -> #REF!
A79: N5-11 | B79: N5-11 | C79: 5-11 | D79: =IF(ISBLANK($B79),"",VLOOKUP($B79,'(기계장비-출력하지않음)'!$A$3:$T$215,3,FALSE)) -> #REF! | E79: =IF(ISBLANK($B79),"",VLOOKUP($B79,'(기계장비-출력하지않음)'!$A$3:$T$215,4,FALSE)) -> #REF! | F79: =#REF! -> #REF! | G79: =IF(ISBLANK($B79),"",VLOOKUP($B79,'(기계장비-출력하지않음)'!$A$3:$T$215,5,FALSE)) -> #REF! | H79: =J79+L79+N79 -> #REF! | I79: =K79+M79+O79 -> #REF! | J79: =IF(ISBLANK($A79),"",VLOOKUP($A79,#REF!,10,FALSE)) -> #REF! | K79: =INT(F79*J79) -> #REF! | L79: =IF(ISBLANK($A79),"",VLOOKUP($A79,#REF!,12,FALSE)) -> #REF! | M79: =INT(F79*L79) -> #REF! | N79: =IF(ISBLANK($A79),"",VLOOKUP($A79,#REF!,14,FALSE)) -> #REF! | O79: =INT(F79*N79) -> #REF! | P79: =IF(ISBLANK($A79),"",VLOOKUP($A79,#REF!,16,FALSE)) -> #REF!
A80: N5-12 | B80: N5-12 | C80: 5-12 | D80: =IF(ISBLANK($B80),"",VLOOKUP($B80,'(기계장비-출력하지않음)'!$A$3:$T$215,3,FALSE)) -> #REF! | E80: =IF(ISBLANK($B80),"",VLOOKUP($B80,'(기계장비-출력하지않음)'!$A$3:$T$215,4,FALSE)) -> #REF! | F80: =#REF! -> #REF! | G80: =IF(ISBLANK($B80),"",VLOOKUP($B80,'(기계장비-출력하지않음)'!$A$3:$T$215,5,FALSE)) -> #REF! | H80: =J80+L80+N80 -> #REF! | I80: =K80+M80+O80 -> #REF! | J80: =IF(ISBLANK($A80),"",VLOOKUP($A80,#REF!,10,FALSE)) -> #REF! | K80: =INT(F80*J80) -> #REF! | L80: =IF(ISBLANK($A80),"",VLOOKUP($A80,#REF!,12,FALSE)) -> #REF! | M80: =INT(F80*L80) -> #REF! | N80: =IF(ISBLANK($A80),"",VLOOKUP($A80,#REF!,14,FALSE)) -> #REF! | O80: =INT(F80*N80) -> #REF! | P80: =IF(ISBLANK($A80),"",VLOOKUP($A80,#REF!,16,FALSE)) -> #REF!
... A83: N무근타설인력 | B83: N무근타설인력 | C83: 무근타설인력 | D83: =IF(ISBLANK($B83),"",VLOOKUP($B83,'(기계장비-출력하지않음)'!$A$3:$T$215,3,FALSE)) -> #REF! | E83: =IF(ISBLANK($B83),"",VLOOKUP($B83,'(기계장비-출력하지않음)'!$A$3:$T$215,4,FALSE)) -> #REF! | F83: =#REF! -> #REF! | G83: =IF(ISBLANK($B83),"",VLOOKUP($B83,'(기계장비-출력하지않음)'!$A$3:$T$215,5,FALSE)) -> #REF! | H83: =J83+L83+N83 -> #REF! | I83: =K83+M83+O83 -> #REF! | J83: =IF(ISBLANK($A83),"",VLOOKUP($A83,#REF!,10,FALSE)) -> #REF! | K83: =INT(F83*J83) -> #REF! | L83: =IF(ISBLANK($A83),"",VLOOKUP($A83,#REF!,12,FALSE)) -> #REF! | M83: =INT(F83*L83) -> #REF! | N83: =IF(ISBLANK($A83),"",VLOOKUP($A83,#REF!,14,FALSE)) -> #REF! | O83: =INT(F83*N83) -> #REF! | P83: =IF(ISBLANK($A83),"",VLOOKUP($A83,#REF!,16,FALSE)) -> #REF!
D84: =IF(ISBLANK($B84),"",VLOOKUP($B84,'(기계장비-출력하지않음)'!$A$3:$T$215,3,FALSE)) | E84: =IF(ISBLANK($B84),"",VLOOKUP($B84,'(기계장비-출력하지않음)'!$A$3:$T$215,4,FALSE)) | F84: =#REF! -> #REF! | G84: =IF(ISBLANK($B84),"",VLOOKUP($B84,'(기계장비-출력하지않음)'!$A$3:$T$215,5,FALSE))
A85: N6-1 | B85: N6-1 | C85: 6-1 | D85: =IF(ISBLANK($B85),"",VLOOKUP($B85,'(기계장비-출력하지않음)'!$A$3:$T$215,3,FALSE)) -> #REF! | E85: =IF(ISBLANK($B85),"",VLOOKUP($B85,'(기계장비-출력하지않음)'!$A$3:$T$215,4,FALSE)) -> #REF! | F85: =#REF! -> #REF! | G85: =IF(ISBLANK($B85),"",VLOOKUP($B85,'(기계장비-출력하지않음)'!$A$3:$T$215,5,FALSE)) -> #REF! | H85: =J85+L85+N85 -> #REF! | I85: =K85+M85+O85 -> #REF! | J85: =IF(ISBLANK($A85),"",VLOOKUP($A85,#REF!,10,FALSE)) -> #REF! | K85: =INT(F85*J85) -> #REF! | L85: =IF(ISBLANK($A85),"",VLOOKUP($A85,#REF!,12,FALSE)) -> #REF! | M85: =INT(F85*L85) -> #REF! | N85: =IF(ISBLANK($A85),"",VLOOKUP($A85,#REF!,14,FALSE)) -> #REF! | O85: =INT(F85*N85) -> #REF! | P85: =IF(ISBLANK($A85),"",VLOOKUP($A85,#REF!,16,FALSE)) -> #REF!
A86: N6-2 | B86: N6-2 | C86: 6-2 | D86: =IF(ISBLANK($B86),"",VLOOKUP($B86,'(기계장비-출력하지않음)'!$A$3:$T$215,3,FALSE)) -> #REF! | E86: =IF(ISBLANK($B86),"",VLOOKUP($B86,'(기계장비-출력하지않음)'!$A$3:$T$215,4,FALSE)) -> #REF! | F86: =#REF! -> #REF! | G86: =IF(ISBLANK($B86),"",VLOOKUP($B86,'(기계장비-출력하지않음)'!$A$3:$T$215,5,FALSE)) -> #REF! | H86: =J86+L86+N86 -> #REF! | I86: =K86+M86+O86 -> #REF! | J86: =IF(ISBLANK($A86),"",VLOOKUP($A86,#REF!,10,FALSE)) -> #REF! | K86: =INT(F86*J86) -> #REF! | L86: =IF(ISBLANK($A86),"",VLOOKUP($A86,#REF!,12,FALSE)) -> #REF! | M86: =INT(F86*L86) -> #REF! | N86: =IF(ISBLANK($A86),"",VLOOKUP($A86,#REF!,14,FALSE)) -> #REF! | O86: =INT(F86*N86) -> #REF! | P86: =IF(ISBLANK($A86),"",VLOOKUP($A86,#REF!,16,FALSE)) -> #REF!
A87: N6-3 | B87: N6-3 | C87: 6-3 | D87: =IF(ISBLANK($B87),"",VLOOKUP($B87,'(기계장비-출력하지않음)'!$A$3:$T$215,3,FALSE)) -> #REF! | E87: =IF(ISBLANK($B87),"",VLOOKUP($B87,'(기계장비-출력하지않음)'!$A$3:$T$215,4,FALSE)) -> #REF! | F87: =#REF! -> #REF! | G87: =IF(ISBLANK($B87),"",VLOOKUP($B87,'(기계장비-출력하지않음)'!$A$3:$T$215,5,FALSE)) -> #REF! | H87: =J87+L87+N87 -> #REF! | I87: =K87+M87+O87 -> #REF! | J87: =IF(ISBLANK($A87),"",VLOOKUP($A87,#REF!,10,FALSE)) -> #REF! | K87: =INT(F87*J87) -> #REF! | L87: =IF(ISBLANK($A87),"",VLOOKUP($A87,#REF!,12,FALSE)) -> #REF! | M87: =INT(F87*L87) -> #REF! | N87: =IF(ISBLANK($A87),"",VLOOKUP($A87,#REF!,14,FALSE)) -> #REF! | O87: =INT(F87*N87) -> #REF! | P87: =IF(ISBLANK($A87),"",VLOOKUP($A87,#REF!,16,FALSE)) -> #REF!
D88: =IF(ISBLANK($B88),"",VLOOKUP($B88,'(기계장비-출력하지않음)'!$A$3:$T$215,3,FALSE)) | E88: =IF(ISBLANK($B88),"",VLOOKUP($B88,'(기계장비-출력하지않음)'!$A$3:$T$215,4,FALSE)) | F88: =#REF! -> #REF! | G88: =IF(ISBLANK($B88),"",VLOOKUP($B88,'(기계장비-출력하지않음)'!$A$3:$T$215,5,FALSE)) | P88: =IF(ISBLANK($A88),"",VLOOKUP($A88,#REF!,16,FALSE))
D89: =IF(ISBLANK($B89),"",VLOOKUP($B89,'(기계장비-출력하지않음)'!$A$3:$T$215,3,FALSE)) | E89: =IF(ISBLANK($B89),"",VLOOKUP($B89,'(기계장비-출력하지않음)'!$A$3:$T$215,4,FALSE)) | F89: =#REF! -> #REF! | G89: =IF(ISBLANK($B89),"",VLOOKUP($B89,'(기계장비-출력하지않음)'!$A$3:$T$215,5,FALSE)) | P89: =IF(ISBLANK($A89),"",VLOOKUP($A89,#REF!,16,FALSE))
A90: N7-1 | B90: N7-1 | C90: 7-1 | D90: =IF(ISBLANK($B90),"",VLOOKUP($B90,'(기계장비-출력하지않음)'!$A$3:$T$215,3,FALSE)) -> #REF! | E90: =IF(ISBLANK($B90),"",VLOOKUP($B90,'(기계장비-출력하지않음)'!$A$3:$T$215,4,FALSE)) -> #REF! | F90: =#REF! -> #REF! | G90: =IF(ISBLANK($B90),"",VLOOKUP($B90,'(기계장비-출력하지않음)'!$A$3:$T$215,5,FALSE)) -> #REF! | H90: =J90+L90+N90 -> #REF! | I90: =K90+M90+O90 -> #REF! | J90: =IF(ISBLANK($A90),"",VLOOKUP($A90,#REF!,10,FALSE)) -> #REF! | K90: =INT(F90*J90) -> #REF! | L90: =IF(ISBLANK($A90),"",VLOOKUP($A90,#REF!,12,FALSE)) -> #REF! | M90: =INT(F90*L90) -> #REF! | N90: =IF(ISBLANK($A90),"",VLOOKUP($A90,#REF!,14,FALSE)) -> #REF! | O90: =INT(F90*N90) -> #REF! | P90: =IF(ISBLANK($A90),"",VLOOKUP($A90,#REF!,16,FALSE)) -> #REF!
A91: N7-2 | B91: N7-2 | C91: 7-2 | D91: =IF(ISBLANK($B91),"",VLOOKUP($B91,'(기계장비-출력하지않음)'!$A$3:$T$215,3,FALSE)) -> #REF! | E91: =IF(ISBLANK($B91),"",VLOOKUP($B91,'(기계장비-출력하지않음)'!$A$3:$T$215,4,FALSE)) -> #REF! | F91: =#REF! -> #REF! | G91: =IF(ISBLANK($B91),"",VLOOKUP($B91,'(기계장비-출력하지않음)'!$A$3:$T$215,5,FALSE)) -> #REF! | H91: =J91+L91+N91 -> #REF! | I91: =K91+M91+O91 -> #REF! | J91: =IF(ISBLANK($A91),"",VLOOKUP($A91,#REF!,10,FALSE)) -> #REF! | K91: =INT(F91*J91) -> #REF! | L91: =IF(ISBLANK($A91),"",VLOOKUP($A91,#REF!,12,FALSE)) -> #REF! | M91: =INT(F91*L91) -> #REF! | N91: =IF(ISBLANK($A91),"",VLOOKUP($A91,#REF!,14,FALSE)) -> #REF! | O91: =INT(F91*N91) -> #REF! | P91: =IF(ISBLANK($A91),"",VLOOKUP($A91,#REF!,16,FALSE)) -> #REF!
A92: N7-3 | B92: N7-3 | C92: 7-3 | D92: =IF(ISBLANK($B92),"",VLOOKUP($B92,'(기계장비-출력하지않음)'!$A$3:$T$215,3,FALSE)) -> #REF! | E92: =IF(ISBLANK($B92),"",VLOOKUP($B92,'(기계장비-출력하지않음)'!$A$3:$T$215,4,FALSE)) -> #REF! | F92: =#REF! -> #REF! | G92: =IF(ISBLANK($B92),"",VLOOKUP($B92,'(기계장비-출력하지않음)'!$A$3:$T$215,5,FALSE)) -> #REF! | H92: =J92+L92+N92 -> #REF! | I92: =K92+M92+O92 -> #REF! | J92: =IF(ISBLANK($A92),"",VLOOKUP($A92,#REF!,10,FALSE)) -> #REF! | K92: =INT(F92*J92) -> #REF! | L92: =IF(ISBLANK($A92),"",VLOOKUP($A92,#REF!,12,FALSE)) -> #REF! | M92: =INT(F92*L92) -> #REF! | N92: =IF(ISBLANK($A92),"",VLOOKUP($A92,#REF!,14,FALSE)) -> #REF! | O92: =INT(F92*N92) -> #REF! | P92: =IF(ISBLANK($A92),"",VLOOKUP($A92,#REF!,16,FALSE)) -> #REF!
A93: N7-4 | B93: N7-4 | C93: 7-4 | D93: =IF(ISBLANK($B93),"",VLOOKUP($B93,'(기계장비-출력하지않음)'!$A$3:$T$215,3,FALSE)) -> #REF! | E93: =IF(ISBLANK($B93),"",VLOOKUP($B93,'(기계장비-출력하지않음)'!$A$3:$T$215,4,FALSE)) -> #REF! | F93: =#REF! -> #REF! | G93: =IF(ISBLANK($B93),"",VLOOKUP($B93,'(기계장비-출력하지않음)'!$A$3:$T$215,5,FALSE)) -> #REF! | H93: =J93+L93+N93 -> #REF! | I93: =K93+M93+O93 -> #REF! | J93: =IF(ISBLANK($A93),"",VLOOKUP($A93,#REF!,10,FALSE)) -> #REF! | K93: =INT(F93*J93) -> #REF! | L93: =IF(ISBLANK($A93),"",VLOOKUP($A93,#REF!,12,FALSE)) -> #REF! | M93: =INT(F93*L93) -> #REF! | N93: =IF(ISBLANK($A93),"",VLOOKUP($A93,#REF!,14,FALSE)) -> #REF! | O93: =INT(F93*N93) -> #REF! | P93: =IF(ISBLANK($A93),"",VLOOKUP($A93,#REF!,16,FALSE)) -> #REF!
A94: N7-5 | B94: N7-5 | C94: 7-5 | D94: =IF(ISBLANK($B94),"",VLOOKUP($B94,'(기계장비-출력하지않음)'!$A$3:$T$215,3,FALSE)) -> #REF! | E94: =IF(ISBLANK($B94),"",VLOOKUP($B94,'(기계장비-출력하지않음)'!$A$3:$T$215,4,FALSE)) -> #REF! | F94: =#REF! -> #REF! | G94: =IF(ISBLANK($B94),"",VLOOKUP($B94,'(기계장비-출력하지않음)'!$A$3:$T$215,5,FALSE)) -> #REF! | H94: =J94+L94+N94 -> #REF! | I94: =K94+M94+O94 -> #REF! | J94: =IF(ISBLANK($A94),"",VLOOKUP($A94,#REF!,10,FALSE)) -> #REF! | K94: =INT(F94*J94) -> #REF! | L94: =IF(ISBLANK($A94),"",VLOOKUP($A94,#REF!,12,FALSE)) -> #REF! | M94: =INT(F94*L94) -> #REF! | N94: =IF(ISBLANK($A94),"",VLOOKUP($A94,#REF!,14,FALSE)) -> #REF! | O94: =INT(F94*N94) -> #REF! | P94: =IF(ISBLANK($A94),"",VLOOKUP($A94,#REF!,16,FALSE)) -> #REF!
A95: N7-6 | B95: N7-6 | C95: 7-6 | D95: =IF(ISBLANK($B95),"",VLOOKUP($B95,'(기계장비-출력하지않음)'!$A$3:$T$215,3,FALSE)) -> #REF! | E95: =IF(ISBLANK($B95),"",VLOOKUP($B95,'(기계장비-출력하지않음)'!$A$3:$T$215,4,FALSE)) -> #REF! | F95: =#REF! -> #REF! | G95: =IF(ISBLANK($B95),"",VLOOKUP($B95,'(기계장비-출력하지않음)'!$A$3:$T$215,5,FALSE)) -> #REF! | H95: =J95+L95+N95 -> #REF! | I95: =K95+M95+O95 -> #REF! | J95: =IF(ISBLANK($A95),"",VLOOKUP($A95,#REF!,10,FALSE)) -> #REF! | K95: =INT(F95*J95) -> #REF! | L95: =IF(ISBLANK($A95),"",VLOOKUP($A95,#REF!,12,FALSE)) -> #REF! | M95: =INT(F95*L95) -> #REF! | N95: =IF(ISBLANK($A95),"",VLOOKUP($A95,#REF!,14,FALSE)) -> #REF! | O95: =INT(F95*N95) -> #REF! | P95: =IF(ISBLANK($A95),"",VLOOKUP($A95,#REF!,16,FALSE)) -> #REF!
A96: N7-7 | B96: N7-7 | C96: 7-7 | D96: =IF(ISBLANK($B96),"",VLOOKUP($B96,'(기계장비-출력하지않음)'!$A$3:$T$215,3,FALSE)) -> #REF! | E96: =IF(ISBLANK($B96),"",VLOOKUP($B96,'(기계장비-출력하지않음)'!$A$3:$T$215,4,FALSE)) -> #REF! | F96: =#REF! -> #REF! | G96: =IF(ISBLANK($B96),"",VLOOKUP($B96,'(기계장비-출력하지않음)'!$A$3:$T$215,5,FALSE)) -> #REF! | H96: =J96+L96+N96 -> #REF! | I96: =K96+M96+O96 -> #REF! | J96: =IF(ISBLANK($A96),"",VLOOKUP($A96,#REF!,10,FALSE)) -> #REF! | K96: =INT(F96*J96) -> #REF! | L96: =IF(ISBLANK($A96),"",VLOOKUP($A96,#REF!,12,FALSE)) -> #REF! | M96: =INT(F96*L96) -> #REF! | N96: =IF(ISBLANK($A96),"",VLOOKUP($A96,#REF!,14,FALSE)) -> #REF! | O96: =INT(F96*N96) -> #REF! | P96: =IF(ISBLANK($A96),"",VLOOKUP($A96,#REF!,16,FALSE)) -> #REF!
A97: N7-8 | B97: N7-8 | C97: 7-8 | D97: =IF(ISBLANK($B97),"",VLOOKUP($B97,'(기계장비-출력하지않음)'!$A$3:$T$215,3,FALSE)) -> #REF! | E97: =IF(ISBLANK($B97),"",VLOOKUP($B97,'(기계장비-출력하지않음)'!$A$3:$T$215,4,FALSE)) -> #REF! | F97: =#REF! -> #REF! | G97: =IF(ISBLANK($B97),"",VLOOKUP($B97,'(기계장비-출력하지않음)'!$A$3:$T$215,5,FALSE)) -> #REF! | H97: =J97+L97+N97 -> #REF! | I97: =K97+M97+O97 -> #REF! | J97: =IF(ISBLANK($A97),"",VLOOKUP($A97,#REF!,10,FALSE)) -> #REF! | K97: =INT(F97*J97) -> #REF! | L97: =IF(ISBLANK($A97),"",VLOOKUP($A97,#REF!,12,FALSE)) -> #REF! | M97: =INT(F97*L97) -> #REF! | N97: =IF(ISBLANK($A97),"",VLOOKUP($A97,#REF!,14,FALSE)) -> #REF! | O97: =INT(F97*N97) -> #REF! | P97: =IF(ISBLANK($A97),"",VLOOKUP($A97,#REF!,16,FALSE)) -> #REF!
A98: N7-9 | B98: N7-9 | C98: 7-9 | D98: =IF(ISBLANK($B98),"",VLOOKUP($B98,'(기계장비-출력하지않음)'!$A$3:$T$215,3,FALSE)) -> #REF! | E98: =IF(ISBLANK($B98),"",VLOOKUP($B98,'(기계장비-출력하지않음)'!$A$3:$T$215,4,FALSE)) -> #REF! | F98: =#REF! -> #REF! | G98: =IF(ISBLANK($B98),"",VLOOKUP($B98,'(기계장비-출력하지않음)'!$A$3:$T$215,5,FALSE)) -> #REF! | H98: =J98+L98+N98 -> #REF! | I98: =K98+M98+O98 -> #REF! | J98: =IF(ISBLANK($A98),"",VLOOKUP($A98,#REF!,10,FALSE)) -> #REF! | K98: =INT(F98*J98) -> #REF! | L98: =IF(ISBLANK($A98),"",VLOOKUP($A98,#REF!,12,FALSE)) -> #REF! | M98: =INT(F98*L98) -> #REF! | N98: =IF(ISBLANK($A98),"",VLOOKUP($A98,#REF!,14,FALSE)) -> #REF! | O98: =INT(F98*N98) -> #REF! | P98: =IF(ISBLANK($A98),"",VLOOKUP($A98,#REF!,16,FALSE)) -> #REF!
D99: =IF(ISBLANK($B99),"",VLOOKUP($B99,'(기계장비-출력하지않음)'!$A$3:$T$215,3,FALSE)) | E99: =IF(ISBLANK($B99),"",VLOOKUP($B99,'(기계장비-출력하지않음)'!$A$3:$T$215,4,FALSE)) | F99: =#REF! -> #REF! | G99: =IF(ISBLANK($B99),"",VLOOKUP($B99,'(기계장비-출력하지않음)'!$A$3:$T$215,5,FALSE))
D100: =IF(ISBLANK($B100),"",VLOOKUP($B100,'(기계장비-출력하지않음)'!$A$3:$T$215,3,FALSE)) | E100: =IF(ISBLANK($B100),"",VLOOKUP($B100,'(기계장비-출력하지않음)'!$A$3:$T$215,4,FALSE)) | F100: =#REF! -> #REF! | G100: =IF(ISBLANK($B100),"",VLOOKUP($B100,'(기계장비-출력하지않음)'!$A$3:$T$215,5,FALSE))
A101: N8-1 | B101: N8-1 | C101: 8-1 | D101: =IF(ISBLANK($B101),"",VLOOKUP($B101,'(기계장비-출력하지않음)'!$A$3:$T$215,3,FALSE)) -> #REF! | E101: =IF(ISBLANK($B101),"",VLOOKUP($B101,'(기계장비-출력하지않음)'!$A$3:$T$215,4,FALSE)) -> #REF! | F101: =#REF! -> #REF! | G101: =IF(ISBLANK($B101),"",VLOOKUP($B101,'(기계장비-출력하지않음)'!$A$3:$T$215,5,FALSE)) -> #REF! | H101: =J101+L101+N101 -> #REF! | I101: =K101+M101+O101 -> #REF! | J101: =IF(ISBLANK($A101),"",VLOOKUP($A101,#REF!,10,FALSE)) -> #REF! | K101: =INT(F101*J101) -> #REF! | L101: =IF(ISBLANK($A101),"",VLOOKUP($A101,#REF!,12,FALSE)) -> #REF! | M101: =INT(F101*L101) -> #REF! | N101: =IF(ISBLANK($A101),"",VLOOKUP($A101,#REF!,14,FALSE)) -> #REF! | O101: =INT(F101*N101) -> #REF! | P101: =IF(ISBLANK($A101),"",VLOOKUP($A101,#REF!,16,FALSE)) -> #REF!
A102: N8-2 | B102: N8-2 | C102: 8-2 | D102: =IF(ISBLANK($B102),"",VLOOKUP($B102,'(기계장비-출력하지않음)'!$A$3:$T$215,3,FALSE)) -> #REF! | E102: =IF(ISBLANK($B102),"",VLOOKUP($B102,'(기계장비-출력하지않음)'!$A$3:$T$215,4,FALSE)) -> #REF! | F102: =#REF! -> #REF! | G102: =IF(ISBLANK($B102),"",VLOOKUP($B102,'(기계장비-출력하지않음)'!$A$3:$T$215,5,FALSE)) -> #REF! | H102: =J102+L102+N102 -> #REF! | I102: =K102+M102+O102 -> #REF! | J102: =IF(ISBLANK($A102),"",VLOOKUP($A102,#REF!,10,FALSE)) -> #REF! | K102: =INT(F102*J102) -> #REF! | L102: =IF(ISBLANK($A102),"",VLOOKUP($A102,#REF!,12,FALSE)) -> #REF! | M102: =INT(F102*L102) -> #REF! | N102: =IF(ISBLANK($A102),"",VLOOKUP($A102,#REF!,14,FALSE)) -> #REF! | O102: =INT(F102*N102) -> #REF! | P102: =IF(ISBLANK($A102),"",VLOOKUP($A102,#REF!,16,FALSE)) -> #REF!
A103: N8-3 | B103: N8-3 | C103: 8-3 | D103: =IF(ISBLANK($B103),"",VLOOKUP($B103,'(기계장비-출력하지않음)'!$A$3:$T$215,3,FALSE)) -> #REF! | E103: =IF(ISBLANK($B103),"",VLOOKUP($B103,'(기계장비-출력하지않음)'!$A$3:$T$215,4,FALSE)) -> #REF! | F103: =#REF! -> #REF! | G103: =IF(ISBLANK($B103),"",VLOOKUP($B103,'(기계장비-출력하지않음)'!$A$3:$T$215,5,FALSE)) -> #REF! | H103: =J103+L103+N103 -> #REF! | I103: =K103+M103+O103 -> #REF! | J103: =IF(ISBLANK($A103),"",VLOOKUP($A103,#REF!,10,FALSE)) -> #REF! | K103: =INT(F103*J103) -> #REF! | L103: =IF(ISBLANK($A103),"",VLOOKUP($A103,#REF!,12,FALSE)) -> #REF! | M103: =INT(F103*L103) -> #REF! | N103: =IF(ISBLANK($A103),"",VLOOKUP($A103,#REF!,14,FALSE)) -> #REF! | O103: =INT(F103*N103) -> #REF! | P103: =IF(ISBLANK($A103),"",VLOOKUP($A103,#REF!,16,FALSE)) -> #REF!
A104: N8-4 | B104: N8-4 | C104: 8-4 | D104: =IF(ISBLANK($B104),"",VLOOKUP($B104,'(기계장비-출력하지않음)'!$A$3:$T$215,3,FALSE)) -> #REF! | E104: =IF(ISBLANK($B104),"",VLOOKUP($B104,'(기계장비-출력하지않음)'!$A$3:$T$215,4,FALSE)) -> #REF! | F104: =#REF! -> #REF! | G104: =IF(ISBLANK($B104),"",VLOOKUP($B104,'(기계장비-출력하지않음)'!$A$3:$T$215,5,FALSE)) -> #REF! | H104: =J104+L104+N104 -> #REF! | I104: =K104+M104+O104 -> #REF! | J104: =IF(ISBLANK($A104),"",VLOOKUP($A104,#REF!,10,FALSE)) -> #REF! | K104: =INT(F104*J104) -> #REF! | L104: =IF(ISBLANK($A104),"",VLOOKUP($A104,#REF!,12,FALSE)) -> #REF! | M104: =INT(F104*L104) -> #REF! | N104: =IF(ISBLANK($A104),"",VLOOKUP($A104,#REF!,14,FALSE)) -> #REF! | O104: =INT(F104*N104) -> #REF! | P104: =IF(ISBLANK($A104),"",VLOOKUP($A104,#REF!,16,FALSE)) -> #REF!
A105: N8-5 | B105: N8-5 | C105: 8-5 | D105: =IF(ISBLANK($B105),"",VLOOKUP($B105,'(기계장비-출력하지않음)'!$A$3:$T$215,3,FALSE)) -> #REF! | E105: =IF(ISBLANK($B105),"",VLOOKUP($B105,'(기계장비-출력하지않음)'!$A$3:$T$215,4,FALSE)) -> #REF! | F105: =#REF! -> #REF! | G105: =IF(ISBLANK($B105),"",VLOOKUP($B105,'(기계장비-출력하지않음)'!$A$3:$T$215,5,FALSE)) -> #REF! | H105: =J105+L105+N105 -> #REF! | I105: =K105+M105+O105 -> #REF! | J105: =IF(ISBLANK($A105),"",VLOOKUP($A105,#REF!,10,FALSE)) -> #REF! | K105: =INT(F105*J105) -> #REF! | L105: =IF(ISBLANK($A105),"",VLOOKUP($A105,#REF!,12,FALSE)) -> #REF! | M105: =INT(F105*L105) -> #REF! | N105: =IF(ISBLANK($A105),"",VLOOKUP($A105,#REF!,14,FALSE)) -> #REF! | O105: =INT(F105*N105) -> #REF! | P105: =IF(ISBLANK($A105),"",VLOOKUP($A105,#REF!,16,FALSE)) -> #REF!
