Workbook
Name ___DOG1: #REF!
Name ___DOG2: #REF!
Name ___DOG3: #REF!
Name ___DOG4: #REF!
Name ___PI48: #REF!
Name ___PI60: #REF!
Name ___RO110: #REF!
Name ___RO22: #REF!
Name ___RO35: #REF!
Name ___RO60: #REF!
Name ___RO80: #REF!
Name ___TON1: #REF!
Name ___TON2: #REF!
Name ___WW2: #REF!
Name ___WW6: #REF!
Name __DOG1: #REF!
Name __DOG2: #REF!
Name __DOG3: #REF!
Name __DOG4: #REF!
Name __PI48: #REF!
Name __PI60: #REF!
Name __RO110: #REF!
Name __RO22: #REF!
Name __RO35: #REF!
Name __RO60: #REF!
Name __RO80: #REF!
Name __TON1: #REF!
Name __TON2: #REF!
Name __WW2: #REF!
Name __WW6: #REF!
Name _12_3_0Criteria: #REF!
Name _12_3_0Criteria: #REF!
Name _18G_0Extr: #REF!
Name _18G_0Extr: #REF!
Name _24G_0Extract: #REF!
Name _24G_0Extract: #REF!
Name _6_3_0Crite: #REF!
Name _A: #REF!
Name _AA158221: #REF!
Name _aab42: #REF!
Name _CDT2: #REF!
Name _DOG1: #REF!
Name _DOG2: #REF!
Name _DOG3: #REF!
Name _DOG4: #REF!
Name _K: #N/A
Name _PI48: #REF!
Name _PI60: #REF!
Name _RO110: #REF!
Name _RO22: #REF!
Name _RO35: #REF!
Name _RO60: #REF!
Name _RO80: #REF!
Name _TON1: #REF!
Name _TON2: #REF!
Name _WW2: #REF!
Name _WW6: #REF!
Name _YO1: #N/A
Name ¤Ç315: #REF!
Name \a: #REF!

Sheet VXXXXX

Sheet 원가계산서 
A2: 공 사 원 가 계 산 서
A4: 사 업 명 : | D4: 추자정수장 해수담수화시설 노후 기계설비 개량공사
A5: 비 목 | E5: 구 분 | G5: 금 액 | H5: 구성비 | I5: 비 고
A6: 순 공 사 원 가 | C6: 재 료 비 | E6: 직접재료비
E7: 간접재료비
E8: 소계
C9: 노 무 비 | E9: 직접노무비
E10: 간접노무비
E11: 소계
C12: 경 비 | E12: 기계경비
E13: 운반비
E14: 가설사무실및가설창고
E15: 특허권사용료
E16: 산재보험료
E17: 고용보험료
E18: 건강보험료
E19: 연금보험료
E20: 노인장기요양보험료
E21: 퇴직공제부금비
E22: 산업안전보건관리비
E23: 환경보전비
E24: 건설기계대여금 지급보증액
... E29: 소계
C30: 순 공 사 비 계
B31: 일반관리비 (6.5%)
B32: 이윤 (15%)
B33: 총원가
B34: 폐기물처리비
B35: 작업설부산물
B36: 부가가치세
B37: 도급공사비계
B38: 관급자재대
B39: 총공사비

Sheet 공종별집계표
A1: CODE | B1: 명 칭 | D1: 규 격 | E1: 수량 | F1: 단위 | G1: 합 계 | I1: 재 료 비 | K1: 노 무 비 | M1: 경 비 | O1: 비 고
G2: 단 가 | H2: 금 액 | I2: 단 가 | J2: 금 액 | K2: 단 가 | L2: 금 액 | M2: 단 가 | N2: 금 액
B3: Ⅰ. 가파담수장 RO 1호기 고압배관 교체 | C3: 추자정수장 해수담수화시설 노후 기계설비 개량공사 | E3: 1 | F3: 식
A4: 도급 | B4: 1.1 | C4: 추자정수장 해수담수화설비 | E4: 1 | F4: 식
A5: 관급 | B5: 2 | C5: 관급자재 | E5: 1 | F5: 식

Sheet 도급집계
A1: CODE | B1: 명 칭 | D1: 규 격 | E1: 수량 | F1: 단위 | G1: 합 계 | I1: 재 료 비 | K1: 노 무 비 | M1: 경 비 | O1: 비 고
G2: 단 가 | H2: 금 액 | I2: 단 가 | J2: 금 액 | K2: 단 가 | L2: 금 액 | M2: 단 가 | N2: 금 액
A3: 도급 | B3: 1 | C3: 추자정수장 해수담수화설비 | E3: 1 | F3: 식
A5: 2M-100 | B5: 1.1 | C5: 추자정수장 해수담수화시설 노후 기계설비 개량공사 | E5: 1 | F5: 식
A6: 2. | C6: 1. 해수담수화 전처리설비 | E6: 1 | F6: 식
A7: 3. | C7: 2. RO 설비 | E7: 1 | F7: 식
A8: 4. | C8: 3. 고도정수 처리설비 | E8: 1 | F8: 식
A9: 5. | C9: 4. 약품설비 | E9: 1 | F9: 식
A10: 6. | C10: 5. 저지배수지 설비 | E10: 1 | F10: 식
A11: 9. | C11: 6. 폐기물 처리 | E11: 1 | F11: 식
A12: 10. | C12: 7. 작업설 부산물 | E12: 1 | F12: 식
A2469: 111111111111111111111111111111111111111111111111111111111111111111111111111111111111111111111111111111111111111111111111111111111111111111111111111111111111111111111111111111111111111111111111111111111111111111111111111111111111111111111111111111111111111111111111111111111111111111111111111111111111111111111111111111111111111111111111111111111111111111111111111111111111111111111111111111111111111111111111111111111111111111111111111111111111111111111111111111111111111111111111111111111111111111111111111111111111111111111111111111111111111111111111111111111111111111111111111111111111111111111111111111111111111111111111111111111111111111111111111111111111111111111111111111111111111111111111111111111111111111111111111111111111111111111111111111111111111111111111111111111111111111111111111111111111111111111111111111111111111111111111111111111111111111111111111111111111111111111111111111111111111111111111111111111111111111111111111111111111111111111111111111111111111111111111111111111111111111111111111111111111111111111111111111111111111111111111111111111111111111111111111111111111111111111111111111111111111111111111111111111111111111111111111111111111111

Sheet 도급내역서
A1: CODE | B1: 명 칭 | D1: 규 격 | E1: 수량 | F1: 단위 | G1: 합 계 | I1: 재 료 비 | K1: 노 무 비 | M1: 경 비 | O1: 비 고
G2: 단 가 | H2: 금 액 | I2: 단 가 | J2: 금 액 | K2: 단 가 | L2: 금 액 | M2: 단 가 | N2: 금 액
A3: 배관공사 | B3: 1 | C3: 추자정수장 해수담수화설비 | E3: 1 | F3: 식
A5: 2M-100 | B5: 1.1 | C5: 추자정수장 해수담수화시설 노후 기계설비 개량공사 | E5: 1 | F5: 식
A6: 2. | C6: 1. 해수담수화 전처리설비 | E6: 1 | F6: 식
A7: 3. | C7: 2. RO 설비 | E7: 1 | F7: 식
A8: 4. | C8: 3. 고도정수 처리설비 | E8: 1 | F8: 식
A9: 5. | C9: 4. 약품설비 | E9: 1 | F9: 식
A10: 6. | C10: 5. 저지배수지 설비 | E10: 1 | F10: 식
A11: 9. | C11: 6. 폐기물 처리 | E11: 1 | F11: 식
A12: 10. | C12: 7. 작업설 부산물 | E12: 1 | F12: 식
A27: 2M-100 | B27: 1.1 | C27: 추자정수장 해수담수화시설 노후 기계설비 개량공사 | E27: 1 | F27: 식
A28: 2. | C28: 1. 해수담수화 전처리설비 | E28: 1 | F28: 식
A29: 2-1 | C29: 원수펌프 | D29: 편흡입 볼류트펌프 - 170㎥/hr×25mH×30kW, 380V×60Hz×3PH, 임펠러:316 | E29: 2 | F29: 대
A30: 2-2 | C30: 디스크필터 | D30: DISC TYPE - 100㎛×170㎥/hr (예비계열 추가 설치) | E30: 1 | F30: 대
A31: 2-3 | C31: 분리막 여과장치(가압식 UF막) | D31: 외압형 분리막 여과장치 - 2,250㎥/일 | E31: 1 | F31: 대
A32: 2-4 | C32: 분리막 여과장치 A/B/C 공압식 밸브 | D32: 분리막 여과장치의 공압밸브 - 150A | E32: 32 | F32: 대
A33: 2-4-1 | C33: 분리막 여과장치 A/B/C 공압식 밸브 | D33: 분리막 여과장치의 공압밸브 - 100A | E33: 5 | F33: 대
A34: 2-4-2 | C34: 분리막 여과장치 A/B/C 공압식 밸브 | D34: 분리막 여과장치의 공압밸브 - 80A | E34: 2 | F34: 대
A35: 2-4-3 | C35: 분리막 여과장치 A/B/C 공압식 밸브 | D35: 분리막 여과장치의 공압밸브 - 65A | E35: 2 | F35: 대
A36: 2-4-4 | C36: 분리막 여과장치 A/B/C 공압식 밸브 | D36: 분리막 여과장치의 공압밸브 - 50A | E36: 9 | F36: 대
A37: 2-5 | C37: 분리막 여과장치 A/B/C 계측기 | D37: 여과장치에 설치된 계측기 - 압력트랜스미터, 압력게이지 | E37: 21 | F37: 대
A38: 2-5-1 | C38: 분리막 여과장치 A/B/C 계측기 | D38: 여과장치에 설치된 계측기 - 유량계(150A), 탁도계 | E38: 3 | F38: SET
A39: 2-6 | C39: CIP 탱크 | D39: 8㎥, PE(레벨스위치 포함) | E39: 1 | F39: 대
A40: 2-7 | C40: CIP 펌프 | D40: 입형다단펌프 - 77㎥/hr×30mH×7.5kW, 380V×60Hz×3PH, 임펠러:316 | E40: 2 | F40: 대
... A51: 위험물052 | C51: 도어클로저 | D51: 80~120kg, 방화용 | E51: 2 | F51: 개
A75: 3. | C75: 2. RO 설비 | E75: 1 | F75: 식
A76: 3-1 | C76: SWRO 설비 | D76: 500㎥/일 - 1000psi, 8“×36EA, 계측기 및 밸브 포함 | E76: 1 | F76: 대
A77: 3-6 | C77: 플러싱 펌프 | D77: 편흡입 볼류트펌프 - 51㎥/hr×30mH×7.5kW, 380V×60Hz×3PH, 임펠러:316 | E77: 1 | F77: 대
A78: 3-7 | C78: 공급 펌프 | D78: 편흡입 볼류트펌프 - 90㎥/hr×40mH×18.5kW, 380V×60Hz×3PH, 임펠러:316, (예비품 구매 포함) | E78: 3 | F78: 대
A79: 3-8 | C79: 전처리 필터 | D79: 고유량 카트리지필터 기존유입배관 교체 | E79: 3 | F79: 대
A80: 3-9 | C80: CIP 설비 | D80: SWRO A/B/C 약품세정 설비 - CIP 펌프, CIP필터, CIP 탱크, 약품주입설비 등 | E80: 1 | F80: 식
A81: 거푸집설치 | C81: 합판 거푸집 설치 | D81: 6회 사용 | E81: 2.8 | F81: M2
A82: 무근타설인력 | C82: 콘크리트 타설 | D82: 인력비빔(1:3:6) | E82: 2.1 | F82: M3
E98: 0
A99: 4. | C99: 3. 고도정수 처리설비 | E99: 1 | F99: 식
A100: 4-1 | C100: 여과수 순환펌프 | D100: 편흡입 볼류트펌프 - 40㎥/hr×30mH×7.5kW, 380V×60Hz×3PH, 임펠러:316L | E100: 2 | F100: 대
A101: 4-2 | C101: 자동역세 여과기 | D101: 웨지와이어타입 - 46㎥/hr, 316 | E101: 1 | F101: 대
A102: 4-3 | C102: 역세수 펌프 | D102: 편흡입 볼류트펌프 - 36㎥/hr×30mH×7.5kW, 380V×60Hz×3PH, 임펠러:316L | E102: 2 | F102: 대
A103: 4-4 | C103: 막여과장치(MF막,협회 인증제품) | D103: 외압식 막여과장치 - 500㎥/일 | E103: 2 | F103: 대
...

Sheet 관급자재
A1: CODE | B1: 명 칭 | D1: 규 격 | E1: 수량 | F1: 단위 | G1: 합 계 | I1: 재 료 비 | K1: 노 무 비 | M1: 경 비 | O1: 비 고
G2: 단 가 | H2: 금 액 | I2: 단 가 | J2: 금 액 | K2: 단 가 | L2: 금 액 | M2: 단 가 | N2: 금 액
A3: 관급 | B3: 1 | C3: 관급자재 | E3: 1 | F3: 식
A5: 2M-100 | B5: 1.1 | C5: 추자정수장 해수담수화시설 노후 기계설비 개량공사 | E5: 1 | F5: 식
A6: 2. | C6: 1. 해수담수화 전처리시설 | E6: 1 | F6: 식
A7: 4. | C7: 3. 고도정수 처리설비 | E7: 1 | F7: 식
C10: 부가세 | E10: 10 | F10: %
A27: 2M-100 | B27: 1.1 | C27: 추자정수장 해수담수화시설 노후 기계설비 개량공사 | E27: 1 | F27: 식
A28: 2. | C28: 1. 해수담수화 전처리시설 | E28: 1 | F28: 식
A29: 2-3 | C29: 분리막 여과장치(가압식 UF막) | D29: 외압형 분리막 여과장치 - 2,250㎥/일 | E29: 1 | F29: 대
E30: 0
A31: 4. | C31: 3. 고도정수 처리설비 | E31: 1 | F31: 식
A32: 4-4 | C32: 막여과장치(MF막,협회 인증제품) | D32: 외압식 막여과장치 - 500㎥/일 | E32: 2 | F32: 대
A33: 4-11 | C33: BWRO 설비(BWRO막,협회 인증제품) | D33: 500㎥/일 반투막 교체 - 300psi, 8“×24EA | E33: 1 | F33: 대
A2493: 111111111111111111111111111111111111111111111111111111111111111111111111111111111111111111111111111111111111111111111111111111111111111111111111111111111111111111111111111111111111111111111111111111111111111111111111111111111111111111111111111111111111111111111111111111111111111111111111111111111111111111111111111111111111111111111111111111111111111111111111111111111111111111111111111111111111111111111111111111111111111111111111111111111111111111111111111111111111111111111111111111111111111111111111111111111111111111111111111111111111111111111111111111111111111111111111111111111111111111111111111111111111111111111111111111111111111111111111111111111111111111111111111111111111111111111111111111111111111111111111111111111111111111111111111111111111111111111111111111111111111111111111111111111111111111111111111111111111111111111111111111111111111111111111111111111111111111111111111111111111111111111111111111111111111111111111111111111111111111111111111111111111111111111111111111111111111111111111111111111111111111111111111111111111111111111111111111111111111111111111111111111111111111111111111111111111111111111111111111111111111111111111111111111111111

Sheet (기계장비-출력하지않음)
A1: CODE | B1: 명 칭 | D1: 규 격 | E1: 단위 | F1: 적 용 단 가 | G1: 견 적 단 가 | Q1: 비 고 | S1: 수량
G2: A 사 | H2: 업체명 | I2: B 사 | J2: 업체명 | K2: C 사 | L2: 업체명 | M2: 단 가 | N2: 페이지 | O2: 단 가 | P2: 페이지
A3: 범용기자재 | B3: 1. | C3: 추자정수장 해수담수화시설 개량 및 증설사업
A4: 1.1 | C4: =#REF! -> #REF!
A5: 1-1 | B5: 1-1 | C5: =#REF! -> #REF! | D5: =#REF! -> #REF! | E5: =#REF! -> #REF! | F5: 0 | S5: =#REF! -> #REF!
A6: 1-2 | B6: 1-2 | C6: =#REF! -> #REF! | D6: =#REF! -> #REF! | E6: =#REF! -> #REF! | S6: =#REF! -> #REF!
A7: 1-3 | B7: 1-3 | C7: =#REF! -> #REF! | D7: =#REF! -> #REF! | E7: =#REF! -> #REF! | S7: =#REF! -> #REF!
A8: 1-4 | B8: 1-4 | C8: =#REF! -> #REF! | D8: =#REF! -> #REF! | E8: =#REF! -> #REF! | S8: =#REF! -> #REF!
A9: 1-5 | B9: 1-5 | C9: =#REF! -> #REF! | D9: =#REF! -> #REF! | E9: =#REF! -> #REF! | F9: 0 | S9: =#REF! -> #REF!
A10: 1-6 | B10: 1-6 | C10: =#REF! -> #REF! | D10: =#REF! -> #REF! | E10: =#REF! -> #REF! | S10: =#REF! -> #REF!
A11: 1-7 | B11: 1-7 | C11: =#REF! -> #REF! | D11: =#REF! -> #REF! | E11: =#REF! -> #REF! | S11: =#REF! -> #REF!
C12: =#REF! -> #REF! | D12: =#REF! -> #REF! | E12: =#REF! -> #REF! | S12: =#REF! -> #REF!
C13: =#REF! -> #REF! | D13: =#REF! -> #REF! | E13: =#REF! -> #REF! | S13: =#REF! -> #REF!
A14: 2-1 | B14: 2-1 | C14: =#REF! -> #REF! | D14: =#REF! -> #REF! | E14: =#REF! -> #REF! | S14: =#REF! -> #REF!
A15: 2-2 | B15: 2-2 | C15: =#REF! -> #REF! | D15: =#REF! -> #REF! | E15: =#REF! -> #REF! | S15: =#REF! -> #REF!
A16: 2-3 | B16: 2-3 | C16: =#REF! -> #REF! | D16: =#REF! -> #REF! | E16: =#REF! -> #REF! | F16: 0 | S16: =#REF! -> #REF!
A17: 2-4 | B17: 2-4 | C17: =#REF! -> #REF! | D17: =#REF! -> #REF! | E17: =#REF! -> #REF! | S17: =#REF! -> #REF!
A18: 2-4-1 | B18: 2-4-1 | C18: =#REF! -> #REF! | D18: =#REF! -> #REF! | E18: =#REF! -> #REF!
A19: 2-4-2 | B19: 2-4-2 | C19: =#REF! -> #REF! | D19: =#REF! -> #REF! | E19: =#REF! -> #REF!
A20: 2-4-3 | B20: 2-4-3 | C20: =#REF! -> #REF! | D20: =#REF! -> #REF! | E20: =#REF! -> #REF!
A21: 2-4-4 | B21: 2-4-4 | C21: =#REF! -> #REF! | D21: =#REF! -> #REF! | E21: =#REF! -> #REF!
A22: 2-5 | B22: 2-5 | C22: =#REF! -> #REF! | D22: =#REF! -> #REF! | E22: =#REF! -> #REF! | S22: =#REF! -> #REF!
A23: 2-5-1 | B23: 2-5-1 | C23: =#REF! -> #REF! | D23: =#REF! -> #REF! | E23: =#REF! -> #REF!
A24: 2-6 | B24: 2-6 | C24: =#REF! -> #REF! | D24: =#REF! -> #REF! | E24: =#REF! -> #REF! | F24: 0 | S24: =#REF! -> #REF!
A25: 2-7 | B25: 2-7 | C25: =#REF! -> #REF! | D25: =#REF! -> #REF! | E25: =#REF! -> #REF! | F25: 0 | S25: =#REF! -> #REF!
A26: 2-8 | B26: 2-8 | C26: =#REF! -> #REF! | D26: =#REF! -> #REF! | E26: =#REF! -> #REF! | F26: 0 | S26: =#REF! -> #REF!
A27: 콘크리트절단 | B27: 콘크리트절단 | C27: =#REF! -> #REF! | D27: =#REF! -> #REF! | E27: =#REF! -> #REF!
A28: 콘크리트헐기철 | B28: 콘크리트헐기철 | C28: =#REF! -> #REF! | D28: =#REF! -> #REF! | E28: =#REF! -> #REF!
A29: 강재창호설치3060 | B29: 강재창호설치3060 | C29: =#REF! -> #REF! | D29: =#REF! -> #REF! | E29: =#REF! -> #REF!
A30: 문틀주위충전MOR | B30: 문틀주위충전MOR | C30: =#REF! -> #REF! | D30: =#REF! -> #REF! | E30: =#REF! -> #REF!
A31: 쇠흙손마감 | B31: 쇠흙손마감 | C31: =#REF! -> #REF! | D31: =#REF! -> #REF! | E31: =#REF! -> #REF!
A32: 수성도장붓2회 | B32: 수성도장붓2회 | C32: =#REF! -> #REF! | D32: =#REF! -> #REF! | E32: =#REF! -> #REF!
A33: 위험물0514 | B33: 위험물0514 | C33: =#REF! -> #REF! | D33: =#REF! -> #REF! | E33: =#REF! -> #REF!
A34: 위험물0501 | B34: 위험물0501 | C34: =#REF! -> #REF! | D34: =#REF! -> #REF! | E34: =#REF! -> #REF!
A35: 위험물053 | B35: 위험물053 | C35: =#REF! -> #REF! | D35: =#REF! -> #REF! | E35: =#REF! -> #REF!
A36: 위험물054 | B36: 위험물054 | C36: =#REF! -> #REF! | D36: =#REF! -> #REF! | E36: =#REF! -> #REF!
A37: 위험물052 | B37: 위험물052 | C37: =#REF! -> #REF! | D37: =#REF! -> #REF! | E37: =#REF! -> #REF!
C38: =#REF! -> #REF! | D38: =#REF! -> #REF! | E38: =#REF! -> #REF! | F38: 0 | S38: =#REF! -> #REF!
C39: =#REF! -> #REF! | D39: =#REF! -> #REF! | E39: =#REF! -> #REF! | F39: 0 | S39: =#REF! -> #REF!
A40: 3-1 | B40: 3-1 | C40: =#REF! -> #REF! | D40: =#REF! -> #REF! | E40: =#REF! -> #REF! | S40: =#REF! -> #REF!
...

Sheet (기계대당설치비-출력하지 않음)
A1: CODE | B1: CODE | C1: 명 칭 | E1: 규 격 | F1: 수량 | G1: 단위 | H1: 합 계 | J1: 재 료 비 | L1: 노 무 비 | N1: 경 비 | P1: 비 고 | R1: 노 무 비
H2: 단 가 | I2: 금 액 | J2: 단 가 | K2: 금 액 | L2: 단 가 | M2: 금 액 | N2: 단 가 | O2: 금 액
A3: 2. | B3: 2. | C3: =IF(ISBLANK($B3),"",VLOOKUP($B3,'(기계장비-출력하지않음)'!$A$3:$T$215,2,FALSE)) -> 2. | D3: =IF(ISBLANK($B3),"",VLOOKUP($B3,'(기계장비-출력하지않음)'!$A$3:$T$215,3,FALSE)) -> 추자정수장 해수담수화시설 개량 및 증설사업
A4: 2.1 | B4: 2.1 | C4: =IF(ISBLANK($B4),"",VLOOKUP($B4,'(기계장비-출력하지않음)'!$A$3:$T$215,2,FALSE)) -> 0 | D4: =IF(ISBLANK($B4),"",VLOOKUP($B4,'(기계장비-출력하지않음)'!$A$3:$T$215,3,FALSE)) -> #REF! | E4: =IF(ISBLANK($B4),"",VLOOKUP($B4,'(기계장비-출력하지않음)'!$A$3:$T$215,4,FALSE)) -> 0 | I4: =K4+M4+O4 -> 0
A5: N1-1 | B5: N1-1 | C5: 1-1 | D5: =IF(ISBLANK($B5),"",VLOOKUP($B5,'(기계장비-출력하지않음)'!$A$3:$T$215,3,FALSE)) -> #REF! | E5: =IF(ISBLANK($B5),"",VLOOKUP($B5,'(기계장비-출력하지않음)'!$A$3:$T$215,4,FALSE)) -> #REF! | F5: =#REF! -> #REF! | G5: =IF(ISBLANK($B5),"",VLOOKUP($B5,'(기계장비-출력하지않음)'!$A$3:$T$215,5,FALSE)) -> #REF! | H5: =J5+L5+N5 -> #REF! | I5: =K5+M5+O5 -> #REF! | J5: =IF(ISBLANK($A5),"",VLOOKUP($A5,#REF!,10,FALSE)) -> #REF! | K5: =INT(F5*J5) -> #REF! | L5: =IF(ISBLANK($A5),"",VLOOKUP($A5,#REF!,12,FALSE)) -> #REF! | M5: =INT(F5*L5) -> #REF! | N5: =IF(ISBLANK($A5),"",VLOOKUP($A5,#REF!,14,FALSE)) -> #REF! | O5: =INT(F5*N5) -> #REF! | P5: =IF(ISBLANK($A5),"",VLOOKUP($A5,#REF!,16,FALSE)) -> #REF!
A6: N1-2 | B6: N1-2 | C6: 1-2 | D6: =IF(ISBLANK($B6),"",VLOOKUP($B6,'(기계장비-출력하지않음)'!$A$3:$T$215,3,FALSE)) -> #REF! | E6: =IF(ISBLANK($B6),"",VLOOKUP($B6,'(기계장비-출력하지않음)'!$A$3:$T$215,4,FALSE)) -> #REF! | F6: =#REF! -> #REF! | G6: =IF(ISBLANK($B6),"",VLOOKUP($B6,'(기계장비-출력하지않음)'!$A$3:$T$215,5,FALSE)) -> #REF! | H6: =J6+L6+N6 -> #REF! | I6: =K6+M6+O6 -> #REF! | J6: =IF(ISBLANK($A6),"",VLOOKUP($A6,#REF!,10,FALSE)) -> #REF! | K6: =INT(F6*J6) -> #REF! | L6: =IF(ISBLANK($A6),"",VLOOKUP($A6,#REF!,12,FALSE)) -> #REF! | M6: =INT(F6*L6) -> #REF! | N6: =IF(ISBLANK($A6),"",VLOOKUP($A6,#REF!,14,FALSE)) -> #REF! | O6: =INT(F6*N6) -> #REF! | P6: =IF(ISBLANK($A6),"",VLOOKUP($A6,#REF!,16,FALSE)) -> #REF!
A7: N1-3 | B7: N1-3 | C7: 1-3 | D7: =IF(ISBLANK($B7),"",VLOOKUP($B7,'(기계장비-출력하지않음)'!$A$3:$T$215,3,FALSE)) -> #REF! | E7: =IF(ISBLANK($B7),"",VLOOKUP($B7,'(기계장비-출력하지않음)'!$A$3:$T$215,4,FALSE)) -> #REF! | F7: =#REF! -> #REF! | G7: =IF(ISBLANK($B7),"",VLOOKUP($B7,'(기계장비-출력하지않음)'!$A$3:$T$215,5,FALSE)) -> #REF! | H7: =J7+L7+N7 -> #REF! | I7: =K7+M7+O7 -> #REF! | J7: =IF(ISBLANK($A7),"",VLOOKUP($A7,#REF!,10,FALSE)) -> #REF! | K7: =INT(F7*J7) -> #REF! | L7: =IF(ISBLANK($A7),"",VLOOKUP($A7,#REF!,12,FALSE)) -> #REF! | M7: =INT(F7*L7) -> #REF! | N7: =IF(ISBLANK($A7),"",VLOOKUP($A7,#REF!,14,FALSE)) -> #REF! | O7: =INT(F7*N7) -> #REF! | P7: =IF(ISBLANK($A7),"",VLOOKUP($A7,#REF!,16,FALSE)) -> #REF!
A8: N1-4 | B8: N1-4 | C8: 1-4 | D8: =IF(ISBLANK($B8),"",VLOOKUP($B8,'(기계장비-출력하지않음)'!$A$3:$T$215,3,FALSE)) -> #REF! | E8: =IF(ISBLANK($B8),"",VLOOKUP($B8,'(기계장비-출력하지않음)'!$A$3:$T$215,4,FALSE)) -> #REF! | F8: =#REF! -> #REF! | G8: =IF(ISBLANK($B8),"",VLOOKUP($B8,'(기계장비-출력하지않음)'!$A$3:$T$215,5,FALSE)) -> #REF! | H8: =J8+L8+N8 -> #REF! | I8: =K8+M8+O8 -> #REF! | J8: =IF(ISBLANK($A8),"",VLOOKUP($A8,#REF!,10,FALSE)) -> #REF! | K8: =INT(F8*J8) -> #REF! | L8: =IF(ISBLANK($A8),"",VLOOKUP($A8,#REF!,12,FALSE)) -> #REF! | M8: =INT(F8*L8) -> #REF! | N8: =IF(ISBLANK($A8),"",VLOOKUP($A8,#REF!,14,FALSE)) -> #REF! | O8: =INT(F8*N8) -> #REF! | P8: =IF(ISBLANK($A8),"",VLOOKUP($A8,#REF!,16,FALSE)) -> #REF!
A9: N1-5 | B9: N1-5 | C9: 1-5 | D9: =IF(ISBLANK($B9),"",VLOOKUP($B9,'(기계장비-출력하지않음)'!$A$3:$T$215,3,FALSE)) -> #REF! | E9: =IF(ISBLANK($B9),"",VLOOKUP($B9,'(기계장비-출력하지않음)'!$A$3:$T$215,4,FALSE)) -> #REF! | F9: =#REF! -> #REF! | G9: =IF(ISBLANK($B9),"",VLOOKUP($B9,'(기계장비-출력하지않음)'!$A$3:$T$215,5,FALSE)) -> #REF! | H9: =J9+L9+N9 -> #REF! | I9: =K9+M9+O9 -> #REF! | J9: =IF(ISBLANK($A9),"",VLOOKUP($A9,#REF!,10,FALSE)) -> #REF! | K9: =INT(F9*J9) -> #REF! | L9: =IF(ISBLANK($A9),"",VLOOKUP($A9,#REF!,12,FALSE)) -> #REF! | M9: =INT(F9*L9) -> #REF! | N9: =IF(ISBLANK($A9),"",VLOOKUP($A9,#REF!,14,FALSE)) -> #REF! | O9: =INT(F9*N9) -> #REF! | P9: =IF(ISBLANK($A9),"",VLOOKUP($A9,#REF!,16,FALSE)) -> #REF!
A10: N1-6 | B10: N1-6 | C10: 1-6 | D10: =IF(ISBLANK($B10),"",VLOOKUP($B10,'(기계장비-출력하지않음)'!$A$3:$T$215,3,FALSE)) -> #REF! | E10: =IF(ISBLANK($B10),"",VLOOKUP($B10,'(기계장비-출력하지않음)'!$A$3:$T$215,4,FALSE)) -> #REF! | F10: =#REF! -> #REF! | G10: =IF(ISBLANK($B10),"",VLOOKUP($B10,'(기계장비-출력하지않음)'!$A$3:$T$215,5,FALSE)) -> #REF! | H10: =J10+L10+N10 -> #REF! | I10: =K10+M10+O10 -> #REF! | J10: =IF(ISBLANK($A10),"",VLOOKUP($A10,#REF!,10,FALSE)) -> #REF! | K10: =INT(F10*J10) -> #REF! | L10: =IF(ISBLANK($A10),"",VLOOKUP($A10,#REF!,12,FALSE)) -> #REF! | M10: =INT(F10*L10) -> #REF! | N10: =IF(ISBLANK($A10),"",VLOOKUP($A10,#REF!,14,FALSE)) -> #REF! | O10: =INT(F10*N10) -> #REF! | P10: =IF(ISBLANK($A10),"",VLOOKUP($A10,#REF!,16,FALSE)) -> #REF!
A11: N1-7 | B11: N1-7 | C11: 1-7 | D11: =IF(ISBLANK($B11),"",VLOOKUP($B11,'(기계장비-출력하지않음)'!$A$3:$T$215,3,FALSE)) -> #REF! | E11: =IF(ISBLANK($B11),"",VLOOKUP($B11,'(기계장비-출력하지않음)'!$A$3:$T$215,4,FALSE)) -> #REF! | F11: =#REF! -> #REF! | G11: =IF(ISBLANK($B11),"",VLOOKUP($B11,'(기계장비-출력하지않음)'!$A$3:$T$215,5,FALSE)) -> #REF! | H11: =J11+L11+N11 -> #REF! | I11: =K11+M11+O11 -> #REF! | J11: =IF(ISBLANK($A11),"",VLOOKUP($A11,#REF!,10,FALSE)) -> #REF! | K11: =INT(F11*J11) -> #REF! | L11: =IF(ISBLANK($A11),"",VLOOKUP($A11,#REF!,12,FALSE)) -> #REF! | M11: =INT(F11*L11) -> #REF! | N11: =IF(ISBLANK($A11),"",VLOOKUP($A11,#REF!,14,FALSE)) -> #REF! | O11: =INT(F11*N11) -> #REF! | P11: =IF(ISBLANK($A11),"",VLOOKUP($A11,#REF!,16,FALSE)) -> #REF!
D12: =IF(ISBLANK($B12),"",VLOOKUP($B12,'(기계장비-출력하지않음)'!$A$3:$T$215,3,FALSE)) | E12: =IF(ISBLANK($B12),"",VLOOKUP($B12,'(기계장비-출력하지않음)'!$A$3:$T$215,4,FALSE)) | F12: =#REF! -> #REF! | P12: =IF(ISBLANK($A12),"",VLOOKUP($A12,#REF!,16,FALSE))
D13: =IF(ISBLANK($B13),"",VLOOKUP($B13,'(기계장비-출력하지않음)'!$A$3:$T$215,3,FALSE)) | E13: =IF(ISBLANK($B13),"",VLOOKUP($B13,'(기계장비-출력하지않음)'!$A$3:$T$215,4,FALSE)) | F13: =#REF! -> #REF! | P13: =IF(ISBLANK($A13),"",VLOOKUP($A13,#REF!,16,FALSE))
A14: N2-1 | B14: N2-1 | C14: 2-1 | D14: =IF(ISBLANK($B14),"",VLOOKUP($B14,'(기계장비-출력하지않음)'!$A$3:$T$215,3,FALSE)) -> #REF! | E14: =IF(ISBLANK($B14),"",VLOOKUP($B14,'(기계장비-출력하지않음)'!$A$3:$T$215,4,FALSE)) -> #REF! | F14: =#REF! -> #REF! | G14: =IF(ISBLANK($B14),"",VLOOKUP($B14,'(기계장비-출력하지않음)'!$A$3:$T$215,5,FALSE)) -> #REF! | H14: =J14+L14+N14 -> #REF! | I14: =K14+M14+O14 -> #REF! | J14: =IF(ISBLANK($A14),"",VLOOKUP($A14,#REF!,10,FALSE)) -> #REF! | K14: =INT(F14*J14) -> #REF! | L14: =IF(ISBLANK($A14),"",VLOOKUP($A14,#REF!,12,FALSE)) -> #REF! | M14: =INT(F14*L14) -> #REF! | N14: =IF(ISBLANK($A14),"",VLOOKUP($A14,#REF!,14,FALSE)) -> #REF! | O14: =INT(F14*N14) -> #REF! | P14: =IF(ISBLANK($A14),"",VLOOKUP($A14,#REF!,16,FALSE)) -> #REF!
A15: N2-2 | B15: N2-2 | C15: 2-2 | D15: =IF(ISBLANK($B15),"",VLOOKUP($B15,'(기계장비-출력하지않음)'!$A$3:$T$215,3,FALSE)) -> #REF! | E15: =IF(ISBLANK($B15),"",VLOOKUP($B15,'(기계장비-출력하지않음)'!$A$3:$T$215,4,FALSE)) -> #REF! | F15: =#REF! -> #REF! | G15: =IF(ISBLANK($B15),"",VLOOKUP($B15,'(기계장비-출력하지않음)'!$A$3:$T$215,5,FALSE)) -> #REF! | H15: =J15+L15+N15 -> #REF! | I15: =K15+M15+O15 -> #REF! | J15: =IF(ISBLANK($A15),"",VLOOKUP($A15,#REF!,10,FALSE)) -> #REF! | K15: =INT(F15*J15) -> #REF! | L15: =IF(ISBLANK($A15),"",VLOOKUP($A15,#REF!,12,FALSE)) -> #REF! | M15: =INT(F15*L15) -> #REF! | N15: =IF(ISBLANK($A15),"",VLOOKUP($A15,#REF!,14,FALSE)) -> #REF! | O15: =INT(F15*N15) -> #REF! | P15: =IF(ISBLANK($A15),"",VLOOKUP($A15,#REF!,16,FALSE)) -> #REF!
A16: N2-3 | B16: N2-3 | C16: 2-3 | D16: =IF(ISBLANK($B16),"",VLOOKUP($B16,'(기계장비-출력하지않음)'!$A$3:$T$215,3,FALSE)) -> #REF! | E16: =IF(ISBLANK($B16),"",VLOOKUP($B16,'(기계장비-출력하지않음)'!$A$3:$T$215,4,FALSE)) -> #REF! | F16: =#REF! -> #REF! | G16: =IF(ISBLANK($B16),"",VLOOKUP($B16,'(기계장비-출력하지않음)'!$A$3:$T$215,5,FALSE)) -> #REF! | H16: =J16+L16+N16 -> #REF! | I16: =K16+M16+O16 -> #REF! | J16: =IF(ISBLANK($A16),"",VLOOKUP($A16,#REF!,10,FALSE)) -> #REF! | K16: =INT(F16*J16) -> #REF! | L16: =IF(ISBLANK($A16),"",VLOOKUP($A16,#REF!,12,FALSE)) -> #REF! | M16: =INT(F16*L16) -> #REF! | N16: =IF(ISBLANK($A16),"",VLOOKUP($A16,#REF!,14,FALSE)) -> #REF! | O16: =INT(F16*N16) -> #REF! | P16: =IF(ISBLANK($A16),"",VLOOKUP($A16,#REF!,16,FALSE)) -> #REF!
A17: N2-4 | B17: N2-4 | C17: 2-4 | D17: =IF(ISBLANK($B17),"",VLOOKUP($B17,'(기계장비-출력하지않음)'!$A$3:$T$215,3,FALSE)) -> #REF! | E17: =IF(ISBLANK($B17),"",VLOOKUP($B17,'(기계장비-출력하지않음)'!$A$3:$T$215,4,FALSE)) -> #REF! | F17: =#REF! -> #REF! | G17: =IF(ISBLANK($B17),"",VLOOKUP($B17,'(기계장비-출력하지않음)'!$A$3:$T$215,5,FALSE)) -> #REF! | H17: =J17+L17+N17 -> #REF! | I17: =K17+M17+O17 -> #REF! | J17: =IF(ISBLANK($A17),"",VLOOKUP($A17,#REF!,10,FALSE)) -> #REF! | K17: =INT(F17*J17) -> #REF! | L17: =IF(ISBLANK($A17),"",VLOOKUP($A17,#REF!,12,FALSE)) -> #REF! | M17: =INT(F17*L17) -> #REF! | N17: =IF(ISBLANK($A17),"",VLOOKUP($A17,#REF!,14,FALSE)) -> #REF! | O17: =INT(F17*N17) -> #REF! | P17: =IF(ISBLANK($A17),"",VLOOKUP($A17,#REF!,16,FALSE)) -> #REF!
A18: N2-4-1 | B18: N2-4-1 | C18: 2-4 | D18: =IF(ISBLANK($B18),"",VLOOKUP($B18,'(기계장비-출력하지않음)'!$A$3:$T$215,3,FALSE)) -> #REF! | E18: =IF(ISBLANK($B18),"",VLOOKUP($B18,'(기계장비-출력하지않음)'!$A$3:$T$215,4,FALSE)) -> #REF! | F18: =#REF! -> #REF! | G18: =IF(ISBLANK($B18),"",VLOOKUP($B18,'(기계장비-출력하지않음)'!$A$3:$T$215,5,FALSE)) -> #REF! | H18: =J18+L18+N18 -> #REF! | I18: =K18+M18+O18 -> #REF! | J18: =IF(ISBLANK($A18),"",VLOOKUP($A18,#REF!,10,FALSE)) -> #REF! | K18: =INT(F18*J18) -> #REF! | L18: =IF(ISBLANK($A18),"",VLOOKUP($A18,#REF!,12,FALSE)) -> #REF! | M18: =INT(F18*L18) -> #REF! | N18: =IF(ISBLANK($A18),"",VLOOKUP($A18,#REF!,14,FALSE)) -> #REF! | O18: =INT(F18*N18) -> #REF! | P18: =IF(ISBLANK($A18),"",VLOOKUP($A18,#REF!,16,FALSE)) -> #REF!
A19: N2-4-2 | B19: N2-4-2 | C19: 2-4 | D19: =IF(ISBLANK($B19),"",VLOOKUP($B19,'(기계장비-출력하지않음)'!$A$3:$T$215,3,FALSE)) -> #REF! | E19: =IF(ISBLANK($B19),"",VLOOKUP($B19,'(기계장비-출력하지않음)'!$A$3:$T$215,4,FALSE)) -> #REF! | F19: =#REF! -> #REF! | G19: =IF(ISBLANK($B19),"",VLOOKUP($B19,'(기계장비-출력하지않음)'!$A$3:$T$215,5,FALSE)) -> #REF! | H19: =J19+L19+N19 -> #REF! | I19: =K19+M19+O19 -> #REF! | J19: =IF(ISBLANK($A19),"",VLOOKUP($A19,#REF!,10,FALSE)) -> #REF! | K19: =INT(F19*J19) -> #REF! | L19: =IF(ISBLANK($A19),"",VLOOKUP($A19,#REF!,12,FALSE)) -> #REF! | M19: =INT(F19*L19) -> #REF! | N19: =IF(ISBLANK($A19),"",VLOOKUP($A19,#REF!,14,FALSE)) -> #REF! | O19: =INT(F19*N19) -> #REF! | P19: =IF(ISBLANK($A19),"",VLOOKUP($A19,#REF!,16,FALSE)) -> #REF!
A20: N2-4-3 | B20: N2-4-3 | C20: 2-4 | D20: =IF(ISBLANK($B20),"",VLOOKUP($B20,'(기계장비-출력하지않음)'!$A$3:$T$215,3,FALSE)) -> #REF! | E20: =IF(ISBLANK($B20),"",VLOOKUP($B20,'(기계장비-출력하지않음)'!$A$3:$T$215,4,FALSE)) -> #REF! | F20: =#REF! -> #REF! | G20: =IF(ISBLANK($B20),"",VLOOKUP($B20,'(기계장비-출력하지않음)'!$A$3:$T$215,5,FALSE)) -> #REF! | H20: =J20+L20+N20 -> #REF! | I20: =K20+M20+O20 -> #REF! | J20: =IF(ISBLANK($A20),"",VLOOKUP($A20,#REF!,10,FALSE)) -> #REF! | K20: =INT(F20*J20) -> #REF! | L20: =IF(ISBLANK($A20),"",VLOOKUP($A20,#REF!,12,FALSE)) -> #REF! | M20: =INT(F20*L20) -> #REF! | N20: =IF(ISBLANK($A20),"",VLOOKUP($A20,#REF!,14,FALSE)) -> #REF! | O20: =INT(F20*N20) -> #REF! | P20: =IF(ISBLANK($A20),"",VLOOKUP($A20,#REF!,16,FALSE)) -> #REF!
A21: N2-4-4 | B21: N2-4-4 | C21: 2-4 | D21: =IF(ISBLANK($B21),"",VLOOKUP($B21,'(기계장비-출력하지않음)'!$A$3:$T$215,3,FALSE)) -> #REF! | E21: =IF(ISBLANK($B21),"",VLOOKUP($B21,'(기계장비-출력하지않음)'!$A$3:$T$215,4,FALSE)) -> #REF! | F21: =#REF! -> #REF! | G21: =IF(ISBLANK($B21),"",VLOOKUP($B21,'(기계장비-출력하지않음)'!$A$3:$T$215,5,FALSE)) -> #REF! | H21: =J21+L21+N21 -> #REF! | I21: =K21+M21+O21 -> #REF! | J21: =IF(ISBLANK($A21),"",VLOOKUP($A21,#REF!,10,FALSE)) -> #REF! | K21: =INT(F21*J21) -> #REF! | L21: =IF(ISBLANK($A21),"",VLOOKUP($A21,#REF!,12,FALSE)) -> #REF! | M21: =INT(F21*L21) -> #REF! | N21: =IF(ISBLANK($A21),"",VLOOKUP($A21,#REF!,14,FALSE)) -> #REF! | O21: =INT(F21*N21) -> #REF! | P21: =IF(ISBLANK($A21),"",VLOOKUP($A21,#REF!,16,FALSE)) -> #REF!
A22: N2-5 | B22: N2-5 | C22: 2-5 | D22: =IF(ISBLANK($B22),"",VLOOKUP($B22,'(기계장비-출력하지않음)'!$A$3:$T$215,3,FALSE)) -> #REF! | E22: =IF(ISBLANK($B22),"",VLOOKUP($B22,'(기계장비-출력하지않음)'!$A$3:$T$215,4,FALSE)) -> #REF! | F22: =#REF! -> #REF! | G22: =IF(ISBLANK($B22),"",VLOOKUP($B22,'(기계장비-출력하지않음)'!$A$3:$T$215,5,FALSE)) -> #REF! | H22: =J22+L22+N22 -> #REF! | I22: =K22+M22+O22 -> #REF! | J22: =IF(ISBLANK($A22),"",VLOOKUP($A22,#REF!,10,FALSE)) -> #REF! | K22: =INT(F22*J22) -> #REF! | L22: =IF(ISBLANK($A22),"",VLOOKUP($A22,#REF!,12,FALSE)) -> #REF! | M22: =INT(F22*L22) -> #REF! | N22: =IF(ISBLANK($A22),"",VLOOKUP($A22,#REF!,14,FALSE)) -> #REF! | O22: =INT(F22*N22) -> #REF! | P22: =IF(ISBLANK($A22),"",VLOOKUP($A22,#REF!,16,FALSE)) -> #REF!
A23: N2-5-1 | B23: N2-5-1 | C23: 2-5-1 | D23: =IF(ISBLANK($B23),"",VLOOKUP($B23,'(기계장비-출력하지않음)'!$A$3:$T$215,3,FALSE)) -> #REF! | E23: =IF(ISBLANK($B23),"",VLOOKUP($B23,'(기계장비-출력하지않음)'!$A$3:$T$215,4,FALSE)) -> #REF! | F23: =#REF! -> #REF! | G23: =IF(ISBLANK($B23),"",VLOOKUP($B23,'(기계장비-출력하지않음)'!$A$3:$T$215,5,FALSE)) -> #REF! | H23: =J23+L23+N23 -> #REF! | I23: =K23+M23+O23 -> #REF! | J23: =IF(ISBLANK($A23),"",VLOOKUP($A23,#REF!,10,FALSE)) -> #REF! | K23: =INT(F23*J23) -> #REF! | L23: =IF(ISBLANK($A23),"",VLOOKUP($A23,#REF!,12,FALSE)) -> #REF! | M23: =INT(F23*L23) -> #REF! | N23: =IF(ISBLANK($A23),"",VLOOKUP($A23,#REF!,14,FALSE)) -> #REF! | O23: =INT(F23*N23) -> #REF! | P23: =IF(ISBLANK($A23),"",VLOOKUP($A23,#REF!,16,FALSE)) -> #REF!
A24: N2-6 | B24: N2-6 | C24: 2-6 | D24: =IF(ISBLANK($B24),"",VLOOKUP($B24,'(기계장비-출력하지않음)'!$A$3:$T$215,3,FALSE)) -> #REF! | E24: =IF(ISBLANK($B24),"",VLOOKUP($B24,'(기계장비-출력하지않음)'!$A$3:$T$215,4,FALSE)) -> #REF! | F24: =#REF! -> #REF! | G24: =IF(ISBLANK($B24),"",VLOOKUP($B24,'(기계장비-출력하지않음)'!$A$3:$T$215,5,FALSE)) -> #REF! | H24: =J24+L24+N24 -> #REF! | I24: =K24+M24+O24 -> #REF! | J24: =IF(ISBLANK($A24),"",VLOOKUP($A24,#REF!,10,FALSE)) -> #REF! | K24: =INT(F24*J24) -> #REF! | L24: =IF(ISBLANK($A24),"",VLOOKUP($A24,#REF!,12,FALSE)) -> #REF! | M24: =INT(F24*L24) -> #REF! | N24: =IF(ISBLANK($A24),"",VLOOKUP($A24,#REF!,14,FALSE)) -> #REF! | O24: =INT(F24*N24) -> #REF! | P24: =IF(ISBLANK($A24),"",VLOOKUP($A24,#REF!,16,FALSE)) -> #REF!
A25: N2-7 | B25: N2-7 | C25: 2-7 | D25: =IF(ISBLANK($B25),"",VLOOKUP($B25,'(기계장비-출력하지않음)'!$A$3:$T$215,3,FALSE)) -> #REF! | E25: =IF(ISBLANK($B25),"",VLOOKUP($B25,'(기계장비-출력하지않음)'!$A$3:$T$215,4,FALSE)) -> #REF! | F25: =#REF! -> #REF! | G25: =IF(ISBLANK($B25),"",VLOOKUP($B25,'(기계장비-출력하지않음)'!$A$3:$T$215,5,FALSE)) -> #REF! | H25: =J25+L25+N25 -> #REF! | I25: =K25+M25+O25 -> #REF! | J25: =IF(ISBLANK($A25),"",VLOOKUP($A25,#REF!,10,FALSE)) -> #REF! | K25: =INT(F25*J25) -> #REF! | L25: =IF(ISBLANK($A25),"",VLOOKUP($A25,#REF!,12,FALSE)) -> #REF! | M25: =INT(F25*L25) -> #REF! | N25: =IF(ISBLANK($A25),"",VLOOKUP($A25,#REF!,14,FALSE)) -> #REF! | O25: =INT(F25*N25) -> #REF! | P25: =IF(ISBLANK($A25),"",VLOOKUP($A25,#REF!,16,FALSE)) -> #REF!
... A37: N위험물052 | B37: N위험물052 | C37: 위험물052 | D37: =IF(ISBLANK($B37),"",VLOOKUP($B37,'(기계장비-출력하지않음)'!$A$3:$T$215,3,FALSE)) -> #REF! | E37: =IF(ISBLANK($B37),"",VLOOKUP($B37,'(기계장비-출력하지않음)'!$A$3:$T$215,4,FALSE)) -> #REF! | F37: =#REF! -> #REF! | G37: =IF(ISBLANK($B37),"",VLOOKUP($B37,'(기계장비-출력하지않음)'!$A$3:$T$215,5,FALSE)) -> #REF! | H37: =J37+L37+N37 -> #REF! | I37: =K37+M37+O37 -> #REF! | J37: =IF(ISBLANK($A37),"",VLOOKUP($A37,#REF!,10,FALSE)) -> #REF! | K37: =INT(F37*J37) -> #REF! | L37: =IF(ISBLANK($A37),"",VLOOKUP($A37,#REF!,12,FALSE)) -> #REF! | M37: =INT(F37*L37) -> #REF! | N37: =IF(ISBLANK($A37),"",VLOOKUP($A37,#REF!,14,FALSE)) -> #REF! | O37: =INT(F37*N37) -> #REF! | P37: =IF(ISBLANK($A37),"",VLOOKUP($A37,#REF!,16,FALSE)) -> #REF!
D38: =IF(ISBLANK($B38),"",VLOOKUP($B38,'(기계장비-출력하지않음)'!$A$3:$T$215,3,FALSE)) | E38: =IF(ISBLANK($B38),"",VLOOKUP($B38,'(기계장비-출력하지않음)'!$A$3:$T$215,4,FALSE)) | F38: =#REF! -> #REF!
A39: N3-1 | B39: N3-1 | C39: 3-1 | D39: =IF(ISBLANK($B39),"",VLOOKUP($B39,'(기계장비-출력하지않음)'!$A$3:$T$215,3,FALSE)) -> #REF! | E39: =IF(ISBLANK($B39),"",VLOOKUP($B39,'(기계장비-출력하지않음)'!$A$3:$T$215,4,FALSE)) -> #REF! | F39: =#REF! -> #REF! | G39: =IF(ISBLANK($B39),"",VLOOKUP($B39,'(기계장비-출력하지않음)'!$A$3:$T$215,5,FALSE)) -> #REF! | H39: =J39+L39+N39 -> #REF! | I39: =K39+M39+O39 -> #REF! | J39: =IF(ISBLANK($A39),"",VLOOKUP($A39,#REF!,10,FALSE)) -> #REF! | K39: =INT(F39*J39) -> #REF! | L39: =IF(ISBLANK($A39),"",VLOOKUP($A39,#REF!,12,FALSE)) -> #REF! | M39: =INT(F39*L39) -> #REF! | N39: =IF(ISBLANK($A39),"",VLOOKUP($A39,#REF!,14,FALSE)) -> #REF! | O39: =INT(F39*N39) -> #REF! | P39: =IF(ISBLANK($A39),"",VLOOKUP($A39,#REF!,16,FALSE)) -> #REF!
A40: N3-4 | B40: N3-4 | C40: 3-4 | D40: =IF(ISBLANK($B40),"",VLOOKUP($B40,'(기계장비-출력하지않음)'!$A$3:$T$215,3,FALSE)) -> #REF! | E40: =IF(ISBLANK($B40),"",VLOOKUP($B40,'(기계장비-출력하지않음)'!$A$3:$T$215,4,FALSE)) -> #REF! | F40: =#REF! -> #REF! | G40: =IF(ISBLANK($B40),"",VLOOKUP($B40,'(기계장비-출력하지않음)'!$A$3:$T$215,5,FALSE)) -> #REF! | H40: =J40+L40+N40 -> #REF! | I40: =K40+M40+O40 -> #REF! | J40: =IF(ISBLANK($A40),"",VLOOKUP($A40,#REF!,10,FALSE)) -> #REF! | K40: =INT(F40*J40) -> #REF! | L40: =IF(ISBLANK($A40),"",VLOOKUP($A40,#REF!,12,FALSE)) -> #REF! | M40: =INT(F40*L40) -> #REF! | N40: =IF(ISBLANK($A40),"",VLOOKUP($A40,#REF!,14,FALSE)) -> #REF! | O40: =INT(F40*N40) -> #REF! | P40: =IF(ISBLANK($A40),"",VLOOKUP($A40,#REF!,16,FALSE)) -> #REF!
A41: N3-5 | B41: N3-5 | C41: 3-5 | D41: =IF(ISBLANK($B41),"",VLOOKUP($B41,'(기계장비-출력하지않음)'!$A$3:$T$215,3,FALSE)) -> #REF! | E41: =IF(ISBLANK($B41),"",VLOOKUP($B41,'(기계장비-출력하지않음)'!$A$3:$T$215,4,FALSE)) -> #REF! | F41: =#REF! -> #REF! | G41: =IF(ISBLANK($B41),"",VLOOKUP($B41,'(기계장비-출력하지않음)'!$A$3:$T$215,5,FALSE)) -> #REF! | H41: =J41+L41+N41 -> #REF! | I41: =K41+M41+O41 -> #REF! | J41: =IF(ISBLANK($A41),"",VLOOKUP($A41,#REF!,10,FALSE)) -> #REF! | K41: =INT(F41*J41) -> #REF! | L41: =IF(ISBLANK($A41),"",VLOOKUP($A41,#REF!,12,FALSE)) -> #REF! | M41: =INT(F41*L41) -> #REF! | N41: =IF(ISBLANK($A41),"",VLOOKUP($A41,#REF!,14,FALSE)) -> #REF! | O41: =INT(F41*N41) -> #REF! | P41: =IF(ISBLANK($A41),"",VLOOKUP($A41,#REF!,16,FALSE)) -> #REF!
A42: N3-6 | B42: N3-6 | C42: 3-6 | D42: =IF(ISBLANK($B42),"",VLOOKUP($B42,'(기계장비-출력하지않음)'!$A$3:$T$215,3,FALSE)) -> #REF! | E42: =IF(ISBLANK($B42),"",VLOOKUP($B42,'(기계장비-출력하지않음)'!$A$3:$T$215,4,FALSE)) -> #REF! | F42: =#REF! -> #REF! | G42: =IF(ISBLANK($B42),"",VLOOKUP($B42,'(기계장비-출력하지않음)'!$A$3:$T$215,5,FALSE)) -> #REF! | H42: =J42+L42+N42 -> #REF! | I42: =K42+M42+O42 -> #REF! | J42: =IF(ISBLANK($A42),"",VLOOKUP($A42,#REF!,10,FALSE)) -> #REF! | K42: =INT(F42*J42) -> #REF! | L42: =IF(ISBLANK($A42),"",VLOOKUP($A42,#REF!,12,FALSE)) -> #REF! | M42: =INT(F42*L42) -> #REF! | N42: =IF(ISBLANK($A42),"",VLOOKUP($A42,#REF!,14,FALSE)) -> #REF! | O42: =INT(F42*N42) -> #REF! | P42: =IF(ISBLANK($A42),"",VLOOKUP($A42,#REF!,16,FALSE)) -> #REF!
A43: N3-7 | B43: N3-7 | C43: 3-7 | D43: =IF(ISBLANK($B43),"",VLOOKUP($B43,'(기계장비-출력하지않음)'!$A$3:$T$215,3,FALSE)) -> #REF! | E43: =IF(ISBLANK($B43),"",VLOOKUP($B43,'(기계장비-출력하지않음)'!$A$3:$T$215,4,FALSE)) -> #REF! | F43: =#REF! -> #REF! | G43: =IF(ISBLANK($B43),"",VLOOKUP($B43,'(기계장비-출력하지않음)'!$A$3:$T$215,5,FALSE)) -> #REF! | H43: =J43+L43+N43 -> #REF! | I43: =K43+M43+O43 -> #REF! | J43: =IF(ISBLANK($A43),"",VLOOKUP($A43,#REF!,10,FALSE)) -> #REF! | K43: =INT(F43*J43) -> #REF! | L43: =IF(ISBLANK($A43),"",VLOOKUP($A43,#REF!,12,FALSE)) -> #REF! | M43: =INT(F43*L43) -> #REF! | N43: =IF(ISBLANK($A43),"",VLOOKUP($A43,#REF!,14,FALSE)) -> #REF! | O43: =INT(F43*N43) -> #REF! | P43: =IF(ISBLANK($A43),"",VLOOKUP($A43,#REF!,16,FALSE)) -> #REF!
A44: N3-8 | B44: N3-8 | C44: 3-8 | D44: =IF(ISBLANK($B44),"",VLOOKUP($B44,'(기계장비-출력하지않음)'!$A$3:$T$215,3,FALSE)) -> #REF! | E44: =IF(ISBLANK($B44),"",VLOOKUP($B44,'(기계장비-출력하지않음)'!$A$3:$T$215,4,FALSE)) -> #REF! | F44: =#REF! -> #REF! | G44: =IF(ISBLANK($B44),"",VLOOKUP($B44,'(기계장비-출력하지않음)'!$A$3:$T$215,5,FALSE)) -> #REF! | H44: =J44+L44+N44 -> #REF! | I44: =K44+M44+O44 -> #REF! | J44: =IF(ISBLANK($A44),"",VLOOKUP($A44,#REF!,10,FALSE)) -> #REF! | K44: =INT(F44*J44) -> #REF! | L44: =IF(ISBLANK($A44),"",VLOOKUP($A44,#REF!,12,FALSE)) -> #REF! | M44: =INT(F44*L44) -> #REF! | N44: =IF(ISBLANK($A44),"",VLOOKUP($A44,#REF!,14,FALSE)) -> #REF! | O44: =INT(F44*N44) -> #REF! | P44: =IF(ISBLANK($A44),"",VLOOKUP($A44,#REF!,16,FALSE)) -> #REF!
A45: N3-9 | B45: N3-9 | C45: 3-9 | D45: =IF(ISBLANK($B45),"",VLOOKUP($B45,'(기계장비-출력하지않음)'!$A$3:$T$215,3,FALSE)) -> #REF! | E45: =IF(ISBLANK($B45),"",VLOOKUP($B45,'(기계장비-출력하지않음)'!$A$3:$T$215,4,FALSE)) -> #REF! | F45: =#REF! -> #REF! | G45: =IF(ISBLANK($B45),"",VLOOKUP($B45,'(기계장비-출력하지않음)'!$A$3:$T$215,5,FALSE)) -> #REF! | H45: =J45+L45+N45 -> #REF! | I45: =K45+M45+O45 -> #REF! | J45: =IF(ISBLANK($A45),"",VLOOKUP($A45,#REF!,10,FALSE)) -> #REF! | K45: =INT(F45*J45) -> #REF! | L45: =IF(ISBLANK($A45),"",VLOOKUP($A45,#REF!,12,FALSE)) -> #REF! | M45: =INT(F45*L45) -> #REF! | N45: =IF(ISBLANK($A45),"",VLOOKUP($A45,#REF!,14,FALSE)) -> #REF! | O45: =INT(F45*N45) -> #REF! | P45: =IF(ISBLANK($A45),"",VLOOKUP($A45,#REF!,16,FALSE)) -> #REF!
A46: N거푸집설치 | B46: N거푸집설치 | C46: 거푸집설치 | D46: =IF(ISBLANK($B46),"",VLOOKUP($B46,'(기계장비-출력하지않음)'!$A$3:$T$215,3,FALSE)) -> #REF! | E46: =IF(ISBLANK($B46),"",VLOOKUP($B46,'(기계장비-출력하지않음)'!$A$3:$T$215,4,FALSE)) -> #REF! | F46: =#REF! -> #REF! | G46: =IF(ISBLANK($B46),"",VLOOKUP($B46,'(기계장비-출력하지않음)'!$A$3:$T$215,5,FALSE)) -> #REF! | H46: =J46+L46+N46 -> #REF! | I46: =K46+M46+O46 -> #REF! | J46: =IF(ISBLANK($A46),"",VLOOKUP($A46,#REF!,10,FALSE)) -> #REF! | K46: =INT(F46*J46) -> #REF! | L46: =IF(ISBLANK($A46),"",VLOOKUP($A46,#REF!,12,FALSE)) -> #REF! | M46: =INT(F46*L46) -> #REF! | N46: =IF(ISBLANK($A46),"",VLOOKUP($A46,#REF!,14,FALSE)) -> #REF! | O46: =INT(F46*N46) -> #REF! | P46: =IF(ISBLANK($A46),"",VLOOKUP($A46,#REF!,16,FALSE)) -> #REF!
A47: N무근타설인력 | B47: N무근타설인력 | C47: 무근타설인력 | D47: =IF(ISBLANK($B47),"",VLOOKUP($B47,'(기계장비-출력하지않음)'!$A$3:$T$215,3,FALSE)) -> #REF! | E47: =IF(ISBLANK($B47),"",VLOOKUP($B47,'(기계장비-출력하지않음)'!$A$3:$T$215,4,FALSE)) -> #REF! | F47: =#REF! -> #REF! | G47: =IF(ISBLANK($B47),"",VLOOKUP($B47,'(기계장비-출력하지않음)'!$A$3:$T$215,5,FALSE)) -> #REF! | H47: =J47+L47+N47 -> #REF! | I47: =K47+M47+O47 -> #REF! | J47: =IF(ISBLANK($A47),"",VLOOKUP($A47,#REF!,10,FALSE)) -> #REF! | K47: =INT(F47*J47) -> #REF! | L47: =IF(ISBLANK($A47),"",VLOOKUP($A47,#REF!,12,FALSE)) -> #REF! | M47: =INT(F47*L47) -> #REF! | N47: =IF(ISBLANK($A47),"",VLOOKUP($A47,#REF!,14,FALSE)) -> #REF! | O47: =INT(F47*N47) -> #REF! | P47: =IF(ISBLANK($A47),"",VLOOKUP($A47,#REF!,16,FALSE)) -> #REF!
D48: =IF(ISBLANK($B48),"",VLOOKUP($B48,'(기계장비-출력하지않음)'!$A$3:$T$215,3,FALSE)) | E48: =IF(ISBLANK($B48),"",VLOOKUP($B48,'(기계장비-출력하지않음)'!$A$3:$T$215,4,FALSE)) | F48: =#REF! -> #REF! | G48: =IF(ISBLANK($B48),"",VLOOKUP($B48,'(기계장비-출력하지않음)'!$A$3:$T$215,5,FALSE)) | P48: =IF(ISBLANK($A48),"",VLOOKUP($A48,#REF!,16,FALSE))
D49: =IF(ISBLANK($B49),"",VLOOKUP($B49,'(기계장비-출력하지않음)'!$A$3:$T$215,3,FALSE)) | E49: =IF(ISBLANK($B49),"",VLOOKUP($B49,'(기계장비-출력하지않음)'!$A$3:$T$215,4,FALSE)) | F49: =#REF! -> #REF! | G49: =IF(ISBLANK($B49),"",VLOOKUP($B49,'(기계장비-출력하지않음)'!$A$3:$T$215,5,FALSE)) | P49: =IF(ISBLANK($A49),"",VLOOKUP($A49,#REF!,16,FALSE))
A50: N4-1 | B50: N4-1 | C50: 4-1 | D50: =IF(ISBLANK($B50),"",VLOOKUP($B50,'(기계장비-출력하지않음)'!$A$3:$T$215,3,FALSE)) -> #REF! | E50: =IF(ISBLANK($B50),"",VLOOKUP($B50,'(기계장비-출력하지않음)'!$A$3:$T$215,4,FALSE)) -> #REF! | F50: =#REF! -> #REF! | G50: =IF(ISBLANK($B50),"",VLOOKUP($B50,'(기계장비-출력하지않음)'!$A$3:$T$215,5,FALSE)) -> #REF! | H50: =J50+L50+N50 -> #REF! | I50: =K50+M50+O50 -> #REF! | J50: =IF(ISBLANK($A50),"",VLOOKUP($A50,#REF!,10,FALSE)) -> #REF! | K50: =INT(F50*J50) -> #REF! | L50: =IF(ISBLANK($A50),"",VLOOKUP($A50,#REF!,12,FALSE)) -> #REF! | M50: =INT(F50*L50) -> #REF! | N50: =IF(ISBLANK($A50),"",VLOOKUP($A50,#REF!,14,FALSE)) -> #REF! | O50: =INT(F50*N50) -> #REF! | P50: =IF(ISBLANK($A50),"",VLOOKUP($A50,#REF!,16,FALSE)) -> #REF!
A51: N4-2 | B51: N4-2 | C51: 4-2 | D51: =IF(ISBLANK($B51),"",VLOOKUP($B51,'(기계장비-출력하지않음)'!$A$3:$T$215,3,FALSE)) -> #REF! | E51: =IF(ISBLANK($B51),"",VLOOKUP($B51,'(기계장비-출력하지않음)'!$A$3:$T$215,4,FALSE)) -> #REF! | F51: =#REF! -> #REF! | G51: =IF(ISBLANK($B51),"",VLOOKUP($B51,'(기계장비-출력하지않음)'!$A$3:$T$215,5,FALSE)) -> #REF! | H51: =J51+L51+N51 -> #REF! | I51: =K51+M51+O51 -> #REF! | J51: =IF(ISBLANK($A51),"",VLOOKUP($A51,#REF!,10,FALSE)) -> #REF! | K51: =INT(F51*J51) -> #REF! | L51: =IF(ISBLANK($A51),"",VLOOKUP($A51,#REF!,12,FALSE)) -> #REF! | M51: =INT(F51*L51) -> #REF! | N51: =IF(ISBLANK($A51),"",VLOOKUP($A51,#REF!,14,FALSE)) -> #REF! | O51: =INT(F51*N51) -> #REF! | P51: =IF(ISBLANK($A51),"",VLOOKUP($A51,#REF!,16,FALSE)) -> #REF!
...
