Workbook
Name _aab42: #REF!
Name a: #REF!
Name GABION개소별명세: #REF!
Name GABION단위수량: #REF!
Name GABION수량집계: #REF!
Name I.P제원표: #REF!
Name J: #REF!
Name J: #REF!
Name J: #REF!
Name J: #REF!
Name J: #REF!
Name JYH: #REF!
Name JYH: #REF!
Name JYH: #REF!
Name JYH: #REF!
Name JYH: #REF!
Name J형옹벽측구수량집계: #REF!
Name L형옹벽측구수량집계: #REF!
Name L형측구수량집계: #REF!
Name U형시가지측구수량집계: #REF!
Name U형측구수량집계: #REF!
Name V형측구수량집계: #REF!
Name 가드레일개소별명세: #REF!
Name 가드레일기초단위수량: #REF!
Name 가드레일수량집계: #REF!
Name 가설공사집계: #REF!
Name 갈매기표지판개소별명세: #REF!
Name 갑지2: #REF!
Name 갑지2: #REF!
Name 갑지2: #REF!
Name 갑지2: #REF!
Name 갑지2: #REF!
Name 계: #REF!
Name 계: #REF!
Name 계: #REF!
Name 계: #REF!
Name 계: #REF!
Name 교통표지판개소별명세: #REF!
Name 교통표지판기초단위수량: #REF!
Name 교통표지판수량명세: #REF!
Name 교통표지판수량집계: #REF!
Name 구조물: #REF!
Name 구조물: #REF!
Name 구조물: #REF!
Name 구조물: #REF!
Name 구조물: #REF!
Name 구조물공집계표: #REF!
Name 구조물별포장가감수량집계표: #REF!
Name 기_타__경_비__산_출_근_거: [1]내역서!#REF!
Name 기_타__경_비__산_출_근_거: [1]내역서!#REF!
Name 기_타__경_비__산_출_근_거: [1]내역서!#REF!
Name 기_타__경_비__산_출_근_거: [1]내역서!#REF!
Name 기_타__경_비__산_출_근_거: [1]내역서!#REF!
Name 낙석방지망개소별명세: #REF!
Name 낙석방지책개소별명세: #REF!
Name 낙석방지책단위수량: #REF!
Name 낙석방지책수량집계: #REF!
Name 내역: #REF!
Name 내역서갑지: [1]내역서!#REF!
Name 내역서갑지: [1]내역서!#REF!

Sheet 표준계약서
L1: 노란색 셀에 입력 시 자동완성 됨
A2: 일반용역 표준계약서 | I2: 계약번호 | J2: 제 호 | L2: 상호또는법인명칭 | M2: 주식회사 한국건설
I3: 공고번호 | J3: 제 호 | L3: 주소 | M3: 강릉시 명륜로 121번길1
A4: 계 약 자 | B4: 발 주 처 | C4: 강원특별자치도 감자종자진흥원 | L4: 대표자 | M4: 허소현
B5: 계약 상대자 | C5: 상 호 | E5: =" "&M2 -> 주식회사 한국건설 | I5: 전화 번호 | J5: =M6 -> 033-642-5386 | L5: 주민(법인)등록번호 | M5: 226-81-32888
C6: 주 소 | E6: =" "&M3 -> 강릉시 명륜로 121번길1 | L6: 전화번호 | M6: 033-642-5386
C7: 성 명 | E7: =" "&M4 -> 허소현 | I7: 사업자번호 | J7: =M5 -> 226-81-32888 | L7: 공사명 | M7: 2026년 감자종자진흥원 횡계저장고 소방펌프실 단열 공사
B8: 계약 상대자 | C8: 상 호 | I8: 전화 번호 | L8: 계약년월일 | M8: 2026년 9월 3일
C9: 주 소 | L9: 계약금액 | M9: 53300000
C10: 성 명 | I10: 사업자번호 | L10: 계약보증금률 | M10: 0.05
B11: 연대 보증인 | C11: 상 호 | I11: 전화 번호 | L11: 계약보증금액 | M11: =ROUNDUP(M9*5%, -1) -> 2665000 | N11: 계약금액 입력 시 자동계산
C12: 주 소 | L12: 보증금납부방법 | M12: 지급각서 | N12: 보증금,지급각서,현금 중 선택
C13: 성 명 | I13: 사업자번호 | L13: 지연배상금율 | M13: 1.3/1000
A14: 계 약 내 용 | B14: 공 사 명 | C14: =" "&M7 -> 2026년 감자종자진흥원 횡계저장고 소방펌프실 단열 공사 | L14: 계약기간1 | M14: 46268
B15: 계 약 금 액 | C15: =M9 -> 53300000 | F15: ="("&CONCATENATE("금",NUMBERSTRING(M9,1), "원")&")" -> (금오천삼백삼십만원) | L15: 용역기간
B16: 총용역부기금액 | C16: =M9 -> 53300000 | F16: ="("&CONCATENATE("금",NUMBERSTRING(M9,1), "원")&")" -> (금오천삼백삼십만원) | L16: 계약기간2 | M16: 46357
B17: 계 약 보 증 금 | C17: =M11 -> 2665000 | F17: ="("&CONCATENATE("금",NUMBERSTRING(M11,1), "원")&")" -> (금이백육십육만오천원) | J17: =M12 -> 지급각서 | L17: 현장
B18: 지연배상금율 | C18: =" "&M13 -> 1.3/1000 | L18: 기타사항
B19: 물가변동 계약금액 조정방법 | G19: =M19 -> 0
B20: 계 약 기 간 | C20: =M14 -> 46268 | F20: ~ | G20: =M16 -> 46357 | L20: 규격단위또는세부내역
B21: 위 치 | C21: =M17 -> 0 | L21: 금액
B22: 기타사항 | C22: =M18 -> 0 | L22: 업종(등록)
A24: 계약담당 공무원과 계약대상자는 상호 대등한 입장에서 붙임의 계약문서에 의하여 위의
A25: 건에 대한 계약을 체결하고 신의에 따라 성실히 계약상의 의무를 이행 할 것을 확약하며
A26: 이 계약의 증거로서 계약서를 작성하여 당사자가 기명 날인한 후 각각 1통씩 보관한다.
A28: 붙임서류 : 과업지시서 1 부
A30: =M8 -> 2026년 9월 3일
B32: 강원특별자치도 감자종자진흥원 재무관 | E32: 강원특별자치도감자종자진흥원장 이인희 | J32: =" "&"("&"인"&")" -> (인)
B34: 계약상대자 | E34: =M2&" "&L4&" "&M4 -> 주식회사 한국건설 대표자 허소현 | J34: =" "&"("&"인"&")" -> (인)
A36: 용 역 내 역 서
A37: 용 역 명 | F37: 규격,단위 또는 세부내역 | I37: 금 액
A38: =M7 -> 2026년 감자종자진흥원 횡계저장고 소방펌프실 단열 공사 | F38: 과업이행요청서 참조 | I38: =M9 -> 53300000

Sheet 계약보증금지급각서
A3: 계 약 보 증 금 지 급 각 서
A4: 계 약 건 명 | B4: =" "&I4 -> 2026년 감자종자진흥원 횡계저장고 소방펌프실 단열 공사 | H4: 계약명 | I4: =표준계약서!M7 -> 2026년 감자종자진흥원 횡계저장고 소방펌프실 단열 공사
A5: 계 약 년 월 일 | B5: =I5 -> 2026년 9월 3일 | H5: 계약년월일 | I5: =표준계약서!M8 -> 2026년 9월 3일
A6: 계 약 금 액 | B6: =I6 -> 53300000 | D6: ="("&CONCATENATE("금",NUMBERSTRING(I6,1), "원")&")" -> (금오천삼백삼십만원) | H6: 계약금액 | I6: =표준계약서!M9 -> 53300000
A7: 계약보증금액 | B7: =I8 -> 2665000 | D7: ="("&CONCATENATE("금",NUMBERSTRING(I8,1), "원")&")" -> (금이백육십육만오천원) | H7: 계약보증금률 | I7: 5
A8: 계약보증금율 | B8: 계약금액의 | C8: =I7 -> 5 | H8: 계약보증금액 | I8: =표준계약서!M11 -> 2665000
A9: 계약이행보증기간 | B9: =I9 -> 2026년 9월 3일 | C9: ~ | D9: =I10 -> 46357 | H9: 계약이행기간1 | I9: =표준계약서!M8 -> 2026년 9월 3일
A10: 본인(법인)은 계약의 이행을 확약하기 위하여 지방자치 단체를 당사자로 하는 계약에 관한 법률 15조 1항의 규정에 의거하여 계약보증금을 납부하여야 하나, 같은법 시행령 53조의 규정에 따라 면제를 받았기에 이 계약이 본인(법인)의 책임있는 사유로 이행되지 못했을 때에는 계약보증금 전액을 현금으로 납입 할 것을 확약하며 이에 각서를 제출합니다. | H10: 계약이행기간2 | I10: =표준계약서!M16 -> 46357
H11: 상호또는법인명칭 | I11: =표준계약서!M2 -> 주식회사 한국건설
H12: 주소 | I12: =표준계약서!M3 -> 강릉시 명륜로 121번길1
H13: 대표자 | I13: =표준계약서!M4 -> 허소현
H14: 주민(법인)등록번호 | I14: =표준계약서!M5 -> 226-81-32888
H15: 업태
C16: =표준계약서!A30 -> 2026년 9월 3일
B18: 계 약 상 대 자 : | D18: =I11 -> 주식회사 한국건설
B19: 주 소 : | D19: =I12 -> 강릉시 명륜로 121번길1
B20: 대 표 자 : | D20: =I13&" "& "("&"인"&")" -> 허소현 (인)
B21: 주민(법인)등록번호 : | D21: =I14 -> 226-81-32888
A23: 강원특별자치도 감자종자진흥원(분임)재무관 귀하

Sheet 용역계약 조건 및 유의서
A1: 용역계약 제조건
B3: 계약담당공무원과 계약대상자는 상호 대등한 입장에서 다음과 같은 계약서에 대하여 신의에 따라 성실히 계약상의 의무를 이행할 것을 확약합니다.
C6: 입 찰 유 의 서
B7: 본 계약의 입찰유의서는 계약서류에 첨부여부를 불구하고 지방자치단체 입찰 및 계약집행기준 제8장 입찰유의서〔행정안전부 예규〕가 적용된다.
C9: 용역계약 일반조건
B10: 본 계약의 용역계약 일반조건은 계약서류에 첨부여부를 불구하고 지방자치단체 입찰 및 계약집행기준 제9장 용역계약 일반조건〔행정안전부 예규〕이 적용된다.
C12: 용역계약 일반조건 특약
B13: 본 계약에 의하여 발생한 채권(용역대금 청구권)은 용역계약 일반조건 제3절 제1항의 규정에 따라 제3자에게 양도할 경우 발주처의 승인을 받아야 하며, 발주처의 승인을 받지 않은 채권 양도는 인정하지 않는다.
C15: 청렴계약 이행서약서
B16: 본 계약의 청렴계약 이행서약은 “별첨” 청렴계약 이행서약서를 적용하며, 계약체결시 청렴이행서약서를 제출한 것으로 간주한다.
B18: 1. 입찰유의서, 용역계약 일반조건 등의 내용은 첨부하지 않음
B19: 2. 과업이행요청서(별도첨부)
C20: 위 내용을 확인함.
C21: =표준계약서!A30 -> 2026년 9월 3일
A24: ="서약자"&" "&":"&" "&표준계약서!M2&" "&"대표"&" "&":"&" "&표준계약서!M4&"("&"인"&")" -> 서약자 : 주식회사 한국건설 대표 : 허소현(인)

Sheet 청렴계약이행각서
A1: 청렴계약 이행서약서
A3: 당사(하도급업체와 직․간접적으로 업무를 수행하는 자를 포함 : 이하“당사 등”이라한다)는 '부패 없는 투명한 기업경영과 공정한 행정'이 사회발전과 국가 경쟁력에 중요한 관건이 됨을 깊이 인식하며, 국제적으로도 OECD뇌물방지 협약이 발효되었고 부패기업 및 발주하는 모든공사, 국가에 대한 제재가 강화되는 추세에 맞추어 청렴계약 취지에 적극 호응하여 강원특별자치도에서 물품(제조ㆍ구매), 및 용역 등의 입찰참여 및 수의계약을 포함한 계약을 진행함에 있어 당사 등의 임직원과 대리인은
B5: 1. 입찰, 낙찰, 계약의 체결 및 이행, 「지방자치단체를 당사자로 하는 계약에 관한 법률」제16조에 따른 감독 및 제17조에 따른 검사와 관련된 직접 또는 간접적인 사례(謝禮), 증여, 금품·향응 제공(친인척 등에 대한 부정한 취업제공 포함)과 이해충돌방지법에 따른 수의계약 체결 제한 대상자와 계약 및 가족에 대한 부정 채용을 하는 등의 행위를 하지 않겠습니다. 만약 공무원이 먼저 사례ㆍ증여ㆍ금품ㆍ향응(친인척 등에 대한 부정한 취업제공 포함)과 이해충돌방지법에 따른 수의계약 체결 제한 대상자와 계약 및 가족에 대한 부정 채용 등을 요구할 시 강원특별자치도감사위원회 등에 신고하도록 하겠습니다.
B7: 2. 특정인의 낙찰을 위한 담합 등 입찰의 자유경쟁을 방해하는 행위나 불공정한 행위를 하지 않을 것이며, 공정한 직무수행을 방해하는 알선·청탁을 통해 입찰 또는 계약과 관련된 특정 정보의 제공을 요구하거나 받지 않겠습니다. 또한, 내부비리 제보자에 대해서도 일체의 불이익처분을 하지 않으며, 이해충돌방지법에 따라 수의계약 체결 제한 대상자와 계약 및 가족에 대한 부정 채용을 금지하는 등 관련 사규를 제정토록 노력하겠습니다.
B9: 3. 입찰, 계약체결 및 계약이행과 관련하여 관계공무원에게 금품, 향응 제공(친인척 등에 대한 부정한 취업제공 포함)과 이해충돌방지법에 따른 수의계약 체결 제한 대상자와 계약 및 가족에 대한 부정 채용을 하는 등의 부당한 이익을 제공한 사실이 드러날 경우에는 계약체결 이전의 경우에는 낙찰자결정 취소, 계약이행 전에는 계약취소, 계약이행 이후에는 당해 계약의 전부 또는 일부계약을 해제 또는 해지하여도 감수하겠으며, 민ㆍ형사상 이의를 제기하지 않겠습니다.
A11: 위 청렴계약 이행서약은 상호신뢰를 바탕으로 한 약속으로서 반드시 지킬 것이며, 강원도에서 시행하는 청렴계약 이행서약서 작성ㆍ이행과 관련한 자료제출, 서류열람, 현장확인 등 요구에 적극 협조하겠으며, 낙찰자로 결정될 시 본 서약내용을 그대로 계약특수조건으로 계약하여 이행할 것이며, 이 청렴계약 이행서약 위반으로 입찰참가자격 제한, 계약해지 등 강원특별자치도의 조치에 대하여 당사 등은 강원특별자치도를 상대로 손해배상을 청구하거나 당사 등을 배제하는 입찰에 관하여 민ㆍ형사상 어떠한 이의도 제기하지 않을 것을 서약합니다.
B15: =표준계약서!A30 -> 2026년 9월 3일
A18: ="서약자"&" "&":"&" "&표준계약서!M2&" "&"대표"&" "&":"&" "&표준계약서!M4&"("&"인"&")" -> 서약자 : 주식회사 한국건설 대표 : 허소현(인)

Sheet 수의계약각서
A1: 각 서
A3: 업 체 명 | C3: =표준계약서!M2 -> 주식회사 한국건설
A4: 대 표 자 | C4: =표준계약서!M4 -> 허소현
A5: 소 재 지 | C5: =표준계약서!M3 -> 강릉시 명륜로 121번길1
A6: 업종(등록) | C6: =표준계약서!M22 -> 0
A8: 상기 본인(법인)은 귀 기관과 수의계약을 체결함에 있어서 붙임 결격사유 중 어느 사유에도 해당되지 않으며 차후에 이러한 사실이 발견된 경우 계약의 해제․해지 및 부정당업자 제재 처분을 받아도 하등의 이유를 제기하지 않겠습니다. 붙임 : <별표1> 수의계약 배제사유 1부.
A9: =표준계약서!A30 -> 2026년 9월 3일
A11: 업체명 : | D11: =표준계약서!M2 -> 주식회사 한국건설
A12: 대표자 : | D12: =표준계약서!M4 -> 허소현 | F12: (인)
A13: 강원특별자치도감자종자진흥원분임재무관 귀하
A15: <별표 1>
A16: 수의계약 배제사유
A17: ① 견적서 제출 마감일 현재 부도·파산·해산·영업정지 등이 확정된 경우 ② 입찰참가자격 제한기간 중에 있는 자 ③ 견적서 제출 마감일을 기준으로 시행령 제92조 또는 다른 법령에 따라 부실이행, 담합행위, 입찰․계약 서류의 허위․위조 제출, 입찰·낙찰·계약이행 관련 뇌물 제공으로 부정당업자 제재 처분을 받고 그 종료일로부터 3개월이 지나지 아니한 자 ④ 공사 또는 기술용역의 경우 기술자 보유현황이 관련법령에 따른 업종등록 기준에 미달하는 자 ※ 기술자보유현황의 심사는「낙찰자결정기준」제2장 시설공사 적격심사 세부기준 <별지 2>의 그밖에 해당공사 수행능력상 결격여부, 제3장 기술용역 적격심사 세부기준 <별표>의 기술인력 평가방법을 준용한다. 이때 ‘입찰공고일’은 ‘안내공고일’로 ‘적격심사서류 제출마감일’은 ‘견적서 제출마감일’로 본다. ⑤ 견적서 제출 마감일 기준 최근 3개월 이내에 해당 지방자치단체의 입찰․계약 및 그 이행과 관련하여 10일 이상 지연배상금 부과, 정당한 이행명령 거부, 불법하도급, 5회 이상 하자보수 또는 물의를 일으키는 등 신용이 떨어져 계약 체결이 곤란하다고 판단되는 자 ⑥ 견적서 제출 마감일 기준 최근 3개월 이내에 해당 지방자치단체와의 계약 및 그 이행과 관련하여 정당한 이유 없이 계약에 응하지 아니하거나 포기서를 제출한 사실이 있는 자 ※ 정당한 이유 없이 계약을 체결하지 아니하는 경우는 시행령 제92조 제1항 제6호에 따른 입찰참가자격 제한에는 해당되지 아니하나 수의계약 결격사유에 해당됨. ⑦ 수의계약 체결일 현재 법 제33조에 해당하는 자 1. 지방자치단체의 장 또는 지방의회의원의 배우자인 사업자(법인은 대표자) 2. 지방자치단체의 장 또는 지방의회의원(배우자 포함)의 직계 존·비속인 사업자 3. 지방자치단체의 장 또는 지방의회의원이 자본금 총액의 50%이상을 소유한 자 4. 지방자치단체의 장 또는 지방의회의원 가족(배우자, 직계존·비속)의 합산금액이 자본금 총액의 50% 이상을 소유한 사업자 5. 지방자치단체의 장 또는 지방의회의원 소유업체의 계열회사 등 ⑧ 발주기관이 제한한 자격요건 등을 충족하지 아니한 자 ⑨ 그밖에 계약담당자가 계약이행능력이 없다고 판단되는 명백한 증거가 있는 자 ⑩ 재난복구공사(용역)의 경우 결격여부 심사일 현재 계약금액 5천만원 이상 해당업종 관급공사 또는 계약금액 2천만원 이상 관급용역이 3건 이상인 자 (단, 제3절의 “1”에 따른 2인 이상 견적서 제출 수의계약에 한한다)

Sheet 수의계약체결제한 여부 확인서
A1: ■ 강원도 공직자의 이해충돌 방지제도 운영지침 [별지 제10호서식]
A2: 수의계약 체결 제한 여부 확인서
A3: • 해당하는 [ ]에 √ 표시를 합니다. (1쪽)
A4: 발주자 | C4: 발주기관 | E4: 강원특별자치도 | G4: 발주부서 | I4: 감자종자진흥원 | K4: 발주날짜 | M4: 46268
C5: 발주내용 | E5: =표준계약서!M7&" " -> 2026년 감자종자진흥원 횡계저장고 소방펌프실 단열 공사 | M5: [ ] 공사 [ √ ] 용역
M6: [ ] 물품 [ ] 기타
C7: 수의계약 사유 : 제25조제1항5호나목 추정가격 2천만원 이하인 물품의 제조·구매계약 또는 용역계약
A9: 계약상대자 | C9: 성명 | D9: =표준계약서!M4&" " -> 허소현 | H9: 소속 | I9: =표준계약서!M2&" " -> 주식회사 한국건설 | M9: [ ] 개인 [ √ ] 법인
A10: (확인인) | M10: [ ] 단체 [ ] 기타
C11: 연락처 | E11: =표준계약서!M6&" " -> 033-642-5386 | H11: 주소 | I11: =표준계약서!M3&" " -> 강릉시 명륜로 121번길1
A13: 수의계약 체결 제한 확인사항
A14: ① | B14: 발주기관의 소속 고위공직자 본인 및 배우자, 고위공직자의 직계존속·비속 또는 생계를 같이하는 배우자의 직계존속·비속에 해당하는가? | N14: [ ] 예 [ ] 아니오
N15: [ ] 해당없음
A16: ② | B16: 계약 업무을 법령상·사실상 담당하는 공직자 본인 및 배우자, 공직자의 직계존속·비속 또는 생계를 같이하는 배우자의 직계존속·비속에 해당하는가? | N16: [ ] 예 [ ] 아니오
N17: [ ] 해당없음
A18: ③ | B18: 발주기관(산하기관)의 감독기관 소속 고위공직자 본인 및 배우자, 고위공직자의 직계존속·비속 또는 생계를 같이하는 배우자의 직계존속·비속에 해당하는가? | N18: [ ] 예 [ ] 아니오
N19: [ ] 해당없음
A20: ④ | B20: 발주기관(자회사)의 모회사 소속 고위공직자 본인 및 배우자, 고위공직자의 직계존속·비속 또는 생계를 같이하는 배우자의 직계존속·비속에 해당하는가? | N20: [ ] 예 [ ] 아니오
N21: [ ] 해당없음
A22: ⑤ | B22: 상임위원회 위원의 국회의원 본인 및 배우자, 국회의원의 직계존속·비속 또는 생계를 같이하는 배우자의 직계존속·비속에 해당하는가? | N22: [ ] 예 [ ] 아니오
N23: [ ] 해당없음
A24: ⑥ | B24: 강원도를 감사 또는 조사하는 지방의회의 의원 본인 및 배우자, 의원의 직계존속·비속 또는 생계를 같이하는 배우자의 직계존속·비속에 해당하는가? | N24: [ ] 예 [ ] 아니오
N25: [ ] 해당없음
A26: ⑦ | B26: ①부터 ⑥까지 어느 하나에 해당하는 사람이 대표자인 법인 | N26: [ ] 예 [ ] 아니오
B27: 또는 단체에 해당하는가? | N27: [ ] 해당없음
A28: ⑧ | B28: ①부터 ⑥까지 어느 하나에 해당하는 사람과 특수한 관계의 사업자(공직자, 배우자, 공직자의 직계존속·비속, 생계를 같이하는 배우자의 직계존속·비속이 단독으로 또는 합산하여 ① 발행주식 총수의 100분의 30 이상, ② 출자지분 총수의 100분의 30 이상, ③ 자본금 총액의 100분의 50 이상을 소유하고 있는 법인 또는 단체)에 해당하는가? | N28: [ ] 예 [ ] 아니오
N29: [ ] 해당없음
A30: 「공직자의 이해충돌 방지법」제12조에 따른 수의계약 체결 제한에 대하여 위와 같이 확인합니다. 만약 위 사항이 사실과 다른 경우에는 어떠한 처벌이나 불이익도 감수할 것을 서약합니다.
A31: 2026년 월 일
A32: 강원특별자치도 감자종자진흥원재무관 귀하 | E32: 계약상대자(확인인) | I32: =표준계약서!M2&" "&"대표"&" "&":"&" "&표준계약서!M4&"("&"서명 또는 인"&")" -> 주식회사 한국건설 대표 : 허소현(서명 또는 인)
A33: 210mm×297mm[일반용지 60g/㎡(재활용품)]

Sheet 임금지급서약서
A1: [별지 제1호 서식]
A2: 임금 지급 서약서
B5: 저희 업체에서는 강원특별자치도에서 발주한 공사·용역사업에 대해 계약서대로 성실히 과업을 수행하며, 강원특별자치도 정책중의 하나로 체불임금 없는 공사가 될 수 있도록 설계서상의 임금(건설 기계임대료 포함)을 정당한 근로의 대가로 지급할 것을 약속하며 이에 서약서를 제출합니다.
B13: =표준계약서!A30 -> 2026년 9월 3일
C15: 계 약 상 대 자 : | E15: =표준계약서!M2 -> 주식회사 한국건설
C16: 주 소 : | E16: =표준계약서!M3 -> 강릉시 명륜로 121번길1
C17: 대 표 자 : | E17: =표준계약서!M4&" "& "("&"인"&")" -> 허소현 (인)
A21: =표준계약서!B32 -> 강원특별자치도 감자종자진흥원 재무관

Sheet 안전보건관리 준수 서약서
A2: 안전보건관리 준수 서약서
B4: 산업재해예방을 위하여 관련 법규에서 정한 필수사항을 철저히 준수할 것을 다음과 같이 서약합니다.
B6: 「산업안전보건법, 중대재해처벌법」 등 관련 법규를 준수하겠습니다.
G7: : 예 ( ○ )
G8: : 아니오 ( )
B10: ="( "&표준계약서!M2&" )는" -> ( 주식회사 한국건설 )는 | E10: 본 공사/용역/물품을 수행함에 있어,
B11: 위에 언급한 내용대로 계약을 성실히 이행할 것이며, 만일 이를 이행하지 않을 경우 계약해지, 입찰참가자격제한조치 등 불이익 처분을 받더라도 하등의 이의를 제기하지 아니할 것을 확약하고 안전보건관리 준수 서약 서를 제출합니다.
B13: =표준계약서!A30 -> 2026년 9월 3일
B15: 주 소 : | D15: =표준계약서!M3 -> 강릉시 명륜로 121번길1
B16: 업 체 명 : | D16: =표준계약서!M2 -> 주식회사 한국건설
B17: 대 표 자 : | D17: =표준계약서!M4&" "& "("&"인"&")" -> 허소현 (인)

Sheet 사용인감계
A2: 사용인감계
B4: 사용인감 | C4: 인적사항
C5: 업체명 : | D5: =표준계약서!M2 -> 주식회사 한국건설
C6: 주 소 : | D6: =표준계약서!M3 -> 강릉시 명륜로 121번길1
C7: 대표자 : | D7: =표준계약서!M4 -> 허소현
B9: 상기인은 위 인감을 「 | D9: =표준계약서!M7 -> 2026년 감자종자진흥원 횡계저장고 소방펌프실 단열 공사 | I9: 」
B10: 에 대한 계약 및 이에 수반되는 모든 행위에 대하여 위의 인감을 사용하고자 하며,
B11: 동 인감을 사용함으로써 민·형사상의 문제가 발생할 경우 상기인이 책임질 것을
B12: 확약하고 이에 사용인감계를 제출합니다.
D16: =표준계약서!A30 -> 2026년 9월 3일
C18: 계 약 상 대 자 : | E18: =표준계약서!M2 -> 주식회사 한국건설
C19: 주 소 : | E19: =표준계약서!M3 -> 강릉시 명륜로 121번길1
C20: 대 표 자 : | E20: =표준계약서!M4&" "& "("&"인"&")" -> 허소현 (인)
A24: =표준계약서!B32 -> 강원특별자치도 감자종자진흥원 재무관

Sheet 하자보증지급각서
G1: 하자보증지급각서
A3: 건 명 | G3: =표준계약서!M7 -> 2026년 감자종자진흥원 횡계저장고 소방펌프실 단열 공사
A4: 계 약 금 액 | G4: 금 | H4: =표준계약서!M9 -> 53300000 | O4: 원 | P4: ="("&CONCATENATE("금",NUMBERSTRING(H4,1), "원")&")" -> (금오천삼백삼십만원)
A5: 보 증 기 간 | G5: 2024 | I5: 년 | J5: 7 | K5: 월 | L5: 26 | M5: 일 | P5: 부터 | T5: 2025 | V5: 년 | W5: 7 | X5: 월 | Y5: 26 | Z5: 일
F6: ※ 보증기간 : 준공(검사)일로부터 2년
A7: 하자보증금액 | G7: =H4*2% -> 1066000 | P7: ="("&CONCATENATE("금",NUMBERSTRING(G7,1), "원")&")" -> (금일백육만육천원)
C9: 상기 물품을 납품함에 있어 지방자치단체를 당사자로 하는 계약에 관한 법률 시행령 제71조 1항 및 시행규칙 제70조2항 제3호에 의거 하자보증을 면제받게됨에 따라 하자보수불이행시 발주기관의 요구에 따라 즉시 하자보증금에 해당하는 금액을 현금으로 납부하겠음을 확약하며 이에 각서를 제출합니다.
C14: 2026년 12월 일
H16: 주소 | K16: :
H17: 상호 | K17: :
H18: 대표자 | K18: : | T18: (인)
B20: 강원특별자치도감자종자진흥원 재무관 | M20: 귀하
