Workbook
Name _: '[1]산출근거'!#REF!
Name ____A146432: #REF!
Name ____A69999: #REF!
Name ____A70013: #REF!
Name ____A946432: #REF!
Name ____int3: #REF!
Name ____ll15: #REF!
Name ____NMB96: #REF!
Name ___A146432: #REF!
Name ___A69999: #REF!
Name ___A70013: #REF!
Name ___A946432: #REF!
Name ___ll15: #REF!
Name ___NMB96: #REF!
Name __A146432: #REF!
Name __A69999: #REF!
Name __A70000: #REF!
Name __A70013: #REF!
Name __A946432: #REF!
Name __B140007: '[5]집계'!#REF!
Name __DIA1: #REF!
Name __HEI1: #REF!
Name __KK59: '[7]노임단가'!#REF!
Name __ll15: #REF!
Name __MAT1: #REF!
Name __MAT2: #REF!
Name __NMB96: #REF!
Name __P1: #REF!
Name __P10: #REF!
Name __P11: #REF!
Name __P12: #REF!
Name __P13: #REF!
Name __P14: #REF!
Name __P15: #REF!
Name __P16: #REF!
Name __P17: #REF!
Name __P2: #REF!
Name __P3: #REF!
Name __P4: #REF!
Name __P5: #REF!
Name __P6: #REF!
Name __P7: #REF!
Name __P8: #REF!
Name __P9: #REF!
Name __PB1: '[5]#REF'!$A$1:$J$45
Name __PB2: '[5]#REF'!$K$1:$T$45
Name __PB3: '[5]#REF'!$U$1:$AD$45
Name __PH1: #REF!
Name __SD1: #REF!
Name __sd2: #REF!
Name __ST1: #REF!
Name __ST2: #REF!
Name __TK1: #REF!
Name __TS1: #REF!
Name __TS2: #REF!
Name __wv1: #REF!
Name __YP1: #REF!
Name __YP2: #REF!
Name _0.2_2_4: #REF!
Name _1: '[5]I一般比'!#REF!

Sheet 원가계산서
A3: 원 가 계 산 서
B6: 공 사 명 : | C6: =집계표!D5 -> 관리동 사무환경개선 공사
A8: =CONCATENATE(" 예 산 금 액 : 一金",TEXT(H32,"[DBNum4]G/표준"),"원整(",TEXT(H32,"\#,###0"),"-부가세포함)") -> 예 산 금 액 : 一金영원整(\0-부가세포함)
A10: NO | B10: 품명 | C10: 규격 | D10: 단위 | E10: 수량 | F10: 재료비 | G10: 노무비 | H10: 금액 | I10: 비고
B11: 직접공사비
B12: =집계표!D5 -> 관리동 사무환경개선 공사 | D12: 식 | E12: 1 | F12: =내역서!H20 -> 0 | G12: =내역서!J20 -> 0 | H12: =F12+G12 -> 0
B15: 계 | F15: =SUM(F12:F13) -> 0 | G15: =SUM(G12:G13) -> 0 | H15: =SUM(H12:H13) -> 0
B17: 간접공사비
B18: 공과잡비 | D18: % | E18: 10이내 | H18: =H15*7% -> 0
B19: 안전관리비 | C19: 재료비+노무비 | D19: % | E19: 3.11
B20: 산재보험료 | C20: 노무비 | D20: % | E20: 3.56 | H20: =G15*3.56% -> 0
B21: 고용보험료 | C21: 노무비 | D21: % | E21: 1.01 | H21: =G15*1.01% -> 0
B22: 국민연금보험료 | C22: 노무비 | D22: % | E22: 4.5
B23: 국민건강보험료 | C23: 노무비 | D23: % | E23: 3.545
B24: 노인장기요양보험료 | C24: 국민건강보험료 | D24: % | E24: 12.95
B25: 이윤 | D25: % | E25: 7 | H25: =H15*7% -> 0
B26: 계 | H26: =SUM(H18:H25) -> 0
B28: 합 계 | G28: 단수정리 | H28: =ROUNDDOWN(H15+H26,-5) -> 0
B30: VAT | H30: =H28*10% -> 0
B32: 총 계 | H32: =H28+H30 -> 0

Sheet 집계표
A1: NO | D1: 품명 | E1: 규격 | F1: 단위 | G1: 수량 | H1: 재료비 | I1: 노무비 | J1: 합계 | K1: 비고
A2: 직접공사비 집계표
A4: 1 | B4: 난지물재생센터
C5: A | D5: =내역서!C3 -> 관리동 사무환경개선 공사 | F5: 식 | G5: 1 | H5: =내역서!H20 -> 0 | I5: =내역서!J20 -> 0 | J5: =내역서!L20 -> 0
D7: =B4&" 계" -> 난지물재생센터 계 | H7: =SUM(H5:H5) -> 0 | I7: =SUM(I5:I5) -> 0 | J7: =SUM(J5:J5) -> 0
D11: 합계 | H11: =H7 -> 0 | I11: =I7 -> 0 | J11: =J7 -> 0

Sheet 내역서
B1: NO. | C1: 품 명 | D1: 규 격 | E1: 단위 | F1: 수 량 | G1: 재료비 | I1: 노무비 | K1: 합계 | M1: 비 고
G2: 단가 | H2: 금액 | I2: 단가 | J2: 금액 | K2: 단가 | L2: 금액
C3: 관리동 사무환경개선 공사
B4: 1 | C4: =C22 -> 가설공사 | E4: 식 | F4: 1
B5: 2 | C5: =C31 -> 철거공사 | E5: 식 | F5: 1
B6: 3 | C6: =C37 -> 공통벽체공사 | E6: 식 | F6: 1
C8: 소 계 | H8: =SUM(H4:H6) -> 0 | J8: =SUM(J4:J6) -> 0 | L8: =SUM(L4:L6) -> 0
C20: 총 계 | H20: =H8 -> 0 | J20: =J8 -> 0 | L20: =L8 -> 0
B22: 1 | C22: 가설공사
A23: 가설 | C23: 먹메김 | E23: M2
A24: 가설 | C24: 현장보양 | E24: 식 | F24: 1
A25: 가설 | C25: 현장 정리정돈 | E25: 인 | F25: 2
A26: 준공청소 | C26: 준공청소 | E26: 식 | F26: 1
A27: 철거 | C27: 폐기물 처리 | D27: 1.0 TON,공사잔재 | E27: 대 | F27: 0.5
C29: 소 계 | H29: =SUM(H23:H28) -> 0 | J29: =SUM(J23:J28) -> 0 | L29: =SUM(L23:L28) -> 0
B31: 2 | C31: 철거공사
A32: 철거 | C32: 철거인부 | D32: 블라인드,실리콘,파티션 철거 | E32: 인 | F32: 2
A33: 철거 | C33: 폐기물처리 | D33: 일반 1.0 TON | E33: 대 | F33: 1
A34: 철거 | H34: =F34*G34 -> 0 | J34: =F34*I34 -> 0 | K34: =G34+I34 -> 0 | L34: =H34+J34 -> 0
C35: 소 계 | H35: =SUM(H32:H34) -> 0 | J35: =SUM(J32:J34) -> 0 | L35: =SUM(L32:L34) -> 0
B37: 3 | C37: 공통벽체공사
A38: 경량 | C38: 블라인드신설 | D38: 방염 우드 | E38: ㎡ | F38: =14.6*1.1 -> 16.06
A39: 경량 | C39: 열차단필름 | D39: 차단 95% | E39: ㎡ | F39: =(16.1+36)*1.1 -> 57.31
C40: 안개시트시공 | E40: ㎡ | F40: 3
A41: 경량 | C41: 실리콘시공 | E41: 식 | F41: 1
A42: 경량 | C42: 파티션 제작 | E42: ㎡ | F42: =(1.4+3.6)*2*1.1 -> 11
A43: 경량 | C43: 인테리어필름시공 | E43: ㎡ | F43: =F42*2*1.2 -> 26.4
C46: 소 계 | H46: =SUM(H38:H45) -> 0 | J46: =SUM(J38:J45) -> 0 | L46: =SUM(L38:L45) -> 0

Sheet 업무공간 
C2: 슬라브면 | E2: 유리상부면 | H2: 걸레받이 | J2: 상부매지몰딩 | L2: 커텐박스 | N2: 라인디퓨져 | P2: 하지합판 | R2: 인테리어필름 | U2: 메탈라스망프레임 | W2: 메탈라스망 | Y2: 백페인트글라스 | AA2: 도장 | AC2: 도배구역 | AE2: 업무공간외 필름 | AG2: 접견식 바닥 | AI2: 유리프레임 | AK2: 강화유리 | AM2: 블라인드
B3: 석고 2p | C3: 6 | D3: =C3*B32 -> 607.8 | F3: 2.5 | G3: =E12*F3 -> 59.5
B4: 2.7 | E4: 3.8 | H4: 5.4 | J4: 2 | L4: 1.2 | N4: 110 | P4: 1
B5: 1.4 | E5: 3.8 | G5: =D3+G3 -> 667.3 | H5: 3.2 | I5: =H55 -> 131.7 | J5: 3 | K5: =J68 -> 216.8 | L5: 1.8 | M5: =L18 -> 45.4 | N5: 11.5 | O5: =N7 -> 126.7 | P5: 1 | Q5: =P15 -> 13.4 | S5: =Q7 -> 49.58 | U5: 5.5 | W5: =7.6*3.5 -> 26.6 | Y5: =2.1*2.6 -> 5.46 | AA5: 6.5 | AB5: =AA17 -> 40.2 | AC5: 1.2 | AE5: 2.8 | AG5: 3.8 | AI5: 3.8 | AK5: 2.9 | AL5: =AK11 -> 13.5 | AM5: 2.8
B6: 2.7 | E6: 2.4 | H6: 3.2 | I6: =I5*1.1 -> 144.87 | J6: 3 | K6: =K5*1.1 -> 238.48 | L6: 2.1 | N6: 5.2 | P6: 1 | Q6: 3.7 | T6: =R18 -> 21.3 | U6: 5.5 | W6: =5.5*3.5 -> 19.25 | AA6: 2.7 | AB6: 3.5 | AC6: 1.2 | AD6: =AC34 -> 98 | AE6: 1 | AF6: =AE14 -> 22.6 | AG6: 2.8 | AI6: 3.8 | AK6: 2.4 | AL6: 3.5 | AM6: 1.8 | AN6: =AM20 -> 47.8
B7: 2.8 | E7: 2.4 | H7: 1.9 | J7: 6.5 | L7: 3.5 | N7: =SUM(N4:N6) -> 126.7 | P7: 1.4 | Q7: =Q5*Q6 -> 49.58 | T7: 1.5 | U7: 5.5 | W7: =SUM(W5:W6) -> 45.85 | AA7: 2.7 | AB7: =AB5*AB6 -> 140.7 | AC7: 2.8 | AD7: 3.5 | AE7: 5 | AF7: =AF6*1.5 -> 33.9 | AI7: 2.4 | AK7: 2.1 | AL7: =AL5*AL6 -> 47.25 | AM7: 5 | AN7: 3
B8: 2.7 | E8: 3 | H8: 1.9 | J8: 5.1 | L8: 3 | P8: 1.2 | T8: =T7*T6 -> 31.95 | U8: 3.5 | AA8: 1.4 | AC8: 1.9 | AD8: =(AD6*AD7)*1.15 -> 394.45 | AE8: 2.1 | AI8: 2.4 | AK8: 2.1 | AM8: 5.8 | AN8: =AN6*AN7 -> 143.4
B9: 2.7 | E9: 3 | H9: 0.2 | J9: 2.7 | L9: 2.7 | P9: 1.4 | U9: 3.5 | AA9: 3.7 | AC9: 2.8 | AE9: 3.5 | AI9: 3 | AK9: 2.1 | AL9: 7 | AM9: 2.2
B10: 1.4 | E10: 2.7 | H10: 0.2 | J10: 2.7 | L10: 2.2 | P10: 1.2 | S10: =S5+T8 -> 81.53 | U10: 3.5 | AA10: 2.6 | AC10: 5 | AE10: 2.4 | AI10: 3 | AK10: 1.9 | AM10: 2.7
B11: 2.7 | E11: 2.7 | H11: 0.2 | J11: 1 | L11: 5.8 | P11: 1.4 | U11: 3.5 | AA11: 8.7 | AC11: 2.8 | AE11: 2 | AI11: 3 | AK11: =SUM(AK5:AK10) -> 13.5 | AM11: 3
B12: 1.7 | E12: =SUM(E3:E11) -> 23.8 | H12: 0.2 | J12: 2 | L12: 5 | P12: 1.2 | U12: 3.5 | AA12: 2.3 | AC12: 3.8 | AE12: 1.2 | AI12: 3 | AM12: 3.5
B13: 2.6 | H13: 1.4 | J13: 2.6 | L13: 0.6 | P13: 1.4 | R13: 5.7 | U13: 3.5 | AA13: 3.5 | AC13: 6 | AE13: 2.6 | AI13: 2.1 | AM13: 2.1
B14: 3.8 | H14: 2.3 | J14: 2.6 | L14: 2.7 | P14: 1.2 | R14: 2.2 | U14: 7.6 | AA14: 1.5 | AC14: 6.8 | AE14: =SUM(AE5:AE13) -> 22.6 | AI14: 2.1 | AM14: 1.8
B15: 6 | H15: 2.3 | J15: 3.8 | L15: 5 | P15: =SUM(P4:P14) -> 13.4 | R15: 2.2 | U15: 7.6 | AA15: 1.5 | AC15: 4.2 | AI15: 1.9 | AM15: 1.2
B16: 6.9 | H16: 6.4 | J16: 3.8 | L16: 6.2 | R16: 5 | U16: 7.6 | AA16: 3.1 | AC16: 3 | AI16: 1.9 | AM16: 3.6
B17: 9.7 | H17: 3.3 | J17: 3.8 | L17: 3.6 | R17: 6.2 | U17: =3.5*8 -> 28 | AA17: =SUM(AA5:AA16) -> 40.2 | AC17: 1.2 | AI17: =3.5*14 -> 49 | AM17: 6.2
B18: 8.6 | H18: 6.4 | J18: 3.8 | L18: =SUM(L4:L17) -> 45.4 | R18: =SUM(R13:R17) -> 21.3 | U18: =SUM(U5:U17) -> 88.3 | AC18: 2.5 | AI18: =SUM(AI5:AI17) -> 81.4 | AM18: 1.1
B19: 4.7 | H19: 1.5 | J19: 2.4 | AC19: 9.7 | AM19: 5
B20: 3.8 | H20: 1.2 | J20: 3 | AC20: 3.3 | AM20: =SUM(AM5:AM19) -> 47.8
B21: 2.3 | H21: 1.5 | J21: 5.3 | AC21: 5.8
B22: 3.4 | H22: 1.2 | J22: 2.1 | AC22: 1.6
B23: 2.8 | H23: 2.2 | J23: 2.9 | AC23: 3.8
B24: 1.4 | H24: 3.8 | J24: 2.9 | AC24: 4.7
B25: 1.4 | H25: 3.7 | J25: 3.7 | AC25: 1.2
B26: 1.4 | H26: 9.6 | J26: 3.7 | AC26: 1.9
B27: 1.8 | H27: 3.2 | J27: 2.9 | AC27: 3.2
B28: 3.9 | H28: 3 | J28: 6 | AC28: 5.4
B29: 3.2 | H29: 5.9 | J29: 1 | AC29: 8
B30: 6.4 | H30: 3.7 | J30: 2.5 | AC30: 1
B31: 6.4 | H31: 2.8 | J31: 1.2 | AC31: 1
B32: =SUM(B4:B31) -> 101.3 | H32: 3.7 | J32: 2 | AC32: 1.2
H33: 1 | J33: 1 | AC33: 1
H34: 4 | J34: 3.5 | AC34: =SUM(AC5:AC33) -> 98
H35: 4 | J35: 6.9
H36: 2.6 | J36: 9.7
H37: 2.6 | J37: 3.5
H38: 1.7 | J38: 5.9
H39: 1 | J39: 1.6
H40: 2.7 | J40: 3.8
H41: 2.7 | J41: 4.7
...
