Workbook
Name a: [183]단가비교표!$O$6:$P$412
Name _DAN143: #REF!
Name _DAN143: #REF!
Name _DAN143: #REF!
Name _DAN143: #REF!
Name _DAN143: #REF!
Name _DAN143: #REF!
Name _DAN143: #REF!
Name _DAN143: #REF!
Name _DAN143: #REF!
Name _DAN143: #REF!
Name _DAN144: #REF!
Name _DAN144: #REF!
Name _DAN144: #REF!
Name _DAN144: #REF!
Name _DAN144: #REF!
Name _DAN144: #REF!
Name _DAN144: #REF!
Name _DAN144: #REF!
Name _DAN144: #REF!
Name _DAN144: #REF!
Name _DAN145: #REF!
Name _DAN145: #REF!
Name _DAN145: #REF!
Name _DAN145: #REF!
Name _DAN145: #REF!
Name _DAN145: #REF!
Name _DAN145: #REF!
Name _DAN145: #REF!
Name _DAN145: #REF!
Name _DAN145: #REF!
Name _DAN146: #REF!
Name _DAN146: #REF!
Name _DAN146: #REF!
Name _DAN146: #REF!
Name _DAN146: #REF!
Name _DAN146: #REF!
Name _DAN146: #REF!
Name _DAN146: #REF!
Name _DAN146: #REF!
Name _DAN146: #REF!
Name _DAN147: #REF!
Name _DAN147: #REF!
Name _DAN147: #REF!
Name _DAN147: #REF!
Name _DAN147: #REF!
Name _DAN147: #REF!
Name _DAN147: #REF!
Name _DAN147: #REF!
Name _DAN147: #REF!
Name _DAN147: #REF!
Name _DAN148: #REF!
Name _DAN148: #REF!
Name _DAN148: #REF!
Name _DAN148: #REF!
Name _DAN148: #REF!
Name _DAN148: #REF!
Name _DAN148: #REF!
Name _DAN148: #REF!
Name _DAN148: #REF!

Sheet 산출서용지
A1: 설 계 서
A3: 과 장 | C3: 팀 장 | E3: 설 계 자 | H3: 2026년08월설계
A5: 하수도사업소 정보통신설비 설치 공사
A6: □ 공사개요
A7: - 구내통신 선로설비 설치 (행정 및 민원 업무용 + 하수시설 업무용)
A8: - 서버 및 운영 통신장비 이전 설치
A10: =" □ 시 설 공 사 : 금"&NUMBERSTRING(원가계산서!G25,1)&"원(\"&TEXT(원가계산서!G25,"#,##0원)") -> □ 시 설 공 사 : 금오천사백칠십만이천원(\54,702,000원) | G10: (백단위절사)
A11: =" □ 관 급 자 재 : 금"&NUMBERSTRING(원가계산서!G26,1)&"원(\"&TEXT(원가계산서!G26,"#,##0원)") -> □ 관 급 자 재 : 금영원(\0원)
A12: =" □ 총 도 급 액 : 금"&NUMBERSTRING(원가계산서!G27,1)&"원(\"&TEXT(원가계산서!G27,"#,##0원)") -> □ 총 도 급 액 : 금오천사백칠십만이천원(\54,702,000원)

Sheet 원가계산서
A1: 원 가 계 산 서
A2: =산출서용지!A5 -> 하수도사업소 정보통신설비 설치 공사 | G2: *착공일로부터 30일 미만 .
A3: 비 목 | B3: 구 성 비 | G3: 금 액 | H3: 비 고
A4: 1. 순 공 사 비 | G4: =SUM(G5,G8,G11) -> 42028953
A5: 1) 재 료 비 | G5: =SUM(G6:G7) -> 2011828
A6: ① 직접재료비 | G6: =총괄집계표!H5 -> 2011828
A7: ② 간접재료비 | G7: 0
A8: 2) 노 무 비 | G8: =SUM(G9:G10) -> 35785436
A9: ① 직접노무비 | G9: =총괄집계표!J5 -> 30455690 | J9: =G5+G9 -> 32467518
A10: ② 간접노무비 | B10: <직접노무비> x | C10: 0.175 | G10: =G9*C10 -> 5329745.8
A11: 3) 경 비 | G11: =SUM(G12:G19) -> 4231689.2
A12: ① 산출경비 | G12: =[184]총괄집계표!L5 -> 0
A13: ② 산재보험료 | B13: <노무비> x | C13: 0.0356 | G13: =G8*C13 -> 1273961.5
A14: ③ 안전관리비 | B14: (재+직노)*2.07% | G14: =(G5+G9)*2.07% -> 672077.62 | H14: 1천만원 이상 / 특수건설공사
A15: ④ 기타경비 | B15: <재료비+노무비> x | C15: 0.05 | G15: =(G5+G8)*C15 -> 1889863.2
A16: ⑤ 고용보험료 | B16: <노무비> x | C16: 0.0101 | G16: =G8*C16 -> 361432.9 | H16: 7등급 이하
A17: ⑥ 석면분담금 | B17: <노무비> x | C17: 6e-05 | G17: =G8*C17 -> 2147.1261
A18: ⑦ 임금채권부담금 | B18: <노무비> x | C18: 0.0009 | G18: =G8*C18 -> 32206.892
A19: ⑧ 건강/노인장기/연금보험료 | H19: 30일미만 / 해당없음
A20: 2. 일 반 관 리 비 | B20: <순공사비> x | C20: 0.08 | G20: =TRUNC(G4*C20) -> 3362316
A21: 3. 이 윤 | B21: <노무비+경비+일반관리비> x | D21: 0.1 | G21: =TRUNC((G8+G11+G20)*D21) -> 4337944
A22: 4. 총 원 가 | G22: =ROUNDDOWN(SUM(G4,G20,G21),0) -> 49729212
A23: 5. 부 가 가 치 세 | B23: <총원가> x | C23: 0.1 | G23: =INT(TRUNC(G22*C23)) -> 4972921
A24: 6. 시 설 공 사 | G24: =SUM(G22:G23) -> 54702133
A25: 7. 시 설 공 사 | G25: =ROUNDDOWN(SUM(G24),-3) -> 54702000 | H25: 백단위절사
A26: 8. 관 급 자 재
A27: 9. 총 공 사 금 액 | B27: <시설공사 + 관급자재> | G27: =G25+G26 -> 54702000
G30: 54702000
G31: =G30*0.9 -> 49231800 | H31: 90% 적용
G32: 49231000 | H32: 90% 적용 / 백단위절사

Sheet 목차
A2: 목 차
A4: 1. 원 가 계 산 서
A6: 2. 내 역 집 계 표
A8: 2. 수 량 산 출 서
A10: 4. 일 위 대 가 표
A12: 5. 단 가 비 교 표
A14: 6. 노 무 비 산 출 근 거

Sheet 내역서표지
A6: 내 역 서

Sheet 총괄집계표
D1: 공 사 비 내 역 서(총괄)
D3: 명 칭 | E3: 단위 | F3: 수량 | G3: 재 료 비 | I3: 노 무 비 | K3: 경 비 | M3: 총 액 | O3: 비 고
G4: 단 가 | H4: 금 액 | I4: 단 가 | J4: 금 액 | K4: 단 가 | L4: 금 액 | M4: 단 가 | N4: 금 액
B5: 1 | D5: =산출서용지!A5 -> 하수도사업소 정보통신설비 설치 공사 | E5: 식 | F5: 1 | G5: =SUM(G6:G9) -> 2011828 | H5: =INT(F5*G5) -> 2011828 | I5: =SUM(I6:I9) -> 30455690 | J5: =INT(F5*I5) -> 30455690 | K5: =SUM(K6:K9) -> 0 | L5: =INT(F5*K5) -> 0 | N5: =L5+J5+H5 -> 32467518
D6: =공사비내역서!B7 -> 1-1. 행정통신설비 | E6: 식 | F6: 1 | G6: =공사비내역서!G18 -> 1308242 | H6: =INT(F6*G6) -> 1308242 | I6: =공사비내역서!I18 -> 8945899 | J6: =INT(F6*I6) -> 8945899 | K6: =공사비내역서!K5 -> 0 | N6: =L6+J6+H6 -> 10254141
D7: =공사비내역서!B20 -> 1-2. 운영서버 선로설비 | E7: 식 | F7: 1 | G7: =공사비내역서!G28 -> 75580 | H7: =INT(F7*G7) -> 75580 | I7: =공사비내역서!I28 -> 576106 | J7: =INT(F7*I7) -> 576106 | K7: =공사비내역서!K6 -> 0 | N7: =L7+J7+H7 -> 651686
D8: =공사비내역서!B31 -> 1-3. 하수행정과 관리설비 | E8: 식 | F8: 1 | G8: =공사비내역서!G41 -> 196241 | H8: =INT(F8*G8) -> 196241 | I8: =공사비내역서!I41 -> 6541470 | J8: =INT(F8*I8) -> 6541470 | K8: =공사비내역서!K7 -> 0 | N8: =L8+J8+H8 -> 6737711
D9: =공사비내역서!B43 -> 1-4. 하수관로과 관리설비 | E9: 식 | F9: 1 | G9: =공사비내역서!G49 -> 431765 | H9: =INT(F9*G9) -> 431765 | I9: =공사비내역서!I49 -> 14392215 | J9: =INT(F9*I9) -> 14392215 | K9: =공사비내역서!K8 -> 0 | N9: =L9+J9+H9 -> 14823980
G10: 이 | H10: 하 | I10: 여 | J10: 백
N15: =N6+N7 -> 10905827

Sheet 공사비내역서
B1: 설 계 내 역 서
B2: =산출서용지!A5 -> 하수도사업소 정보통신설비 설치 공사
B3: 품 명 | C3: 규 격 | D3: 수량 | E3: 단위 | F3: 재 료 비 | H3: 노 무 비 | J3: 경 비 | L3: 총 액 | N3: 호 표
A4: 호표 링크 | F4: 단가 | G4: 금 액 | H4: 단가 | I4: 금 액 | J4: 단가 | K4: 금 액 | L4: 단가 | M4: 금 액
B5: 합 계 | C5: 1+2+3+4 | G5: =G18+G28+G41+G49 -> 2011828 | I5: =I18+I28+I41+I49 -> 30455690 | K5: =K18+K28+K41+K49 -> 0 | M5: =G5+I5+K5 -> 32467518
B6: 1. 통신공사
B7: 1-1. 행정통신설비
A8: =일위대가!$A$6 -> 100 | B8: =VLOOKUP($A8,일위1,4,FALSE) -> 합성수지제 가요전선관 | C8: =VLOOKUP($A8,일위1,5,FALSE) -> 난연 / 16mm | D8: ='수량산출서(통신선로)'!G6 -> 95 | E8: =VLOOKUP($A8,일위1,7,FALSE) -> M | F8: =VLOOKUP($A8,일위1,9,FALSE) -> 621.85 | G8: =INT($D8*F8) -> 59075 | H8: =VLOOKUP($A8,일위1,11,FALSE) -> 11395 | I8: =INT($D8*H8) -> 1082525 | J8: =VLOOKUP($A8,일위1,13,FALSE) -> 0 | K8: =INT($D8*J8) -> 0 | L8: =M8/D8 -> 12016.842 | M8: =INT(G8+I8+K8) -> 1141600 | N8: =VLOOKUP($A8,일위1,3,FALSE) -> 제100호표
A9: =일위대가!$A$14 -> 101 | B9: =VLOOKUP($A9,일위1,4,FALSE) -> UTP 케이블 | C9: =VLOOKUP($A9,일위1,5,FALSE) -> CAT. 5e / 4P | D9: ='수량산출서(통신선로)'!G7 -> 579 | E9: =VLOOKUP($A9,일위1,7,FALSE) -> M | F9: =VLOOKUP($A9,일위1,9,FALSE) -> 876.29 | G9: =INT($D9*F9) -> 507371 | H9: =VLOOKUP($A9,일위1,11,FALSE) -> 6543 | I9: =INT($D9*H9) -> 3788397 | J9: =VLOOKUP($A9,일위1,13,FALSE) -> 0 | K9: =INT($D9*J9) -> 0 | L9: =M9/D9 -> 7419.2884 | M9: =INT(G9+I9+K9) -> 4295768 | N9: =VLOOKUP($A9,일위1,3,FALSE) -> 제101호표
A10: =일위대가!$A$20 -> 102 | B10: =VLOOKUP($A10,일위1,4,FALSE) -> UTP 패치코드 | C10: =VLOOKUP($A10,일위1,5,FALSE) -> CAT. 5e / 4P / 2m | D10: ='수량산출서(통신선로)'!G8 -> 119 | E10: =VLOOKUP($A10,일위1,7,FALSE) -> EA | F10: =VLOOKUP($A10,일위1,9,FALSE) -> 4091.76 | G10: =INT($D10*F10) -> 486919 | H10: =VLOOKUP($A10,일위1,11,FALSE) -> 21392 | I10: =INT($D10*H10) -> 2545648 | J10: =VLOOKUP($A10,일위1,13,FALSE) -> 0 | K10: =INT($D10*J10) -> 0 | L10: =M10/D10 -> 25483.756 | M10: =INT(G10+I10+K10) -> 3032567 | N10: =VLOOKUP($A10,일위1,3,FALSE) -> 제102호표
A11: =일위대가!$A$29 -> 103 | B11: =VLOOKUP($A11,일위1,4,FALSE) -> 접속커넥터 | C11: =VLOOKUP($A11,일위1,5,FALSE) -> CAT. 5e / 8P8C | D11: ='수량산출서(통신선로)'!G9 -> 204 | E11: =VLOOKUP($A11,일위1,7,FALSE) -> EA | F11: =VLOOKUP($A11,일위1,9,FALSE) -> 611.09 | G11: =INT($D11*F11) -> 124662 | H11: =VLOOKUP($A11,일위1,11,FALSE) -> 3703 | I11: =INT($D11*H11) -> 755412 | J11: =VLOOKUP($A11,일위1,13,FALSE) -> 0 | K11: =INT($D11*J11) -> 0 | L11: =M11/D11 -> 4314.0882 | M11: =INT(G11+I11+K11) -> 880074 | N11: =VLOOKUP($A11,일위1,3,FALSE) -> 제103호표
A12: =일위대가!$A$35 -> 104 | B12: =VLOOKUP($A12,일위1,4,FALSE) -> PVC몰딩 | C12: =VLOOKUP($A12,일위1,5,FALSE) -> 사각 / 5호 | D12: ='수량산출서(통신선로)'!G10 -> 15 | E12: =VLOOKUP($A12,일위1,7,FALSE) -> EA | F12: =VLOOKUP($A12,일위1,9,FALSE) -> 1613.66 | G12: =INT($D12*F12) -> 24204 | H12: =VLOOKUP($A12,일위1,11,FALSE) -> 7122 | I12: =INT($D12*H12) -> 106830 | J12: =VLOOKUP($A12,일위1,13,FALSE) -> 0 | K12: =INT($D12*J12) -> 0 | L12: =M12/D12 -> 8735.6 | M12: =INT(G12+I12+K12) -> 131034 | N12: =VLOOKUP($A12,일위1,3,FALSE) -> 제104호표
A13: =일위대가!$A$41 -> 105 | B13: =VLOOKUP($A13,일위1,4,FALSE) -> PVC몰딩 | C13: =VLOOKUP($A13,일위1,5,FALSE) -> 고강도 / 4호 | D13: ='수량산출서(통신선로)'!G11 -> 18 | E13: =VLOOKUP($A13,일위1,7,FALSE) -> EA | F13: =VLOOKUP($A13,일위1,9,FALSE) -> 3213.66 | G13: =INT($D13*F13) -> 57845 | H13: =VLOOKUP($A13,일위1,11,FALSE) -> 7122 | I13: =INT($D13*H13) -> 128196 | J13: =VLOOKUP($A13,일위1,13,FALSE) -> 0 | K13: =INT($D13*J13) -> 0 | L13: =M13/D13 -> 10335.611 | M13: =INT(G13+I13+K13) -> 186041 | N13: =VLOOKUP($A13,일위1,3,FALSE) -> 제105호표
A14: =일위대가!$A$47 -> 106 | B14: =VLOOKUP($A14,일위1,4,FALSE) -> 110블럭 | C14: =VLOOKUP($A14,일위1,5,FALSE) -> 50P | D14: ='수량산출서(통신선로)'!G12 -> 2 | E14: =VLOOKUP($A14,일위1,7,FALSE) -> EA | F14: =VLOOKUP($A14,일위1,9,FALSE) -> 19037.5 | G14: =INT($D14*F14) -> 38075 | H14: =VLOOKUP($A14,일위1,11,FALSE) -> 101250 | I14: =INT($D14*H14) -> 202500 | J14: =VLOOKUP($A14,일위1,13,FALSE) -> 0 | K14: =INT($D14*J14) -> 0 | L14: =M14/D14 -> 120287.5 | M14: =INT(G14+I14+K14) -> 240575 | N14: =VLOOKUP($A14,일위1,3,FALSE) -> 제106호표
A15: =일위대가!$A$55 -> 107 | B15: =VLOOKUP($A15,일위1,4,FALSE) -> 케이블성단 | C15: =VLOOKUP($A15,일위1,5,FALSE) -> 110블럭 / 4P | D15: ='수량산출서(통신선로)'!G13 -> 14 | E15: =VLOOKUP($A15,일위1,7,FALSE) -> EA | F15: =VLOOKUP($A15,일위1,9,FALSE) -> 547.44 | G15: =INT($D15*F15) -> 7664 | H15: =VLOOKUP($A15,일위1,11,FALSE) -> 18248 | I15: =INT($D15*H15) -> 255472 | J15: =VLOOKUP($A15,일위1,13,FALSE) -> 0 | K15: =INT($D15*J15) -> 0 | L15: =M15/D15 -> 18795.429 | M15: =INT(G15+I15+K15) -> 263136 | N15: =VLOOKUP($A15,일위1,3,FALSE) -> 제107호표
A16: =일위대가!$A$62 -> 108 | B16: =VLOOKUP($A16,일위1,4,FALSE) -> 회선시험 | C16: =VLOOKUP($A16,일위1,5,FALSE) -> Port / 4P | D16: ='수량산출서(통신선로)'!G14 -> 3 | E16: =VLOOKUP($A16,일위1,7,FALSE) -> EA | F16: =VLOOKUP($A16,일위1,9,FALSE) -> 809.19 | G16: =INT($D16*F16) -> 2427 | H16: =VLOOKUP($A16,일위1,11,FALSE) -> 26973 | I16: =INT($D16*H16) -> 80919 | J16: =VLOOKUP($A16,일위1,13,FALSE) -> 0 | K16: =INT($D16*J16) -> 0 | L16: =M16/D16 -> 27782 | M16: =INT(G16+I16+K16) -> 83346 | N16: =VLOOKUP($A16,일위1,3,FALSE) -> 제108호표
B18: 1-1 | C18: 계 | G18: =SUM(G8:G16) -> 1308242 | I18: =SUM(I8:I16) -> 8945899 | K18: =SUM(K8:K16) -> 0 | M18: =K18+I18+G18 -> 10254141
B20: 1-2. 운영서버 선로설비
A21: =일위대가!$A$14 -> 101 | B21: =VLOOKUP($A21,일위1,4,FALSE) -> UTP 케이블 | C21: =VLOOKUP($A21,일위1,5,FALSE) -> CAT. 5e / 4P | D21: ='수량산출서(통신선로)'!O7 -> 55 | E21: =VLOOKUP($A21,일위1,7,FALSE) -> M | F21: =VLOOKUP($A21,일위1,9,FALSE) -> 876.29 | G21: =INT($D21*F21) -> 48195 | H21: =VLOOKUP($A21,일위1,11,FALSE) -> 6543 | I21: =INT($D21*H21) -> 359865 | J21: =VLOOKUP($A21,일위1,13,FALSE) -> 0 | K21: =INT($D21*J21) -> 0 | L21: =M21/D21 -> 7419.2727 | M21: =INT(G21+I21+K21) -> 408060 | N21: =VLOOKUP($A21,일위1,3,FALSE) -> 제101호표
A22: =일위대가!$A$20 -> 102 | B22: =VLOOKUP($A22,일위1,4,FALSE) -> UTP 패치코드 | C22: =VLOOKUP($A22,일위1,5,FALSE) -> CAT. 5e / 4P / 2m | D22: ='수량산출서(통신선로)'!O8 -> 2 | E22: =VLOOKUP($A22,일위1,7,FALSE) -> EA | F22: =VLOOKUP($A22,일위1,9,FALSE) -> 4091.76 | G22: =INT($D22*F22) -> 8183 | H22: =VLOOKUP($A22,일위1,11,FALSE) -> 21392 | I22: =INT($D22*H22) -> 42784 | J22: =VLOOKUP($A22,일위1,13,FALSE) -> 0 | K22: =INT($D22*J22) -> 0 | L22: =M22/D22 -> 25483.5 | M22: =INT(G22+I22+K22) -> 50967 | N22: =VLOOKUP($A22,일위1,3,FALSE) -> 제102호표
A23: =일위대가!$A$29 -> 103 | B23: =VLOOKUP($A23,일위1,4,FALSE) -> 접속커넥터 | C23: =VLOOKUP($A23,일위1,5,FALSE) -> CAT. 5e / 8P8C | D23: ='수량산출서(통신선로)'!O9 -> 16 | E23: =VLOOKUP($A23,일위1,7,FALSE) -> EA | F23: =VLOOKUP($A23,일위1,9,FALSE) -> 611.09 | G23: =INT($D23*F23) -> 9777 | H23: =VLOOKUP($A23,일위1,11,FALSE) -> 3703 | I23: =INT($D23*H23) -> 59248 | J23: =VLOOKUP($A23,일위1,13,FALSE) -> 0 | K23: =INT($D23*J23) -> 0 | L23: =M23/D23 -> 4314.0625 | M23: =INT(G23+I23+K23) -> 69025 | N23: =VLOOKUP($A23,일위1,3,FALSE) -> 제103호표
A24: =일위대가!$A$41 -> 105 | B24: =VLOOKUP($A24,일위1,4,FALSE) -> PVC몰딩 | C24: =VLOOKUP($A24,일위1,5,FALSE) -> 고강도 / 4호 | D24: ='수량산출서(통신선로)'!O11 -> 2 | E24: =VLOOKUP($A24,일위1,7,FALSE) -> EA | F24: =VLOOKUP($A24,일위1,9,FALSE) -> 3213.66 | G24: =INT($D24*F24) -> 6427 | H24: =VLOOKUP($A24,일위1,11,FALSE) -> 7122 | I24: =INT($D24*H24) -> 14244 | J24: =VLOOKUP($A24,일위1,13,FALSE) -> 0 | K24: =INT($D24*J24) -> 0 | L24: =M24/D24 -> 10335.5 | M24: =INT(G24+I24+K24) -> 20671 | N24: =VLOOKUP($A24,일위1,3,FALSE) -> 제105호표
A25: =일위대가!$A$55 -> 107 | B25: =VLOOKUP($A25,일위1,4,FALSE) -> 케이블성단 | C25: =VLOOKUP($A25,일위1,5,FALSE) -> 110블럭 / 4P | D25: ='수량산출서(통신선로)'!O13 -> 4 | E25: =VLOOKUP($A25,일위1,7,FALSE) -> EA | F25: =VLOOKUP($A25,일위1,9,FALSE) -> 547.44 | G25: =INT($D25*F25) -> 2189 | H25: =VLOOKUP($A25,일위1,11,FALSE) -> 18248 | I25: =INT($D25*H25) -> 72992 | J25: =VLOOKUP($A25,일위1,13,FALSE) -> 0 | K25: =INT($D25*J25) -> 0 | L25: =M25/D25 -> 18795.25 | M25: =INT(G25+I25+K25) -> 75181 | N25: =VLOOKUP($A25,일위1,3,FALSE) -> 제107호표
A26: =일위대가!$A$62 -> 108 | B26: =VLOOKUP($A26,일위1,4,FALSE) -> 회선시험 | C26: =VLOOKUP($A26,일위1,5,FALSE) -> Port / 4P | D26: ='수량산출서(통신선로)'!O14 -> 1 | E26: =VLOOKUP($A26,일위1,7,FALSE) -> EA | F26: =VLOOKUP($A26,일위1,9,FALSE) -> 809.19 | G26: =INT($D26*F26) -> 809 | H26: =VLOOKUP($A26,일위1,11,FALSE) -> 26973 | I26: =INT($D26*H26) -> 26973 | J26: =VLOOKUP($A26,일위1,13,FALSE) -> 0 | K26: =INT($D26*J26) -> 0 | L26: =M26/D26 -> 27782 | M26: =INT(G26+I26+K26) -> 27782 | N26: =VLOOKUP($A26,일위1,3,FALSE) -> 제108호표
B28: 1-2 | C28: 계 | G28: =SUM(G21:G26) -> 75580 | I28: =SUM(I21:I26) -> 576106 | K28: =SUM(K21:K26) -> 0 | M28: =K28+I28+G28 -> 651686
B31: 1-3. 하수행정과 관리설비
A32: =일위대가!$A$77 -> 200 | B32: =VLOOKUP($A32,일위1,4,FALSE) -> VPN 이전 설치 | C32: =VLOOKUP($A32,일위1,5,FALSE) -> Axgate1300S | D32: ='수량산출서 (운영설비)'!G6 -> 1 | E32: =VLOOKUP($A32,일위1,7,FALSE) -> EA | F32: =VLOOKUP($A32,일위1,9,FALSE) -> 17678.76 | G32: =INT($D32*F32) -> 17678 | H32: =VLOOKUP($A32,일위1,11,FALSE) -> 589292 | I32: =INT($D32*H32) -> 589292 | J32: =VLOOKUP($A32,일위1,13,FALSE) -> 0 | K32: =INT($D32*J32) -> 0 | L32: =M32/D32 -> 606970 | M32: =INT(G32+I32+K32) -> 606970 | N32: =VLOOKUP($A32,일위1,3,FALSE) -> 제200호표
A33: =일위대가!$A$85 -> 201 | B33: =VLOOKUP($A33,일위1,4,FALSE) -> VPN 셋업 변경 | C33: =VLOOKUP($A33,일위1,5,FALSE) -> Axgate40D | D33: ='수량산출서 (운영설비)'!G7 -> 10 | E33: =VLOOKUP($A33,일위1,7,FALSE) -> EA | F33: =VLOOKUP($A33,일위1,9,FALSE) -> 9821.52 | G33: =INT($D33*F33) -> 98215 | H33: =VLOOKUP($A33,일위1,11,FALSE) -> 327384 | I33: =INT($D33*H33) -> 3273840 | J33: =VLOOKUP($A33,일위1,13,FALSE) -> 0 | K33: =INT($D33*J33) -> 0 | L33: =M33/D33 -> 337205.5 | M33: =INT(G33+I33+K33) -> 3372055 | N33: =VLOOKUP($A33,일위1,3,FALSE) -> 제201호표
A34: =일위대가!$A$92 -> 202 | B34: =VLOOKUP($A34,일위1,4,FALSE) -> 방화벽 이전 설치 | C34: =VLOOKUP($A34,일위1,5,FALSE) -> WEB 방화벽 | D34: ='수량산출서 (운영설비)'!G8 -> 1 | E34: =VLOOKUP($A34,일위1,7,FALSE) -> EA | F34: =VLOOKUP($A34,일위1,9,FALSE) -> 19038.66 | G34: =INT($D34*F34) -> 19038 | H34: =VLOOKUP($A34,일위1,11,FALSE) -> 634622 | I34: =INT($D34*H34) -> 634622 | J34: =VLOOKUP($A34,일위1,13,FALSE) -> 0 | K34: =INT($D34*J34) -> 0 | L34: =M34/D34 -> 653660 | M34: =INT(G34+I34+K34) -> 653660 | N34: =VLOOKUP($A34,일위1,3,FALSE) -> 제202호표
A35: =일위대가!$A$100 -> 203 | B35: =VLOOKUP($A35,일위1,4,FALSE) -> 하수운영서버 이전 설치 | C35: =VLOOKUP($A35,일위1,5,FALSE) -> 랙마운트 | D35: ='수량산출서 (운영설비)'!G9 -> 1 | E35: =VLOOKUP($A35,일위1,7,FALSE) -> EA | F35: =VLOOKUP($A35,일위1,9,FALSE) -> 16236.12 | G35: =INT($D35*F35) -> 16236 | H35: =VLOOKUP($A35,일위1,11,FALSE) -> 541204 | I35: =INT($D35*H35) -> 541204 | J35: =VLOOKUP($A35,일위1,13,FALSE) -> 0 | K35: =INT($D35*J35) -> 0 | L35: =M35/D35 -> 557440 | M35: =INT(G35+I35+K35) -> 557440 | N35: =VLOOKUP($A35,일위1,3,FALSE) -> 제203호표
A36: =일위대가!$A$108 -> 204 | B36: =VLOOKUP($A36,일위1,4,FALSE) -> 운영PC 이전 설치 | C36: =VLOOKUP($A36,일위1,5,FALSE) -> 관제용 | D36: ='수량산출서 (운영설비)'!G10 -> 1 | E36: =VLOOKUP($A36,일위1,7,FALSE) -> EA | F36: =VLOOKUP($A36,일위1,9,FALSE) -> 7184.37 | G36: =INT($D36*F36) -> 7184 | H36: =VLOOKUP($A36,일위1,11,FALSE) -> 239479 | I36: =INT($D36*H36) -> 239479 | J36: =VLOOKUP($A36,일위1,13,FALSE) -> 0 | K36: =INT($D36*J36) -> 0 | L36: =M36/D36 -> 246663 | M36: =INT(G36+I36+K36) -> 246663 | N36: =VLOOKUP($A36,일위1,3,FALSE) -> 제204호표
A37: =일위대가!$A$116 -> 205 | B37: =VLOOKUP($A37,일위1,4,FALSE) -> 운영PC 이전 설치 | C37: =VLOOKUP($A37,일위1,5,FALSE) -> 서버 / 관제용 | D37: ='수량산출서 (운영설비)'!G11 -> 3 | E37: =VLOOKUP($A37,일위1,7,FALSE) -> EA | F37: =VLOOKUP($A37,일위1,9,FALSE) -> 7184.37 | G37: =INT($D37*F37) -> 21553 | H37: =VLOOKUP($A37,일위1,11,FALSE) -> 239479 | I37: =INT($D37*H37) -> 718437 | J37: =VLOOKUP($A37,일위1,13,FALSE) -> 0 | K37: =INT($D37*J37) -> 0 | L37: =M37/D37 -> 246663.33 | M37: =INT(G37+I37+K37) -> 739990 | N37: =VLOOKUP($A37,일위1,3,FALSE) -> 제205호표
A38: =일위대가!$A$124 -> 206 | B38: =VLOOKUP($A38,일위1,4,FALSE) -> 스위치 (L2) 이전설치 | C38: =VLOOKUP($A38,일위1,5,FALSE) -> 24Port | D38: ='수량산출서 (운영설비)'!G12 -> 1 | E38: =VLOOKUP($A38,일위1,7,FALSE) -> EA | F38: =VLOOKUP($A38,일위1,9,FALSE) -> 8159.4 | G38: =INT($D38*F38) -> 8159 | H38: =VLOOKUP($A38,일위1,11,FALSE) -> 271980 | I38: =INT($D38*H38) -> 271980 | J38: =VLOOKUP($A38,일위1,13,FALSE) -> 0 | K38: =INT($D38*J38) -> 0 | L38: =M38/D38 -> 280139 | M38: =INT(G38+I38+K38) -> 280139 | N38: =VLOOKUP($A38,일위1,3,FALSE) -> 제206호표
A39: =일위대가!$A$132 -> 207 | B39: =VLOOKUP($A39,일위1,4,FALSE) -> 서버랙 이전 설치 | C39: =VLOOKUP($A39,일위1,5,FALSE) -> 2.2M 미만 | D39: ='수량산출서 (운영설비)'!G13 -> 1 | E39: =VLOOKUP($A39,일위1,7,FALSE) -> EA | F39: =VLOOKUP($A39,일위1,9,FALSE) -> 8178.48 | G39: =INT($D39*F39) -> 8178 | H39: =VLOOKUP($A39,일위1,11,FALSE) -> 272616 | I39: =INT($D39*H39) -> 272616 | J39: =VLOOKUP($A39,일위1,13,FALSE) -> 0 | K39: =INT($D39*J39) -> 0 | L39: =M39/D39 -> 280794 | M39: =INT(G39+I39+K39) -> 280794 | N39: =VLOOKUP($A39,일위1,3,FALSE) -> 제207호표
B41: 1-3 | C41: 계 | G41: =SUM(G32:G39) -> 196241 | I41: =SUM(I32:I39) -> 6541470 | K41: =SUM(K32:K39) -> 0 | M41: =K41+I41+G41 -> 6737711
B43: 1-4. 하수관로과 관리설비
A44: =일위대가!$A$139 -> 300 | B44: =VLOOKUP($A44,일위1,4,FALSE) -> 소규모 주장치 | C44: =VLOOKUP($A44,일위1,5,FALSE) -> 기존 본체 설치(서버)이설 | D44: ='수량산출서 (운영설비)'!J16 -> 2 | E44: =VLOOKUP($A44,일위1,7,FALSE) -> EA | F44: =VLOOKUP($A44,일위1,9,FALSE) -> 9260.04 | G44: =INT($D44*F44) -> 18520 | H44: =VLOOKUP($A44,일위1,11,FALSE) -> 308668 | I44: =INT($D44*H44) -> 617336 | J44: =VLOOKUP($A44,일위1,13,FALSE) -> 0 | K44: =INT($D44*J44) -> 0 | L44: =M44/D44 -> 317928 | M44: =INT(G44+I44+K44) -> 635856 | N44: =VLOOKUP($A44,일위1,3,FALSE) -> 제300호표
A45: =일위대가!$A$149 -> 301 | B45: =VLOOKUP($A45,일위1,4,FALSE) -> DSU/MODEM설치 및 기능시험 | C45: =VLOOKUP($A45,일위1,5,FALSE) -> 무선모뎀 IP주소 등록 변경 및 기능시험 | D45: ='수량산출서 (운영설비)'!J17 -> 64 | E45: =VLOOKUP($A45,일위1,7,FALSE) -> EA | F45: =VLOOKUP($A45,일위1,9,FALSE) -> 6240.6 | G45: =INT($D45*F45) -> 399398 | H45: =VLOOKUP($A45,일위1,11,FALSE) -> 208020 | I45: =INT($D45*H45) -> 13313280 | J45: =VLOOKUP($A45,일위1,13,FALSE) -> 0 | K45: =INT($D45*J45) -> 0 | L45: =M45/D45 -> 214260.59 | M45: =INT(G45+I45+K45) -> 13712678 | N45: =VLOOKUP($A45,일위1,3,FALSE) -> 제301호표
A46: =일위대가!$A$157 -> 302 | B46: =VLOOKUP($A46,일위1,4,FALSE) -> 스위칭허브 | C46: =VLOOKUP($A46,일위1,5,FALSE) -> (한강수계+맨홀펌프장) 및 우수토실 | D46: ='수량산출서 (운영설비)'!J18 -> 1 | E46: =VLOOKUP($A46,일위1,7,FALSE) -> EA | F46: =VLOOKUP($A46,일위1,9,FALSE) -> 5932.02 | G46: =INT($D46*F46) -> 5932 | H46: =VLOOKUP($A46,일위1,11,FALSE) -> 197734 | I46: =INT($D46*H46) -> 197734 | J46: =VLOOKUP($A46,일위1,13,FALSE) -> 0 | K46: =INT($D46*J46) -> 0 | L46: =M46/D46 -> 203666 | M46: =INT(G46+I46+K46) -> 203666 | N46: =VLOOKUP($A46,일위1,3,FALSE) -> 제302호표
A47: =일위대가!$A$166 -> 303 | B47: =VLOOKUP($A47,일위1,4,FALSE) -> SCADA 원격소 장치 | C47: =VLOOKUP($A47,일위1,5,FALSE) -> 함체(랙) 설치 | D47: ='수량산출서 (운영설비)'!J19 -> 1 | E47: =VLOOKUP($A47,일위1,7,FALSE) -> EA | F47: =VLOOKUP($A47,일위1,9,FALSE) -> 7915.95 | G47: =INT($D47*F47) -> 7915 | H47: =VLOOKUP($A47,일위1,11,FALSE) -> 263865 | I47: =INT($D47*H47) -> 263865 | J47: =VLOOKUP($A47,일위1,13,FALSE) -> 0 | K47: =INT($D47*J47) -> 0 | L47: =M47/D47 -> 271780 | M47: =INT(G47+I47+K47) -> 271780 | N47: =VLOOKUP($A47,일위1,3,FALSE) -> 제303호표
...

Sheet 수량산출서표지
A7: 수 량 산 출 서

Sheet 수량산출서(통신선로)
C1: 수 량 산 출 서
C2: =산출서용지!A5 -> 하수도사업소 정보통신설비 설치 공사
C3: 호표 | D3: 품명 | E3: 규 격 | F3: 단위 | G3: 산출 수량 | H3: 행정통신 선로설비 | O3: 산출 수량 | P3: 운영서버 선로설비 | T3: 비 고
H4: 통신실 (본관동) | I4: 통신실 (업무동) | J4: 하수 행정과 | K4: 하수 관로과 | L4: 하수 시설과 | M4: 하수 운영과 | N4: AP (4개소) | P4: 통신실 (관리동) | Q4: 통신실 (사무동) | R4: 하수 행정과 서버 | S4: 하수 관로과 서버 | W4: 산출수량 | X4: 통신실 (본관동) | Y4: 통신실 (업무동) | Z4: 하수 행정과 | AA4: 하수 관로과 | AB4: 하수 시설과 | AC4: 하수 운영과 | AD4: AP (4개소)
C5: =공사비내역서!B6 -> 1. 통신공사
A6: =일위대가!$A$6 -> 100 | C6: =VLOOKUP($A6,일위1,3,FALSE) -> 제100호표 | D6: =VLOOKUP($A6,일위1,4,FALSE) -> 합성수지제 가요전선관 | E6: =VLOOKUP($A6,일위1,5,FALSE) -> 난연 / 16mm | F6: =VLOOKUP($A6,일위1,7,FALSE) -> M | G6: =SUM(H6:N6) -> 95 | N6: 95 | O6: =SUM(P6:S6) -> 0 | W6: 32+22+26+15 | AD6: =32+22+26+15 -> 95
A7: =일위대가!$A$14 -> 101 | C7: =VLOOKUP($A7,일위1,3,FALSE) -> 제101호표 | D7: =VLOOKUP($A7,일위1,4,FALSE) -> UTP 케이블 | E7: =VLOOKUP($A7,일위1,5,FALSE) -> CAT. 5e / 4P | F7: =VLOOKUP($A7,일위1,7,FALSE) -> M | G7: =SUM(H7:N7) -> 579 | H7: =X7 -> 20 | I7: =Y7 -> 15 | J7: =Z7 -> 156 | K7: =AA7 -> 126 | L7: =AB7 -> 126 | M7: =AC7 -> 4 | N7: =AD7 -> 132 | O7: =SUM(P7:S7) -> 55 | P7: 15 | Q7: 10 | R7: 15 | S7: 15 | W7: (10*2) / (3*5) / 6+6+(6*24) / 6+(6*20) / 6+(6*20) / 2*2 / 42+32+36+22 | X7: =10*2 -> 20 | Y7: =3*5 -> 15 | Z7: =6+6+(6*24) -> 156 | AA7: =6+(6*20) -> 126 | AB7: =6+(6*20) -> 126 | AC7: 4 | AD7: 132
A8: =일위대가!$A$20 -> 102 | C8: =VLOOKUP($A8,일위1,3,FALSE) -> 제102호표 | D8: =VLOOKUP($A8,일위1,4,FALSE) -> UTP 패치코드 | E8: =VLOOKUP($A8,일위1,5,FALSE) -> CAT. 5e / 4P / 2m | F8: =VLOOKUP($A8,일위1,7,FALSE) -> EA | G8: =SUM(H8:N8) -> 119 | H8: =X8 -> 24 | I8: =Y8 -> 94 | J8: =Z8 -> 1 | L8: =AB8 -> 0 | M8: =AC8 -> 0 | N8: =AD8 -> 0 | O8: =SUM(P8:S8) -> 2 | P8: 2 | W8: 하수운영 (본관동-24) + 업무동 통신실 (94) + 운영서버 (1) | X8: 24 | Y8: 94 | Z8: 1
A9: =일위대가!$A$29 -> 103 | C9: =VLOOKUP($A9,일위1,3,FALSE) -> 제103호표 | D9: =VLOOKUP($A9,일위1,4,FALSE) -> 접속커넥터 | E9: =VLOOKUP($A9,일위1,5,FALSE) -> CAT. 5e / 8P8C | F9: =VLOOKUP($A9,일위1,7,FALSE) -> EA | G9: =SUM(H9:N9) -> 204 | H9: =X9 -> 5 | I9: =Y9 -> 5 | J9: =Z9 -> 60 | K9: =AA9 -> 62 | L9: =AB9 -> 62 | M9: =AC9 -> 2 | N9: =AD9 -> 8 | O9: =SUM(P9:S9) -> 16 | Q9: 4 | R9: 6 | S9: 6 | W9: (1*5) / (1*5) / 2+2+(2*28) / 2+(2*30) / 2+(2*30) / (2*4)+(2*26) / 2+2+2+2 | X9: =1*5 -> 5 | Y9: =1*5 -> 5 | Z9: =2+2+(2*28) -> 60 | AA9: =2+(2*30) -> 62 | AB9: =2+(2*30) -> 62 | AC9: 2 | AD9: =2+2+2+2 -> 8
A10: =일위대가!$A$35 -> 104 | C10: =VLOOKUP($A10,일위1,3,FALSE) -> 제104호표 | D10: =VLOOKUP($A10,일위1,4,FALSE) -> PVC몰딩 | E10: =VLOOKUP($A10,일위1,5,FALSE) -> 사각 / 5호 | F10: =VLOOKUP($A10,일위1,7,FALSE) -> EA | G10: =SUM(H10:N10) -> 15 | H10: =X10 -> 0 | I10: =Y10 -> 0 | J10: =Z10 -> 7 | K10: =AA10 -> 4 | L10: =AB10 -> 4 | N10: =AD10 -> 0 | O10: =SUM(P10:S10) -> 0 | W10: (7)+(4)+(4)+(4) | Z10: 7 | AA10: 4 | AB10: 4
A11: =일위대가!$A$41 -> 105 | C11: =VLOOKUP($A11,일위1,3,FALSE) -> 제105호표 | D11: =VLOOKUP($A11,일위1,4,FALSE) -> PVC몰딩 | E11: =VLOOKUP($A11,일위1,5,FALSE) -> 고강도 / 4호 | F11: =VLOOKUP($A11,일위1,7,FALSE) -> EA | G11: =SUM(H11:N11) -> 18 | H11: =X11 -> 0 | I11: =Y11 -> 0 | J11: =Z11 -> 8 | K11: =AA11 -> 5 | L11: =AB11 -> 5 | N11: =AD11 -> 0 | O11: =SUM(P11:S11) -> 2 | R11: 2 | W11: (8)+(5)+(5)+(5) | Z11: 8 | AA11: 5 | AB11: 5
A12: =일위대가!$A$47 -> 106 | C12: =VLOOKUP($A12,일위1,3,FALSE) -> 제106호표 | D12: =VLOOKUP($A12,일위1,4,FALSE) -> 110블럭 | E12: =VLOOKUP($A12,일위1,5,FALSE) -> 50P | F12: =VLOOKUP($A12,일위1,7,FALSE) -> EA | G12: =SUM(H12:N12) -> 2 | H12: =X12 -> 2 | I12: =Y12 -> 0 | J12: =Z12 -> 0 | K12: =AA12 -> 0 | L12: =AB12 -> 0 | M12: =AC12 -> 0 | N12: =AD12 -> 0 | O12: =SUM(P12:S12) -> 0 | W12: 2 / 1 | X12: 2
A13: =일위대가!$A$55 -> 107 | C13: =VLOOKUP($A13,일위1,3,FALSE) -> 제107호표 | D13: =VLOOKUP($A13,일위1,4,FALSE) -> 케이블성단 | E13: =VLOOKUP($A13,일위1,5,FALSE) -> 110블럭 / 4P | F13: =VLOOKUP($A13,일위1,7,FALSE) -> EA | G13: =SUM(H13:N13) -> 14 | H13: =X13 -> 7 | I13: =Y13 -> 3 | J13: =Z13 -> 0 | K13: =AA13 -> 0 | L13: =AB13 -> 0 | M13: =AC13 -> 0 | N13: =AD13 -> 4 | O13: =SUM(P13:S13) -> 4 | P13: 2 | Q13: 1 | R13: 1 | W13: 관리동 MDF ~ (업무동 행망 FAX 3) / (업무동 Wips 4) | X13: 7 | Y13: 3 | AD13: 4
A14: =일위대가!$A$62 -> 108 | C14: =VLOOKUP($A14,일위1,3,FALSE) -> 제108호표 | D14: =VLOOKUP($A14,일위1,4,FALSE) -> 회선시험 | E14: =VLOOKUP($A14,일위1,5,FALSE) -> Port / 4P | F14: =VLOOKUP($A14,일위1,7,FALSE) -> EA | G14: =SUM(H14:N14) -> 3 | H14: =X14 -> 0 | I14: =Y14 -> 3 | M14: =AC14 -> 0 | N14: =AD14 -> 0 | O14: =SUM(P14:S14) -> 1 | R14: 1 | W14: 사무동 FAX 3 + 행정과 서버포트 1 | Y14: 3
C15: ** 통신케이블은 시설과 HUB입력 1차 + 프린터용선로 , 관리동 랙간 성단 , 사무동 랙 성단 , Wips용 AP선로 포함된 수량산출 입니다.
W17: =42+32+36+22 -> 132

Sheet 수량산출서 (운영설비)
C1: 수 량 산 출 서
C2: =산출서용지!A5 -> 하수도사업소 정보통신설비 설치 공사
C3: 호표 | D3: 품명 | E3: 규 격 | F3: 단위 | G3: 산출 수량 | H3: 하수행정과 장비 | J3: 산출 수량 | K3: 하수관로과 장비 | M3: 비 고
H4: 에코센터 (센터 측) | I4: 원격지 측 | K4: 에코센터 (센터 측) | L4: 원격지 측 | P4: 산출수량 | Q4: 센터 | R4: 원격지
C5: =일위대가집계표!C16 -> 2. 하수행정과 설비
A6: =일위대가!$A$77 -> 200 | C6: =VLOOKUP($A6,일위1,3,FALSE) -> 제200호표 | D6: =VLOOKUP($A6,일위1,4,FALSE) -> VPN 이전 설치 | E6: =VLOOKUP($A6,일위1,5,FALSE) -> Axgate1300S | F6: =VLOOKUP($A6,일위1,7,FALSE) -> EA | G6: =SUM(H6:I6) -> 1 | H6: =Q6 -> 1 | J6: =SUM(K6:L6) -> 0 | P6: 1 | Q6: 1
A7: =일위대가!$A$85 -> 201 | C7: =VLOOKUP($A7,일위1,3,FALSE) -> 제201호표 | D7: =VLOOKUP($A7,일위1,4,FALSE) -> VPN 셋업 변경 | E7: =VLOOKUP($A7,일위1,5,FALSE) -> Axgate40D | F7: =VLOOKUP($A7,일위1,7,FALSE) -> EA | G7: =SUM(H7:I7) -> 10 | I7: =R7 -> 10 | J7: =SUM(K7:L7) -> 0 | P7: (1*10) | R7: 10
A8: =일위대가!$A$92 -> 202 | C8: =VLOOKUP($A8,일위1,3,FALSE) -> 제202호표 | D8: =VLOOKUP($A8,일위1,4,FALSE) -> 방화벽 이전 설치 | E8: =VLOOKUP($A8,일위1,5,FALSE) -> WEB 방화벽 | F8: =VLOOKUP($A8,일위1,7,FALSE) -> EA | G8: =SUM(H8:I8) -> 1 | H8: =Q8 -> 1 | I8: =R8 -> 0 | J8: =SUM(K8:L8) -> 0 | P8: 1 | Q8: 1
A9: =일위대가!$A$100 -> 203 | C9: =VLOOKUP($A9,일위1,3,FALSE) -> 제203호표 | D9: =VLOOKUP($A9,일위1,4,FALSE) -> 하수운영서버 이전 설치 | E9: =VLOOKUP($A9,일위1,5,FALSE) -> 랙마운트 | F9: =VLOOKUP($A9,일위1,7,FALSE) -> EA | G9: =SUM(H9:I9) -> 1 | H9: =Q9 -> 1 | I9: =R9 -> 0 | J9: =SUM(K9:L9) -> 0 | P9: 1 | Q9: 1
A10: =일위대가!$A$108 -> 204 | C10: =VLOOKUP($A10,일위1,3,FALSE) -> 제204호표 | D10: =VLOOKUP($A10,일위1,4,FALSE) -> 운영PC 이전 설치 | E10: =VLOOKUP($A10,일위1,5,FALSE) -> 관제용 | F10: =VLOOKUP($A10,일위1,7,FALSE) -> EA | G10: =SUM(H10:I10) -> 1 | H10: =Q10 -> 1 | I10: =R10 -> 0 | J10: =SUM(K10:L10) -> 0 | P10: 1 | Q10: 1
A11: =일위대가!$A$116 -> 205 | C11: =VLOOKUP($A11,일위1,3,FALSE) -> 제205호표 | D11: =VLOOKUP($A11,일위1,4,FALSE) -> 운영PC 이전 설치 | E11: =VLOOKUP($A11,일위1,5,FALSE) -> 서버 / 관제용 | F11: =VLOOKUP($A11,일위1,7,FALSE) -> EA | G11: =SUM(H11:I11) -> 3 | H11: =Q11 -> 3 | I11: =R11 -> 0 | J11: =SUM(K11:L11) -> 0 | P11: 1+1 | Q11: 3
A12: =일위대가!$A$124 -> 206 | C12: =VLOOKUP($A12,일위1,3,FALSE) -> 제206호표 | D12: =VLOOKUP($A12,일위1,4,FALSE) -> 스위치 (L2) 이전설치 | E12: =VLOOKUP($A12,일위1,5,FALSE) -> 24Port | F12: =VLOOKUP($A12,일위1,7,FALSE) -> EA | G12: =SUM(H12:I12) -> 1 | H12: =Q12 -> 1 | I12: =R12 -> 0 | J12: =SUM(K12:L12) -> 0 | P12: 1 | Q12: 1
A13: =일위대가!$A$132 -> 207 | C13: =VLOOKUP($A13,일위1,3,FALSE) -> 제207호표 | D13: =VLOOKUP($A13,일위1,4,FALSE) -> 서버랙 이전 설치 | E13: =VLOOKUP($A13,일위1,5,FALSE) -> 2.2M 미만 | F13: =VLOOKUP($A13,일위1,7,FALSE) -> EA | G13: =SUM(H13:I13) -> 1 | H13: =Q13 -> 1 | I13: =R13 -> 0 | J13: =SUM(K13:L13) -> 0 | P13: 1 | Q13: 1
C15: =일위대가집계표!C26 -> 3. 하수관로과 설비
A16: =일위대가!$A$139 -> 300 | C16: =VLOOKUP($A16,일위1,3,FALSE) -> 제300호표 | D16: =VLOOKUP($A16,일위1,4,FALSE) -> 소규모 주장치 | E16: =VLOOKUP($A16,일위1,5,FALSE) -> 기존 본체 설치(서버)이설 | F16: =VLOOKUP($A16,일위1,7,FALSE) -> EA | J16: =SUM(K16:L16) -> 2 | K16: =Q16 -> 2 | P16: 1+1 | Q16: 2
A17: =일위대가!$A$149 -> 301 | C17: =VLOOKUP($A17,일위1,3,FALSE) -> 제301호표 | D17: =VLOOKUP($A17,일위1,4,FALSE) -> DSU/MODEM설치 및 기능시험 | E17: =VLOOKUP($A17,일위1,5,FALSE) -> 무선모뎀 IP주소 등록 변경 및 기능시험 | F17: =VLOOKUP($A17,일위1,7,FALSE) -> EA | J17: =SUM(K17:L17) -> 64 | L17: =R17 -> 64 | P17: 30+28+5 | R17: 64
A18: =일위대가!$A$157 -> 302 | C18: =VLOOKUP($A18,일위1,3,FALSE) -> 제302호표 | D18: =VLOOKUP($A18,일위1,4,FALSE) -> 스위칭허브 | E18: =VLOOKUP($A18,일위1,5,FALSE) -> (한강수계+맨홀펌프장) 및 우수토실 | F18: =VLOOKUP($A18,일위1,7,FALSE) -> EA | J18: =SUM(K18:L18) -> 1 | K18: =Q18 -> 1 | P18: 1 | Q18: 1
A19: =일위대가!$A$166 -> 303 | C19: =VLOOKUP($A19,일위1,3,FALSE) -> 제303호표 | D19: =VLOOKUP($A19,일위1,4,FALSE) -> SCADA 원격소 장치 | E19: =VLOOKUP($A19,일위1,5,FALSE) -> 함체(랙) 설치 | F19: =VLOOKUP($A19,일위1,7,FALSE) -> EA | J19: =SUM(K19:L19) -> 1 | K19: =Q19 -> 1 | P19: 1 | Q19: 1
C21: ** 원격지 측은 IO POINT LIST참조

Sheet 일위대가표지
A6: 일 위 대 가 표

Sheet 일위대가집계표
C1: 일 위 대 가 표
C2: =산출서용지!A5 -> 하수도사업소 정보통신설비 설치 공사
C3: 호표 | D3: 품명 | E3: 규 격 | F3: 수량 | G3: 단위 | H3: 재 료 비 | J3: 노 무 비 | L3: 경 비 | N3: 총 액 | P3: 비 고
H4: 단가 | I4: 금 액 | J4: 단가 | K4: 금 액 | L4: 단가 | M4: 금 액 | N4: 단가 | O4: 금 액
C5: =일위대가!C5 -> 1. 통신설비
A6: =일위대가!$A$6 -> 100 | C6: =VLOOKUP($A6,일위1,3,FALSE) -> 제100호표 | D6: =VLOOKUP($A6,일위1,4,FALSE) -> 합성수지제 가요전선관 | E6: =VLOOKUP($A6,일위1,5,FALSE) -> 난연 / 16mm | F6: =VLOOKUP($A6,일위1,6,FALSE) -> 1 | G6: =VLOOKUP($A6,일위1,7,FALSE) -> M | H6: =VLOOKUP($A6,일위1,8,FALSE) -> 0 | I6: =VLOOKUP($A6,일위1,9,FALSE) -> 621.85 | J6: =VLOOKUP($A6,일위1,10,FALSE) -> 0 | K6: =VLOOKUP($A6,일위1,11,FALSE) -> 11395 | L6: =VLOOKUP($A6,일위1,12,FALSE) -> 0 | M6: =VLOOKUP($A6,일위1,13,FALSE) -> 0 | N6: =VLOOKUP($A6,일위1,14,FALSE) -> 0 | O6: =VLOOKUP($A6,일위1,15,FALSE) -> 12016
A7: =일위대가!$A$14 -> 101 | C7: =VLOOKUP($A7,일위1,3,FALSE) -> 제101호표 | D7: =VLOOKUP($A7,일위1,4,FALSE) -> UTP 케이블 | E7: =VLOOKUP($A7,일위1,5,FALSE) -> CAT. 5e / 4P | F7: =VLOOKUP($A7,일위1,6,FALSE) -> 1 | G7: =VLOOKUP($A7,일위1,7,FALSE) -> M | H7: =VLOOKUP($A7,일위1,8,FALSE) -> 0 | I7: =VLOOKUP($A7,일위1,9,FALSE) -> 876.29 | J7: =VLOOKUP($A7,일위1,10,FALSE) -> 0 | K7: =VLOOKUP($A7,일위1,11,FALSE) -> 6543 | L7: =VLOOKUP($A7,일위1,12,FALSE) -> 0 | M7: =VLOOKUP($A7,일위1,13,FALSE) -> 0 | N7: =VLOOKUP($A7,일위1,14,FALSE) -> 0 | O7: =VLOOKUP($A7,일위1,15,FALSE) -> 7419
A8: =일위대가!$A$20 -> 102 | C8: =VLOOKUP($A8,일위1,3,FALSE) -> 제102호표 | D8: =VLOOKUP($A8,일위1,4,FALSE) -> UTP 패치코드 | E8: =VLOOKUP($A8,일위1,5,FALSE) -> CAT. 5e / 4P / 2m | F8: =VLOOKUP($A8,일위1,6,FALSE) -> 1 | G8: =VLOOKUP($A8,일위1,7,FALSE) -> EA | H8: =VLOOKUP($A8,일위1,8,FALSE) -> 0 | I8: =VLOOKUP($A8,일위1,9,FALSE) -> 4091.76 | J8: =VLOOKUP($A8,일위1,10,FALSE) -> 0 | K8: =VLOOKUP($A8,일위1,11,FALSE) -> 21392 | L8: =VLOOKUP($A8,일위1,12,FALSE) -> 0 | M8: =VLOOKUP($A8,일위1,13,FALSE) -> 0 | N8: =VLOOKUP($A8,일위1,14,FALSE) -> 0 | O8: =VLOOKUP($A8,일위1,15,FALSE) -> 25483
A9: =일위대가!$A$29 -> 103 | C9: =VLOOKUP($A9,일위1,3,FALSE) -> 제103호표 | D9: =VLOOKUP($A9,일위1,4,FALSE) -> 접속커넥터 | E9: =VLOOKUP($A9,일위1,5,FALSE) -> CAT. 5e / 8P8C | F9: =VLOOKUP($A9,일위1,6,FALSE) -> 1 | G9: =VLOOKUP($A9,일위1,7,FALSE) -> EA | H9: =VLOOKUP($A9,일위1,8,FALSE) -> 0 | I9: =VLOOKUP($A9,일위1,9,FALSE) -> 611.09 | J9: =VLOOKUP($A9,일위1,10,FALSE) -> 0 | K9: =VLOOKUP($A9,일위1,11,FALSE) -> 3703 | L9: =VLOOKUP($A9,일위1,12,FALSE) -> 0 | M9: =VLOOKUP($A9,일위1,13,FALSE) -> 0 | N9: =VLOOKUP($A9,일위1,14,FALSE) -> 0 | O9: =VLOOKUP($A9,일위1,15,FALSE) -> 4314
A10: =일위대가!$A$35 -> 104 | C10: =VLOOKUP($A10,일위1,3,FALSE) -> 제104호표 | D10: =VLOOKUP($A10,일위1,4,FALSE) -> PVC몰딩 | E10: =VLOOKUP($A10,일위1,5,FALSE) -> 사각 / 5호 | F10: =VLOOKUP($A10,일위1,6,FALSE) -> 1 | G10: =VLOOKUP($A10,일위1,7,FALSE) -> EA | H10: =VLOOKUP($A10,일위1,8,FALSE) -> 0 | I10: =VLOOKUP($A10,일위1,9,FALSE) -> 1613.66 | J10: =VLOOKUP($A10,일위1,10,FALSE) -> 0 | K10: =VLOOKUP($A10,일위1,11,FALSE) -> 7122 | L10: =VLOOKUP($A10,일위1,12,FALSE) -> 0 | M10: =VLOOKUP($A10,일위1,13,FALSE) -> 0 | N10: =VLOOKUP($A10,일위1,14,FALSE) -> 0 | O10: =VLOOKUP($A10,일위1,15,FALSE) -> 8735
A11: =일위대가!$A$41 -> 105 | C11: =VLOOKUP($A11,일위1,3,FALSE) -> 제105호표 | D11: =VLOOKUP($A11,일위1,4,FALSE) -> PVC몰딩 | E11: =VLOOKUP($A11,일위1,5,FALSE) -> 고강도 / 4호 | F11: =VLOOKUP($A11,일위1,6,FALSE) -> 1 | G11: =VLOOKUP($A11,일위1,7,FALSE) -> EA | H11: =VLOOKUP($A11,일위1,8,FALSE) -> 0 | I11: =VLOOKUP($A11,일위1,9,FALSE) -> 3213.66 | J11: =VLOOKUP($A11,일위1,10,FALSE) -> 0 | K11: =VLOOKUP($A11,일위1,11,FALSE) -> 7122 | L11: =VLOOKUP($A11,일위1,12,FALSE) -> 0 | M11: =VLOOKUP($A11,일위1,13,FALSE) -> 0 | N11: =VLOOKUP($A11,일위1,14,FALSE) -> 0 | O11: =VLOOKUP($A11,일위1,15,FALSE) -> 10335
A12: =일위대가!$A$47 -> 106 | C12: =VLOOKUP($A12,일위1,3,FALSE) -> 제106호표 | D12: =VLOOKUP($A12,일위1,4,FALSE) -> 110블럭 | E12: =VLOOKUP($A12,일위1,5,FALSE) -> 50P | F12: =VLOOKUP($A12,일위1,6,FALSE) -> 1 | G12: =VLOOKUP($A12,일위1,7,FALSE) -> EA | H12: =VLOOKUP($A12,일위1,8,FALSE) -> 0 | I12: =VLOOKUP($A12,일위1,9,FALSE) -> 19037.5 | J12: =VLOOKUP($A12,일위1,10,FALSE) -> 0 | K12: =VLOOKUP($A12,일위1,11,FALSE) -> 101250 | L12: =VLOOKUP($A12,일위1,12,FALSE) -> 0 | M12: =VLOOKUP($A12,일위1,13,FALSE) -> 0 | N12: =VLOOKUP($A12,일위1,14,FALSE) -> 0 | O12: =VLOOKUP($A12,일위1,15,FALSE) -> 120287
A13: =일위대가!$A$55 -> 107 | C13: =VLOOKUP($A13,일위1,3,FALSE) -> 제107호표 | D13: =VLOOKUP($A13,일위1,4,FALSE) -> 케이블성단 | E13: =VLOOKUP($A13,일위1,5,FALSE) -> 110블럭 / 4P | F13: =VLOOKUP($A13,일위1,6,FALSE) -> 1 | G13: =VLOOKUP($A13,일위1,7,FALSE) -> EA | H13: =VLOOKUP($A13,일위1,8,FALSE) -> 0 | I13: =VLOOKUP($A13,일위1,9,FALSE) -> 547.44 | J13: =VLOOKUP($A13,일위1,10,FALSE) -> 0 | K13: =VLOOKUP($A13,일위1,11,FALSE) -> 18248 | L13: =VLOOKUP($A13,일위1,12,FALSE) -> 0 | M13: =VLOOKUP($A13,일위1,13,FALSE) -> 0 | N13: =VLOOKUP($A13,일위1,14,FALSE) -> 0 | O13: =VLOOKUP($A13,일위1,15,FALSE) -> 18795
A14: =일위대가!$A$62 -> 108 | C14: =VLOOKUP($A14,일위1,3,FALSE) -> 제108호표 | D14: =VLOOKUP($A14,일위1,4,FALSE) -> 회선시험 | E14: =VLOOKUP($A14,일위1,5,FALSE) -> Port / 4P | F14: =VLOOKUP($A14,일위1,6,FALSE) -> 1 | G14: =VLOOKUP($A14,일위1,7,FALSE) -> EA | H14: =VLOOKUP($A14,일위1,8,FALSE) -> 0 | I14: =VLOOKUP($A14,일위1,9,FALSE) -> 809.19 | J14: =VLOOKUP($A14,일위1,10,FALSE) -> 0 | K14: =VLOOKUP($A14,일위1,11,FALSE) -> 26973 | L14: =VLOOKUP($A14,일위1,12,FALSE) -> 0 | M14: =VLOOKUP($A14,일위1,13,FALSE) -> 0 | N14: =VLOOKUP($A14,일위1,14,FALSE) -> 0 | O14: =VLOOKUP($A14,일위1,15,FALSE) -> 27782
C16: =일위대가!C76 -> 2. 하수행정과 설비
A17: =일위대가!$A$77 -> 200 | C17: =VLOOKUP($A17,일위1,3,FALSE) -> 제200호표 | D17: =VLOOKUP($A17,일위1,4,FALSE) -> VPN 이전 설치 | E17: =VLOOKUP($A17,일위1,5,FALSE) -> Axgate1300S | F17: =VLOOKUP($A17,일위1,6,FALSE) -> 1 | G17: =VLOOKUP($A17,일위1,7,FALSE) -> EA | H17: =VLOOKUP($A17,일위1,8,FALSE) -> 0 | I17: =VLOOKUP($A17,일위1,9,FALSE) -> 17678.76 | J17: =VLOOKUP($A17,일위1,10,FALSE) -> 0 | K17: =VLOOKUP($A17,일위1,11,FALSE) -> 589292 | L17: =VLOOKUP($A17,일위1,12,FALSE) -> 0 | M17: =VLOOKUP($A17,일위1,13,FALSE) -> 0 | N17: =VLOOKUP($A17,일위1,14,FALSE) -> 0 | O17: =VLOOKUP($A17,일위1,15,FALSE) -> 606970
A18: =일위대가!$A$85 -> 201 | C18: =VLOOKUP($A18,일위1,3,FALSE) -> 제201호표 | D18: =VLOOKUP($A18,일위1,4,FALSE) -> VPN 셋업 변경 | E18: =VLOOKUP($A18,일위1,5,FALSE) -> Axgate40D | F18: =VLOOKUP($A18,일위1,6,FALSE) -> 1 | G18: =VLOOKUP($A18,일위1,7,FALSE) -> EA | H18: =VLOOKUP($A18,일위1,8,FALSE) -> 0 | I18: =VLOOKUP($A18,일위1,9,FALSE) -> 9821.52 | J18: =VLOOKUP($A18,일위1,10,FALSE) -> 0 | K18: =VLOOKUP($A18,일위1,11,FALSE) -> 327384 | L18: =VLOOKUP($A18,일위1,12,FALSE) -> 0 | M18: =VLOOKUP($A18,일위1,13,FALSE) -> 0 | N18: =VLOOKUP($A18,일위1,14,FALSE) -> 0 | O18: =VLOOKUP($A18,일위1,15,FALSE) -> 337205
A19: =일위대가!$A$92 -> 202 | C19: =VLOOKUP($A19,일위1,3,FALSE) -> 제202호표 | D19: =VLOOKUP($A19,일위1,4,FALSE) -> 방화벽 이전 설치 | E19: =VLOOKUP($A19,일위1,5,FALSE) -> WEB 방화벽 | F19: =VLOOKUP($A19,일위1,6,FALSE) -> 1 | G19: =VLOOKUP($A19,일위1,7,FALSE) -> EA | H19: =VLOOKUP($A19,일위1,8,FALSE) -> 0 | I19: =VLOOKUP($A19,일위1,9,FALSE) -> 19038.66 | J19: =VLOOKUP($A19,일위1,10,FALSE) -> 0 | K19: =VLOOKUP($A19,일위1,11,FALSE) -> 634622 | L19: =VLOOKUP($A19,일위1,12,FALSE) -> 0 | M19: =VLOOKUP($A19,일위1,13,FALSE) -> 0 | N19: =VLOOKUP($A19,일위1,14,FALSE) -> 0 | O19: =VLOOKUP($A19,일위1,15,FALSE) -> 653660
A20: =일위대가!$A$100 -> 203 | C20: =VLOOKUP($A20,일위1,3,FALSE) -> 제203호표 | D20: =VLOOKUP($A20,일위1,4,FALSE) -> 하수운영서버 이전 설치 | E20: =VLOOKUP($A20,일위1,5,FALSE) -> 랙마운트 | F20: =VLOOKUP($A20,일위1,6,FALSE) -> 1 | G20: =VLOOKUP($A20,일위1,7,FALSE) -> EA | H20: =VLOOKUP($A20,일위1,8,FALSE) -> 0 | I20: =VLOOKUP($A20,일위1,9,FALSE) -> 16236.12 | J20: =VLOOKUP($A20,일위1,10,FALSE) -> 0 | K20: =VLOOKUP($A20,일위1,11,FALSE) -> 541204 | L20: =VLOOKUP($A20,일위1,12,FALSE) -> 0 | M20: =VLOOKUP($A20,일위1,13,FALSE) -> 0 | N20: =VLOOKUP($A20,일위1,14,FALSE) -> 0 | O20: =VLOOKUP($A20,일위1,15,FALSE) -> 557440
A21: =일위대가!$A$108 -> 204 | C21: =VLOOKUP($A21,일위1,3,FALSE) -> 제204호표 | D21: =VLOOKUP($A21,일위1,4,FALSE) -> 운영PC 이전 설치 | E21: =VLOOKUP($A21,일위1,5,FALSE) -> 관제용 | F21: =VLOOKUP($A21,일위1,6,FALSE) -> 1 | G21: =VLOOKUP($A21,일위1,7,FALSE) -> EA | H21: =VLOOKUP($A21,일위1,8,FALSE) -> 0 | I21: =VLOOKUP($A21,일위1,9,FALSE) -> 7184.37 | J21: =VLOOKUP($A21,일위1,10,FALSE) -> 0 | K21: =VLOOKUP($A21,일위1,11,FALSE) -> 239479 | L21: =VLOOKUP($A21,일위1,12,FALSE) -> 0 | M21: =VLOOKUP($A21,일위1,13,FALSE) -> 0 | N21: =VLOOKUP($A21,일위1,14,FALSE) -> 0 | O21: =VLOOKUP($A21,일위1,15,FALSE) -> 246663
A22: =일위대가!$A$116 -> 205 | C22: =VLOOKUP($A22,일위1,3,FALSE) -> 제205호표 | D22: =VLOOKUP($A22,일위1,4,FALSE) -> 운영PC 이전 설치 | E22: =VLOOKUP($A22,일위1,5,FALSE) -> 서버 / 관제용 | F22: =VLOOKUP($A22,일위1,6,FALSE) -> 1 | G22: =VLOOKUP($A22,일위1,7,FALSE) -> EA | H22: =VLOOKUP($A22,일위1,8,FALSE) -> 0 | I22: =VLOOKUP($A22,일위1,9,FALSE) -> 7184.37 | J22: =VLOOKUP($A22,일위1,10,FALSE) -> 0 | K22: =VLOOKUP($A22,일위1,11,FALSE) -> 239479 | L22: =VLOOKUP($A22,일위1,12,FALSE) -> 0 | M22: =VLOOKUP($A22,일위1,13,FALSE) -> 0 | N22: =VLOOKUP($A22,일위1,14,FALSE) -> 0 | O22: =VLOOKUP($A22,일위1,15,FALSE) -> 246663
A23: =일위대가!$A$124 -> 206 | C23: =VLOOKUP($A23,일위1,3,FALSE) -> 제206호표 | D23: =VLOOKUP($A23,일위1,4,FALSE) -> 스위치 (L2) 이전설치 | E23: =VLOOKUP($A23,일위1,5,FALSE) -> 24Port | F23: =VLOOKUP($A23,일위1,6,FALSE) -> 1 | G23: =VLOOKUP($A23,일위1,7,FALSE) -> EA | H23: =VLOOKUP($A23,일위1,8,FALSE) -> 0 | I23: =VLOOKUP($A23,일위1,9,FALSE) -> 8159.4 | J23: =VLOOKUP($A23,일위1,10,FALSE) -> 0 | K23: =VLOOKUP($A23,일위1,11,FALSE) -> 271980 | L23: =VLOOKUP($A23,일위1,12,FALSE) -> 0 | M23: =VLOOKUP($A23,일위1,13,FALSE) -> 0 | N23: =VLOOKUP($A23,일위1,14,FALSE) -> 0 | O23: =VLOOKUP($A23,일위1,15,FALSE) -> 280139
A24: =일위대가!$A$132 -> 207 | C24: =VLOOKUP($A24,일위1,3,FALSE) -> 제207호표 | D24: =VLOOKUP($A24,일위1,4,FALSE) -> 서버랙 이전 설치 | E24: =VLOOKUP($A24,일위1,5,FALSE) -> 2.2M 미만 | F24: =VLOOKUP($A24,일위1,6,FALSE) -> 1 | G24: =VLOOKUP($A24,일위1,7,FALSE) -> EA | H24: =VLOOKUP($A24,일위1,8,FALSE) -> 0 | I24: =VLOOKUP($A24,일위1,9,FALSE) -> 8178.48 | J24: =VLOOKUP($A24,일위1,10,FALSE) -> 0 | K24: =VLOOKUP($A24,일위1,11,FALSE) -> 272616 | L24: =VLOOKUP($A24,일위1,12,FALSE) -> 0 | M24: =VLOOKUP($A24,일위1,13,FALSE) -> 0 | N24: =VLOOKUP($A24,일위1,14,FALSE) -> 0 | O24: =VLOOKUP($A24,일위1,15,FALSE) -> 280794
C26: =일위대가!C138 -> 3. 하수관로과 설비
A27: =일위대가!$A$139 -> 300 | C27: =VLOOKUP($A27,일위1,3,FALSE) -> 제300호표 | D27: =VLOOKUP($A27,일위1,4,FALSE) -> 소규모 주장치 | E27: =VLOOKUP($A27,일위1,5,FALSE) -> 기존 본체 설치(서버)이설 | F27: =VLOOKUP($A27,일위1,6,FALSE) -> 1 | G27: =VLOOKUP($A27,일위1,7,FALSE) -> EA | H27: =VLOOKUP($A27,일위1,8,FALSE) -> 0 | I27: =VLOOKUP($A27,일위1,9,FALSE) -> 9260.04 | J27: =VLOOKUP($A27,일위1,10,FALSE) -> 0 | K27: =VLOOKUP($A27,일위1,11,FALSE) -> 308668 | L27: =VLOOKUP($A27,일위1,12,FALSE) -> 0 | M27: =VLOOKUP($A27,일위1,13,FALSE) -> 0 | N27: =VLOOKUP($A27,일위1,14,FALSE) -> 0 | O27: =VLOOKUP($A27,일위1,15,FALSE) -> 317928
A28: =일위대가!$A$149 -> 301 | C28: =VLOOKUP($A28,일위1,3,FALSE) -> 제301호표 | D28: =VLOOKUP($A28,일위1,4,FALSE) -> DSU/MODEM설치 및 기능시험 | E28: =VLOOKUP($A28,일위1,5,FALSE) -> 무선모뎀 IP주소 등록 변경 및 기능시험 | F28: =VLOOKUP($A28,일위1,6,FALSE) -> 1 | G28: =VLOOKUP($A28,일위1,7,FALSE) -> EA | H28: =VLOOKUP($A28,일위1,8,FALSE) -> 0 | I28: =VLOOKUP($A28,일위1,9,FALSE) -> 6240.6 | J28: =VLOOKUP($A28,일위1,10,FALSE) -> 0 | K28: =VLOOKUP($A28,일위1,11,FALSE) -> 208020 | L28: =VLOOKUP($A28,일위1,12,FALSE) -> 0 | M28: =VLOOKUP($A28,일위1,13,FALSE) -> 0 | N28: =VLOOKUP($A28,일위1,14,FALSE) -> 0 | O28: =VLOOKUP($A28,일위1,15,FALSE) -> 214260
A29: =일위대가!$A$157 -> 302 | C29: =VLOOKUP($A29,일위1,3,FALSE) -> 제302호표 | D29: =VLOOKUP($A29,일위1,4,FALSE) -> 스위칭허브 | E29: =VLOOKUP($A29,일위1,5,FALSE) -> (한강수계+맨홀펌프장) 및 우수토실 | F29: =VLOOKUP($A29,일위1,6,FALSE) -> 1 | G29: =VLOOKUP($A29,일위1,7,FALSE) -> EA | H29: =VLOOKUP($A29,일위1,8,FALSE) -> 0 | I29: =VLOOKUP($A29,일위1,9,FALSE) -> 5932.02 | J29: =VLOOKUP($A29,일위1,10,FALSE) -> 0 | K29: =VLOOKUP($A29,일위1,11,FALSE) -> 197734 | L29: =VLOOKUP($A29,일위1,12,FALSE) -> 0 | M29: =VLOOKUP($A29,일위1,13,FALSE) -> 0 | N29: =VLOOKUP($A29,일위1,14,FALSE) -> 0 | O29: =VLOOKUP($A29,일위1,15,FALSE) -> 203666
A30: =일위대가!$A$166 -> 303 | C30: =VLOOKUP($A30,일위1,3,FALSE) -> 제303호표 | D30: =VLOOKUP($A30,일위1,4,FALSE) -> SCADA 원격소 장치 | E30: =VLOOKUP($A30,일위1,5,FALSE) -> 함체(랙) 설치 | F30: =VLOOKUP($A30,일위1,6,FALSE) -> 1 | G30: =VLOOKUP($A30,일위1,7,FALSE) -> EA | H30: =VLOOKUP($A30,일위1,8,FALSE) -> 0 | I30: =VLOOKUP($A30,일위1,9,FALSE) -> 7915.95 | J30: =VLOOKUP($A30,일위1,10,FALSE) -> 0 | K30: =VLOOKUP($A30,일위1,11,FALSE) -> 263865 | L30: =VLOOKUP($A30,일위1,12,FALSE) -> 0 | M30: =VLOOKUP($A30,일위1,13,FALSE) -> 0 | N30: =VLOOKUP($A30,일위1,14,FALSE) -> 0 | O30: =VLOOKUP($A30,일위1,15,FALSE) -> 271780

Sheet 일위대가
C1: 일 위 대 가 표(상 세 내 역)
C2: =산출서용지!A5 -> 하수도사업소 정보통신설비 설치 공사
C3: 호 표 | D3: 품 명 | E3: 규 격 | F3: 수량 | G3: 단위 | H3: 재 료 비 | J3: 노 무 비 | L3: 경 비 | N3: 총 액 | P3: 적 용
H4: 단가 | I4: 금 액 | J4: 단가 | K4: 금 액 | L4: 단가 | M4: 금 액 | N4: 단가 | O4: 금 액
C5: 1. 통신설비
A6: 100 | B6: 3 | C6: ="제"&A6&"호표" -> 제100호표 | D6: =D7 -> 합성수지제 가요전선관 | E6: =E7 -> 난연 / 16mm | F6: =F7 -> 1 | G6: =G7 -> M | H6: 0 | I6: =SUM(I7:I12) -> 621.85 | J6: 0 | K6: =SUM(K7:K12) -> 11395 | L6: 0 | M6: =SUM(M7:M12) -> 0 | N6: 0 | O6: =INT(I6+K6+M6) -> 12016 | P6: 통3-1-1
D7: 합성수지제 가요전선관 | E7: 난연 / 16mm | F7: 1 | G7: M
B8: =CONCATENATE(D8,E8) -> 합성수지제 가요전선관난연 / 16mm | C8: 재료비 | D8: 합성수지제 가요전선관 | E8: 난연 / 16mm | F8: 1 | G8: M | H8: =VLOOKUP(B8,단가,2,FALSE) -> 200 | I8: =INT($F8*H8) -> 200 | J8: 0 | K8: 0 | L8: 0 | M8: 0 | N8: =INT(H8+J8+L8) -> 200 | O8: =INT(I8+K8+M8) -> 200
D9: [ 소모 잡자재 ] | E9: 전선관의 40 % | F9: 0.4 | I9: =I8*F9 -> 80
C10: 노무비 | D10: 통신내선공 | E10: 0.05 | F10: =E10*F11 -> 0.04 | G10: 인 | H10: 0 | I10: 0 | J10: =VLOOKUP(D10,인건비,2,FALSE) -> 284880 | K10: =INT($F10*J10) -> 11395 | L10: 0 | M10: 0 | N10: =INT(H10+J10+L10) -> 284880 | O10: =INT(I10+K10+M10) -> 11395
E11: 가요전선관은 본공량 80% | F11: 0.8
D12: [ 공 구 손 료 ] | E12: 노무비의 3 % | F12: 0.03 | I12: =K10*F12 -> 341.85
A14: =A6+1 -> 101 | B14: 3 | C14: ="제"&A14&"호표" -> 제101호표 | D14: =D15 -> UTP 케이블 | E14: =E15 -> CAT. 5e / 4P | F14: =F16 -> 1 | G14: =G16 -> M | H14: 0 | I14: =SUM(I15:I18) -> 876.29 | J14: 0 | K14: =SUM(K15:K18) -> 6543 | L14: 0 | M14: =SUM(M15:M18) -> 0 | N14: 0 | O14: =INT(I14+K14+M14) -> 7419 | P14: 통4-3-1
D15: UTP 케이블 | E15: CAT. 5e / 4P | F15: 1 | G15: M
B16: =CONCATENATE(D16,E16) -> UTP 케이블CAT. 5e / 4P | C16: 재료비 | D16: UTP 케이블 | E16: CAT. 5e / 4P | F16: 1 | G16: M | H16: =VLOOKUP(B16,단가,2,FALSE) -> 680 | I16: =INT($F16*H16) -> 680 | J16: 0 | K16: 0 | L16: 0 | M16: 0 | N16: =INT(H16+J16+L16) -> 680 | O16: =INT(I16+K16+M16) -> 680
C17: 노무비 | D17: 통신케이블공 | E17: 0.015 | F17: =E17 -> 0.015 | G17: 인 | H17: 0 | I17: 0 | J17: =VLOOKUP(D17,인건비,2,FALSE) -> 436224 | K17: =INT($F17*J17) -> 6543 | L17: 0 | M17: 0 | N17: =INT(H17+J17+L17) -> 436224 | O17: =INT(I17+K17+M17) -> 6543
D18: [ 공 구 손 료 ] | E18: 노무비의 3 % | F18: 0.03 | I18: =K17*F18 -> 196.29
A20: =A14+1 -> 102 | B20: 3 | C20: ="제"&A20&"호표" -> 제102호표 | D20: =D21 -> UTP 패치코드 | E20: =E21 -> CAT. 5e / 4P / 2m | F20: =F21 -> 1 | G20: =G21 -> EA | H20: 0 | I20: =SUM(I21:I27) -> 4091.76 | J20: 0 | K20: =SUM(K21:K27) -> 21392 | L20: 0 | M20: =SUM(M21:M27) -> 0 | N20: 0 | O20: =INT(I20+K20+M20) -> 25483 | P20: 통4-3-3
D21: UTP 패치코드 | E21: CAT. 5e / 4P / 2m | F21: 1 | G21: EA
B22: =CONCATENATE(D22,E22) -> UTP 패치코드CAT. 5e / 4P / 2m | C22: 재료비 | D22: UTP 패치코드 | E22: CAT. 5e / 4P / 2m | F22: 1 | G22: EA | H22: =VLOOKUP(B22,단가,2,FALSE) -> 3450 | I22: =INT($F22*H22) -> 3450 | J22: 0 | K22: 0 | L22: 0 | M22: 0 | N22: =INT(H22+J22+L22) -> 3450 | O22: =INT(I22+K22+M22) -> 3450
E23: 4열초과는 80%적용 | F23: 0.8
C24: 노무비 | D24: 통신케이블공 | E24: 0.04 | F24: =E24*F23 -> 0.032 | G24: 인 | H24: 0 | I24: 0 | J24: =VLOOKUP(D24,인건비,2,FALSE) -> 436224 | K24: =INT($F24*J24) -> 13959 | L24: 0 | M24: 0 | N24: =INT(H24+J24+L24) -> 436224 | O24: =INT(I24+K24+M24) -> 13959
C25: 노무비 | D25: 보통인부 | E25: 0.054 | F25: =E25*F23 -> 0.0432 | G25: 인 | H25: 0 | I25: 0 | J25: =VLOOKUP(D25,인건비,2,FALSE) -> 172068 | K25: =INT($F25*J25) -> 7433 | L25: 0 | M25: 0 | N25: =INT(H25+J25+L25) -> 172068 | O25: =INT(I25+K25+M25) -> 7433
D26: [ 공 구 손 료 ] | E26: 노무비의 3 % | F26: 0.03 | I26: =K24*F26 -> 418.77
D27: [ 공 구 손 료 ] | E27: 노무비의 3 % | F27: 0.03 | I27: =K25*F27 -> 222.99
A29: =A20+1 -> 103 | B29: 3 | C29: ="제"&A29&"호표" -> 제103호표 | D29: =D30 -> 접속커넥터 | E29: =E30 -> CAT. 5e / 8P8C | F29: =F30 -> 1 | G29: =G30 -> EA | H29: 0 | I29: =SUM(I30:I33) -> 611.09 | J29: 0 | K29: =SUM(K30:K33) -> 3703 | L29: 0 | M29: =SUM(M30:M33) -> 0 | N29: 0 | O29: =INT(I29+K29+M29) -> 4314 | P29: 통4-3-2
D30: 접속커넥터 | E30: CAT. 5e / 8P8C | F30: 1 | G30: EA
B31: =CONCATENATE(D31,E31) -> 접속커넥터CAT. 5e / 8P8C | C31: 재료비 | D31: 접속커넥터 | E31: CAT. 5e / 8P8C | F31: 1 | G31: EA | H31: =VLOOKUP(B31,단가,2,FALSE) -> 500 | I31: =INT($F31*H31) -> 500 | J31: 0 | K31: 0 | L31: 0 | M31: 0 | N31: =INT(H31+J31+L31) -> 500 | O31: =INT(I31+K31+M31) -> 500
C32: 노무비 | D32: 통신내선공 | E32: 0.013 | F32: =E32 -> 0.013 | G32: 인 | H32: 0 | I32: 0 | J32: =VLOOKUP(D32,인건비,2,FALSE) -> 284880 | K32: =INT($F32*J32) -> 3703 | L32: 0 | M32: 0 | N32: =INT(H32+J32+L32) -> 284880 | O32: =INT(I32+K32+M32) -> 3703
D33: [ 공 구 손 료 ] | E33: 노무비의 3 % | F33: 0.03 | I33: =K32*F33 -> 111.09
A35: =A29+1 -> 104 | B35: 3 | C35: ="제"&A35&"호표" -> 제104호표 | D35: =D36 -> PVC몰딩 | E35: =E36 -> 사각 / 5호 | F35: 1 | G35: EA | H35: 0 | I35: =SUM(I36:I39) -> 1613.66 | J35: 0 | K35: =SUM(K36:K39) -> 7122 | L35: 0 | M35: =SUM(M36:M39) -> 0 | N35: 0 | O35: =INT(I35+K35+M35) -> 8735 | P35: 통7-11-5
D36: PVC몰딩 | E36: 사각 / 5호 | F36: 1 | G36: EA
B37: =CONCATENATE(D37,E37) -> PVC몰딩사각 / 5호 | C37: 재료비 | D37: PVC몰딩 | E37: 사각 / 5호 | F37: 1 | G37: EA | H37: =VLOOKUP(B37,단가,2,FALSE) -> 1400 | I37: =INT($F37*H37) -> 1400 | J37: 0 | K37: 0 | L37: 0 | M37: 0 | N37: =INT(H37+J37+L37) -> 1400 | O37: =INT(I37+K37+M37) -> 1400
C38: 노무비 | D38: 통신내선공 | E38: 0.025 | F38: =E38 -> 0.025 | G38: 인 | H38: 0 | I38: 0 | J38: =VLOOKUP(D38,인건비,2,FALSE) -> 284880 | K38: =INT($F38*J38) -> 7122 | L38: 0 | M38: 0 | N38: =INT(H38+J38+L38) -> 284880 | O38: =INT(I38+K38+M38) -> 7122
D39: [ 공 구 손 료 ] | E39: 노무비의 3 % | F39: 0.03 | I39: =K38*F39 -> 213.66
A41: =A35+1 -> 105 | B41: 3 | C41: ="제"&A41&"호표" -> 제105호표 | D41: =D42 -> PVC몰딩 | E41: =E42 -> 고강도 / 4호 | F41: 1 | G41: EA | H41: 0 | I41: =SUM(I42:I45) -> 3213.66 | J41: 0 | K41: =SUM(K42:K45) -> 7122 | L41: 0 | M41: =SUM(M42:M45) -> 0 | N41: 0 | O41: =INT(I41+K41+M41) -> 10335 | P41: 통7-11-5
D42: PVC몰딩 | E42: 고강도 / 4호 | F42: 1 | G42: EA
B43: =CONCATENATE(D43,E43) -> PVC몰딩고강도 / 4호 | C43: 재료비 | D43: PVC몰딩 | E43: 고강도 / 4호 | F43: 1 | G43: EA | H43: =VLOOKUP(B43,단가,2,FALSE) -> 3000 | I43: =INT($F43*H43) -> 3000 | J43: 0 | K43: 0 | L43: 0 | M43: 0 | N43: =INT(H43+J43+L43) -> 3000 | O43: =INT(I43+K43+M43) -> 3000
C44: 노무비 | D44: 통신내선공 | E44: 0.025 | F44: =E44 -> 0.025 | G44: 인 | H44: 0 | I44: 0 | J44: =VLOOKUP(D44,인건비,2,FALSE) -> 284880 | K44: =INT($F44*J44) -> 7122 | L44: 0 | M44: 0 | N44: =INT(H44+J44+L44) -> 284880 | O44: =INT(I44+K44+M44) -> 7122
D45: [ 공 구 손 료 ] | E45: 노무비의 3 % | F45: 0.03 | I45: =K44*F45 -> 213.66
...

Sheet 단가비교표지
A6: 단 가 비 교 표

Sheet 단가비교표
B1: 단 가 비 교 표
B3: =산출서용지!A5 -> 하수도사업소 정보통신설비 설치 공사
B4: 품 명 | C4: 규 격 | D4: 단위 | E4: 유통물가(2026.08) | G4: 물가자료(2026.08) | I4: 조사단가 | J4: 적용단가 | K4: 비 고
E5: PAGE | F5: 금 액 | G5: PAGE | H5: 금 액 | I5: 금 액
B6: [통신자재]
B7: 합성수지제 가요전선관 | C7: 난연 / 16mm | D7: M | E7: 860 | F7: 305 | G7: 1104 | H7: 200 | I7: - | J7: =MIN(F7,H7,I7) -> 200 | M7: =CONCATENATE(B7,C7) -> 합성수지제 가요전선관난연 / 16mm | N7: =J7 -> 200
B8: UTP 케이블 | C8: CAT. 5e / 4P | D8: M | E8: 847 | F8: 790 | G8: 1083 | H8: 790 | I8: 680 | J8: =MIN(F8,H8,I8) -> 680 | M8: =CONCATENATE(B8,C8) -> UTP 케이블CAT. 5e / 4P | N8: =J8 -> 680
B9: UTP 패치코드 | C9: CAT. 5e / 4P / 2m | D9: M | E9: 847 | F9: 3760 | G9: 1083 | H9: 3760 | I9: 3450 | J9: =MIN(F9,H9,I9) -> 3450 | M9: =CONCATENATE(B9,C9) -> UTP 패치코드CAT. 5e / 4P / 2m | N9: =J9 -> 3450
B10: 접속커넥터 | C10: CAT. 5e / 8P8C | D10: EA | E10: 847 | F10: 500 | G10: 1083 | H10: 630 | I10: - | J10: =MIN(F10,H10,I10) -> 500 | M10: =CONCATENATE(B10,C10) -> 접속커넥터CAT. 5e / 8P8C | N10: =J10 -> 500
B11: PVC몰딩 | C11: 사각 / 5호 | D11: EA | E11: 871 | F11: 1400 | G11: - | H11: - | I11: - | J11: =MIN(F11,H11,I11) -> 1400 | M11: =CONCATENATE(B11,C11) -> PVC몰딩사각 / 5호 | N11: =J11 -> 1400
B12: PVC몰딩 | C12: 고강도 / 4호 | D12: EA | E12: 871 | F12: 3000 | G12: - | H12: - | I12: - | J12: =MIN(F12,H12,I12) -> 3000 | M12: =CONCATENATE(B12,C12) -> PVC몰딩고강도 / 4호 | N12: =J12 -> 3000
B13: 110블럭 | C13: 50P | D13: EA | E13: 1085 | F13: 16000 | G13: 1083 | H13: 28750 | I13: - | J13: =MIN(F13,H13,I13) -> 16000 | M13: =CONCATENATE(B13,C13) -> 110블럭50P | N13: =J13 -> 16000

Sheet 노임산출표지
A6: 노 무 비 산 출 근 거

Sheet 노무비 근거
A1: 노무비 산출근거
A4: 공 종 | B4: 적용 노임단가 (1원미만절사) | C4: 적용율 노임단가 (%) | D4: 기준 노임단가 (2026년 상반기)
C5: 적용율: | D5: 1
A6: 보통인부 | B6: =ROUNDDOWN(D6*$D$5,0) -> 172068 | C6: =B6*$D$5 -> 172068 | D6: 172068
A7: 특별인부 | B7: =ROUNDDOWN(D7*$D$5,0) -> 226122 | C7: =B7*$D$5 -> 226122 | D7: 226122
A8: 통신내선공 | B8: =ROUNDDOWN(D8*$D$5,0) -> 284880 | C8: =B8*$D$5 -> 284880 | D8: 284880
A9: 통신설비공 | B9: =ROUNDDOWN(D9*$D$5,0) -> 315528 | C9: =B9*$D$5 -> 315528 | D9: 315528
A10: 통신케이블공 | B10: =ROUNDDOWN(D10*$D$5,0) -> 436224 | C10: =B10*$D$5 -> 436224 | D10: 436224
A11: 통신관련산업기사 | B11: =ROUNDDOWN(D11*$D$5,0) -> 304509 | C11: =B11*$D$5 -> 304509 | D11: 304509
A12: S/W시험사 | B12: =ROUNDDOWN(D12*$D$5,0) -> 446358 | C12: =B12*$D$5 -> 446358 | D12: 446358
A13: H/W시험사 | B13: =ROUNDDOWN(D13*$D$5,0) -> 393090 | C13: =B13*$D$5 -> 393090 | D13: 393090
C14: =B14*$D$5 -> 0 | D14: =ROUNDDOWN(B14*$D$5,0) -> 0
