Workbook
Name ___SBB1: #REF!
Name ___SBB2: #REF!
Name ___SBB3: #REF!
Name ___SBB4: #REF!
Name ___SBB5: #REF!
Name ___SHH1: #REF!
Name ___SHH2: #REF!
Name ___SHH3: #REF!
Name __GHH1: #REF!
Name __GHH1: #REF!
Name __GHH2: #REF!
Name __GHH2: #REF!
Name __JEA1: #REF!
Name __JEA1: #REF!
Name __JEA2: #REF!
Name __JEA2: #REF!
Name __MaL1: #REF!
Name __MaL1: #REF!
Name __MaL2: #REF!
Name __MaL2: #REF!
Name __SBB1: #REF!
Name __SBB1: #REF!
Name __SBB2: #REF!
Name __SBB2: #REF!
Name __SBB3: #REF!
Name __SBB3: #REF!
Name __SBB4: #REF!
Name __SBB4: #REF!
Name __SBB5: #REF!
Name __SBB5: #REF!
Name __SHH1: #REF!
Name __SHH1: #REF!
Name __SHH2: #REF!
Name __SHH2: #REF!
Name __SHH3: #REF!
Name __SHH3: #REF!
Name __Ty1: #REF!
Name __Ty1: #REF!
Name __Ty2: #REF!
Name __Ty2: #REF!
Name _1: "★★"
Name _a147: #REF!
Name _aab42: #REF!
Name _GHH1: #REF!
Name _GHH1: #REF!
Name _GHH2: #REF!
Name _GHH2: #REF!
Name _JEA1: #REF!
Name _JEA1: #REF!
Name _JEA2: #REF!
Name _JEA2: #REF!
Name _LL1: #REF!
Name _LL2: #REF!
Name _LL3: #REF!
Name _LR1: #REF!
Name _LR2: #REF!
Name _LR3: #REF!
Name _MaL1: #REF!
Name _MaL1: #REF!
Name _MaL2: #REF!

Sheet 내역서 
A2: 사방시설 외관점검 산출내역서
A4: 사 업 구 분 | C4: 위탁수량 | D4: 단가 | F4: 합계 | H4: 비고
A5: 재 계 | C5: =SUM(C6:C6) -> 7 | D5: - | F5: =SUM(F6:G6) -> 1666000
A6: 사방댐 | C6: 7 | D6: ='사방시설 외관점검 비용산정표'!D28 -> 238000 | F6: =C6*D6 -> 1666000

Sheet 예정가격결정서
A1: 2025년 사방시설 외관점검 위탁용역 예정가격 결정서
C3: 작 성 자 :
C5: 확 인 자 :
A7: ◇ 용 역 명 :
A8: ◇ 용역장소 :
A9: ◇ 용 역 량 : | B9: 1식(사방댐16개소, 계류보전 0개소)
A10: ◇ 용역기간 : | B10: 착수일로부터 50일까지
A11: ◇ 예산과목 :
A12: ◇ 계약방법 : | B12: 수의계약
A16: 산 출 액 : | C16: ="금 "&NUMBERSTRING(C17,1)&" 원정" -> 금 삼백팔십만팔천 원정
B17: (금 | C17: =VALUE('위탁사업비 산출내역서'!E5) -> 3808000 | E17: 원)
A19: 결 정 액 : 금 | C19: 일천사십사만이천원정 | E19: 원
B20: (금 | C20: =C17 -> 3808000 | E20: 원)
C23: 위와 같이 결정함.
C25: 2025년 4월 일
A28: 결 정 관 :
C29: (인)

Sheet 위탁사업비 산출내역서
A2: 2025년 사방시설 외관점검 비용 산출내역서
F3: (단위 : 원)
A4: 사 업 구 분 | B4: 위탁수량 | D4: 단 가 | E4: 합계 | F4: 비고
A5: 재 계 | E5: =F6 -> 3808000
A6: 계 | E6: =SUM(E7:E9) -> 3808000 | F6: =ROUNDDOWN(SUM(F7:F9),-3) -> 3808000
A7: 사 방 댐 | B7: 16 | C7: 개소 | D7: ='사방시설 외관점검 비용산정표'!D28 -> 238000 | E7: =D7*B7 -> 3808000 | F7: =ROUNDDOWN((E7),-3) -> 3808000
A8: 계 류 보 전 | B8: 0 | C8: 개소 | D8: ='사방시설 외관점검 비용산정표'!D28 -> 238000 | E8: =D8*B8 -> 0 | F8: =ROUNDDOWN((E8),-3) -> 0
A9: 산 지 사 방 | B9: 0 | C9: ㏊ | D9: ='사방시설 외관점검 비용산정표'!D28 -> 238000 | E9: =D9*B9 -> 0 | F9: =ROUNDDOWN((E9),-3) -> 0

Sheet 사방시설 외관점검 비용산정표
A1: 사방시설 외관점검 비용산정표
A2: <사방댐·계류보전: 1개소당, 산지사방: 1ha당>
A3: 구분 | B3: 소요기술자(인)
B4: 기술사 | C4: 특급기술자 | D4: 고급기술자 | E4: 중급기술자 | F4: 초급기술자 | G4: 보조원
A5: 1. 계획수립 및 현지조사 | B5: 0 | C5: 0.004 | D5: 0.005 | E5: 0.105 | F5: 0.105 | G5: 0.018
A6: 2. 보고서 작성 및 업무협의 | B6: 0 | C6: 0.007 | D6: 0.018 | E6: 0.035 | F6: 0.035 | G6: 0.035
A7: 계 | B7: =SUM(B5:B6) -> 0 | C7: =SUM(C5:C6) -> 0.011 | D7: =SUM(D5:D6) -> 0.023 | E7: =SUM(E5:E6) -> 0.14 | F7: =SUM(F5:F6) -> 0.14 | G7: =SUM(G5:G6) -> 0.053
A9: 구분 | B9: 수량(인) | C9: 단가(원) | D9: 금액(원) | E9: 비고
A10: 가. 직접인건비 (엔지니어링사업대가의 기준 제7조) | D10: =SUM(D11:D16) -> 88712.109
A11: 1) 기술사 | B11: =B7 -> 0 | C11: =기초자료!C5 -> 447658 | D11: =B11*C11 -> 0 | E11: 2024년 엔지니어링 기술자 노임단가 적용
A12: 2) 특급기술자 | B12: =C7 -> 0.011 | C12: =기초자료!C6 -> 357676 | D12: =B12*C12 -> 3934.436 | E12: 〃
A13: 3) 고급기술자 | B13: =D7 -> 0.023 | C13: =기초자료!C7 -> 301863 | D13: =B13*C13 -> 6942.849 | E13: 〃
A14: 4) 중급기술자 | B14: =E7 -> 0.14 | C14: =기초자료!C8 -> 261545 | D14: =B14*C14 -> 36616.3 | E14: 〃
A15: 5) 초급기술자 | B15: =F7 -> 0.14 | C15: =기초자료!C9 -> 229278 | D15: =B15*C15 -> 32098.92 | E15: 〃
A16: 6) 보조원 | B16: =G7 -> 0.053 | C16: =기초자료!C17 -> 172068 | D16: =B16*C16 -> 9119.604 | E16: 2025년 상반기 시중노임단가 적용
A17: 나. 직접경비 (엔지니어링사업대가의 기준 제8조) | D17: =D18+D19 -> 13166.933
A18: 1)교통비(공무원여비규정, 부가세 제외) | B18: 0.21 | C18: =(100*(기초자료!C22))/12.52 -> 12699.681 | D18: =B18*C18 -> 2666.9329 | E18: 현장조사 2인(중급, 초급) 적용/ 100km기준/연비 경유12.52km/L기준 교통비 = (거리 * 유류단가) / 연비 유류단가(유가에서 부가세를 제외한 금액) = 국내유가 / 1.1
A19: 2) 식비, 일비(공무원여비규정) | B19: 0.21 | C19: 50000 | D19: =B19*C19 -> 10500
A20: 다. 제경비 (엔지니어링사업대가의 기준 제9조) | B20: 1.1 | C20: =D10 -> 88712.109 | D20: =B20*C20 -> 97583.32 | E20: 직접인건비의 110~120%
A21: 라. 기술료 (엔지니어링사업대가의 기준 제10조) | B21: 0.2 | C21: =D10+D20 -> 186295.43 | D21: =B21*C21 -> 37259.086 | E21: 직접인건비+제경비의 20~40%(위탁수수료 10~15%포함)
A22: 소계(1) | D22: =D21+D20+D17+D10 -> 236721.45 | E22: 직접인건비+직접경비+제경비+기술료
A23: 마. 손해배상보험료 | D23: =D24+D25 -> 1346.945
A24: 1) 1단계(마. * 기본요율) | B24: 0.00409 | C24: =D22 -> 236721.45 | D24: =B24*C24 -> 968.19072 | E24: 엔지니어링손해배상공제(검사)
A25: 2) 2단계(마. * 0.16%) | B25: 0.0016 | C25: =D22 -> 236721.45 | D25: =B25*C25 -> 378.75432
A26: 소계(2) | D26: =D22+D23 -> 238068.39 | E26: 소계(1) + 마.손해배상보험료
A27: 바. 부가가치세 | B27: 0 | C27: =D26 -> 238068.39 | D27: =B27*C27 -> 0
A28: 합계 | D28: =ROUNDDOWN((D26+D27),-3) -> 238000 | E28: 소계(2) + 바.부가가치세(천단위미만 절사)
D36: =D28*0.89 -> 211820

Sheet 기초자료
A1: 기초자료
C2: (단위 : 원)
A3: 2025년 엔지니어링기술자 노임단가(한국엔지니어링협회)
A4: 구 분 | B4: 종 목 | C4: 단 가
A5: 기타 | B5: 기 술 사 | C5: 447658
B6: 특급기술자 | C6: 357676
B7: 고급기술자 | C7: 301863
B8: 중급기술자 | C8: 261545
B9: 초급기술자 | C9: 229278
B10: 고급숙련기술자 | C10: 289195
B11: 중급숙련기술자 | C11: 226344
B12: 초급숙련기술자 | C12: 194317
A13: ※ [한국엔지니어링협회] 2025년도 엔지니어링업체 임금실태조사 결과공표(2026.01.01.부터 적용)
C14: (단위 : 원)
A15: 시중노임단가(대한건설협회)
A16: 구 분 | B16: 직 종 명 | C16: 단 가
A17: 개별직종노임단가 | B17: 보통인부 | C17: 172068
A18: ※ [대한건설협회] 2026년 상반기 적용 건설업 임금실태 조사 보고서(시중노임단가)_2026.01.01.부터 적용
C19: (단위 : 원)
A20: 교통비 산출을 위한 국내유가(오피넷)
A21: 유 종 | B21: 기 준 일 | C21: ℓ당 단가
A22: 경유 | B22: 2026.08.04 | C22: 1590
A23: ※ [조달청 공사원가통합관리시스템(npccs.g2b.go.kr)] 국내유가 - 자동차용 경유(2026.08.04. 기준)

Sheet 시중노임단가
A1: ※ [대한건설협회] 2026년 상반기 적용 건설업 임금실태 조사 보고서(시중노임단가)_2026.01.01.부터 적용

Sheet 엔지니어링기술자 노임단가
A1: ※ [한국엔지니어링협회] 2025년도 엔지니어링업체 임금실태조사 결과공표(2025.12.2. / 2026.01.01.부터 적용)

Sheet 경유
A1: ※ [조달청 공사원가통합관리시스템(npccs.g2b.go.kr)] 국내유가 - 자동차용 경유(2026.08.04. 기준)

Sheet 엔지니어링손해배상공제요율
A1: ※ [엔지니어링공제조합] 엔지니어링 손해배상보험공제 의무가입제도 안내서
