Workbook
Name _Order1: 255
Name _Order2: 255

Sheet 설계설명서
A2: 설 계 설 명 서
B4: 1. 사 업 명 | D4: =+[1]표지설계서!A4 -> 2026년 2차 칡덩굴 제거사업 (고금약산지구)
B6: 2. 소 재 지 | D6: =+[1]표지설계서!C6 -> 완도군 고금면 가교리 산115-1 등 157필지
B8: 3. 면 적 | D8: =+[1]표지설계서!C8 -> 36.2 | E8: ha | F8: =[1]표지설계서!E8 -> (덩굴걷기: | I8: =[1]표지설계서!H8 -> 36.2
B10: 4. 작 업 기 간 | D10: 착수일부터 | E10: =+예정공정표!AG4&"일 까지" -> 29일 까지
B12: 5. 현 장 설 명
B13: ① 입 지 여 건 | D13: 사업지는 가교리에서 약산리 국도변 외 지방도 도로변에 분포하고 있고, 도로와 연접하여 접근성은 비교적 양호한 편이다.
B14: ② 지 황 | D14: 산지경사는 평균경사는 중이며 사방에 위치해 있다.
B15: ③ 기 타 | D15: 대부분 도로변 사면에 분포하고 있으며 작업 시 안전관리에 유의하도록 한다.
B17: 6. 설 계 목 적 | D17: 칡덩굴은 도로변 가로수를 감고 올라가 나무줄기의 절단 및 재질의 불량화를 초래함은 물론 심한 경우에는
D18: 수목의 상단부까지 덩굴로 덮고 햇빛을 가려 수목을 고사시키고, 이로 인해 생태계와 산림자원조성에 막대한 피해를 준다.
D19: 덩굴류제거사업을 통해 입목성장에 피해를 주는 덩굴을 능률적이고 효과적으로 제거하여 산림피해를 예방하고, 경관적으로
D20: 도로변 쾌적한 환경을 조성하고자 한다.
B22: 7. 임소반 구획 | D22: 임소반은 면별로 구획 및 작업종 기타 임지의 상황에 따라 소반을 구획한다.
B24: 8. 작 업 방 법 | D24: 덩굴걷기
D25: ○ 1차 덩굴걷기 작업 30일 경과후 실시하도록 한다.
D26: ○ 대상지 내 칡덩굴 및 덩굴류를 포함하여 잡목, 잡풀을 예초기로 제거하도록 한다.
D29: ○ 1차 약제살포 30일 경과 후 2차 약제살포 작업 실시하도록 한다.
D30: 덩굴걷기
D31: ○ 1차 덩굴걷기 작업 30일 경과후 실시하도록 한다.
D32: ○ 대상지 내 칡덩굴 및 덩굴류를 포함하여 잡목, 잡풀을 예초기로 제거하도록 한다.
B34: 9. 실시설계 표준지 선정 및 조사 | D34: ○ 표준지 조사비율은 사업면적의 0.5%로 한다.
D35: ○ 표준지 크기는 100㎡(반지름5.67m 원형)로 한다.
D36: (원형 표준지)표준지 중앙부에 임업용 황색 마킹테이프를 2겹으로 둘러서 표시한다.
D37: ○ 표준지는 대상지 내에 고르게 배치하였다.
B39: 10. 단가적용기준 | D39: ○ 사업비산출기준은 '덩굴류제거 설계-감리 및 사업시행지침'을 적용한다.
D40: ○ 노임단가는 대한건설협회에서 2026년 상반기에 공포한 시중 노임단가를 적용한다.
B42: 11. 설계적용기준 및 변경조건 | D42: ○ 설계단가는 사업면적, 작업량, 작업장 난이도에 따라 차등적용하였으므로 상기항목이 변동될 경우에는 설계변경을
D43: 실시한다.
D44: ○ 작업 단계별 요령과 사업비산출기준은 “지속가능한 산림자원관리 지침 (2020. 06. 15 훈령 제1454호)”과 "숲가꾸기 설계·감리 및
D45: 사업시행 기준 (2020. 12. 29)”을 적용하였음.
D47: 가. 수량의 계산법
D48: - 품셈에 의한 재적 및 인원의 계산은 소수점 3째자리에서 반올림, 둘째자리로 표시 하였음.
D49: - 면적의 계산은 전자면적계산(CAD)의 방법을 사용하였음.
D51: 나. 노임단가
D52: - 노임단가는 대한건설협회에서 2026년 상반기에 조사, 공표하는 시중 노임단가를 적용하였음.
D54: 다. 재료 및 자재단가
D55: - 재료 및 자재의 단가는 거래 실례가격 또는 통계법 제 24조의 규정에 의한 지정기관이 조사하여 공표한 감정가격,
D56: '유사한 거래실례가격, 견적가격을 기준으로 적용하였음.
D58: 라. 할인 및 할증의 적용
...

Sheet 예정공정표
A2: 예 정 공 정 표
A4: =[1]표지설계서!A4 -> 2026년 2차 칡덩굴 제거사업 (고금약산지구) | AF4: 기간 : | AG4: 29
A6: 기 간 사업종 | D6: 공사기간 | AG6: 비고
D7: 10 | N7: 20 | X7: 29
A8: 설계서검토
A11: 경계표시
A13: ='[1]공정별 소요인원'!D29 -> #DIV/0! | B13: × | C13: =SUM(D13:AF13) -> 3 | D13: 3
A14: 덩굴류제거(약제살포)
A16: =AG14/C16 -> 0 | B16: × | C16: =SUM(D16:AF16) -> 29 | D16: 10 | N16: 10 | X16: 9
A17: 덩굴류제거(덩굴걷기) | AG17: ='[1]공정별 소요인원'!H31-AG26 -> 128
A19: =AG17/C19 -> 5.12 | B19: × | C19: =SUM(D19:AF19) -> 25 | D19: 10 | N19: 10 | X19: 5
A20: 덩굴류제거(2차 약제살포) | AG20: ='[1]공정별 소요인원'!J31-AG26 -> #DIV/0!
A22: =AG20/C22 -> #DIV/0! | B22: × | C22: =SUM(D22:AF22) -> 20 | X22: 5 | AB22: 5 | AC22: 5 | AE22: 5
A23: 덩굴류제거(2차 덩굴걷기 | AG23: ='[1]공정별 소요인원'!L31 -> #DIV/0!
A25: =AG23/C25 -> #DIV/0! | B25: × | C25: =SUM(D25:AF25) -> 20 | X25: 5 | AB25: 5 | AC25: 5 | AE25: 5
A26: 작업장정리및보완 | AG26: 3
A28: =AG26/C28 -> 1 | B28: × | C28: =SUM(D28:AF28) -> 3 | X28: 3

Sheet 시방서
A1: 일 반 시 방 서
A3: 1. 적용범위
A4: 가. 숲가꾸기사업은 계약서, 설계도서, 입찰유의서, 계약일반조건, 계약 특수조건 등 계약 문서에 의하여 시행하여야 하며, 본 계약문서에
A5: 규정하지 않은 사항은 아래의 각 시방서의 규정에 따라 시공하고 이 시방서에 규정되지 아니한 사항에 대하여는 산림청 제정 '지속가능한
A6: 산림자원관리지침(2021. 8. 9 훈령 제1,502호) 에 의한다.
A7: 나. 본 시방서는 작업의 일반사항을 위한 것이며 기술적인 사항은 특별시방서와 전문시방서에 의한다.
A8: 다. 일반시방서의 내용과 특별시방서의 내용이 서로 상이할 경우에는 특별시방서를 우선으로 하며 도면과 시방서가 상이할 경우에는 도면을
A9: 우선으로 하되 도면이 오류나 누락 등으로 모순이 있을 경우에는 발주처장, 감독자와 시공자가 상호 협의하여 결정하여야 한다.
A10: 라. 일반 및 특별시방서에 명기된 내용 이외에 특별한 작업종 및 숲가꾸기사업의 품질향상을 위하여 필요한 사항은 발주처장과 협의하여 시행하
A11: 여야 한다.
A13: 2. 용어의 정의
A14: 가. 계 약 서 : 도급계약서와 계약조건, 설계내역서, 설계도서, 시방서 등 기타 이것을 보충하는 서류를 말한다.
... A379: 3)작업자는 귀가후 비눗물로 몸을 개끗이 씻은 후 충분히 휴식을 취한다.

Sheet 임반별계
A1: =[1]표지설계서!A4 -> 2026년 2차 칡덩굴 제거사업 (고금약산지구)
B2: =[1]표지설계서!A4 -> 2026년 2차 칡덩굴 제거사업 (고금약산지구)
A3: 임소반 | B3: 소반 | C3: 임 야 소 재 지 | F3: 지 적 (ha) | G3: 제외면적 (ha) | H3: 사업면적 (ha) | I3: 표 준 지 | K3: 사 업 종 | L3: 비 고
C4: 읍,면 | D4: 리 | E4: 지번수 | I4: 면적(ha) | J4: 개소
A5: 1-0-1 | B5: 1-0-1 | C5: 고금,약산 | D5: 가교,봉명,우두,장용 | E5: =[1]필지별조서!E137 -> 23 | G5: =[1]필지별조서!#REF! -> #REF! | H5: =[1]필지별조서!F137 -> 10.7 | I5: =0.01*J5 -> 0.06 | J5: =ROUNDUP(H5*0.5%/0.01,0) -> 6 | K5: 덩굴걷기
A6: 1-0-2 | B6: 1-0-2 | C6: =[1]필지별조서!C138 -> 약산 | D6: 득암 | E6: =[1]필지별조서!E233 -> 77 | H6: =[1]필지별조서!F233 -> 15.6 | I6: =0.01*J6 -> 0.08 | J6: =ROUNDUP(H6*0.5%/0.01,0) -> 8 | K6: 덩굴걷기
A7: 1-0-3 | B7: 1-0-3 | C7: =[1]필지별조서!C234 -> 신지 | D7: 송곡,신 | E7: =[1]필지별조서!E325 -> 58 | H7: =[1]필지별조서!F325 -> 9.9 | I7: =0.01*J7 -> 0.05 | J7: =ROUNDUP(H7*0.5%/0.01,0) -> 5 | K7: 덩굴걷기
A8: 소 계 | E8: =SUM(E5:E7) -> 158 | G8: =SUM(G5:G6) -> #REF! | H8: =SUM(H5:H7) -> 36.2 | I8: =SUM(I5:I7) -> 0.19 | J8: =SUM(J5:J7) -> 19
A9: 총 계 | E9: =E8 -> 158 | G9: =G8 -> #REF! | H9: =H8 -> 36.2 | I9: =I8 -> 0.19 | J9: =J8 -> 19

Sheet 총괄내역서
A1: 총괄 설계내역서
A2: 구분 | C2: 면적(ha) | D2: 계 | F2: 노무비 | H2: 재 료 비 | J2: 경비 | L2: 비고
D3: ha당 | E3: 금 액 | F3: ha당 | G3: 금 액 | H3: ha당 | I3: 금 액 | J3: ha당 | K3: 금 액
A4: 덩굴제거 | C4: ='[1]내역서(약제살포)'!C16 -> 0 | E4: ='[1]내역서(약제살포)'!E15 -> 0 | G4: ='[1]내역서(약제살포)'!G16 -> 0 | I4: ='[1]내역서(약제살포)'!I16 -> 0 | K4: ='[1]내역서(약제살포)'!K16 -> 0 | L4: 약제살포 | N4: =E4-G4-I4-K4 -> 0
A5: 덩굴제거 | C5: ='내역서(덩굴걷기)'!B15 -> 36.2 | E5: ='내역서(덩굴걷기)'!D15 -> 0 | L5: 덩굴걷기 | N5: =E5-G5-I5-K5 -> 0
A10: 합계 | C10: =SUM(C4:C9) -> 36.2 | E10: =SUM(E4:E9) -> 0
G15: ='[1]공정별 소요인원'!M19 -> 29712453

Sheet 내역서(덩굴걷기)
A1: 덩굴제거 (덩굴걷기) 설계내역서
A2: 임소반 | B2: 사업면적 (ha) | C2: 계 | E2: 노 무 비 | G2: 재 료 비 | I2: 경 비 | K2: 비고
C3: ha당 | D3: 금 액 | E3: ha당 | F3: 금 액 | G3: ha당 | H3: 금 액 | I3: ha당 | J3: 금 액
A4: =[1]임반별계!A5 -> 1-0-1 | B4: =[1]임반별계!H5 -> 10.7 | C4: =E5+G5+I5 -> 864997 | E4: ='[1]단가산출서(덩굴걷기)'!M50 -> 820786 | G4: ='[1]단가산출서(덩굴걷기)'!M51 -> 33123 | I4: ='[1]단가산출서(덩굴걷기)'!M52 -> 11088
A5: =[1]임반별계!A6 -> 1-0-2 | B5: =[1]임반별계!H6 -> 15.6 | C5: =E6+G6+I6 -> 864997 | E5: ='[1]단가산출서(덩굴걷기)'!M50 -> 820786 | G5: ='[1]단가산출서(덩굴걷기)'!M51 -> 33123 | I5: ='[1]단가산출서(덩굴걷기)'!M52 -> 11088
A6: =[1]임반별계!A7 -> 1-0-3 | B6: =[1]임반별계!H7 -> 9.9 | C6: =E6+G6+I6 -> 864997 | E6: ='[1]단가산출서(덩굴걷기)'!M77 -> 820786 | G6: ='[1]단가산출서(덩굴걷기)'!M78 -> 33123 | I6: ='[1]단가산출서(덩굴걷기)'!M79 -> 11088
A14: 임반계 | B14: =SUM(B4:B13) -> 36.2 | D14: =SUM(D4:D13) -> 0 | F14: =SUM(F4:F13) -> 0 | H14: =SUM(H4:H13) -> 0 | J14: =SUM(J4:J13) -> 0
A15: 총 계 | B15: =B14 -> 36.2 | D15: =D14 -> 0 | F15: =F14 -> 0 | H15: =H14 -> 0 | J15: =J14 -> 0 | M15: =D15-F15-H15-J15 -> 0

Sheet 소반별시방서
A1: 소반별 시방서
C3: 소재지 | D3: =[1]필지별조서!C5 -> 고금 | E3: =[1]필지별조서!D5 -> 가교 | F3: =[1]필지별조서!E5&" 등23필지" -> 산115-1 등23필지 | G3: 임소반 | H3: =[1]필지별조서!B5 -> 1-0 | I3: =[1]필지별조서!E137 -> 23
A5: 1. 산림의 기능 및 경영목표
B6: 가. 산림의기능: 주기능 - 생활환경보전림(경관형)
B7: 나. 경 영 목 표: 도로변 가로수 생육환경 개선 및 도로변 경관 유지, 시각적 효과 증진을 목표로 함
B8: 다. 사 업 종: 칡덩굴제거이며, 단위작업으로는 약제살포임
A10: 2. 지황
B11: 가. 지형
B12: ○ | C12: =" "&H3&"소반은 "&D3&"면 "&E3&"리~장용리 국도 및 지방도 도로변에 분포함" -> 1-0소반은 고금면 가교리~장용리 국도 및 지방도 도로변에 분포함
B13: ○ | C13: 산지경사는 "완"경사이고, 덩굴류 분포형태는 도로변 구간구간 집중되어 분포하고 있음
B15: 나. 면적
B16: ○ | C16: =" 사업대상지는 "&D3&"면 "&E3&"리 "&F3&"임" -> 사업대상지는 고금면 가교리 산115-1 등23필지임
B17: ○ | C17: =" 소반내에 덩굴류제거 사업면적은 "&D26&"ha 임" -> 소반내에 덩굴류제거 사업면적은 10.7ha 임
B19: 다. 접근성: 사업지 주변으로 도로, 작업로가 있어 작업장까지 접근하기 쉬움
A21: 3. 작업방법
B22: 가. 임황
C24: 작업방법 | D24: 면적(ha) | E24: 경사도 | F24: 집단화정도 | G24: 작업시기 | H24: 덩굴피복도
C26: 약제살포 | D26: =임반별계!H5 -> 10.7 | E26: ='[1]단가산출서(약제살포)'!D22 -> 완 (15° 이하) | F26: =#REF! -> #REF! | G26: =#REF! -> #REF! | H26: =#REF! -> #REF!
B28: 나. 소요인력 및 소요량
C30: 구분 | F30: 단위 | G30: 소요인력/회차별소요량 | H30: 인력구분/전체소요량
C31: 덩굴걷기 | D31: 특별인부 | E31: 동력예취기 | F31: 인/ha | G31: 3.3 | H31: 특별인부
C32: 덩굴제거 | D32: 덩굴걷기 | E32: 예취기 | G32: 1 | H32: 특별인부
D33: 보조인부 | H33: 보통인부
C34: 덩굴제거 | D34: 덩굴걷기 | E34: =#REF! -> #REF! | F34: 인/ha | G34: =D26*E34 -> #REF! | H34: =G34 -> #REF!
B37: ○ | C37: 본 품은 모든 덩굴류에 적용한다.
B38: ○ | C38: 2차 덩굴걷기 품은 예취기로 지상부 덩굴 및 덩굴류를 포함한 잡목, 잡초등을 제거하는 품이다.
B39: ○ | C39: 약제살포 품은 덩굴 피복도를 보통(40~60% 피복, 1,100본/ha)으로 산정한 품이다. 대상지조건에 따라
C40: 덩굴피복도에 따른 할인·할증률로 소요인력을 가·감한다.
B43: 다. 작업방법
B44: 1) 덩굴걷기
B45: ○ | C45: 배부식분무기를 이용하여 덩굴의 잎이나 줄기에 전면 살포
B46: ○ | C46: 1차 약제살포 30일 경과 후 2차 약제살포 작업 실시하도록 한다.
B47: ○ | C47: 주변 생육임목에 직접 닫지 않도록 배부식 분무기로 살포함을 원칙으로 하며 고압살포 작업시 책임소지는
C48: 업체에 있음.
B49: ○ | C49: 논이나 밭 주변 약제살포시 논,밭 경계에서 약 1m정도 간격을 두고 살포한다.
B50: 1) 1차 덩굴걷기
B51: ○ | C51: 덩굴류를 포함한, 잡목, 잡초등을 예취기를 이용하여 제거한다.
B52: ○ | C52: 약제살포 전 지상부의 덩굴 및 덩굴류를 포함한. 잡목, 잡초등을 예취기로 제거하도록 한다.
B53: ○ | C53: 다만 자연 발생된 우량 천연치수에 대해서는 보호존치토록 한다.
B54: 2) 현장대리인 업무
...
