Workbook

Sheet 원가(건축+기계)
B1: 공 사 원 가 계 산 서
B2: 공사명 : 안용중학교 합숙소 개보수공사
B3: 비 목 | E3: 건 축 | F3: 기 계 | G3: 합 계 | H3: 구 성 비 | I3: 비 고
A4: A1 | B4: 순 공 사 원 가 | C4: 재 료 비 | D4: 직 접 재 료 비 | E4: =TRUNC(공종별집계표!F5, 0) -> 0 | G4: =SUM(E4:F4) -> 0
A5: A2 | D5: 간 접 재 료 비 | E5: 0 | G5: 0
A6: A3 | E6: 0 | G6: 0
A7: AS | D7: [ 소 계 ] | E7: =TRUNC(E4+E5-E6, 0) -> 0 | G7: =SUM(E7:F7) -> 0
A8: B1 | C8: 노 무 비 | D8: 직 접 노 무 비 | E8: =TRUNC(공종별집계표!H5, 0) -> 0 | G8: =SUM(E8:F8) -> 0
A9: B2 | D9: 간 접 노 무 비 | E9: =TRUNC(E8*0.175, 0) -> 0 | G9: =SUM(E9:F9) -> 0 | H9: 직접노무비 * 17.5%
A10: BS | D10: [ 소 계 ] | E10: =TRUNC(E8+E9, 0) -> 0 | G10: =SUM(E10:F10) -> 0
A11: C2 | C11: 경 비 | D11: 경 비 | E11: =TRUNC(공종별집계표!J5, 0) -> 0 | G11: =SUM(E11:F11) -> 0
A12: C4 | D12: 산 재 보 험 료 | E12: =TRUNC(E10*0.0356, 0) -> 0 | G12: =SUM(E12:F12) -> 0 | H12: 노무비 * 3.56%
A13: C5 | D13: 고 용 보 험 료 | E13: =TRUNC(E10*0.0101, 0) -> 0 | G13: =SUM(E13:F13) -> 0 | H13: 노무비 * 1.01%
A14: C6 | D14: 국민 건강 보험료 | E14: =TRUNC(E8*0.03595, 0) -> 0 | G14: =SUM(E14:F14) -> 0 | H14: 직접노무비 * 3.595%
A15: C7 | D15: 국민 연금 보험료 | E15: =TRUNC(E8*0.0475, 0) -> 0 | G15: =SUM(E15:F15) -> 0 | H15: 직접노무비 * 4.75%
A16: CA | D16: 산업안전보건관리비 | E16: =TRUNC((E7+E8+(E34/1.1/1.0054))*0.0311, 0) -> 0 | G16: =SUM(E16:F16) -> 0 | H16: (재료비+직노+관급자재비) * 3.11%
A17: CB | D17: 노인장기요양보험료 | E17: =TRUNC(E14*0.1314, 0) -> 0 | G17: =SUM(E17:F17) -> 0 | H17: 건강보험료 * 13.14%
A18: CC | D18: 품 질 관 리 비 | E18: =TRUNC(공종별집계표!T28, 0) -> 0 | G18: =SUM(E18:F18) -> 0
A19: CD | D19: 폐 기 물 처 리 비 | E19: =TRUNC(공종별집계표!T22, 0) -> 0 | G19: =SUM(E19:F19) -> 0
A20: CG | D20: 기 타 경 비 | E20: =TRUNC((E7+E10)*0.05, 0) -> 0 | G20: =SUM(E20:F20) -> 0 | H20: (재료비+노무비) * 5%
A21: CH | D21: 환 경 보 전 비 | E21: =TRUNC((E7+E8+E11+E18+E19)*0.003, 0) -> 0 | G21: =SUM(E21:F21) -> 0 | H21: (재료비+직노+경비) * 0.3%
A22: CK | D22: 하도급지급보증수수료 | E22: =TRUNC((E7+E8+E11+E19)*0.00081, 0) -> 0 | G22: =SUM(E22:F22) -> 0 | H22: (재료비+직노+경비) * 0.081% | I22: 최저가대상공사
A23: CL | D23: 건설기계대여금지급보증서발급수수료 | E23: =TRUNC((E7+E8+E11+E19)*0.001, 0) -> 0 | G23: =SUM(E23:F23) -> 0 | H23: (재료비+직노+경비) * 0.1%
A24: CM | D24: 석 면 분 담 금 | E24: =TRUNC(E10*0.00006, 0) -> 0 | G24: =SUM(E24:F24) -> 0 | H24: 노무비 * 0.006%
A25: CN | D25: 임 금 채 권 부 담 금 | E25: =TRUNC(E10*0.0009, 0) -> 0 | G25: =SUM(E25:F25) -> 0 | H25: 노무비 * 0.09%
A26: CS | D26: [ 소 계 ] | E26: =TRUNC(E11+E12+E13+E14+E15+E16+E17+E18+E19+E20+E21+E22+E23+E24+E25, 0) -> 0 | G26: =SUM(E26:F26) -> 0
A27: S1 | B27: 계 | E27: =TRUNC(E7+E10+E26, 0) -> 0 | G27: =SUM(E27:F27) -> 0
A28: D1 | B28: 일 반 관 리 비 | E28: =TRUNC(E27*0.08, 0) -> 0 | G28: =SUM(E28:F28) -> 0 | H28: 계 * 8%
A29: D2 | B29: 이 윤 | G29: =SUM(E29:F29) -> 0 | H29: (노무비+경비+일반관리비) * 15%
A30: D7 | B30: 폐기물처리비상차비 | G30: =SUM(E30:F30) -> 0
A31: D9 | B31: 공 급 가 액 | G31: =SUM(E31:F31) -> 0
A32: DB | B32: 부 가 가 치 세 | G32: =SUM(E32:F32) -> 0 | H32: 공급가액 * 10%
A33: DH | B33: 도 급 액 | G33: =SUM(E33:F33) -> 0
A34: DK | B34: 도 급 자 관 급 | G34: =SUM(E34:F34) -> 0
A35: DL | B35: 관 급 자 관 급 | G35: =SUM(E35:F35) -> 0
A36: S2 | B36: 총 공 사 비 | F36: =TRUNC(F33+0+F34+F35, 0) -> 0 | G36: =SUM(E36:F36) -> 0

Sheet 원가(건축)
B1: 공 사 원 가 계 산 서
B2: 공사명 : 안용중학교 합숙소 개보수공사(건축)
B3: 비 목 | E3: 금 액 | F3: 구 성 비 | G3: 비 고
A4: A1 | B4: 순 공 사 원 가 | C4: 재 료 비 | D4: 직 접 재 료 비 | E4: =TRUNC(공종별집계표!F5, 0) -> 0
A5: A2 | D5: 간 접 재 료 비 | E5: 0
A6: A3 | E6: 0
A7: AS | D7: [ 소 계 ] | E7: =TRUNC(E4+E5-E6, 0) -> 0
A8: B1 | C8: 노 무 비 | D8: 직 접 노 무 비 | E8: =TRUNC(공종별집계표!H5, 0) -> 0
A9: B2 | D9: 간 접 노 무 비 | E9: =TRUNC(E8*0.175, 0) -> 0 | F9: 직접노무비 * 17.5%
A10: BS | D10: [ 소 계 ] | E10: =TRUNC(E8+E9, 0) -> 0
A11: C2 | C11: 경 비 | D11: 경 비 | E11: =TRUNC(공종별집계표!J5, 0) -> 0
A12: C4 | D12: 산 재 보 험 료 | E12: =TRUNC(E10*0.0356, 0) -> 0 | F12: 노무비 * 3.56%
A13: C5 | D13: 고 용 보 험 료 | E13: =TRUNC(E10*0.0101, 0) -> 0 | F13: 노무비 * 1.01%
A14: C6 | D14: 국민 건강 보험료 | E14: =TRUNC(E8*0.03595, 0) -> 0 | F14: 직접노무비 * 3.595%
A15: C7 | D15: 국민 연금 보험료 | E15: =TRUNC(E8*0.0475, 0) -> 0 | F15: 직접노무비 * 4.75%
A16: CA | D16: 산업안전보건관리비 | E16: =TRUNC((E7+E8+(E34/1.1/1.0054))*0.0311, 0) -> 0 | F16: (재료비+직노+관급자재비) * 3.11%
A17: CB | D17: 노인장기요양보험료 | E17: =TRUNC(E14*0.1314, 0) -> 0 | F17: 건강보험료 * 13.14%
A18: CC | D18: 품 질 관 리 비 | E18: =TRUNC(공종별집계표!T28, 0) -> 0
A19: CD | D19: 폐 기 물 처 리 비 | E19: =TRUNC(공종별집계표!T22, 0) -> 0
A20: CG | D20: 기 타 경 비 | E20: =TRUNC((E7+E10)*0.05, 0) -> 0 | F20: (재료비+노무비) * 5%
A21: CH | D21: 환 경 보 전 비 | E21: =TRUNC((E7+E8+E11+E18+E19)*0.003, 0) -> 0 | F21: (재료비+직노+경비) * 0.3%
A22: CK | D22: 하도급지급보증수수료 | E22: =TRUNC((E7+E8+E11+E19)*0.00081, 0) -> 0 | F22: (재료비+직노+경비) * 0.081% | G22: 최저가대상공사
A23: CL | D23: 건설기계대여금지급보증서발급수수료 | E23: =TRUNC((E7+E8+E11+E19)*0.001, 0) -> 0 | F23: (재료비+직노+경비) * 0.1%
A24: CM | D24: 석 면 분 담 금 | E24: =TRUNC(E10*0.00006, 0) -> 0 | F24: 노무비 * 0.006%
A25: CN | D25: 임 금 채 권 부 담 금 | E25: =TRUNC(E10*0.0009, 0) -> 0 | F25: 노무비 * 0.09%
A26: CS | D26: [ 소 계 ] | E26: =TRUNC(E11+E12+E13+E14+E15+E16+E17+E18+E19+E20+E21+E22+E23+E24+E25, 0) -> 0
A27: S1 | B27: 계 | E27: =TRUNC(E7+E10+E26, 0) -> 0
A28: D1 | B28: 일 반 관 리 비 | E28: =TRUNC(E27*0.08, 0) -> 0 | F28: 계 * 8%
A29: D2 | B29: 이 윤 | F29: (노무비+경비+일반관리비) * 15%
A30: D7 | B30: 폐기물처리비상차비
A31: D9 | B31: 공 급 가 액
A32: DB | B32: 부 가 가 치 세 | F32: 공급가액 * 10%
A33: DH | B33: 도 급 액
A34: DK | B34: 도 급 자 관 급
A35: DL | B35: 관 급 자 관 급
A36: S2 | B36: 총 공 사 비

Sheet 공종별집계표
A1: 공 종 별 집 계 표
A2: 공사명 : 안용중학교 합숙소 개보수공사
A3: 품 명 | B3: 규 격 | C3: 단위 | D3: 수량 | E3: 재 료 비 | G3: 노 무 비 | I3: 경 비 | K3: 합 계 | M3: 비 고 | N3: 공종코드 | O3: 변수 | P3: 상위공종 | Q3: 공종구분 | R3: 공종레벨 | S3: 공종소계 | T3: 원가계산서 연결금액
E4: 단 가 | F4: 금 액 | G4: 단 가 | H4: 금 액 | I4: 단 가 | J4: 금 액 | K4: 단 가 | L4: 금 액
A5: 안용중학교 합숙소 개보수공사 | D5: 1 | E5: =F6 -> 0 | F5: =E5*D5 -> 0 | G5: =H6 -> 0 | H5: =G5*D5 -> 0 | I5: =J6 -> 0 | J5: =I5*D5 -> 0 | K5: =E5+G5+I5 -> 0 | L5: =F5+H5+J5 -> 0 | N5: 01 | R5: 1
A6: 건 축 공 사 | D6: 1 | E6: =F7+F8+F9+F10+F11+F12+F13+F14+F15+F16+F17+F18+F19+F20+F21 -> 0 | F6: =E6*D6 -> 0 | G6: =H7+H8+H9+H10+H11+H12+H13+H14+H15+H16+H17+H18+H19+H20+H21 -> 0 | H6: =G6*D6 -> 0 | I6: =J7+J8+J9+J10+J11+J12+J13+J14+J15+J16+J17+J18+J19+J20+J21 -> 0 | J6: =I6*D6 -> 0 | K6: =E6+G6+I6 -> 0 | L6: =F6+H6+J6 -> 0 | N6: 0101 | P6: 01 | R6: 2
A7: 가 설 공 사 | D7: 1 | E7: =공종별내역서!F27 -> 0 | F7: =E7*D7 -> 0 | G7: =공종별내역서!H27 -> 0 | H7: =G7*D7 -> 0 | I7: =공종별내역서!J27 -> 0 | J7: =I7*D7 -> 0 | K7: =E7+G7+I7 -> 0 | L7: =F7+H7+J7 -> 0 | N7: 010101 | P7: 0101 | R7: 3
A8: 철근콘크리트공사 | D8: 1 | E8: =공종별내역서!F51 -> 0 | F8: =E8*D8 -> 0 | G8: =공종별내역서!H51 -> 0 | H8: =G8*D8 -> 0 | I8: =공종별내역서!J51 -> 0 | J8: =I8*D8 -> 0 | K8: =E8+G8+I8 -> 0 | L8: =F8+H8+J8 -> 0 | N8: 010102 | P8: 0101 | R8: 3
A9: 철 골 공 사 | D9: 1 | E9: =공종별내역서!F75 -> 0 | F9: =E9*D9 -> 0 | G9: =공종별내역서!H75 -> 0 | H9: =G9*D9 -> 0 | I9: =공종별내역서!J75 -> 0 | J9: =I9*D9 -> 0 | K9: =E9+G9+I9 -> 0 | L9: =F9+H9+J9 -> 0 | N9: 010103 | P9: 0101 | R9: 3
A10: 조 적 공 사 | D10: 1 | E10: =공종별내역서!F99 -> 0 | F10: =E10*D10 -> 0 | G10: =공종별내역서!H99 -> 0 | H10: =G10*D10 -> 0 | I10: =공종별내역서!J99 -> 0 | J10: =I10*D10 -> 0 | K10: =E10+G10+I10 -> 0 | L10: =F10+H10+J10 -> 0 | N10: 010104 | P10: 0101 | R10: 3
A11: 돌 공 사 | D11: 1 | E11: =공종별내역서!F123 -> 0 | F11: =E11*D11 -> 0 | G11: =공종별내역서!H123 -> 0 | H11: =G11*D11 -> 0 | I11: =공종별내역서!J123 -> 0 | J11: =I11*D11 -> 0 | K11: =E11+G11+I11 -> 0 | L11: =F11+H11+J11 -> 0 | N11: 010105 | P11: 0101 | R11: 3
A12: 타 일 공 사 | D12: 1 | E12: =공종별내역서!F147 -> 0 | F12: =E12*D12 -> 0 | G12: =공종별내역서!H147 -> 0 | H12: =G12*D12 -> 0 | I12: =공종별내역서!J147 -> 0 | J12: =I12*D12 -> 0 | K12: =E12+G12+I12 -> 0 | L12: =F12+H12+J12 -> 0 | N12: 010106 | P12: 0101 | R12: 3
A13: 방 수 공 사 | D13: 1 | E13: =공종별내역서!F171 -> 0 | F13: =E13*D13 -> 0 | G13: =공종별내역서!H171 -> 0 | H13: =G13*D13 -> 0 | I13: =공종별내역서!J171 -> 0 | J13: =I13*D13 -> 0 | K13: =E13+G13+I13 -> 0 | L13: =F13+H13+J13 -> 0 | N13: 010107 | P13: 0101 | R13: 3
A14: 금 속 공 사 | D14: 1 | E14: =공종별내역서!F195 -> 0 | F14: =E14*D14 -> 0 | G14: =공종별내역서!H195 -> 0 | H14: =G14*D14 -> 0 | I14: =공종별내역서!J195 -> 0 | J14: =I14*D14 -> 0 | K14: =E14+G14+I14 -> 0 | L14: =F14+H14+J14 -> 0 | N14: 010108 | P14: 0101 | R14: 3
A15: 미 장 공 사 | D15: 1 | E15: =공종별내역서!F219 -> 0 | F15: =E15*D15 -> 0 | G15: =공종별내역서!H219 -> 0 | H15: =G15*D15 -> 0 | I15: =공종별내역서!J219 -> 0 | J15: =I15*D15 -> 0 | K15: =E15+G15+I15 -> 0 | L15: =F15+H15+J15 -> 0 | N15: 010109 | P15: 0101 | R15: 3
A16: 창 호 공 사 | D16: 1 | E16: =공종별내역서!F243 -> 0 | F16: =E16*D16 -> 0 | G16: =공종별내역서!H243 -> 0 | H16: =G16*D16 -> 0 | I16: =공종별내역서!J243 -> 0 | J16: =I16*D16 -> 0 | K16: =E16+G16+I16 -> 0 | L16: =F16+H16+J16 -> 0 | N16: 010110 | P16: 0101 | R16: 3
A17: 유 리 공 사 | D17: 1 | E17: =공종별내역서!F267 -> 0 | F17: =E17*D17 -> 0 | G17: =공종별내역서!H267 -> 0 | H17: =G17*D17 -> 0 | I17: =공종별내역서!J267 -> 0 | J17: =I17*D17 -> 0 | K17: =E17+G17+I17 -> 0 | L17: =F17+H17+J17 -> 0 | N17: 010111 | P17: 0101 | R17: 3
A18: 칠 공 사 | D18: 1 | E18: =공종별내역서!F291 -> 0 | F18: =E18*D18 -> 0 | G18: =공종별내역서!H291 -> 0 | H18: =G18*D18 -> 0 | I18: =공종별내역서!J291 -> 0 | J18: =I18*D18 -> 0 | K18: =E18+G18+I18 -> 0 | L18: =F18+H18+J18 -> 0 | N18: 010112 | P18: 0101 | R18: 3
A19: 수 장 공 사 | D19: 1 | E19: =공종별내역서!F315 -> 0 | F19: =E19*D19 -> 0 | G19: =공종별내역서!H315 -> 0 | H19: =G19*D19 -> 0 | I19: =공종별내역서!J315 -> 0 | J19: =I19*D19 -> 0 | K19: =E19+G19+I19 -> 0 | L19: =F19+H19+J19 -> 0 | N19: 010113 | P19: 0101 | R19: 3
A20: 철 거 공 사 | D20: 1 | E20: =공종별내역서!F339 -> 0 | F20: =E20*D20 -> 0 | G20: =공종별내역서!H339 -> 0 | H20: =G20*D20 -> 0 | I20: =공종별내역서!J339 -> 0 | J20: =I20*D20 -> 0 | K20: =E20+G20+I20 -> 0 | L20: =F20+H20+J20 -> 0 | N20: 010114 | P20: 0101 | R20: 3
A21: 골 재 비 | D21: 1 | E21: =공종별내역서!F363 -> 0 | F21: =E21*D21 -> 0 | G21: =공종별내역서!H363 -> 0 | H21: =G21*D21 -> 0 | I21: =공종별내역서!J363 -> 0 | J21: =I21*D21 -> 0 | K21: =E21+G21+I21 -> 0 | L21: =F21+H21+J21 -> 0 | N21: 010115 | P21: 0101 | R21: 3
A22: 폐기물 처리비 | D22: 1 | E22: =공종별내역서!F387 -> 0 | F22: =E22*D22 -> 0 | G22: =공종별내역서!H387 -> 0 | H22: =G22*D22 -> 0 | I22: =공종별내역서!J387 -> 0 | J22: =I22*D22 -> 0 | K22: =E22+G22+I22 -> 0 | L22: =F22+H22+J22 -> 0 | N22: 0102 | Q22: 6 | R22: 2 | T22: =L22*1 -> 0
A23: 폐기물처리비상차비 | D23: 1 | E23: =공종별내역서!F411 -> 0 | F23: =E23*D23 -> 0 | G23: =공종별내역서!H411 -> 0 | H23: =G23*D23 -> 0 | I23: =공종별내역서!J411 -> 0 | J23: =I23*D23 -> 0 | K23: =E23+G23+I23 -> 0 | L23: =F23+H23+J23 -> 0 | N23: 0103 | Q23: 7 | R23: 2 | T23: =L23*1 -> 0
A24: 도 급 자 관 급 | D24: 1 | E24: =F25 -> 0 | F24: =E24*D24 -> 0 | G24: =H25 -> 0 | H24: =G24*D24 -> 0 | I24: =J25 -> 0 | J24: =I24*D24 -> 0 | K24: =E24+G24+I24 -> 0 | L24: =F24+H24+J24 -> 0 | N24: 0104 | Q24: 8 | R24: 2 | T24: =L24*1 -> 0
A25: 합성목제 데 크 | D25: 1 | E25: =공종별내역서!F435 -> 0 | F25: =E25*D25 -> 0 | G25: =공종별내역서!H435 -> 0 | H25: =G25*D25 -> 0 | I25: =공종별내역서!J435 -> 0 | J25: =I25*D25 -> 0 | K25: =E25+G25+I25 -> 0 | L25: =F25+H25+J25 -> 0 | N25: 010401 | P25: 0104 | R25: 3
A26: 관 급 자 관 급 | D26: 1 | E26: =F27 -> 0 | F26: =E26*D26 -> 0 | G26: =H27 -> 0 | H26: =G26*D26 -> 0 | I26: =J27 -> 0 | J26: =I26*D26 -> 0 | K26: =E26+G26+I26 -> 0 | L26: =F26+H26+J26 -> 0 | N26: 0105 | Q26: 9 | R26: 2 | T26: =L26*1 -> 0
A27: 금 속 제 창 | D27: 1 | E27: =공종별내역서!F459 -> 0 | F27: =E27*D27 -> 0 | G27: =공종별내역서!H459 -> 0 | H27: =G27*D27 -> 0 | I27: =공종별내역서!J459 -> 0 | J27: =I27*D27 -> 0 | K27: =E27+G27+I27 -> 0 | L27: =F27+H27+J27 -> 0 | N27: 010501 | P27: 0105 | R27: 3
A28: 품 질 관 리 비 | D28: 1 | E28: =공종별내역서!F555 -> 0 | F28: =E28*D28 -> 0 | G28: =공종별내역서!H555 -> 0 | H28: =G28*D28 -> 0 | I28: =공종별내역서!J555 -> 0 | J28: =I28*D28 -> 0 | K28: =E28+G28+I28 -> 0 | L28: =F28+H28+J28 -> 0 | N28: 0106 | Q28: 5 | R28: 2 | T28: =L28*1 -> 0
A50: [ 합 계 ] | F50: =F5 -> 0 | H50: =H5 -> 0 | J50: =J5 -> 0 | L50: =L5 -> 0

Sheet 공종별내역서
A1: 공사명 : 안용중학교 합숙소 개보수공사
A2: 품 명 | B2: 규 격 | C2: 단위 | D2: 수량 | E2: 재 료 비 | G2: 노 무 비 | I2: 경 비 | K2: 합 계 | M2: 비 고 | N2: 품목코드 | O2: 변수 | P2: 설정 | Q2: 공종코드 | R2: 일위 | S2: 단산 | T2: 자재 | U2: 손료적용 | V2: 손료저장 | W2: 적용율 | X2: JUK1 | Y2: JUK2 | Z2: JUK3 | AA2: JUK4 | AB2: JUK5 | AC2: JUK6 | AD2: JUK7 | AE2: JUK8 | AF2: JUK9 | AG2: JUK10 | AH2: JUK11 | AI2: JUK12 | AJ2: JUK13 | AK2: JUK14 | AL2: JUK15 | AM2: JUK16 | AN2: JUK17 | AO2: JUK18 | AP2: JUK19 | AQ2: JUK20 | AR2: 자재구분 | AS2: 공종구분 | AT2: 공종레벨 | AU2: 공종+자재 | AV2: 고유번호
E3: 단 가 | F3: 금 액 | G3: 단 가 | H3: 금 액 | I3: 단 가 | J3: 금 액 | K3: 단 가 | L3: 금 액
A4: 가 설 공 사 | Q4: 010101
A5: 강관 조립말비계(이동식)설치 및 해체 | B5: 높이 2m, 3개월 | C5: 대 | D5: 1 | E5: =TRUNC(일위대가목록!E4,0) -> 0 | F5: =TRUNC(E5*D5, 0) -> 0 | G5: =TRUNC(일위대가목록!F4,0) -> 0 | H5: =TRUNC(G5*D5, 0) -> 0 | I5: =TRUNC(일위대가목록!G4,0) -> 0 | J5: =TRUNC(I5*D5, 0) -> 0 | K5: =TRUNC(E5+G5+I5, 0) -> 0 | L5: =TRUNC(F5+H5+J5, 0) -> 0 | M5: 호표 1 | N5: 5C5FC34C3338E0BBE9062AA6600E20 | Q5: 010101 | R5: T | S5: F | T5: F | AU5: 0101015C5FC34C3338E0BBE9062AA6600E20 | AV5: 4
A6: 강관 조립말비계(이동식)설치 및 해체 | B6: 높이 4m, 3개월 | C6: 대 | D6: 1 | E6: =TRUNC(일위대가목록!E5,0) -> 0 | F6: =TRUNC(E6*D6, 0) -> 0 | G6: =TRUNC(일위대가목록!F5,0) -> 0 | H6: =TRUNC(G6*D6, 0) -> 0 | I6: =TRUNC(일위대가목록!G5,0) -> 0 | J6: =TRUNC(I6*D6, 0) -> 0 | K6: =TRUNC(E6+G6+I6, 0) -> 0 | L6: =TRUNC(F6+H6+J6, 0) -> 0 | M6: 호표 2 | N6: 5C5FC34C3338E0BBE9062A95F01C69 | Q6: 010101 | R6: T | S6: F | T6: F | AU6: 0101015C5FC34C3338E0BBE9062A95F01C69 | AV6: 5
A7: 건축물보양 | B7: 보양지 붙이기 | C7: M2 | D7: 157 | E7: =TRUNC(일위대가목록!E6,0) -> 0 | F7: =TRUNC(E7*D7, 0) -> 0 | G7: =TRUNC(일위대가목록!F6,0) -> 0 | H7: =TRUNC(G7*D7, 0) -> 0 | I7: =TRUNC(일위대가목록!G6,0) -> 0 | J7: =TRUNC(I7*D7, 0) -> 0 | K7: =TRUNC(E7+G7+I7, 0) -> 0 | L7: =TRUNC(F7+H7+J7, 0) -> 0 | M7: 호표 3 | N7: 5C5FC34937E814A89FF636B9000787 | Q7: 010101 | R7: T | S7: F | T7: F | AU7: 0101015C5FC34937E814A89FF636B9000787 | AV7: 8
A8: 건축물 현장정리 | B8: 마무리용 | C8: M2 | D8: 179 | E8: =TRUNC(일위대가목록!E7,0) -> 0 | F8: =TRUNC(E8*D8, 0) -> 0 | G8: =TRUNC(일위대가목록!F7,0) -> 0 | H8: =TRUNC(G8*D8, 0) -> 0 | I8: =TRUNC(일위대가목록!G7,0) -> 0 | J8: =TRUNC(I8*D8, 0) -> 0 | K8: =TRUNC(E8+G8+I8, 0) -> 0 | L8: =TRUNC(F8+H8+J8, 0) -> 0 | M8: 호표 4 | N8: 5C5FC34937D80B8AFE96EAC180DC5B | Q8: 010101 | R8: T | S8: F | T8: F | AU8: 0101015C5FC34937D80B8AFE96EAC180DC5B | AV8: 387
Q9: 010101
Q10: 010101
Q11: 010101
Q12: 010101
Q13: 010101
Q14: 010101
Q15: 010101
Q16: 010101
Q17: 010101
Q18: 010101
Q19: 010101
Q20: 010101
... Q26: 010101
A27: [ 합 계 ] | F27: =SUMIF(Q5:Q26,"010101",F5:F26) -> 0 | H27: =SUMIF(Q5:Q26,"010101",H5:H26) -> 0 | J27: =SUMIF(Q5:Q26,"010101",J5:J26) -> 0 | L27: =SUMIF(Q5:Q26,"010101",L5:L26) -> 0 | N27: TOTAL
A28: 철근콘크리트공사 | Q28: 010102
A29: 콘크리트 인력비빔 타설 | B29: 철근구조물 | C29: M3 | D29: 0.3 | E29: =TRUNC(일위대가목록!E8,0) -> 0 | F29: =TRUNC(E29*D29, 0) -> 0 | G29: =TRUNC(일위대가목록!F8,0) -> 0 | H29: =TRUNC(G29*D29, 0) -> 0 | I29: =TRUNC(일위대가목록!G8,0) -> 0 | J29: =TRUNC(I29*D29, 0) -> 0 | K29: =TRUNC(E29+G29+I29, 0) -> 0 | L29: =TRUNC(F29+H29+J29, 0) -> 0 | M29: 호표 5 | N29: 5C5F931F319815F24B4632B030FB3C | Q29: 010102 | R29: T | S29: F | T29: F | AU29: 0101025C5F931F319815F24B4632B030FB3C | AV29: 488
A30: 유로폼 설치 및 해체 | B30: 3회, 보통, 수직고 7m까지 | C30: M2 | D30: 3 | E30: =TRUNC(일위대가목록!E9,0) -> 0 | F30: =TRUNC(E30*D30, 0) -> 0 | G30: =TRUNC(일위대가목록!F9,0) -> 0 | H30: =TRUNC(G30*D30, 0) -> 0 | I30: =TRUNC(일위대가목록!G9,0) -> 0 | J30: =TRUNC(I30*D30, 0) -> 0 | K30: =TRUNC(E30+G30+I30, 0) -> 0 | L30: =TRUNC(F30+H30+J30, 0) -> 0 | M30: 호표 6 | N30: 5C5F93183EE8E0420C36BC35A0DCBC | Q30: 010102 | R30: T | S30: F | T30: F | AU30: 0101025C5F93183EE8E0420C36BC35A0DCBC | AV30: 483
A31: 철근콘크리트용봉강 | B31: 이형봉강(SD500), SH-13, 점포상차도 | C31: TON | D31: 0.094 | E31: =TRUNC(단가대비표!O21,0) -> 0 | F31: =TRUNC(E31*D31, 0) -> 0 | G31: =TRUNC(단가대비표!P21,0) -> 0 | H31: =TRUNC(G31*D31, 0) -> 0 | I31: =TRUNC(단가대비표!V21,0) -> 0 | J31: =TRUNC(I31*D31, 0) -> 0 | K31: =TRUNC(E31+G31+I31, 0) -> 0 | L31: =TRUNC(F31+H31+J31, 0) -> 0 | N31: 5B72E38D3E787375D53615E800281750A73D91 | Q31: 010102 | R31: F | S31: F | T31: T | AU31: 0101025B72E38D3E787375D53615E800281750A73D91 | AV31: 481
A32: 철근 현장가공 및 현장조립 | B32: Type-Ⅰ | C32: TON | D32: 0.091 | E32: =TRUNC(일위대가목록!E10,0) -> 0 | F32: =TRUNC(E32*D32, 0) -> 0 | G32: =TRUNC(일위대가목록!F10,0) -> 0 | H32: =TRUNC(G32*D32, 0) -> 0 | I32: =TRUNC(일위대가목록!G10,0) -> 0 | J32: =TRUNC(I32*D32, 0) -> 0 | K32: =TRUNC(E32+G32+I32, 0) -> 0 | L32: =TRUNC(F32+H32+J32, 0) -> 0 | M32: 호표 7 | N32: 5C5F931B3BE8E493FC96FAD4C070ED | Q32: 010102 | R32: T | S32: F | T32: F | AU32: 0101025C5F931B3BE8E493FC96FAD4C070ED | AV32: 484
A33: 철강설 | B33: 고철, 작업설부산물 | C33: TON | D33: -0.002 | E33: =TRUNC(단가대비표!O12,0) -> 0 | F33: =TRUNC(E33*D33, 0) -> 0 | G33: =TRUNC(단가대비표!P12,0) -> 0 | H33: =TRUNC(G33*D33, 0) -> 0 | I33: =TRUNC(단가대비표!V12,0) -> 0 | J33: =TRUNC(I33*D33, 0) -> 0 | K33: =TRUNC(E33+G33+I33, 0) -> 0 | L33: =TRUNC(F33+H33+J33, 0) -> 0 | N33: 5B5603793FC87934EA9696FBD0D82F4FEF5A2C | Q33: 010102 | R33: F | S33: F | T33: T | AU33: 0101025B5603793FC87934EA9696FBD0D82F4FEF5A2C | AV33: 485
A34: 케미컬앵커 | B34: HY 200R V3 + HD13 L:480 | C34: 개소 | D34: 58 | E34: =TRUNC(일위대가목록!E11,0) -> 0 | F34: =TRUNC(E34*D34, 0) -> 0 | G34: =TRUNC(일위대가목록!F11,0) -> 0 | H34: =TRUNC(G34*D34, 0) -> 0 | I34: =TRUNC(일위대가목록!G11,0) -> 0 | J34: =TRUNC(I34*D34, 0) -> 0 | K34: =TRUNC(E34+G34+I34, 0) -> 0 | L34: =TRUNC(F34+H34+J34, 0) -> 0 | M34: 호표 8 | N34: 5C5F931B3BA8738CA15636E7901DC4 | Q34: 010102 | R34: T | S34: F | T34: F | AU34: 0101025C5F931B3BA8738CA15636E7901DC4 | AV34: 487
A35: 콘크리트 치핑 | B35: 소형치핑장비활용 | C35: M2 | D35: 1 | E35: =TRUNC(일위대가목록!E12,0) -> 0 | F35: =TRUNC(E35*D35, 0) -> 0 | G35: =TRUNC(일위대가목록!F12,0) -> 0 | H35: =TRUNC(G35*D35, 0) -> 0 | I35: =TRUNC(일위대가목록!G12,0) -> 0 | J35: =TRUNC(I35*D35, 0) -> 0 | K35: =TRUNC(E35+G35+I35, 0) -> 0 | L35: =TRUNC(F35+H35+J35, 0) -> 0 | M35: 호표 9 | N35: 5C5F930B317815D891A6B0F120DEB4 | Q35: 010102 | R35: T | S35: F | T35: F | AU35: 0101025C5F930B317815D891A6B0F120DEB4 | AV35: 486
Q36: 010102
Q37: 010102
Q38: 010102
Q39: 010102
Q40: 010102
Q41: 010102
Q42: 010102
Q43: 010102
Q44: 010102
Q45: 010102
Q46: 010102
Q47: 010102
... Q50: 010102
A51: [ 합 계 ] | F51: =SUMIF(Q29:Q50,"010102",F29:F50) -> 0 | H51: =SUMIF(Q29:Q50,"010102",H29:H50) -> 0 | J51: =SUMIF(Q29:Q50,"010102",J29:J50) -> 0 | L51: =SUMIF(Q29:Q50,"010102",L29:L50) -> 0 | N51: TOTAL
A52: 철 골 공 사 | Q52: 010103
A53: H형강 | B53: SM355A, 200*200*8*12mm, 현장도착도 | C53: TON | D53: 1.232 | E53: =TRUNC(단가대비표!O23,0) -> 0 | F53: =TRUNC(E53*D53, 0) -> 0 | G53: =TRUNC(단가대비표!P23,0) -> 0 | H53: =TRUNC(G53*D53, 0) -> 0 | I53: =TRUNC(단가대비표!V23,0) -> 0 | J53: =TRUNC(I53*D53, 0) -> 0 | K53: =TRUNC(E53+G53+I53, 0) -> 0 | L53: =TRUNC(F53+H53+J53, 0) -> 0 | M53: 49.9kg/m | N53: 5B72E38D3E787374CD264AD2F0EC4ABABBBBD6 | Q53: 010103 | R53: F | S53: F | T53: T | AU53: 0101035B72E38D3E787374CD264AD2F0EC4ABABBBBD6 | AV53: 401
A54: 일반구조용압연강판(SM355A) | B54: 15mm | C54: TON | D54: 0.146 | E54: =TRUNC(단가대비표!O24,0) -> 0 | F54: =TRUNC(E54*D54, 0) -> 0 | G54: =TRUNC(단가대비표!P24,0) -> 0 | H54: =TRUNC(G54*D54, 0) -> 0 | I54: =TRUNC(단가대비표!V24,0) -> 0 | J54: =TRUNC(I54*D54, 0) -> 0 | K54: =TRUNC(E54+G54+I54, 0) -> 0 | L54: =TRUNC(F54+H54+J54, 0) -> 0 | N54: 5B72E38D3E7870BDB21671BF40F97D8384B0E1 | Q54: 010103 | R54: F | S54: F | T54: T | AU54: 0101035B72E38D3E7870BDB21671BF40F97D8384B0E1 | AV54: 402
A55: 철골 가공 조립(적은 구조) | B55: Rolled shape, 60ton 미만 | C55: TON | D55: 1.284 | E55: =TRUNC(일위대가목록!E13,0) -> 0 | F55: =TRUNC(E55*D55, 0) -> 0 | G55: =TRUNC(일위대가목록!F13,0) -> 0 | H55: =TRUNC(G55*D55, 0) -> 0 | I55: =TRUNC(일위대가목록!G13,0) -> 0 | J55: =TRUNC(I55*D55, 0) -> 0 | K55: =TRUNC(E55+G55+I55, 0) -> 0 | L55: =TRUNC(F55+H55+J55, 0) -> 0 | M55: 호표 10 | N55: 5C5F83313918C631CB76CA6CB04273 | Q55: 010103 | R55: T | S55: F | T55: F | AU55: 0101035C5F83313918C631CB76CA6CB04273 | AV55: 45
A56: 철골세우기 - 6층 미만 | B56: 0~49kg/m2, 10ton미만 | C56: TON | D56: 1.284 | E56: =TRUNC(일위대가목록!E14,0) -> 0 | F56: =TRUNC(E56*D56, 0) -> 0 | G56: =TRUNC(일위대가목록!F14,0) -> 0 | H56: =TRUNC(G56*D56, 0) -> 0 | I56: =TRUNC(일위대가목록!G14,0) -> 0 | J56: =TRUNC(I56*D56, 0) -> 0 | K56: =TRUNC(E56+G56+I56, 0) -> 0 | L56: =TRUNC(F56+H56+J56, 0) -> 0 | M56: 호표 11 | N56: 5C5F833733B833722116051680B5DC | Q56: 010103 | R56: T | S56: F | T56: F | AU56: 0101035C5F833733B833722116051680B5DC | AV56: 46
A57: 수용접(Rolled shape 제작) | B57: 20(m/t) 미만, 30ton 미만 | C57: TON | D57: 1.284 | E57: =TRUNC(일위대가목록!E15,0) -> 0 | F57: =TRUNC(E57*D57, 0) -> 0 | G57: =TRUNC(일위대가목록!F15,0) -> 0 | H57: =TRUNC(G57*D57, 0) -> 0 | I57: =TRUNC(일위대가목록!G15,0) -> 0 | J57: =TRUNC(I57*D57, 0) -> 0 | K57: =TRUNC(E57+G57+I57, 0) -> 0 | L57: =TRUNC(F57+H57+J57, 0) -> 0 | M57: 호표 12 | N57: 5C5F8337330828CF6BE66EF100C56E | Q57: 010103 | R57: T | S57: F | T57: F | AU57: 0101035C5F8337330828CF6BE66EF100C56E | AV57: 48
A58: 트럭크레인손료 | B58: 10ton | C58: TON | D58: 1.284 | E58: =TRUNC(일위대가목록!E16,0) -> 0 | F58: =TRUNC(E58*D58, 0) -> 0 | G58: =TRUNC(일위대가목록!F16,0) -> 0 | H58: =TRUNC(G58*D58, 0) -> 0 | I58: =TRUNC(일위대가목록!G16,0) -> 0 | J58: =TRUNC(I58*D58, 0) -> 0 | K58: =TRUNC(E58+G58+I58, 0) -> 0 | L58: =TRUNC(F58+H58+J58, 0) -> 0 | M58: 호표 13 | N58: 5C5FC34E3FC8B38A5196EA60A06EDA | Q58: 010103 | R58: T | S58: F | T58: F | AU58: 0101035C5FC34E3FC8B38A5196EA60A06EDA | AV58: 43
A59: 케미컬앵커 | B59: HY 200 + HIT-C M10x130 | C59: 개소 | D59: 68 | E59: =TRUNC(일위대가목록!E17,0) -> 0 | F59: =TRUNC(E59*D59, 0) -> 0 | G59: =TRUNC(일위대가목록!F17,0) -> 0 | H59: =TRUNC(G59*D59, 0) -> 0 | I59: =TRUNC(일위대가목록!G17,0) -> 0 | J59: =TRUNC(I59*D59, 0) -> 0 | K59: =TRUNC(E59+G59+I59, 0) -> 0 | L59: =TRUNC(F59+H59+J59, 0) -> 0 | M59: 호표 14 | N59: 5C5F931B3BA8738CA15636E7901DC2 | Q59: 010103 | R59: T | S59: F | T59: F | AU59: 0101035C5F931B3BA8738CA15636E7901DC2 | AV59: 404
A60: 주각부 무수축 모르타르 충전 | B60: 무수축그라우트 | C60: M3 | D60: 0.02 | E60: =TRUNC(일위대가목록!E18,0) -> 0 | F60: =TRUNC(E60*D60, 0) -> 0 | G60: =TRUNC(일위대가목록!F18,0) -> 0 | H60: =TRUNC(G60*D60, 0) -> 0 | I60: =TRUNC(일위대가목록!G18,0) -> 0 | J60: =TRUNC(I60*D60, 0) -> 0 | K60: =TRUNC(E60+G60+I60, 0) -> 0 | L60: =TRUNC(F60+H60+J60, 0) -> 0 | M60: 호표 15 | N60: 5C5F8337330829D4AE36C55CE051B4 | Q60: 010103 | R60: T | S60: F | T60: F | AU60: 0101035C5F8337330829D4AE36C55CE051B4 | AV60: 403
A61: 철골도장 | B61: 방청1회(뿜칠) | C61: M2 | D61: 28 | E61: =TRUNC(일위대가목록!E19,0) -> 0 | F61: =TRUNC(E61*D61, 0) -> 0 | G61: =TRUNC(일위대가목록!F19,0) -> 0 | H61: =TRUNC(G61*D61, 0) -> 0 | I61: =TRUNC(일위대가목록!G19,0) -> 0 | J61: =TRUNC(I61*D61, 0) -> 0 | K61: =TRUNC(E61+G61+I61, 0) -> 0 | L61: =TRUNC(F61+H61+J61, 0) -> 0 | M61: 호표 16 | N61: 5C5EA396336842F9E3663F98205717 | Q61: 010103 | R61: T | S61: F | T61: F | AU61: 0101035C5EA396336842F9E3663F98205717 | AV61: 50
A62: 철강설 | B62: 고철, 작업설부산물 | C62: TON | D62: -0.084 | E62: =TRUNC(단가대비표!O12,0) -> 0 | F62: =TRUNC(E62*D62, 0) -> 0 | G62: =TRUNC(단가대비표!P12,0) -> 0 | H62: =TRUNC(G62*D62, 0) -> 0 | I62: =TRUNC(단가대비표!V12,0) -> 0 | J62: =TRUNC(I62*D62, 0) -> 0 | K62: =TRUNC(E62+G62+I62, 0) -> 0 | L62: =TRUNC(F62+H62+J62, 0) -> 0 | N62: 5B5603793FC87934EA9696FBD0D82F4FEF5A2C | Q62: 010103 | R62: F | S62: F | T62: T | AU62: 0101035B5603793FC87934EA9696FBD0D82F4FEF5A2C | AV62: 28
A63: 철판보강공사 | B63: 2층 | C63: 식 | D63: 1 | E63: =TRUNC(일위대가목록!E20,0) -> 0 | F63: =TRUNC(E63*D63, 0) -> 0 | G63: =TRUNC(일위대가목록!F20,0) -> 0 | H63: =TRUNC(G63*D63, 0) -> 0 | I63: =TRUNC(일위대가목록!G20,0) -> 0 | J63: =TRUNC(I63*D63, 0) -> 0 | K63: =TRUNC(E63+G63+I63, 0) -> 0 | L63: =TRUNC(F63+H63+J63, 0) -> 0 | M63: 호표 17 | N63: 5C5EA396336842F9E3663F98205290 | Q63: 010103 | R63: T | S63: F | T63: F | AU63: 0101035C5EA396336842F9E3663F98205290 | AV63: 405
A64: 철판보강공사 | B64: 3층 | C64: 식 | D64: 1 | E64: =TRUNC(일위대가목록!E21,0) -> 0 | F64: =TRUNC(E64*D64, 0) -> 0 | G64: =TRUNC(일위대가목록!F21,0) -> 0 | H64: =TRUNC(G64*D64, 0) -> 0 | I64: =TRUNC(일위대가목록!G21,0) -> 0 | J64: =TRUNC(I64*D64, 0) -> 0 | K64: =TRUNC(E64+G64+I64, 0) -> 0 | L64: =TRUNC(F64+H64+J64, 0) -> 0 | M64: 호표 18 | N64: 5C5EA396336842F9E3663F98205292 | Q64: 010103 | R64: T | S64: F | T64: F | AU64: 0101035C5EA396336842F9E3663F98205292 | AV64: 406
Q65: 010103
Q66: 010103
Q67: 010103
Q68: 010103
Q69: 010103
Q70: 010103
Q71: 010103
Q72: 010103
Q73: 010103
Q74: 010103
A75: [ 합 계 ] | F75: =SUMIF(Q53:Q74,"010103",F53:F74) -> 0 | H75: =SUMIF(Q53:Q74,"010103",H53:H74) -> 0 | J75: =SUMIF(Q53:Q74,"010103",J53:J74) -> 0 | L75: =SUMIF(Q53:Q74,"010103",L53:L74) -> 0 | N75: TOTAL
A76: 조 적 공 사 | Q76: 010104
A77: 콘크리트벽돌 | B77: 190*57*90mm | C77: 매 | D77: 1469 | E77: =TRUNC(단가대비표!O32,0) -> 0 | F77: =TRUNC(E77*D77, 0) -> 0 | G77: =TRUNC(단가대비표!P32,0) -> 0 | H77: =TRUNC(G77*D77, 0) -> 0 | I77: =TRUNC(단가대비표!V32,0) -> 0 | J77: =TRUNC(I77*D77, 0) -> 0 | K77: =TRUNC(E77+G77+I77, 0) -> 0 | L77: =TRUNC(F77+H77+J77, 0) -> 0 | N77: 5B72E38D3E48BCFEFA563CEFC044DE0258DE1A | Q77: 010104 | R77: F | S77: F | T77: T | AU77: 0101045B72E38D3E48BCFEFA563CEFC044DE0258DE1A | AV77: 205
A78: 1.0B 벽돌쌓기 | B78: 3.6m 이하, 시공량 15m2/일당 | C78: M2 | D78: 9 | E78: =TRUNC(일위대가목록!E22,0) -> 0 | F78: =TRUNC(E78*D78, 0) -> 0 | G78: =TRUNC(일위대가목록!F22,0) -> 0 | H78: =TRUNC(G78*D78, 0) -> 0 | I78: =TRUNC(일위대가목록!G22,0) -> 0 | J78: =TRUNC(I78*D78, 0) -> 0 | K78: =TRUNC(E78+G78+I78, 0) -> 0 | L78: =TRUNC(F78+H78+J78, 0) -> 0 | M78: 호표 19 | N78: 5C5FB3673A58234855F6EF5330C53C | Q78: 010104 | R78: T | S78: F | T78: F | AU78: 0101045C5FB3673A58234855F6EF5330C53C | AV78: 52
A79: 벽돌운반 | B79: 인력, 1층 | C79: 천매 | D79: 0.384 | E79: =TRUNC(일위대가목록!E23,0) -> 0 | F79: =TRUNC(E79*D79, 0) -> 0 | G79: =TRUNC(일위대가목록!F23,0) -> 0 | H79: =TRUNC(G79*D79, 0) -> 0 | I79: =TRUNC(일위대가목록!G23,0) -> 0 | J79: =TRUNC(I79*D79, 0) -> 0 | K79: =TRUNC(E79+G79+I79, 0) -> 0 | L79: =TRUNC(F79+H79+J79, 0) -> 0 | M79: 호표 20 | N79: 5C5FB3673A78EEC9C1263B99B07ADF | Q79: 010104 | R79: T | S79: F | T79: F | AU79: 0101045C5FB3673A78EEC9C1263B99B07ADF | AV79: 206
A80: 벽돌운반 | B80: 인력, 2층 | C80: 천매 | D80: 1.015 | E80: =TRUNC(일위대가목록!E24,0) -> 0 | F80: =TRUNC(E80*D80, 0) -> 0 | G80: =TRUNC(일위대가목록!F24,0) -> 0 | H80: =TRUNC(G80*D80, 0) -> 0 | I80: =TRUNC(일위대가목록!G24,0) -> 0 | J80: =TRUNC(I80*D80, 0) -> 0 | K80: =TRUNC(E80+G80+I80, 0) -> 0 | L80: =TRUNC(F80+H80+J80, 0) -> 0 | M80: 호표 21 | N80: 5C5FB3673A78EEC9C1263B8F40F0D6 | Q80: 010104 | R80: T | S80: F | T80: F | AU80: 0101045C5FB3673A78EEC9C1263B8F40F0D6 | AV80: 207
Q81: 010104
Q82: 010104
Q83: 010104
Q84: 010104
Q85: 010104
Q86: 010104
Q87: 010104
Q88: 010104
Q89: 010104
Q90: 010104
Q91: 010104
Q92: 010104
... Q98: 010104
A99: [ 합 계 ] | F99: =SUMIF(Q77:Q98,"010104",F77:F98) -> 0 | H99: =SUMIF(Q77:Q98,"010104",H77:H98) -> 0 | J99: =SUMIF(Q77:Q98,"010104",J77:J98) -> 0 | L99: =SUMIF(Q77:Q98,"010104",L77:L98) -> 0 | N99: TOTAL
A100: 돌 공 사 | Q100: 010105
A101: 화강석붙임(건식/TRUSS, 버너) | B101: 벽, 포천석 30mm, ㅁ-50*50*2.3t@450 | C101: M2 | D101: 42 | E101: =TRUNC(일위대가목록!E25,0) -> 0 | F101: =TRUNC(E101*D101, 0) -> 0 | G101: =TRUNC(일위대가목록!F25,0) -> 0 | H101: =TRUNC(G101*D101, 0) -> 0 | I101: =TRUNC(일위대가목록!G25,0) -> 0 | J101: =TRUNC(I101*D101, 0) -> 0 | K101: =TRUNC(E101+G101+I101, 0) -> 0 | L101: =TRUNC(F101+H101+J101, 0) -> 0 | M101: 호표 22 | N101: 5C5F037E3C580749BD56C9A1004E90 | Q101: 010105 | R101: T | S101: F | T101: F | AU101: 0101055C5F037E3C580749BD56C9A1004E90 | AV101: 54
A102: 화강석붙임(건식, 버너) | B102: 창대, 포천석 180*30mm | C102: M | D102: 32 | E102: =TRUNC(일위대가목록!E26,0) -> 0 | F102: =TRUNC(E102*D102, 0) -> 0 | G102: =TRUNC(일위대가목록!F26,0) -> 0 | H102: =TRUNC(G102*D102, 0) -> 0 | I102: =TRUNC(일위대가목록!G26,0) -> 0 | J102: =TRUNC(I102*D102, 0) -> 0 | K102: =TRUNC(E102+G102+I102, 0) -> 0 | L102: =TRUNC(F102+H102+J102, 0) -> 0 | M102: 호표 23 | N102: 5C5F037E3C487D2239364AA300E37D | Q102: 010105 | R102: T | S102: F | T102: F | AU102: 0101055C5F037E3C487D2239364AA300E37D | AV102: 400
A103: 화강석 두겁대(습식, 버너) | B103: 포천석 330*30mm, 모르타르 30mm | C103: M | D103: 3 | E103: =TRUNC(일위대가목록!E27,0) -> 0 | F103: =TRUNC(E103*D103, 0) -> 0 | G103: =TRUNC(일위대가목록!F27,0) -> 0 | H103: =TRUNC(G103*D103, 0) -> 0 | I103: =TRUNC(일위대가목록!G27,0) -> 0 | J103: =TRUNC(I103*D103, 0) -> 0 | K103: =TRUNC(E103+G103+I103, 0) -> 0 | L103: =TRUNC(F103+H103+J103, 0) -> 0 | M103: 호표 24 | N103: 5C5F037E3C487FD20206201C905E38 | Q103: 010105 | R103: T | S103: F | T103: F | AU103: 0101055C5F037E3C487FD20206201C905E38 | AV103: 407
A104: 화강석 두겁대(습식, 버너) | B104: 포천석 450*30mm, 모르타르 30mm | C104: M | D104: 1 | E104: =TRUNC(일위대가목록!E28,0) -> 0 | F104: =TRUNC(E104*D104, 0) -> 0 | G104: =TRUNC(일위대가목록!F28,0) -> 0 | H104: =TRUNC(G104*D104, 0) -> 0 | I104: =TRUNC(일위대가목록!G28,0) -> 0 | J104: =TRUNC(I104*D104, 0) -> 0 | K104: =TRUNC(E104+G104+I104, 0) -> 0 | L104: =TRUNC(F104+H104+J104, 0) -> 0 | M104: 호표 25 | N104: 5C5F037E3C487FD20206201C905E3E | Q104: 010105 | R104: T | S104: F | T104: F | AU104: 0101055C5F037E3C487FD20206201C905E3E | AV104: 408
A105: 화강석 두겁대(습식, 버너) | B105: 포천석 330*50mm, 모르타르 30mm | C105: M | D105: 2 | E105: =TRUNC(일위대가목록!E29,0) -> 0 | F105: =TRUNC(E105*D105, 0) -> 0 | G105: =TRUNC(일위대가목록!F29,0) -> 0 | H105: =TRUNC(G105*D105, 0) -> 0 | I105: =TRUNC(일위대가목록!G29,0) -> 0 | J105: =TRUNC(I105*D105, 0) -> 0 | K105: =TRUNC(E105+G105+I105, 0) -> 0 | L105: =TRUNC(F105+H105+J105, 0) -> 0 | M105: 호표 26 | N105: 5C5F037E3C487FD20206201C905E3C | Q105: 010105 | R105: T | S105: F | T105: F | AU105: 0101055C5F037E3C487FD20206201C905E3C | AV105: 409
A106: 화강석 세면대턱(습식, 물갈기) | B106: 마천석 150*30mm, 모르타르 20mm | C106: M | D106: 2 | E106: =TRUNC(일위대가목록!E30,0) -> 0 | F106: =TRUNC(E106*D106, 0) -> 0 | G106: =TRUNC(일위대가목록!F30,0) -> 0 | H106: =TRUNC(G106*D106, 0) -> 0 | I106: =TRUNC(일위대가목록!G30,0) -> 0 | J106: =TRUNC(I106*D106, 0) -> 0 | K106: =TRUNC(E106+G106+I106, 0) -> 0 | L106: =TRUNC(F106+H106+J106, 0) -> 0 | M106: 호표 27 | N106: 5C5F037E3C487FD5D6B6CC84E093E6 | Q106: 010105 | R106: T | S106: F | T106: F | AU106: 0101055C5F037E3C487FD5D6B6CC84E093E6 | AV106: 55
A107: 화강석 소변기턱(습식, 물갈기) | B107: 마천석 120*30mm, 모르타르 20mm | C107: M | D107: 1 | E107: =TRUNC(일위대가목록!E31,0) -> 0 | F107: =TRUNC(E107*D107, 0) -> 0 | G107: =TRUNC(일위대가목록!F31,0) -> 0 | H107: =TRUNC(G107*D107, 0) -> 0 | I107: =TRUNC(일위대가목록!G31,0) -> 0 | J107: =TRUNC(I107*D107, 0) -> 0 | K107: =TRUNC(E107+G107+I107, 0) -> 0 | L107: =TRUNC(F107+H107+J107, 0) -> 0 | M107: 호표 28 | N107: 5C5F037E3C487FD5D6B6CC84E093E0 | Q107: 010105 | R107: T | S107: F | T107: F | AU107: 0101055C5F037E3C487FD5D6B6CC84E093E0 | AV107: 56
A108: 화강석 대변기턱(습식, 물갈기) | B108: 마천석 120*30mm, 모르타르 20mm | C108: M | D108: 3 | E108: =TRUNC(일위대가목록!E32,0) -> 0 | F108: =TRUNC(E108*D108, 0) -> 0 | G108: =TRUNC(일위대가목록!F32,0) -> 0 | H108: =TRUNC(G108*D108, 0) -> 0 | I108: =TRUNC(일위대가목록!G32,0) -> 0 | J108: =TRUNC(I108*D108, 0) -> 0 | K108: =TRUNC(E108+G108+I108, 0) -> 0 | L108: =TRUNC(F108+H108+J108, 0) -> 0 | M108: 호표 29 | N108: 5C5F037E3C487FD5D6B6CC84E09135 | Q108: 010105 | R108: T | S108: F | T108: F | AU108: 0101055C5F037E3C487FD5D6B6CC84E09135 | AV108: 57
A109: 화강석 재료분리대(습식, 물갈기) | B109: 마천석, 250*30mm, 모르타르 60mm | C109: M | D109: 3 | E109: =TRUNC(일위대가목록!E33,0) -> 0 | F109: =TRUNC(E109*D109, 0) -> 0 | G109: =TRUNC(일위대가목록!F33,0) -> 0 | H109: =TRUNC(G109*D109, 0) -> 0 | I109: =TRUNC(일위대가목록!G33,0) -> 0 | J109: =TRUNC(I109*D109, 0) -> 0 | K109: =TRUNC(E109+G109+I109, 0) -> 0 | L109: =TRUNC(F109+H109+J109, 0) -> 0 | M109: 호표 30 | N109: 5C5F234E3038D92AF616BCC930A7BF | Q109: 010105 | R109: T | S109: F | T109: F | AU109: 0101055C5F234E3038D92AF616BCC930A7BF | AV109: 397
A110: 화강석 재료분리대(습식, 물갈기) | B110: 마천석, 350*30mm, 모르타르 120mm | C110: M | D110: 8 | E110: =TRUNC(일위대가목록!E34,0) -> 0 | F110: =TRUNC(E110*D110, 0) -> 0 | G110: =TRUNC(일위대가목록!F34,0) -> 0 | H110: =TRUNC(G110*D110, 0) -> 0 | I110: =TRUNC(일위대가목록!G34,0) -> 0 | J110: =TRUNC(I110*D110, 0) -> 0 | K110: =TRUNC(E110+G110+I110, 0) -> 0 | L110: =TRUNC(F110+H110+J110, 0) -> 0 | M110: 호표 31 | N110: 5C5F234E3038D92AF616BCC930A7BD | Q110: 010105 | R110: T | S110: F | T110: F | AU110: 0101055C5F234E3038D92AF616BCC930A7BD | AV110: 398
A111: 고압물청소 | C111: M2 | D111: 22 | E111: =TRUNC(일위대가목록!E35,0) -> 0 | F111: =TRUNC(E111*D111, 0) -> 0 | G111: =TRUNC(일위대가목록!F35,0) -> 0 | H111: =TRUNC(G111*D111, 0) -> 0 | I111: =TRUNC(일위대가목록!G35,0) -> 0 | J111: =TRUNC(I111*D111, 0) -> 0 | K111: =TRUNC(E111+G111+I111, 0) -> 0 | L111: =TRUNC(F111+H111+J111, 0) -> 0 | M111: 호표 32 | N111: 5C5EA3813288EF8B890642F300CCA5 | Q111: 010105 | R111: T | S111: F | T111: F | AU111: 0101055C5EA3813288EF8B890642F300CCA5 | AV111: 417
Q112: 010105
...

Sheet 일위대가목록
B1: 일 위 대 가 목 록
B2: 공사명 : 안용중학교 합숙소 개보수공사
A3: 코 드 | B3: 품 명 | C3: 규 격 | D3: 단위 | E3: 재 료 비 | F3: 노 무 비 | G3: 경 비 | H3: 합 계 | I3: 번 호 | J3: 비 고 | K3: 노임계수 | L3: 할증 | M3: 품셈개요 | N3: 장비일위
A4: 5C5FC34C3338E0BBE9062AA6600E20 | B4: 강관 조립말비계(이동식)설치 및 해체 | C4: 높이 2m, 3개월 | D4: 대 | E4: =일위대가!F15 -> 0 | F4: =일위대가!H15 -> 0 | G4: =일위대가!J15 -> 0 | H4: =E4+F4+G4 -> 0 | I4: 호표 1
A5: 5C5FC34C3338E0BBE9062A95F01C69 | B5: 강관 조립말비계(이동식)설치 및 해체 | C5: 높이 4m, 3개월 | D5: 대 | E5: =일위대가!F29 -> 0 | F5: =일위대가!H29 -> 0 | G5: =일위대가!J29 -> 0 | H5: =E5+F5+G5 -> 0 | I5: 호표 2
A6: 5C5FC34937E814A89FF636B9000787 | B6: 건축물보양 | C6: 보양지 붙이기 | D6: M2 | E6: =일위대가!F35 -> 0 | F6: =일위대가!H35 -> 0 | G6: =일위대가!J35 -> 0 | H6: =E6+F6+G6 -> 0 | I6: 호표 3
A7: 5C5FC34937D80B8AFE96EAC180DC5B | B7: 건축물 현장정리 | C7: 마무리용 | D7: M2 | E7: =일위대가!F39 -> 0 | F7: =일위대가!H39 -> 0 | G7: =일위대가!J39 -> 0 | H7: =E7+F7+G7 -> 0 | I7: 호표 4
A8: 5C5F931F319815F24B4632B030FB3C | B8: 콘크리트 인력비빔 타설 | C8: 철근구조물 | D8: M3 | E8: =일위대가!F45 -> 0 | F8: =일위대가!H45 -> 0 | G8: =일위대가!J45 -> 0 | H8: =E8+F8+G8 -> 0 | I8: 호표 5
A9: 5C5F93183EE8E0420C36BC35A0DCBC | B9: 유로폼 설치 및 해체 | C9: 3회, 보통, 수직고 7m까지 | D9: M2 | E9: =일위대가!F50 -> 0 | F9: =일위대가!H50 -> 0 | G9: =일위대가!J50 -> 0 | H9: =E9+F9+G9 -> 0 | I9: 호표 6
A10: 5C5F931B3BE8E493FC96FAD4C070ED | B10: 철근 현장가공 및 현장조립 | C10: Type-Ⅰ | D10: TON | E10: =일위대가!F55 -> 0 | F10: =일위대가!H55 -> 0 | G10: =일위대가!J55 -> 0 | H10: =E10+F10+G10 -> 0 | I10: 호표 7
A11: 5C5F931B3BA8738CA15636E7901DC4 | B11: 케미컬앵커 | C11: HY 200R V3 + HD13 L:480 | D11: 개소 | E11: =일위대가!F66 -> 0 | F11: =일위대가!H66 -> 0 | G11: =일위대가!J66 -> 0 | H11: =E11+F11+G11 -> 0 | I11: 호표 8
A12: 5C5F930B317815D891A6B0F120DEB4 | B12: 콘크리트 치핑 | C12: 소형치핑장비활용 | D12: M2 | E12: =일위대가!F72 -> 0 | F12: =일위대가!H72 -> 0 | G12: =일위대가!J72 -> 0 | H12: =E12+F12+G12 -> 0 | I12: 호표 9
A13: 5C5F83313918C631CB76CA6CB04273 | B13: 철골 가공 조립(적은 구조) | C13: Rolled shape, 60ton 미만 | D13: TON | E13: =일위대가!F78 -> 0 | F13: =일위대가!H78 -> 0 | G13: =일위대가!J78 -> 0 | H13: =E13+F13+G13 -> 0 | I13: 호표 10
A14: 5C5F833733B833722116051680B5DC | B14: 철골세우기 - 6층 미만 | C14: 0~49kg/m2, 10ton미만 | D14: TON | E14: =일위대가!F83 -> 0 | F14: =일위대가!H83 -> 0 | G14: =일위대가!J83 -> 0 | H14: =E14+F14+G14 -> 0 | I14: 호표 11
A15: 5C5F8337330828CF6BE66EF100C56E | B15: 수용접(Rolled shape 제작) | C15: 20(m/t) 미만, 30ton 미만 | D15: TON | E15: =일위대가!F89 -> 0 | F15: =일위대가!H89 -> 0 | G15: =일위대가!J89 -> 0 | H15: =E15+F15+G15 -> 0 | I15: 호표 12
A16: 5C5FC34E3FC8B38A5196EA60A06EDA | B16: 트럭크레인손료 | C16: 10ton | D16: TON | E16: =일위대가!F93 -> 0 | F16: =일위대가!H93 -> 0 | G16: =일위대가!J93 -> 0 | H16: =E16+F16+G16 -> 0 | I16: 호표 13
A17: 5C5F931B3BA8738CA15636E7901DC2 | B17: 케미컬앵커 | C17: HY 200 + HIT-C M10x130 | D17: 개소 | E17: =일위대가!F104 -> 0 | F17: =일위대가!H104 -> 0 | G17: =일위대가!J104 -> 0 | H17: =E17+F17+G17 -> 0 | I17: 호표 14
A18: 5C5F8337330829D4AE36C55CE051B4 | B18: 주각부 무수축 모르타르 충전 | C18: 무수축그라우트 | D18: M3 | E18: =일위대가!F110 -> 0 | F18: =일위대가!H110 -> 0 | G18: =일위대가!J110 -> 0 | H18: =E18+F18+G18 -> 0 | I18: 호표 15
A19: 5C5EA396336842F9E3663F98205717 | B19: 철골도장 | C19: 방청1회(뿜칠) | D19: M2 | E19: =일위대가!F116 -> 0 | F19: =일위대가!H116 -> 0 | G19: =일위대가!J116 -> 0 | H19: =E19+F19+G19 -> 0 | I19: 호표 16
A20: 5C5EA396336842F9E3663F98205290 | B20: 철판보강공사 | C20: 2층 | D20: 식 | E20: =일위대가!F130 -> 0 | F20: =일위대가!H130 -> 0 | G20: =일위대가!J130 -> 0 | H20: =E20+F20+G20 -> 0 | I20: 호표 17
A21: 5C5EA396336842F9E3663F98205292 | B21: 철판보강공사 | C21: 3층 | D21: 식 | E21: =일위대가!F144 -> 0 | F21: =일위대가!H144 -> 0 | G21: =일위대가!J144 -> 0 | H21: =E21+F21+G21 -> 0 | I21: 호표 18
A22: 5C5FB3673A58234855F6EF5330C53C | B22: 1.0B 벽돌쌓기 | C22: 3.6m 이하, 시공량 15m2/일당 | D22: M2 | E22: =일위대가!F152 -> 0 | F22: =일위대가!H152 -> 0 | G22: =일위대가!J152 -> 0 | H22: =E22+F22+G22 -> 0 | I22: 호표 19
A23: 5C5FB3673A78EEC9C1263B99B07ADF | B23: 벽돌운반 | C23: 인력, 1층 | D23: 천매 | E23: =일위대가!F156 -> 0 | F23: =일위대가!H156 -> 0 | G23: =일위대가!J156 -> 0 | H23: =E23+F23+G23 -> 0 | I23: 호표 20
A24: 5C5FB3673A78EEC9C1263B8F40F0D6 | B24: 벽돌운반 | C24: 인력, 2층 | D24: 천매 | E24: =일위대가!F160 -> 0 | F24: =일위대가!H160 -> 0 | G24: =일위대가!J160 -> 0 | H24: =E24+F24+G24 -> 0 | I24: 호표 21
A25: 5C5F037E3C580749BD56C9A1004E90 | B25: 화강석붙임(건식/TRUSS, 버너) | C25: 벽, 포천석 30mm, ㅁ-50*50*2.3t@450 | D25: M2 | E25: =일위대가!F167 -> 0 | F25: =일위대가!H167 -> 0 | G25: =일위대가!J167 -> 0 | H25: =E25+F25+G25 -> 0 | I25: 호표 22
A26: 5C5F037E3C487D2239364AA300E37D | B26: 화강석붙임(건식, 버너) | C26: 창대, 포천석 180*30mm | D26: M | E26: =일위대가!F174 -> 0 | F26: =일위대가!H174 -> 0 | G26: =일위대가!J174 -> 0 | H26: =E26+F26+G26 -> 0 | I26: 호표 23
A27: 5C5F037E3C487FD20206201C905E38 | B27: 화강석 두겁대(습식, 버너) | C27: 포천석 330*30mm, 모르타르 30mm | D27: M | E27: =일위대가!F180 -> 0 | F27: =일위대가!H180 -> 0 | G27: =일위대가!J180 -> 0 | H27: =E27+F27+G27 -> 0 | I27: 호표 24
A28: 5C5F037E3C487FD20206201C905E3E | B28: 화강석 두겁대(습식, 버너) | C28: 포천석 450*30mm, 모르타르 30mm | D28: M | E28: =일위대가!F186 -> 0 | F28: =일위대가!H186 -> 0 | G28: =일위대가!J186 -> 0 | H28: =E28+F28+G28 -> 0 | I28: 호표 25
A29: 5C5F037E3C487FD20206201C905E3C | B29: 화강석 두겁대(습식, 버너) | C29: 포천석 330*50mm, 모르타르 30mm | D29: M | E29: =일위대가!F192 -> 0 | F29: =일위대가!H192 -> 0 | G29: =일위대가!J192 -> 0 | H29: =E29+F29+G29 -> 0 | I29: 호표 26
A30: 5C5F037E3C487FD5D6B6CC84E093E6 | B30: 화강석 세면대턱(습식, 물갈기) | C30: 마천석 150*30mm, 모르타르 20mm | D30: M | E30: =일위대가!F199 -> 0 | F30: =일위대가!H199 -> 0 | G30: =일위대가!J199 -> 0 | H30: =E30+F30+G30 -> 0 | I30: 호표 27
A31: 5C5F037E3C487FD5D6B6CC84E093E0 | B31: 화강석 소변기턱(습식, 물갈기) | C31: 마천석 120*30mm, 모르타르 20mm | D31: M | E31: =일위대가!F206 -> 0 | F31: =일위대가!H206 -> 0 | G31: =일위대가!J206 -> 0 | H31: =E31+F31+G31 -> 0 | I31: 호표 28
A32: 5C5F037E3C487FD5D6B6CC84E09135 | B32: 화강석 대변기턱(습식, 물갈기) | C32: 마천석 120*30mm, 모르타르 20mm | D32: M | E32: =일위대가!F213 -> 0 | F32: =일위대가!H213 -> 0 | G32: =일위대가!J213 -> 0 | H32: =E32+F32+G32 -> 0 | I32: 호표 29
A33: 5C5F234E3038D92AF616BCC930A7BF | B33: 화강석 재료분리대(습식, 물갈기) | C33: 마천석, 250*30mm, 모르타르 60mm | D33: M | E33: =일위대가!F219 -> 0 | F33: =일위대가!H219 -> 0 | G33: =일위대가!J219 -> 0 | H33: =E33+F33+G33 -> 0 | I33: 호표 30
A34: 5C5F234E3038D92AF616BCC930A7BD | B34: 화강석 재료분리대(습식, 물갈기) | C34: 마천석, 350*30mm, 모르타르 120mm | D34: M | E34: =일위대가!F225 -> 0 | F34: =일위대가!H225 -> 0 | G34: =일위대가!J225 -> 0 | H34: =E34+F34+G34 -> 0 | I34: 호표 31
A35: 5C5EA3813288EF8B890642F300CCA5 | B35: 고압물청소 | D35: M2 | E35: =일위대가!F230 -> 0 | F35: =일위대가!H230 -> 0 | G35: =일위대가!J230 -> 0 | H35: =E35+F35+G35 -> 0 | I35: 호표 32
A36: 5C5F037D33E8F287CB76A169E057ED | B36: 타일 압착 붙이기(바탕 75mm+압 5mm) | C36: 바닥, 600*600(타일C, 백색줄눈) | D36: M2 | E36: =일위대가!F236 -> 0 | F36: =일위대가!H236 -> 0 | G36: =일위대가!J236 -> 0 | H36: =E36+F36+G36 -> 0 | I36: 호표 33
A37: 5C5F037D33E8F287CB76A169E057EF | B37: 타일 압착 붙이기(바탕 125mm+압 5mm) | C37: 바닥, 600*600(타일C, 백색줄눈) | D37: M2 | E37: =일위대가!F242 -> 0 | F37: =일위대가!H242 -> 0 | G37: =일위대가!J242 -> 0 | H37: =E37+F37+G37 -> 0 | I37: 호표 34
A38: 5C5F037D33C8C75E6056C773305455 | B38: 타일 압착 붙이기(바탕 11mm+접착제붙임) | C38: 벽, 600*600 | D38: M2 | E38: =일위대가!F251 -> 0 | F38: =일위대가!H251 -> 0 | G38: =일위대가!J251 -> 0 | H38: =E38+F38+G38 -> 0 | I38: 호표 35
A39: 5C5F53F73E08BF80D656F852E0881A | B39: 시멘트 액체 방수 | C39: 바닥, 1종 | D39: M2 | E39: =일위대가!F256 -> 0 | F39: =일위대가!H256 -> 0 | G39: =일위대가!J256 -> 0 | H39: =E39+F39+G39 -> 0 | I39: 호표 36
A40: 5C5F53F73E08BF80D656C31100E1D4 | B40: 시멘트 액체 방수 | C40: 수직부, 1종 | D40: M2 | E40: =일위대가!F261 -> 0 | F40: =일위대가!H261 -> 0 | G40: =일위대가!J261 -> 0 | H40: =E40+F40+G40 -> 0 | I40: 호표 37
A41: 5C5F53F8386803EE4C26F595F0F284 | B41: 수밀코킹(실리콘) | C41: 삼각, 5mm이하, 방균용 | D41: M | E41: =일위대가!F266 -> 0 | F41: =일위대가!H266 -> 0 | G41: =일위대가!J266 -> 0 | H41: =E41+F41+G41 -> 0 | I41: 호표 38
A42: 5C5F53F83848572256C6F89440E17E | B42: 수밀코킹(실리콘) | C42: 삼각, 10mm, 창호주위 | D42: M | E42: =일위대가!F271 -> 0 | F42: =일위대가!H271 -> 0 | G42: =일위대가!J271 -> 0 | H42: =E42+F42+G42 -> 0 | I42: 호표 39
A43: 5C5F23403A48535A29063E6C80E662 | B43: AL몰딩 설치 | C43: W형, 15*15*15*15*1.0mm | D43: M | E43: =일위대가!F277 -> 0 | F43: =일위대가!H277 -> 0 | G43: =일위대가!J277 -> 0 | H43: =E43+F43+G43 -> 0 | I43: 호표 40
A44: 5C5F73CF3778BFFA2A26303B2016F8 | B44: 와이어메시 바닥깔기 | C44: #8-150*150 | D44: M2 | E44: =일위대가!F283 -> 0 | F44: =일위대가!H283 -> 0 | G44: =일위대가!J283 -> 0 | H44: =E44+F44+G44 -> 0 | I44: 호표 41
A45: 5C5FA375340897F74FD6349910ECB1 | B45: 타일벽코너비드 | C45: SST 라운드10,코킹5*5 | D45: M | E45: =일위대가!F289 -> 0 | F45: =일위대가!H289 -> 0 | G45: =일위대가!J289 -> 0 | H45: =E45+F45+G45 -> 0 | I45: 호표 42
A46: 5C5F73C631F854652E36A7A0C074E6 | B46: 유리블록 설치(W800*H3000) | C46: 투명 145*145*95mm, ㅁ-100*100*2.0t SST PIPE | D46: EA | E46: =일위대가!F295 -> 0 | F46: =일위대가!H295 -> 0 | G46: =일위대가!J295 -> 0 | H46: =E46+F46+G46 -> 0 | I46: 호표 43
A47: 5C5FA37E3BC871EC9AE6A6F8E0FE7C | B47: 모르타르 바름 | C47: 바닥, 100mm | D47: M2 | E47: =일위대가!F300 -> 0 | F47: =일위대가!H300 -> 0 | G47: =일위대가!J300 -> 0 | H47: =E47+F47+G47 -> 0 | I47: 호표 44
A48: 5C5FA37E3BC8739FFF56B4ADA08361 | B48: 모르타르 바름 | C48: 외벽, 11mm, 3.6m 이하 | D48: M2 | E48: =일위대가!F305 -> 0 | F48: =일위대가!H305 -> 0 | G48: =일위대가!J305 -> 0 | H48: =E48+F48+G48 -> 0 | I48: 호표 45
A49: 5C5F136234981E7C7646B1DD60E86B | B49: HD01 | C49: 0.700 x 1.500 = 1.050 | D49: EA | E49: =일위대가!F309 -> 0 | F49: =일위대가!H309 -> 0 | G49: =일위대가!J309 -> 0 | H49: =E49+F49+G49 -> 0 | I49: 호표 46
A50: 5C5F136234981E7C7646B1DD60E869 | B50: PD01 | C50: 1.000 x 2.100 = 2.100 | D50: EA | E50: =일위대가!F314 -> 0 | F50: =일위대가!H314 -> 0 | G50: =일위대가!J314 -> 0 | H50: =E50+F50+G50 -> 0 | I50: 호표 47
A51: 5C5F136234981E7C7646B1DD60E86F | B51: WD01 | C51: 1.000 x 1.200 = 1.200 | D51: EA | E51: =일위대가!F318 -> 0 | F51: =일위대가!H318 -> 0 | G51: =일위대가!J318 -> 0 | H51: =E51+F51+G51 -> 0 | I51: 호표 48
A52: 5C5F136531C8D52BEE166BFEB0B422 | B52: 도어록 설치 / 일반도어록 목재창호 | C52: 재료비 별도 | D52: EA | E52: =일위대가!F323 -> 0 | F52: =일위대가!H323 -> 0 | G52: =일위대가!J323 -> 0 | H52: =E52+F52+G52 -> 0 | I52: 호표 49
A53: 5C5F13653198029268E62602A0FA7C | B53: 창호주위 발포우레탄 충전 | D53: M | E53: =일위대가!F329 -> 0 | F53: =일위대가!H329 -> 0 | G53: =일위대가!J329 -> 0 | H53: =E53+F53+G53 -> 0 | I53: 호표 50
A54: 5C5F136B3A68E81DA766250500175D | B54: 창호유리설치 / 복층유리 | C54: 유리두께 24mm 이하 | D54: M2 | E54: =일위대가!F334 -> 0 | F54: =일위대가!H334 -> 0 | G54: =일위대가!J334 -> 0 | H54: =E54+F54+G54 -> 0 | I54: 호표 51
A55: 5C5F53F838587D25CEE66F9880003E | B55: 유리주위 코킹 | C55: 5*5, 실리콘 | D55: M | E55: =일위대가!F338 -> 0 | F55: =일위대가!H338 -> 0 | G55: =일위대가!J338 -> 0 | H55: =E55+F55+G55 -> 0 | I55: 호표 52
A56: 5C5F53F838587D25CEE66F989027BA | B56: 불투명시트 부착 | D56: M2 | E56: =일위대가!F344 -> 0 | F56: =일위대가!H344 -> 0 | G56: =일위대가!J344 -> 0 | H56: =E56+F56+G56 -> 0 | I56: 호표 53
A57: 5C5F33B333080A1B6C96DDE620416C | B57: 바탕만들기+수성페인트 롤러칠/광택스 | C57: 내부 2회, G.B.면 줄퍼티, 친환경 | D57: M2 | E57: =일위대가!F350 -> 0 | F57: =일위대가!H350 -> 0 | G57: =일위대가!J350 -> 0 | H57: =E57+F57+G57 -> 0 | I57: 호표 54
A58: 5C5F33B333080A1B6C96A028E0D509 | B58: 재도장시바탕만들기+수성페인트 롤러칠 | C58: 외부 2회, con'c·mortar면, 친환경 | D58: M2 | E58: =일위대가!F356 -> 0 | F58: =일위대가!H356 -> 0 | G58: =일위대가!J356 -> 0 | H58: =E58+F58+G58 -> 0 | I58: 호표 55
A59: 5C5F33B333080A1B6DA679F160318E | B59: 바탕만들기+수성페인트 롤러칠 | C59: 외천장 2회, con'c·mortar면, 친환경 | D59: M2 | E59: =일위대가!F362 -> 0 | F59: =일위대가!H362 -> 0 | G59: =일위대가!J362 -> 0 | H59: =E59+F59+G59 -> 0 | I59: 호표 56
A60: 5C5F234A3AB879175A76B999D01B74 | B60: 불연천장재설치(자재비) | C60: M-Bar용, 12*300*600mm | D60: M2 | E60: =일위대가!F367 -> 0 | F60: =일위대가!H367 -> 0 | G60: =일위대가!J367 -> 0 | H60: =E60+F60+G60 -> 0 | I60: 호표 57
A61: 5C5F43963AC8C9E1BB560F82F0FE9B | B61: 합성목재데크설치[자재관급] | C61: 25mm, ㅁ-100*100*2.3t@1000 아연각관 하지틀 | D61: M2 | E61: =일위대가!F386 -> 0 | F61: =일위대가!H386 -> 0 | G61: =일위대가!J386 -> 0 | H61: =E61+F61+G61 -> 0 | I61: 호표 58
A62: 5C5F23483F9826A255769510E0B709 | B62: 걸레받이 설치 - 중밀도섬유판 | C62: T=9, H=100, 방염필름 | D62: M | E62: =일위대가!F393 -> 0 | F62: =일위대가!H393 -> 0 | G62: =일위대가!J393 -> 0 | H62: =E62+F62+G62 -> 0 | I62: 호표 59
A63: 5C5F234A3AB87A39E286A33400F1F3 | B63: MDF 문선설치 | C63: W:50*9t, 방염필름 | D63: M | E63: =일위대가!F399 -> 0 | F63: =일위대가!H399 -> 0 | G63: =일위대가!J399 -> 0 | H63: =E63+F63+G63 -> 0 | I63: 호표 60
A64: 5C5F234A3AB87A39E286A33400F1F1 | B64: MDF 문선설치 | C64: W:100*9t, 방염필름 | D64: M | E64: =일위대가!F405 -> 0 | F64: =일위대가!H405 -> 0 | G64: =일위대가!J405 -> 0 | H64: =E64+F64+G64 -> 0 | I64: 호표 61
A65: 5C5F234A3A88A49130B686C4B02F4C | B65: 수장벽마감설치 | C65: ㅁ-30*30*1.6t@450+GB9.5t*2겹 | D65: M2 | E65: =일위대가!F410 -> 0 | F65: =일위대가!H410 -> 0 | G65: =일위대가!J410 -> 0 | H65: =E65+F65+G65 -> 0 | I65: 호표 62
A66: 5C5F234A3A88A49130B686C4B02F48 | B66: 수장벽마감설치 | C66: ㅁ-30*30*1.6t@450+GB9.5t*2겹+포세린타일10t | D66: M2 | E66: =일위대가!F417 -> 0 | F66: =일위대가!H417 -> 0 | G66: =일위대가!J417 -> 0 | H66: =E66+F66+G66 -> 0 | I66: 호표 63
A67: 5C5F234A3A88A49130B686C4B02F46 | B67: 수장벽마감설치 | C67: ㅁ-30*30*1.6t@450+WGB12.5t*2겹 | D67: M2 | E67: =일위대가!F422 -> 0 | F67: =일위대가!H422 -> 0 | G67: =일위대가!J422 -> 0 | H67: =E67+F67+G67 -> 0 | I67: 호표 64
A68: 5C5F234D30483F389236376030960A | B68: PF보드(공간넣기) | C68: 벽, 90mm, 준불연(심재) | D68: M2 | E68: =일위대가!F428 -> 0 | F68: =일위대가!H428 -> 0 | G68: =일위대가!J428 -> 0 | H68: =E68+F68+G68 -> 0 | I68: 호표 65
A69: 5C5EA3833D687E4F6FC694AED04507 | B69: DRY WALL(C-65) | C69: WGB12.5t 2겹양면+GW50t | D69: M2 | E69: =일위대가!F435 -> 0 | F69: =일위대가!H435 -> 0 | G69: =일위대가!J435 -> 0 | H69: =E69+F69+G69 -> 0 | I69: 호표 66
A70: 5C5EC3E037787B603386809EF0153E | B70: 화강석두겁대 철거 | C70: 바닥, 30mm, 바탕몰탈 포함 | D70: M2 | E70: =일위대가!F439 -> 0 | F70: =일위대가!H439 -> 0 | G70: =일위대가!J439 -> 0 | H70: =E70+F70+G70 -> 0 | I70: 호표 67
A71: 5C5FB3673A78EEC9C1262977204DD6 | B71: 철거폐기물 운반비 | C71: 지상 2층 | D71: TON | E71: =일위대가!F443 -> 0 | F71: =일위대가!H443 -> 0 | G71: =일위대가!J443 -> 0 | H71: =E71+F71+G71 -> 0 | I71: 호표 68
A72: 5C5FC34937E815B36B76CB9300815C | B72: 강관비계용 부재 | C72: 비계용 강관 / 인장강도 | D72: 회 | E72: =일위대가!F450 -> 0 | F72: =일위대가!H450 -> 0 | G72: =일위대가!J450 -> 0 | H72: =E72+F72+G72 -> 0 | I72: 호표 69
A73: 5C5FC34937E815B36B76CB93008263 | B73: 강관비계용 부재 | C73: 강관조인트 / 휨장하중 | D73: 회 | E73: =일위대가!F457 -> 0 | F73: =일위대가!H457 -> 0 | G73: =일위대가!J457 -> 0 | H73: =E73+F73+G73 -> 0 | I73: 호표 70
A74: 5C5FC34937E815B36B76CB9300830A | B74: 강관비계용 부재 | C74: 강관조인트 / 인장하중 | D74: 회 | E74: =일위대가!F464 -> 0 | F74: =일위대가!H464 -> 0 | G74: =일위대가!J464 -> 0 | H74: =E74+F74+G74 -> 0 | I74: 호표 71
A75: 5C5FC34937E815B36B76CB93008410 | B75: 강관비계용 부재 | C75: 강관조인트 / 압축강도 | D75: 회 | E75: =일위대가!F471 -> 0 | F75: =일위대가!H471 -> 0 | G75: =일위대가!J471 -> 0 | H75: =E75+F75+G75 -> 0 | I75: 호표 72
A76: 5C5FC34937E815B470B69654D08E19 | B76: 석재 | C76: 밀도 및 흡수율 | D76: 회 | E76: =일위대가!F479 -> 0 | F76: =일위대가!H479 -> 0 | G76: =일위대가!J479 -> 0 | H76: =E76+F76+G76 -> 0 | I76: 호표 73
A77: 5C5FC34937E815B470B69654D08D73 | B77: 석재 | C77: 압축강도 | D77: 회 | E77: =일위대가!F488 -> 0 | F77: =일위대가!H488 -> 0 | G77: =일위대가!J488 -> 0 | H77: =E77+F77+G77 -> 0 | I77: 호표 74
A78: 5C5FC34937E8177880566FD110C8B9 | B78: 도자기질타일 | C78: 겉모양 및 치수(모자이크타일 제외) | D78: 회 | E78: =일위대가!F494 -> 0 | F78: =일위대가!H494 -> 0 | G78: =일위대가!J494 -> 0 | H78: =E78+F78+G78 -> 0 | I78: 호표 75
A79: 5C5FC34937E8177880566FD110CB0D | B79: 도자기질타일 | C79: 뒤틀림 | D79: 회 | E79: =일위대가!F500 -> 0 | F79: =일위대가!H500 -> 0 | G79: =일위대가!J500 -> 0 | H79: =E79+F79+G79 -> 0 | I79: 호표 76
A80: 5C5FC34937E8177880566FD110CA66 | B80: 도자기질타일 | C80: 치수의 불규칙도 | D80: 회 | E80: =일위대가!F506 -> 0 | F80: =일위대가!H506 -> 0 | G80: =일위대가!J506 -> 0 | H80: =E80+F80+G80 -> 0 | I80: 호표 77
A81: 5C5FC34937E8177880566FD110CD3A | B81: 도자기질타일 | C81: 흡수율 | D81: 회 | E81: =일위대가!F514 -> 0 | F81: =일위대가!H514 -> 0 | G81: =일위대가!J514 -> 0 | H81: =E81+F81+G81 -> 0 | I81: 호표 78
A82: 5C5FC34937E8177880566FD110CC13 | B82: 도자기질타일 | C82: 내균열성(시유타일) | D82: 회 | E82: =일위대가!F522 -> 0 | F82: =일위대가!H522 -> 0 | G82: =일위대가!J522 -> 0 | H82: =E82+F82+G82 -> 0 | I82: 호표 79
A83: 5C5FC34937E8177880566FD110CFE8 | B83: 도자기질타일 | C83: 내마모성(바닥타일) | D83: 회 | E83: =일위대가!F530 -> 0 | F83: =일위대가!H530 -> 0 | G83: =일위대가!J530 -> 0 | H83: =E83+F83+G83 -> 0 | I83: 호표 80
A84: 5C5FC34937E8177880566FD110CEC1 | B84: 도자기질타일 | C84: 꺽임강도 | D84: 회 | E84: =일위대가!F538 -> 0 | F84: =일위대가!H538 -> 0 | G84: =일위대가!J538 -> 0 | H84: =E84+F84+G84 -> 0 | I84: 호표 81
A85: 5C5FC34937E8177880566FD110C109 | B85: 도자기질타일 | C85: 동결융해(외장, 바닥타일) | D85: 회 | E85: =일위대가!F548 -> 0 | F85: =일위대가!H548 -> 0 | G85: =일위대가!J548 -> 0 | H85: =E85+F85+G85 -> 0 | I85: 호표 82
A86: 5C5FC34937E8177880566FD110C063 | B86: 도자기질타일 | C86: 내약품성 | D86: 회 | E86: =일위대가!F556 -> 0 | F86: =일위대가!H556 -> 0 | G86: =일위대가!J556 -> 0 | H86: =E86+F86+G86 -> 0 | I86: 호표 83
A87: 5C5FC34937E8177880566FD1002216 | B87: 도자기질타일 | C87: 침지의 접착성, 박리성, 재질 및 개구율(구성타일) | D87: 회 | E87: =일위대가!F561 -> 0 | F87: =일위대가!H561 -> 0 | G87: =일위대가!J561 -> 0 | H87: =E87+F87+G87 -> 0 | I87: 호표 84
A88: 5C5FC34937E8177C7CE612D750E5F2 | B88: 합성고분자계 방수시트 | C88: 겉모양, 치수 | D88: 회 | E88: =일위대가!F566 -> 0 | F88: =일위대가!H566 -> 0 | G88: =일위대가!J566 -> 0 | H88: =E88+F88+G88 -> 0 | I88: 호표 85
A89: 5C5FC34937E8177C7CE612D750E699 | B89: 합성고분자계 방수시트 | C89: 인장성능 | D89: 회 | E89: =일위대가!F573 -> 0 | F89: =일위대가!H573 -> 0 | G89: =일위대가!J573 -> 0 | H89: =E89+F89+G89 -> 0 | I89: 호표 86
A90: 5C5FC34937E8177C7CE612D750E7BF | B90: 합성고분자계 방수시트 | C90: 인열성능 | D90: 회 | E90: =일위대가!F580 -> 0 | F90: =일위대가!H580 -> 0 | G90: =일위대가!J580 -> 0 | H90: =E90+F90+G90 -> 0 | I90: 호표 87
A91: 5C5FC34937E8177C7CE612D750E070 | B91: 합성고분자계 방수시트 | C91: 온도의존성 | D91: 회 | E91: =일위대가!F587 -> 0 | F91: =일위대가!H587 -> 0 | G91: =일위대가!J587 -> 0 | H91: =E91+F91+G91 -> 0 | I91: 호표 88
A92: 5C5FC34937E8177C7CE612D750E117 | B92: 합성고분자계 방수시트 | C92: 가열신축성상 | D92: 회 | E92: =일위대가!F594 -> 0 | F92: =일위대가!H594 -> 0 | G92: =일위대가!J594 -> 0 | H92: =E92+F92+G92 -> 0 | I92: 호표 89
A93: 5C5FC34937E8177C7CE612D750E23E | B93: 합성고분자계 방수시트 | C93: 열화처리 후의 인장성능 | D93: 회 | E93: =일위대가!F601 -> 0 | F93: =일위대가!H601 -> 0 | G93: =일위대가!J601 -> 0 | H93: =E93+F93+G93 -> 0 | I93: 호표 90
A94: 5C5FC34937E8177C7CE612D750E3C4 | B94: 합성고분자계 방수시트 | C94: 신장시의 열화성상 | D94: 회 | E94: =일위대가!F608 -> 0 | F94: =일위대가!H608 -> 0 | G94: =일위대가!J608 -> 0 | H94: =E94+F94+G94 -> 0 | I94: 호표 91
A95: 5C5FC34937E8177C7CE612D750EC21 | B95: 합성고분자계 방수시트 | C95: 접합성상 | D95: 회 | E95: =일위대가!F615 -> 0 | F95: =일위대가!H615 -> 0 | G95: =일위대가!J615 -> 0 | H95: =E95+F95+G95 -> 0 | I95: 호표 92
A96: 5C5FC34937E8177C7CE612D750EDC8 | B96: 합성고분자계 방수시트 | C96: 접합인장성능(복합시트 경우) | D96: 회 | E96: =일위대가!F621 -> 0 | F96: =일위대가!H621 -> 0 | G96: =일위대가!J621 -> 0 | H96: =E96+F96+G96 -> 0 | I96: 호표 93
A97: 5C5FC34937E8177B55D6F9AA50CA8D | B97: 창세트 | C97: 치수 | D97: 회 | E97: =일위대가!F626 -> 0 | F97: =일위대가!H626 -> 0 | G97: =일위대가!J626 -> 0 | H97: =E97+F97+G97 -> 0 | I97: 호표 94
A98: 5C5FC34937E8177B55D6F9AA50C9E6 | B98: 창세트 | C98: 개폐력 | D98: 회 | E98: =일위대가!F632 -> 0 | F98: =일위대가!H632 -> 0 | G98: =일위대가!J632 -> 0 | H98: =E98+F98+G98 -> 0 | I98: 호표 95
A99: 5C5FC34937E8177B55D6F9AA50C8C0 | B99: 창세트 | C99: 개폐반복성 / 스윙창세트 | D99: 회 | E99: =일위대가!F640 -> 0 | F99: =일위대가!H640 -> 0 | G99: =일위대가!J640 -> 0 | H99: =E99+F99+G99 -> 0 | I99: 호표 96
A100: 5C5FC34937E8177B55D6F9AA50CF0F | B100: 창세트 | C100: 개폐반복성 / 슬라이딩창세트 | D100: 회 | E100: =일위대가!F648 -> 0 | F100: =일위대가!H648 -> 0 | G100: =일위대가!J648 -> 0 | H100: =E100+F100+G100 -> 0 | I100: 호표 97
...

Sheet 일위대가
A1: 공사명 : 안용중학교 합숙소 개보수공사
A2: 품 명 | B2: 규 격 | C2: 단위 | D2: 수량 | E2: 재 료 비 | G2: 노 무 비 | I2: 경 비 | K2: 합 계 | M2: 비 고 | N2: 일위대가 | O2: 품목코드 | P2: 일위 | Q2: 단산 | R2: 자재 | S2: 손료적용 | T2: 손료저장 | U2: 적용율 | V2: JUK1 | W2: JUK2 | X2: JUK3 | Y2: JUK4 | Z2: JUK5 | AA2: JUK6 | AB2: JUK7 | AC2: JUK8 | AD2: JUK9 | AE2: JUK10 | AF2: JUK11 | AG2: JUK12 | AH2: JUK13 | AI2: JUK14 | AJ2: JUK15 | AK2: JUK16 | AL2: JUK17 | AM2: JUK18 | AN2: JUK19 | AO2: JUK20 | AP2: 할증적용 | AQ2: 할증저장 | AR2: 할증율 | AS2: HAL1 | AT2: HAL2 | AU2: HAL3 | AV2: 자재구분 | AW2: 일위대가+자재 | AX2: 장비일위 | AY2: 설정 | AZ2: 할증체크
E3: 단 가 | F3: 금 액 | G3: 단 가 | H3: 금 액 | I3: 단 가 | J3: 금 액 | K3: 단 가 | L3: 금 액
A4: 강관 조립말비계(이동식)설치 및 해체 높이 2m, 3개월 대 ( 호표 1 ) | N4: 5C5FC34C3338E0BBE9062AA6600E20
A5: 비계안정장치 | B5: 비계안정장치, 비계기본틀, 기둥, 1.2*1.7m | C5: 개 | D5: 0.14 | E5: =단가대비표!O51 -> 0 | F5: =TRUNC(E5*D5,1) -> 0 | G5: =단가대비표!P51 -> 0 | H5: =TRUNC(G5*D5,1) -> 0 | I5: =단가대비표!V51 -> 0 | J5: =TRUNC(I5*D5,1) -> 0 | K5: =TRUNC(E5+G5+I5,1) -> 0 | L5: =TRUNC(F5+H5+J5,1) -> 0 | N5: 5C5FC34C3338E0BBE9062AA6600E20 | O5: 5B72E38D3EE8A012C76668A26032189DA7DEDD | P5: F | Q5: F | R5: T | AW5: 5C5FC34C3338E0BBE9062AA6600E205B72E38D3EE8A012C76668A26032189DA7DEDD
A6: 비계안정장치 | B6: 비계안정장치, 가새, 1.2*1.9m | C6: 개 | D6: 0.14 | E6: =단가대비표!O52 -> 0 | F6: =TRUNC(E6*D6,1) -> 0 | G6: =단가대비표!P52 -> 0 | H6: =TRUNC(G6*D6,1) -> 0 | I6: =단가대비표!V52 -> 0 | J6: =TRUNC(I6*D6,1) -> 0 | K6: =TRUNC(E6+G6+I6,1) -> 0 | L6: =TRUNC(F6+H6+J6,1) -> 0 | N6: 5C5FC34C3338E0BBE9062AA6600E20 | O6: 5B72E38D3EE8A012C76668A26032189DA7DED3 | P6: F | Q6: F | R6: T | AW6: 5C5FC34C3338E0BBE9062AA6600E205B72E38D3EE8A012C76668A26032189DA7DED3
A7: 비계안정장치 | B7: 비계안정장치, 수평띠장, 1829mm | C7: 개 | D7: 0.28 | E7: =단가대비표!O53 -> 0 | F7: =TRUNC(E7*D7,1) -> 0 | G7: =단가대비표!P53 -> 0 | H7: =TRUNC(G7*D7,1) -> 0 | I7: =단가대비표!V53 -> 0 | J7: =TRUNC(I7*D7,1) -> 0 | K7: =TRUNC(E7+G7+I7,1) -> 0 | L7: =TRUNC(F7+H7+J7,1) -> 0 | N7: 5C5FC34C3338E0BBE9062AA6600E20 | O7: 5B72E38D3EE8A012C76668A26032189DA7D100 | P7: F | Q7: F | R7: T | AW7: 5C5FC34C3338E0BBE9062AA6600E205B72E38D3EE8A012C76668A26032189DA7D100
A8: 비계안정장치 | B8: 비계안정장치, 손잡이기둥 | C8: 개 | D8: 0.28 | E8: =단가대비표!O56 -> 0 | F8: =TRUNC(E8*D8,1) -> 0 | G8: =단가대비표!P56 -> 0 | H8: =TRUNC(G8*D8,1) -> 0 | I8: =단가대비표!V56 -> 0 | J8: =TRUNC(I8*D8,1) -> 0 | K8: =TRUNC(E8+G8+I8,1) -> 0 | L8: =TRUNC(F8+H8+J8,1) -> 0 | N8: 5C5FC34C3338E0BBE9062AA6600E20 | O8: 5B72E38D3EE8A012C76668A26032189DA7D107 | P8: F | Q8: F | R8: T | AW8: 5C5FC34C3338E0BBE9062AA6600E205B72E38D3EE8A012C76668A26032189DA7D107
A9: 비계안정장치 | B9: 비계안정장치, 손잡이, 1229mm | C9: 개 | D9: 0.14 | E9: =단가대비표!O54 -> 0 | F9: =TRUNC(E9*D9,1) -> 0 | G9: =단가대비표!P54 -> 0 | H9: =TRUNC(G9*D9,1) -> 0 | I9: =단가대비표!V54 -> 0 | J9: =TRUNC(I9*D9,1) -> 0 | K9: =TRUNC(E9+G9+I9,1) -> 0 | L9: =TRUNC(F9+H9+J9,1) -> 0 | N9: 5C5FC34C3338E0BBE9062AA6600E20 | O9: 5B72E38D3EE8A012C76668A26032189DA7D101 | P9: F | Q9: F | R9: T | AW9: 5C5FC34C3338E0BBE9062AA6600E205B72E38D3EE8A012C76668A26032189DA7D101
A10: 비계안정장치 | B10: 비계안정장치, 손잡이, 1829mm | C10: 개 | D10: 0.28 | E10: =단가대비표!O55 -> 0 | F10: =TRUNC(E10*D10,1) -> 0 | G10: =단가대비표!P55 -> 0 | H10: =TRUNC(G10*D10,1) -> 0 | I10: =단가대비표!V55 -> 0 | J10: =TRUNC(I10*D10,1) -> 0 | K10: =TRUNC(E10+G10+I10,1) -> 0 | L10: =TRUNC(F10+H10+J10,1) -> 0 | N10: 5C5FC34C3338E0BBE9062AA6600E20 | O10: 5B72E38D3EE8A012C76668A26032189DA7D106 | P10: F | Q10: F | R10: T | AW10: 5C5FC34C3338E0BBE9062AA6600E205B72E38D3EE8A012C76668A26032189DA7D106
A11: 비계안정장치 | B11: 비계안정장치, 바퀴 | C11: 개 | D11: 0.36 | E11: =단가대비표!O57 -> 0 | F11: =TRUNC(E11*D11,1) -> 0 | G11: =단가대비표!P57 -> 0 | H11: =TRUNC(G11*D11,1) -> 0 | I11: =단가대비표!V57 -> 0 | J11: =TRUNC(I11*D11,1) -> 0 | K11: =TRUNC(E11+G11+I11,1) -> 0 | L11: =TRUNC(F11+H11+J11,1) -> 0 | N11: 5C5FC34C3338E0BBE9062AA6600E20 | O11: 5B72E38D3EE8A012C76668A26032189DA7D104 | P11: F | Q11: F | R11: T | AW11: 5C5FC34C3338E0BBE9062AA6600E205B72E38D3EE8A012C76668A26032189DA7D104
A12: 비계안정장치 | B12: 비계안정장치, 쟈키 | C12: 개 | D12: 0.36 | E12: =단가대비표!O58 -> 0 | F12: =TRUNC(E12*D12,1) -> 0 | G12: =단가대비표!P58 -> 0 | H12: =TRUNC(G12*D12,1) -> 0 | I12: =단가대비표!V58 -> 0 | J12: =TRUNC(I12*D12,1) -> 0 | K12: =TRUNC(E12+G12+I12,1) -> 0 | L12: =TRUNC(F12+H12+J12,1) -> 0 | N12: 5C5FC34C3338E0BBE9062AA6600E20 | O12: 5B72E38D3EE8A012C76668A26032189DA7D105 | P12: F | Q12: F | R12: T | AW12: 5C5FC34C3338E0BBE9062AA6600E205B72E38D3EE8A012C76668A26032189DA7D105
A13: 비계안정장치 | B13: 비계안정장치, 발판, 40*400*1829 | C13: 장 | D13: 0.315 | E13: =단가대비표!O59 -> 0 | F13: =TRUNC(E13*D13,1) -> 0 | G13: =단가대비표!P59 -> 0 | H13: =TRUNC(G13*D13,1) -> 0 | I13: =단가대비표!V59 -> 0 | J13: =TRUNC(I13*D13,1) -> 0 | K13: =TRUNC(E13+G13+I13,1) -> 0 | L13: =TRUNC(F13+H13+J13,1) -> 0 | N13: 5C5FC34C3338E0BBE9062AA6600E20 | O13: 5B72E38D3EE8A012C76668A240052BA43F5C8F | P13: F | Q13: F | R13: T | AW13: 5C5FC34C3338E0BBE9062AA6600E205B72E38D3EE8A012C76668A240052BA43F5C8F
A14: 강관 조립말비계(이동식)설치 및 해체 | B14: 높이 2m, 노무비 | C14: 대 | D14: 1 | E14: =일위대가목록!E139 -> 0 | F14: =TRUNC(E14*D14,1) -> 0 | G14: =일위대가목록!F139 -> 0 | H14: =TRUNC(G14*D14,1) -> 0 | I14: =일위대가목록!G139 -> 0 | J14: =TRUNC(I14*D14,1) -> 0 | K14: =TRUNC(E14+G14+I14,1) -> 0 | L14: =TRUNC(F14+H14+J14,1) -> 0 | M14: 호표 136 | N14: 5C5FC34C3338E0BBE9062AA6600E20 | O14: 5C5FC34C3338E0BBE9062AB0D0F850 | P14: T | Q14: F | R14: F | AW14: 5C5FC34C3338E0BBE9062AA6600E205C5FC34C3338E0BBE9062AB0D0F850
A15: [ 합 계 ] | F15: =TRUNC(SUMIF(N5:N14, N4, F5:F14),0) -> 0 | H15: =TRUNC(SUMIF(N5:N14, N4, H5:H14),0) -> 0 | J15: =TRUNC(SUMIF(N5:N14, N4, J5:J14),0) -> 0 | L15: =F15+H15+J15 -> 0 | N15: TOTAL | O15: TOTAL
A17: 강관 조립말비계(이동식)설치 및 해체 높이 4m, 3개월 대 ( 호표 2 ) | N17: 5C5FC34C3338E0BBE9062A95F01C69
A18: 비계안정장치 | B18: 비계안정장치, 비계기본틀, 기둥, 1.2*1.7m | C18: 개 | D18: 0.28 | E18: =단가대비표!O51 -> 0 | F18: =TRUNC(E18*D18,1) -> 0 | G18: =단가대비표!P51 -> 0 | H18: =TRUNC(G18*D18,1) -> 0 | I18: =단가대비표!V51 -> 0 | J18: =TRUNC(I18*D18,1) -> 0 | K18: =TRUNC(E18+G18+I18,1) -> 0 | L18: =TRUNC(F18+H18+J18,1) -> 0 | N18: 5C5FC34C3338E0BBE9062A95F01C69 | O18: 5B72E38D3EE8A012C76668A26032189DA7DEDD | P18: F | Q18: F | R18: T | AW18: 5C5FC34C3338E0BBE9062A95F01C695B72E38D3EE8A012C76668A26032189DA7DEDD
A19: 비계안정장치 | B19: 비계안정장치, 가새, 1.2*1.9m | C19: 개 | D19: 0.28 | E19: =단가대비표!O52 -> 0 | F19: =TRUNC(E19*D19,1) -> 0 | G19: =단가대비표!P52 -> 0 | H19: =TRUNC(G19*D19,1) -> 0 | I19: =단가대비표!V52 -> 0 | J19: =TRUNC(I19*D19,1) -> 0 | K19: =TRUNC(E19+G19+I19,1) -> 0 | L19: =TRUNC(F19+H19+J19,1) -> 0 | N19: 5C5FC34C3338E0BBE9062A95F01C69 | O19: 5B72E38D3EE8A012C76668A26032189DA7DED3 | P19: F | Q19: F | R19: T | AW19: 5C5FC34C3338E0BBE9062A95F01C695B72E38D3EE8A012C76668A26032189DA7DED3
A20: 비계안정장치 | B20: 비계안정장치, 수평띠장, 1829mm | C20: 개 | D20: 0.56 | E20: =단가대비표!O53 -> 0 | F20: =TRUNC(E20*D20,1) -> 0 | G20: =단가대비표!P53 -> 0 | H20: =TRUNC(G20*D20,1) -> 0 | I20: =단가대비표!V53 -> 0 | J20: =TRUNC(I20*D20,1) -> 0 | K20: =TRUNC(E20+G20+I20,1) -> 0 | L20: =TRUNC(F20+H20+J20,1) -> 0 | N20: 5C5FC34C3338E0BBE9062A95F01C69 | O20: 5B72E38D3EE8A012C76668A26032189DA7D100 | P20: F | Q20: F | R20: T | AW20: 5C5FC34C3338E0BBE9062A95F01C695B72E38D3EE8A012C76668A26032189DA7D100
A21: 비계안정장치 | B21: 비계안정장치, 손잡이기둥 | C21: 개 | D21: 0.28 | E21: =단가대비표!O56 -> 0 | F21: =TRUNC(E21*D21,1) -> 0 | G21: =단가대비표!P56 -> 0 | H21: =TRUNC(G21*D21,1) -> 0 | I21: =단가대비표!V56 -> 0 | J21: =TRUNC(I21*D21,1) -> 0 | K21: =TRUNC(E21+G21+I21,1) -> 0 | L21: =TRUNC(F21+H21+J21,1) -> 0 | N21: 5C5FC34C3338E0BBE9062A95F01C69 | O21: 5B72E38D3EE8A012C76668A26032189DA7D107 | P21: F | Q21: F | R21: T | AW21: 5C5FC34C3338E0BBE9062A95F01C695B72E38D3EE8A012C76668A26032189DA7D107
A22: 비계안정장치 | B22: 비계안정장치, 손잡이, 1229mm | C22: 개 | D22: 0.14 | E22: =단가대비표!O54 -> 0 | F22: =TRUNC(E22*D22,1) -> 0 | G22: =단가대비표!P54 -> 0 | H22: =TRUNC(G22*D22,1) -> 0 | I22: =단가대비표!V54 -> 0 | J22: =TRUNC(I22*D22,1) -> 0 | K22: =TRUNC(E22+G22+I22,1) -> 0 | L22: =TRUNC(F22+H22+J22,1) -> 0 | N22: 5C5FC34C3338E0BBE9062A95F01C69 | O22: 5B72E38D3EE8A012C76668A26032189DA7D101 | P22: F | Q22: F | R22: T | AW22: 5C5FC34C3338E0BBE9062A95F01C695B72E38D3EE8A012C76668A26032189DA7D101
A23: 비계안정장치 | B23: 비계안정장치, 손잡이, 1829mm | C23: 개 | D23: 0.28 | E23: =단가대비표!O55 -> 0 | F23: =TRUNC(E23*D23,1) -> 0 | G23: =단가대비표!P55 -> 0 | H23: =TRUNC(G23*D23,1) -> 0 | I23: =단가대비표!V55 -> 0 | J23: =TRUNC(I23*D23,1) -> 0 | K23: =TRUNC(E23+G23+I23,1) -> 0 | L23: =TRUNC(F23+H23+J23,1) -> 0 | N23: 5C5FC34C3338E0BBE9062A95F01C69 | O23: 5B72E38D3EE8A012C76668A26032189DA7D106 | P23: F | Q23: F | R23: T | AW23: 5C5FC34C3338E0BBE9062A95F01C695B72E38D3EE8A012C76668A26032189DA7D106
A24: 비계안정장치 | B24: 비계안정장치, 이음철물, 연결핀 | C24: 개 | D24: 0.48 | E24: =단가대비표!O50 -> 0 | F24: =TRUNC(E24*D24,1) -> 0 | G24: =단가대비표!P50 -> 0 | H24: =TRUNC(G24*D24,1) -> 0 | I24: =단가대비표!V50 -> 0 | J24: =TRUNC(I24*D24,1) -> 0 | K24: =TRUNC(E24+G24+I24,1) -> 0 | L24: =TRUNC(F24+H24+J24,1) -> 0 | N24: 5C5FC34C3338E0BBE9062A95F01C69 | O24: 5B72E38D3EE8A012C76668A26032189DA7DC2A | P24: F | Q24: F | R24: T | AW24: 5C5FC34C3338E0BBE9062A95F01C695B72E38D3EE8A012C76668A26032189DA7DC2A
A25: 비계안정장치 | B25: 비계안정장치, 바퀴 | C25: 개 | D25: 0.36 | E25: =단가대비표!O57 -> 0 | F25: =TRUNC(E25*D25,1) -> 0 | G25: =단가대비표!P57 -> 0 | H25: =TRUNC(G25*D25,1) -> 0 | I25: =단가대비표!V57 -> 0 | J25: =TRUNC(I25*D25,1) -> 0 | K25: =TRUNC(E25+G25+I25,1) -> 0 | L25: =TRUNC(F25+H25+J25,1) -> 0 | N25: 5C5FC34C3338E0BBE9062A95F01C69 | O25: 5B72E38D3EE8A012C76668A26032189DA7D104 | P25: F | Q25: F | R25: T | AW25: 5C5FC34C3338E0BBE9062A95F01C695B72E38D3EE8A012C76668A26032189DA7D104
A26: 비계안정장치 | B26: 비계안정장치, 쟈키 | C26: 개 | D26: 0.36 | E26: =단가대비표!O58 -> 0 | F26: =TRUNC(E26*D26,1) -> 0 | G26: =단가대비표!P58 -> 0 | H26: =TRUNC(G26*D26,1) -> 0 | I26: =단가대비표!V58 -> 0 | J26: =TRUNC(I26*D26,1) -> 0 | K26: =TRUNC(E26+G26+I26,1) -> 0 | L26: =TRUNC(F26+H26+J26,1) -> 0 | N26: 5C5FC34C3338E0BBE9062A95F01C69 | O26: 5B72E38D3EE8A012C76668A26032189DA7D105 | P26: F | Q26: F | R26: T | AW26: 5C5FC34C3338E0BBE9062A95F01C695B72E38D3EE8A012C76668A26032189DA7D105
A27: 비계안정장치 | B27: 비계안정장치, 발판, 40*400*1829 | C27: 장 | D27: 0.315 | E27: =단가대비표!O59 -> 0 | F27: =TRUNC(E27*D27,1) -> 0 | G27: =단가대비표!P59 -> 0 | H27: =TRUNC(G27*D27,1) -> 0 | I27: =단가대비표!V59 -> 0 | J27: =TRUNC(I27*D27,1) -> 0 | K27: =TRUNC(E27+G27+I27,1) -> 0 | L27: =TRUNC(F27+H27+J27,1) -> 0 | N27: 5C5FC34C3338E0BBE9062A95F01C69 | O27: 5B72E38D3EE8A012C76668A240052BA43F5C8F | P27: F | Q27: F | R27: T | AW27: 5C5FC34C3338E0BBE9062A95F01C695B72E38D3EE8A012C76668A240052BA43F5C8F
A28: 강관 조립말비계(이동식)설치 및 해체 | B28: 높이 4m, 노무비 | C28: 대 | D28: 1 | E28: =일위대가목록!E140 -> 0 | F28: =TRUNC(E28*D28,1) -> 0 | G28: =일위대가목록!F140 -> 0 | H28: =TRUNC(G28*D28,1) -> 0 | I28: =일위대가목록!G140 -> 0 | J28: =TRUNC(I28*D28,1) -> 0 | K28: =TRUNC(E28+G28+I28,1) -> 0 | L28: =TRUNC(F28+H28+J28,1) -> 0 | M28: 호표 137 | N28: 5C5FC34C3338E0BBE9062A95F01C69 | O28: 5C5FC34C3338E0BBE9062AB0D0FB25 | P28: T | Q28: F | R28: F | AW28: 5C5FC34C3338E0BBE9062A95F01C695C5FC34C3338E0BBE9062AB0D0FB25
A29: [ 합 계 ] | F29: =TRUNC(SUMIF(N18:N28, N17, F18:F28),0) -> 0 | H29: =TRUNC(SUMIF(N18:N28, N17, H18:H28),0) -> 0 | J29: =TRUNC(SUMIF(N18:N28, N17, J18:J28),0) -> 0 | L29: =F29+H29+J29 -> 0 | N29: TOTAL | O29: TOTAL
A31: 건축물보양 보양지 붙이기 M2 ( 호표 3 ) | N31: 5C5FC34937E814A89FF636B9000787
A32: 공통자재 | B32: 하드롱지 | C32: M2 | D32: 1.2 | E32: =단가대비표!O20 -> 0 | F32: =TRUNC(E32*D32,1) -> 0 | G32: =단가대비표!P20 -> 0 | H32: =TRUNC(G32*D32,1) -> 0 | I32: =단가대비표!V20 -> 0 | J32: =TRUNC(I32*D32,1) -> 0 | K32: =TRUNC(E32+G32+I32,1) -> 0 | L32: =TRUNC(F32+H32+J32,1) -> 0 | N32: 5C5FC34937E814A89FF636B9000787 | O32: 5B60C3653C1879220E86998F201AF4C053B55B | P32: F | Q32: F | R32: T | AW32: 5C5FC34937E814A89FF636B90007875B60C3653C1879220E86998F201AF4C053B55B
A33: 합성풀 | B33: 합성풀, 건설용 | C33: kg | D33: 0.06 | E33: =단가대비표!O68 -> 0 | F33: =TRUNC(E33*D33,1) -> 0 | G33: =단가대비표!P68 -> 0 | H33: =TRUNC(G33*D33,1) -> 0 | I33: =단가대비표!V68 -> 0 | J33: =TRUNC(I33*D33,1) -> 0 | K33: =TRUNC(E33+G33+I33,1) -> 0 | L33: =TRUNC(F33+H33+J33,1) -> 0 | N33: 5C5FC34937E814A89FF636B9000787 | O33: 5B72F3913058AAC04ED63F1170528E243E37AB | P33: F | Q33: F | R33: T | AW33: 5C5FC34937E814A89FF636B90007875B72F3913058AAC04ED63F1170528E243E37AB
A34: 보통인부 | B34: 일반공사 직종 | C34: 인 | D34: 0.01 | E34: =단가대비표!O158 -> 0 | F34: =TRUNC(E34*D34,1) -> 0 | G34: =단가대비표!P158 -> 0 | H34: =TRUNC(G34*D34,1) -> 0 | I34: =단가대비표!V158 -> 0 | J34: =TRUNC(I34*D34,1) -> 0 | K34: =TRUNC(E34+G34+I34,1) -> 0 | L34: =TRUNC(F34+H34+J34,1) -> 0 | N34: 5C5FC34937E814A89FF636B9000787 | O34: 5C8413F732B88D0BFFA67D00B0CCC6B7E58E41 | P34: F | Q34: F | R34: T | AW34: 5C5FC34937E814A89FF636B90007875C8413F732B88D0BFFA67D00B0CCC6B7E58E41
A35: [ 합 계 ] | F35: =TRUNC(SUMIF(N32:N34, N31, F32:F34),0) -> 0 | H35: =TRUNC(SUMIF(N32:N34, N31, H32:H34),0) -> 0 | J35: =TRUNC(SUMIF(N32:N34, N31, J32:J34),0) -> 0 | L35: =F35+H35+J35 -> 0 | N35: TOTAL | O35: TOTAL
A37: 건축물 현장정리 마무리용 M2 ( 호표 4 ) | N37: 5C5FC34937D80B8AFE96EAC180DC5B
A38: 보통인부 | B38: 일반공사 직종 | C38: 인 | D38: 0.01 | E38: =단가대비표!O158 -> 0 | F38: =TRUNC(E38*D38,1) -> 0 | G38: =단가대비표!P158 -> 0 | H38: =TRUNC(G38*D38,1) -> 0 | I38: =단가대비표!V158 -> 0 | J38: =TRUNC(I38*D38,1) -> 0 | K38: =TRUNC(E38+G38+I38,1) -> 0 | L38: =TRUNC(F38+H38+J38,1) -> 0 | N38: 5C5FC34937D80B8AFE96EAC180DC5B | O38: 5C8413F732B88D0BFFA67D00B0CCC6B7E58E41 | P38: F | Q38: F | R38: T | AW38: 5C5FC34937D80B8AFE96EAC180DC5B5C8413F732B88D0BFFA67D00B0CCC6B7E58E41
A39: [ 합 계 ] | F39: =TRUNC(SUMIF(N38:N38, N37, F38:F38),0) -> 0 | H39: =TRUNC(SUMIF(N38:N38, N37, H38:H38),0) -> 0 | J39: =TRUNC(SUMIF(N38:N38, N37, J38:J38),0) -> 0 | L39: =F39+H39+J39 -> 0 | N39: TOTAL | O39: TOTAL
A41: 콘크리트 인력비빔 타설 철근구조물 M3 ( 호표 5 ) | N41: 5C5F931F319815F24B4632B030FB3C
A42: 콘크리트공 | B42: 일반공사 직종 | C42: 인 | D42: 0.87 | E42: =단가대비표!O166 -> 0 | F42: =TRUNC(E42*D42,1) -> 0 | G42: =단가대비표!P166 -> 0 | H42: =TRUNC(G42*D42,1) -> 0 | I42: =단가대비표!V166 -> 0 | J42: =TRUNC(I42*D42,1) -> 0 | K42: =TRUNC(E42+G42+I42,1) -> 0 | L42: =TRUNC(F42+H42+J42,1) -> 0 | N42: 5C5F931F319815F24B4632B030FB3C | O42: 5C8413F732B88D0BFFA67D00B0CCC6B7E58F69 | P42: F | Q42: F | R42: T | AW42: 5C5F931F319815F24B4632B030FB3C5C8413F732B88D0BFFA67D00B0CCC6B7E58F69
A43: 보통인부 | B43: 일반공사 직종 | C43: 인 | D43: 0.99 | E43: =단가대비표!O158 -> 0 | F43: =TRUNC(E43*D43,1) -> 0 | G43: =단가대비표!P158 -> 0 | H43: =TRUNC(G43*D43,1) -> 0 | I43: =단가대비표!V158 -> 0 | J43: =TRUNC(I43*D43,1) -> 0 | K43: =TRUNC(E43+G43+I43,1) -> 0 | L43: =TRUNC(F43+H43+J43,1) -> 0 | N43: 5C5F931F319815F24B4632B030FB3C | O43: 5C8413F732B88D0BFFA67D00B0CCC6B7E58E41 | P43: F | Q43: F | R43: T | AW43: 5C5F931F319815F24B4632B030FB3C5C8413F732B88D0BFFA67D00B0CCC6B7E58E41
A44: 배합설계 재료 | B44: 골재 25mm, 배합종류 (A) | C44: M3 | D44: 1 | E44: =일위대가목록!E141 -> 0 | F44: =TRUNC(E44*D44,1) -> 0 | G44: =일위대가목록!F141 -> 0 | H44: =TRUNC(G44*D44,1) -> 0 | I44: =일위대가목록!G141 -> 0 | J44: =TRUNC(I44*D44,1) -> 0 | K44: =TRUNC(E44+G44+I44,1) -> 0 | L44: =TRUNC(F44+H44+J44,1) -> 0 | M44: 호표 138 | N44: 5C5F931F319815F24B4632B030FB3C | O44: 5C5F931F319815F081A68691807A3A | P44: T | Q44: F | R44: F | AW44: 5C5F931F319815F24B4632B030FB3C5C5F931F319815F081A68691807A3A
A45: [ 합 계 ] | F45: =TRUNC(SUMIF(N42:N44, N41, F42:F44),0) -> 0 | H45: =TRUNC(SUMIF(N42:N44, N41, H42:H44),0) -> 0 | J45: =TRUNC(SUMIF(N42:N44, N41, J42:J44),0) -> 0 | L45: =F45+H45+J45 -> 0 | N45: TOTAL | O45: TOTAL
A47: 유로폼 설치 및 해체 3회, 보통, 수직고 7m까지 M2 ( 호표 6 ) | N47: 5C5F93183EE8E0420C36BC35A0DCBC
A48: 유로폼 - 재료비 | B48: 3회, 보통 | C48: 10M2 | D48: 0.1 | E48: =일위대가목록!E142 -> 0 | F48: =TRUNC(E48*D48,1) -> 0 | G48: =일위대가목록!F142 -> 0 | H48: =TRUNC(G48*D48,1) -> 0 | I48: =일위대가목록!G142 -> 0 | J48: =TRUNC(I48*D48,1) -> 0 | K48: =TRUNC(E48+G48+I48,1) -> 0 | L48: =TRUNC(F48+H48+J48,1) -> 0 | M48: 호표 139 | N48: 5C5F93183EE8E0420C36BC35A0DCBC | O48: 5C5F93183EE8E0420DC614DD2057D2 | P48: T | Q48: F | R48: F | AW48: 5C5F93183EE8E0420C36BC35A0DCBC5C5F93183EE8E0420DC614DD2057D2
A49: 유로폼 - 인력투입 | B49: 보통, 수직고 7m까지 | C49: M2 | D49: 1 | E49: =일위대가목록!E143 -> 0 | F49: =TRUNC(E49*D49,1) -> 0 | G49: =일위대가목록!F143 -> 0 | H49: =TRUNC(G49*D49,1) -> 0 | I49: =일위대가목록!G143 -> 0 | J49: =TRUNC(I49*D49,1) -> 0 | K49: =TRUNC(E49+G49+I49,1) -> 0 | L49: =TRUNC(F49+H49+J49,1) -> 0 | M49: 호표 140 | N49: 5C5F93183EE8E0420C36BC35A0DCBC | O49: 5C5F93183EE8E0420DC637BED0F259 | P49: T | Q49: F | R49: F | AW49: 5C5F93183EE8E0420C36BC35A0DCBC5C5F93183EE8E0420DC637BED0F259
A50: [ 합 계 ] | F50: =TRUNC(SUMIF(N48:N49, N47, F48:F49),0) -> 0 | H50: =TRUNC(SUMIF(N48:N49, N47, H48:H49),0) -> 0 | J50: =TRUNC(SUMIF(N48:N49, N47, J48:J49),0) -> 0 | L50: =F50+H50+J50 -> 0 | N50: TOTAL | O50: TOTAL
A52: 철근 현장가공 및 현장조립 Type-Ⅰ TON ( 호표 7 ) | N52: 5C5F931B3BE8E493FC96FAD4C070ED
A53: 철근 현장가공 | B53: Type-Ⅰ | C53: TON | D53: 1 | E53: =일위대가목록!E144 -> 0 | F53: =TRUNC(E53*D53,1) -> 0 | G53: =일위대가목록!F144 -> 0 | H53: =TRUNC(G53*D53,1) -> 0 | I53: =일위대가목록!G144 -> 0 | J53: =TRUNC(I53*D53,1) -> 0 | K53: =TRUNC(E53+G53+I53,1) -> 0 | L53: =TRUNC(F53+H53+J53,1) -> 0 | M53: 호표 141 | N53: 5C5F931B3BE8E493FC96FAD4C070ED | O53: 5C5F931B3BE8E493FC96FAD4D016B1 | P53: T | Q53: F | R53: F | AW53: 5C5F931B3BE8E493FC96FAD4C070ED5C5F931B3BE8E493FC96FAD4D016B1
A54: 철근 현장조립 | B54: Type-Ⅰ | C54: TON | D54: 1 | E54: =일위대가목록!E145 -> 0 | F54: =TRUNC(E54*D54,1) -> 0 | G54: =일위대가목록!F145 -> 0 | H54: =TRUNC(G54*D54,1) -> 0 | I54: =일위대가목록!G145 -> 0 | J54: =TRUNC(I54*D54,1) -> 0 | K54: =TRUNC(E54+G54+I54,1) -> 0 | L54: =TRUNC(F54+H54+J54,1) -> 0 | M54: 호표 142 | N54: 5C5F931B3BE8E493FC96FAD4C070ED | O54: 5C5F931B3BE8E493FC96FAD4D015AA | P54: T | Q54: F | R54: F | AW54: 5C5F931B3BE8E493FC96FAD4C070ED5C5F931B3BE8E493FC96FAD4D015AA
A55: [ 합 계 ] | F55: =TRUNC(SUMIF(N53:N54, N52, F53:F54),0) -> 0 | H55: =TRUNC(SUMIF(N53:N54, N52, H53:H54),0) -> 0 | J55: =TRUNC(SUMIF(N53:N54, N52, J53:J54),0) -> 0 | L55: =F55+H55+J55 -> 0 | N55: TOTAL | O55: TOTAL
A57: 케미컬앵커 HY 200R V3 + HD13 L:480 개소 ( 호표 8 ) | N57: 5C5F931B3BA8738CA15636E7901DC4
A58: 착암공 | B58: 일반공사 직종 | C58: 인 | D58: 0.031818 | E58: =단가대비표!O167 -> 0 | F58: =TRUNC(E58*D58,1) -> 0 | G58: =단가대비표!P167 -> 0 | H58: =TRUNC(G58*D58,1) -> 0 | I58: =단가대비표!V167 -> 0 | J58: =TRUNC(I58*D58,1) -> 0 | K58: =TRUNC(E58+G58+I58,1) -> 0 | L58: =TRUNC(F58+H58+J58,1) -> 0 | N58: 5C5F931B3BA8738CA15636E7901DC4 | O58: 5C8413F732B88D0BFFA67D00B0CCC6B7E58F6F | P58: F | Q58: F | R58: T | AW58: 5C5F931B3BA8738CA15636E7901DC45C8413F732B88D0BFFA67D00B0CCC6B7E58F6F
A59: 특별인부 | B59: 일반공사 직종 | C59: 인 | D59: 0.036364 | E59: =단가대비표!O159 -> 0 | F59: =TRUNC(E59*D59,1) -> 0 | G59: =단가대비표!P159 -> 0 | H59: =TRUNC(G59*D59,1) -> 0 | I59: =단가대비표!V159 -> 0 | J59: =TRUNC(I59*D59,1) -> 0 | K59: =TRUNC(E59+G59+I59,1) -> 0 | L59: =TRUNC(F59+H59+J59,1) -> 0 | N59: 5C5F931B3BA8738CA15636E7901DC4 | O59: 5C8413F732B88D0BFFA67D00B0CCC6B7E58E40 | P59: F | Q59: F | R59: T | AW59: 5C5F931B3BA8738CA15636E7901DC45C8413F732B88D0BFFA67D00B0CCC6B7E58E40
A60: 보통인부 | B60: 일반공사 직종 | C60: 인 | D60: 0.022727 | E60: =단가대비표!O158 -> 0 | F60: =TRUNC(E60*D60,1) -> 0 | G60: =단가대비표!P158 -> 0 | H60: =TRUNC(G60*D60,1) -> 0 | I60: =단가대비표!V158 -> 0 | J60: =TRUNC(I60*D60,1) -> 0 | K60: =TRUNC(E60+G60+I60,1) -> 0 | L60: =TRUNC(F60+H60+J60,1) -> 0 | N60: 5C5F931B3BA8738CA15636E7901DC4 | O60: 5C8413F732B88D0BFFA67D00B0CCC6B7E58E41 | P60: F | Q60: F | R60: T | AW60: 5C5F931B3BA8738CA15636E7901DC45C8413F732B88D0BFFA67D00B0CCC6B7E58E41
A61: 함마드릴 | B61: TE 6-22 | C61: 대 | D61: 0.000283 | E61: =단가대비표!O144 -> 0 | F61: =TRUNC(E61*D61,1) -> 0 | G61: =단가대비표!P144 -> 0 | H61: =TRUNC(G61*D61,1) -> 0 | I61: =단가대비표!V144 -> 0 | J61: =TRUNC(I61*D61,1) -> 0 | K61: =TRUNC(E61+G61+I61,1) -> 0 | L61: =TRUNC(F61+H61+J61,1) -> 0 | M61: 힐티코리아 | N61: 5C5F931B3BA8738CA15636E7901DC4 | O61: 5BDCD3C636488E99DE46B4D1909473A573D5F4 | P61: F | Q61: F | R61: T | AW61: 5C5F931B3BA8738CA15636E7901DC45BDCD3C636488E99DE46B4D1909473A573D5F4
A62: 드릴비트 | B62: TE-CX 16/27 | C62: 개 | D62: 0.0025 | E62: =단가대비표!O146 -> 0 | F62: =TRUNC(E62*D62,1) -> 0 | G62: =단가대비표!P146 -> 0 | H62: =TRUNC(G62*D62,1) -> 0 | I62: =단가대비표!V146 -> 0 | J62: =TRUNC(I62*D62,1) -> 0 | K62: =TRUNC(E62+G62+I62,1) -> 0 | L62: =TRUNC(F62+H62+J62,1) -> 0 | N62: 5C5F931B3BA8738CA15636E7901DC4 | O62: 5BDCD3C636488E99DE468F9DA06987E914DC38 | P62: F | Q62: F | R62: T | AW62: 5C5F931B3BA8738CA15636E7901DC45BDCD3C636488E99DE468F9DA06987E914DC38
A63: 케미컬약액 | B63: HY 200 | C63: ml | D63: 13.4 | E63: =단가대비표!O147 -> 0 | F63: =TRUNC(E63*D63,1) -> 0 | G63: =단가대비표!P147 -> 0 | H63: =TRUNC(G63*D63,1) -> 0 | I63: =단가대비표!V147 -> 0 | J63: =TRUNC(I63*D63,1) -> 0 | K63: =TRUNC(E63+G63+I63,1) -> 0 | L63: =TRUNC(F63+H63+J63,1) -> 0 | N63: 5C5F931B3BA8738CA15636E7901DC4 | O63: 5BDCD3C636488E99DE46980AC0C39171CF2CA7 | P63: F | Q63: F | R63: T | AW63: 5C5F931B3BA8738CA15636E7901DC45BDCD3C636488E99DE46980AC0C39171CF2CA7
A64: 주입 건 | B64: Dispenser HDM 330 | C64: Set | D64: 8.1e-05 | E64: =단가대비표!O148 -> 0 | F64: =TRUNC(E64*D64,1) -> 0 | G64: =단가대비표!P148 -> 0 | H64: =TRUNC(G64*D64,1) -> 0 | I64: =단가대비표!V148 -> 0 | J64: =TRUNC(I64*D64,1) -> 0 | K64: =TRUNC(E64+G64+I64,1) -> 0 | L64: =TRUNC(F64+H64+J64,1) -> 0 | N64: 5C5F931B3BA8738CA15636E7901DC4 | O64: 5BDCD3C636488E99DE46E02E704DE9680A1EAB | P64: F | Q64: F | R64: T | AW64: 5C5F931B3BA8738CA15636E7901DC45BDCD3C636488E99DE46E02E704DE9680A1EAB
A65: 철근콘크리트용봉강 | B65: 이형봉강(SD500), SH-13, 점포상차도 | C65: TON | D65: 0.000492 | E65: =단가대비표!O21 -> 0 | F65: =TRUNC(E65*D65,1) -> 0 | G65: =단가대비표!P21 -> 0 | H65: =TRUNC(G65*D65,1) -> 0 | I65: =단가대비표!V21 -> 0 | J65: =TRUNC(I65*D65,1) -> 0 | K65: =TRUNC(E65+G65+I65,1) -> 0 | L65: =TRUNC(F65+H65+J65,1) -> 0 | N65: 5C5F931B3BA8738CA15636E7901DC4 | O65: 5B72E38D3E787375D53615E800281750A73D91 | P65: F | Q65: F | R65: T | AW65: 5C5F931B3BA8738CA15636E7901DC45B72E38D3E787375D53615E800281750A73D91
A66: [ 합 계 ] | F66: =TRUNC(SUMIF(N58:N65, N57, F58:F65),0) -> 0 | H66: =TRUNC(SUMIF(N58:N65, N57, H58:H65),0) -> 0 | J66: =TRUNC(SUMIF(N58:N65, N57, J58:J65),0) -> 0 | L66: =F66+H66+J66 -> 0 | N66: TOTAL | O66: TOTAL
A68: 콘크리트 치핑 소형치핑장비활용 M2 ( 호표 9 ) | N68: 5C5F930B317815D891A6B0F120DEB4
A69: 특별인부 | B69: 일반공사 직종 | C69: 인 | D69: 0.12 | E69: =단가대비표!O159 -> 0 | F69: =TRUNC(E69*D69,1) -> 0 | G69: =단가대비표!P159 -> 0 | H69: =TRUNC(G69*D69,1) -> 0 | I69: =단가대비표!V159 -> 0 | J69: =TRUNC(I69*D69,1) -> 0 | K69: =TRUNC(E69+G69+I69,1) -> 0 | L69: =TRUNC(F69+H69+J69,1) -> 0 | N69: 5C5F930B317815D891A6B0F120DEB4 | O69: 5C8413F732B88D0BFFA67D00B0CCC6B7E58E40 | P69: F | Q69: F | R69: T | V69: 1 | AW69: 5C5F930B317815D891A6B0F120DEB45C8413F732B88D0BFFA67D00B0CCC6B7E58E40
A70: 보통인부 | B70: 일반공사 직종 | C70: 인 | D70: 0.02 | E70: =단가대비표!O158 -> 0 | F70: =TRUNC(E70*D70,1) -> 0 | G70: =단가대비표!P158 -> 0 | H70: =TRUNC(G70*D70,1) -> 0 | I70: =단가대비표!V158 -> 0 | J70: =TRUNC(I70*D70,1) -> 0 | K70: =TRUNC(E70+G70+I70,1) -> 0 | L70: =TRUNC(F70+H70+J70,1) -> 0 | N70: 5C5F930B317815D891A6B0F120DEB4 | O70: 5C8413F732B88D0BFFA67D00B0CCC6B7E58E41 | P70: F | Q70: F | R70: T | V70: 1 | AW70: 5C5F930B317815D891A6B0F120DEB45C8413F732B88D0BFFA67D00B0CCC6B7E58E41
A71: 공구손료 및 경장비의 기계경비 | B71: 인력품의 8% | C71: 식 | D71: 1 | E71: 0 | F71: =TRUNC(E71*D71,1) -> 0 | G71: 0 | H71: =TRUNC(G71*D71,1) -> 0 | I71: =TRUNC(SUMIF(V69:V71, RIGHTB(O71, 1), H69:H71)*U71, 2) -> 0 | J71: =TRUNC(I71*D71,1) -> 0 | K71: =TRUNC(E71+G71+I71,1) -> 0 | L71: =TRUNC(F71+H71+J71,1) -> 0 | N71: 5C5F930B317815D891A6B0F120DEB4 | O71: 5D4123DB36B8ABE80956914DC047001 | P71: F | Q71: F | R71: F | S71: 1 | T71: 2 | U71: 0.08 | AW71: 5C5F930B317815D891A6B0F120DEB45D4123DB36B8ABE80956914DC047001
A72: [ 합 계 ] | F72: =TRUNC(SUMIF(N69:N71, N68, F69:F71),0) -> 0 | H72: =TRUNC(SUMIF(N69:N71, N68, H69:H71),0) -> 0 | J72: =TRUNC(SUMIF(N69:N71, N68, J69:J71),0) -> 0 | L72: =F72+H72+J72 -> 0 | N72: TOTAL | O72: TOTAL
A74: 철골 가공 조립(적은 구조) Rolled shape, 60ton 미만 TON ( 호표 10 ) | N74: 5C5F83313918C631CB76CA6CB04273
A75: 철골공수 산정방법<소요 부자재량> | B75: H형강부재(Rolled shape) | C75: TON | D75: 1 | E75: =일위대가목록!E146 -> 0 | F75: =TRUNC(E75*D75,1) -> 0 | G75: =일위대가목록!F146 -> 0 | H75: =TRUNC(G75*D75,1) -> 0 | I75: =일위대가목록!G146 -> 0 | J75: =TRUNC(I75*D75,1) -> 0 | K75: =TRUNC(E75+G75+I75,1) -> 0 | L75: =TRUNC(F75+H75+J75,1) -> 0 | M75: 호표 143 | N75: 5C5F83313918C631CB76CA6CB04273 | O75: 5C5F83313918C631CB76CA7D20B571 | P75: T | Q75: F | R75: F | AW75: 5C5F83313918C631CB76CA6CB042735C5F83313918C631CB76CA7D20B571
A76: 철골공 | B76: 일반공사 직종 | C76: 인 | D76: 1.5407 | E76: =단가대비표!O164 -> 0 | F76: =TRUNC(E76*D76,1) -> 0 | G76: =단가대비표!P164 -> 0 | H76: =TRUNC(G76*D76,1) -> 0 | I76: =단가대비표!V164 -> 0 | J76: =TRUNC(I76*D76,1) -> 0 | K76: =TRUNC(E76+G76+I76,1) -> 0 | L76: =TRUNC(F76+H76+J76,1) -> 0 | N76: 5C5F83313918C631CB76CA6CB04273 | O76: 5C8413F732B88D0BFFA67D00B0CCC6B7E58F6B | P76: F | Q76: F | R76: T | V76: 1 | AW76: 5C5F83313918C631CB76CA6CB042735C8413F732B88D0BFFA67D00B0CCC6B7E58F6B
A77: 제경비 | B77: 인력품의 60% | C77: 식 | D77: 1 | E77: 0 | F77: =TRUNC(E77*D77,1) -> 0 | G77: 0 | H77: =TRUNC(G77*D77,1) -> 0 | I77: =TRUNC(SUMIF(V75:V77, RIGHTB(O77, 1), H75:H77)*U77, 2) -> 0 | J77: =TRUNC(I77*D77,1) -> 0 | K77: =TRUNC(E77+G77+I77,1) -> 0 | L77: =TRUNC(F77+H77+J77,1) -> 0 | N77: 5C5F83313918C631CB76CA6CB04273 | O77: 5D4123DB36B8ABE80956914DC047001 | P77: F | Q77: F | R77: F | S77: 1 | T77: 2 | U77: 0.6 | AW77: 5C5F83313918C631CB76CA6CB042735D4123DB36B8ABE80956914DC047001
A78: [ 합 계 ] | F78: =TRUNC(SUMIF(N75:N77, N74, F75:F77),0) -> 0 | H78: =TRUNC(SUMIF(N75:N77, N74, H75:H77),0) -> 0 | J78: =TRUNC(SUMIF(N75:N77, N74, J75:J77),0) -> 0 | L78: =F78+H78+J78 -> 0 | N78: TOTAL | O78: TOTAL
A80: 철골세우기 - 6층 미만 0~49kg/m2, 10ton미만 TON ( 호표 11 ) | N80: 5C5F833733B833722116051680B5DC
A81: 육각볼트 | B81: 육각볼트, M20*100 | C81: 개 | D81: 0.8 | E81: =단가대비표!O63 -> 0 | F81: =TRUNC(E81*D81,1) -> 0 | G81: =단가대비표!P63 -> 0 | H81: =TRUNC(G81*D81,1) -> 0 | I81: =단가대비표!V63 -> 0 | J81: =TRUNC(I81*D81,1) -> 0 | K81: =TRUNC(E81+G81+I81,1) -> 0 | L81: =TRUNC(F81+H81+J81,1) -> 0 | N81: 5C5F833733B833722116051680B5DC | O81: 5B72F39232A8869222368E19C0CB3CC05401A6 | P81: F | Q81: F | R81: T | AW81: 5C5F833733B833722116051680B5DC5B72F39232A8869222368E19C0CB3CC05401A6
A82: 철골세우기 - 표준단가 | B82: 6층 미만 | C82: TON | D82: 1.742 | E82: =일위대가목록!E147 -> 0 | F82: =TRUNC(E82*D82,1) -> 0 | G82: =일위대가목록!F147 -> 0 | H82: =TRUNC(G82*D82,1) -> 0 | I82: =일위대가목록!G147 -> 0 | J82: =TRUNC(I82*D82,1) -> 0 | K82: =TRUNC(E82+G82+I82,1) -> 0 | L82: =TRUNC(F82+H82+J82,1) -> 0 | M82: 호표 144 | N82: 5C5F833733B833722116051680B5DC | O82: 5C5F833733B833722116051680B435 | P82: T | Q82: F | R82: F | AW82: 5C5F833733B833722116051680B5DC5C5F833733B833722116051680B435
A83: [ 합 계 ] | F83: =TRUNC(SUMIF(N81:N82, N80, F81:F82),0) -> 0 | H83: =TRUNC(SUMIF(N81:N82, N80, H81:H82),0) -> 0 | J83: =TRUNC(SUMIF(N81:N82, N80, J81:J82),0) -> 0 | L83: =F83+H83+J83 -> 0 | N83: TOTAL | O83: TOTAL
A85: 수용접(Rolled shape 제작) 20(m/t) 미만, 30ton 미만 TON ( 호표 12 ) | N85: 5C5F8337330828CF6BE66EF100C56E
A86: 용접봉(연강용) | B86: 3.2(KSE4301) | C86: kg | D86: 8.4 | E86: =단가대비표!O19 -> 0 | F86: =TRUNC(E86*D86,1) -> 0 | G86: =단가대비표!P19 -> 0 | H86: =TRUNC(G86*D86,1) -> 0 | I86: =단가대비표!V19 -> 0 | J86: =TRUNC(I86*D86,1) -> 0 | K86: =TRUNC(E86+G86+I86,1) -> 0 | L86: =TRUNC(F86+H86+J86,1) -> 0 | N86: 5C5F8337330828CF6BE66EF100C56E | O86: 5B60B35F3F28EED073760666C0E25219B1095E | P86: F | Q86: F | R86: T | AW86: 5C5F8337330828CF6BE66EF100C56E5B60B35F3F28EED073760666C0E25219B1095E
A87: 용접공 | B87: 일반공사 직종 | C87: 인 | D87: 0.2184 | E87: =단가대비표!O165 -> 0 | F87: =TRUNC(E87*D87,1) -> 0 | G87: =단가대비표!P165 -> 0 | H87: =TRUNC(G87*D87,1) -> 0 | I87: =단가대비표!V165 -> 0 | J87: =TRUNC(I87*D87,1) -> 0 | K87: =TRUNC(E87+G87+I87,1) -> 0 | L87: =TRUNC(F87+H87+J87,1) -> 0 | N87: 5C5F8337330828CF6BE66EF100C56E | O87: 5C8413F732B88D0BFFA67D00B0CCC6B7E58F68 | P87: F | Q87: F | R87: T | V87: 1 | AW87: 5C5F8337330828CF6BE66EF100C56E5C8413F732B88D0BFFA67D00B0CCC6B7E58F68
A88: 제경비 | B88: 인력품의 60% | C88: 식 | D88: 1 | E88: 0 | F88: =TRUNC(E88*D88,1) -> 0 | G88: 0 | H88: =TRUNC(G88*D88,1) -> 0 | I88: =TRUNC(SUMIF(V86:V88, RIGHTB(O88, 1), H86:H88)*U88, 2) -> 0 | J88: =TRUNC(I88*D88,1) -> 0 | K88: =TRUNC(E88+G88+I88,1) -> 0 | L88: =TRUNC(F88+H88+J88,1) -> 0 | N88: 5C5F8337330828CF6BE66EF100C56E | O88: 5D4123DB36B8ABE80956914DC047001 | P88: F | Q88: F | R88: F | S88: 1 | T88: 2 | U88: 0.6 | AW88: 5C5F8337330828CF6BE66EF100C56E5D4123DB36B8ABE80956914DC047001
A89: [ 합 계 ] | F89: =TRUNC(SUMIF(N86:N88, N85, F86:F88),0) -> 0 | H89: =TRUNC(SUMIF(N86:N88, N85, H86:H88),0) -> 0 | J89: =TRUNC(SUMIF(N86:N88, N85, J86:J88),0) -> 0 | L89: =F89+H89+J89 -> 0 | N89: TOTAL | O89: TOTAL
A91: 트럭크레인손료 10ton TON ( 호표 13 ) | N91: 5C5FC34E3FC8B38A5196EA60A06EDA
A92: 트럭탑재형 크레인 | B92: 10ton | C92: HR | D92: 0.5333 | E92: =일위대가목록!E148 -> 0 | F92: =TRUNC(E92*D92,1) -> 0 | G92: =일위대가목록!F148 -> 0 | H92: =TRUNC(G92*D92,1) -> 0 | I92: =일위대가목록!G148 -> 0 | J92: =TRUNC(I92*D92,1) -> 0 | K92: =TRUNC(E92+G92+I92,1) -> 0 | L92: =TRUNC(F92+H92+J92,1) -> 0 | M92: 호표 145 | N92: 5C5FC34E3FC8B38A5196EA60A06EDA | O92: 5B45A32D3818FFA2C7A66090F0071B80AA3D9F7E | P92: T | Q92: F | R92: F | AW92: 5C5FC34E3FC8B38A5196EA60A06EDA5B45A32D3818FFA2C7A66090F0071B80AA3D9F7E
A93: [ 합 계 ] | F93: =TRUNC(SUMIF(N92:N92, N91, F92:F92),0) -> 0 | H93: =TRUNC(SUMIF(N92:N92, N91, H92:H92),0) -> 0 | J93: =TRUNC(SUMIF(N92:N92, N91, J92:J92),0) -> 0 | L93: =F93+H93+J93 -> 0 | N93: TOTAL | O93: TOTAL
A95: 케미컬앵커 HY 200 + HIT-C M10x130 개소 ( 호표 14 ) | N95: 5C5F931B3BA8738CA15636E7901DC2
A96: 착암공 | B96: 일반공사 직종 | C96: 인 | D96: 0.024706 | E96: =단가대비표!O167 -> 0 | F96: =TRUNC(E96*D96,1) -> 0 | G96: =단가대비표!P167 -> 0 | H96: =TRUNC(G96*D96,1) -> 0 | I96: =단가대비표!V167 -> 0 | J96: =TRUNC(I96*D96,1) -> 0 | K96: =TRUNC(E96+G96+I96,1) -> 0 | L96: =TRUNC(F96+H96+J96,1) -> 0 | N96: 5C5F931B3BA8738CA15636E7901DC2 | O96: 5C8413F732B88D0BFFA67D00B0CCC6B7E58F6F | P96: F | Q96: F | R96: T | AW96: 5C5F931B3BA8738CA15636E7901DC25C8413F732B88D0BFFA67D00B0CCC6B7E58F6F
A97: 특별인부 | B97: 일반공사 직종 | C97: 인 | D97: 0.028235 | E97: =단가대비표!O159 -> 0 | F97: =TRUNC(E97*D97,1) -> 0 | G97: =단가대비표!P159 -> 0 | H97: =TRUNC(G97*D97,1) -> 0 | I97: =단가대비표!V159 -> 0 | J97: =TRUNC(I97*D97,1) -> 0 | K97: =TRUNC(E97+G97+I97,1) -> 0 | L97: =TRUNC(F97+H97+J97,1) -> 0 | N97: 5C5F931B3BA8738CA15636E7901DC2 | O97: 5C8413F732B88D0BFFA67D00B0CCC6B7E58E40 | P97: F | Q97: F | R97: T | AW97: 5C5F931B3BA8738CA15636E7901DC25C8413F732B88D0BFFA67D00B0CCC6B7E58E40
A98: 보통인부 | B98: 일반공사 직종 | C98: 인 | D98: 0.017647 | E98: =단가대비표!O158 -> 0 | F98: =TRUNC(E98*D98,1) -> 0 | G98: =단가대비표!P158 -> 0 | H98: =TRUNC(G98*D98,1) -> 0 | I98: =단가대비표!V158 -> 0 | J98: =TRUNC(I98*D98,1) -> 0 | K98: =TRUNC(E98+G98+I98,1) -> 0 | L98: =TRUNC(F98+H98+J98,1) -> 0 | N98: 5C5F931B3BA8738CA15636E7901DC2 | O98: 5C8413F732B88D0BFFA67D00B0CCC6B7E58E41 | P98: F | Q98: F | R98: T | AW98: 5C5F931B3BA8738CA15636E7901DC25C8413F732B88D0BFFA67D00B0CCC6B7E58E41
A99: 함마드릴 | B99: TE 4-A22 | C99: 대 | D99: 0.000345 | E99: =단가대비표!O143 -> 0 | F99: =TRUNC(E99*D99,1) -> 0 | G99: =단가대비표!P143 -> 0 | H99: =TRUNC(G99*D99,1) -> 0 | I99: =단가대비표!V143 -> 0 | J99: =TRUNC(I99*D99,1) -> 0 | K99: =TRUNC(E99+G99+I99,1) -> 0 | L99: =TRUNC(F99+H99+J99,1) -> 0 | M99: 힐티코리아 | N99: 5C5F931B3BA8738CA15636E7901DC2 | O99: 5BDCD3C636488E99DE46B4D190F0067DDB0C02 | P99: F | Q99: F | R99: T | AW99: 5C5F931B3BA8738CA15636E7901DC25BDCD3C636488E99DE46B4D190F0067DDB0C02
A100: 드릴비트 | B100: TE-CX 12/27 | C100: 개 | D100: 0.0025 | E100: =단가대비표!O145 -> 0 | F100: =TRUNC(E100*D100,1) -> 0 | G100: =단가대비표!P145 -> 0 | H100: =TRUNC(G100*D100,1) -> 0 | I100: =단가대비표!V145 -> 0 | J100: =TRUNC(I100*D100,1) -> 0 | K100: =TRUNC(E100+G100+I100,1) -> 0 | L100: =TRUNC(F100+H100+J100,1) -> 0 | N100: 5C5F931B3BA8738CA15636E7901DC2 | O100: 5BDCD3C636488E99DE468F9DA0698372E10896 | P100: F | Q100: F | R100: T | AW100: 5C5F931B3BA8738CA15636E7901DC25BDCD3C636488E99DE468F9DA0698372E10896
A101: 케미컬약액 | B101: HY 200 | C101: ml | D101: 6.2 | E101: =단가대비표!O147 -> 0 | F101: =TRUNC(E101*D101,1) -> 0 | G101: =단가대비표!P147 -> 0 | H101: =TRUNC(G101*D101,1) -> 0 | I101: =단가대비표!V147 -> 0 | J101: =TRUNC(I101*D101,1) -> 0 | K101: =TRUNC(E101+G101+I101,1) -> 0 | L101: =TRUNC(F101+H101+J101,1) -> 0 | N101: 5C5F931B3BA8738CA15636E7901DC2 | O101: 5BDCD3C636488E99DE46980AC0C39171CF2CA7 | P101: F | Q101: F | R101: T | AW101: 5C5F931B3BA8738CA15636E7901DC25BDCD3C636488E99DE46980AC0C39171CF2CA7
A102: 주입 건 | B102: Dispenser HDM 330 | C102: Set | D102: 3.8e-05 | E102: =단가대비표!O148 -> 0 | F102: =TRUNC(E102*D102,1) -> 0 | G102: =단가대비표!P148 -> 0 | H102: =TRUNC(G102*D102,1) -> 0 | I102: =단가대비표!V148 -> 0 | J102: =TRUNC(I102*D102,1) -> 0 | K102: =TRUNC(E102+G102+I102,1) -> 0 | L102: =TRUNC(F102+H102+J102,1) -> 0 | N102: 5C5F931B3BA8738CA15636E7901DC2 | O102: 5BDCD3C636488E99DE46E02E704DE9680A1EAB | P102: F | Q102: F | R102: T | AW102: 5C5F931B3BA8738CA15636E7901DC25BDCD3C636488E99DE46E02E704DE9680A1EAB
A103: 앵커롯드 | B103: HIT-C M10x130 | C103: 개 | D103: 1 | E103: =단가대비표!O149 -> 0 | F103: =TRUNC(E103*D103,1) -> 0 | G103: =단가대비표!P149 -> 0 | H103: =TRUNC(G103*D103,1) -> 0 | I103: =단가대비표!V149 -> 0 | J103: =TRUNC(I103*D103,1) -> 0 | K103: =TRUNC(E103+G103+I103,1) -> 0 | L103: =TRUNC(F103+H103+J103,1) -> 0 | N103: 5C5F931B3BA8738CA15636E7901DC2 | O103: 5BDCD3C636488E99DE4614AEC04DE848A488F8 | P103: F | Q103: F | R103: T | AW103: 5C5F931B3BA8738CA15636E7901DC25BDCD3C636488E99DE4614AEC04DE848A488F8
A104: [ 합 계 ] | F104: =TRUNC(SUMIF(N96:N103, N95, F96:F103),0) -> 0 | H104: =TRUNC(SUMIF(N96:N103, N95, H96:H103),0) -> 0 | J104: =TRUNC(SUMIF(N96:N103, N95, J96:J103),0) -> 0 | L104: =F104+H104+J104 -> 0 | N104: TOTAL | O104: TOTAL
A106: 주각부 무수축 모르타르 충전 무수축그라우트 M3 ( 호표 15 ) | N106: 5C5F8337330829D4AE36C55CE051B4
A107: 무수축모르타르 | B107: GP600 | C107: kg | D107: 1950 | E107: =단가대비표!O25 -> 0 | F107: =TRUNC(E107*D107,1) -> 0 | G107: =단가대비표!P25 -> 0 | H107: =TRUNC(G107*D107,1) -> 0 | I107: =단가대비표!V25 -> 0 | J107: =TRUNC(I107*D107,1) -> 0 | K107: =TRUNC(E107+G107+I107,1) -> 0 | L107: =TRUNC(F107+H107+J107,1) -> 0 | N107: 5C5F8337330829D4AE36C55CE051B4 | O107: 5B72E38D3E686A51A7768222E0D11F16D56BF2 | P107: F | Q107: F | R107: T | AW107: 5C5F8337330829D4AE36C55CE051B45B72E38D3E686A51A7768222E0D11F16D56BF2
A108: 미장공 | B108: 일반공사 직종 | C108: 인 | D108: 12.7777 | E108: =단가대비표!O172 -> 0 | F108: =TRUNC(E108*D108,1) -> 0 | G108: =단가대비표!P172 -> 0 | H108: =TRUNC(G108*D108,1) -> 0 | I108: =단가대비표!V172 -> 0 | J108: =TRUNC(I108*D108,1) -> 0 | K108: =TRUNC(E108+G108+I108,1) -> 0 | L108: =TRUNC(F108+H108+J108,1) -> 0 | N108: 5C5F8337330829D4AE36C55CE051B4 | O108: 5C8413F732B88D0BFFA67D00B0CCC6B7E58C91 | P108: F | Q108: F | R108: T | AW108: 5C5F8337330829D4AE36C55CE051B45C8413F732B88D0BFFA67D00B0CCC6B7E58C91
A109: 보통인부 | B109: 일반공사 직종 | C109: 인 | D109: 3.8888 | E109: =단가대비표!O158 -> 0 | F109: =TRUNC(E109*D109,1) -> 0 | G109: =단가대비표!P158 -> 0 | H109: =TRUNC(G109*D109,1) -> 0 | I109: =단가대비표!V158 -> 0 | J109: =TRUNC(I109*D109,1) -> 0 | K109: =TRUNC(E109+G109+I109,1) -> 0 | L109: =TRUNC(F109+H109+J109,1) -> 0 | N109: 5C5F8337330829D4AE36C55CE051B4 | O109: 5C8413F732B88D0BFFA67D00B0CCC6B7E58E41 | P109: F | Q109: F | R109: T | AW109: 5C5F8337330829D4AE36C55CE051B45C8413F732B88D0BFFA67D00B0CCC6B7E58E41
A110: [ 합 계 ] | F110: =TRUNC(SUMIF(N107:N109, N106, F107:F109),0) -> 0 | H110: =TRUNC(SUMIF(N107:N109, N106, H107:H109),0) -> 0 | J110: =TRUNC(SUMIF(N107:N109, N106, J107:J109),0) -> 0 | L110: =F110+H110+J110 -> 0 | N110: TOTAL | O110: TOTAL
A112: 철골도장 방청1회(뿜칠) M2 ( 호표 16 ) | N112: 5C5EA396336842F9E3663F98205717
A113: 철재면 바탕만들기 | B113: 노무비 | C113: M2 | D113: 1 | E113: =일위대가목록!E149 -> 0 | F113: =TRUNC(E113*D113,1) -> 0 | G113: =일위대가목록!F149 -> 0 | H113: =TRUNC(G113*D113,1) -> 0 | I113: =일위대가목록!G149 -> 0 | J113: =TRUNC(I113*D113,1) -> 0 | K113: =TRUNC(E113+G113+I113,1) -> 0 | L113: =TRUNC(F113+H113+J113,1) -> 0 | M113: 호표 146 | N113: 5C5EA396336842F9E3663F98205717 | O113: 5C5F33A33A48AFF07A36BBAB203B3F | P113: T | Q113: F | R113: F | AW113: 5C5EA396336842F9E3663F982057175C5F33A33A48AFF07A36BBAB203B3F
A114: 녹막이페인트(뿜칠) - 재료비 | B114: 철재면, 1회, 1종 | C114: M2 | D114: 1 | E114: =일위대가목록!E150 -> 0 | F114: =TRUNC(E114*D114,1) -> 0 | G114: =일위대가목록!F150 -> 0 | H114: =TRUNC(G114*D114,1) -> 0 | I114: =일위대가목록!G150 -> 0 | J114: =TRUNC(I114*D114,1) -> 0 | K114: =TRUNC(E114+G114+I114,1) -> 0 | L114: =TRUNC(F114+H114+J114,1) -> 0 | M114: 호표 147 | N114: 5C5EA396336842F9E3663F98205717 | O114: 5C5F33B1303814C21B665AC5002275 | P114: T | Q114: F | R114: F | AW114: 5C5EA396336842F9E3663F982057175C5F33B1303814C21B665AC5002275
A115: 녹막이 페인트(뿜칠) - 노무비 및 공구손료 | B115: 철재면, 1회 | C115: M2 | D115: 1 | E115: =일위대가목록!E151 -> 0 | F115: =TRUNC(E115*D115,1) -> 0 | G115: =일위대가목록!F151 -> 0 | H115: =TRUNC(G115*D115,1) -> 0 | I115: =일위대가목록!G151 -> 0 | J115: =TRUNC(I115*D115,1) -> 0 | K115: =TRUNC(E115+G115+I115,1) -> 0 | L115: =TRUNC(F115+H115+J115,1) -> 0 | M115: 호표 148 | N115: 5C5EA396336842F9E3663F98205717 | O115: 5C5F33B1303814C21B664877507A61 | P115: T | Q115: F | R115: F | AW115: 5C5EA396336842F9E3663F982057175C5F33B1303814C21B664877507A61
...

Sheet 단가대비표
A1: 단 가 대 비 표
A2: 공사명 : 안용중학교 합숙소 개보수공사
A3: 코 드 | B3: 품 명 | C3: 규격 | D3: 단위 | E3: 재 료 비 | P3: 노 무 비 | Q3: 경 비 | W3: 번 호 | X3: 비 고 | Y3: 품목구분 | Z3: 노임구분 | AA3: 소수점처리 | AB3: 자재구분
E4: 조달청가격 | F4: PAGE | G4: 거래가격 | H4: PAGE | I4: 유통물가 | J4: PAGE | K4: 물가자료 | L4: PAGE | M4: 조사가격 | N4: PAGE | O4: 적용단가 | Q4: 조달청가격 | R4: 거래가격 | S4: 유통물가 | T4: 물가자료 | U4: 조사가격 | V4: 적용단가
A5: 5B45A32D3818FFA2C7A66090F0071B80AA3D9F | B5: 트럭탑재형 크레인 | C5: 10ton | D5: 대 | E5: 0 | G5: 0 | I5: 0 | K5: 0 | M5: 0 | O5: 0 | P5: 0 | Q5: 0 | R5: 0 | S5: 0 | T5: 0 | U5: 91593 | W5: 자재 1 | X5: 천원
A6: 5B45A32D3818F876CF06D770F05793C5388BB3 | B6: 소형브레이커(전기식) | C6: 1.5kw | D6: 대 | E6: 0 | G6: 0 | I6: 0 | K6: 0 | M6: 0 | O6: 0 | P6: 0 | Q6: 0 | R6: 0 | S6: 0 | T6: 0 | U6: 1375 | W6: 자재 2 | X6: 천원
A7: 5B5603793F48235C5E76B50040168DC7244054 | B7: 자갈 | C7: (별도), 25mm, #57 | D7: M3 | E7: 0 | G7: 0 | I7: 0 | K7: 0 | M7: 0 | O7: 0 | P7: 0 | Q7: 0 | R7: 0 | S7: 0 | T7: 0 | U7: 0 | V7: 0 | W7: 자재 3 | X7: 별도
A8: 5B5603793F48235C5E76B50040168DC7244050 | B8: 자갈 | C8: 도착도, #57 | D8: M3 | E8: 0 | G8: 0 | I8: 0 | K8: 0 | M8: 32000 | Q8: 0 | R8: 0 | S8: 0 | T8: 0 | U8: 0 | V8: 0 | W8: 자재 4 | X8: 3분기 공통단가
A9: 5B5603793F48235D6566D2B2A065AA9025DC63 | B9: 모래 | C9: (별도) | D9: M3 | E9: 0 | G9: 0 | I9: 0 | K9: 0 | M9: 0 | Q9: 0 | R9: 0 | S9: 0 | T9: 0 | U9: 0 | V9: 0 | W9: 자재 5 | X9: 별도
A10: 5B5603793F48235D6566D2B2B0033DC51C8850 | B10: 모래 | C10: 도착도 | D10: M3 | E10: 0 | G10: 0 | I10: 0 | K10: 0 | M10: 37000 | Q10: 0 | R10: 0 | S10: 0 | T10: 0 | U10: 0 | V10: 0 | W10: 자재 6 | X10: 3분기 공통단가
A11: 5B5603793F78F423D6D68D9ED0B1C6EC14C9A8 | B11: 중밀도섬유판 | C11: 중밀도섬유판, 9.0*1220*2440mm | D11: M2 | E11: 4232 | G11: 5811.6 | H11: 668 | I11: 4837.4 | J11: 409 | K11: 4736.62 | L11: 670 | M11: 0 | Q11: 0 | R11: 0 | S11: 0 | T11: 0 | U11: 0 | V11: 0 | W11: 자재 7
A12: 5B5603793FC87934EA9696FBD0D82F4FEF5A2C | B12: 철강설 | C12: 고철, 작업설부산물 | D12: TON | E12: 0 | G12: 0 | I12: 0 | K12: 0 | M12: 363000 | N12: 3분기 공통단가 | Q12: 0 | R12: 0 | S12: 0 | T12: 0 | U12: 0 | V12: 0 | W12: 자재 8
A13: 5B5603793FC87934EA9696FBD0D82F4FEF5A2F | B13: 철강설 | C13: 고철, 작업설부산물 | D13: kg | E13: 0 | G13: 0 | I13: 0 | K13: 0 | M13: 363 | N13: 3분기 공통단가 | Q13: 0 | R13: 0 | S13: 0 | T13: 0 | U13: 0 | V13: 0 | W13: 자재 9
A14: 5B5603793FC87934EA9696FBD0D82F4FEF5B35 | B14: 철강설 | C14: 스텐레스, 작업설부산물 | D14: kg | E14: 0 | G14: 0 | I14: 0 | K14: 0 | M14: 1888 | N14: 3분기 공통단가 | Q14: 0 | R14: 0 | S14: 0 | T14: 0 | U14: 0 | V14: 0 | W14: 자재 10
A15: 5B5633CC3E98759EBF36EB7C504B9A8D52EB37 | B15: 산소가스 | C15: 산소가스, 기체(㎥) | D15: M3 | E15: 2500 | G15: 4375 | H15: 1451 | I15: 3333.33 | J15: 1190 | K15: 2316.66 | L15: 별 33 | M15: 0 | Q15: 0 | R15: 0 | S15: 0 | T15: 0 | U15: 0 | V15: 0 | W15: 자재 11 | X15: 대기압상태기준
A16: 5B5633CC3EB8252963566B18A0F7C922652F57 | B16: 기타도막방수재 | C16: 기타도막방수재, 방수액고점도(1:50희석) | D16: L | E16: 0 | G16: 0 | I16: 0 | K16: 3752 | L16: 463 | M16: 0 | Q16: 0 | R16: 0 | S16: 0 | T16: 0 | U16: 0 | V16: 0 | W16: 자재 12
A17: 5B5643D233887C6C6F16E39F6039422695F14E | B17: 경유 | C17: 경유, 저유황 | D17: L | E17: 1590 | F17: 26.07.14 | G17: 1839.09 | H17: 1451 | I17: 1822.72 | J17: 1189 | K17: 0 | M17: 0 | Q17: 0 | R17: 0 | S17: 0 | T17: 0 | U17: 0 | V17: 0 | W17: 자재 13
A18: 5B5643D2339805EC68D68FC660CE86520F5EFC | B18: 액화석유가스 | C18: 액화석유가스, 건설용 LPG | D18: kg | E18: 2076 | G18: 0 | I18: 0 | K18: 0 | M18: 0 | Q18: 0 | R18: 0 | S18: 0 | T18: 0 | U18: 0 | V18: 0 | W18: 자재 14
A19: 5B60B35F3F28EED073760666C0E25219B1095E | B19: 용접봉(연강용) | C19: 3.2(KSE4301) | D19: kg | E19: 3397 | G19: 3297 | H19: 1326 | I19: 4500 | J19: 1132 | K19: 3950 | L19: 1387 | M19: 0 | Q19: 0 | R19: 0 | S19: 0 | T19: 0 | U19: 0 | V19: 0 | W19: 자재 15
A20: 5B60C3653C1879220E86998F201AF4C053B55B | B20: 공통자재 | C20: 하드롱지 | D20: M2 | E20: 479 | G20: 0 | I20: 0 | K20: 0 | M20: 0 | Q20: 0 | R20: 0 | S20: 0 | T20: 0 | U20: 0 | V20: 0 | W20: 자재 16
A21: 5B72E38D3E787375D53615E800281750A73D91 | B21: 철근콘크리트용봉강 | C21: 이형봉강(SD500), SH-13, 점포상차도 | D21: TON | E21: 0 | G21: 990000 | H21: 49 | I21: 1032000 | J21: 17 | K21: 1005000 | L21: 2 | M21: 0 | Q21: 0 | R21: 0 | S21: 0 | T21: 0 | U21: 0 | V21: 0 | W21: 자재 17
A22: 5B72E38D3E787374CD264AD2E0C5A6E07B6C2D | B22: 보조강재 | C22: 대강 | D22: kg | E22: 0 | G22: 1440 | H22: 56 | I22: 1827.22 | J22: 19 | K22: 1480 | L22: 9 | M22: 0 | Q22: 0 | R22: 0 | S22: 0 | T22: 0 | U22: 0 | V22: 0 | W22: 자재 18
A23: 5B72E38D3E787374CD264AD2F0EC4ABABBBBD6 | B23: H형강 | C23: SM355A, 200*200*8*12mm, 현장도착도 | D23: TON | E23: 0 | F23: Extra+7만 | G23: 1320000 | H23: 56 | I23: 1310000 | J23: 19 | K23: 1300000 | L23: 9 | M23: 0 | N23: 2504 | Q23: 0 | R23: 0 | S23: 0 | T23: 0 | U23: 0 | V23: 0 | W23: 자재 19 | X23: 49.9kg/m
A24: 5B72E38D3E7870BDB21671BF40F97D8384B0E1 | B24: 일반구조용압연강판(SM355A) | C24: 15mm | D24: TON | E24: 1126741 | F24: Ext+70,000 | G24: 1150000 | H24: 63 | I24: 1164600 | J24: 26 | K24: 1150000 | L24: 14 | M24: 0 | N24: 2504 | Q24: 0 | R24: 0 | S24: 0 | T24: 0 | U24: 0 | V24: 0 | W24: 자재 20
A25: 5B72E38D3E686A51A7768222E0D11F16D56BF2 | B25: 무수축모르타르 | C25: GP600 | D25: kg | E25: 0 | G25: 660 | H25: 105 | I25: 660 | J25: 65 | K25: 660 | L25: 70 | M25: 0 | Q25: 0 | R25: 0 | S25: 0 | T25: 0 | U25: 0 | V25: 0 | W25: 자재 21
A26: 5B72E38D3E686A524DC61B298098BB0CCBF05A | B26: 시멘트 | C26: 시멘트(별도) | D26: kg | E26: 0 | G26: 0 | I26: 0 | K26: 0 | M26: 0 | Q26: 0 | R26: 0 | S26: 0 | T26: 0 | U26: 0 | V26: 0 | W26: 자재 22 | X26: 별도
A27: 5B72E38D3E686A524DC61B298098BB0CCBF05D | B27: 시멘트 | C27: 40kg | D27: 포 | E27: 0 | G27: 0 | I27: 0 | K27: 0 | M27: 7545 | Q27: 0 | R27: 0 | S27: 0 | T27: 0 | U27: 0 | V27: 0 | W27: 자재 23 | X27: 3분기 공통단가
A28: 5B72E38D3E686A524DC61B298098BB0A07A065 | B28: 타일시멘트 | C28: 타일시멘트, 압착용, 회색 | D28: kg | E28: 0 | G28: 280 | H28: 105 | I28: 240 | J28: 64 | K28: 240 | L28: 68 | M28: 0 | Q28: 0 | R28: 0 | S28: 0 | T28: 0 | U28: 0 | V28: 0 | W28: 자재 24
A29: 5B72E38D3E686A524DC61B298098BB0A08B0B8 | B29: 타일시멘트 | C29: 타일시멘트, 줄눈용, 백색 | D29: kg | E29: 0 | G29: 292 | H29: 105 | I29: 228 | J29: 65 | K29: 228 | L29: 68 | M29: 0 | Q29: 0 | R29: 0 | S29: 0 | T29: 0 | U29: 0 | V29: 0 | W29: 자재 25
A30: 5B72E38D3E686A5CB196A4F1504D09CBB984AC | B30: 용접철망 | C30: 용접철망, 와이어메시, #8-150*150 | D30: M2 | E30: 0 | G30: 2170 | H30: 99 | I30: 2101 | J30: 58 | K30: 2280 | L30: 56 | M30: 0 | Q30: 0 | R30: 0 | S30: 0 | T30: 0 | U30: 0 | V30: 0 | W30: 자재 26
A31: 5B72E38D3E48BCFDD466560DD02C0CF8484D8B | B31: 유리블록 | C31: 유리블록, 투명, 115*115*80mm | D31: 개 | E31: 0 | G31: 4300 | H31: 666 | I31: 0 | K31: 0 | M31: 0 | Q31: 0 | R31: 0 | S31: 0 | T31: 0 | U31: 0 | V31: 0 | W31: 자재 27
A32: 5B72E38D3E48BCFEFA563CEFC044DE0258DE1A | B32: 콘크리트벽돌 | C32: 190*57*90mm | D32: 매 | E32: 0 | G32: 85 | H32: 545 | I32: 85 | J32: 361 | K32: 0 | M32: 0 | Q32: 0 | R32: 0 | S32: 0 | T32: 0 | U32: 0 | V32: 0 | W32: 자재 28
A33: 5B72E38D3E48BCFEFA563CEFD064B3FAA760DF | B33: 콘크리트벽돌 | C33: 콘크리트벽돌, 190*57*90mm, C종2급 | D33: 매 | E33: 0 | G33: 0 | I33: 0 | K33: 0 | M33: 0 | Q33: 0 | R33: 0 | S33: 0 | T33: 0 | U33: 0 | V33: 0 | W33: 자재 29 | X33: 별도
A34: 5B72E38D3E48BCFF812602BD404A7B52FEBE14 | B34: 자연석판석 | C34: 자연석판석, 버너마감, 30mm, 포천석판재 | D34: M2 | E34: 0 | G34: 57000 | H34: 561 | I34: 57000 | J34: 368 | K34: 37000 | L34: 459 | M34: 0 | Q34: 0 | R34: 0 | S34: 0 | T34: 0 | U34: 0 | V34: 0 | W34: 자재 30
A35: 5B72E38D3E48BCFF812602BD404A7B52FF44C0 | B35: 자연석판석 | C35: 자연석판석, 물갈기, 30mm, 마천석판재 | D35: M2 | E35: 0 | G35: 151500 | H35: 561 | I35: 151500 | J35: 368 | K35: 108000 | L35: 459 | M35: 0 | Q35: 0 | R35: 0 | S35: 0 | T35: 0 | U35: 0 | V35: 0 | W35: 자재 31
A36: 5B72E38D3E48BCFF812602BD505A49B6CBDAC8 | B36: 자연석판석 | C36: 자연석판석, 버너마감, 50mm, 포천석판재 | D36: M2 | E36: 0 | G36: 88500 | H36: 561 | I36: 88500 | J36: 368 | K36: 0 | M36: 0 | Q36: 0 | R36: 0 | S36: 0 | T36: 0 | U36: 0 | V36: 0 | W36: 자재 32
A37: 5B72E38D3E3896F079268EEB50E43C00F3BE75 | B37: 섬유단열재 | C37: 섬유단열재, 밀도24kg/㎥, 50mm, 유리면보드 | D37: M2 | E37: 0 | G37: 4280 | H37: 698 | I37: 4320 | J37: 391 | K37: 0 | M37: 0 | Q37: 0 | R37: 0 | S37: 0 | T37: 0 | U37: 0 | V37: 0 | W37: 자재 33
A38: 5B72E38D3E3896F0781689F150B75044F5E189 | B38: 유리필름 | C38: 비산방지,엣칭 | D38: M2 | E38: 0 | G38: 25000 | H38: 659 | I38: 0 | K38: 0 | M38: 0 | Q38: 0 | R38: 0 | S38: 0 | T38: 0 | U38: 0 | V38: 0 | W38: 자재 34
A39: 5B72E38D3E28F13069B62473B0E2DC6897D81D | B39: 코너비드 | C39: 코너비드, SUS 타일코너, 라운드10mm | D39: M | E39: 0 | G39: 2708 | H39: 578 | I39: 2708 | J39: 459 | K39: 0 | M39: 0 | N39: 2405 | Q39: 0 | R39: 0 | S39: 0 | T39: 0 | U39: 0 | V39: 0 | W39: 자재 35
A40: 5B72E38D3E18E81C4786BDF4F010F649BEFFC9 | B40: 남여시트지마크 | C40: 픽토그램 | D40: EA | E40: 30000 | G40: 0 | I40: 0 | K40: 0 | M40: 0 | Q40: 0 | R40: 0 | S40: 0 | T40: 0 | U40: 0 | V40: 0 | W40: 자재 36
A41: 5B72E38D3E18E81C4786763800347C8B13236C | B41: 석고보드 | C41: 석고보드, 평보드, 9.5*900*2400mm(㎡) | D41: M2 | E41: 3101 | G41: 3101.85 | H41: 671 | I41: 3238.88 | J41: 408 | K41: 3425.92 | L41: 667 | M41: 0 | Q41: 0 | R41: 0 | S41: 0 | T41: 0 | U41: 0 | V41: 0 | W41: 자재 37
A42: 5B72E38D3E18E81C4786760CC00B32E085A734 | B42: 석고보드 | C42: 석고보드, 평보드, 방수, 12.5*900*2400mm(㎡) | D42: M2 | E42: 6944 | G42: 6944.44 | H42: 671 | I42: 7824.07 | J42: 408 | K42: 7824.07 | L42: 667 | M42: 0 | Q42: 0 | R42: 0 | S42: 0 | T42: 0 | U42: 0 | V42: 0 | W42: 자재 38
A43: 5B72E38D3E18E81F1C761EDC40686B21009461 | B43: 불연천장재 | C43: 불연천장재, 마이텍스, 12*300*600mm, 나사, 타카 | D43: M2 | E43: 9736 | G43: 10400 | H43: 674 | I43: 0 | K43: 0 | M43: 0 | Q43: 0 | R43: 0 | S43: 0 | T43: 0 | U43: 0 | V43: 0 | W43: 자재 39
A44: 5B72E38D3E18E81F1C761EDC40686B21036B91 | B44: 알루미늄천장재(틀포함) | C44: 스판드럴, 200*0.6mm, 무공 | D44: M2 | E44: 0 | G44: 110000 | H44: 676 | I44: 59800 | J44: 416 | K44: 0 | M44: 0 | Q44: 0 | R44: 0 | S44: 0 | T44: 0 | U44: 0 | V44: 0 | W44: 자재 40 | X44: 시공비포함
A45: 5B72E38D3E18E81F1C767756A017AD480B3415 | B45: 경량철골천장틀 | C45: 경량철골천장틀, 몰딩(알루미늄), W형, 15*15*15*15*1.0mm | D45: M | E45: 0 | G45: 2480 | H45: 673 | I45: 0 | K45: 0 | M45: 0 | N45: 2507 | Q45: 0 | R45: 0 | S45: 0 | T45: 0 | U45: 0 | V45: 0 | W45: 자재 41
A46: 5B72E38D3E18E81F1C767756A017AD480A155F | B46: CORNER BEAD | C46: 40*40*0.5t | D46: M | E46: 0 | G46: 1760 | H46: 673 | I46: 0 | K46: 0 | M46: 0 | Q46: 0 | R46: 0 | S46: 0 | T46: 0 | U46: 0 | V46: 0 | W46: 자재 42
A47: 5B72E38D3E08C33B71F603A58091D68BA957C1 | B47: 홈도어(가변형+ABS 도어) | C47: 0.9*2.1*110mm(문짝+문틀) | D47: M2 | E47: 0 | G47: 0 | I47: 0 | K47: 135978 | L47: 548 | M47: 0 | Q47: 0 | R47: 0 | S47: 0 | T47: 0 | U47: 0 | V47: 0 | W47: 자재 43
A48: 5B72E38D3E08C33A5846D28170B89FD0351E96 | B48: 로이복층유리 24mm(5+14A+5) | C48: 5MZT153(H/S)+14AR+5CL(H/S) | D48: M2 | E48: 0 | G48: 0 | I48: 0 | K48: 0 | M48: 56000 | Q48: 0 | R48: 0 | S48: 0 | T48: 0 | U48: 0 | V48: 0 | W48: 자재 44 | X48: 견적서참조
A49: 5B72E38D3EF849494466513B70DB64CB3250A2 | B49: 화장실칸막이 | C49: 20mm, HPM마감, 프라이버시엣지 | D49: M2 | E49: 0 | G49: 0 | I49: 0 | K49: 140000 | L49: 517 | M49: 0 | Q49: 0 | R49: 0 | S49: 0 | T49: 0 | U49: 0 | V49: 0 | W49: 자재 45
A50: 5B72E38D3EE8A012C76668A26032189DA7DC2A | B50: 비계안정장치 | C50: 비계안정장치, 이음철물, 연결핀 | D50: 개 | E50: 1330 | G50: 1400 | H50: 167 | I50: 2300 | J50: 82 | K50: 2000 | L50: 105 | M50: 0 | Q50: 0 | R50: 0 | S50: 0 | T50: 0 | U50: 0 | V50: 0 | W50: 자재 46
A51: 5B72E38D3EE8A012C76668A26032189DA7DEDD | B51: 비계안정장치 | C51: 비계안정장치, 비계기본틀, 기둥, 1.2*1.7m | D51: 개 | E51: 27739 | G51: 30000 | H51: 167 | I51: 30300 | J51: 82 | K51: 30000 | L51: 106 | M51: 0 | Q51: 0 | R51: 0 | S51: 0 | T51: 0 | U51: 0 | V51: 0 | W51: 자재 47
A52: 5B72E38D3EE8A012C76668A26032189DA7DED3 | B52: 비계안정장치 | C52: 비계안정장치, 가새, 1.2*1.9m | D52: 개 | E52: 9246 | G52: 10000 | H52: 167 | I52: 9090 | J52: 82 | K52: 9000 | L52: 106 | M52: 0 | Q52: 0 | R52: 0 | S52: 0 | T52: 0 | U52: 0 | V52: 0 | W52: 자재 48
A53: 5B72E38D3EE8A012C76668A26032189DA7D100 | B53: 비계안정장치 | C53: 비계안정장치, 수평띠장, 1829mm | D53: 개 | E53: 0 | G53: 25000 | H53: 167 | I53: 0 | K53: 26500 | L53: 106 | M53: 0 | Q53: 0 | R53: 0 | S53: 0 | T53: 0 | U53: 0 | V53: 0 | W53: 자재 49
A54: 5B72E38D3EE8A012C76668A26032189DA7D101 | B54: 비계안정장치 | C54: 비계안정장치, 손잡이, 1229mm | D54: 개 | E54: 0 | G54: 6000 | H54: 167 | I54: 0 | K54: 0 | M54: 0 | Q54: 0 | R54: 0 | S54: 0 | T54: 0 | U54: 0 | V54: 0 | W54: 자재 50
A55: 5B72E38D3EE8A012C76668A26032189DA7D106 | B55: 비계안정장치 | C55: 비계안정장치, 손잡이, 1829mm | D55: 개 | E55: 0 | G55: 8000 | H55: 167 | I55: 0 | K55: 0 | M55: 0 | Q55: 0 | R55: 0 | S55: 0 | T55: 0 | U55: 0 | V55: 0 | W55: 자재 51
A56: 5B72E38D3EE8A012C76668A26032189DA7D107 | B56: 비계안정장치 | C56: 비계안정장치, 손잡이기둥 | D56: 개 | E56: 0 | G56: 0 | I56: 0 | K56: 0 | M56: 2200 | N56: 적산자료 | Q56: 0 | R56: 0 | S56: 0 | T56: 0 | U56: 0 | V56: 0 | W56: 자재 52
A57: 5B72E38D3EE8A012C76668A26032189DA7D104 | B57: 비계안정장치 | C57: 비계안정장치, 바퀴 | D57: 개 | E57: 0 | G57: 9500 | H57: 167 | I57: 0 | K57: 0 | M57: 0 | Q57: 0 | R57: 0 | S57: 0 | T57: 0 | U57: 0 | V57: 0 | W57: 자재 53
A58: 5B72E38D3EE8A012C76668A26032189DA7D105 | B58: 비계안정장치 | C58: 비계안정장치, 쟈키 | D58: 개 | E58: 0 | G58: 11000 | H58: 167 | I58: 11110 | J58: 82 | K58: 12500 | L58: 106 | M58: 0 | Q58: 0 | R58: 0 | S58: 0 | T58: 0 | U58: 0 | V58: 0 | W58: 자재 54
A59: 5B72E38D3EE8A012C76668A240052BA43F5C8F | B59: 비계안정장치 | C59: 비계안정장치, 발판, 40*400*1829 | D59: 장 | E59: 0 | G59: 18500 | H59: 172 | I59: 0 | K59: 22500 | L59: 107 | M59: 0 | Q59: 0 | R59: 0 | S59: 0 | T59: 0 | U59: 0 | V59: 0 | W59: 자재 55
A60: 5B72E38D3EE8A86334B658FA10B600179312B3 | B60: 건설용거푸집 | C60: 건설용거푸집, 강, 600*1200*63.5mm | D60: 매 | E60: 26885 | G60: 29000 | H60: 167 | I60: 0 | K60: 0 | M60: 0 | Q60: 0 | R60: 0 | S60: 0 | T60: 0 | U60: 0 | V60: 0 | W60: 자재 56
A61: 5B72E38D38D8124BE8563FEBF03DBEE43C034E | B61: 롱브릭패널 설치 | C61: 54T, ㅁ-40*20*1.4t 하지틀포함 | D61: M2 | E61: 0 | G61: 0 | I61: 0 | K61: 228000 | L61: 451 | M61: 0 | Q61: 0 | R61: 0 | S61: 0 | T61: 0 | U61: 0 | V61: 0 | W61: 자재 57 | X61: 시공비포함
A62: 5B72F3923298E80EBF26AE14205E5FFBF2C0EE | B62: 철선 | C62: 철선, 어닐링, ∮0.9mm | D62: kg | E62: 1554 | G62: 1780 | H62: 83 | I62: 1830 | J62: 42 | K62: 0 | M62: 0 | Q62: 0 | R62: 0 | S62: 0 | T62: 0 | U62: 0 | V62: 0 | W62: 자재 58
A63: 5B72F39232A8869222368E19C0CB3CC05401A6 | B63: 육각볼트 | C63: 육각볼트, M20*100 | D63: 개 | E63: 755 | G63: 948 | H63: 90 | I63: 943 | J63: 49 | K63: 963 | L63: 47 | M63: 0 | Q63: 0 | R63: 0 | S63: 0 | T63: 0 | U63: 0 | V63: 0 | W63: 자재 59
A64: 5B72F39232A8858DFAD6A2A990840DD9DF5DEA | B64: 보온핀 | C64: 접착 | D64: 개 | E64: 0 | G64: 0 | I64: 95 | J64: 683 | K64: 0 | M64: 0 | Q64: 0 | R64: 0 | S64: 0 | T64: 0 | U64: 0 | V64: 0 | W64: 자재 60
A65: 5B72F39232A8858900B6B16EB0CF50A60AA58C | B65: 도어힌지 | C65: 황동, 베어링2개, 101.6*2.7mm | D65: EA | E65: 0 | G65: 0 | I65: 8400 | J65: 451 | K65: 8400 | L65: 576 | M65: 0 | Q65: 0 | R65: 0 | S65: 0 | T65: 0 | U65: 0 | V65: 0 | W65: 자재 61
A66: 5B72F39232A88585A5066790803C155E0E9500 | B66: 도어록 | C66: KNOB 9000 스텐 | D66: EA | E66: 0 | G66: 15000 | H66: 654 | I66: 0 | K66: 15000 | L66: 576 | M66: 0 | Q66: 0 | R66: 0 | S66: 0 | T66: 0 | U66: 0 | V66: 0 | W66: 자재 62
A67: 5B72F3913058AAC04ED63F1170528E243E307D | B67: 초산비닐계접착제 | C67: 초산비닐계접착제, 스치로폴, 암면 | D67: kg | E67: 2700 | G67: 2800 | H67: 146 | I67: 0 | K67: 0 | M67: 0 | Q67: 0 | R67: 0 | S67: 0 | T67: 0 | U67: 0 | V67: 0 | W67: 자재 63
A68: 5B72F3913058AAC04ED63F1170528E243E37AB | B68: 합성풀 | C68: 합성풀, 건설용 | D68: kg | E68: 9376 | F68: 25.04.21 | G68: 0 | I68: 0 | K68: 0 | M68: 0 | Q68: 0 | R68: 0 | S68: 0 | T68: 0 | U68: 0 | V68: 0 | W68: 자재 64
A69: 5B72F3913058AAC04ED664AD80B3636E3213C9 | B69: 고무접착제 | C69: 고무접착제, 건설용고무풀 | D69: kg | E69: 0 | G69: 11000 | H69: 146 | I69: 11000 | J69: 72 | K69: 0 | M69: 0 | Q69: 0 | R69: 0 | S69: 0 | T69: 0 | U69: 0 | V69: 0 | W69: 자재 65
A70: 5B72F3913058AAC04ED664AD80B3636E3213C6 | B70: 타일본드 | C70: 건식본드, 20kg/can | D70: kg | E70: 0 | G70: 1150 | H70: 146 | I70: 0 | K70: 0 | M70: 0 | Q70: 0 | R70: 0 | S70: 0 | T70: 0 | U70: 0 | V70: 0 | W70: 자재 66
A71: 5B72F3913058AAC04ED676C7F016B80FD650FE | B71: 합성목재데크 | C71: KYDS2515, 3000*150*25mm, 솔리드형 | D71: M2 | E71: 105200 | G71: 0 | I71: 0 | K71: 0 | M71: 0 | Q71: 0 | R71: 0 | S71: 0 | T71: 0 | U71: 0 | V71: 0 | W71: 자재 67 | X71: 22725337
A72: 5B72F3913058AAC04ED676C7F016B80FD650F8 | B72: 디자인형울타리 | C72: KDFU94-40, W1500*H1200 | D72: 경간 | E72: 285000 | G72: 0 | I72: 0 | K72: 0 | M72: 0 | Q72: 0 | R72: 0 | S72: 0 | T72: 0 | U72: 0 | V72: 0 | W72: 자재 68 | X72: 23549637
A73: 5B72F3913058AAC04ED676C7F016B80FD653B0 | B73: 단열커튼월 | C73: ES-P150E-FW-24M1, 150mm, 노출커튼월/불소수지2회 | D73: KG | E73: 16800 | G73: 0 | I73: 0 | K73: 0 | M73: 0 | Q73: 0 | R73: 0 | S73: 0 | T73: 0 | U73: 0 | V73: 0 | W73: 자재 69 | X73: 25326098
A74: 5B72F3913058AAC04ED676C7F016B80FD653B2 | B74: 단열프로젝트창 | C74: ES-P150E-PJ-24M1, 150mm, 노출프로젝트창/불소수지2회 | D74: KG | E74: 17300 | G74: 0 | I74: 0 | K74: 0 | M74: 0 | Q74: 0 | R74: 0 | S74: 0 | T74: 0 | U74: 0 | V74: 0 | W74: 자재 70 | X74: 25326099
A75: 5B72F3913058AAC04ED676C7F016B80FD653B4 | B75: 단열미서기이중창 | C75: ES-P230S-SL-24M1, 230mm, 미서기이중창/불소수지 | D75: KG | E75: 14500 | G75: 0 | I75: 0 | K75: 0 | M75: 0 | Q75: 0 | R75: 0 | S75: 0 | T75: 0 | U75: 0 | V75: 0 | W75: 자재 71 | X75: 25752899
A76: 5B72F3913058AAC04ED676C7F016B80FD653B6 | B76: 롤방충망 | C76: ES-LM-01, 40mm, 롤방충망/불소수지2회 | D76: KG | E76: 29000 | G76: 0 | I76: 0 | K76: 0 | M76: 0 | Q76: 0 | R76: 0 | S76: 0 | T76: 0 | U76: 0 | V76: 0 | W76: 자재 72 | X76: 23964047
A77: 5B72F3913058AAC04ED676C7F016B80FD653B8 | B77: 방충망 | C77: ES-SM-01, 46mm, 방충망/불소수지2회 | D77: KG | E77: 13000 | G77: 0 | I77: 0 | K77: 0 | M77: 0 | Q77: 0 | R77: 0 | S77: 0 | T77: 0 | U77: 0 | V77: 0 | W77: 자재 73 | X77: 23964046
A78: 5B72F3913058AAC04ED676C7F016B80FD65457 | B78: 갤러리창 | C78: ES-AG-01, 100mm, 갤러리창/불소수지2회 | D78: KG | E78: 9100 | G78: 0 | I78: 0 | K78: 0 | M78: 0 | Q78: 0 | R78: 0 | S78: 0 | T78: 0 | U78: 0 | V78: 0 | W78: 자재 74 | X78: 23964017
A79: 5B72F3913058AAC04ED676C7F016B80FD6572D | B79: 철재문 제작설치 | C79: 1500*700 | D79: 개소 | E79: 0 | G79: 0 | I79: 0 | K79: 0 | M79: 229290 | Q79: 0 | R79: 0 | S79: 0 | T79: 0 | U79: 14300 | W79: 자재 75 | X79: 견적서참조
A80: 5B72F3913058AAC04ED676C7F016B80FD77786 | B80: 데크 발포폼 | C80: 데크재용 | D80: EA | E80: 0 | G80: 0 | I80: 0 | K80: 0 | M80: 250 | Q80: 0 | R80: 0 | S80: 0 | T80: 0 | U80: 0 | V80: 0 | W80: 자재 76
A81: 5B72F3913058AAC04ED676C7F016B80FD77784 | B81: 데크고정조인트 (YDF-PE) | C81: 47*26*17.5 | D81: EA | E81: 0 | G81: 0 | I81: 0 | K81: 0 | M81: 700 | Q81: 0 | R81: 0 | S81: 0 | T81: 0 | U81: 0 | V81: 0 | W81: 자재 77
A82: 5B72F3913058AAC04ED676C7F016B80FD77782 | B82: 데크조인트고정피스 (STS) | C82: #8*38L (ф4) | D82: EA | E82: 0 | G82: 0 | I82: 0 | K82: 0 | M82: 38.9 | Q82: 0 | R82: 0 | S82: 0 | T82: 0 | U82: 0 | V82: 0 | W82: 자재 78
A83: 5B72F3913058AAC04ED676C7F016B80FD77780 | B83: 마감판고정피스 (STS) | C83: #8*50L (ф4) | D83: EA | E83: 0 | G83: 0 | I83: 0 | K83: 0 | M83: 45.8 | Q83: 0 | R83: 0 | S83: 0 | T83: 0 | U83: 0 | V83: 0 | W83: 자재 79
A84: 5B72F3913058AAC04ED676C7F016B80FD77781 | B84: 아연도사각각관 | C84: 75*75*2.3T | D84: M | E84: 0 | G84: 0 | I84: 0 | K84: 0 | M84: 6740 | Q84: 0 | R84: 0 | S84: 0 | T84: 0 | U84: 0 | V84: 0 | W84: 자재 80
A85: 5B72F3913058AAC04ED676C7F016B80FD7778E | B85: 아연도사각각관 | C85: 50*50*2.3T | D85: M | E85: 0 | G85: 0 | I85: 0 | K85: 0 | M85: 4390 | Q85: 0 | R85: 0 | S85: 0 | T85: 0 | U85: 0 | V85: 0 | W85: 자재 81
A86: 5B72F3913058AAC04ED676C7F016B80FD776FF | B86: 아연도사각각관 | C86: 50*50*2.3T | D86: M | E86: 0 | G86: 0 | I86: 0 | K86: 0 | M86: 4390 | Q86: 0 | R86: 0 | S86: 0 | T86: 0 | U86: 0 | V86: 0 | W86: 자재 82
A87: 5B72F3913058AAC04ED676C7F016B80FD776FE | B87: 기초플레이트 | C87: 150*150*6T | D87: EA | E87: 0 | G87: 0 | I87: 0 | K87: 0 | M87: 12000 | Q87: 0 | R87: 0 | S87: 0 | T87: 0 | U87: 0 | V87: 0 | W87: 자재 83
A88: 5B72F3913058AAC04ED676C7F016B80FD776FD | B88: L형앵글 | C88: 50*50*50*4T | D88: EA | E88: 0 | G88: 0 | I88: 0 | K88: 0 | M88: 1200 | Q88: 0 | R88: 0 | S88: 0 | T88: 0 | U88: 0 | V88: 0 | W88: 자재 84
A89: 5B72F3913058AAC04ED676C7F016B80FD776FB | B89: 셋트앵커 (STS) | C89: M10*70L (ф3/8") | D89: EA | E89: 0 | G89: 0 | I89: 0 | K89: 0 | M89: 1080 | Q89: 0 | R89: 0 | S89: 0 | T89: 0 | U89: 0 | V89: 0 | W89: 자재 85
A90: 5B72F3913058AAC04ED676C7F016B80FD776F9 | B90: 철재면 도색 | D90: M2 | E90: 0 | G90: 0 | I90: 0 | K90: 0 | M90: 11646 | Q90: 0 | R90: 0 | S90: 0 | T90: 0 | U90: 0 | V90: 0 | W90: 자재 86
A91: 5B72F3913058AAC04ED676C7F016B80FD776F7 | B91: 앙카볼트 설치 | C91: M10*70L (ф3/8") | D91: EA | E91: 0 | G91: 0 | I91: 0 | K91: 0 | M91: 17497 | Q91: 0 | R91: 0 | S91: 0 | T91: 0 | U91: 0 | V91: 0 | W91: 자재 87
A92: 5B72F3913058AAC04ED676C7F016B80FD775D8 | B92: 잡철물 설치 | D92: TON | E92: 0 | G92: 0 | I92: 0 | K92: 0 | M92: 1342591 | Q92: 0 | R92: 0 | S92: 0 | T92: 0 | U92: 0 | V92: 0 | W92: 자재 88
A93: 5B72F3913058AAC04ED676C7F016B80FD775DA | B93: 합성목재 데크틀 설치 | D93: 일 | E93: 0 | G93: 0 | I93: 0 | K93: 0 | M93: 1220989 | Q93: 0 | R93: 0 | S93: 0 | T93: 0 | U93: 0 | V93: 0 | W93: 자재 89
A94: 5B72F3913058AAC04ED676C7F016B80FD775DC | B94: 합성목재 데크 설치 | D94: 일 | E94: 0 | G94: 0 | I94: 0 | K94: 0 | M94: 1025093 | Q94: 0 | R94: 0 | S94: 0 | T94: 0 | U94: 0 | V94: 0 | W94: 자재 90
A95: 5B72F3913058AAC04ED676C7F016B80FD775DE | B95: 합성목재 난간 설치 | D95: 경간 | E95: 0 | G95: 0 | I95: 0 | K95: 0 | M95: 69546 | Q95: 0 | R95: 0 | S95: 0 | T95: 0 | U95: 0 | V95: 0 | W95: 자재 91
A96: 5B72F3913058AAC04ED676C7F016B80FD4A200 | B96: PLATE(SM355) | D96: KG | E96: 0 | G96: 0 | I96: 0 | K96: 0 | M96: 1250 | Q96: 0 | R96: 0 | S96: 0 | T96: 0 | U96: 0 | V96: 0 | W96: 자재 92 | X96: 견적서참조
A97: 5B72F3913058AAC04ED676C7F016B80FD4A202 | B97: PLATE(SM355) | D97: KG | E97: 0 | G97: 0 | I97: 0 | K97: 0 | M97: 1250 | Q97: 0 | R97: 0 | S97: 0 | T97: 0 | U97: 0 | V97: 0 | W97: 자재 93 | X97: 견적서참조
A98: 5B72F3913058AAC04ED676C7F016B80FD4A204 | B98: PLATE(SM355) | D98: KG | E98: 0 | G98: 0 | I98: 0 | K98: 0 | M98: 1250 | Q98: 0 | R98: 0 | S98: 0 | T98: 0 | U98: 0 | V98: 0 | W98: 자재 94 | X98: 견적서참조
A99: 5B72F3913058AAC04ED676C7F016B80FD4A206 | B99: PLATE(SM355) | D99: KG | E99: 0 | G99: 0 | I99: 0 | K99: 0 | M99: 1250 | Q99: 0 | R99: 0 | S99: 0 | T99: 0 | U99: 0 | V99: 0 | W99: 자재 95 | X99: 견적서참조
A100: 5B72F3913058AAC04ED676C7F016B80FD4A208 | B100: Set Anchor | D100: EA | E100: 0 | G100: 0 | I100: 0 | K100: 0 | M100: 450 | Q100: 0 | R100: 0 | S100: 0 | T100: 0 | U100: 0 | V100: 0 | W100: 자재 96 | X100: 견적서참조
...

Sheet  공사설정 
A1: 이 Sheet는 수정하지 마십시요
A2: 공사구분 | B2: A | C2: 타이틀
A3: 확정내역 | B3: 원내역
A4: 자재단가적용 | B4: 5
A5: 경비단가적용 | B5: 5
A6: 품목코드형식 | B6: XXXX-XXXX-XXXXXXXXX
A7: 내역금액소수점처리 | B7: C | C7: T
A8: 일위대가내역소수점처리 | B8: C | C8: 2
A9: 단가명 | B9: 조달청가격 | C9: 거래가격 | D9: 유통물가 | E9: 물가자료 | F9: 조사가격 | G9: TTTTT
A10: 환율 | B10: 1507 | C10: 0 | D10: 0
A11: 시간당작업량 | B11: R | C11: 4
A12: 1회 사이클시간 | B12: R | C12: 4
A13: 시간당 작업사이클 | B13: R | C13: 3
A14: 일반변수 | B14: R | C14: 5
A15: 시간당 노임산출 계수 | B15: A | C15: 1/8*16/12*25/20 | D15: 1/8*16/12*25/20 | E15: 1/8*16/12*25/20 | F15: 1
A16: 재료비 할증 계수 | B16: 1.11 | C16: 1.12
A17: 노무비 할증 계수 | B17: 1 | C17: 1.5 | D17: 1.16 | E17: 1.6 | F17: 1.6 | G17: 1.6 | H17: 1.94 | I17: 1.94 | J17: 1.94 | K17: 1 | L17: 1 | M17: 1
A18: 경비 할증 계수 | B18: 1.25 | C18: 1.071
A19: 내역,일위대가 품명,규격,단위 따로적용
A20: 내역단가 소수점처리 | B20: C | C20: 1
A21: 코드 | B21: 공종구분명 | C21: 원가비목코드
A22: 1
A23: 2
A24: 3
A25: 4
A26: 5 | B26: 품 질 관 리 비 | C26: CC
A27: 6 | B27: 폐 기 물 처 리 비 | C27: CD
A28: 7 | B28: 폐기물처리비상차비 | C28: D7
A29: 8 | B29: 도 급 자 관 급 | C29: DK
A30: 9 | B30: 관 급 자 관 급 | C30: DL
A31: A | B31: ....
A32: B | B32: .....
A33: C | B33: ....
A34: D | B34: ....
A35: E | B35: ....
A36: F | B36: ....
A37: G | B37: ....
A38: H | B38: ....
A39: I | B39: ....
A40: J | B40: ....
A43: 단가 순서 | B43: 1234

Sheet Sheet1
