Workbook

Sheet 원가(건축+기계)
B1: 공 사 원 가 계 산 서
B2: 공사명 : 안용중학교 합숙소 개보수공사
B3: 비 목 | E3: 건 축 | F3: 기 계 | G3: 합 계 | H3: 구 성 비 | I3: 비 고
A4: A1 | B4: 순 공 사 원 가 | C4: 재 료 비 | D4: 직 접 재 료 비 | E4: =TRUNC(공종별집계표!F5, 0) -> 0 | G4: =SUM(E4:F4) -> 0
A5: A2 | D5: 간 접 재 료 비 | E5: 0 | G5: 0
A6: A3 | E6: 0 | G6: 0
A7: AS | D7: [ 소 계 ] | E7: =TRUNC(E4+E5-E6, 0) -> 0 | G7: =SUM(E7:F7) -> 0
A8: B1 | C8: 노 무 비 | D8: 직 접 노 무 비 | E8: =TRUNC(공종별집계표!H5, 0) -> 0 | G8: =SUM(E8:F8) -> 0
A9: B2 | D9: 간 접 노 무 비 | E9: =TRUNC(E8*0.175, 0) -> 0 | G9: =SUM(E9:F9) -> 0 | H9: 직접노무비 * 17.5%
A10: BS | D10: [ 소 계 ] | E10: =TRUNC(E8+E9, 0) -> 0 | G10: =SUM(E10:F10) -> 0
A11: C2 | C11: 경 비 | D11: 경 비 | E11: =TRUNC(공종별집계표!J5, 0) -> 0 | G11: =SUM(E11:F11) -> 0
A12: C4 | D12: 산 재 보 험 료 | E12: =TRUNC(E10*0.0356, 0) -> 0 | G12: =SUM(E12:F12) -> 0 | H12: 노무비 * 3.56%
A13: C5 | D13: 고 용 보 험 료 | E13: =TRUNC(E10*0.0101, 0) -> 0 | G13: =SUM(E13:F13) -> 0 | H13: 노무비 * 1.01%
A14: C6 | D14: 국민 건강 보험료 | E14: =TRUNC(E8*0.03595, 0) -> 0 | G14: =SUM(E14:F14) -> 0 | H14: 직접노무비 * 3.595%
A15: C7 | D15: 국민 연금 보험료 | E15: =TRUNC(E8*0.0475, 0) -> 0 | G15: =SUM(E15:F15) -> 0 | H15: 직접노무비 * 4.75%
A16: CA | D16: 산업안전보건관리비 | E16: =TRUNC((E7+E8+(E34/1.1/1.0054))*0.0311, 0) -> 0 | G16: =SUM(E16:F16) -> 0 | H16: (재료비+직노+관급자재비) * 3.11%
A17: CB | D17: 노인장기요양보험료 | E17: =TRUNC(E14*0.1314, 0) -> 0 | G17: =SUM(E17:F17) -> 0 | H17: 건강보험료 * 13.14%
A18: CC | D18: 품 질 관 리 비 | E18: =TRUNC(공종별집계표!T28, 0) -> 0 | G18: =SUM(E18:F18) -> 0
A19: CD | D19: 폐 기 물 처 리 비 | E19: =TRUNC(공종별집계표!T22, 0) -> 0 | G19: =SUM(E19:F19) -> 0
A20: CG | D20: 기 타 경 비 | E20: =TRUNC((E7+E10)*0.05, 0) -> 0 | G20: =SUM(E20:F20) -> 0 | H20: (재료비+노무비) * 5%
A21: CH | D21: 환 경 보 전 비 | E21: =TRUNC((E7+E8+E11+E18+E19)*0.003, 0) -> 0 | G21: =SUM(E21:F21) -> 0 | H21: (재료비+직노+경비) * 0.3%
A22: CK | D22: 하도급지급보증수수료 | E22: =TRUNC((E7+E8+E11+E19)*0.00081, 0) -> 0 | G22: =SUM(E22:F22) -> 0 | H22: (재료비+직노+경비) * 0.081% | I22: 최저가대상공사
A23: CL | D23: 건설기계대여금지급보증서발급수수료 | E23: =TRUNC((E7+E8+E11+E19)*0.001, 0) -> 0 | G23: =SUM(E23:F23) -> 0 | H23: (재료비+직노+경비) * 0.1%
A24: CM | D24: 석 면 분 담 금 | E24: =TRUNC(E10*0.00006, 0) -> 0 | G24: =SUM(E24:F24) -> 0 | H24: 노무비 * 0.006%
A25: CN | D25: 임 금 채 권 부 담 금 | E25: =TRUNC(E10*0.0009, 0) -> 0 | G25: =SUM(E25:F25) -> 0 | H25: 노무비 * 0.09%
A26: CS | D26: [ 소 계 ] | E26: =TRUNC(E11+E12+E13+E14+E15+E16+E17+E18+E19+E20+E21+E22+E23+E24+E25, 0) -> 0 | G26: =SUM(E26:F26) -> 0
A27: S1 | B27: 계 | E27: =TRUNC(E7+E10+E26, 0) -> 0 | G27: =SUM(E27:F27) -> 0
A28: D1 | B28: 일 반 관 리 비 | E28: =TRUNC(E27*0.08, 0) -> 0 | G28: =SUM(E28:F28) -> 0 | H28: 계 * 8%
A29: D2 | B29: 이 윤 | G29: =SUM(E29:F29) -> 0 | H29: (노무비+경비+일반관리비) * 15%
A30: D7 | B30: 폐기물처리비상차비 | G30: =SUM(E30:F30) -> 0
A31: D9 | B31: 공 급 가 액 | G31: =SUM(E31:F31) -> 0
A32: DB | B32: 부 가 가 치 세 | G32: =SUM(E32:F32) -> 0 | H32: 공급가액 * 10%
A33: DH | B33: 도 급 액 | G33: =SUM(E33:F33) -> 0
A34: DK | B34: 도 급 자 관 급 | G34: =SUM(E34:F34) -> 0
A35: DL | B35: 관 급 자 관 급 | G35: =SUM(E35:F35) -> 0
A36: S2 | B36: 총 공 사 비 | F36: =TRUNC(F33+0+F34+F35, 0) -> 0 | G36: =SUM(E36:F36) -> 0

Sheet 원가(건축)
B1: 공 사 원 가 계 산 서
B2: 공사명 : 안용중학교 합숙소 개보수공사(건축)
B3: 비 목 | E3: 금 액 | F3: 구 성 비 | G3: 비 고
A4: A1 | B4: 순 공 사 원 가 | C4: 재 료 비 | D4: 직 접 재 료 비 | E4: =TRUNC(공종별집계표!F5, 0) -> 0
A5: A2 | D5: 간 접 재 료 비 | E5: 0
A6: A3 | E6: 0
A7: AS | D7: [ 소 계 ] | E7: =TRUNC(E4+E5-E6, 0) -> 0
A8: B1 | C8: 노 무 비 | D8: 직 접 노 무 비 | E8: =TRUNC(공종별집계표!H5, 0) -> 0
A9: B2 | D9: 간 접 노 무 비 | E9: =TRUNC(E8*0.175, 0) -> 0 | F9: 직접노무비 * 17.5%
A10: BS | D10: [ 소 계 ] | E10: =TRUNC(E8+E9, 0) -> 0
A11: C2 | C11: 경 비 | D11: 경 비 | E11: =TRUNC(공종별집계표!J5, 0) -> 0
A12: C4 | D12: 산 재 보 험 료 | E12: =TRUNC(E10*0.0356, 0) -> 0 | F12: 노무비 * 3.56%
A13: C5 | D13: 고 용 보 험 료 | E13: =TRUNC(E10*0.0101, 0) -> 0 | F13: 노무비 * 1.01%
A14: C6 | D14: 국민 건강 보험료 | E14: =TRUNC(E8*0.03595, 0) -> 0 | F14: 직접노무비 * 3.595%
A15: C7 | D15: 국민 연금 보험료 | E15: =TRUNC(E8*0.0475, 0) -> 0 | F15: 직접노무비 * 4.75%
A16: CA | D16: 산업안전보건관리비 | E16: =TRUNC((E7+E8+(E34/1.1/1.0054))*0.0311, 0) -> 0 | F16: (재료비+직노+관급자재비) * 3.11%
A17: CB | D17: 노인장기요양보험료 | E17: =TRUNC(E14*0.1314, 0) -> 0 | F17: 건강보험료 * 13.14%
A18: CC | D18: 품 질 관 리 비 | E18: =TRUNC(공종별집계표!T28, 0) -> 0
A19: CD | D19: 폐 기 물 처 리 비 | E19: =TRUNC(공종별집계표!T22, 0) -> 0
A20: CG | D20: 기 타 경 비 | E20: =TRUNC((E7+E10)*0.05, 0) -> 0 | F20: (재료비+노무비) * 5%
A21: CH | D21: 환 경 보 전 비 | E21: =TRUNC((E7+E8+E11+E18+E19)*0.003, 0) -> 0 | F21: (재료비+직노+경비) * 0.3%
A22: CK | D22: 하도급지급보증수수료 | E22: =TRUNC((E7+E8+E11+E19)*0.00081, 0) -> 0 | F22: (재료비+직노+경비) * 0.081% | G22: 최저가대상공사
A23: CL | D23: 건설기계대여금지급보증서발급수수료 | E23: =TRUNC((E7+E8+E11+E19)*0.001, 0) -> 0 | F23: (재료비+직노+경비) * 0.1%
A24: CM | D24: 석 면 분 담 금 | E24: =TRUNC(E10*0.00006, 0) -> 0 | F24: 노무비 * 0.006%
A25: CN | D25: 임 금 채 권 부 담 금 | E25: =TRUNC(E10*0.0009, 0) -> 0 | F25: 노무비 * 0.09%
A26: CS | D26: [ 소 계 ] | E26: =TRUNC(E11+E12+E13+E14+E15+E16+E17+E18+E19+E20+E21+E22+E23+E24+E25, 0) -> 0
A27: S1 | B27: 계 | E27: =TRUNC(E7+E10+E26, 0) -> 0
A28: D1 | B28: 일 반 관 리 비 | E28: =TRUNC(E27*0.08, 0) -> 0 | F28: 계 * 8%
A29: D2 | B29: 이 윤 | F29: (노무비+경비+일반관리비) * 15%
A30: D7 | B30: 폐기물처리비상차비
A31: D9 | B31: 공 급 가 액
A32: DB | B32: 부 가 가 치 세 | F32: 공급가액 * 10%
A33: DH | B33: 도 급 액
A34: DK | B34: 도 급 자 관 급
A35: DL | B35: 관 급 자 관 급
A36: S2 | B36: 총 공 사 비

Sheet 공종별집계표
A1: 공 종 별 집 계 표
A2: 공사명 : 안용중학교 합숙소 개보수공사
A3: 품 명 | B3: 규 격 | C3: 단위 | D3: 수량 | E3: 재 료 비 | G3: 노 무 비 | I3: 경 비 | K3: 합 계 | M3: 비 고 | N3: 공종코드 | O3: 변수 | P3: 상위공종 | Q3: 공종구분 | R3: 공종레벨 | S3: 공종소계 | T3: 원가계산서 연결금액
E4: 단 가 | F4: 금 액 | G4: 단 가 | H4: 금 액 | I4: 단 가 | J4: 금 액 | K4: 단 가 | L4: 금 액
A5: 안용중학교 합숙소 개보수공사 | D5: 1 | E5: =F6 -> 0 | F5: =E5*D5 -> 0 | G5: =H6 -> 0 | H5: =G5*D5 -> 0 | I5: =J6 -> 0 | J5: =I5*D5 -> 0 | K5: =E5+G5+I5 -> 0 | L5: =F5+H5+J5 -> 0 | N5: 01 | R5: 1
A6: 건 축 공 사 | D6: 1 | E6: =F7+F8+F9+F10+F11+F12+F13+F14+F15+F16+F17+F18+F19+F20+F21 -> 0 | F6: =E6*D6 -> 0 | G6: =H7+H8+H9+H10+H11+H12+H13+H14+H15+H16+H17+H18+H19+H20+H21 -> 0 | H6: =G6*D6 -> 0 | I6: =J7+J8+J9+J10+J11+J12+J13+J14+J15+J16+J17+J18+J19+J20+J21 -> 0 | J6: =I6*D6 -> 0 | K6: =E6+G6+I6 -> 0 | L6: =F6+H6+J6 -> 0 | N6: 0101 | P6: 01 | R6: 2
A7: 가 설 공 사 | D7: 1 | E7: =공종별내역서!F27 -> 0 | F7: =E7*D7 -> 0 | G7: =공종별내역서!H27 -> 0 | H7: =G7*D7 -> 0 | I7: =공종별내역서!J27 -> 0 | J7: =I7*D7 -> 0 | K7: =E7+G7+I7 -> 0 | L7: =F7+H7+J7 -> 0 | N7: 010101 | P7: 0101 | R7: 3
A8: 철근콘크리트공사 | D8: 1 | E8: =공종별내역서!F51 -> 0 | F8: =E8*D8 -> 0 | G8: =공종별내역서!H51 -> 0 | H8: =G8*D8 -> 0 | I8: =공종별내역서!J51 -> 0 | J8: =I8*D8 -> 0 | K8: =E8+G8+I8 -> 0 | L8: =F8+H8+J8 -> 0 | N8: 010102 | P8: 0101 | R8: 3
A9: 철 골 공 사 | D9: 1 | E9: =공종별내역서!F75 -> 0 | F9: =E9*D9 -> 0 | G9: =공종별내역서!H75 -> 0 | H9: =G9*D9 -> 0 | I9: =공종별내역서!J75 -> 0 | J9: =I9*D9 -> 0 | K9: =E9+G9+I9 -> 0 | L9: =F9+H9+J9 -> 0 | N9: 010103 | P9: 0101 | R9: 3
A10: 조 적 공 사 | D10: 1 | E10: =공종별내역서!F99 -> 0 | F10: =E10*D10 -> 0 | G10: =공종별내역서!H99 -> 0 | H10: =G10*D10 -> 0 | I10: =공종별내역서!J99 -> 0 | J10: =I10*D10 -> 0 | K10: =E10+G10+I10 -> 0 | L10: =F10+H10+J10 -> 0 | N10: 010104 | P10: 0101 | R10: 3
A11: 돌 공 사 | D11: 1 | E11: =공종별내역서!F123 -> 0 | F11: =E11*D11 -> 0 | G11: =공종별내역서!H123 -> 0 | H11: =G11*D11 -> 0 | I11: =공종별내역서!J123 -> 0 | J11: =I11*D11 -> 0 | K11: =E11+G11+I11 -> 0 | L11: =F11+H11+J11 -> 0 | N11: 010105 | P11: 0101 | R11: 3
A12: 타 일 공 사 | D12: 1 | E12: =공종별내역서!F147 -> 0 | F12: =E12*D12 -> 0 | G12: =공종별내역서!H147 -> 0 | H12: =G12*D12 -> 0 | I12: =공종별내역서!J147 -> 0 | J12: =I12*D12 -> 0 | K12: =E12+G12+I12 -> 0 | L12: =F12+H12+J12 -> 0 | N12: 010106 | P12: 0101 | R12: 3
A13: 방 수 공 사 | D13: 1 | E13: =공종별내역서!F171 -> 0 | F13: =E13*D13 -> 0 | G13: =공종별내역서!H171 -> 0 | H13: =G13*D13 -> 0 | I13: =공종별내역서!J171 -> 0 | J13: =I13*D13 -> 0 | K13: =E13+G13+I13 -> 0 | L13: =F13+H13+J13 -> 0 | N13: 010107 | P13: 0101 | R13: 3
A14: 금 속 공 사 | D14: 1 | E14: =공종별내역서!F195 -> 0 | F14: =E14*D14 -> 0 | G14: =공종별내역서!H195 -> 0 | H14: =G14*D14 -> 0 | I14: =공종별내역서!J195 -> 0 | J14: =I14*D14 -> 0 | K14: =E14+G14+I14 -> 0 | L14: =F14+H14+J14 -> 0 | N14: 010108 | P14: 0101 | R14: 3
A15: 미 장 공 사 | D15: 1 | E15: =공종별내역서!F219 -> 0 | F15: =E15*D15 -> 0 | G15: =공종별내역서!H219 -> 0 | H15: =G15*D15 -> 0 | I15: =공종별내역서!J219 -> 0 | J15: =I15*D15 -> 0 | K15: =E15+G15+I15 -> 0 | L15: =F15+H15+J15 -> 0 | N15: 010109 | P15: 0101 | R15: 3
A16: 창 호 공 사 | D16: 1 | E16: =공종별내역서!F243 -> 0 | F16: =E16*D16 -> 0 | G16: =공종별내역서!H243 -> 0 | H16: =G16*D16 -> 0 | I16: =공종별내역서!J243 -> 0 | J16: =I16*D16 -> 0 | K16: =E16+G16+I16 -> 0 | L16: =F16+H16+J16 -> 0 | N16: 010110 | P16: 0101 | R16: 3
A17: 유 리 공 사 | D17: 1 | E17: =공종별내역서!F267 -> 0 | F17: =E17*D17 -> 0 | G17: =공종별내역서!H267 -> 0 | H17: =G17*D17 -> 0 | I17: =공종별내역서!J267 -> 0 | J17: =I17*D17 -> 0 | K17: =E17+G17+I17 -> 0 | L17: =F17+H17+J17 -> 0 | N17: 010111 | P17: 0101 | R17: 3
A18: 칠 공 사 | D18: 1 | E18: =공종별내역서!F291 -> 0 | F18: =E18*D18 -> 0 | G18: =공종별내역서!H291 -> 0 | H18: =G18*D18 -> 0 | I18: =공종별내역서!J291 -> 0 | J18: =I18*D18 -> 0 | K18: =E18+G18+I18 -> 0 | L18: =F18+H18+J18 -> 0 | N18: 010112 | P18: 0101 | R18: 3
A19: 수 장 공 사 | D19: 1 | E19: =공종별내역서!F315 -> 0 | F19: =E19*D19 -> 0 | G19: =공종별내역서!H315 -> 0 | H19: =G19*D19 -> 0 | I19: =공종별내역서!J315 -> 0 | J19: =I19*D19 -> 0 | K19: =E19+G19+I19 -> 0 | L19: =F19+H19+J19 -> 0 | N19: 010113 | P19: 0101 | R19: 3
A20: 철 거 공 사 | D20: 1 | E20: =공종별내역서!F339 -> 0 | F20: =E20*D20 -> 0 | G20: =공종별내역서!H339 -> 0 | H20: =G20*D20 -> 0 | I20: =공종별내역서!J339 -> 0 | J20: =I20*D20 -> 0 | K20: =E20+G20+I20 -> 0 | L20: =F20+H20+J20 -> 0 | N20: 010114 | P20: 0101 | R20: 3
A21: 골 재 비 | D21: 1 | E21: =공종별내역서!F363 -> 0 | F21: =E21*D21 -> 0 | G21: =공종별내역서!H363 -> 0 | H21: =G21*D21 -> 0 | I21: =공종별내역서!J363 -> 0 | J21: =I21*D21 -> 0 | K21: =E21+G21+I21 -> 0 | L21: =F21+H21+J21 -> 0 | N21: 010115 | P21: 0101 | R21: 3
A22: 폐기물 처리비 | D22: 1 | E22: =공종별내역서!F387 -> 0 | F22: =E22*D22 -> 0 | G22: =공종별내역서!H387 -> 0 | H22: =G22*D22 -> 0 | I22: =공종별내역서!J387 -> 0 | J22: =I22*D22 -> 0 | K22: =E22+G22+I22 -> 0 | L22: =F22+H22+J22 -> 0 | N22: 0102 | Q22: 6 | R22: 2 | T22: =L22*1 -> 0
A23: 폐기물처리비상차비 | D23: 1 | E23: =공종별내역서!F411 -> 0 | F23: =E23*D23 -> 0 | G23: =공종별내역서!H411 -> 0 | H23: =G23*D23 -> 0 | I23: =공종별내역서!J411 -> 0 | J23: =I23*D23 -> 0 | K23: =E23+G23+I23 -> 0 | L23: =F23+H23+J23 -> 0 | N23: 0103 | Q23: 7 | R23: 2 | T23: =L23*1 -> 0
A24: 도 급 자 관 급 | D24: 1 | E24: =F25 -> 0 | F24: =E24*D24 -> 0 | G24: =H25 -> 0 | H24: =G24*D24 -> 0 | I24: =J25 -> 0 | J24: =I24*D24 -> 0 | K24: =E24+G24+I24 -> 0 | L24: =F24+H24+J24 -> 0 | N24: 0104 | Q24: 8 | R24: 2 | T24: =L24*1 -> 0
A25: 합성목제 데 크 | D25: 1 | E25: =공종별내역서!F435 -> 0 | F25: =E25*D25 -> 0 | G25: =공종별내역서!H435 -> 0 | H25: =G25*D25 -> 0 | I25: =공종별내역서!J435 -> 0 | J25: =I25*D25 -> 0 | K25: =E25+G25+I25 -> 0 | L25: =F25+H25+J25 -> 0 | N25: 010401 | P25: 0104 | R25: 3
A26: 관 급 자 관 급 | D26: 1 | E26: =F27 -> 0 | F26: =E26*D26 -> 0 | G26: =H27 -> 0 | H26: =G26*D26 -> 0 | I26: =J27 -> 0 | J26: =I26*D26 -> 0 | K26: =E26+G26+I26 -> 0 | L26: =F26+H26+J26 -> 0 | N26: 0105 | Q26: 9 | R26: 2 | T26: =L26*1 -> 0
A27: 금 속 제 창 | D27: 1 | E27: =공종별내역서!F459 -> 0 | F27: =E27*D27 -> 0 | G27: =공종별내역서!H459 -> 0 | H27: =G27*D27 -> 0 | I27: =공종별내역서!J459 -> 0 | J27: =I27*D27 -> 0 | K27: =E27+G27+I27 -> 0 | L27: =F27+H27+J27 -> 0 | N27: 010501 | P27: 0105 | R27: 3
A28: 품 질 관 리 비 | D28: 1 | E28: =공종별내역서!F555 -> 0 | F28: =E28*D28 -> 0 | G28: =공종별내역서!H555 -> 0 | H28: =G28*D28 -> 0 | I28: =공종별내역서!J555 -> 0 | J28: =I28*D28 -> 0 | K28: =E28+G28+I28 -> 0 | L28: =F28+H28+J28 -> 0 | N28: 0106 | Q28: 5 | R28: 2 | T28: =L28*1 -> 0
A50: [ 합 계 ] | F50: =F5 -> 0 | H50: =H5 -> 0 | J50: =J5 -> 0 | L50: =L5 -> 0

Sheet 공종별내역서
A1: 공사명 : 안용중학교 합숙소 개보수공사
A2: 품 명 | B2: 규 격 | C2: 단위 | D2: 수량 | E2: 재 료 비 | G2: 노 무 비 | I2: 경 비 | K2: 합 계 | M2: 비 고 | N2: 품목코드 | O2: 변수 | P2: 설정 | Q2: 공종코드 | R2: 일위 | S2: 단산 | T2: 자재 | U2: 손료적용 | V2: 손료저장 | W2: 적용율 | X2: JUK1 | Y2: JUK2 | Z2: JUK3 | AA2: JUK4 | AB2: JUK5 | AC2: JUK6 | AD2: JUK7 | AE2: JUK8 | AF2: JUK9 | AG2: JUK10 | AH2: JUK11 | AI2: JUK12 | AJ2: JUK13 | AK2: JUK14 | AL2: JUK15 | AM2: JUK16 | AN2: JUK17 | AO2: JUK18 | AP2: JUK19 | AQ2: JUK20 | AR2: 자재구분 | AS2: 공종구분 | AT2: 공종레벨 | AU2: 공종+자재 | AV2: 고유번호
E3: 단 가 | F3: 금 액 | G3: 단 가 | H3: 금 액 | I3: 단 가 | J3: 금 액 | K3: 단 가 | L3: 금 액
A4: 가 설 공 사 | Q4: 010101
A5: 강관 조립말비계(이동식)설치 및 해체 | B5: 높이 2m, 3개월 | C5: 대 | D5: 1 | E5: =TRUNC(일위대가목록!E4,0) -> 0 | F5: =TRUNC(E5*D5, 0) -> 0 | G5: =TRUNC(일위대가목록!F4,0) -> 0 | H5: =TRUNC(G5*D5, 0) -> 0 | I5: =TRUNC(일위대가목록!G4,0) -> 0 | J5: =TRUNC(I5*D5, 0) -> 0 | K5: =TRUNC(E5+G5+I5, 0) -> 0 | L5: =TRUNC(F5+H5+J5, 0) -> 0 | M5: 호표 1 | N5: 5C5FC34C3338E0BBE9062AA6600E20 | Q5: 010101 | R5: T | S5: F | T5: F | AU5: 0101015C5FC34C3338E0BBE9062AA6600E20 | AV5: 4
A6: 강관 조립말비계(이동식)설치 및 해체 | B6: 높이 4m, 3개월 | C6: 대 | D6: 1 | E6: =TRUNC(일위대가목록!E5,0) -> 0 | F6: =TRUNC(E6*D6, 0) -> 0 | G6: =TRUNC(일위대가목록!F5,0) -> 0 | H6: =TRUNC(G6*D6, 0) -> 0 | I6: =TRUNC(일위대가목록!G5,0) -> 0 | J6: =TRUNC(I6*D6, 0) -> 0 | K6: =TRUNC(E6+G6+I6, 0) -> 0 | L6: =TRUNC(F6+H6+J6, 0) -> 0 | M6: 호표 2 | N6: 5C5FC34C3338E0BBE9062A95F01C69 | Q6: 010101 | R6: T | S6: F | T6: F | AU6: 0101015C5FC34C3338E0BBE9062A95F01C69 | AV6: 5
A7: 건축물보양 | B7: 보양지 붙이기 | C7: M2 | D7: 157 | E7: =TRUNC(일위대가목록!E6,0) -> 0 | F7: =TRUNC(E7*D7, 0) -> 0 | G7: =TRUNC(일위대가목록!F6,0) -> 0 | H7: =TRUNC(G7*D7, 0) -> 0 | I7: =TRUNC(일위대가목록!G6,0) -> 0 | J7: =TRUNC(I7*D7, 0) -> 0 | K7: =TRUNC(E7+G7+I7, 0) -> 0 | L7: =TRUNC(F7+H7+J7, 0) -> 0 | M7: 호표 3 | N7: 5C5FC34937E814A89FF636B9000787 | Q7: 010101 | R7: T | S7: F | T7: F | AU7: 0101015C5FC34937E814A89FF636B9000787 | AV7: 8
A8: 건축물 현장정리 | B8: 마무리용 | C8: M2 | D8: 179 | E8: =TRUNC(일위대가목록!E7,0) -> 0 | F8: =TRUNC(E8*D8, 0) -> 0 | G8: =TRUNC(일위대가목록!F7,0) -> 0 | H8: =TRUNC(G8*D8, 0) -> 0 | I8: =TRUNC(일위대가목록!G7,0) -> 0 | J8: =TRUNC(I8*D8, 0) -> 0 | K8: =TRUNC(E8+G8+I8, 0) -> 0 | L8: =TRUNC(F8+H8+J8, 0) -> 0 | M8: 호표 4 | N8: 5C5FC34937D80B8AFE96EAC180DC5B | Q8: 010101 | R8: T | S8: F | T8: F | AU8: 0101015C5FC34937D80B8AFE96EAC180DC5B | AV8: 387
Q9: 010101
Q10: 010101
Q11: 010101
Q12: 010101
Q13: 010101
Q14: 010101
Q15: 010101
Q16: 010101
Q17: 010101
Q18: 010101
Q19: 010101
Q20: 010101
... Q26: 010101
A27: [ 합 계 ] | F27: =SUMIF(Q5:Q26,"010101",F5:F26) -> 0 | H27: =SUMIF(Q5:Q26,"010101",H5:H26) -> 0 | J27: =SUMIF(Q5:Q26,"010101",J5:J26) -> 0 | L27: =SUMIF(Q5:Q26,"010101",L5:L26) -> 0 | N27: TOTAL
A28: 철근콘크리트공사 | Q28: 010102
A29: 콘크리트 인력비빔 타설 | B29: 철근구조물 | C29: M3 | D29: 0.3 | E29: =TRUNC(일위대가목록!E8,0) -> 0 | F29: =TRUNC(E29*D29, 0) -> 0 | G29: =TRUNC(일위대가목록!F8,0) -> 0 | H29: =TRUNC(G29*D29, 0) -> 0 | I29: =TRUNC(일위대가목록!G8,0) -> 0 | J29: =TRUNC(I29*D29, 0) -> 0 | K29: =TRUNC(E29+G29+I29, 0) -> 0 | L29: =TRUNC(F29+H29+J29, 0) -> 0 | M29: 호표 5 | N29: 5C5F931F319815F24B4632B030FB3C | Q29: 010102 | R29: T | S29: F | T29: F | AU29: 0101025C5F931F319815F24B4632B030FB3C | AV29: 488
A30: 유로폼 설치 및 해체 | B30: 3회, 보통, 수직고 7m까지 | C30: M2 | D30: 3 | E30: =TRUNC(일위대가목록!E9,0) -> 0 | F30: =TRUNC(E30*D30, 0) -> 0 | G30: =TRUNC(일위대가목록!F9,0) -> 0 | H30: =TRUNC(G30*D30, 0) -> 0 | I30: =TRUNC(일위대가목록!G9,0) -> 0 | J30: =TRUNC(I30*D30, 0) -> 0 | K30: =TRUNC(E30+G30+I30, 0) -> 0 | L30: =TRUNC(F30+H30+J30, 0) -> 0 | M30: 호표 6 | N30: 5C5F93183EE8E0420C36BC35A0DCBC | Q30: 010102 | R30: T | S30: F | T30: F | AU30: 0101025C5F93183EE8E0420C36BC35A0DCBC | AV30: 483
A31: 철근콘크리트용봉강 | B31: 이형봉강(SD500), SH-13, 점포상차도 | C31: TON | D31: 0.094 | E31: =TRUNC(단가대비표!O21,0) -> 0 | F31: =TRUNC(E31*D31, 0) -> 0 | G31: =TRUNC(단가대비표!P21,0) -> 0 | H31: =TRUNC(G31*D31, 0) -> 0 | I31: =TRUNC(단가대비표!V21,0) -> 0 | J31: =TRUNC(I31*D31, 0) -> 0 | K31: =TRUNC(E31+G31+I31, 0) -> 0 | L31: =TRUNC(F31+H31+J31, 0) -> 0 | N31: 5B72E38D3E787375D53615E800281750A73D91 | Q31: 010102 | R31: F | S31: F | T31: T | AU31: 0101025B72E38D3E787375D53615E800281750A73D91 | AV31: 481
A32: 철근 현장가공 및 현장조립 | B32: Type-Ⅰ | C32: TON | D32: 0.091 | E32: =TRUNC(일위대가목록!E10,0) -> 0 | F32: =TRUNC(E32*D32, 0) -> 0 | G32: =TRUNC(일위대가목록!F10,0) -> 0 | H32: =TRUNC(G32*D32, 0) -> 0 | I32: =TRUNC(일위대가목록!G10,0) -> 0 | J32: =TRUNC(I32*D32, 0) -> 0 | K32: =TRUNC(E32+G32+I32, 0) -> 0 | L32: =TRUNC(F32+H32+J32, 0) -> 0 | M32: 호표 7 | N32: 5C5F931B3BE8E493FC96FAD4C070ED | Q32: 010102 | R32: T | S32: F | T32: F | AU32: 0101025C5F931B3BE8E493FC96FAD4C070ED | AV32: 484
A33: 철강설 | B33: 고철, 작업설부산물 | C33: TON | D33: -0.002 | E33: =TRUNC(단가대비표!O12,0) -> 0 | F33: =TRUNC(E33*D33, 0) -> 0 | G33: =TRUNC(단가대비표!P12,0) -> 0 | H33: =TRUNC(G33*D33, 0) -> 0 | I33: =TRUNC(단가대비표!V12,0) -> 0 | J33: =TRUNC(I33*D33, 0) -> 0 | K33: =TRUNC(E33+G33+I33, 0) -> 0 | L33: =TRUNC(F33+H33+J33, 0) -> 0 | N33: 5B5603793FC87934EA9696FBD0D82F4FEF5A2C | Q33: 010102 | R33: F | S33: F | T33: T | AU33: 0101025B5603793FC87934EA9696FBD0D82F4FEF5A2C | AV33: 485
A34: 케미컬앵커 | B34: HY 200R V3 + HD13 L:480 | C34: 개소 | D34: 58 | E34: =TRUNC(일위대가목록!E11,0) -> 0 | F34: =TRUNC(E34*D34, 0) -> 0 | G34: =TRUNC(일위대가목록!F11,0) -> 0 | H34: =TRUNC(G34*D34, 0) -> 0 | I34: =TRUNC(일위대가목록!G11,0) -> 0 | J34: =TRUNC(I34*D34, 0) -> 0 | K34: =TRUNC(E34+G34+I34, 0) -> 0 | L34: =TRUNC(F34+H34+J34, 0) -> 0 | M34: 호표 8 | N34: 5C5F931B3BA8738CA15636E7901DC4 | Q34: 010102 | R34: T | S34: F | T34: F | AU34: 0101025C5F931B3BA8738CA15636E7901DC4 | AV34: 487
A35: 콘크리트 치핑 | B35: 소형치핑장비활용 | C35: M2 | D35: 1 | E35: =TRUNC(일위대가목록!E12,0) -> 0 | F35: =TRUNC(E35*D35, 0) -> 0 | G35: =TRUNC(일위대가목록!F12,0) -> 0 | H35: =TRUNC(G35*D35, 0) -> 0 | I35: =TRUNC(일위대가목록!G12,0) -> 0 | J35: =TRUNC(I35*D35, 0) -> 0 | K35: =TRUNC(E35+G35+I35, 0) -> 0 | L35: =TRUNC(F35+H35+J35, 0) -> 0 | M35: 호표 9 | N35: 5C5F930B317815D891A6B0F120DEB4 | Q35: 010102 | R35: T | S35: F | T35: F | AU35: 0101025C5F930B317815D891A6B0F120DEB4 | AV35: 486
Q36: 010102
Q37: 010102
Q38: 010102
Q39: 010102
Q40: 010102
Q41: 010102
Q42: 010102
Q43: 010102
Q44: 010102
Q45: 010102
...

Sheet 일위대가목록
B1: 일 위 대 가 목 록
B2: 공사명 : 안용중학교 합숙소 개보수공사
A3: 코 드 | B3: 품 명 | C3: 규 격 | D3: 단위 | E3: 재 료 비 | F3: 노 무 비 | G3: 경 비 | H3: 합 계 | I3: 번 호 | J3: 비 고 | K3: 노임계수 | L3: 할증 | M3: 품셈개요 | N3: 장비일위
A4: 5C5FC34C3338E0BBE9062AA6600E20 | B4: 강관 조립말비계(이동식)설치 및 해체 | C4: 높이 2m, 3개월 | D4: 대 | E4: =일위대가!F15 -> 0 | F4: =일위대가!H15 -> 0 | G4: =일위대가!J15 -> 0 | H4: =E4+F4+G4 -> 0 | I4: 호표 1
A5: 5C5FC34C3338E0BBE9062A95F01C69 | B5: 강관 조립말비계(이동식)설치 및 해체 | C5: 높이 4m, 3개월 | D5: 대 | E5: =일위대가!F29 -> 0 | F5: =일위대가!H29 -> 0 | G5: =일위대가!J29 -> 0 | H5: =E5+F5+G5 -> 0 | I5: 호표 2
A6: 5C5FC34937E814A89FF636B9000787 | B6: 건축물보양 | C6: 보양지 붙이기 | D6: M2 | E6: =일위대가!F35 -> 0 | F6: =일위대가!H35 -> 0 | G6: =일위대가!J35 -> 0 | H6: =E6+F6+G6 -> 0 | I6: 호표 3
A7: 5C5FC34937D80B8AFE96EAC180DC5B | B7: 건축물 현장정리 | C7: 마무리용 | D7: M2 | E7: =일위대가!F39 -> 0 | F7: =일위대가!H39 -> 0 | G7: =일위대가!J39 -> 0 | H7: =E7+F7+G7 -> 0 | I7: 호표 4
A8: 5C5F931F319815F24B4632B030FB3C | B8: 콘크리트 인력비빔 타설 | C8: 철근구조물 | D8: M3 | E8: =일위대가!F45 -> 0 | F8: =일위대가!H45 -> 0 | G8: =일위대가!J45 -> 0 | H8: =E8+F8+G8 -> 0 | I8: 호표 5
A9: 5C5F93183EE8E0420C36BC35A0DCBC | B9: 유로폼 설치 및 해체 | C9: 3회, 보통, 수직고 7m까지 | D9: M2 | E9: =일위대가!F50 -> 0 | F9: =일위대가!H50 -> 0 | G9: =일위대가!J50 -> 0 | H9: =E9+F9+G9 -> 0 | I9: 호표 6
A10: 5C5F931B3BE8E493FC96FAD4C070ED | B10: 철근 현장가공 및 현장조립 | C10: Type-Ⅰ | D10: TON | E10: =일위대가!F55 -> 0 | F10: =일위대가!H55 -> 0 | G10: =일위대가!J55 -> 0 | H10: =E10+F10+G10 -> 0 | I10: 호표 7
A11: 5C5F931B3BA8738CA15636E7901DC4 | B11: 케미컬앵커 | C11: HY 200R V3 + HD13 L:480 | D11: 개소 | E11: =일위대가!F66 -> 0 | F11: =일위대가!H66 -> 0 | G11: =일위대가!J66 -> 0 | H11: =E11+F11+G11 -> 0 | I11: 호표 8
A12: 5C5F930B317815D891A6B0F120DEB4 | B12: 콘크리트 치핑 | C12: 소형치핑장비활용 | D12: M2 | E12: =일위대가!F72 -> 0 | F12: =일위대가!H72 -> 0 | G12: =일위대가!J72 -> 0 | H12: =E12+F12+G12 -> 0 | I12: 호표 9
A13: 5C5F83313918C631CB76CA6CB04273 | B13: 철골 가공 조립(적은 구조) | C13: Rolled shape, 60ton 미만 | D13: TON | E13: =일위대가!F78 -> 0 | F13: =일위대가!H78 -> 0 | G13: =일위대가!J78 -> 0 | H13: =E13+F13+G13 -> 0 | I13: 호표 10
A14: 5C5F833733B833722116051680B5DC | B14: 철골세우기 - 6층 미만 | C14: 0~49kg/m2, 10ton미만 | D14: TON | E14: =일위대가!F83 -> 0 | F14: =일위대가!H83 -> 0 | G14: =일위대가!J83 -> 0 | H14: =E14+F14+G14 -> 0 | I14: 호표 11
A15: 5C5F8337330828CF6BE66EF100C56E | B15: 수용접(Rolled shape 제작) | C15: 20(m/t) 미만, 30ton 미만 | D15: TON | E15: =일위대가!F89 -> 0 | F15: =일위대가!H89 -> 0 | G15: =일위대가!J89 -> 0 | H15: =E15+F15+G15 -> 0 | I15: 호표 12
A16: 5C5FC34E3FC8B38A5196EA60A06EDA | B16: 트럭크레인손료 | C16: 10ton | D16: TON | E16: =일위대가!F93 -> 0 | F16: =일위대가!H93 -> 0 | G16: =일위대가!J93 -> 0 | H16: =E16+F16+G16 -> 0 | I16: 호표 13
A17: 5C5F931B3BA8738CA15636E7901DC2 | B17: 케미컬앵커 | C17: HY 200 + HIT-C M10x130 | D17: 개소 | E17: =일위대가!F104 -> 0 | F17: =일위대가!H104 -> 0 | G17: =일위대가!J104 -> 0 | H17: =E17+F17+G17 -> 0 | I17: 호표 14
A18: 5C5F8337330829D4AE36C55CE051B4 | B18: 주각부 무수축 모르타르 충전 | C18: 무수축그라우트 | D18: M3 | E18: =일위대가!F110 -> 0 | F18: =일위대가!H110 -> 0 | G18: =일위대가!J110 -> 0 | H18: =E18+F18+G18 -> 0 | I18: 호표 15
A19: 5C5EA396336842F9E3663F98205717 | B19: 철골도장 | C19: 방청1회(뿜칠) | D19: M2 | E19: =일위대가!F116 -> 0 | F19: =일위대가!H116 -> 0 | G19: =일위대가!J116 -> 0 | H19: =E19+F19+G19 -> 0 | I19: 호표 16
A20: 5C5EA396336842F9E3663F98205290 | B20: 철판보강공사 | C20: 2층 | D20: 식 | E20: =일위대가!F130 -> 0 | F20: =일위대가!H130 -> 0 | G20: =일위대가!J130 -> 0 | H20: =E20+F20+G20 -> 0 | I20: 호표 17
A21: 5C5EA396336842F9E3663F98205292 | B21: 철판보강공사 | C21: 3층 | D21: 식 | E21: =일위대가!F144 -> 0 | F21: =일위대가!H144 -> 0 | G21: =일위대가!J144 -> 0 | H21: =E21+F21+G21 -> 0 | I21: 호표 18
A22: 5C5FB3673A58234855F6EF5330C53C | B22: 1.0B 벽돌쌓기 | C22: 3.6m 이하, 시공량 15m2/일당 | D22: M2 | E22: =일위대가!F152 -> 0 | F22: =일위대가!H152 -> 0 | G22: =일위대가!J152 -> 0 | H22: =E22+F22+G22 -> 0 | I22: 호표 19
A23: 5C5FB3673A78EEC9C1263B99B07ADF | B23: 벽돌운반 | C23: 인력, 1층 | D23: 천매 | E23: =일위대가!F156 -> 0 | F23: =일위대가!H156 -> 0 | G23: =일위대가!J156 -> 0 | H23: =E23+F23+G23 -> 0 | I23: 호표 20
A24: 5C5FB3673A78EEC9C1263B8F40F0D6 | B24: 벽돌운반 | C24: 인력, 2층 | D24: 천매 | E24: =일위대가!F160 -> 0 | F24: =일위대가!H160 -> 0 | G24: =일위대가!J160 -> 0 | H24: =E24+F24+G24 -> 0 | I24: 호표 21
A25: 5C5F037E3C580749BD56C9A1004E90 | B25: 화강석붙임(건식/TRUSS, 버너) | C25: 벽, 포천석 30mm, ㅁ-50*50*2.3t@450 | D25: M2 | E25: =일위대가!F167 -> 0 | F25: =일위대가!H167 -> 0 | G25: =일위대가!J167 -> 0 | H25: =E25+F25+G25 -> 0 | I25: 호표 22
A26: 5C5F037E3C487D2239364AA300E37D | B26: 화강석붙임(건식, 버너) | C26: 창대, 포천석 180*30mm | D26: M | E26: =일위대가!F174 -> 0 | F26: =일위대가!H174 -> 0 | G26: =일위대가!J174 -> 0 | H26: =E26+F26+G26 -> 0 | I26: 호표 23
A27: 5C5F037E3C487FD20206201C905E38 | B27: 화강석 두겁대(습식, 버너) | C27: 포천석 330*30mm, 모르타르 30mm | D27: M | E27: =일위대가!F180 -> 0 | F27: =일위대가!H180 -> 0 | G27: =일위대가!J180 -> 0 | H27: =E27+F27+G27 -> 0 | I27: 호표 24
A28: 5C5F037E3C487FD20206201C905E3E | B28: 화강석 두겁대(습식, 버너) | C28: 포천석 450*30mm, 모르타르 30mm | D28: M | E28: =일위대가!F186 -> 0 | F28: =일위대가!H186 -> 0 | G28: =일위대가!J186 -> 0 | H28: =E28+F28+G28 -> 0 | I28: 호표 25
A29: 5C5F037E3C487FD20206201C905E3C | B29: 화강석 두겁대(습식, 버너) | C29: 포천석 330*50mm, 모르타르 30mm | D29: M | E29: =일위대가!F192 -> 0 | F29: =일위대가!H192 -> 0 | G29: =일위대가!J192 -> 0 | H29: =E29+F29+G29 -> 0 | I29: 호표 26
A30: 5C5F037E3C487FD5D6B6CC84E093E6 | B30: 화강석 세면대턱(습식, 물갈기) | C30: 마천석 150*30mm, 모르타르 20mm | D30: M | E30: =일위대가!F199 -> 0 | F30: =일위대가!H199 -> 0 | G30: =일위대가!J199 -> 0 | H30: =E30+F30+G30 -> 0 | I30: 호표 27
A31: 5C5F037E3C487FD5D6B6CC84E093E0 | B31: 화강석 소변기턱(습식, 물갈기) | C31: 마천석 120*30mm, 모르타르 20mm | D31: M | E31: =일위대가!F206 -> 0 | F31: =일위대가!H206 -> 0 | G31: =일위대가!J206 -> 0 | H31: =E31+F31+G31 -> 0 | I31: 호표 28
A32: 5C5F037E3C487FD5D6B6CC84E09135 | B32: 화강석 대변기턱(습식, 물갈기) | C32: 마천석 120*30mm, 모르타르 20mm | D32: M | E32: =일위대가!F213 -> 0 | F32: =일위대가!H213 -> 0 | G32: =일위대가!J213 -> 0 | H32: =E32+F32+G32 -> 0 | I32: 호표 29
A33: 5C5F234E3038D92AF616BCC930A7BF | B33: 화강석 재료분리대(습식, 물갈기) | C33: 마천석, 250*30mm, 모르타르 60mm | D33: M | E33: =일위대가!F219 -> 0 | F33: =일위대가!H219 -> 0 | G33: =일위대가!J219 -> 0 | H33: =E33+F33+G33 -> 0 | I33: 호표 30
A34: 5C5F234E3038D92AF616BCC930A7BD | B34: 화강석 재료분리대(습식, 물갈기) | C34: 마천석, 350*30mm, 모르타르 120mm | D34: M | E34: =일위대가!F225 -> 0 | F34: =일위대가!H225 -> 0 | G34: =일위대가!J225 -> 0 | H34: =E34+F34+G34 -> 0 | I34: 호표 31
A35: 5C5EA3813288EF8B890642F300CCA5 | B35: 고압물청소 | D35: M2 | E35: =일위대가!F230 -> 0 | F35: =일위대가!H230 -> 0 | G35: =일위대가!J230 -> 0 | H35: =E35+F35+G35 -> 0 | I35: 호표 32
A36: 5C5F037D33E8F287CB76A169E057ED | B36: 타일 압착 붙이기(바탕 75mm+압 5mm) | C36: 바닥, 600*600(타일C, 백색줄눈) | D36: M2 | E36: =일위대가!F236 -> 0 | F36: =일위대가!H236 -> 0 | G36: =일위대가!J236 -> 0 | H36: =E36+F36+G36 -> 0 | I36: 호표 33
A37: 5C5F037D33E8F287CB76A169E057EF | B37: 타일 압착 붙이기(바탕 125mm+압 5mm) | C37: 바닥, 600*600(타일C, 백색줄눈) | D37: M2 | E37: =일위대가!F242 -> 0 | F37: =일위대가!H242 -> 0 | G37: =일위대가!J242 -> 0 | H37: =E37+F37+G37 -> 0 | I37: 호표 34
A38: 5C5F037D33C8C75E6056C773305455 | B38: 타일 압착 붙이기(바탕 11mm+접착제붙임) | C38: 벽, 600*600 | D38: M2 | E38: =일위대가!F251 -> 0 | F38: =일위대가!H251 -> 0 | G38: =일위대가!J251 -> 0 | H38: =E38+F38+G38 -> 0 | I38: 호표 35
A39: 5C5F53F73E08BF80D656F852E0881A | B39: 시멘트 액체 방수 | C39: 바닥, 1종 | D39: M2 | E39: =일위대가!F256 -> 0 | F39: =일위대가!H256 -> 0 | G39: =일위대가!J256 -> 0 | H39: =E39+F39+G39 -> 0 | I39: 호표 36
A40: 5C5F53F73E08BF80D656C31100E1D4 | B40: 시멘트 액체 방수 | C40: 수직부, 1종 | D40: M2 | E40: =일위대가!F261 -> 0 | F40: =일위대가!H261 -> 0 | G40: =일위대가!J261 -> 0 | H40: =E40+F40+G40 -> 0 | I40: 호표 37
...

Sheet 일위대가
A1: 공사명 : 안용중학교 합숙소 개보수공사
A2: 품 명 | B2: 규 격 | C2: 단위 | D2: 수량 | E2: 재 료 비 | G2: 노 무 비 | I2: 경 비 | K2: 합 계 | M2: 비 고 | N2: 일위대가 | O2: 품목코드 | P2: 일위 | Q2: 단산 | R2: 자재 | S2: 손료적용 | T2: 손료저장 | U2: 적용율 | V2: JUK1 | W2: JUK2 | X2: JUK3 | Y2: JUK4 | Z2: JUK5 | AA2: JUK6 | AB2: JUK7 | AC2: JUK8 | AD2: JUK9 | AE2: JUK10 | AF2: JUK11 | AG2: JUK12 | AH2: JUK13 | AI2: JUK14 | AJ2: JUK15 | AK2: JUK16 | AL2: JUK17 | AM2: JUK18 | AN2: JUK19 | AO2: JUK20 | AP2: 할증적용 | AQ2: 할증저장 | AR2: 할증율 | AS2: HAL1 | AT2: HAL2 | AU2: HAL3 | AV2: 자재구분 | AW2: 일위대가+자재 | AX2: 장비일위 | AY2: 설정 | AZ2: 할증체크
E3: 단 가 | F3: 금 액 | G3: 단 가 | H3: 금 액 | I3: 단 가 | J3: 금 액 | K3: 단 가 | L3: 금 액
A4: 강관 조립말비계(이동식)설치 및 해체 높이 2m, 3개월 대 ( 호표 1 ) | N4: 5C5FC34C3338E0BBE9062AA6600E20
A5: 비계안정장치 | B5: 비계안정장치, 비계기본틀, 기둥, 1.2*1.7m | C5: 개 | D5: 0.14 | E5: =단가대비표!O51 -> 0 | F5: =TRUNC(E5*D5,1) -> 0 | G5: =단가대비표!P51 -> 0 | H5: =TRUNC(G5*D5,1) -> 0 | I5: =단가대비표!V51 -> 0 | J5: =TRUNC(I5*D5,1) -> 0 | K5: =TRUNC(E5+G5+I5,1) -> 0 | L5: =TRUNC(F5+H5+J5,1) -> 0 | N5: 5C5FC34C3338E0BBE9062AA6600E20 | O5: 5B72E38D3EE8A012C76668A26032189DA7DEDD | P5: F | Q5: F | R5: T | AW5: 5C5FC34C3338E0BBE9062AA6600E205B72E38D3EE8A012C76668A26032189DA7DEDD
A6: 비계안정장치 | B6: 비계안정장치, 가새, 1.2*1.9m | C6: 개 | D6: 0.14 | E6: =단가대비표!O52 -> 0 | F6: =TRUNC(E6*D6,1) -> 0 | G6: =단가대비표!P52 -> 0 | H6: =TRUNC(G6*D6,1) -> 0 | I6: =단가대비표!V52 -> 0 | J6: =TRUNC(I6*D6,1) -> 0 | K6: =TRUNC(E6+G6+I6,1) -> 0 | L6: =TRUNC(F6+H6+J6,1) -> 0 | N6: 5C5FC34C3338E0BBE9062AA6600E20 | O6: 5B72E38D3EE8A012C76668A26032189DA7DED3 | P6: F | Q6: F | R6: T | AW6: 5C5FC34C3338E0BBE9062AA6600E205B72E38D3EE8A012C76668A26032189DA7DED3
A7: 비계안정장치 | B7: 비계안정장치, 수평띠장, 1829mm | C7: 개 | D7: 0.28 | E7: =단가대비표!O53 -> 0 | F7: =TRUNC(E7*D7,1) -> 0 | G7: =단가대비표!P53 -> 0 | H7: =TRUNC(G7*D7,1) -> 0 | I7: =단가대비표!V53 -> 0 | J7: =TRUNC(I7*D7,1) -> 0 | K7: =TRUNC(E7+G7+I7,1) -> 0 | L7: =TRUNC(F7+H7+J7,1) -> 0 | N7: 5C5FC34C3338E0BBE9062AA6600E20 | O7: 5B72E38D3EE8A012C76668A26032189DA7D100 | P7: F | Q7: F | R7: T | AW7: 5C5FC34C3338E0BBE9062AA6600E205B72E38D3EE8A012C76668A26032189DA7D100
A8: 비계안정장치 | B8: 비계안정장치, 손잡이기둥 | C8: 개 | D8: 0.28 | E8: =단가대비표!O56 -> 0 | F8: =TRUNC(E8*D8,1) -> 0 | G8: =단가대비표!P56 -> 0 | H8: =TRUNC(G8*D8,1) -> 0 | I8: =단가대비표!V56 -> 0 | J8: =TRUNC(I8*D8,1) -> 0 | K8: =TRUNC(E8+G8+I8,1) -> 0 | L8: =TRUNC(F8+H8+J8,1) -> 0 | N8: 5C5FC34C3338E0BBE9062AA6600E20 | O8: 5B72E38D3EE8A012C76668A26032189DA7D107 | P8: F | Q8: F | R8: T | AW8: 5C5FC34C3338E0BBE9062AA6600E205B72E38D3EE8A012C76668A26032189DA7D107
A9: 비계안정장치 | B9: 비계안정장치, 손잡이, 1229mm | C9: 개 | D9: 0.14 | E9: =단가대비표!O54 -> 0 | F9: =TRUNC(E9*D9,1) -> 0 | G9: =단가대비표!P54 -> 0 | H9: =TRUNC(G9*D9,1) -> 0 | I9: =단가대비표!V54 -> 0 | J9: =TRUNC(I9*D9,1) -> 0 | K9: =TRUNC(E9+G9+I9,1) -> 0 | L9: =TRUNC(F9+H9+J9,1) -> 0 | N9: 5C5FC34C3338E0BBE9062AA6600E20 | O9: 5B72E38D3EE8A012C76668A26032189DA7D101 | P9: F | Q9: F | R9: T | AW9: 5C5FC34C3338E0BBE9062AA6600E205B72E38D3EE8A012C76668A26032189DA7D101
A10: 비계안정장치 | B10: 비계안정장치, 손잡이, 1829mm | C10: 개 | D10: 0.28 | E10: =단가대비표!O55 -> 0 | F10: =TRUNC(E10*D10,1) -> 0 | G10: =단가대비표!P55 -> 0 | H10: =TRUNC(G10*D10,1) -> 0 | I10: =단가대비표!V55 -> 0 | J10: =TRUNC(I10*D10,1) -> 0 | K10: =TRUNC(E10+G10+I10,1) -> 0 | L10: =TRUNC(F10+H10+J10,1) -> 0 | N10: 5C5FC34C3338E0BBE9062AA6600E20 | O10: 5B72E38D3EE8A012C76668A26032189DA7D106 | P10: F | Q10: F | R10: T | AW10: 5C5FC34C3338E0BBE9062AA6600E205B72E38D3EE8A012C76668A26032189DA7D106
A11: 비계안정장치 | B11: 비계안정장치, 바퀴 | C11: 개 | D11: 0.36 | E11: =단가대비표!O57 -> 0 | F11: =TRUNC(E11*D11,1) -> 0 | G11: =단가대비표!P57 -> 0 | H11: =TRUNC(G11*D11,1) -> 0 | I11: =단가대비표!V57 -> 0 | J11: =TRUNC(I11*D11,1) -> 0 | K11: =TRUNC(E11+G11+I11,1) -> 0 | L11: =TRUNC(F11+H11+J11,1) -> 0 | N11: 5C5FC34C3338E0BBE9062AA6600E20 | O11: 5B72E38D3EE8A012C76668A26032189DA7D104 | P11: F | Q11: F | R11: T | AW11: 5C5FC34C3338E0BBE9062AA6600E205B72E38D3EE8A012C76668A26032189DA7D104
A12: 비계안정장치 | B12: 비계안정장치, 쟈키 | C12: 개 | D12: 0.36 | E12: =단가대비표!O58 -> 0 | F12: =TRUNC(E12*D12,1) -> 0 | G12: =단가대비표!P58 -> 0 | H12: =TRUNC(G12*D12,1) -> 0 | I12: =단가대비표!V58 -> 0 | J12: =TRUNC(I12*D12,1) -> 0 | K12: =TRUNC(E12+G12+I12,1) -> 0 | L12: =TRUNC(F12+H12+J12,1) -> 0 | N12: 5C5FC34C3338E0BBE9062AA6600E20 | O12: 5B72E38D3EE8A012C76668A26032189DA7D105 | P12: F | Q12: F | R12: T | AW12: 5C5FC34C3338E0BBE9062AA6600E205B72E38D3EE8A012C76668A26032189DA7D105
A13: 비계안정장치 | B13: 비계안정장치, 발판, 40*400*1829 | C13: 장 | D13: 0.315 | E13: =단가대비표!O59 -> 0 | F13: =TRUNC(E13*D13,1) -> 0 | G13: =단가대비표!P59 -> 0 | H13: =TRUNC(G13*D13,1) -> 0 | I13: =단가대비표!V59 -> 0 | J13: =TRUNC(I13*D13,1) -> 0 | K13: =TRUNC(E13+G13+I13,1) -> 0 | L13: =TRUNC(F13+H13+J13,1) -> 0 | N13: 5C5FC34C3338E0BBE9062AA6600E20 | O13: 5B72E38D3EE8A012C76668A240052BA43F5C8F | P13: F | Q13: F | R13: T | AW13: 5C5FC34C3338E0BBE9062AA6600E205B72E38D3EE8A012C76668A240052BA43F5C8F
A14: 강관 조립말비계(이동식)설치 및 해체 | B14: 높이 2m, 노무비 | C14: 대 | D14: 1 | E14: =일위대가목록!E139 -> 0 | F14: =TRUNC(E14*D14,1) -> 0 | G14: =일위대가목록!F139 -> 0 | H14: =TRUNC(G14*D14,1) -> 0 | I14: =일위대가목록!G139 -> 0 | J14: =TRUNC(I14*D14,1) -> 0 | K14: =TRUNC(E14+G14+I14,1) -> 0 | L14: =TRUNC(F14+H14+J14,1) -> 0 | M14: 호표 136 | N14: 5C5FC34C3338E0BBE9062AA6600E20 | O14: 5C5FC34C3338E0BBE9062AB0D0F850 | P14: T | Q14: F | R14: F | AW14: 5C5FC34C3338E0BBE9062AA6600E205C5FC34C3338E0BBE9062AB0D0F850
A15: [ 합 계 ] | F15: =TRUNC(SUMIF(N5:N14, N4, F5:F14),0) -> 0 | H15: =TRUNC(SUMIF(N5:N14, N4, H5:H14),0) -> 0 | J15: =TRUNC(SUMIF(N5:N14, N4, J5:J14),0) -> 0 | L15: =F15+H15+J15 -> 0 | N15: TOTAL | O15: TOTAL
A17: 강관 조립말비계(이동식)설치 및 해체 높이 4m, 3개월 대 ( 호표 2 ) | N17: 5C5FC34C3338E0BBE9062A95F01C69
A18: 비계안정장치 | B18: 비계안정장치, 비계기본틀, 기둥, 1.2*1.7m | C18: 개 | D18: 0.28 | E18: =단가대비표!O51 -> 0 | F18: =TRUNC(E18*D18,1) -> 0 | G18: =단가대비표!P51 -> 0 | H18: =TRUNC(G18*D18,1) -> 0 | I18: =단가대비표!V51 -> 0 | J18: =TRUNC(I18*D18,1) -> 0 | K18: =TRUNC(E18+G18+I18,1) -> 0 | L18: =TRUNC(F18+H18+J18,1) -> 0 | N18: 5C5FC34C3338E0BBE9062A95F01C69 | O18: 5B72E38D3EE8A012C76668A26032189DA7DEDD | P18: F | Q18: F | R18: T | AW18: 5C5FC34C3338E0BBE9062A95F01C695B72E38D3EE8A012C76668A26032189DA7DEDD
A19: 비계안정장치 | B19: 비계안정장치, 가새, 1.2*1.9m | C19: 개 | D19: 0.28 | E19: =단가대비표!O52 -> 0 | F19: =TRUNC(E19*D19,1) -> 0 | G19: =단가대비표!P52 -> 0 | H19: =TRUNC(G19*D19,1) -> 0 | I19: =단가대비표!V52 -> 0 | J19: =TRUNC(I19*D19,1) -> 0 | K19: =TRUNC(E19+G19+I19,1) -> 0 | L19: =TRUNC(F19+H19+J19,1) -> 0 | N19: 5C5FC34C3338E0BBE9062A95F01C69 | O19: 5B72E38D3EE8A012C76668A26032189DA7DED3 | P19: F | Q19: F | R19: T | AW19: 5C5FC34C3338E0BBE9062A95F01C695B72E38D3EE8A012C76668A26032189DA7DED3
A20: 비계안정장치 | B20: 비계안정장치, 수평띠장, 1829mm | C20: 개 | D20: 0.56 | E20: =단가대비표!O53 -> 0 | F20: =TRUNC(E20*D20,1) -> 0 | G20: =단가대비표!P53 -> 0 | H20: =TRUNC(G20*D20,1) -> 0 | I20: =단가대비표!V53 -> 0 | J20: =TRUNC(I20*D20,1) -> 0 | K20: =TRUNC(E20+G20+I20,1) -> 0 | L20: =TRUNC(F20+H20+J20,1) -> 0 | N20: 5C5FC34C3338E0BBE9062A95F01C69 | O20: 5B72E38D3EE8A012C76668A26032189DA7D100 | P20: F | Q20: F | R20: T | AW20: 5C5FC34C3338E0BBE9062A95F01C695B72E38D3EE8A012C76668A26032189DA7D100
A21: 비계안정장치 | B21: 비계안정장치, 손잡이기둥 | C21: 개 | D21: 0.28 | E21: =단가대비표!O56 -> 0 | F21: =TRUNC(E21*D21,1) -> 0 | G21: =단가대비표!P56 -> 0 | H21: =TRUNC(G21*D21,1) -> 0 | I21: =단가대비표!V56 -> 0 | J21: =TRUNC(I21*D21,1) -> 0 | K21: =TRUNC(E21+G21+I21,1) -> 0 | L21: =TRUNC(F21+H21+J21,1) -> 0 | N21: 5C5FC34C3338E0BBE9062A95F01C69 | O21: 5B72E38D3EE8A012C76668A26032189DA7D107 | P21: F | Q21: F | R21: T | AW21: 5C5FC34C3338E0BBE9062A95F01C695B72E38D3EE8A012C76668A26032189DA7D107
A22: 비계안정장치 | B22: 비계안정장치, 손잡이, 1229mm | C22: 개 | D22: 0.14 | E22: =단가대비표!O54 -> 0 | F22: =TRUNC(E22*D22,1) -> 0 | G22: =단가대비표!P54 -> 0 | H22: =TRUNC(G22*D22,1) -> 0 | I22: =단가대비표!V54 -> 0 | J22: =TRUNC(I22*D22,1) -> 0 | K22: =TRUNC(E22+G22+I22,1) -> 0 | L22: =TRUNC(F22+H22+J22,1) -> 0 | N22: 5C5FC34C3338E0BBE9062A95F01C69 | O22: 5B72E38D3EE8A012C76668A26032189DA7D101 | P22: F | Q22: F | R22: T | AW22: 5C5FC34C3338E0BBE9062A95F01C695B72E38D3EE8A012C76668A26032189DA7D101
A23: 비계안정장치 | B23: 비계안정장치, 손잡이, 1829mm | C23: 개 | D23: 0.28 | E23: =단가대비표!O55 -> 0 | F23: =TRUNC(E23*D23,1) -> 0 | G23: =단가대비표!P55 -> 0 | H23: =TRUNC(G23*D23,1) -> 0 | I23: =단가대비표!V55 -> 0 | J23: =TRUNC(I23*D23,1) -> 0 | K23: =TRUNC(E23+G23+I23,1) -> 0 | L23: =TRUNC(F23+H23+J23,1) -> 0 | N23: 5C5FC34C3338E0BBE9062A95F01C69 | O23: 5B72E38D3EE8A012C76668A26032189DA7D106 | P23: F | Q23: F | R23: T | AW23: 5C5FC34C3338E0BBE9062A95F01C695B72E38D3EE8A012C76668A26032189DA7D106
A24: 비계안정장치 | B24: 비계안정장치, 이음철물, 연결핀 | C24: 개 | D24: 0.48 | E24: =단가대비표!O50 -> 0 | F24: =TRUNC(E24*D24,1) -> 0 | G24: =단가대비표!P50 -> 0 | H24: =TRUNC(G24*D24,1) -> 0 | I24: =단가대비표!V50 -> 0 | J24: =TRUNC(I24*D24,1) -> 0 | K24: =TRUNC(E24+G24+I24,1) -> 0 | L24: =TRUNC(F24+H24+J24,1) -> 0 | N24: 5C5FC34C3338E0BBE9062A95F01C69 | O24: 5B72E38D3EE8A012C76668A26032189DA7DC2A | P24: F | Q24: F | R24: T | AW24: 5C5FC34C3338E0BBE9062A95F01C695B72E38D3EE8A012C76668A26032189DA7DC2A
A25: 비계안정장치 | B25: 비계안정장치, 바퀴 | C25: 개 | D25: 0.36 | E25: =단가대비표!O57 -> 0 | F25: =TRUNC(E25*D25,1) -> 0 | G25: =단가대비표!P57 -> 0 | H25: =TRUNC(G25*D25,1) -> 0 | I25: =단가대비표!V57 -> 0 | J25: =TRUNC(I25*D25,1) -> 0 | K25: =TRUNC(E25+G25+I25,1) -> 0 | L25: =TRUNC(F25+H25+J25,1) -> 0 | N25: 5C5FC34C3338E0BBE9062A95F01C69 | O25: 5B72E38D3EE8A012C76668A26032189DA7D104 | P25: F | Q25: F | R25: T | AW25: 5C5FC34C3338E0BBE9062A95F01C695B72E38D3EE8A012C76668A26032189DA7D104
A26: 비계안정장치 | B26: 비계안정장치, 쟈키 | C26: 개 | D26: 0.36 | E26: =단가대비표!O58 -> 0 | F26: =TRUNC(E26*D26,1) -> 0 | G26: =단가대비표!P58 -> 0 | H26: =TRUNC(G26*D26,1) -> 0 | I26: =단가대비표!V58 -> 0 | J26: =TRUNC(I26*D26,1) -> 0 | K26: =TRUNC(E26+G26+I26,1) -> 0 | L26: =TRUNC(F26+H26+J26,1) -> 0 | N26: 5C5FC34C3338E0BBE9062A95F01C69 | O26: 5B72E38D3EE8A012C76668A26032189DA7D105 | P26: F | Q26: F | R26: T | AW26: 5C5FC34C3338E0BBE9062A95F01C695B72E38D3EE8A012C76668A26032189DA7D105
A27: 비계안정장치 | B27: 비계안정장치, 발판, 40*400*1829 | C27: 장 | D27: 0.315 | E27: =단가대비표!O59 -> 0 | F27: =TRUNC(E27*D27,1) -> 0 | G27: =단가대비표!P59 -> 0 | H27: =TRUNC(G27*D27,1) -> 0 | I27: =단가대비표!V59 -> 0 | J27: =TRUNC(I27*D27,1) -> 0 | K27: =TRUNC(E27+G27+I27,1) -> 0 | L27: =TRUNC(F27+H27+J27,1) -> 0 | N27: 5C5FC34C3338E0BBE9062A95F01C69 | O27: 5B72E38D3EE8A012C76668A240052BA43F5C8F | P27: F | Q27: F | R27: T | AW27: 5C5FC34C3338E0BBE9062A95F01C695B72E38D3EE8A012C76668A240052BA43F5C8F
A28: 강관 조립말비계(이동식)설치 및 해체 | B28: 높이 4m, 노무비 | C28: 대 | D28: 1 | E28: =일위대가목록!E140 -> 0 | F28: =TRUNC(E28*D28,1) -> 0 | G28: =일위대가목록!F140 -> 0 | H28: =TRUNC(G28*D28,1) -> 0 | I28: =일위대가목록!G140 -> 0 | J28: =TRUNC(I28*D28,1) -> 0 | K28: =TRUNC(E28+G28+I28,1) -> 0 | L28: =TRUNC(F28+H28+J28,1) -> 0 | M28: 호표 137 | N28: 5C5FC34C3338E0BBE9062A95F01C69 | O28: 5C5FC34C3338E0BBE9062AB0D0FB25 | P28: T | Q28: F | R28: F | AW28: 5C5FC34C3338E0BBE9062A95F01C695C5FC34C3338E0BBE9062AB0D0FB25
A29: [ 합 계 ] | F29: =TRUNC(SUMIF(N18:N28, N17, F18:F28),0) -> 0 | H29: =TRUNC(SUMIF(N18:N28, N17, H18:H28),0) -> 0 | J29: =TRUNC(SUMIF(N18:N28, N17, J18:J28),0) -> 0 | L29: =F29+H29+J29 -> 0 | N29: TOTAL | O29: TOTAL
A31: 건축물보양 보양지 붙이기 M2 ( 호표 3 ) | N31: 5C5FC34937E814A89FF636B9000787
A32: 공통자재 | B32: 하드롱지 | C32: M2 | D32: 1.2 | E32: =단가대비표!O20 -> 0 | F32: =TRUNC(E32*D32,1) -> 0 | G32: =단가대비표!P20 -> 0 | H32: =TRUNC(G32*D32,1) -> 0 | I32: =단가대비표!V20 -> 0 | J32: =TRUNC(I32*D32,1) -> 0 | K32: =TRUNC(E32+G32+I32,1) -> 0 | L32: =TRUNC(F32+H32+J32,1) -> 0 | N32: 5C5FC34937E814A89FF636B9000787 | O32: 5B60C3653C1879220E86998F201AF4C053B55B | P32: F | Q32: F | R32: T | AW32: 5C5FC34937E814A89FF636B90007875B60C3653C1879220E86998F201AF4C053B55B
A33: 합성풀 | B33: 합성풀, 건설용 | C33: kg | D33: 0.06 | E33: =단가대비표!O68 -> 0 | F33: =TRUNC(E33*D33,1) -> 0 | G33: =단가대비표!P68 -> 0 | H33: =TRUNC(G33*D33,1) -> 0 | I33: =단가대비표!V68 -> 0 | J33: =TRUNC(I33*D33,1) -> 0 | K33: =TRUNC(E33+G33+I33,1) -> 0 | L33: =TRUNC(F33+H33+J33,1) -> 0 | N33: 5C5FC34937E814A89FF636B9000787 | O33: 5B72F3913058AAC04ED63F1170528E243E37AB | P33: F | Q33: F | R33: T | AW33: 5C5FC34937E814A89FF636B90007875B72F3913058AAC04ED63F1170528E243E37AB
A34: 보통인부 | B34: 일반공사 직종 | C34: 인 | D34: 0.01 | E34: =단가대비표!O158 -> 0 | F34: =TRUNC(E34*D34,1) -> 0 | G34: =단가대비표!P158 -> 0 | H34: =TRUNC(G34*D34,1) -> 0 | I34: =단가대비표!V158 -> 0 | J34: =TRUNC(I34*D34,1) -> 0 | K34: =TRUNC(E34+G34+I34,1) -> 0 | L34: =TRUNC(F34+H34+J34,1) -> 0 | N34: 5C5FC34937E814A89FF636B9000787 | O34: 5C8413F732B88D0BFFA67D00B0CCC6B7E58E41 | P34: F | Q34: F | R34: T | AW34: 5C5FC34937E814A89FF636B90007875C8413F732B88D0BFFA67D00B0CCC6B7E58E41
A35: [ 합 계 ] | F35: =TRUNC(SUMIF(N32:N34, N31, F32:F34),0) -> 0 | H35: =TRUNC(SUMIF(N32:N34, N31, H32:H34),0) -> 0 | J35: =TRUNC(SUMIF(N32:N34, N31, J32:J34),0) -> 0 | L35: =F35+H35+J35 -> 0 | N35: TOTAL | O35: TOTAL
A37: 건축물 현장정리 마무리용 M2 ( 호표 4 ) | N37: 5C5FC34937D80B8AFE96EAC180DC5B
A38: 보통인부 | B38: 일반공사 직종 | C38: 인 | D38: 0.01 | E38: =단가대비표!O158 -> 0 | F38: =TRUNC(E38*D38,1) -> 0 | G38: =단가대비표!P158 -> 0 | H38: =TRUNC(G38*D38,1) -> 0 | I38: =단가대비표!V158 -> 0 | J38: =TRUNC(I38*D38,1) -> 0 | K38: =TRUNC(E38+G38+I38,1) -> 0 | L38: =TRUNC(F38+H38+J38,1) -> 0 | N38: 5C5FC34937D80B8AFE96EAC180DC5B | O38: 5C8413F732B88D0BFFA67D00B0CCC6B7E58E41 | P38: F | Q38: F | R38: T | AW38: 5C5FC34937D80B8AFE96EAC180DC5B5C8413F732B88D0BFFA67D00B0CCC6B7E58E41
A39: [ 합 계 ] | F39: =TRUNC(SUMIF(N38:N38, N37, F38:F38),0) -> 0 | H39: =TRUNC(SUMIF(N38:N38, N37, H38:H38),0) -> 0 | J39: =TRUNC(SUMIF(N38:N38, N37, J38:J38),0) -> 0 | L39: =F39+H39+J39 -> 0 | N39: TOTAL | O39: TOTAL
A41: 콘크리트 인력비빔 타설 철근구조물 M3 ( 호표 5 ) | N41: 5C5F931F319815F24B4632B030FB3C
A42: 콘크리트공 | B42: 일반공사 직종 | C42: 인 | D42: 0.87 | E42: =단가대비표!O166 -> 0 | F42: =TRUNC(E42*D42,1) -> 0 | G42: =단가대비표!P166 -> 0 | H42: =TRUNC(G42*D42,1) -> 0 | I42: =단가대비표!V166 -> 0 | J42: =TRUNC(I42*D42,1) -> 0 | K42: =TRUNC(E42+G42+I42,1) -> 0 | L42: =TRUNC(F42+H42+J42,1) -> 0 | N42: 5C5F931F319815F24B4632B030FB3C | O42: 5C8413F732B88D0BFFA67D00B0CCC6B7E58F69 | P42: F | Q42: F | R42: T | AW42: 5C5F931F319815F24B4632B030FB3C5C8413F732B88D0BFFA67D00B0CCC6B7E58F69
A43: 보통인부 | B43: 일반공사 직종 | C43: 인 | D43: 0.99 | E43: =단가대비표!O158 -> 0 | F43: =TRUNC(E43*D43,1) -> 0 | G43: =단가대비표!P158 -> 0 | H43: =TRUNC(G43*D43,1) -> 0 | I43: =단가대비표!V158 -> 0 | J43: =TRUNC(I43*D43,1) -> 0 | K43: =TRUNC(E43+G43+I43,1) -> 0 | L43: =TRUNC(F43+H43+J43,1) -> 0 | N43: 5C5F931F319815F24B4632B030FB3C | O43: 5C8413F732B88D0BFFA67D00B0CCC6B7E58E41 | P43: F | Q43: F | R43: T | AW43: 5C5F931F319815F24B4632B030FB3C5C8413F732B88D0BFFA67D00B0CCC6B7E58E41
A44: 배합설계 재료 | B44: 골재 25mm, 배합종류 (A) | C44: M3 | D44: 1 | E44: =일위대가목록!E141 -> 0 | F44: =TRUNC(E44*D44,1) -> 0 | G44: =일위대가목록!F141 -> 0 | H44: =TRUNC(G44*D44,1) -> 0 | I44: =일위대가목록!G141 -> 0 | J44: =TRUNC(I44*D44,1) -> 0 | K44: =TRUNC(E44+G44+I44,1) -> 0 | L44: =TRUNC(F44+H44+J44,1) -> 0 | M44: 호표 138 | N44: 5C5F931F319815F24B4632B030FB3C | O44: 5C5F931F319815F081A68691807A3A | P44: T | Q44: F | R44: F | AW44: 5C5F931F319815F24B4632B030FB3C5C5F931F319815F081A68691807A3A
...

Sheet 단가대비표
A1: 단 가 대 비 표
A2: 공사명 : 안용중학교 합숙소 개보수공사
A3: 코 드 | B3: 품 명 | C3: 규격 | D3: 단위 | E3: 재 료 비 | P3: 노 무 비 | Q3: 경 비 | W3: 번 호 | X3: 비 고 | Y3: 품목구분 | Z3: 노임구분 | AA3: 소수점처리 | AB3: 자재구분
E4: 조달청가격 | F4: PAGE | G4: 거래가격 | H4: PAGE | I4: 유통물가 | J4: PAGE | K4: 물가자료 | L4: PAGE | M4: 조사가격 | N4: PAGE | O4: 적용단가 | Q4: 조달청가격 | R4: 거래가격 | S4: 유통물가 | T4: 물가자료 | U4: 조사가격 | V4: 적용단가
A5: 5B45A32D3818FFA2C7A66090F0071B80AA3D9F | B5: 트럭탑재형 크레인 | C5: 10ton | D5: 대 | E5: 0 | G5: 0 | I5: 0 | K5: 0 | M5: 0 | O5: 0 | P5: 0 | Q5: 0 | R5: 0 | S5: 0 | T5: 0 | U5: 91593 | W5: 자재 1 | X5: 천원
A6: 5B45A32D3818F876CF06D770F05793C5388BB3 | B6: 소형브레이커(전기식) | C6: 1.5kw | D6: 대 | E6: 0 | G6: 0 | I6: 0 | K6: 0 | M6: 0 | O6: 0 | P6: 0 | Q6: 0 | R6: 0 | S6: 0 | T6: 0 | U6: 1375 | W6: 자재 2 | X6: 천원
A7: 5B5603793F48235C5E76B50040168DC7244054 | B7: 자갈 | C7: (별도), 25mm, #57 | D7: M3 | E7: 0 | G7: 0 | I7: 0 | K7: 0 | M7: 0 | O7: 0 | P7: 0 | Q7: 0 | R7: 0 | S7: 0 | T7: 0 | U7: 0 | V7: 0 | W7: 자재 3 | X7: 별도
A8: 5B5603793F48235C5E76B50040168DC7244050 | B8: 자갈 | C8: 도착도, #57 | D8: M3 | E8: 0 | G8: 0 | I8: 0 | K8: 0 | M8: 32000 | Q8: 0 | R8: 0 | S8: 0 | T8: 0 | U8: 0 | V8: 0 | W8: 자재 4 | X8: 3분기 공통단가
A9: 5B5603793F48235D6566D2B2A065AA9025DC63 | B9: 모래 | C9: (별도) | D9: M3 | E9: 0 | G9: 0 | I9: 0 | K9: 0 | M9: 0 | Q9: 0 | R9: 0 | S9: 0 | T9: 0 | U9: 0 | V9: 0 | W9: 자재 5 | X9: 별도
A10: 5B5603793F48235D6566D2B2B0033DC51C8850 | B10: 모래 | C10: 도착도 | D10: M3 | E10: 0 | G10: 0 | I10: 0 | K10: 0 | M10: 37000 | Q10: 0 | R10: 0 | S10: 0 | T10: 0 | U10: 0 | V10: 0 | W10: 자재 6 | X10: 3분기 공통단가
A11: 5B5603793F78F423D6D68D9ED0B1C6EC14C9A8 | B11: 중밀도섬유판 | C11: 중밀도섬유판, 9.0*1220*2440mm | D11: M2 | E11: 4232 | G11: 5811.6 | H11: 668 | I11: 4837.4 | J11: 409 | K11: 4736.62 | L11: 670 | M11: 0 | Q11: 0 | R11: 0 | S11: 0 | T11: 0 | U11: 0 | V11: 0 | W11: 자재 7
A12: 5B5603793FC87934EA9696FBD0D82F4FEF5A2C | B12: 철강설 | C12: 고철, 작업설부산물 | D12: TON | E12: 0 | G12: 0 | I12: 0 | K12: 0 | M12: 363000 | N12: 3분기 공통단가 | Q12: 0 | R12: 0 | S12: 0 | T12: 0 | U12: 0 | V12: 0 | W12: 자재 8
A13: 5B5603793FC87934EA9696FBD0D82F4FEF5A2F | B13: 철강설 | C13: 고철, 작업설부산물 | D13: kg | E13: 0 | G13: 0 | I13: 0 | K13: 0 | M13: 363 | N13: 3분기 공통단가 | Q13: 0 | R13: 0 | S13: 0 | T13: 0 | U13: 0 | V13: 0 | W13: 자재 9
A14: 5B5603793FC87934EA9696FBD0D82F4FEF5B35 | B14: 철강설 | C14: 스텐레스, 작업설부산물 | D14: kg | E14: 0 | G14: 0 | I14: 0 | K14: 0 | M14: 1888 | N14: 3분기 공통단가 | Q14: 0 | R14: 0 | S14: 0 | T14: 0 | U14: 0 | V14: 0 | W14: 자재 10
A15: 5B5633CC3E98759EBF36EB7C504B9A8D52EB37 | B15: 산소가스 | C15: 산소가스, 기체(㎥) | D15: M3 | E15: 2500 | G15: 4375 | H15: 1451 | I15: 3333.33 | J15: 1190 | K15: 2316.66 | L15: 별 33 | M15: 0 | Q15: 0 | R15: 0 | S15: 0 | T15: 0 | U15: 0 | V15: 0 | W15: 자재 11 | X15: 대기압상태기준
A16: 5B5633CC3EB8252963566B18A0F7C922652F57 | B16: 기타도막방수재 | C16: 기타도막방수재, 방수액고점도(1:50희석) | D16: L | E16: 0 | G16: 0 | I16: 0 | K16: 3752 | L16: 463 | M16: 0 | Q16: 0 | R16: 0 | S16: 0 | T16: 0 | U16: 0 | V16: 0 | W16: 자재 12
A17: 5B5643D233887C6C6F16E39F6039422695F14E | B17: 경유 | C17: 경유, 저유황 | D17: L | E17: 1590 | F17: 26.07.14 | G17: 1839.09 | H17: 1451 | I17: 1822.72 | J17: 1189 | K17: 0 | M17: 0 | Q17: 0 | R17: 0 | S17: 0 | T17: 0 | U17: 0 | V17: 0 | W17: 자재 13
A18: 5B5643D2339805EC68D68FC660CE86520F5EFC | B18: 액화석유가스 | C18: 액화석유가스, 건설용 LPG | D18: kg | E18: 2076 | G18: 0 | I18: 0 | K18: 0 | M18: 0 | Q18: 0 | R18: 0 | S18: 0 | T18: 0 | U18: 0 | V18: 0 | W18: 자재 14
A19: 5B60B35F3F28EED073760666C0E25219B1095E | B19: 용접봉(연강용) | C19: 3.2(KSE4301) | D19: kg | E19: 3397 | G19: 3297 | H19: 1326 | I19: 4500 | J19: 1132 | K19: 3950 | L19: 1387 | M19: 0 | Q19: 0 | R19: 0 | S19: 0 | T19: 0 | U19: 0 | V19: 0 | W19: 자재 15
A20: 5B60C3653C1879220E86998F201AF4C053B55B | B20: 공통자재 | C20: 하드롱지 | D20: M2 | E20: 479 | G20: 0 | I20: 0 | K20: 0 | M20: 0 | Q20: 0 | R20: 0 | S20: 0 | T20: 0 | U20: 0 | V20: 0 | W20: 자재 16
A21: 5B72E38D3E787375D53615E800281750A73D91 | B21: 철근콘크리트용봉강 | C21: 이형봉강(SD500), SH-13, 점포상차도 | D21: TON | E21: 0 | G21: 990000 | H21: 49 | I21: 1032000 | J21: 17 | K21: 1005000 | L21: 2 | M21: 0 | Q21: 0 | R21: 0 | S21: 0 | T21: 0 | U21: 0 | V21: 0 | W21: 자재 17
A22: 5B72E38D3E787374CD264AD2E0C5A6E07B6C2D | B22: 보조강재 | C22: 대강 | D22: kg | E22: 0 | G22: 1440 | H22: 56 | I22: 1827.22 | J22: 19 | K22: 1480 | L22: 9 | M22: 0 | Q22: 0 | R22: 0 | S22: 0 | T22: 0 | U22: 0 | V22: 0 | W22: 자재 18
A23: 5B72E38D3E787374CD264AD2F0EC4ABABBBBD6 | B23: H형강 | C23: SM355A, 200*200*8*12mm, 현장도착도 | D23: TON | E23: 0 | F23: Extra+7만 | G23: 1320000 | H23: 56 | I23: 1310000 | J23: 19 | K23: 1300000 | L23: 9 | M23: 0 | N23: 2504 | Q23: 0 | R23: 0 | S23: 0 | T23: 0 | U23: 0 | V23: 0 | W23: 자재 19 | X23: 49.9kg/m
A24: 5B72E38D3E7870BDB21671BF40F97D8384B0E1 | B24: 일반구조용압연강판(SM355A) | C24: 15mm | D24: TON | E24: 1126741 | F24: Ext+70,000 | G24: 1150000 | H24: 63 | I24: 1164600 | J24: 26 | K24: 1150000 | L24: 14 | M24: 0 | N24: 2504 | Q24: 0 | R24: 0 | S24: 0 | T24: 0 | U24: 0 | V24: 0 | W24: 자재 20
A25: 5B72E38D3E686A51A7768222E0D11F16D56BF2 | B25: 무수축모르타르 | C25: GP600 | D25: kg | E25: 0 | G25: 660 | H25: 105 | I25: 660 | J25: 65 | K25: 660 | L25: 70 | M25: 0 | Q25: 0 | R25: 0 | S25: 0 | T25: 0 | U25: 0 | V25: 0 | W25: 자재 21
A26: 5B72E38D3E686A524DC61B298098BB0CCBF05A | B26: 시멘트 | C26: 시멘트(별도) | D26: kg | E26: 0 | G26: 0 | I26: 0 | K26: 0 | M26: 0 | Q26: 0 | R26: 0 | S26: 0 | T26: 0 | U26: 0 | V26: 0 | W26: 자재 22 | X26: 별도
A27: 5B72E38D3E686A524DC61B298098BB0CCBF05D | B27: 시멘트 | C27: 40kg | D27: 포 | E27: 0 | G27: 0 | I27: 0 | K27: 0 | M27: 7545 | Q27: 0 | R27: 0 | S27: 0 | T27: 0 | U27: 0 | V27: 0 | W27: 자재 23 | X27: 3분기 공통단가
A28: 5B72E38D3E686A524DC61B298098BB0A07A065 | B28: 타일시멘트 | C28: 타일시멘트, 압착용, 회색 | D28: kg | E28: 0 | G28: 280 | H28: 105 | I28: 240 | J28: 64 | K28: 240 | L28: 68 | M28: 0 | Q28: 0 | R28: 0 | S28: 0 | T28: 0 | U28: 0 | V28: 0 | W28: 자재 24
A29: 5B72E38D3E686A524DC61B298098BB0A08B0B8 | B29: 타일시멘트 | C29: 타일시멘트, 줄눈용, 백색 | D29: kg | E29: 0 | G29: 292 | H29: 105 | I29: 228 | J29: 65 | K29: 228 | L29: 68 | M29: 0 | Q29: 0 | R29: 0 | S29: 0 | T29: 0 | U29: 0 | V29: 0 | W29: 자재 25
A30: 5B72E38D3E686A5CB196A4F1504D09CBB984AC | B30: 용접철망 | C30: 용접철망, 와이어메시, #8-150*150 | D30: M2 | E30: 0 | G30: 2170 | H30: 99 | I30: 2101 | J30: 58 | K30: 2280 | L30: 56 | M30: 0 | Q30: 0 | R30: 0 | S30: 0 | T30: 0 | U30: 0 | V30: 0 | W30: 자재 26
A31: 5B72E38D3E48BCFDD466560DD02C0CF8484D8B | B31: 유리블록 | C31: 유리블록, 투명, 115*115*80mm | D31: 개 | E31: 0 | G31: 4300 | H31: 666 | I31: 0 | K31: 0 | M31: 0 | Q31: 0 | R31: 0 | S31: 0 | T31: 0 | U31: 0 | V31: 0 | W31: 자재 27
A32: 5B72E38D3E48BCFEFA563CEFC044DE0258DE1A | B32: 콘크리트벽돌 | C32: 190*57*90mm | D32: 매 | E32: 0 | G32: 85 | H32: 545 | I32: 85 | J32: 361 | K32: 0 | M32: 0 | Q32: 0 | R32: 0 | S32: 0 | T32: 0 | U32: 0 | V32: 0 | W32: 자재 28
A33: 5B72E38D3E48BCFEFA563CEFD064B3FAA760DF | B33: 콘크리트벽돌 | C33: 콘크리트벽돌, 190*57*90mm, C종2급 | D33: 매 | E33: 0 | G33: 0 | I33: 0 | K33: 0 | M33: 0 | Q33: 0 | R33: 0 | S33: 0 | T33: 0 | U33: 0 | V33: 0 | W33: 자재 29 | X33: 별도
A34: 5B72E38D3E48BCFF812602BD404A7B52FEBE14 | B34: 자연석판석 | C34: 자연석판석, 버너마감, 30mm, 포천석판재 | D34: M2 | E34: 0 | G34: 57000 | H34: 561 | I34: 57000 | J34: 368 | K34: 37000 | L34: 459 | M34: 0 | Q34: 0 | R34: 0 | S34: 0 | T34: 0 | U34: 0 | V34: 0 | W34: 자재 30
A35: 5B72E38D3E48BCFF812602BD404A7B52FF44C0 | B35: 자연석판석 | C35: 자연석판석, 물갈기, 30mm, 마천석판재 | D35: M2 | E35: 0 | G35: 151500 | H35: 561 | I35: 151500 | J35: 368 | K35: 108000 | L35: 459 | M35: 0 | Q35: 0 | R35: 0 | S35: 0 | T35: 0 | U35: 0 | V35: 0 | W35: 자재 31
A36: 5B72E38D3E48BCFF812602BD505A49B6CBDAC8 | B36: 자연석판석 | C36: 자연석판석, 버너마감, 50mm, 포천석판재 | D36: M2 | E36: 0 | G36: 88500 | H36: 561 | I36: 88500 | J36: 368 | K36: 0 | M36: 0 | Q36: 0 | R36: 0 | S36: 0 | T36: 0 | U36: 0 | V36: 0 | W36: 자재 32
A37: 5B72E38D3E3896F079268EEB50E43C00F3BE75 | B37: 섬유단열재 | C37: 섬유단열재, 밀도24kg/㎥, 50mm, 유리면보드 | D37: M2 | E37: 0 | G37: 4280 | H37: 698 | I37: 4320 | J37: 391 | K37: 0 | M37: 0 | Q37: 0 | R37: 0 | S37: 0 | T37: 0 | U37: 0 | V37: 0 | W37: 자재 33
A38: 5B72E38D3E3896F0781689F150B75044F5E189 | B38: 유리필름 | C38: 비산방지,엣칭 | D38: M2 | E38: 0 | G38: 25000 | H38: 659 | I38: 0 | K38: 0 | M38: 0 | Q38: 0 | R38: 0 | S38: 0 | T38: 0 | U38: 0 | V38: 0 | W38: 자재 34
A39: 5B72E38D3E28F13069B62473B0E2DC6897D81D | B39: 코너비드 | C39: 코너비드, SUS 타일코너, 라운드10mm | D39: M | E39: 0 | G39: 2708 | H39: 578 | I39: 2708 | J39: 459 | K39: 0 | M39: 0 | N39: 2405 | Q39: 0 | R39: 0 | S39: 0 | T39: 0 | U39: 0 | V39: 0 | W39: 자재 35
A40: 5B72E38D3E18E81C4786BDF4F010F649BEFFC9 | B40: 남여시트지마크 | C40: 픽토그램 | D40: EA | E40: 30000 | G40: 0 | I40: 0 | K40: 0 | M40: 0 | Q40: 0 | R40: 0 | S40: 0 | T40: 0 | U40: 0 | V40: 0 | W40: 자재 36
...

Sheet  공사설정 
A1: 이 Sheet는 수정하지 마십시요
A2: 공사구분 | B2: A | C2: 타이틀
A3: 확정내역 | B3: 원내역
A4: 자재단가적용 | B4: 5
A5: 경비단가적용 | B5: 5
A6: 품목코드형식 | B6: XXXX-XXXX-XXXXXXXXX
A7: 내역금액소수점처리 | B7: C | C7: T
A8: 일위대가내역소수점처리 | B8: C | C8: 2
A9: 단가명 | B9: 조달청가격 | C9: 거래가격 | D9: 유통물가 | E9: 물가자료 | F9: 조사가격 | G9: TTTTT
A10: 환율 | B10: 1507 | C10: 0 | D10: 0
A11: 시간당작업량 | B11: R | C11: 4
A12: 1회 사이클시간 | B12: R | C12: 4
A13: 시간당 작업사이클 | B13: R | C13: 3
A14: 일반변수 | B14: R | C14: 5
A15: 시간당 노임산출 계수 | B15: A | C15: 1/8*16/12*25/20 | D15: 1/8*16/12*25/20 | E15: 1/8*16/12*25/20 | F15: 1
A16: 재료비 할증 계수 | B16: 1.11 | C16: 1.12
A17: 노무비 할증 계수 | B17: 1 | C17: 1.5 | D17: 1.16 | E17: 1.6 | F17: 1.6 | G17: 1.6 | H17: 1.94 | I17: 1.94 | J17: 1.94 | K17: 1 | L17: 1 | M17: 1
A18: 경비 할증 계수 | B18: 1.25 | C18: 1.071
A19: 내역,일위대가 품명,규격,단위 따로적용
A20: 내역단가 소수점처리 | B20: C | C20: 1
A21: 코드 | B21: 공종구분명 | C21: 원가비목코드
A22: 1
A23: 2
A24: 3
A25: 4
A26: 5 | B26: 품 질 관 리 비 | C26: CC
A27: 6 | B27: 폐 기 물 처 리 비 | C27: CD
A28: 7 | B28: 폐기물처리비상차비 | C28: D7
A29: 8 | B29: 도 급 자 관 급 | C29: DK
A30: 9 | B30: 관 급 자 관 급 | C30: DL
A31: A | B31: ....
A32: B | B32: .....
A33: C | B33: ....
A34: D | B34: ....
A35: E | B35: ....
A36: F | B36: ....
A37: G | B37: ....
A38: H | B38: ....
A39: I | B39: ....
A40: J | B40: ....
...

Sheet Sheet1
