Workbook

Sheet 표지
A2: 걸레세척기 설치 공사
A4: ( 설 계 내 역 서 )
A8: 2026. 9.

Sheet 설계서
A1: 과장 | D1: 담당 | F1: 심사자 | H1: 설계자 | J1: 설 계 | K1: 2026 년 9월 일 | M1: 결 재
J2: 심 사 | K2: =K1 -> 2026 년 9월 일 | M2: 월 일
A4: 설 계 서
C6: =+원가계산!A2 -> 공 사 명 : 걸레세척기 설치 공사
C8: 구 분 | F8: 금 액 | M8: 비 고
C9: 총공사비 | F9: ="일금 "&NUMBERSTRING(L9,1)&" 원정" -> 일금 오백일십이만이천 원정 | L9: =L13 -> 5122000
C10: 도급비 | D10: 공급가액 | F10: ="일금 "&NUMBERSTRING(L10,1)&" 원정" -> 일금 사백육십오만육천삼백육십사 원정 | L10: =총괄내역서!L24 -> 4656364
D11: 부가가치세 | F11: ="일금 "&NUMBERSTRING(L11,1)&" 원정" -> 일금 사십육만오천육백삼십육 원정 | L11: =총괄내역서!L25 -> 465636.4
C12: 도급비 | F12: ="일금 "&NUMBERSTRING(L12,1)&" 원정" -> 일금 오백일십이만이천 원정 | L12: =총괄내역서!L26 -> 5122000
C13: 계 | F13: ="일금 "&NUMBERSTRING(L13,1)&" 원정" -> 일금 오백일십이만이천 원정 | L13: =총괄내역서!L27 -> 5122000

Sheet 원가계산
A1: 공 사 원 가 계 산 서
A2: =+내역서!A1 -> 공 사 명 : 걸레세척기 설치 공사
D3: 구 분 | E3: 금 액 | F3: 구 성 비 | G3: 비 고
A4: 비 목
A5: 순 공 사 원 가 | B5: 재료비 | C5: 직접재료비 | E5: =총괄내역서!F6 -> 2871385 | F5: =(E5/E29) -> 0.61665819
C6: 간접재료비
C7: 작업설·부산물등(△)
C8: 소계 | E8: =E5 -> 2871385 | F8: =E8/E29 -> 0.61665819
B9: 노무비 | C9: 직접노무비 | E9: =총괄내역서!H6 -> 825299 | F9: =E9/E29 -> 0.17724108
C10: 간접노무비 | E10: =총괄내역서!L8 -> 144427 | F10: =E10/E29 -> 0.03101712 | G10: 직접노무비 × 15.0%
C11: 소계 | E11: =SUM(E9:E10) -> 969726 | F11: =F10+F9 -> 0.2082582
B12: 경 비 | C12: 경비 | E12: =총괄내역서!J6 -> 18284 | F12: =E12/E29 -> 0.003926669
C13: 산재보험료 | E13: =총괄내역서!L9 -> 34522 | F13: =E13/E29 -> 0.0074139393 | G13: 노무비 × 3.56%
C14: 고용보험료 | E14: =총괄내역서!L10 -> 9794 | F14: =E14/E29 -> 0.0021033579 | G14: 노무비 × 1.01%
C15: 건강보험료 | E15: =총괄내역서!L11 -> 0 | F15: =E15/E29 -> 0 | G15: 직접노무비 × 3.595%
C16: 연금보험료 | E16: =총괄내역서!L12 -> 0 | F16: =E16/E29 -> 0 | G16: 직접노무비 × 4.75%
C17: 노인장기요양보험료 | E17: =총괄내역서!L13 -> 0 | F17: =E17/E29 -> 0 | G17: 건강보험료 × 13.14%
C18: 퇴직공제부금비 | E18: =총괄내역서!L14 -> 0 | F18: =E18/E29 -> 0 | G18: 직접노무비 × 2.3%
C19: 건설기계대여대금지급보증서발급금액 | E19: =총괄내역서!L15 -> 0 | F19: =E19/E29 -> 0 | G19: (재료비 + 직접노무비 + 산출경비) × 0.07%
C20: 산업안전보건관리비 | E20: =총괄내역서!L16 -> 0 | F20: =E20/E29 -> 0 | G20: (재료비 + 직접노무비) × 2.07%
C21: 환경보전비 | E21: =총괄내역서!L17 -> 0 | F21: =E21/E29 -> 0 | G21: (재료비 + 직접노무비 + 산출경비) × 0.3%
C22: 기타경비 | E22: =총괄내역서!L18 -> 192055 | F22: =E22/E29 -> 0.041245702 | G22: (재료비 + 노무비) × 4.6%
C23: 건설하도급대금보증서발급수수료 | E23: =총괄내역서!L19 -> 0 | F23: =E23/E29 -> 0 | G23: (재료비 + 직접노무비 + 산출경비) × 0.081%
C24: 석면분담금 | E24: =총괄내역서!L20 -> 58 | F24: =E24/E29 -> 1.2456071e-05 | G24: 노무비 × 0.006%
C25: 임금채권부담금 | E25: =총괄내역서!L21 -> 872 | F25: =E25/E29 -> 0.00018727058 | G25: 노무비 × 0.09%
C26: 소 계 | E26: =ROUNDDOWN(E12+E13+E14+E15+E16+E17+E18+E19+E20+E21+E22+E23+E24+E25,0) -> 255585 | F26: =E26/E29 -> 0.054889394
A27: 일반관리비 | E27: =총괄내역서!L22 -> 327735 | F27: =E27/E29 -> 0.070384317 | G27: (재료비 + 노무비 + 경비) × 8.0%
A28: 이윤 | E28: =총괄내역서!L23 -> 231933.27 | F28: =E28/E29 -> 0.049809953 | G28: (노무비 + 경비 + 일반관리비) × 15.0% 이내
A29: 공급가액 | E29: =총괄내역서!L24 -> 4656364 | F29: =E29/E29 -> 1
A30: 부가가치세 | E30: =총괄내역서!L25 -> 465636.4 | G30: 공급가액 × 10%
A31: 도급비 | E31: =총괄내역서!L26 -> 5122000
A32: 총공사비 | E32: =총괄내역서!L27 -> 5122000

Sheet 총괄내역서
A1: 총 괄 내 역 서
A3: 공 종 | B3: 규 격 | C3: 수 량 | D3: 단위 | E3: 재 료 비 | G3: 노 무 비 | I3: 경 비 | K3: 합 계 | M3: 비고
E4: 단 가 | F4: 금 액 | G4: 단 가 | H4: 금 액 | I4: 단 가 | J4: 금 액 | K4: 단 가 | L4: 금 액
A5: =+내역서!A1 -> 공 사 명 : 걸레세척기 설치 공사
A6: 순 공 사 비 | C6: 1 | D6: 식 | F6: =+내역서!F4 -> 2871385 | H6: =+내역서!H4 -> 825299 | J6: =+내역서!J4 -> 18284 | L6: =H6+F6+J6 -> 3714968
A8: 1) 간접노무비 | C8: 1 | D8: 식 | E8: 직노 × 17.5% | L8: =INT(H6*17.5%) -> 144427 | M8: 건축
A9: 2) 산재보험료 | C9: 1 | D9: 식 | E9: 노 × 3.56% | L9: =INT((H6+L8)*3.56%) -> 34522
A10: 3) 고용보험료 | C10: 1 | D10: 식 | E10: 노 × 1.01% | L10: =INT((H6+L8)*1.01%) -> 9794 | M10: 7등급미만
A11: 4) 건강보험료 | C11: 1 | D11: 식 | E11: 직노 × 3.595% | L11: =INT((H6)*3.595%)*0 -> 0 | M11: 1개월미만
A12: 5) 연금보험료 | C12: 1 | D12: 식 | E12: 직노 × 4.75% | L12: =INT((H6)*4.75%)*0 -> 0 | M12: 1개월미만
A13: 6) 노인장기요양보험료 | C13: 1 | D13: 식 | E13: 건강보험료 × 13.14% | L13: =INT((L11)*13.14%) -> 0 | M13: 1개월미만
A14: 7) 퇴직공제부금비 | C14: 1 | D14: 식 | E14: 직노 × 2.3% | L14: =INT((H6)*2.3%)*0 -> 0 | M14: 1억이하
A15: 8) 건설기계대여대금지급보증서 | C15: 1 | D15: 식 | E15: (재 + 직노 + 산경) × 0.07% | L15: =INT((L6)*0.07%)*0 -> 0 | M15: 그외
A16: 9) 산업안전보건관리비 | C16: 1 | D16: 식 | E16: (재 + 직노) × 2.07% | L16: =INT((F6+H6)*2.07%)*0 -> 0 | M16: 특수및기타
A17: 10) 환경보전비 | C17: 1 | D17: 식 | E17: (재 + 직노 + 산경) × 0.3% | L17: =INT((L6)*0.3%)*0 -> 0 | M17: 기타
A18: 11) 기타경비 | C18: 1 | D18: 식 | E18: (재 + 노) × 5.0% | L18: =INT((F6+H6+L8)*5%) -> 192055 | M18: 토목
A19: 12) 건설하도급대금보증서발급수수료 | C19: 1 | D19: 식 | E19: (재 + 직노 + 산경) × 0.081% | L19: =INT((L6)*0.081%)*0 -> 0 | M19: 전문공사
A20: 13) 석면분담금 | C20: 1 | D20: 식 | E20: 노 × 0.006% | L20: =INT((H6+L8)*0.006%) -> 58
A21: 14) 임금채권부담금 | C21: 1 | D21: 식 | E21: 노 × 0.09% | L21: =INT((H6+L8)*0.09%) -> 872
A22: 15) 일반관리비 | C22: 1 | D22: 식 | E22: (재 + 노 + 경) × 8.0% | L22: =INT((F6+H6+J6+L8+L9+L10+L11+L12+L13+L14+L16+L17+L18+L19+L15+L20+L21)*8%) -> 327735
A23: 16) 이윤 | C23: 1 | D23: 식 | E23: (노 + 경 + 일반관리비) × 15.0% 이내 | L23: =INT((H6+J6+L8+L9+L10+L11+L12+L13+L14+L16+L17+L18+L19+L22+L15+L20+L21)*15%)-(1125/1.1) -> 231933.27
A24: 공급가액 | C24: 1 | D24: 식 | L24: =INT(L6+L8+L9+L10+L11+L12+L13+L14+L15+L16+L17+L18+L19+L20+L21+L22+L23) -> 4656364
A25: 부가가치세 | C25: 1 | D25: 식 | E25: 공급가액 × 10% | L25: =(L24*10%) -> 465636.4
A26: 도급비 | C26: 1 | D26: 식 | L26: =ROUND(L24+L25,0) -> 5122000
A27: 총 공 사 비 | L27: =L26 -> 5122000

Sheet 내역서
A1: 공 사 명 : 걸레세척기 설치 공사
A2: 공 종 명 | B2: 규 격 | C2: 수량 | D2: 단위 | E2: 재 료 비 | G2: 노 무 비 | I2: 경 비 | K2: 합 계 | M2: 비 고
E3: 단 가 | F3: 금 액 | G3: 단 가 | H3: 금 액 | I3: 단 가 | J3: 금 액 | K3: 단 가 | L3: 금 액
A4: 순 공 사 비 | D4: 식 | F4: =TRUNC(SUM(F6),0) -> 2871385 | H4: =TRUNC(SUM(H6),0) -> 825299 | J4: =TRUNC(SUM(J6),0) -> 18284 | K4: =E4+G4+I4 -> 0 | L4: =F4+H4+J4 -> 3714968
A6: 1) 세척대설치공사 | D6: 식 | F6: =TRUNC(SUM(F7:F12),0) -> 2871385 | H6: =TRUNC(SUM(H7:H12),0) -> 825299 | J6: =TRUNC(SUM(J7:J12),0) -> 18284 | K6: =E6+G6+I6 -> 0 | L6: =F6+H6+J6 -> 3714968
A7: 세척대 기반공사 | B7: 1.5x1.5 | C7: =산출근거!E5 -> 1 | D7: 개소 | E7: =+일위대가목록!E14 -> 37746 | F7: =TRUNC(E7*C7,0) -> 37746 | G7: =+일위대가목록!F14 -> 110643 | H7: =TRUNC(G7*C7,0) -> 110643 | I7: =+일위대가목록!G14 -> 978 | J7: =TRUNC(I7*C7,0) -> 978 | K7: =E7+G7+I7 -> 149367 | L7: =F7+H7+J7 -> 149367
A8: 걸레세척대 | C8: =산출근거!E22 -> 2 | D8: 개소 | E8: =+일위대가목록!E15 -> 1200000 | F8: =TRUNC(E8*C8,0) -> 2400000 | G8: =+일위대가목록!F15 -> 71245 | H8: =TRUNC(G8*C8,0) -> 142490 | I8: =+일위대가목록!G15 -> 1424 | J8: =TRUNC(I8*C8,0) -> 2848 | K8: =E8+G8+I8 -> 1272669 | L8: =F8+H8+J8 -> 2545338
A9: 하수관 | B9: PVC, D75 | C9: =산출근거!E23 -> 5 | D9: m | E9: =+일위대가목록!E12 -> 9013 | F9: =TRUNC(E9*C9,0) -> 45065 | G9: =+일위대가목록!F12 -> 25462 | H9: =TRUNC(G9*C9,0) -> 127310 | I9: =+일위대가목록!G12 -> 800 | J9: =TRUNC(I9*C9,0) -> 4000 | K9: =E9+G9+I9 -> 35275 | L9: =F9+H9+J9 -> 176375
A10: 급수관 | B10: PE PIPE, D20 | C10: =산출근거!E25 -> 10 | D10: m | E10: =+일위대가목록!E13 -> 8315 | F10: =TRUNC(E10*C10,0) -> 83150 | G10: =+일위대가목록!F13 -> 22852 | H10: =TRUNC(G10*C10,0) -> 228520 | I10: =+일위대가목록!G13 -> 0 | J10: =TRUNC(I10*C10,0) -> 0 | K10: =E10+G10+I10 -> 31167 | L10: =F10+H10+J10 -> 311670
A11: 오수받이 | C11: =산출근거!E26 -> 1 | D11: 개소 | E11: =자재조서!D36 -> 162000 | F11: =TRUNC(E11*C11,0) -> 162000 | H11: =TRUNC(G11*C11,0) -> 0 | J11: =TRUNC(I11*C11,0) -> 0 | K11: =E11+G11+I11 -> 162000 | L11: =F11+H11+J11 -> 162000
A12: 포장경계석 | B12: 150x150x1000 | C12: =산출근거!E27 -> 6 | D12: m | E12: =일위대가목록!E16 -> 23904 | F12: =TRUNC(E12*C12,0) -> 143424 | G12: =일위대가목록!F16 -> 36056 | H12: =TRUNC(G12*C12,0) -> 216336 | I12: =일위대가목록!G16 -> 1743 | J12: =TRUNC(I12*C12,0) -> 10458 | K12: =E12+G12+I12 -> 61703 | L12: =F12+H12+J12 -> 370218

Sheet 일위대가목록
A1: 일위대가목록
A2: 공 종 명 | B2: 규 격 | C2: 수 량 | D2: 단 위 | E2: 재 료 비 | F2: 노 무 비 | G2: 경 비 | H2: 합 계 | I2: 비 고
A3: 터파기 | B3: (토사,백호90%+인력10%) | C3: 1 | D3: M3 | E3: =+일위대가산근!G3 -> 485 | F3: =+일위대가산근!H3 -> 9355 | G3: =+일위대가산근!I3 -> 722 | H3: =E3+F3+G3 -> 10562 | I3: 산근1호표
A4: 잔토처리 | B4: (토사,백호90%+인력10%) | C4: 1 | D4: M3 | E4: =+일위대가산근!G37 -> 2561.63 | F4: =+일위대가산근!H37 -> 3845.74 | G4: =+일위대가산근!I37 -> 602.12 | H4: =E4+F4+G4 -> 7009.49 | I4: 산근2호표
A5: 되메우기 및 다짐 | B5: 소형장비 | C5: 1 | D5: M3 | E5: =+일위대가산근!G73 -> 1381 | F5: =+일위대가산근!H73 -> 10457 | G5: =+일위대가산근!I73 -> 1282 | H5: =E5+F5+G5 -> 13120 | I5: 산근3호표
A6: 콘크리트타설(무근) | B6: 인력비빔 | C6: 1 | D6: M3 | E6: =+일위대가_호표!F4 -> 105404 | F6: =+일위대가_호표!H4 -> 373604 | G6: =+일위대가_호표!J4 -> 0 | H6: =E6+F6+G6 -> 479008 | I6: 일위대가 1호표
A7: 와이어메쉬 바닥깔기 | B7: #6,150x150 | C7: 1 | D7: M2 | E7: =+일위대가_호표!F11 -> 4086 | F7: =+일위대가_호표!H11 -> 1356 | G7: =+일위대가_호표!J11 -> 0 | H7: =E7+F7+G7 -> 5442 | I7: 일위대가 2호표
A8: 합판거푸집 | B8: 6회 | C8: 1 | D8: M2 | E8: =+일위대가_호표!F20 -> 14250 | F8: =+일위대가_호표!H20 -> 34461 | G8: =+일위대가_호표!J20 -> 344 | H8: =E8+F8+G8 -> 49055 | I8: 일위대가 4호표
A9: PVC관 접합 및 배관 | B9: ￠75 | C9: 1 | D9: m | E9: =+일위대가_호표!F27 -> 8267 | F9: =+일위대가_호표!H27 -> 17538 | G9: =+일위대가_호표!J27 -> 0 | H9: =E9+F9+G9 -> 25805 | I9: 일위대가 5호표
A10: PE관 접합 및 배관 | B10: ￠20 | C10: 1 | D10: m | E10: =+일위대가_호표!F34 -> 1511 | F10: =+일위대가_호표!H34 -> 12549 | G10: =+일위대가_호표!J34 -> 0 | H10: =E10+F10+G10 -> 14060 | I10: 일위대가 6호표
A11: 관보온 | B11: ￠20, T30 | C11: 1 | D11: M | E11: =+일위대가_호표!F42 -> 6804 | F11: =+일위대가_호표!H42 -> 10303 | G11: =+일위대가_호표!J42 -> 0 | H11: =E11+F11+G11 -> 17107 | I11: 일위대가 7호표
A12: 하수관 | B12: PVC, D75 | C12: 1 | D12: M | E12: =+일위대가_호표!F47 -> 9013 | F12: =+일위대가_호표!H47 -> 25462 | G12: =+일위대가_호표!J47 -> 800 | H12: =E12+F12+G12 -> 35275 | I12: 일위대가 8호표
A13: 급수관 | B13: PE PIPE, D20 | C13: 1 | D13: M | E13: =+일위대가_호표!F52 -> 8315 | F13: =+일위대가_호표!H52 -> 22852 | G13: =+일위대가_호표!J52 -> 0 | H13: =E13+F13+G13 -> 31167 | I13: 일위대가 9호표
A14: 세척대 기반공사 | B14: 6.1x2.8 | C14: 1 | D14: 개소 | E14: =+일위대가_호표!F56 -> 37746 | F14: =+일위대가_호표!H56 -> 110643 | G14: =+일위대가_호표!J56 -> 978 | H14: =E14+F14+G14 -> 149367 | I14: 일위대가 10호표
A15: 청소용수채설치 | C15: 1 | D15: 개소 | E15: =+일위대가_호표!F64 -> 1200000 | F15: =+일위대가_호표!H64 -> 71245 | G15: =+일위대가_호표!J64 -> 1424 | H15: =E15+F15+G15 -> 1272669 | I15: 일위대가 11호표
A16: 포장경계석설치 | B16: 150*150*1000 | C16: 1 | D16: M | E16: =일위대가_호표!F70 -> 23904 | F16: =일위대가_호표!H70 -> 36056 | G16: =일위대가_호표!J70 -> 1743 | H16: =E16+F16+G16 -> 61703 | I16: 일위대가 12호표
A17: 경계블록설치 | B17: 350미만 | C17: 1 | D17: M | E17: =일위대가_호표!F78 -> 15168 | F17: =일위대가_호표!H78 -> 9124 | G17: =일위대가_호표!J78 -> 1474 | H17: =E17+F17+G17 -> 25766 | I17: 일위대가 13호표

Sheet 일위대가_호표
A1: 일위대가_호표
A2: 공 종 명 | B2: 규 격 | C2: 수량 | D2: 단위 | E2: 재 료 비 | G2: 노 무 비 | I2: 경 비 | K2: 합 계 | M2: 비 고
E3: 단 가 | F3: 금 액 | G3: 단 가 | H3: 금 액 | I3: 단 가 | J3: 금 액 | K3: 단 가 | L3: 금 액
A4: No.1호표 콘크리트타설 (무근) | B4: 인력비빔 | C4: 1 | D4: M3 | F4: =TRUNC(SUM(F5:F9),0) -> 105404 | H4: =TRUNC(SUM(H5:H9),0) -> 373604 | J4: =TRUNC(SUM(J5:J9),0) -> 0 | L4: =F4+H4+J4 -> 479008 | M4: 품셈 6-1-2
A5: 시멘트 | C5: 323 | D5: KG | E5: =자재조서!D43 -> 208 | F5: =TRUNC(E5*C5,0) -> 67184 | G5: 0 | I5: 0 | K5: =E5+G5+I5 -> 208 | L5: =F5+H5+J5 -> 67184
A6: 모래 | B6: 강모래 | C6: 0.48 | D6: M3 | E6: =자재조서!D44 -> 39000 | F6: =TRUNC(E6*C6,0) -> 18720 | K6: =E6+G6+I6 -> 39000 | L6: =F6+H6+J6 -> 18720
A7: 자연자갈 | C7: 0.65 | D7: M3 | E7: =자재조서!D45 -> 30000 | F7: =TRUNC(E7*C7,0) -> 19500 | K7: =E7+G7+I7 -> 30000 | L7: =F7+H7+J7 -> 19500
A8: 콘크리트공 | C8: 0.85 | D8: 인 | E8: 0 | G8: =노임!D13 -> 273540 | H8: =TRUNC(G8*C8,0) -> 232509 | I8: 0 | K8: =E8+G8+I8 -> 273540 | L8: =F8+H8+J8 -> 232509
A9: 보통인부 | C9: 0.82 | D9: 인 | E9: 0 | G9: =노임!D5 -> 172068 | H9: =TRUNC(G9*C9,0) -> 141095 | I9: 0 | K9: =E9+G9+I9 -> 172068 | L9: =F9+H9+J9 -> 141095
A11: No. 2호표 와이어메쉬 바닥깔기 | B11: #6,150x150 | C11: 1 | D11: M2 | F11: =TRUNC(SUM(F12:F14),0) -> 4086 | H11: =TRUNC(SUM(H12:H14),0) -> 1356 | J11: =TRUNC(SUM(J12:J14),0) -> 0 | L11: =F11+H11+J11 -> 5442 | M11: 건축 8-1-3
A12: 와이어매쉬 | B12: #6,150x150 | C12: 1.16 | D12: M2 | E12: =+자재조서!D14 -> 3420 | F12: =TRUNC(E12*C12,0) -> 3967 | G12: 0 | K12: =E12+G12+I12 -> 3420 | L12: =F12+H12+J12 -> 3967
A13: 잡재료및소모재료 | B13: 주재료비의 3% | C13: 3 | D13: % | E13: =+F12 -> 3967 | F13: =TRUNC(E13*C13%,0) -> 119 | G13: 0 | K13: =E13+G13+I13 -> 3967 | L13: =F13+H13+J13 -> 119
A14: 특별인부 | C14: 0.006 | D14: 인 | E14: 0 | G14: =+노임!D6 -> 226122 | H14: =TRUNC(G14*C14,0) -> 1356 | K14: =E14+G14+I14 -> 226122 | L14: =F14+H14+J14 -> 1356
A16: No. 3호표 합판거푸집 | B16: 1회재료비 | C16: 1 | D16: M2 | F16: =TRUNC(SUM(F17:F18),0) -> 39262 | H16: =TRUNC(SUM(H17:H18),0) -> 0 | J16: =TRUNC(SUM(J17:J18),0) -> 0 | L16: =F16+H16+J16 -> 39262 | M16: 품셈 6-3-1
A17: 내수합판 | B17: 12 x1220x2440㎜ (1급T-I) | C17: 1.03 | D17: M2 | E17: =+자재조서!D25 -> 11556 | F17: =TRUNC(E17*C17,0) -> 11902 | G17: 0 | I17: 0 | K17: =E17+G17+I17 -> 11556 | L17: =F17+H17+J17 -> 11902
A18: 각재 | B18: 외송 | C18: 0.038 | D18: M3 | E18: =+자재조서!D20 -> 720000 | F18: =TRUNC(E18*C18,0) -> 27360 | G18: 0 | I18: 0 | K18: =E18+G18+I18 -> 720000 | L18: =F18+H18+J18 -> 27360
A20: No. 4호표 합판거푸집 | B20: 6회 | C20: 1 | D20: M2 | F20: =TRUNC(SUM(F21:F25),0) -> 14250 | H20: =TRUNC(SUM(H21:H25),0) -> 34461 | J20: =TRUNC(SUM(J21:J25),0) -> 344 | L20: =F20+H20+J20 -> 49055 | M20: 품셈 6-3-1
A21: 합판거푸집 | B21: 1회재료비 | C21: 32.7 | D21: % | E21: =F16 -> 39262 | F21: =TRUNC(E21*C21%,0) -> 12838 | H21: =TRUNC(G21*C21,0) -> 0 | J21: =TRUNC(I21*C21,0) -> 0 | K21: =E21+G21+I21 -> 39262 | L21: =F21+H21+J21 -> 12838
A22: 소모자재(박리재등) | B22: 주재료비의 | C22: 11 | D22: % | E22: =F21 -> 12838 | F22: =TRUNC(E22*C22%,0) -> 1412 | H22: 0 | J22: 0 | K22: =E22+G22+I22 -> 12838 | L22: =F22+H22+J22 -> 1412
A23: 형틀목공 | C23: 0.1 | D23: 인 | G23: =+노임!D8 -> 275790 | H23: =TRUNC(G23*C23,0) -> 27579 | I23: 0 | K23: =E23+G23+I23 -> 275790 | L23: =F23+H23+J23 -> 27579
A24: 보통인부 | C24: 0.04 | D24: 인 | E24: 0 | G24: =+노임!D5 -> 172068 | H24: =TRUNC(G24*C24,0) -> 6882 | I24: 0 | K24: =E24+G24+I24 -> 172068 | L24: =F24+H24+J24 -> 6882
A25: 공구손료 및 기계경비 | B25: 노무비의 1% | C25: 1 | D25: % | I25: =+H20 -> 34461 | J25: =TRUNC(I25*C25%,0) -> 344 | K25: =E25+G25+I25 -> 34461 | L25: =F25+H25+J25 -> 344
A27: No. 5호표 PVC관 접합 | B27: ￠75 | C27: 1 | D27: m | F27: =TRUNC(SUM(F28:F32),0) -> 8267 | H27: =TRUNC(SUM(H28:H32),0) -> 17538 | J27: =TRUNC(SUM(J28:J32),0) -> 0 | L27: =F27+H27+J27 -> 25805 | M27: 기계 1-5-2
A28: PVC PIPE | B28: ￠75 | C28: 1.05 | D28: m | E28: =자재조서!D33 -> 7633 | F28: =TRUNC(E28*C28,0) -> 8014 | K28: =E28+G28+I28 -> 7633 | L28: =F28+H28+J28 -> 8014
A29: 이음관 | B29: ￠75, 소켓 | C29: 0.2 | D29: ea | E29: =자재조서!D34 -> 672 | F29: =TRUNC(E29*C29,0) -> 134 | K29: =E29+G29+I29 -> 672 | L29: =F29+H29+J29 -> 134
A30: 이음관 | B30: ￠75, 엘보 | C30: 0.1 | D30: ea | E30: =자재조서!D35 -> 1190 | F30: =TRUNC(E30*C30,0) -> 119 | K30: =E30+G30+I30 -> 1190 | L30: =F30+H30+J30 -> 119
A31: 배 관 공 | B31: 수도 | C31: 0.055 | D31: 인 | E31: 0 | G31: =+노임!D30 -> 262580 | H31: =TRUNC(G31*C31,0) -> 14441 | I31: 0 | K31: =E31+G31+I31 -> 262580 | L31: =F31+H31+J31 -> 14441
A32: 보통인부 | C32: 0.018 | D32: 인 | E32: 0 | G32: =+노임!D5 -> 172068 | H32: =TRUNC(G32*C32,0) -> 3097 | I32: 0 | K32: =E32+G32+I32 -> 172068 | L32: =F32+H32+J32 -> 3097
A34: No. 6호표 PE관 접합및배관 | B34: ￠20 | C34: 1 | D34: m | F34: =TRUNC(SUM(F35:F39),0) -> 1511 | H34: =TRUNC(SUM(H35:H39),0) -> 12549 | J34: =TRUNC(SUM(J35:J39),0) -> 0 | L34: =F34+H34+J34 -> 14060 | M34: 기계 1-6-3
A35: PE PIPE | B35: ￠20 | C35: 1.05 | D35: m | E35: =+자재조서!D38 -> 980 | F35: =TRUNC(E35*C35,0) -> 1029 | K35: =E35+G35+I35 -> 980 | L35: =F35+H35+J35 -> 1029
A36: 이음관 | B36: ￠20, 소켓 | C36: 0.1 | D36: ea | E36: =+자재조서!D39 -> 3060 | F36: =TRUNC(E36*C36,0) -> 306 | K36: =E36+G36+I36 -> 3060 | L36: =F36+H36+J36 -> 306
A37: 이음관 | B37: ￠20, 엘보 | C37: 0.05 | D37: ea | E37: =+자재조서!D40 -> 3520 | F37: =TRUNC(E37*C37,0) -> 176 | K37: =E37+G37+I37 -> 3520 | L37: =F37+H37+J37 -> 176
A38: 배 관 공 | B38: 수도 | C38: 0.036 | D38: 인 | E38: 0 | G38: =+노임!D30 -> 262580 | H38: =TRUNC(G38*C38,0) -> 9452 | I38: 0 | K38: =E38+G38+I38 -> 262580 | L38: =F38+H38+J38 -> 9452
A39: 보통인부 | C39: 0.018 | D39: 인 | E39: 0 | G39: =+노임!D5 -> 172068 | H39: =TRUNC(G39*C39,0) -> 3097 | I39: 0 | K39: =E39+G39+I39 -> 172068 | L39: =F39+H39+J39 -> 3097
A40: 공구손료 | B40: 인력품의 1% | C40: 1 | D40: % | E40: 0 | I40: =+H34 -> 12549 | J40: =TRUNC(I40*C40%,0) -> 125 | K40: =E40+G40+I40 -> 12549 | L40: =F40+H40+J40 -> 125
A42: No. 7호표 관보온 | B42: ￠20 | C42: 1 | D42: M | F42: =TRUNC(SUM(F43:F45),0) -> 6804 | H42: =TRUNC(SUM(H43:H45),0) -> 10303 | J42: =TRUNC(SUM(J43:J45),0) -> 0 | L42: =F42+H42+J42 -> 17107 | M42: 기계 3-1-1
A43: 보온통 | B43: 20mm30t | C43: 1.05 | D43: M | E43: =+자재조서!D41 -> 6480 | F43: =TRUNC(E43*C43,0) -> 6804 | G43: 0 | I43: 0 | K43: =E43+G43+I43 -> 6480 | L43: =F43+H43+J43 -> 6804
A44: 보 온 공 | C44: 0.034 | D44: 인 | E44: 0 | G44: =+노임!D33 -> 217012 | H44: =TRUNC(G44*C44,0) -> 7378 | I44: 0 | K44: =E44+G44+I44 -> 217012 | L44: =F44+H44+J44 -> 7378
A45: 보통인부 | C45: 0.017 | D45: 인 | E45: 0 | G45: =+노임!D5 -> 172068 | H45: =TRUNC(G45*C45,0) -> 2925 | I45: 0 | K45: =E45+G45+I45 -> 172068 | L45: =F45+H45+J45 -> 2925
A47: No. 8호표 하수관 | B47: PVC, ￠75 | C47: 1 | D47: m | F47: =TRUNC(SUM(F48:F50),0) -> 9013 | H47: =TRUNC(SUM(H48:H50),0) -> 25462 | J47: =TRUNC(SUM(J48:J50),0) -> 800 | L47: =F47+H47+J47 -> 35275
...

Sheet 일위대가산근
A1: 일위대가_산근
A2: 산 출 근 거 | G2: 재 료 비 | H2: 노 무 비 | I2: 경 비 | J2: 합 계 | K2: 비 고
A3: #. 1.산근 터파기(백호(0.2m3)90%,(인력10%)|M3 | G3: =+G33 -> 485 | H3: =+H33 -> 9355 | I3: =+I33 -> 722 | J3: =+J33 -> 10562
A5: 1. 기계(90%) ,굴삭기(무한궤도)
A7: q = | B7: 0.2
A9: K = | B9: 0.9
A11: f = 1 / 1.25 = | C11: 0.8
A13: E = | B13: 0.6
A15: Cm = (135˚ SEC) = | C15: 18
A17: Q = 3600 x q x K x f x E / Cm = | E17: =3600*B7*B9*C11*B13/C15 -> 17.28 | F17: M3/HR
A19: 노무비: | B19: =+기계경비!AA28 -> 59020 | C19: / Q * 0.9 = | E19: =+ROUNDDOWN(B19/$E$17*0.9,2) -> 3073.95 | F19: 원/㎥ | H19: =+E19 -> 3073.95 | J19: =+G19+H19+I19 -> 3073.95
A21: 재료비: | B21: =+기계경비!AB28 -> 9317 | C21: / Q * 0.9 = | E21: =+ROUNDDOWN(B21/$E$17*0.9,2) -> 485.26 | F21: 원/㎥ | G21: =+E21 -> 485.26 | J21: =+G21+H21+I21 -> 485.26
A23: 경 비 : | B23: =+기계경비!AC28 -> 13873 | C23: / Q * 0.9 = | E23: =+ROUNDDOWN(B23/$E$17*0.9,2) -> 722.55 | F23: 원/㎥ | I23: =+E23 -> 722.55 | J23: =+G23+H23+I23 -> 722.55
A25: 소 계 : | G25: =SUM(G7:G24) -> 485.26 | H25: =SUM(H7:H24) -> 3073.95 | I25: =SUM(I7:I24) -> 722.55 | J25: =+G25+H25+I25 -> 4281.76
A27: 2.인력(10%)
A29: 특별인부 : | B29: =노임!D6 -> 226122 | C29: 3.6 | D29: 0.1 | E29: =ROUNDDOWN((B29/C29*D29),2) -> 6281.16 | H29: =+E29 -> 6281.16 | J29: =+G29+H29+I29 -> 6281.16
A31: 소 계 : | G31: =SUM(G29:G30) -> 0 | H31: =SUM(H29:H30) -> 6281.16 | I31: =SUM(I29:I30) -> 0 | J31: =+G31+H31+I31 -> 6281.16
A33: 전체 합계 | G33: =INT(+G25+G31) -> 485 | H33: =INT(+H25+H31) -> 9355 | I33: =INT(+I25+I31) -> 722 | J33: =INT(+J25+J31) -> 10562
A35: ----------------------------------------------------------------------------------------------------------------------
A37: #. 2.산근 잔토처리(현장내)(백호(0.2m3))90%,인력10%|M3 | G37: =G69 -> 2561.63 | H37: =H69 -> 3845.74 | I37: =I69 -> 602.12 | J37: =J69 -> 7009.49
A39: 1. 기계(90%)
A41: 굴삭기(무한궤도) 0.2㎥
A43: qs = | B43: 0.2
A45: K = | B45: 0.9
A47: f = 1 / 1.25 = | C47: 0.8
A49: E = | B49: 0.6
A51: Cm = (90˚ SEC) = | C51: 15
A53: Q = 3600 x q x K x f x E / Cm = | E53: =3600*B43*B45*C47*B49/C51 -> 20.736 | F53: m3/hr
A55: 노무비: | B55: =기계경비!AA28 -> 59020 | C55: / Q * 0.9 = | E55: =+ROUNDDOWN(B55/$E$53*0.9,2) -> 2561.63 | F55: 원/㎥ | G55: =+E55 -> 2561.63 | J55: =+G55+H55+I55 -> 2561.63
A57: 재료비: | B57: =기계경비!AB28 -> 9317 | C57: / Q * 0.9 = | E57: =+ROUNDDOWN(B57/$E$53*0.9,2) -> 404.38 | F57: 원/㎥ | H57: =+E57 -> 404.38 | J57: =+G57+H57+I57 -> 404.38
A59: 경 비 : | B59: =기계경비!AC28 -> 13873 | C59: / Q * 0.9 = | E59: =+ROUNDDOWN(B59/$E$53*0.9,2) -> 602.12 | F59: 원/㎥ | I59: =+E59 -> 602.12 | J59: =+G59+H59+I59 -> 602.12
A61: 소 계 : | G61: =SUM(G39:G60) -> 2561.63 | H61: =SUM(H39:H60) -> 404.38 | I61: =SUM(I39:I60) -> 602.12 | J61: =+G61+H61+I61 -> 3568.13
A63: 2.인력(10%) | G63: =INT(G67) -> 0 | H63: =INT(H67) -> 3441 | I63: =INT(I67) -> 0 | J63: =INT(J67) -> 3441
A65: 보통인부 : | B65: =노임!D5 -> 172068 | C65: 0.2 | D65: 0.1 | E65: =ROUNDDOWN((B65*C65*D65),2) -> 3441.36 | H65: =+E65 -> 3441.36 | J65: =+G65+H65+I65 -> 3441.36
A67: 소 계 : | G67: =SUM(G64:G66) -> 0 | H67: =SUM(H64:H66) -> 3441.36 | I67: =SUM(I64:I66) -> 0 | J67: =+G67+H67+I67 -> 3441.36
A69: 전체 합계 | G69: =+G61+G67 -> 2561.63 | H69: =+H61+H67 -> 3845.74 | I69: =+I61+I67 -> 602.12 | J69: =+J61+J67 -> 7009.49
A71: ----------------------------------------------------------------------------------------------------------------------
A73: #. 3.되메우기 및 다짐(소형장비) |M3 | G73: =INT(G111) -> 1381 | H73: =INT(H111) -> 10457 | I73: =INT(I111) -> 1282 | J73: =INT(J111) -> 13121
A75: <품셈 3-4-6>
A77: ※ 일당 시공량 : Qd = | E77: 130 | F77: M3/일
...

Sheet 기계경비
B1: 기계경비
B3: 명 칭 | C3: 규 격 | D3: 산 출 근 거 | Z3: 합 계 | AA3: 노무비 | AB3: 재료비 | AC3: 경 비 | AD3: 비 고
B4: 1. 굴삭기(무한궤도) | C4: 0.7㎥ | Z4: =TEXT(AA4+AB4+AC4,"#,##0") -> 105,368 | AA4: =TRUNC(AA5+AA6+AA7+AA8) -> 59020 | AB4: =TRUNC(AB5+AB6+AB7+AB8) -> 21794 | AC4: =TRUNC(AC5+AC6+AC7+AC8) -> 24554
B5: 손 료 | D5: 117766000 | I5: ￦× | K5: 2085 | N5: × | O5: 10(-7) | AC5: =TRUNC(D5*K5*0.0000001,0) -> 24554 | AD5: 26年 개정
B6: 주연료 | C6: 경유 | D6: 11.6 | H6: ℓ | I6: × | J6: =+자재조서!D5 -> 1540 | AB6: =TRUNC(D6*J6,0) -> 17864
B7: 잡 품 | C7: 주연료의 | D7: 22 | H7: % | I7: × | J7: =AB6 -> 17864 | AB7: =TRUNC(D7/100*J7,0) -> 3930
B8: 건설기계운전사 | D8: 1 | G8: 인 | H8: × | I8: =+노임!D34 -> 283297 | M8: × | N8: 1/8*16/12*25/20 | AA8: =TRUNC(D8*I8*1/8*16/12*25/20,0) -> 59020
B10: 2. 플레이트 콤팩터 | C10: 1.5Ton | Z10: =TEXT(AA10+AB10+AC10,"#,##0") -> 38,872 | AA10: =TRUNC(AA11+AA12+AA13+AA14) -> 36248 | AB10: =TRUNC(AB11+AB12+AB13+AB14) -> 2004 | AC10: =TRUNC(AC11+AC12+AC13+AC14) -> 620
B11: 손 료 | D11: 1673000 | I11: ￦× | K11: 3708 | N11: × | O11: 10(-7) | AC11: =TRUNC(D11*K11*0.0000001,0) -> 620 | AD11: 26年 개정
B12: 주연료 | C12: 휘발유 | D12: 1 | H12: ℓ | I12: × | J12: =+자재조서!D4 -> 1670 | AB12: =TRUNC(D12*J12,0) -> 1670
B13: 잡 품 | C13: 주연료의 | D13: 20 | H13: % | I13: × | J13: =AB12 -> 1670 | AB13: =TRUNC(D13/100*J13,0) -> 334
B14: 일반기계운전사 | D14: 1 | G14: 인 | H14: × | I14: =+노임!D36 -> 173995 | M14: × | N14: 1/8*16/12*25/20 | AA14: =TRUNC(D14*I14*1/8*16/12*25/20,0) -> 36248
B16: 3. 굴삭기(타이어형) | C16: 0.6㎥ | Z16: =TEXT(AA16+AB16+AC16,"#,##0") -> 108,291 | AA16: =TRUNC(AA17+AA18+AA19+AA20) -> 59020 | AB16: =TRUNC(AB17+AB18+AB19+AB20) -> 22151 | AC16: =TRUNC(AC17+AC18+AC19+AC20) -> 27120
B17: 손 료 | D17: 119000000 | I17: ￦× | K17: 2279 | N17: × | O17: 10(-7) | AC17: =TRUNC(D17*K17*0.0000001,0) -> 27120 | AD17: 26年 개정
B18: 주연료 | C18: 경유 | D18: 11.6 | H18: ℓ | I18: × | J18: =+자재조서!D5 -> 1540 | AB18: =TRUNC(D18*J18,0) -> 17864
B19: 잡 품 | C19: 주연료의 | D19: 24 | H19: % | I19: × | J19: =AB18 -> 17864 | AB19: =TRUNC(D19/100*J19,0) -> 4287
B20: 건설기계운전사 | D20: 1 | G20: 인 | H20: × | I20: =+노임!D34 -> 283297 | M20: × | N20: 1/8*16/12*25/20 | AA20: =TRUNC(D20*I20*1/8*16/12*25/20,0) -> 59020
B22: 4. 굴삭기(무한궤도) | C22: 0.6㎥ | Z22: =TEXT(AA22+AB22+AC22,"#,##0") -> 101,606 | AA22: =TRUNC(AA23+AA24+AA25+AA26) -> 59020 | AB22: =TRUNC(AB23+AB24+AB25+AB26) -> 19163 | AC22: =TRUNC(AC23+AC24+AC25+AC26) -> 23423
B23: 손 료 | D23: 112342000 | I23: ￦× | K23: 2085 | N23: × | O23: 10(-7) | AC23: =TRUNC(D23*K23*0.0000001,1) -> 23423.3 | AD23: 26年 개정
B24: 주연료 | C24: 경유 | D24: 10.2 | H24: ℓ | I24: × | J24: =+자재조서!D5 -> 1540 | AB24: =TRUNC(D24*J24,1) -> 15708
B25: 잡 품 | C25: 주연료의 | D25: 22 | H25: % | I25: × | J25: =AB24 -> 15708 | AB25: =TRUNC(D25/100*J25,1) -> 3455.7
B26: 건설기계운전사 | D26: 1 | G26: 인 | H26: × | I26: =+노임!D34 -> 283297 | M26: × | N26: 1/8*16/12*25/20 | AA26: =TRUNC(D26*I26*1/8*16/12*25/20,0) -> 59020
B28: 5. 굴삭기(무한궤도) | C28: 0.2㎥ | Z28: =TEXT(AA28+AB28+AC28,"#,##0") -> 82,210 | AA28: =TRUNC(AA29+AA30+AA31+AA32) -> 59020 | AB28: =TRUNC(AB29+AB30+AB31+AB32) -> 9317 | AC28: =TRUNC(AC29+AC30+AC31+AC32) -> 13873
B29: 손 료 | D29: 66538000 | I29: ￦× | K29: 2085 | N29: × | O29: 10(-7) | AC29: =TRUNC(D29*K29*0.0000001,1) -> 13873.1 | AD29: 26年 개정
B30: 주연료 | C30: 경유 | D30: 5 | H30: ℓ | I30: × | J30: =+자재조서!D5 -> 1540 | AB30: =TRUNC(D30*J30,1) -> 7700
B31: 잡 품 | C31: 주연료의 | D31: 21 | H31: % | I31: × | J31: =AB30 -> 7700 | AB31: =TRUNC(D31/100*J31,1) -> 1617
B32: 건설기계운전사 | D32: 1 | G32: 인 | H32: × | I32: =+노임!D34 -> 283297 | M32: × | N32: 1/8*16/12*25/20 | AA32: =TRUNC(D32*I32*1/8*16/12*25/20,0) -> 59020
B34: 6. 코어드릴 | C34: 6" | Z34: =TEXT(AA34+AB34+AC34,"#,##0") -> 472 | AA34: =TRUNC(AA35) -> 0 | AB34: =TRUNC(AB35) -> 0 | AC34: =TRUNC(AC35) -> 472
B35: 손 료 | D35: 896000 | I35: ￦× | K35: 5268 | N35: × | O35: 10(-7) | AC35: =TRUNC(D35*K35*0.0000001,0) -> 472 | AD35: 26年 개정
B37: 7. 램 머 | C37: 80kg | Z37: =TEXT(AA37+AB37+AC37,"#,##0") -> 38,058 | AA37: =TRUNC(AA38+AA39+AA40+AA41) -> 36248 | AB37: =TRUNC(AB38+AB39+AB40+AB41) -> 1285 | AC37: =TRUNC(AC38+AC39+AC40+AC41) -> 525
B38: 손 료 | D38: 1418000 | I38: ￦× | K38: 3708 | N38: × | O38: 10(-7) | AC38: =TRUNC(D38*K38*0.0000001,1) -> 525.7 | AD38: 26年 개정
B39: 주연료 | C39: 휘발유 | D39: 0.7 | H39: ℓ | I39: × | J39: =+자재조서!D4 -> 1670 | AB39: =TRUNC(D39*J39,1) -> 1169
B40: 잡 품 | C40: 주연료의 | D40: 10 | H40: % | I40: × | J40: =AB39 -> 1169 | AB40: =TRUNC(D40/100*J40,1) -> 116.9
B41: 일반기계운전사 | D41: 1 | G41: 인 | H41: × | I41: =+노임!D36 -> 173995 | M41: × | N41: 1/8*16/12*25/20 | AA41: =TRUNC(D41*I41*1/8*16/12*25/20,0) -> 36248
B43: 8. 커 터 | C43: 320~400mm | Z43: =TEXT(AA43+AB43+AC43,"#,##0") -> 49,534 | AA43: =TRUNC(AA44+AA45+AA46+AA47) -> 36248 | AB43: =TRUNC(AB44+AB45+AB46+AB47) -> 11222 | AC43: =TRUNC(AC44+AC45+AC46+AC47) -> 2064
B44: 손 료 | D44: 3249000 | I44: ￦× | K44: 6354 | N44: × | O44: 10(-7) | AC44: =TRUNC(D44*K44*0.0000001,1) -> 2064.4 | AD44: 26年 개정
B45: 주연료 | C45: 휘발유 | D45: 5.6 | H45: ℓ | I45: × | J45: =+자재조서!D4 -> 1670 | AB45: =TRUNC(D45*J45,1) -> 9352
B46: 잡 품 | C46: 주연료의 | D46: 20 | H46: % | I46: × | J46: =AB45 -> 9352 | AB46: =TRUNC(D46/100*J46,1) -> 1870.4
B47: 일반기계운전사 | D47: 1 | G47: 인 | H47: × | I47: =+노임!D36 -> 173995 | M47: × | N47: 1/8*16/12*25/20 | AA47: =TRUNC(D47*I47*1/8*16/12*25/20,0) -> 36248
B49: 9. 물탱크 | C49: 5500ℓ | Z49: =TEXT(AA49+AB49+AC49,"#,##0") -> 78,382 | AA49: =TRUNC(AA50+AA51+AA52+AA53) -> 49778 | AB49: =TRUNC(AB50+AB51+AB52+AB53) -> 18618 | AC49: =TRUNC(AC50+AC51+AC52+AC53) -> 9986
...

Sheet 기계경비적용기준
B1: 기계경비적용기준
C4: 환 율 (/￦)
C6: 화 폐 | D6: 환 율 | E6: 비 고
C7: 달러($) | D7: 1478.4 | E7: 2026.01.14. 매매기준율
C8: 엔(100￥)
C9: 유로(E)
C10: 마르크(M)
C11: 파운드(L)
C15: 노임계수 | G15: 계산결과값 자리수
C17: No | D17: 노임계수 | E17: 계산값
C18: 1 | D18: 1/8*16/12*25/20 | E18: =1/8*16/12*25/20 -> 0.20833333
C19: 2 | D19: 1/8*16/12*25/20*24/15 | E19: =1/8*16/12*25/20*24/15 -> 0.33333333 | G19: 경 비 소수 1 미만 절하
C20: 3 | D20: 1/8*16/12*25/20*12/10 | E20: =1/8*16/12*25/20*12/10 -> 0.25
C21: 4 | D21: 1/8*16/12*25/20*14/12 | E21: =1/8*16/12*25/20*14/12 -> 0.24305556 | G21: 재료비 소수 1 미만 절하
C22: 5 | D22: 1/8*16/12*25/20*24/5 | E22: =1/8*16/12*25/20*24/5 -> 1
G23: 노무비 소수 1 미만 절하

Sheet 자재조서
A1: 자재조서
A2: 명 칭 | B2: 규 격 | C2: 단위 | D2: 적용단가 | E2: 가격정보 | G2: 물가자료(2026.03) | I2: 물가정보(2026.03) | K2: 견적단가
E3: 단가 | F3: Page | G3: 단가 | H3: Page | I3: 단가 | J3: Page | K3: 단가 | L3: Page
A4: 휘발유 | B4: 무연 | C4: ℓ | D4: =MIN(E4,I4,G4,K4) -> 1670 | G4: 1670 | H4: 32(하) | I4: 1767.9 | J4: 1438
A5: 경유 | C5: ℓ | D5: =MIN(E5,I5,G5,K5) -> 1540 | G5: 1540 | H5: 32(하) | I5: 1651.68 | J5: 1438
A6: 용접봉 | C6: KG | D6: =MIN(E6,I6,G6,K6) -> 3950 | G6: 3950 | H6: 1387 | I6: 4100 | J6: 1045
A7: 산소 | C7: ℓ | D7: =MIN(E7,I7,G7,K7) -> 3.79 | G7: 3.79 | H7: 33(하) | I7: 4.16 | J7: 1438
A8: 아세틸렌 | C8: KG | D8: =MIN(E8,I8,G8,K8) -> 30000 | G8: 30000 | H8: 33(하) | I8: 50000 | J8: 1438
A9: 물 | C9: ℓ | D9: =MIN(E9,I9,G9,K9) -> 1.27 | G9: 1.27 | H9: 328(하) | I9: 1.27 | J9: 536(Ⅱ)
A10: 엔진오일 | B10: 기솔린용 | C10: ℓ | D10: =MIN(E10,I10,G10,K10) -> 5141 | G10: 5141 | H10: 37(하) | I10: 5500 | J10: 1443
A11: 철선 | B11: #8, 4.0mm | C11: KG | D11: =MIN(E11,I11,G11,K11) -> 1470 | G11: 1470 | H11: 27 | I11: 1630 | J11: 36
A12: 결속선 | B12: #20, ￠0.9 | C12: KG | D12: =MIN(E12,I12,G12,K12) -> 1760 | G12: 1760 | H12: 27 | I12: 2310 | J12: 36
A13: 철못 | B13: N75 | C13: KG | D13: =MIN(E13,I13,G13,K13) -> 1611 | G13: 1611 | H13: 28 | I13: 1855 | J13: 37
A14: 와이어매쉬 | B14: #6,150x150 | C14: M2 | D14: =MIN(E14,I14,G14,K14) -> 3420 | G14: 3420 | H14: 56 | I14: 3780 | J14: 38
A15: 잡석 | B15: 보조기층용 | C15: M3 | D15: =MIN(E15,I15,G15,K15) -> 24000 | G15: 24000 | H15: 62 | I15: 31000 | J15: 55
A16: 레미콘 | B16: 25-18-12 | C16: M3 | D16: =MIN(E16,I16,G16,K16) -> 89510 | G16: 95360 | H16: 71 | I16: 89510 | J16: 56
A17: 레미콘 | B17: 25-21-12 | C17: M3 | D17: =MIN(E17,I17,G17,K17) -> 96750 | G17: 98080 | H17: 71 | I17: 96750 | J17: 56
A18: 철근 | B18: D13 | C18: 톤 | D18: =MIN(E18,I18,G18,K18) -> 795000 | G18: 795000 | H18: 2 | I18: 795000 | J18: 2
A19: 철근 | B19: D16 | C19: 톤 | D19: =MIN(E19,I19,G19,K19) -> 790000 | G19: 795000 | H19: 2 | I19: 790000 | J19: 2
A20: 각재 | B20: 외송 | C20: M3 | D20: =MIN(E20,I20,G20,K20) -> 720000 | G20: 720000 | H20: 98
A21: 퍼티 | B21: 외부용 | C21: KG | D21: =MIN(E21,I21,G21,K21) -> 2500 | G21: 2500 | H21: 598 | I21: 2750 | J21: 504
A22: 시너 | C22: ℓ | D22: =MIN(E22,I22,G22,K22) -> 3888 | G22: 3888 | H22: 593 | I22: 4500 | J22: 504
A23: 오일스테인 | C23: ℓ | D23: =MIN(E23,I23,G23,K23) -> 10000 | G23: 10000 | H23: 105
A24: 조합페인트 | C24: ℓ | D24: =MIN(E24,I24,G24,K24) -> 8875 | G24: 8875 | H24: 590 | I24: 8875 | J24: 501
A25: 내수합판 | B25: 12x1220x2440㎜ (1급T-I) | C25: M2 | D25: =MIN(E25,I25,G25,K25) -> 11556 | G25: 11556 | H25: 670 | I25: 13605 | J25: 587
A26: 블레이드 | B26: (캇타용)14" T=3.2mm | C26: 매 | D26: =MIN(E26,I26,G26,K26) -> 152000 | G26: 152000 | H26: 1414 | I26: 169800 | J26: 1080
A27: 치즐(0.2㎥) | C27: EA | D27: =MIN(E27,I27,G27,K27) -> 83000 | I27: 83000 | J27: 1080
A28: PVC파이프(일반용VG1) | B28: ￠125 | C28: M | D28: =MIN(E28,I28,G28,K28) -> 19710 | G28: 19710 | H28: 754 | I28: 20587 | J28: 720
A29: PVC이음관 | B29: 소켓 D125 | C29: EA | D29: =MIN(E29,I29,G29,K29) -> 2142 | G29: 2142 | H29: 755 | I29: 3270 | J29: 721
A30: PVC이음관 | B30: 엘보 D125 | C30: EA | D30: =MIN(E30,I30,G30,K30) -> 3386 | G30: 3386 | H30: 755 | I30: 5580 | J30: 721
A31: PVC이음관 | B31: YT D125 | C31: EA | D31: =MIN(E31,I31,G31,K31) -> 7294 | G31: 7294 | H31: 755 | I31: 10410 | J31: 721
A32: PVC이음관 | B32: 소제구 D125 | C32: EA | D32: =MIN(E32,I32,G32,K32) -> 3570 | G32: 3570 | H32: 755 | I32: 4380 | J32: 721
A33: PVC파이프(일반용VG1) | B33: ￠75 | C33: M | D33: =MIN(E33,I33,G33,K33) -> 7633 | G33: 7633 | H33: 754 | I33: 7970 | J33: 720
A34: PVC이음관 | B34: 소켓 D75 | C34: EA | D34: =MIN(E34,I34,G34,K34) -> 672 | G34: 672 | H34: 755 | I34: 830 | J34: 721
A35: PVC이음관 | B35: 엘보 D75 | C35: EA | D35: =MIN(E35,I35,G35,K35) -> 1190 | G35: 1190 | H35: 755 | I35: 1580 | J35: 721
A36: 오수받이 | B36: 410x520xH750 | C36: EA | D36: =MIN(E36,I36,G36,K36) -> 162000 | G36: 162000 | H36: 186
A37: SRC하수도용 연결단지관 | B37: PVC 125A 연결소켓 | C37: EA | D37: =MIN(E37,I37,G37,K37) -> 45600 | G37: 45600 | H37: 268 | I37: 45600 | J37: 280
A38: PE PIPE | B38: ￠20 | C38: M | D38: =MIN(E38,I38,G38,K38) -> 980 | G38: 980 | H38: 774 | I38: 990 | J38: ㅎ
A39: 이음관 | B39: 소켓 D20 | C39: EA | D39: =MIN(E39,I39,G39,K39) -> 3060 | G39: 4800 | H39: 774 | I39: 3060 | J39: 742
A40: 이음관 | B40: 엘보 D20 | C40: EA | D40: =MIN(E40,I40,G40,K40) -> 3520 | G40: 6190 | H40: 774 | I40: 3520 | J40: 742
...

Sheet 노임
A1: 노임
A2: 명 칭 | B2: 규 격 | C2: 단 위 | D2: 단 가 | E2: 비 고
D3: 건설협회(2026상반기)
A4: 작업반장 | C4: 인 | D4: 215907
A5: 보통인부 | C5: 인 | D5: 172068
A6: 특별인부 | C6: 인 | D6: 226122
A7: 비 계 공 | C7: 인 | D7: 281939
A8: 형틀목공 | C8: 인 | D8: 275790
A9: 철 근 공 | C9: 인 | D9: 268187
A10: 철 공 | C10: 인 | D10: 239808
A11: 철 골 공 | C11: 인 | D11: 252641
A12: 용 접 공 | C12: 인 | D12: 282536
A13: 콘크리트공 | C13: 인 | D13: 273540
A14: 착 암 공 | C14: 인 | D14: 222306
A15: 포 설 공 | C15: 인 | D15: 221015
... A29: 벌 목 부 | C29: 인 | D29: 253243
A30: 배 관 공 | B30: 수도 | C30: 인 | D30: 262580
A31: 보일러공 | C31: 인 | D31: 240120
A32: 위 생 공 | C32: 인 | D32: 218908
A33: 보 온 공 | C33: 인 | D33: 217012
A34: 건설기계운전사 | C34: 인 | D34: 283297
A35: 화물차운전사 | C35: 인 | D35: 238936
A36: 일반기계운전사 | C36: 인 | D36: 173995
A37: 기계설비공 | C37: 인 | D37: 241698
A38: 내선전공 | C38: 인 | D38: 273676
A39: 저압케이블전공 | C39: 인 | D39: 304156
A40: 배전전공 | C40: 인 | D40: 414968
A41: 계 장 공 | C41: 인 | D41: 319449

Sheet 산출근거
A1: 공 사 명 : 세척대 교체설치
A2: 공 사 내 용 | B2: 규 격 | C2: 단 위 | D2: 산 식 | E2: 물 량
A4: 1. 시설물공사
A5: ①세척대 기반공사 | B5: 1.5x1.5 | C5: 개소 | D5: =" "&E5 -> 1 | E5: 1
B6: 터파기 | C6: ㎥ | D6: ="기초:(1.5*1.5*0.2) = "&F6 -> 기초:(1.5*1.5*0.2) = 0.45 | E6: =F6 -> 0.45 | F6: =ROUND((1.5*1.5*0.2),2) -> 0.45
B7: 잔토처리 | C7: ㎥ | D7: ="기초:(1.2*1.2*0.2) = "&F7 -> 기초:(1.2*1.2*0.2) = 0.29 | E7: =F7 -> 0.29 | F7: =ROUND((1.2*1.2*0.2),2) -> 0.29
B8: 되메우기다짐 | C8: ㎥ | D8: ="터파기-잔토처리 = "&F8 -> 터파기-잔토처리 = 0.16 | E8: =F8 -> 0.16 | F8: =+F6-F7 -> 0.16
B9: 기초타설(무근) | C9: ㎥ | D9: ="기초:(1*1*0.2) = "&F9 -> 기초:(1*1*0.2) = 0.2 | E9: =+F9 -> 0.2 | F9: =ROUND((1*1*0.2),2) -> 0.2
B10: 와이어메쉬 | C10: ㎡ | D10: ="기초:(1*1) = "&F10 -> 기초:(1*1) = 1 | E10: =+F10 -> 1 | F10: =ROUND((1*1),2) -> 1
B11: 거푸집6회 | C11: ㎡ | D11: ="기초:(6.5+3.2)*2*0.2 = "&F11 -> 기초:(6.5+3.2)*2*0.2 = 0.8 | E11: =+F11 -> 0.8 | F11: =ROUND((1+1)*2*0.2,2) -> 0.8
A12: ②세척실 설치공사 | C12: 개소 | D12: =" "&E12 -> 1 | E12: 1
A13: 구조용아연각관 | B13: 100*100*2.3T | C13: m | D13: =" 구조틀:(2.2*4) = "&F13 -> 구조틀:(2.2*4) = 8.8 | E13: =+F13 -> 8.8 | F13: =ROUND(((2.2*4)),2) -> 8.8
D14: =" *6.95kg = "&E14 -> *6.95kg = 0.06 | E14: =+F14 -> 0.06 | F14: =ROUND((F13)*6.95*0.001,2) -> 0.06
A15: 구조용아연각관 | B15: 50*50*2.3T | C15: m | D15: =" 구조틀:((2.2*4)+(1.5*6)) = "&F15 -> 구조틀:((2.2*4)+(1.5*6)) = 17.8 | E15: =+F15 -> 17.8 | F15: =ROUND(((2.2*4)+(1.5*6)),2) -> 17.8
D16: =" *3.34kg = "&E16 -> *3.34kg = 0.06 | E16: =+F16 -> 0.06 | F16: =ROUND((F15)*3.34*0.001,2) -> 0.06
A17: 잡철물제작설치 | B17: 간단 | C17: 톤 | D17: =" 각관설치 = "&E17 -> 각관설치 = 0.12 | E17: =+F17 -> 0.12 | F17: =+F14+F16 -> 0.12
A18: 유성페인트칠 | B18: 철재면2회 | C18: ㎡ | D18: =" 각관 = "&F18 -> 각관 = 7.08 | E18: =+F18 -> 7.08 | F18: =ROUND((F13)*0.4+(F15*0.2),2) -> 7.08
A19: 폴리카보네이트설치 | C19: ㎡ | D19: ="(1.5x1.5) = "&F19 -> (1.5x1.5) = 2.25 | E19: =+F19 -> 2.25 | F19: =ROUND((1.5*1.5),2) -> 2.25
A20: 목재붙임 | C20: ㎡ | D20: ="(1.5x2)*2 = "&F20 -> (1.5x2)*2 = 6 | E20: =+F20 -> 6 | F20: =ROUND((1.5*2)*2,2) -> 6
A21: 오일스테인칠 | C21: ㎡ | D21: ="(1.5*2)*2*2 = "&F21 -> (1.5*2)*2*2 = 12 | E21: =+F21 -> 12 | F21: =ROUND((1.5*2)*2*2,2) -> 12
A22: ②걸레세척대 | C22: 개소 | D22: =" "&E22 -> 2 | E22: 2
A23: ③하수관 | B23: PVC,Φ75 | C23: m | D23: =" "&E23 -> 5 | E23: 5 | F23: =E23/4 -> 1.25
B24: 터파기/되메우기 | C24: ㎥ | D24: ="(0.4)*1 = "&F24 -> (0.4)*1 = 0.4 | E24: =+F24 -> 0.4 | F24: =ROUND(0.4*1,2) -> 0.4
A25: ④급수관 | B25: PE PIPE,Φ25 | C25: m | D25: =" "&E25 -> 10 | E25: 10 | G25: =E25/6 -> 1.6666667
A26: ⑤오수받이 | C26: 개소 | D26: =" "&E26 -> 1 | E26: 1
A27: ⑧포장경계석설치(직선) | B27: 150x150x1000 | C27: m | D27: ="(1.5*4) = "&F27 -> (1.5*4) = 6 | E27: =+F27 -> 6 | F27: =ROUND((1.5*4),2) -> 6
B28: 터파기 | C28: ㎥ | D28: ="(1)*0.5*0.2 = "&F28 -> (1)*0.5*0.2 = 0.1 | E28: =+F28 -> 0.1 | F28: =ROUND((1)*0.5*0.2,2) -> 0.1
B29: 잔토처리 | C29: ㎥ | D29: ="(0.25)*0.2 = "&F29 -> (0.25)*0.2 = 0.05 | E29: =+F29 -> 0.05 | F29: =ROUND((0.25)*0.2,2) -> 0.05
B30: 되메우기 | C30: ㎥ | D30: ="터파기-잔토처리 = "&F30 -> 터파기-잔토처리 = 0.05 | E30: =+F30 -> 0.05 | F30: =F28-F29 -> 0.05
B31: 기초타설(무근) | C31: ㎥ | D31: ="(0.25)*0.15 = "&F31 -> (0.25)*0.15 = 0.04 | E31: =+F31 -> 0.04 | F31: =ROUND((0.25)*0.15,2) -> 0.04
B32: 거푸집6회 | C32: ㎡ | D32: ="(1*0.15)*2 = "&F32 -> (1*0.15)*2 = 0.3 | E32: =+F32 -> 0.3 | F32: =ROUND((1*2)*0.15,2) -> 0.3
B33: 경계블록설치 | C33: EA | D33: =" "&E33 -> 1 | E33: 1

Sheet 견적
