Workbook
Name _LL1: [1]Sheet17!$C$2
Name _LL2: [1]Sheet17!$C$3
Name _LL3: [1]Sheet17!$C$4
Name _LR1: [1]Sheet17!$F$2
Name _LR2: [1]Sheet17!$F$3
Name _LR3: [1]Sheet17!$F$4
Name _PNO10: [2]INPUT!#REF!
Name _PNO10: [2]INPUT!#REF!
Name _PNO3: [2]INPUT!#REF!
Name _PNO3: [2]INPUT!#REF!
Name _PNO4: [2]INPUT!#REF!
Name _PNO4: [2]INPUT!#REF!
Name _PNO5: [2]INPUT!#REF!
Name _PNO5: [2]INPUT!#REF!
Name _PNO6: [2]INPUT!#REF!
Name _PNO6: [2]INPUT!#REF!
Name _PNO7: [2]INPUT!#REF!
Name _PNO7: [2]INPUT!#REF!
Name _PNO8: [2]INPUT!#REF!
Name _PNO8: [2]INPUT!#REF!
Name _PNO9: [2]INPUT!#REF!
Name _PNO9: [2]INPUT!#REF!
Name _SBB1: #REF!
Name _SBB1: #REF!
Name _SBB2: #REF!
Name _SBB2: #REF!
Name _SBB3: #REF!
Name _SBB3: #REF!
Name _SBB4: #REF!
Name _SBB4: #REF!
Name _SBB5: #REF!
Name _SBB5: #REF!
Name _SHH1: #REF!
Name _SHH1: #REF!
Name _SHH2: #REF!
Name _SHH2: #REF!
Name _SHH3: #REF!
Name _SHH3: #REF!
Name \a: #REF!
Name \a: #REF!
Name \z: #REF!
Name \z: #REF!
Name A10B1L: [2]INPUT!#REF!
Name A10B1L: [2]INPUT!#REF!
Name A10B1R: [2]INPUT!#REF!
Name A10B1R: [2]INPUT!#REF!
Name A10B2L: [2]INPUT!#REF!
Name A10B2L: [2]INPUT!#REF!
Name A10B2R: [2]INPUT!#REF!
Name A10B2R: [2]INPUT!#REF!
Name A10B3L: [2]INPUT!#REF!
Name A10B3L: [2]INPUT!#REF!
Name A10B3R: [2]INPUT!#REF!
Name A10B3R: [2]INPUT!#REF!
Name A10B4L: [2]INPUT!#REF!
Name A10B4L: [2]INPUT!#REF!
Name A10B4R: [2]INPUT!#REF!
Name A10B4R: [2]INPUT!#REF!
Name A10BFL: [2]INPUT!#REF!
Name A10BFL: [2]INPUT!#REF!

Sheet 실시설계 용역
A1: 2026년 산사태예방사업(길안 금곡지구) 실시설계 용역
A3: 사업명 | B3: 대 상 지 | C3: 사 업 량 (개소) | D3: 사 업 비 (원) | E3: 설 계 용 역 비(원) | J3: 비 고
E4: 계 | F4: 설계비 | G4: 설명회 및 협의요청서 | H4: 손해배상 보험료 | I4: 부가세
A6: 계 | C6: =C7 -> 2 | D6: =SUM(D7:D7) -> 163011000 | E6: =E7 -> 10137000 | F6: =F7 -> 9128000 | G6: =G7 -> 0 | H6: =H7 -> 88000 | I6: =I7 -> 921000
A7: 산사태예방 | B7: 길안 금곡지구 | C7: 2 | D7: ='실시설계 용역비 산출내역'!H4 -> 163011000 | E7: =SUM(F7:I7) -> 10137000 | F7: ='실시설계 용역비 산출내역'!AO34 -> 9128000 | G7: ='실시설계 용역비 산출내역'!AO35 -> 0 | H7: ='실시설계 용역비 산출내역'!AO39 -> 88000 | I7: ='실시설계 용역비 산출내역'!AO44 -> 921000 | J7: (천원미만절사)

Sheet 실시설계 용역비 산출내역
A1: 실시설계 용역비 산출내역
A2: □ 용 역 명 : | H2: ='실시설계 용역'!A1 -> 2026년 산사태예방사업(길안 금곡지구) 실시설계 용역
A4: □ 공 사 비 : | H4: =145664000+17347000 -> 163011000 | N4: 원
A7: □ 적용공사비 : | H7: =H4 -> 163011000 | O7: 원 | Q7: / | R7: 1.1 | T7: (부가세) | X7: = | Y7: =INT(H7/R7) -> 148191818 | AF7: 원
A9: □ 적용요율
C11: 직선보간법
C12: Y | D12: = | E12: y1 | F12: - | G12: ( | H12: X | I12: - | J12: X2 | K12: ) | L12: × | M12: ( | N12: y1 | O12: - | P12: y2 | Q12: )
J13: X1 | K13: - | L13: X2
C14: Y | D14: = | E14: =J25 -> 6.16 | J14: - | L14: ( | M14: =J22 -> 148192 | R14: - | S14: =J24 -> 1000000 | X14: ) | Y14: × | Z14: ( | AA14: =J25 -> 6.16 | AD14: - | AE14: =J26 -> 6.16 | AH14: )
L15: =J23 -> 1000000 | W15: - | X15: =J24 -> 1000000
D17: = | E17: =E14 -> 6.16 | J17: - | L17: 0
D19: = | E19: =ROUNDDOWN(E17-L17,2) -> 6.16 | J19: %
C21: Y | D21: = | E21: 당해공사비율 | J21: =E19 -> 6.16 | O21: %
C22: X | D22: = | E22: 당해공사금액 | J22: =ROUNDUP(Y7/1000,0) -> 148192 | O22: 천원
C23: X1 | D23: = | E23: 큰금액 | J23: 1000000 | O23: 천원 | AK23: {=MIN(IF(공사비요율!$A$7:$A$24>J22,공사비요율!$A$7:$A$24))} -> 200000
C24: X2 | D24: = | E24: 작은금액 | J24: 1000000 | O24: 천원 | AK24: {=MAX(IF(공사비요율!$A$7:$A$24<J23,공사비요율!$A$7:$A$24))} -> 500000
C25: y1 | D25: = | E25: 작은금액요율 | J25: =VLOOKUP(J24,공사비요율!$A$4:$F$23,4) -> 6.16 | O25: %
C26: y2 | D26: = | E26: 큰금액요율 | J26: =VLOOKUP(J23,공사비요율!$A$4:$F$23,4) -> 6.16 | O26: %
A28: □ 실시설계비
B30: 가. 실시설계비
C32: =Y7 -> 148191818 | I32: 원 | J32: × | K32: =E19 -> 6.16 | P32: % | Q32: = | R32: =INT(K32*C32/100) -> 9128615 | X32: 원
Q34: ≒ | R34: =ROUNDDOWN(R32/1000,0) -> 9128 | X34: 천원 | AO34: =R34*1000 -> 9128000
B35: 나. 설명회 및 기관 협의 : | K35: =V36+V37 -> 0 | O35: 원 | Q35: ≒ | R35: =INT(K35/1000) -> 0 | X35: 천원 | AO35: =R35*1000 -> 0
A36: - 주민설명회 | H36: 고급기술자 | L36: 0 | M36: 인 | N36: × | O36: 297079 | S36: 원 | U36: = | V36: =L36*O36 -> 0 | AA36: 원
B37: - | C37: 협의서작성 | H37: 고급기술자 | L37: 0 | M37: 인 | N37: × | O37: 297079 | S37: 원 | U37: = | V37: =L37*O37 -> 0 | AA37: 원
B38: 나. 손해배상보험료
C39: =INT((H40*0.00816+0.00131*0/365)+(H40*0.0016)*99%) -> 88 | I39: 천원(1단계공제료+2단계공제료)*발주기관부담금 99% | AO39: =C39*1000 -> 88000
C40: 공급가액 | G40: : | H40: =R34+R35 -> 9128 | L40: 천원
C41: 1단계:공급가액 × 0.816% + 0.131% × 0 / 365
C42: 2단계:공급가액 × 0.16%
B43: 다. 부가세
C44: =R34+R35+C39 -> 9216 | I44: 천원 | J44: × | K44: 0.1 | N44: = | O44: =INT(C44*K44) -> 921 | T44: 천원 | AO44: =O44*1000 -> 921000
A45: □ 실시설계 용역비 | AK45: 검산 | AL45: =#REF!-#REF! -> #REF!
C46: =H40+C39+O44 -> 10137 | I46: 천원

Sheet 공사비요율
A1: 건설부문의 요율
A2: 요 율 | C2: 업 무 별 요 율(%)
A3: 공사비 | C3: 기본설계 | D3: 실시설계 | E3: 공사감리 | F3: 계
A4: 10000 | B4: 천원까지
A5: 20000 | B5: 천원까지
A6: 30000 | B6: 천원까지
A7: 50000 | B7: 천원까지 | E7: 3.02 | F7: =C7+D7+E7 -> 3.02 | I7: ='실시설계 용역비 산출내역'!J25 -> 6.16
A8: 100000 | B8: 천원까지 | E8: 2.85 | F8: =C8+D8+E8 -> 2.85 | I8: ='실시설계 용역비 산출내역'!J26 -> 6.16
A9: 200000 | B9: 천원까지 | E9: 2.26 | F9: =C9+D9+E9 -> 2.26
A10: 300000 | B10: 천원까지 | E10: 2.06 | F10: =C10+D10+E10 -> 2.06
A11: 500000 | B11: 천원까지 | E11: 1.89 | F11: =C11+D11+E11 -> 1.89
A12: 1000000 | B12: 천원까지 | C12: 3.78 | D12: 6.16 | E12: 1.66 | F12: =C12+D12+E12 -> 11.6
A13: 2000000 | B13: 천원까지 | C13: 3.33 | D13: 5.47 | E13: 1.53 | F13: =C13+D13+E13 -> 10.33
A14: 3000000 | B14: 천원까지 | C14: 3.1 | D14: 5.1 | E14: 1.48 | F14: =C14+D14+E14 -> 9.68
A15: 5000000 | B15: 천원까지 | C15: 2.82 | D15: 4.67 | E15: 1.45 | F15: =C15+D15+E15 -> 8.94
A16: 10000000 | B16: 천원까지 | C16: 2.49 | D16: 4.15 | E16: 1.41 | F16: =C16+D16+E16 -> 8.05
A17: 20000000 | B17: 천원까지 | C17: 2.2 | D17: 3.68 | E17: 1.37 | F17: =C17+D17+E17 -> 7.25
A18: 30000000 | B18: 천원까지 | C18: 2.04 | D18: 3.43 | E18: 1.35 | F18: =C18+D18+E18 -> 6.82
A19: 50000000 | B19: 천원까지 | C19: 1.86 | D19: 3.03 | E19: 1.33 | F19: =C19+D19+E19 -> 6.22
A20: 100000000 | B20: 천원까지 | C20: 1.64 | D20: 2.79 | E20: 1.3 | F20: =C20+D20+E20 -> 5.73
A21: 200000000 | B21: 천원까지 | C21: 1.45 | D21: 2.48 | E21: 1.28 | F21: =C21+D21+E21 -> 5.21
A22: 300000000 | B22: 천원까지 | C22: 1.35 | D22: 2.31 | E22: 1.25 | F22: =C22+D22+E22 -> 4.91
A23: 500000000 | B23: 천원까지 | C23: 1.23 | D23: 2.12 | E23: 1.23 | F23: =C23+D23+E23 -> 4.58
A24: 비고
A25: 1.“건설부문”이란「엔지니어링산업 진흥법시행령」별표 1에 따른 엔지니어링기술 중에서 건설부문(농어업토목분야 및 상하수도 중 정수 및 하수, 폐수 처리시설 등 환경플랜트를 제외한다.)과 설비부문을 말한다.
A26: 2. "공사감리"란 비상주 감리를 말한다
A27: 3. 기본설계, 실시설계 및 공사감리의 업무범위는 제14조와 같다.

Sheet 국토계획 표준품셈(주민설명회,협의요청서 작성)

Sheet 엔지니어링 노임단가
