Workbook
Name _: '[1]충돌 내용'!#REF!
Name _.사급자재대: #REF!
Name __: #REF!
Name ___: #REF!
Name ____: #REF!
Name _____: #REF!
Name ______: #REF!
Name _______: #REF!
Name __________: #REF!
Name _____________0: #REF!
Name _____________11: #REF!
Name _____________12: #REF!
Name __________0: #REF!
Name __________11: #REF!
Name __________12: #REF!
Name _________0: #REF!
Name _________10: #REF!
Name _________11: #REF!
Name _________12: #REF!
Name _________A81620: [2]수량이동!#REF!
Name _________SUM1: [3]EP0618!#REF!
Name _________SUM10: [3]EP0618!#REF!
Name _________SUM11: [3]EP0618!#REF!
Name _________SUM12: [3]EP0618!#REF!
Name _________SUM13: [3]EP0618!#REF!
Name _________SUM14: [3]EP0618!#REF!
Name _________SUM15: [3]EP0618!#REF!
Name _________SUM16: [3]EP0618!#REF!
Name _________SUM17: [3]EP0618!#REF!
Name _________SUM18: [3]EP0618!#REF!
Name _________SUM19: [3]EP0618!#REF!
Name _________SUM2: [3]EP0618!#REF!
Name _________SUM3: [3]EP0618!#REF!
Name _________SUM4: [3]EP0618!#REF!
Name _________SUM5: [3]EP0618!#REF!
Name _________SUM6: [3]EP0618!#REF!
Name _________SUM7: [3]EP0618!#REF!
Name _________SUM8: [3]EP0618!#REF!
Name _________SUM9: [3]EP0618!#REF!
Name ________0: #REF!
Name ________10: #REF!
Name ________11: #REF!
Name ________12: #REF!
Name ________a16385: #REF!
Name ________A81620: [2]수량이동!#REF!
Name ________SUM1: [3]EP0618!#REF!
Name ________SUM10: [3]EP0618!#REF!
Name ________SUM11: [3]EP0618!#REF!
Name ________SUM12: [3]EP0618!#REF!
Name ________SUM13: [3]EP0618!#REF!
Name ________SUM14: [3]EP0618!#REF!
Name ________SUM15: [3]EP0618!#REF!
Name ________SUM16: [3]EP0618!#REF!
Name ________SUM17: [3]EP0618!#REF!
Name ________SUM18: [3]EP0618!#REF!
Name ________SUM19: [3]EP0618!#REF!
Name ________SUM2: [3]EP0618!#REF!
Name ________SUM3: [3]EP0618!#REF!
Name ________SUM4: [3]EP0618!#REF!
Name ________SUM5: [3]EP0618!#REF!

Sheet 시스템총
A1: 공 사 비 총 괄 표
A2: 덕곡지구 배수개선사업 계장제어장치 제조구매설치
A5: 일금 : | C5: =G32 -> 121709000 | D5: 원 | G5: * ( )내서 : 주요자재(VAT포함)
D6: 공 종 별 | G6: 시 스 템 공 사 | J6: 합 계
A7: 구 분
B8: 주 요 자 재 | G8: =주요자재!G21 -> 87548000 | J8: =SUM(G8:I8) -> 87548000
B9: 재 | C9: 직접 재료비 | G9: =' 시스템설치총'!K26 -> 11368159 | J9: =SUM(G9:I9) -> 11368159
B10: 료 | C10: 간접 재료비 | J10: =SUM(G10:I10) -> 0
A11: 순 | B11: 비 | C11: 계 | G11: =INT(G9) -> 11368159 | J11: =SUM(G11:I11) -> 11368159
B12: 노 | C12: 직접 노무비 | G12: =' 시스템설치총'!I26 -> 9446066 | J12: =SUM(G12:I12) -> 9446066
B13: 무 | C13: 간접 노무비 | D13: ( | E13: 0.195 | F13: ) | G13: =INT(G12*$E13) -> 1841982 | J13: =SUM(G13:I13) -> 1841982
A14: 공 | B14: 비 | C14: 계 | G14: =INT(G12+G13) -> 11288048 | J14: =SUM(G14:I14) -> 11288048
C15: 경 비 | G15: =' 시스템설치총'!M26 -> 283378 | J15: =SUM(G15:I15) -> 283378
B16: 경 | C16: 산재보험료 | D16: ( | E16: 0.0356 | F16: ) | G16: =TRUNC(G14*$E16) -> 401854 | J16: =SUM(G16:I16) -> 401854
A17: 사 | C17: 고용보험료 | D17: ( | E17: 0.0101 | F17: ) | G17: =TRUNC(G14*$E17) -> 114009 | J17: =SUM(G17:I17) -> 114009
C18: 임금채권부담금 | D18: ( | E18: 0.0009 | F18: ) | G18: =TRUNC(G14*0.0009,0) -> 10159 | J18: =SUM(G18:I18) -> 10159
C19: 석면피해구제분담금 | D19: ( | E19: 6e-05 | F19: ) | G19: =TRUNC(G14*0.00006,0) -> 677 | J19: =SUM(G19:I19) -> 677
C20: 건강보험료 | D20: ( | E20: 0.03595 | F20: ) | G20: =INT(G12*$E20) -> 339586 | J20: =SUM(G20:I20) -> 339586
C21: 노인장기요양보험료 | D21: ( | E21: 0.1314 | F21: ) | G21: =INT(G20*$E21) -> 44621 | J21: =SUM(G21:I21) -> 44621
A22: 비 | C22: 연금보험료 | D22: ( | E22: 0.0475 | F22: ) | G22: =INT(G12*$E22) -> 448688 | J22: =SUM(G22:I22) -> 448688
B23: 비 | C23: 산업안전보건관리비 | D23: ( | E23: 0.0315 | F23: ) | G23: =N26 -> 786777 | J23: =SUM(G23:I23) -> 786777 | M23: 안전관리비 | N23: 2.07
C24: 기타 경비 | D24: ( | E24: 0.057 | F24: ) | G24: =TRUNC((G11+G14)*$E24) -> 1291403 | J24: =SUM(G24:I24) -> 1291403 | N24: 5억미만
C25: 계 | G25: =INT(SUM(G15:G24)) -> 3721152 | J25: =SUM(G25:I25) -> 3721152 | M25: a. | N25: =INT((($G$11+$G$12)+($G$8/1.1))*2.07%) -> 2078348
B26: 소 계 | G26: =INT(G11+G14+G25) -> 26377359 | J26: =SUM(G26:I26) -> 26377359 | M26: b. | N26: =INT((($G$11+$G$12)*3.15%)*1.2) -> 786777
A27: 일 반 관 리 비 | D27: ( | E27: 0.08 | F27: ) | G27: =INT(G26*$E27) -> 2110188 | J27: =SUM(G27:I27) -> 2110188 | N27: (재+직노+도급자관급)의2.07%
A28: 계 | G28: =G26+G27 -> 28487547 | J28: =SUM(G28:I28) -> 28487547 | N28: (재+직노)의 2.07% *1.2
A29: 이 윤 | D29: ( | E29: 0.15 | F29: ) | G29: =TRUNC(SUM(G14,G25,G27)*$E29,0) -> 2567908 | J29: =SUM(G29:I29) -> 2567908
A30: 계 | G30: =SUM(G28:G29) -> 31055455 | J30: =SUM(G30:I30) -> 31055455
A31: 부 가 가 치 세 | D31: ( | E31: 0.1 | F31: ) | G31: =INT(G30*$E31) -> 3105545 | J31: =SUM(G31:I31) -> 3105545
A32: 총 계 | G32: =G8+G30+G31 -> 121709000 | J32: =SUM(G32:I32) -> 121709000 | U32: 56

Sheet 주요자재
B2: I.시스템 주요자재
B3: 공 사 비 명 세 서
B5: 일 금 : | C5: =K21 -> 87548000 | D5: 원
B6: 종 | C6: 재료 또는 | D6: 원 | E6: 단 | F6: 총 액 | H6: 노 무 비 | J6: 재 료 비 | L6: 경 비 | N6: 비
B7: 별 | C7: 치 수 | D7: 수 | E7: 위 | F7: 단가 | G7: 금 액 | H7: 단 가 | I7: 금 액 | J7: 단 가 | K7: 금 액 | L7: 단 가 | M7: 금 액 | N7: 고
B8: 1. 중앙관리소 주요자재 | D8: 1 | E8: 식 | G8: =K8 -> 4113000 | K8: =중앙합!G20 -> 4113000
B9: 2. 계장제어장치 주요자재 | D9: 1 | E9: 식 | G9: =K9 -> 83435000 | K9: ='자동제어반 합계'!G22 -> 83435000
B21: 계 | G21: =K21 -> 87548000 | K21: =SUM(K8:K20) -> 87548000

Sheet 중앙합
B2: 1.중앙관리소 주요자재
B3: 공 사 비 명 세 서
B5: 일 금 : | C5: =G20 -> 4113000 | D5: 원
B6: 종 | C6: 재료 또는 | D6: 원 | E6: 단 | F6: 총 액 | H6: 노 무 비 | J6: 재 료 비 | L6: 경 비 | N6: 비
B7: 별 | C7: 치 수 | D7: 수 | E7: 위 | F7: 단가 | G7: 금 액 | H7: 단 가 | I7: 금 액 | J7: 단 가 | K7: 금 액 | L7: 단 가 | M7: 금 액 | N7: 고
B8: 1-1. 중앙관리소 제조품자재 | D8: 1 | E8: 식 | G8: =K8 -> 3739400 | K8: =C31 -> 3739400
B12: 계 | G12: =K12 -> 3739400 | K12: =SUM(K8:K9) -> 3739400
B15: 부 가 세 | C15: 0.1 | D15: 1 | E15: 식 | G15: =G20-G12 -> 373600
B20: 합 계 | G20: =INT(G12*1.1/1000)*1000 -> 4113000
B28: 1-1.중앙관리소 제조품자재
B29: 공 사 비 명 세 서
B31: 일 금 : | C31: =G47 -> 3739400 | D31: 원
B32: 종 | C32: 재료 또는 | D32: 원 | E32: 단 | F32: 총 액 | H32: 노 무 비 | J32: 재 료 비 | L32: 경 비 | N32: 비
B33: 별 | C33: 치 수 | D33: 수 | E33: 위 | F33: 단가 | G33: 금 액 | H33: 단 가 | I33: 금 액 | J33: 단 가 | K33: 금 액 | L33: 단 가 | M33: 금 액 | N33: 고
B34: 중앙관리소 제조품자재 | D34: 1 | E34: 식 | G34: =K34 -> 3739400 | K34: =중앙제조품!B5 -> 3739400
B47: 합 계 | G47: =K47 -> 3739400 | K47: =SUM(K34:K36) -> 3739400

Sheet 중앙제조품
A2: 1-1. 중앙관리소 제조품자재
A3: 공 사 비 명 세 서
A5: 일 금 : | B5: =F25 -> 3739400 | C5: 원
A6: 종 | B6: 재료 또는 | C6: 원 | D6: 단 | E6: 총 액 | G6: 노 무 비 | I6: 재 료 비 | K6: 경 비 | M6: 비
A7: 별 | B7: 치 수 | C7: 수 | D7: 위 | E7: 단가 | F7: 금 액 | G7: 단 가 | H7: 금 액 | I7: 단 가 | J7: 금 액 | K7: 단 가 | L7: 금 액 | M7: 고
A8: =A32 -> 가. SYSTEM SOFTWARE | C8: 1 | D8: 식 | F8: =J8 -> 3739400 | J8: =J49 -> 3739400
A25: 합 계 | F25: =J25 -> 3739400 | J25: =SUM(J8:J9) -> 3739400
A30: 종 | B30: 재료 또는 | C30: 원 | D30: 단 | E30: 총 액 | G30: 노 무 비 | I30: 재 료 비 | K30: 경 비 | M30: 비
A31: 별 | B31: 치 수 | C31: 수 | D31: 위 | E31: 단가 | F31: 금 액 | G31: 단 가 | H31: 금 액 | I31: 단 가 | J31: 금 액 | K31: 단 가 | L31: 금 액 | M31: 고
A32: 가. SYSTEM SOFTWARE
A33: - APPLICATION S/W
A34: 표준화면 | B34: KRC-HMI SOFTWARE FEE | C34: 2 | D34: 화면 | F34: =J34 -> 1072000 | I34: 536000 | J34: =C34*I34 -> 1072000 | M34: M084738
A35: 레포트화면 | B35: KRC-HMI SOFTWARE FEE | C35: 1 | D35: 화면 | F35: =J35 -> 659000 | I35: 659000 | J35: =C35*I35 -> 659000 | M35: M084741
A36: 트랜드화면 | B36: KRC-HMI SOFTWARE FEE | C36: 0.2 | D36: 화면 | F36: =J36 -> 131600 | I36: 658000 | J36: =C36*I36 -> 131600 | M36: M084739
A37: 3D그래픽작업 | B37: KRC-HMI SOFTWARE FEE | C37: 2 | D37: 화면 | F37: =J37 -> 1792000 | I37: 896000 | J37: =C37*I37 -> 1792000 | M37: M084742
A38: TOMS 연계(본부-지사간) | B38: 표준화면 구성 | C38: 0.2 | D38: 화면 | F38: =J38 -> 84800 | I38: 424000 | J38: =TRUNC(C38*I38, -2) -> 84800 | M38: M084738
A49: 계 | F49: =J49 -> 3739400 | J49: =SUM(J33:J48) -> 3739400

Sheet 자동제어반 합계
B2: 2. 계장제어장치 주요자재
B3: 공 사 비 명 세 서
B5: 일 금 : | C5: =G22 -> 83435000 | D5: 원
B6: 종 | C6: 재료 또는 | D6: 원 | E6: 단 | F6: 총 액 | H6: 노 무 비 | J6: 재 료 비 | L6: 경 비 | N6: 비
B7: 별 | C7: 치 수 | D7: 수 | E7: 위 | F7: 단가 | G7: 금 액 | H7: 단 가 | I7: 금 액 | J7: 단 가 | K7: 금 액 | L7: 단 가 | M7: 금 액 | N7: 고
B8: 2-1. 자동제어반 제조품자재 | D8: 1 | E8: 식 | G8: =K8+M8 -> 75850000 | K8: =K44 -> 75850000 | M8: =M44 -> 0
B13: 계 | G13: =K13+M13 -> 75850000 | K13: =SUM(K8:K10) -> 75850000 | M13: =M8 -> 0
B16: 부 가 세 | C16: 0.1 | D16: 1 | E16: 식 | G16: =INT(G13*C16) -> 7585000
B22: 합 계 | G22: =SUM(G13:G16) -> 83435000
B27: 2-1. 계장제어장치 제조품자재
B28: 공 사 비 명 세 서
B30: 일 금 : | C30: =G44 -> 75850000 | D30: 원
B31: 종 | C31: 재료 또는 | D31: 원 | E31: 단 | F31: 총 액 | H31: 노 무 비 | J31: 재 료 비 | L31: 경 비 | N31: 비
B32: 별 | C32: 치 수 | D32: 수 | E32: 위 | F32: 단가 | G32: 금 액 | H32: 단 가 | I32: 금 액 | J32: 단 가 | K32: 금 액 | L32: 단 가 | M32: 금 액 | N32: 고
B33: 가. 자동제어반 | D33: 1 | E33: 식 | G33: =K33+M33 -> 75850000 | K33: ='자동제어반 제조원가'!C3 -> 75850000
B44: 합 계 | G44: =K44+M44 -> 75850000 | K44: =SUM(K33:K34) -> 75850000 | M44: =SUM(M33:M34) -> 0

Sheet 자동제어반 제조원가
B1: 2-1. 계장제어장치 제조품자재
B2: 주요자재 제조원가 계산서
B3: 일금 | C3: =H22 -> 75850000 | E3: 원 | K3: [ 단위 : 원 ]
B4: 구 분 공 종 별 | H4: R.T.U | K4: 계
C5: 재 | D5: 직접재료비 | H5: ='자동제어반 합'!K24 -> 54273637 | K5: =H5 -> 54273637
B6: 순 | C6: 료 | D6: 간접재료비 | E6: ( | F6: 0.0103 | G6: ) | H6: =INT(H5*$F6) -> 559018 | I6: 직.재 x 1.03% | K6: =H6 -> 559018
C7: 비 | D7: 계 | H7: =SUM(H5:H6) -> 54832655 | K7: =H7 -> 54832655
C8: 노 | D8: 산출노무비 | H8: ='자동제어반 합'!I24 -> 4295538
B9: 공 | C9: 무 | D9: 직접노무비 | E9: ( | F9: 1.2453 | G9: ) | H9: =INT(H8*$F9) -> 5349233 | I9: 산.노 x 124.53% | K9: =H9 -> 5349233
D10: 간접노무비 | E10: ( | F10: 0.3493 | G10: ) | H10: =INT(H9*$F10) -> 1868487 | I10: 직.노 x 34.93% | K10: =H10 -> 1868487
C11: 비 | D11: 계 | H11: =SUM(H9:H10) -> 7217720 | K11: =H11 -> 7217720
B12: 사 | D12: 경 비 | E12: ( | F12: 0.0895 | G12: ) | H12: =INT(H7*$F12) -> 4907522 | I12: 재료비 x 8.95% | K12: =H12 -> 4907522
C13: 경 | D13: 산재보험료 | E13: ( | G13: )
D14: 고용보험료 | E14: ( | G14: )
D15: 안전관리비 | E15: ( | G15: )
B16: 비 | C16: 비 | D16: 기타경비 | E16: ( | G16: )
D17: 계 | H17: =SUM(H12:H16) -> 4907522 | K17: =H17 -> 4907522
B18: 합 계 | H18: =H7+H11+H17 -> 66957897 | K18: =H18 -> 66957897
B19: 일 반 관 리 비 | E19: ( | F19: 0.07 | G19: ) | H19: =INT(H18*$F19) -> 4687052 | I19: 제조원가 x 7.0% | K19: =H19 -> 4687052
B20: 계 | H20: =SUM(H18:H19) -> 71644949 | K20: =H20 -> 71644949
B21: 이 윤 | E21: ( | F21: 0.25 | G21: ) | H21: =H22-H20 -> 4205051 | I21: (노+경+일.관) x 25% | K21: =H21 -> 4205051
B22: 총 원 가 | H22: =ROUND(((H11+H17+H19)*0.25)+H20,-4) -> 75850000 | K22: =H22 -> 75850000

Sheet 자동제어반 합
B2: 2-1-1. 자동제어반
B3: 공 사 비 명 세 서
B5: 일 금 : | C5: =G24 -> 58569175 | D5: 원
B6: 종 | C6: 재료 또는 | D6: 원 | E6: 단 | F6: 총 액 | H6: 노 무 비 | J6: 재 료 비 | L6: 경 비 | N6: 비
B7: 별 | C7: 치 수 | D7: 수 | E7: 위 | F7: 단가 | G7: 금 액 | H7: 단가 | I7: 금 액 | J7: 단가 | K7: 금 액 | L7: 단가 | M7: 금 액 | N7: 고
B8: =자동제어반!A1 -> 가. 덕곡배수장 | D8: 1 | E8: 식 | G8: =SUM(I8,K8) -> 29283207 | I8: =자동제어반!H30 -> 2523843 | K8: =자동제어반!J30 -> 26759364
B9: =자동제어반!A96 -> 나. 포두배수장 | D9: 1 | E9: 식 | G9: =SUM(I9,K9) -> 29285968 | I9: =자동제어반!H125 -> 1771695 | K9: =자동제어반!J125 -> 27514273
B24: 합 계 | D24: 1 | E24: 식 | G24: =I24+K24 -> 58569175 | I24: =SUM(I8:I23) -> 4295538 | K24: =SUM(K8:K23) -> 54273637 | M24: =SUM(M10:M23) -> 0 | N24: kg

Sheet 자동제어반
A1: 가. 덕곡배수장
A2: 공 사 비 명 세 서
A4: 일 금 : | B4: =F30 -> 29283207 | C4: 원
A5: 종 | B5: 재료 또는 | C5: 원 | D5: 단 | E5: 총 액 | G5: 노 무 비 | I5: 재 료 비 | K5: 경 비 | M5: 비
A6: 별 | B6: 치 수 | C6: 수 | D6: 위 | E6: 단가 | F6: 금 액 | G6: 단 가 | H6: 금 액 | I6: 단 가 | J6: 금 액 | K6: 단 가 | L6: 금 액 | M6: 고
A7: 1) 전원부 | C7: 1 | D7: 식 | F7: =H7+J7 -> 8658356 | H7: =H64 -> 1542332 | J7: =J64 -> 7116024
A8: 2) 제어부 | C8: 1 | D8: 식 | F8: =H8+J8 -> 20624851 | H8: =H95 -> 981511 | J8: =J95 -> 19643340
A30: 합 계 | F30: =H30+J30 -> 29283207 | H30: =SUM(H7:H8) -> 2523843 | J30: =SUM(J7:J8) -> 26759364
A33: 종 | B33: 재료 또는 | C33: 원 | D33: 단 | E33: 총 액 | G33: 노 무 비 | I33: 재 료 비 | K33: 경 비 | M33: 비
A34: 별 | B34: 치 수 | C34: 수 | D34: 위 | E34: 단가 | F34: 금 액 | G34: 단 가 | H34: 금 액 | I34: 단 가 | J34: 금 액 | K34: 단 가 | L34: 금 액 | M34: 고
A35: 1) 전원부 | R35: W | S35: D | T35: H
A36: CUBICLE(ST) | B36: (W)800x(H)2350x(D)2000 | C36: 1 | D36: 면 | F36: =SUM(H36,J36,L36) -> 2720500 | I36: 2720500 | J36: =TRUNC(I36*C36) -> 2720500 | M36: M079020 | O36: 2026년 단가(KRC) | R36: 0.8 | S36: 2 | T36: 2.35
A37: SELECTOR S/W | B37: 자동복귀형 | C37: 1 | D37: 개 | F37: =SUM(H37,J37,L37) -> 2100 | I37: 2100 | J37: =TRUNC(I37*C37) -> 2100 | M37: M080545 | O37: 2026년 단가(KRC) | R37: 구분 | S37: 너비 | T37: 높이 | U37: 두께 | V37: 소계
A38: PILOT LAMP(LED) | B38: 25Φ,AC220V | C38: 1 | D38: 개 | F38: =SUM(H38,J38,L38) -> 5800 | I38: 5800 | J38: =TRUNC(I38*C38) -> 5800 | M38: M080446 | O38: 2026년 단가(KRC) | R38: 용적중량: | V38: 613
A39: SQUARE LAMP | B39: LED TYPE | C39: 2 | D39: 개 | F39: =SUM(H39,J39,L39) -> 11600 | I39: 5800 | J39: =TRUNC(I39*C39) -> 11600 | M39: M080446 | O39: 2026년 단가(KRC) | R39: 전면: | S39: =R36 -> 0.8 | T39: =T36 -> 2.35 | U39: 2 | V39: =S39*T39*U39 -> 3.76
A40: M.C.C.B | B40: 2P 50AF | C40: 2 | D40: 개 | F40: =SUM(H40,J40,L40) -> 72000 | I40: 36000 | J40: =TRUNC(I40*C40) -> 72000 | M40: M081211 | O40: 2026년 단가(KRC) | R40: 후면 | S40: =R36 -> 0.8 | T40: =T36 -> 2.35 | U40: 2 | V40: =S40*T40*U40 -> 3.76
A41: E.L.C.B | B41: 2P 30AF | C41: 9 | D41: 개 | F41: =SUM(H41,J41,L41) -> 108000 | I41: 12000 | J41: =TRUNC(I41*C41) -> 108000 | M41: M081270 | O41: 2026년 단가(KRC) | R41: 측면1 | S41: =S36 -> 2 | T41: =T36 -> 2.35 | U41: 2 | V41: =S41*T41*U41 -> 9.4
A42: E.L.C.B(자동복귀형) | B42: 2P 30AF | C42: 1 | D42: 개 | F42: =SUM(H42,J42,L42) -> 84000 | I42: 84000 | J42: =TRUNC(I42*C42) -> 84000 | M42: M081261 | O42: 2026년 단가(KRC) | R42: 측면2 | S42: =S36 -> 2 | T42: =T36 -> 2.35 | U42: 2 | V42: =S42*T42*U42 -> 9.4
A43: TERMINAL BLOCK | B43: 30A, 10P | C43: 10 | D43: 개 | F43: =SUM(H43,J43,L43) -> 25000 | I43: 2500 | J43: =TRUNC(I43*C43) -> 25000 | M43: M079128 | O43: 2026년 단가(KRC) | R43: 상면 | S43: =R36 -> 0.8 | T43: =S36 -> 2 | U43: 2 | V43: =S43*T43*U43 -> 3.2
A44: PVC DUCT | B44: 40*60*2m | C44: 8 | D44: 개 | F44: =SUM(H44,J44,L44) -> 37440 | I44: 4680 | J44: =TRUNC(I44*C44) -> 37440 | M44: M079127 | O44: 2026년 단가(KRC) | R44: 하면 | S44: =R36 -> 0.8 | T44: =S36 -> 2 | U44: 2 | V44: =S44*T44*U44 -> 3.2
A45: LED 램프 | B45: 220V, 20W(전구식) | C45: 2 | D45: 개 | F45: =SUM(H45,J45,L45) -> 16400 | I45: 8200 | J45: =TRUNC(I45*C45) -> 16400 | M45: M081401 | O45: 2026년 단가(KRC) | U45: 체적: | V45: =SUM(V39:V44) -> 32.72
A46: VENT FAN | B46: AC 220V | C46: 1 | D46: 개 | F46: =SUM(H46,J46,L46) -> 30000 | I46: 30000 | J46: =TRUNC(I46*C46) -> 30000 | M46: M079103 | O46: 2026년 단가(KRC) | R46: 중량: | S46: =V45 -> 32.72 | T46: =X48 -> 7.85 | U46: =Y48 -> 256.852 | V46: kg
A47: SPACE HEATER | B47: AC 220V 100W | C47: 1 | D47: 개 | F47: =SUM(H47,J47,L47) -> 13970 | I47: 13970 | J47: =TRUNC(I47*C47) -> 13970 | M47: M079104 | O47: 2026년 단가(KRC) | R47: 외함(sus)가격: | S47: 32000 | T47: 원/KG= | U47: =S47*Y47 -> 8303027.2 | V47: 원 | W47: 비중 | X47: 7.93 | Y47: =S46*X47 -> 259.4696
A48: THERMOSTAT | B48: AC 220V 0~250℃ | C48: 2 | D48: 개 | F48: =SUM(H48,J48,L48) -> 31940 | I48: 15970 | J48: =TRUNC(I48*C48) -> 31940 | M48: M079105 | O48: 2026년 단가(KRC) | R48: 외함(철)가격: | S48: 10880 | T48: 원/KG= | U48: =S48*Y48 -> 2794549.8 | W48: 비중 | X48: 7.85 | Y48: =S46*X48 -> 256.852
A49: DOOR HANDLE | B49: W/KEY (L) | C49: 2 | D49: 개 | F49: =SUM(H49,J49,L49) -> 11380 | I49: 5690 | J49: =TRUNC(I49*C49) -> 11380 | M49: M079080 | O49: 2026년 단가(KRC)
A50: LIMIT SWITCH | B50: AC 1a1b | C50: 2 | D50: 개 | F50: =SUM(H50,J50,L50) -> 9000 | I50: 4500 | J50: =TRUNC(I50*C50) -> 9000 | M50: M079153 | O50: 2026년 단가(KRC)
A51: DOOR STOPER | B51: WALL TYPE | C51: 2 | D51: 개 | F51: =SUM(H51,J51,L51) -> 20000 | I51: 10000 | J51: =TRUNC(I51*C51) -> 20000 | M51: M079085 | O51: 2026년 단가(KRC)
A52: EARTH BUS BAR | B52: 3mmX25mm, 6P | C52: 1 | D52: 개 | F52: =SUM(H52,J52,L52) -> 10670 | I52: 10670 | J52: =TRUNC(I52*C52) -> 10670 | M52: M079115 | O52: 2026년 단가(KRC) | R52: 특수도료(옥외형) | S52: 1500000
A53: CONCENT | B53: AC220V, 2P15A | C53: 2 | D53: 개 | F53: =SUM(H53,J53,L53) -> 5134 | I53: 2567 | J53: =TRUNC(I53*C53) -> 5134 | M53: M081500 | O53: 2026년 단가(KRC)
A54: 전원용 ARRESTER | B54: 1￠2W 전원용, 40KA(카운터) | C54: 1 | D54: 개 | F54: =SUM(H54,J54,L54) -> 1450000 | I54: 1450000 | J54: =TRUNC(I54*C54) -> 1450000 | M54: M061234 | O54: 2026년 단가(KRC)
A55: POWER SUPPLY | B55: DC24V, 10A | C55: 1 | D55: 개 | F55: =SUM(H55,J55,L55) -> 550000 | I55: 550000 | J55: =TRUNC(I55*C55) -> 550000 | M55: M084821 | O55: 2026년 단가(KRC)
A56: CABLE | B56: KIV 1.5㎟ | C56: 200 | D56: M | F56: =SUM(H56,J56,L56) -> 65400 | I56: 327 | J56: =TRUNC(I56*C56) -> 65400 | M56: M060706 | O56: 2026년 단가(KRC)
A57: NAME PLATE | B57: 아크릴 (L) | C57: 1 | D57: 개 | F57: =SUM(H57,J57,L57) -> 5690 | I57: 5690 | J57: =TRUNC(I57*C57) -> 5690 | M57: M079101 | O57: 2026년 단가(KRC)
A58: 자동소화장치 | B58: HFC227ea 2kg(방호체적 3.6㎥)-설치비포함 | C58: 1 | D58: 개 | F58: =SUM(H58,J58,L58) -> 1680000 | I58: 1680000 | J58: =TRUNC(I58*C58) -> 1680000 | M58: M085178 | O58: 2026년 단가(KRC)
A59: 디지털표시기 | B59: 입력:4~20mA, 4 Digit | C59: 1 | D59: 개 | F59: =SUM(H59,J59,L59) -> 150000 | I59: 150000 | J59: =TRUNC(I59*C59) -> 150000 | M59: M079142 | O59: 2026년 단가(KRC)
A60: <제작노무비>
A61: 전기기계조립원 | B61: 26년 제조노임단가 | C61: =자동제어반근!F28 -> 2.28 | D61: 인 | F61: 257819 | G61: 116674 | H61: =TRUNC(G61*C61) -> 266016
A62: 전 선 원 | B62: 26년 제조노임단가 | C62: =자동제어반근!H28 -> 14.22 | D62: 인 | F62: 2709245 | G62: 89755 | H62: =TRUNC(G62*C62) -> 1276316
A64: 계 | F64: =H64+J64 -> 8658356 | H64: =SUM(H36:H62) -> 1542332 | J64: =SUM(J36:J62) -> 7116024
A65: 종 | B65: 재료 또는 | C65: 원 | D65: 단 | E65: 총 액 | G65: 노 무 비 | I65: 재 료 비 | K65: 경 비 | M65: 비
...

Sheet 자동제어반근
A1: 가. 덕곡배수장 제작노무비
A4: 종 | B4: 재료 또는 | C4: 원 | D4: 단 | E4: 전기기계조립원 | G4: 전선원 | M4: 비
A5: 별 | B5: 치 수 | C5: 수 | D5: 위 | E5: 인수 | F5: 계 | G5: 인수 | H5: 계 | M5: 고
A6: 1) 전원부
A7: =자동제어반!A37 -> SELECTOR S/W | B7: =자동제어반!B37 -> 자동복귀형 | C7: =자동제어반!C37 -> 1 | D7: =자동제어반!D37 -> 개 | E7: 0.2 | F7: =TRUNC($C7*E7,3) -> 0.2 | M7: 전3-34
A8: =자동제어반!A38 -> PILOT LAMP(LED) | B8: =자동제어반!B38 -> 25Φ,AC220V | C8: =자동제어반!C38 -> 1 | D8: =자동제어반!D38 -> 개 | E8: 0.1 | F8: =TRUNC($C8*E8,3) -> 0.1 | M8: 전5-23
A9: =자동제어반!A39 -> SQUARE LAMP | B9: =자동제어반!B39 -> LED TYPE | C9: =자동제어반!C39 -> 2 | D9: =자동제어반!D39 -> 개 | E9: 0.1 | F9: =TRUNC($C9*E9,3) -> 0.2 | M9: 전5-23
A10: =자동제어반!A40 -> M.C.C.B | B10: =자동제어반!B40 -> 2P 50AF | C10: =자동제어반!C40 -> 2 | D10: =자동제어반!D40 -> 개 | G10: 0.182 | H10: =TRUNC($C10*G10,3) -> 0.364 | M10: 전5-19
A11: =자동제어반!A41 -> E.L.C.B | B11: =자동제어반!B41 -> 2P 30AF | C11: =자동제어반!C41 -> 9 | D11: =자동제어반!D41 -> 개 | G11: 0.133 | H11: =TRUNC($C11*G11,3) -> 1.197 | M11: 전5-19
A12: =자동제어반!A42 -> E.L.C.B(자동복귀형) | B12: =자동제어반!B42 -> 2P 30AF | C12: =자동제어반!C42 -> 1 | D12: =자동제어반!D42 -> 개 | G12: 0.133 | H12: =TRUNC($C12*G12,3) -> 0.133 | M12: 전5-19
A13: =자동제어반!A45 -> LED 램프 | B13: =자동제어반!B45 -> 220V, 20W(전구식) | C13: =자동제어반!C45 -> 2 | D13: =자동제어반!D45 -> 개 | G13: 0.223 | H13: =TRUNC($C13*G13,3) -> 0.446 | M13: 전5-25
A14: =자동제어반!A46 -> VENT FAN | B14: =자동제어반!B46 -> AC 220V | C14: =자동제어반!C46 -> 1 | D14: =자동제어반!D46 -> 개 | G14: 0.48 | H14: =TRUNC($C14*G14,3) -> 0.48 | M14: 전5-22
A15: =자동제어반!A47 -> SPACE HEATER | B15: =자동제어반!B47 -> AC 220V 100W | C15: =자동제어반!C47 -> 1 | D15: =자동제어반!D47 -> 개 | G15: 0.4 | H15: =TRUNC($C15*G15,3) -> 0.4 | M15: 전5-22
A16: =자동제어반!A48 -> THERMOSTAT | B16: =자동제어반!B48 -> AC 220V 0~250℃ | C16: =자동제어반!C48 -> 2 | D16: =자동제어반!D48 -> 개 | E16: 0.27 | F16: =TRUNC($C16*E16,3) -> 0.54 | M16: 전3-34
A17: =자동제어반!A50 -> LIMIT SWITCH | B17: =자동제어반!B50 -> AC 1a1b | C17: =자동제어반!C50 -> 2 | D17: =자동제어반!D50 -> 개 | E17: 0.2 | F17: =TRUNC($C17*E17,3) -> 0.4 | M17: 전3-34
A18: =자동제어반!A51 -> DOOR STOPER | B18: =자동제어반!B51 -> WALL TYPE | C18: =자동제어반!C51 -> 2 | D18: =자동제어반!D51 -> 개 | E18: 0.2 | F18: =TRUNC($C18*E18,3) -> 0.4 | M18: 전3-34
A19: =자동제어반!A53 -> CONCENT | B19: =자동제어반!B53 -> AC220V, 2P15A | C19: =자동제어반!C53 -> 2 | D19: =자동제어반!D53 -> 개 | G19: 0.1 | H19: =TRUNC($C19*G19,3) -> 0.2 | M19: 전5-23(가)
A20: =자동제어반!A54 -> 전원용 ARRESTER | B20: =자동제어반!B54 -> 1￠2W 전원용, 40KA(카운터) | C20: =자동제어반!C54 -> 1 | D20: =자동제어반!D54 -> 개 | E20: 0.24 | F20: =E20*C20 -> 0.24 | M20: 통11-6-2
A21: =자동제어반!A55 -> POWER SUPPLY | B21: =자동제어반!B55 -> DC24V, 10A | C21: =자동제어반!C55 -> 1 | D21: =자동제어반!D55 -> 개 | E21: 0.2 | F21: =TRUNC($C21*E21,3) -> 0.2 | M21: 전3-34
A22: =자동제어반!A56 -> CABLE | B22: =자동제어반!B56 -> KIV 1.5㎟ | C22: =자동제어반!C56 -> 200 | D22: =자동제어반!D56 -> M | G22: 0.055 | H22: =TRUNC($C22*G22,3) -> 11 | M22: 전3-34
A28: 계 | F28: =SUM(F7:F27) -> 2.28 | H28: =SUM(H7:H27) -> 14.22
A29: 종 | B29: 재료 또는 | C29: 원 | D29: 단 | E29: 전기기계조립원 | G29: 전선원 | I29: 컴퓨터운용사 | M29: 비
A30: 별 | B30: 치 수 | C30: 수 | D30: 위 | E30: 인수 | F30: 계 | G30: 인수 | H30: 계 | I30: 인수 | J30: 계 | M30: 고
A31: 2) 제어부
A32: =자동제어반!A68 -> NOISE FILTER | B32: =자동제어반!B68 -> AC220V, 10A | C32: =자동제어반!C68 -> 1 | D32: =자동제어반!D68 -> 개 | E32: 0.27 | F32: =TRUNC($C32*E32,3) -> 0.27 | M32: 전3-34
A33: =자동제어반!A69 -> L/ARRESTER | B33: =자동제어반!B69 -> 신호,통신용, 20KA이상 | C33: =자동제어반!C69 -> 2 | D33: =자동제어반!D69 -> 개 | E33: 0.14 | F33: =TRUNC($C33*E33,3) -> 0.28 | M33: 통11-6-2
A34: =자동제어반!A83 -> CONTROL RELAY | B34: =자동제어반!B83 -> AC 4a4b | C34: =자동제어반!C83 -> 54 | D34: =자동제어반!D83 -> 개 | G34: 0.09 | H34: =TRUNC($C34*G34,3) -> 4.86 | M34: 전3-34
A35: =자동제어반!A84 -> CONTROL RELAY | B35: =자동제어반!B84 -> DC 4a4b | C35: =자동제어반!C84 -> 45 | D35: =자동제어반!D84 -> 개 | G35: 0.09 | H35: =TRUNC($C35*G35,3) -> 4.05 | M35: 전3-34
A36: =자동제어반!A85 -> VPN | B36: =자동제어반!B85 -> 원격소 | C36: =자동제어반!C85 -> 1 | D36: =자동제어반!D85 -> 개 | I36: =0.39*2 -> 0.78 | J36: =TRUNC($C36*I36,3) -> 0.78 | M36: 통8-1-5
A41: 계 | F41: =SUM(F32:F40) -> 0.55 | H41: =SUM(H32:H40) -> 8.91 | J41: =SUM(J32:J40) -> 0.78
A57: 나. 포두배수장 제작노무비
A60: 종 | B60: 재료 또는 | C60: 원 | D60: 단 | E60: 전기기계조립원 | G60: 전선원 | M60: 비
A61: 별 | B61: 치 수 | C61: 수 | D61: 위 | E61: 인수 | F61: 계 | G61: 인수 | H61: 계 | M61: 고
A62: 1) 전원부
A63: =자동제어반!A132 -> SELECTOR S/W | B63: =자동제어반!B132 -> 자동복귀형 | C63: =자동제어반!C132 -> 1 | D63: =자동제어반!D132 -> 개 | E63: 0.2 | F63: =TRUNC($C63*E63,3) -> 0.2 | M63: 전3-34
A64: =자동제어반!A133 -> PILOT LAMP(LED) | B64: =자동제어반!B133 -> 25Φ,AC220V | C64: =자동제어반!C133 -> 1 | D64: =자동제어반!D133 -> 개 | E64: 0.1 | F64: =TRUNC($C64*E64,3) -> 0.1 | M64: 전5-23
A65: =자동제어반!A134 -> SQUARE LAMP | B65: =자동제어반!B134 -> LED TYPE | C65: =자동제어반!C134 -> 2 | D65: =자동제어반!D134 -> 개 | E65: 0.1 | F65: =TRUNC($C65*E65,3) -> 0.2 | M65: 전5-23
A66: =자동제어반!A135 -> M.C.C.B | B66: =자동제어반!B135 -> 2P 50AF | C66: =자동제어반!C135 -> 2 | D66: =자동제어반!D135 -> 개 | G66: 0.182 | H66: =TRUNC($C66*G66,3) -> 0.364 | M66: 전5-19
A67: =자동제어반!A136 -> E.L.C.B | B67: =자동제어반!B136 -> 2P 30AF | C67: =자동제어반!C136 -> 9 | D67: =자동제어반!D136 -> 개 | G67: 0.133 | H67: =TRUNC($C67*G67,3) -> 1.197 | M67: 전5-19
A68: =자동제어반!A137 -> E.L.C.B(자동복귀형) | B68: =자동제어반!B137 -> 2P 30AF | C68: =자동제어반!C137 -> 1 | D68: =자동제어반!D137 -> 개 | G68: 0.133 | H68: =TRUNC($C68*G68,3) -> 0.133 | M68: 전5-19
...

Sheet  시스템설치총
A1: II. 시스템 설치공사
A2: 공 사 비 명 세 서
A4: 일금 | B4: =G26 -> 21097603 | C4: 원
A5: 품 명 | C5: 재료 또는 치수 | D5: 원수 | E5: 단위 | F5: 총 액 | H5: 노 무 비 | J5: 재 료 비 | L5: 경 비 | N5: 비 고
F6: 단 가 | G6: 금 액 | H6: 단 가 | I6: 금 액 | J6: 단 가 | K6: 금 액 | L6: 단 가 | M6: 금 액
A7: 1. 계장제어장치 설치공사 | D7: 1 | E7: 식 | G7: =SUM(I7,K7,M7) -> 1851066 | I7: =원격소설치!I21 -> 1797152 | M7: =원격소설치!M21 -> 53914
A8: 2. 수위계 설치공사 | D8: 1 | E8: 식 | G8: =SUM(I8,K8,M8) -> 10498996 | I8: =수위계!G25 -> 931066 | K8: =수위계!I25 -> 9540000 | M8: =수위계!K25 -> 27930
A9: 3. 계장제어장치 일반공사 | D9: 1 | E9: 식 | G9: =SUM(I9,K9,M9) -> 8747541 | I9: ='자동제어반 일반'!G25 -> 6717848 | K9: ='자동제어반 일반'!I25 -> 1828159 | M9: ='자동제어반 일반'!K25 -> 201534
A26: 합 계 | G26: =SUM(I26:M26) -> 21097603 | I26: =INT(SUM(I7:I25)) -> 9446066 | K26: =INT(SUM(K7:K25)) -> 11368159 | M26: =INT(SUM(M7:M25)) -> 283378

Sheet 원격소설치
A1: =' 시스템설치총'!A7 -> 1. 계장제어장치 설치공사
A2: 공 사 비 명 세 서
A3: 일금 | B3: =G21 -> 1851066 | C3: 원
A4: 종 별 | C4: 재료 또는 치수 | D4: 원수 | E4: 단위 | F4: 총 액 | H4: 노 무 비 | J4: 재 료 비 | L4: 경 비 | N4: 비 고
F5: 단 가 | G5: 금 액 | H5: 단 가 | I5: 금 액 | J5: 단 가 | K5: 금 액 | L5: 단 가 | M5: 금 액
A6: =A25 -> 1.1 덕곡배수장 자동제어반 설치노무비 | D6: 1 | E6: 식 | G6: =SUM(I6,K6,M6) -> 988438 | I6: =I41 -> 959649 | M6: =M41 -> 28789
A7: =A49 -> 1.2 포두배수장 자동제어반 설치노무비 | D7: 1 | E7: 식 | G7: =SUM(I7,K7,M7) -> 862628 | I7: =I65 -> 837503 | M7: =M65 -> 25125
A21: 합 계 | G21: =SUM(G6:G19) -> 1851066 | I21: =SUM(I6:I19) -> 1797152 | M21: =SUM(M6:M19) -> 53914
A25: 1.1 덕곡배수장 자동제어반 설치노무비
A27: 종 별 | C27: 재료 또는 치수 | D27: 원수 | E27: 단위 | F27: 총 액 | H27: 노 무 비 | J27: 재 료 비 | L27: 경 비 | N27: 비 고
F28: 단 가 | G28: 금 액 | H28: 단 가 | I28: 금 액 | J28: 단 가 | K28: 금 액 | L28: 단 가 | M28: 금 액
A29: 1)자동제어반 설치공사비
A30: - 통신관련산업기사 | C30: 26년 상반기 시중노임단가 | D30: =원격소설치근!F13 -> 0.71 | E30: 인 | G30: =I30 -> 216201 | H30: 304509 | I30: =TRUNC(H30*D30) -> 216201 | N30: 산.근
A31: - 통신설비공 | C31: 26년 상반기 시중노임단가 | D31: =원격소설치근!H13 -> 0.85 | E31: 인 | G31: =I31 -> 268198 | H31: 315528 | I31: =TRUNC(H31*D31) -> 268198 | N31: 산.근
A32: - 보통인부 | C32: 26년 상반기 시중노임단가 | D32: =원격소설치근!J13 -> 1.14 | E32: 인 | G32: =I32 -> 196157 | H32: 172068 | I32: =TRUNC(H32*D32) -> 196157 | N32: 산.근
A33: - H/W시험사 | C33: 26년 상반기 시중노임단가 | D33: =원격소설치근!L13 -> 0.71 | E33: 인 | G33: =I33 -> 279093 | H33: 393090 | I33: =TRUNC(H33*D33) -> 279093 | N33: 산.근
A35: <경 비>
A36: - 공구손료 | C36: 직접노무비의 3% | D36: 1 | E36: 식 | M36: =TRUNC(SUM(I30:I33)*3%) -> 28789
A41: 계 | G41: =SUM(I41,K41,M41) -> 988438 | I41: =SUM(I30:I36) -> 959649 | M41: =M36 -> 28789
A49: 1.2 포두배수장 자동제어반 설치노무비
A51: 종 별 | C51: 재료 또는 치수 | D51: 원수 | E51: 단위 | F51: 총 액 | H51: 노 무 비 | J51: 재 료 비 | L51: 경 비 | N51: 비 고
F52: 단 가 | G52: 금 액 | H52: 단 가 | I52: 금 액 | J52: 단 가 | K52: 금 액 | L52: 단 가 | M52: 금 액
A53: 1)자동제어반 설치공사비
A54: - 통신관련산업기사 | C54: 26년 상반기 시중노임단가 | D54: =원격소설치근!F36 -> 0.59 | E54: 인 | G54: =I54 -> 179660 | H54: 304509 | I54: =TRUNC(H54*D54) -> 179660 | N54: 산.근
A55: - 통신설비공 | C55: 26년 상반기 시중노임단가 | D55: =원격소설치근!H36 -> 0.75 | E55: 인 | G55: =I55 -> 236646 | H55: 315528 | I55: =TRUNC(H55*D55) -> 236646 | N55: 산.근
A56: - 보통인부 | C56: 26년 상반기 시중노임단가 | D56: =원격소설치근!J36 -> 1.1 | E56: 인 | G56: =I56 -> 189274 | H56: 172068 | I56: =TRUNC(H56*D56) -> 189274 | N56: 산.근
A57: - H/W시험사 | C57: 26년 상반기 시중노임단가 | D57: =원격소설치근!L36 -> 0.59 | E57: 인 | G57: =I57 -> 231923 | H57: 393090 | I57: =TRUNC(H57*D57) -> 231923 | N57: 산.근
A59: <경 비>
A60: - 공구손료 | C60: 직접노무비의 3% | D60: 1 | E60: 식 | M60: =TRUNC(SUM(I54:I57)*3%) -> 25125
A65: 계 | G65: =SUM(I65,K65,M65) -> 862628 | I65: =SUM(I54:I60) -> 837503 | M65: =M60 -> 25125

Sheet 원격소설치근
A1: 덕곡배수장 자동제어반 설치공사 노무비 산출근거
A3: 종 별 | B3: 재료 또는 | C3: 원 수 | D3: 단 위 | E3: 통신관련산업기사 | G3: 통신설비공 | I3: 보통인부 | K3: H/W시험사 | O3: 비 고
B4: 치 수 | E4: 인 수 | F4: 계 | G4: 인 수 | H4: 계 | I4: 인 수 | J4: 계 | K4: 인 수 | L4: 계
A5: 1) 자동제어반 설치공사비
A6: - 설치작업 | B6: 함체(랙)설치 | C6: =자동제어반!C72 -> 1 | D6: 랙 | G6: 0.5 | H6: =TRUNC($C6*G6,2) -> 0.5 | I6: 1 | J6: =TRUNC($C6*I6,2) -> 1 | O6: 통8-4-7-5
B7: 카드(모듈)삽입 및 점검 | C7: =SUM(자동제어반!C74,자동제어반!C75,자동제어반!C76,자동제어반!C77,자동제어반!C78) -> 7 | D7: 모듈 | G7: 0.05 | H7: =TRUNC($C7*G7,2) -> 0.35 | I7: 0.02 | J7: =TRUNC($C7*I7,2) -> 0.14 | O7: 통8-4-7-5
A8: - 종합점검 및 시험 | B8: 전원부 동작상태 점검 | C8: =자동제어반!C73 -> 1 | D8: 개소 | E8: 0.35 | F8: =TRUNC($C8*E8,2) -> 0.35 | K8: 0.35 | L8: =TRUNC($C8*K8,2) -> 0.35 | O8: 통8-4-7-5
B9: 포인트연동(감시)시험 | C9: =SUM(자동제어반!C79,자동제어반!C81) -> 61 | D9: 포인트 | E9: 0.003 | F9: =TRUNC($C9*E9,2) -> 0.18 | K9: 0.003 | L9: =TRUNC($C9*K9,2) -> 0.18 | O9: 통8-4-7-5
B10: 포인트연동(제어)시험 | C10: =SUM(자동제어반!C80) -> 45 | D10: 포인트 | E10: 0.004 | F10: =TRUNC($C10*E10,2) -> 0.18 | K10: 0.004 | L10: =TRUNC($C10*K10,2) -> 0.18 | O10: 통8-4-7-5
A13: 인공계 | F13: =SUM(F6:F10) -> 0.71 | H13: =SUM(H6:H10) -> 0.85 | J13: =SUM(J6:J10) -> 1.14 | L13: =SUM(L6:L10) -> 0.71
A24: 포두배수장 자동제어반 설치공사 노무비 산출근거
A26: 종 별 | B26: 재료 또는 | C26: 원 수 | D26: 단 위 | E26: 통신관련산업기사 | G26: 통신설비공 | I26: 보통인부 | K26: H/W시험사 | O26: 비 고
B27: 치 수 | E27: 인 수 | F27: 계 | G27: 인 수 | H27: 계 | I27: 인 수 | J27: 계 | K27: 인 수 | L27: 계
A28: 1) 자동제어반 설치공사비
A29: - 설치작업 | B29: 함체(랙)설치 | C29: =자동제어반!C167 -> 1 | D29: 랙 | G29: 0.5 | H29: =TRUNC($C29*G29,2) -> 0.5 | I29: 1 | J29: =TRUNC($C29*I29,2) -> 1 | O29: 통8-4-7-5
B30: 카드(모듈)삽입 및 점검 | C30: =SUM(자동제어반!C169,자동제어반!C170,자동제어반!C171,자동제어반!C173,자동제어반!C175) -> 5 | D30: 모듈 | G30: 0.05 | H30: =TRUNC($C30*G30,2) -> 0.25 | I30: 0.02 | J30: =TRUNC($C30*I30,2) -> 0.1 | O30: 통8-4-7-5
A31: - 종합점검 및 시험 | B31: 전원부 동작상태 점검 | C31: =자동제어반!C168 -> 1 | D31: 개소 | E31: 0.35 | F31: =TRUNC($C31*E31,2) -> 0.35 | K31: 0.35 | L31: =TRUNC($C31*K31,2) -> 0.35 | O31: 통8-4-7-5
B32: 포인트연동(감시)시험 | C32: =SUM(자동제어반!C176,자동제어반!C178) -> 46 | D32: 포인트 | E32: 0.003 | F32: =TRUNC($C32*E32,2) -> 0.13 | K32: 0.003 | L32: =TRUNC($C32*K32,2) -> 0.13 | O32: 통8-4-7-5
B33: 포인트연동(제어)시험 | C33: =SUM(자동제어반!C177) -> 28 | D33: 포인트 | E33: 0.004 | F33: =TRUNC($C33*E33,2) -> 0.11 | K33: 0.004 | L33: =TRUNC($C33*K33,2) -> 0.11 | O33: 통8-4-7-5
A36: 인공계 | F36: =SUM(F29:F33) -> 0.59 | H36: =SUM(H29:H33) -> 0.75 | J36: =SUM(J29:J33) -> 1.1 | L36: =SUM(L29:L33) -> 0.59

Sheet 수위계
A1: 2. 수위계 설치공사 | E1: 공 사 비 명 세 서
A3: 일금 | B3: =E25 -> 10498996 | C3: 원
A4: 종 별 | B4: 재료 또는 치수 | C4: 원 | D4: 단 | E4: 총 액 | F4: 노 무 비 | H4: 재 료 비 | J4: 경 비 | L4: 비고
B5: 치 수 | C5: 수 | D5: 위 | E5: 금 액 | F5: 단 가 | G5: 금 액 | H5: 단 가 | I5: 금 액 | J5: 단 가 | K5: 금 액
A6: =A28 -> 2.1 덕곡배수장 수위계 | C6: 1 | D6: 식 | E6: =SUM(G6,I6,K6) -> 5249498 | G6: =G50 -> 465533 | I6: =I50 -> 4770000 | K6: =K50 -> 13965
A7: =A53 -> 2.2 포두배수장 수위계 | C7: 1 | D7: 식 | E7: =SUM(G7,I7,K7) -> 5249498 | G7: =G75 -> 465533 | I7: =I75 -> 4770000 | K7: =K75 -> 13965
X22: 75000000
X23: =X22*10% -> 7500000
X24: =SUM(X22:X23) -> 82500000
A25: 합 계 | E25: =G25+I25+K25 -> 10498996 | G25: =SUM(G6:G24) -> 931066 | I25: =SUM(I6:I24) -> 9540000 | K25: =SUM(K6:K24) -> 27930
A26: 종 별 | B26: 재료 또는 치수 | C26: 원 | D26: 단 | E26: 총 액 | F26: 노 무 비 | H26: 재 료 비 | J26: 경 비 | L26: 비고
B27: 치 수 | C27: 수 | D27: 위 | E27: 금 액 | F27: 단 가 | G27: 금 액 | H27: 단 가 | I27: 금 액 | J27: 단 가 | K27: 금 액
A28: 2.1 덕곡배수장 수위계
A29: 초음파수위계(분리형) | B29: RANGE 0.3~10m(분리형) | C29: 1 | D29: EA | E29: =I29 -> 3500000 | H29: 3500000 | I29: =INT(C29*H29) -> 3500000 | L29: M085051 | N29: 2026년 단가(KRC)
A30: 수위계 지지대 | B30: STS 0.5(W) x 0.5(H) | C30: 1 | D30: EA | E30: =I30 -> 550000 | H30: 550000 | I30: =INT(C30*H30) -> 550000 | L30: M085043 | N30: 2026년 단가(KRC) | X30: 56000000 | Z30: =X30*80% -> 44800000
A31: 오뚜기수위계 | B31: 4접점(HH,H,L,LL) | C31: 1 | D31: EA | E31: =I31 -> 470000 | H31: 470000 | I31: =INT(C31*H31) -> 470000 | L31: M085064 | N31: 2026년 단가(KRC) | X31: 0.3
A32: 오뚜기수위계브라켓 | B32: STS, 제작품 | C32: 1 | D32: EA | E32: =I32 -> 200000 | H32: 200000 | I32: =INT(C32*H32) -> 200000 | N32: 견적가 | X32: =X31*X30 -> 16800000
A33: 오뚜기수위계보호관 | B33: PE300A | C33: 1 | D33: EA | E33: =I33 -> 50000 | H33: 50000 | I33: =INT(C33*H33) -> 50000 | N33: 견적가
X34: =SUM(X32,X30) -> 72800000
X35: =X34*10% -> 7280000
A36: <노 무 비> | X36: =SUM(X34:X35) -> 80080000
A37: 통신설비공 | B37: 26년 상반기 시중노임단가 | C37: =수위계근!J26 -> 0.43 | D37: 인 | E37: =G37 -> 135677 | F37: 315528 | G37: =INT(C37*F37) -> 135677
A38: 내선전공 | B38: 26년 상반기 시중노임단가 | C38: =수위계근!L26 -> 0.85 | D38: 인 | E38: =G38 -> 232624 | F38: 273676 | G38: =INT(C38*F38) -> 232624
A39: 특별인부 | B39: 26년 상반기 시중노임단가 | C39: =수위계근!P26 -> 0.43 | D39: 인 | E39: =G39 -> 97232 | F39: 226122 | G39: =INT(C39*F39) -> 97232
A41: 계 | E41: =G41 -> 465533 | G41: =SUM(G37:G40) -> 465533
A43: <경 비>
A44: 공구손료 | B44: 직접노무비*3% | C44: 1 | D44: 식 | K44: =INT(G41*3%) -> 13965
A50: 합 계 | E50: =G50+I50+K50 -> 5249498 | G50: =G41 -> 465533 | I50: =SUM(I29:I34) -> 4770000 | K50: =SUM(K44:K45) -> 13965
A51: 종 별 | B51: 재료 또는 치수 | C51: 원 | D51: 단 | E51: 총 액 | F51: 노 무 비 | H51: 재 료 비 | J51: 경 비 | L51: 비고
B52: 치 수 | C52: 수 | D52: 위 | E52: 금 액 | F52: 단 가 | G52: 금 액 | H52: 단 가 | I52: 금 액 | J52: 단 가 | K52: 금 액
A53: 2.2 포두배수장 수위계
A54: 초음파수위계(분리형) | B54: RANGE 0.3~10m(분리형) | C54: 1 | D54: EA | E54: =I54 -> 3500000 | H54: 3500000 | I54: =INT(C54*H54) -> 3500000 | L54: M085051 | N54: 2026년 단가(KRC)
A55: 수위계 지지대 | B55: STS 0.5(W) x 1.5(H) | C55: 1 | D55: EA | E55: =I55 -> 550000 | H55: 550000 | I55: =INT(C55*H55) -> 550000 | L55: M085043 | N55: 2026년 단가(KRC) | X55: 56000000 | Z55: =X55*80% -> 44800000
A56: 오뚜기수위계 | B56: 4접점(HH,H,L,LL) | C56: 1 | D56: EA | E56: =I56 -> 470000 | H56: 470000 | I56: =INT(C56*H56) -> 470000 | L56: M085064 | N56: 2026년 단가(KRC) | X56: 0.3
A57: 오뚜기수위계브라켓 | B57: STS, 제작품 | C57: 1 | D57: EA | E57: =I57 -> 200000 | H57: 200000 | I57: =INT(C57*H57) -> 200000 | N57: 견적가 | X57: =X56*X55 -> 16800000
A58: 오뚜기수위계보호관 | B58: PE300A | C58: 1 | D58: EA | E58: =I58 -> 50000 | H58: 50000 | I58: =INT(C58*H58) -> 50000 | N58: 견적가
X59: =SUM(X57,X55) -> 72800000
X60: =X59*10% -> 7280000
A61: <노 무 비> | X61: =SUM(X59:X60) -> 80080000
A62: 통신설비공 | B62: 26년 상반기 시중노임단가 | C62: =수위계근!J53 -> 0.43 | D62: 인 | E62: =G62 -> 135677 | F62: 315528 | G62: =INT(C62*F62) -> 135677
...

Sheet 수위계근
A1: 덕곡배수장 수위계 설치공사 노무비 산출근거
A3: 종 | B3: 재료또는 | C3: 원 | D3: 단 | E3: 통신외선공 | G3: 통신산업기사 | I3: 통신설비공 | K3: 내선전공 | M3: 보통인부 | O3: 특별인부 | Q3: 비
A4: 별 | B4: 치 수 | C4: 수 | D4: 위 | E4: 인수 | F4: 계 | I4: 인수 | J4: 계 | K4: 인수 | L4: 계 | M4: 인수 | N4: 계 | O4: 인수 | P4: 계 | Q4: 고
A5: 오뚜기수위계 | B5: 4P | C5: =수위계!C31 -> 1 | D5: 대 | K5: 0.85 | L5: =TRUNC($C5*K5,3) -> 0.85 | Q5: 전 5-22
A6: 초음파수위계 | B6: 브래킷 설치 | C6: =수위계!C30 -> 1 | D6: EA | I6: 0.15 | J6: =TRUNC($C6*I6,3) -> 0.15 | O6: 0.15 | P6: =TRUNC($C6*O6,3) -> 0.15 | Q6: 통 9-3-2-1
B7: 변환기 설치 | C7: =수위계!C29 -> 1 | D7: EA | I7: 0.09 | J7: =TRUNC($C7*I7,3) -> 0.09 | O7: 0.09 | P7: =TRUNC($C7*O7,3) -> 0.09 | Q7: 통 9-3-2-1
B8: 센 서 설치 | C8: =수위계!C29 -> 1 | D8: 대 | I8: 0.1 | J8: =TRUNC($C8*I8,3) -> 0.1 | O8: 0.1 | P8: =TRUNC($C8*O8,3) -> 0.1 | Q8: 통 9-3-2-1
B9: 시 험 | C9: =수위계!C29 -> 1 | D9: 대 | I9: 0.09 | J9: =TRUNC($C9*I9,3) -> 0.09 | O9: 0.09 | P9: =TRUNC($C9*O9,3) -> 0.09 | Q9: 통 9-3-2-1
A26: 계 | F26: =TRUNC(SUM(F5:F25),2) -> 0 | H26: =TRUNC(SUM(H5:H25),2) -> 0 | J26: =TRUNC(SUM(J5:J25),2) -> 0.43 | L26: =TRUNC(SUM(L5:L25),2) -> 0.85 | N26: =TRUNC(SUM(N5:N25),2) -> 0 | P26: =TRUNC(SUM(P5:P25),2) -> 0.43
A28: 포두배수장 수위계 설치공사 노무비 산출근거
A30: 종 | B30: 재료또는 | C30: 원 | D30: 단 | E30: 통신외선공 | G30: 통신산업기사 | I30: 통신설비공 | K30: 내선전공 | M30: 보통인부 | O30: 특별인부 | Q30: 비
A31: 별 | B31: 치 수 | C31: 수 | D31: 위 | E31: 인수 | F31: 계 | I31: 인수 | J31: 계 | K31: 인수 | L31: 계 | M31: 인수 | N31: 계 | O31: 인수 | P31: 계 | Q31: 고
A32: 오뚜기수위계 | B32: 4P | C32: =수위계!C56 -> 1 | D32: 대 | K32: 0.85 | L32: =TRUNC($C32*K32,3) -> 0.85 | Q32: 전 5-22
A33: 초음파수위계 | B33: 브래킷 설치 | C33: =수위계!C54 -> 1 | D33: EA | I33: 0.15 | J33: =TRUNC($C33*I33,3) -> 0.15 | O33: 0.15 | P33: =TRUNC($C33*O33,3) -> 0.15 | Q33: 통 9-3-2-1
B34: 변환기 설치 | C34: =수위계!C54 -> 1 | D34: EA | I34: 0.09 | J34: =TRUNC($C34*I34,3) -> 0.09 | O34: 0.09 | P34: =TRUNC($C34*O34,3) -> 0.09 | Q34: 통 9-3-2-1
B35: 센 서 설치 | C35: =수위계!C54 -> 1 | D35: 대 | I35: 0.1 | J35: =TRUNC($C35*I35,3) -> 0.1 | O35: 0.1 | P35: =TRUNC($C35*O35,3) -> 0.1 | Q35: 통 9-3-2-1
B36: 시 험 | C36: =수위계!C54 -> 1 | D36: 대 | I36: 0.09 | J36: =TRUNC($C36*I36,3) -> 0.09 | O36: 0.09 | P36: =TRUNC($C36*O36,3) -> 0.09 | Q36: 통 9-3-2-1
A53: 계 | F53: =TRUNC(SUM(F32:F52),2) -> 0 | H53: =TRUNC(SUM(H32:H52),2) -> 0 | J53: =TRUNC(SUM(J32:J52),2) -> 0.43 | L53: =TRUNC(SUM(L32:L52),2) -> 0.85 | N53: =TRUNC(SUM(N32:N52),2) -> 0 | P53: =TRUNC(SUM(P32:P52),2) -> 0.43

Sheet 자동제어반 일반
A1: 공 사 비 명 세 서
A3: 3. 원격제어소 일반공사
A4: 일 금 : | B4: =E25 -> 8747541 | C4: 원
A5: 종 별 | B5: 재료 또는 치수 | C5: 원 | D5: 단 | E5: 총 액 | F5: 노 무 비 | H5: 재 료 비 | J5: 경 비 | L5: 비고
B6: 치 수 | C6: 수 | D6: 위 | E6: 금 액 | F6: 단 가 | G6: 금 액 | H6: 단 가 | I6: 금 액 | J6: 단 가 | K6: 금 액
A7: =A28 -> 3.1 덕곡배수장 일반공사 | C7: 1 | D7: 식 | E7: =G7+I7+K7 -> 4240365 | G7: =G74 -> 3267317 | I7: =I74 -> 875029 | K7: =K74 -> 98019
A8: =A78 -> 3.2 포두배수장 일반공사 | C8: 1 | D8: 식 | E8: =G8+I8+K8 -> 4507176 | G8: =G124 -> 3450531 | I8: =I124 -> 953130 | K8: =K124 -> 103515
A25: 합 계 | E25: =G25+I25+K25 -> 8747541 | G25: =SUM(G7:G24) -> 6717848 | I25: =SUM(I7:I24) -> 1828159 | K25: =SUM(K7:K24) -> 201534
A26: 공 사 비 명 세 서
A28: 3.1 덕곡배수장 일반공사
A29: 일 금 : | B29: =E74 -> 4240365 | C29: 원
A30: 종 별 | B30: 재료 또는 치수 | C30: 원 | D30: 단 | E30: 총 액 | F30: 노 무 비 | H30: 재 료 비 | J30: 경 비 | L30: 비고
B31: 치 수 | C31: 수 | D31: 위 | E31: 금 액 | F31: 단 가 | G31: 금 액 | H31: 단 가 | I31: 금 액 | J31: 단 가 | K31: 금 액
A32: 제어케이블 | B32: 0.6/1KV F-CVV-S 1.5㎟/2C | C32: =자동화산출!I38 -> 13 | D32: =자동화산출!D38 -> M | E32: =I32 -> 23387 | H32: 1799 | I32: =INT(C32*H32) -> 23387 | L32: M061241 | N32: 2026년 단가(KRC)
A33: 제어케이블 | B33: 0.6/1KV F-CVV-S 1.5㎟/4C | C33: =자동화산출!I39 -> 24 | D33: =자동화산출!D39 -> M | E33: =I33 -> 60624 | H33: 2526 | I33: =INT(C33*H33) -> 60624 | L33: M061243 | N33: 2026년 단가(KRC)
A34: 제어케이블 | B34: 0.6/1KV F-CVV-S 1.5㎟/6C | C34: =자동화산출!I40 -> 34 | D34: =자동화산출!D40 -> M | E34: =I34 -> 112438 | H34: 3307 | I34: =INT(C34*H34) -> 112438 | L34: M061245 | N34: 2026년 단가(KRC)
A35: 제어케이블 | B35: 0.6/1KV F-CVV-S 1.5㎟/10C | C35: =자동화산출!I41 -> 43 | D35: =자동화산출!D41 -> M | E35: =I35 -> 212205 | H35: 4935 | I35: =INT(C35*H35) -> 212205 | L35: M061248 | N35: 2026년 단가(KRC)
A36: 제어케이블 | B36: 0.6/1KV F-CVV-S 1.5㎟/15C | C36: =자동화산출!I42 -> 17 | D36: =자동화산출!D42 -> M | E36: =I36 -> 112183 | H36: 6599 | I36: =INT(C36*H36) -> 112183 | L36: M061250 | N36: 2026년 단가(KRC)
A37: 제어케이블 | B37: 0.6/1KV F-CVV-SB 1.5㎟/4C | C37: =자동화산출!I43 -> 17 | D37: =자동화산출!D43 -> M | E37: =I37 -> 46427 | H37: 2731 | I37: =INT(C37*H37) -> 46427 | L37: M061266 | N37: 2026년 단가(KRC)
A38: 통신케이블 | B38: AWG24 x 4P RS485 | C38: =자동화산출!I44 -> 55 | D38: =자동화산출!D44 -> M | E38: =I38 -> 137500 | H38: 2500 | I38: =INT(C38*H38) -> 137500
A39: 통신케이블 | B39: UTP CAT.6 x 4Pr | C39: =자동화산출!I45 -> 116 | D39: =자동화산출!D45 -> M | E39: =I39 -> 158920 | H39: 1370 | I39: =INT(C39*H39) -> 158920 | L39: M061050 | N39: 2026년 단가(KRC)
A41: 잡 재 | B41: 배관,배선자재*2% | C41: 1 | D41: 식 | E41: =I41 -> 11345 | I41: =INT(SUM(I32,I33,I34,I35,I36,I37)*0.02) -> 11345
A42: 전선관 부속품 | B42: 전선관 * 15% | C42: 1 | D42: 식 | E42: =I42 -> 0 | I42: 0
A44: 계 | B44: <재료비> | E44: =I44 -> 875029 | I44: =SUM(I32:I42) -> 875029
A51: 종 별 | B51: 재료 또는 치수 | C51: 원 | D51: 단 | E51: 총 액 | F51: 노 무 비 | H51: 재 료 비 | J51: 경 비 | L51: 비고
B52: 치 수 | C52: 수 | D52: 위 | E52: 금 액 | F52: 단 가 | G52: 금 액 | H52: 단 가 | I52: 금 액 | J52: 단 가 | K52: 금 액
A53: <직접노무비>
A54: 통신케이블전공 | B54: 26년 상반기 시중노임단가 | C54: ='자동제어반 일반근'!H23 -> 7.49 | D54: 인 | E54: =G54 -> 3267317 | F54: 436224 | G54: =INT(C54*F54) -> 3267317
A56: 계 | E56: =G56 -> 3267317 | G56: =SUM(G54:G54) -> 3267317
A58: <경 비>
A59: 공구손료 | B59: 직접노무비 * 3% | C59: 1 | D59: 식 | E59: =K59 -> 98019 | K59: =INT(G56*0.03) -> 98019
A61: 계 | E61: =K61 -> 98019 | K61: =SUM(K58:K59) -> 98019
A74: 합 계 | E74: =G74+I74+K74 -> 4240365 | G74: =TRUNC(G56,0) -> 3267317 | I74: =TRUNC(I44,0) -> 875029 | K74: =TRUNC(K61,0) -> 98019
A76: 공 사 비 명 세 서
A78: 3.2 포두배수장 일반공사
A79: 일 금 : | B79: =E124 -> 4507176 | C79: 원
A80: 종 별 | B80: 재료 또는 치수 | C80: 원 | D80: 단 | E80: 총 액 | F80: 노 무 비 | H80: 재 료 비 | J80: 경 비 | L80: 비고
B81: 치 수 | C81: 수 | D81: 위 | E81: 금 액 | F81: 단 가 | G81: 금 액 | H81: 단 가 | I81: 금 액 | J81: 단 가 | K81: 금 액
A82: 제어케이블 | B82: 0.6/1KV F-CVV-S 1.5㎟/4C | C82: =자동화산출!I84 -> 11 | D82: =자동화산출!D84 -> M | E82: =I82 -> 27786 | H82: 2526 | I82: =INT(C82*H82) -> 27786 | L82: M061243 | N82: 2026년 단가(KRC)
A83: 제어케이블 | B83: 0.6/1KV F-CVV-S 1.5㎟/6C | C83: =자동화산출!I85 -> 11 | D83: =자동화산출!D85 -> M | E83: =I83 -> 36377 | H83: 3307 | I83: =INT(C83*H83) -> 36377 | L83: M061245 | N83: 2026년 단가(KRC)
...

Sheet 자동제어반 일반근
A1: 덕곡배수장 일반공사 노무비 산출근거
A3: 종 | B3: 재료 또는 | C3: 원 | D3: 단 | E3: 저압케이블전공 | G3: 통신케이블공 | I3: 통신내선공 | M3: 비
A4: 별 | B4: 치 수 | C4: 수 | D4: 위 | E4: 인수 | F4: 계 | G4: 인수 | H4: 계 | I4: 인수 | J4: 계 | M4: 고
A5: 제어케이블 | B5: 0.6/1KV F-CVV-S 1.5㎟/2C | C5: =자동화산출!E38 -> 13 | D5: =자동화산출!D38 -> M | G5: 0.012 | H5: =TRUNC($C5*G5,3) -> 0.156 | M5: 통4-4-1
A6: 제어케이블 | B6: 0.6/1KV F-CVV-S 1.5㎟/4C | C6: =자동화산출!E39 -> 23 | D6: =자동화산출!D39 -> M | G6: 0.023 | H6: =TRUNC($C6*G6,3) -> 0.529 | M6: 통4-4-1
A7: 제어케이블 | B7: 0.6/1KV F-CVV-S 1.5㎟/6C | C7: =자동화산출!E40 -> 33 | D7: =자동화산출!D40 -> M | G7: 0.032 | H7: =TRUNC($C7*G7,3) -> 1.056 | M7: 통4-4-1
A8: 제어케이블 | B8: 0.6/1KV F-CVV-S 1.5㎟/10C | C8: =자동화산출!E41 -> 41 | D8: =자동화산출!D41 -> M | G8: 0.043 | H8: =TRUNC($C8*G8,3) -> 1.763 | M8: 통4-4-1
A9: 제어케이블 | B9: 0.6/1KV F-CVV-S 1.5㎟/15C | C9: =자동화산출!E42 -> 17 | D9: =자동화산출!D42 -> M | G9: 0.053 | H9: =TRUNC($C9*G9,3) -> 0.901 | M9: 통4-4-1
A10: 제어케이블 | B10: 0.6/1KV F-CVV-SB 1.5㎟/4C | C10: =자동화산출!E43 -> 17 | D10: =자동화산출!D43 -> M | G10: =0.023*120% -> 0.0276 | H10: =TRUNC($C10*G10,3) -> 0.469 | M10: 통4-4-1
A11: 통신케이블 | B11: AWG24 x 4P RS485 | C11: =자동화산출!E44 -> 53 | D11: =자동화산출!D44 -> M | G11: 0.018 | H11: =TRUNC($C11*G11,3) -> 0.954 | M11: 통4-3-1
A12: 통신케이블 | B12: UTP CAT.6 x 4Pr | C12: =자동화산출!E45 -> 111 | D12: =자동화산출!D45 -> M | G12: 0.015 | H12: =TRUNC($C12*G12,3) -> 1.665 | M12: 통4-3-1
A23: 계 | F23: =INT(SUM(F5:F14)*100)/100 -> 0 | H23: =INT(SUM(H5:H14)*100)/100 -> 7.49 | J23: =INT(SUM(J5:J14)*100)/100 -> 0 | L23: =INT(SUM(L5:L14)*100)/100 -> 0
A24: 포두배수장 일반공사 노무비 산출근거
A26: 종 | B26: 재료 또는 | C26: 원 | D26: 단 | E26: 저압케이블전공 | G26: 통신케이블공 | I26: 통신내선공 | M26: 비
A27: 별 | B27: 치 수 | C27: 수 | D27: 위 | E27: 인수 | F27: 계 | G27: 인수 | H27: 계 | I27: 인수 | J27: 계 | M27: 고
A28: 제어케이블 | B28: 0.6/1KV F-CVV-S 1.5㎟/4C | C28: =자동화산출!E84 -> 11 | D28: =자동화산출!D84 -> M | G28: 0.023 | H28: =TRUNC($C28*G28,3) -> 0.253 | M28: 통4-4-1
A29: 제어케이블 | B29: 0.6/1KV F-CVV-S 1.5㎟/6C | C29: =자동화산출!E85 -> 11 | D29: =자동화산출!D85 -> M | G29: 0.032 | H29: =TRUNC($C29*G29,3) -> 0.352 | M29: 통4-4-1
A30: 제어케이블 | B30: 0.6/1KV F-CVV-S 1.5㎟/15C | C30: =자동화산출!E86 -> 34 | D30: =자동화산출!D86 -> M | G30: 0.053 | H30: =TRUNC($C30*G30,3) -> 1.802 | M30: 통4-4-1
A31: 제어케이블 | B31: 0.6/1KV F-CVV-S 1.5㎟/20C | C31: =자동화산출!E87 -> 34 | D31: =자동화산출!D87 -> M | G31: 0.065 | H31: =TRUNC($C31*G31,3) -> 2.21 | M31: 통4-4-1
A32: 제어케이블 | B32: 0.6/1KV F-CVV-SB 1.5㎟/6C | C32: =자동화산출!E88 -> 34 | D32: =자동화산출!D88 -> M | G32: =0.032*120% -> 0.0384 | H32: =TRUNC($C32*G32,3) -> 1.305 | M32: 통4-4-1
A33: 통신케이블 | B33: AWG24 x 4P RS485 | C33: =자동화산출!E89 -> 45 | D33: =자동화산출!D89 -> M | G33: 0.018 | H33: =TRUNC($C33*G33,3) -> 0.81 | M33: 통4-3-1
A34: 통신케이블 | B34: UTP CAT.6 x 4Pr | C34: =자동화산출!E90 -> 79 | D34: =자동화산출!D90 -> M | G34: 0.015 | H34: =TRUNC($C34*G34,3) -> 1.185 | M34: 통4-3-1
A42: 계 | F42: =INT(SUM(F28:F36)*100)/100 -> 0 | H42: =INT(SUM(H28:H36)*100)/100 -> 7.91 | J42: =INT(SUM(J28:J36)*100)/100 -> 0 | L42: =INT(SUM(L28:L36)*100)/100 -> 0

Sheet 자동화산출
A1: 수 량 산 출 서
A2: 덕곡배수장
A3: 회로명 | B3: 산출목록 | C3: 규격 | D3: 단위 | E3: 계 | K3: 산 | M3: 출 | O3: 근 | Q3: 거
A4: RTU-->ATS | B4: 제어케이블 | C4: 0.6/1KV F-CVV-S 1.5㎟/2C | D4: M | E4: =SUM(G4:AB4) -> 13 | F4: ( | G4: 1.5 | H4: + | I4: 10 | J4: + | K4: 1.5 | L4: )
AF5: ATS | AG5: VCB | AH5: VTS | AI5: 종합반 | AJ5: 기동반1 | AK5: 기동반2 | AL5: 저압반 | AM5: RTU
A6: RTU-->VCB | B6: 제어케이블 | C6: 0.6/1KV F-CVV-S 1.5㎟/4C | D6: M | E6: =SUM(G6:AB6) -> 12 | F6: ( | G6: 1.5 | H6: + | I6: 9 | J6: + | K6: 1.5 | L6: ) | AE6: DI | AF6: 1 | AG6: 2 | AH6: 2 | AI6: 6 | AJ6: 13 | AK6: 12 | AL6: 9
B7: 제어케이블 | C7: 0.6/1KV F-CVV-S 1.5㎟/6C | D7: M | E7: =SUM(G7:AB7) -> 12 | F7: ( | G7: 1.5 | H7: + | I7: 9 | J7: + | K7: 1.5 | L7: ) | AE7: DO | AF7: 0 | AG7: 3 | AH7: 4 | AI7: 4 | AJ7: 8 | AK7: 8 | AL7: 8
B8: 통신케이블 | C8: AWG24 x 4P RS485 | D8: M | E8: =SUM(G8:AB8) -> 12 | F8: ( | G8: 1.5 | H8: + | I8: 9 | J8: + | K8: 1.5 | L8: ) | AE8: AI | AJ8: 3 | AK8: 3
AE9: 통신 | AG9: 1 | AI9: 1 | AJ9: 1 | AK9: 1 | AL9: 2
A10: RTU-->VTS | B10: 제어케이블 | C10: 0.6/1KV F-CVV-S 1.5㎟/4C | D10: M | E10: =SUM(G10:AB10) -> 11 | F10: ( | G10: 1.5 | H10: + | I10: 8 | J10: + | K10: 1.5 | L10: ) | AE10: 거리 | AF10: 10 | AG10: 9 | AH10: 8 | AI10: 7 | AJ10: 6 | AK10: 5 | AL10: 4
B11: 제어케이블 | C11: 0.6/1KV F-CVV-S 1.5㎟/6C | D11: M | E11: =SUM(G11:AB11) -> 11 | F11: ( | G11: 1.5 | H11: + | I11: 8 | J11: + | K11: 1.5 | L11: ) | AE11: 2C | AF11: 2C
AE12: 4C | AG12: 4C | AH12: 4C
A13: RTU-->종합반 | B13: 제어케이블 | C13: 0.6/1KV F-CVV-S 1.5㎟/6C | D13: M | E13: =SUM(G13:AB13) -> 10 | F13: ( | G13: 1.5 | H13: + | I13: 7 | J13: + | K13: 1.5 | L13: ) | AE13: 6C | AG13: 6C | AH13: 6C | AI13: 6C
B14: 제어케이블 | C14: 0.6/1KV F-CVV-S 1.5㎟/10C | D14: M | E14: =SUM(G14:AB14) -> 10 | F14: ( | G14: 1.5 | H14: + | I14: 7 | J14: + | K14: 1.5 | L14: ) | AE14: 10C | AI14: 10C | AJ14: 10C | AK14: 10C | AL14: 10C*2
B15: 통신케이블 | C15: AWG24 x 4P RS485 | D15: M | E15: =SUM(G15:AB15) -> 10 | F15: ( | G15: 1.5 | H15: + | I15: 7 | J15: + | K15: 1.5 | L15: ) | AE15: 15C | AJ15: 15C | AK15: 15C
AE16: 20C
A17: RTU-->기동반1 | B17: 제어케이블 | C17: 0.6/1KV F-CVV-S 1.5㎟/10C | D17: M | E17: =SUM(G17:AB17) -> 9 | F17: ( | G17: 1.5 | H17: + | I17: 6 | J17: + | K17: 1.5 | L17: ) | AE17: SB 4C | AJ17: SB4C | AK17: SB4C
B18: 제어케이블 | C18: 0.6/1KV F-CVV-S 1.5㎟/15C | D18: M | E18: =SUM(G18:AB18) -> 9 | F18: ( | G18: 1.5 | H18: + | I18: 6 | J18: + | K18: 1.5 | L18: ) | AE18: SB 6C
B19: 제어케이블 | C19: 0.6/1KV F-CVV-SB 1.5㎟/4C | D19: M | E19: =SUM(G19:K19) -> 9 | F19: ( | G19: 1.5 | H19: + | I19: 6 | J19: + | K19: 1.5 | L19: ) | AE19: SB 10C
B20: 통신케이블 | C20: AWG24 x 4P RS485 | D20: M | E20: =SUM(G20:AB20) -> 9 | F20: ( | G20: 1.5 | H20: + | I20: 6 | J20: + | K20: 1.5 | L20: ) | AE20: 485 | AG20: 485 | AI20: 485 | AJ20: 485 | AK20: 485 | AL20: 485*2
A22: RTU-->기동반2 | B22: 제어케이블 | C22: 0.6/1KV F-CVV-S 1.5㎟/10C | D22: M | E22: =SUM(G22:AB22) -> 8 | F22: ( | G22: 1.5 | H22: + | I22: 5 | J22: + | K22: 1.5 | L22: )
B23: 제어케이블 | C23: 0.6/1KV F-CVV-S 1.5㎟/15C | D23: M | E23: =SUM(G23:AB23) -> 8 | F23: ( | G23: 1.5 | H23: + | I23: 5 | J23: + | K23: 1.5 | L23: )
B24: 제어케이블 | C24: 0.6/1KV F-CVV-SB 1.5㎟/4C | D24: M | E24: =SUM(G24:K24) -> 8 | F24: ( | G24: 1.5 | H24: + | I24: 5 | J24: + | K24: 1.5 | L24: )
B25: 통신케이블 | C25: AWG24 x 4P RS485 | D25: M | E25: =SUM(G25:AB25) -> 8 | F25: ( | G25: 1.5 | H25: + | I25: 5 | J25: + | K25: 1.5 | L25: )
A27: RTU-->저압반 | B27: 제어케이블 | C27: 0.6/1KV F-CVV-S 1.5㎟/10C | D27: M | E27: =SUM(G27,I27,K27)*O27 -> 14 | F27: ( | G27: 1.5 | H27: + | I27: 4 | J27: + | K27: 1.5 | L27: ) | N27: x | O27: 2
B28: 통신케이블 | C28: AWG24 x 4P RS485 | D28: M | E28: =SUM(G28,I28,K28)*O28 -> 14 | F28: ( | G28: 1.5 | H28: + | I28: 4 | J28: + | K28: 1.5 | L28: ) | N28: x | O28: 2
A30: RTU-->옥외1 CCTV | B30: 통신케이블 | C30: UTP CAT.6 x 4Pr | D30: M | E30: =SUM(G30:AB30) -> 46.5 | F30: ( | G30: 1.5 | H30: + | I30: 40 | J30: + | K30: 5 | L30: )
A32: RTU-->옥외2 CCTV | B32: 통신케이블 | C32: UTP CAT.6 x 4Pr | D32: M | E32: =SUM(G32:AB32) -> 46.5 | F32: ( | G32: 1.5 | H32: + | I32: 40 | J32: + | K32: 5 | L32: )
A34: RTU-->전기실 CCTV | B34: 통신케이블 | C34: UTP CAT.6 x 4Pr | D34: M | E34: =SUM(G34:AB34) -> 18 | F34: ( | G34: 1.5 | H34: + | I34: 15 | J34: + | K34: 1.5 | L34: )
A37: 합 계 | G37: 할증 | I37: 합계
B38: 제어케이블 | C38: 0.6/1KV F-CVV-S 1.5㎟/2C | D38: M | E38: =INT(SUM(E4)) -> 13 | G38: 0.05 | I38: =INT(E38+E38*G38) -> 13
B39: 제어케이블 | C39: 0.6/1KV F-CVV-S 1.5㎟/4C | D39: M | E39: =INT(SUM(E6,E10)) -> 23 | G39: 0.05 | I39: =INT(E39+E39*G39) -> 24
B40: 제어케이블 | C40: 0.6/1KV F-CVV-S 1.5㎟/6C | D40: M | E40: =INT(SUM(E7,E11,E13)) -> 33 | G40: 0.05 | I40: =INT(E40+E40*G40) -> 34
B41: 제어케이블 | C41: 0.6/1KV F-CVV-S 1.5㎟/10C | D41: M | E41: =INT(SUM(E14,E17,E22,E27)) -> 41 | G41: 0.05 | I41: =INT(E41+E41*G41) -> 43
B42: 제어케이블 | C42: 0.6/1KV F-CVV-S 1.5㎟/15C | D42: M | E42: =INT(SUM(E18,E23)) -> 17 | G42: 0.05 | I42: =INT(E42+E42*G42) -> 17
B43: 제어케이블 | C43: 0.6/1KV F-CVV-SB 1.5㎟/4C | D43: M | E43: =INT(SUM(E19,E24)) -> 17 | G43: 0.05 | I43: =INT(E43+E43*G43) -> 17
B44: 통신케이블 | C44: AWG24 x 4P RS485 | D44: M | E44: =INT(SUM(E8,E15,E20,E25,E28)) -> 53 | G44: 0.05 | I44: =INT(E44+E44*G44) -> 55
B45: 통신케이블 | C45: UTP CAT.6 x 4Pr | D45: M | E45: =INT(SUM(E30,E32,E34)) -> 111 | G45: 0.05 | I45: =INT(E45+E45*G45) -> 116
A46: 수 량 산 출 서 | AF46: 종합 | AG46: 기동반1 | AH46: 기동반2 | AI46: 기동반3 | AJ46: 기동반4 | AK46: RTU
A47: 포두배수장 | AE47: DI | AF47: 3 | AG47: 17 | AH47: 16 | AI47: 16 | AJ47: 16 | BD47: =SUM(AF47:BC47) -> 68 | BE47: 6 | BF47: 149
...
