Workbook

Sheet 내역서갑지
A1: 2026년 월 일 | D1: 담당자 | H1: 부장 | L1: 본부장
B3: 2026년도
A5: 26년 성읍저수지 활용 성산읍 농업용수관로 구축사업 폐기물 처리용역 설계내역서
D9: ·공사위치 : | G9: 제주특별자치도 서귀포시 성산읍 삼달리 1887-15번지 일원
D11: ·공사개요 : | G11: 폐콘크리트 - 99.0㎥ (228.0Ton)
G12: 폐아스콘(굴착) - 163.0㎥ (383.0Ton)
G13: 폐아스콘(절삭) - 87.0㎥ (204.0Ton)
D19: 도 급 금 액: | G19: =원가계산서!E31 -> 32275000 | J19: ="(금"&NUMBERSTRING(G19,1)&"원)" -> (금삼천이백이십칠만오천원)

Sheet 원가계산서
A1: 공 사 원 가 계 산 서
A2: =내역서갑지!A5 -> 26년 성읍저수지 활용 성산읍 농업용수관로 구축사업 폐기물 처리용역 설계내역서
A3: 구분 | E3: 금액 | F3: 요율 | G3: 산출근거
A4: 순 공 사 원 가 | B4: 재 료 비 | C4: 직접재료비 | D4: 1
C5: 간접재료비 | D5: 2
C6: 소계 | D6: A
B7: 노 무 비 | C7: 직접노무비 | D7: 3
C8: 간접노무비 | D8: 4
C9: 소계 | D9: B
B10: 경 비 | C10: 기계경비 | D10: 5
C11: 폐기물 운반비 | D11: 6 | E11: ='공사비내역서(합계)'!I4 -> 5872713
C12: 산재보험료 | D12: 7
C13: 고용보험료 | D13: 8
C14: 건강보험료 | D14: 9 | I14: a | J14: b
C15: 연금보험료 | D15: 10 | I15: (A+3+J/1.1) x 0.0293 | J15: ((A+3) x 0.0293)) x 1.2
C16: 산업안전보건관리비 | D16: 11 | I16: =ROUNDDOWN((E6+E7+#REF!/1.1)*F16,0) -> #REF! | J16: =ROUNDDOWN(((E6+E7)*F16)*1.2,0) -> 0
C17: 노인장기요양보험료 | D17: 12
C18: 퇴직공제부금비 | D18: 13
C19: 건설기계대여대금지급보증서발급금액 | D19: 14
C20: 하도급대금지급보증수수료 | D20: 15
C21: 공사이행보증수수료 | D21: 16
C22: 환경보전비 | D22: 17
C23: 기타경비 | D23: 18
C24: 소계 | D24: C | E24: =SUM(E10:E23) -> 5872713
C25: 순공사비원가 | D25: D | E25: =E6+E9+E24 -> 5872713
C26: 일반관리비 | D26: E | E26: =ROUNDDOWN(E25*F26,0) -> 293635 | F26: 0.05 | G26: D x 0.05
C27: 이윤 | D27: F | E27: =(E9+E24+E26)*F27 -> 616634.8 | F27: 0.1 | G27: (B + C + E) x 0.10
C28: 폐기물 처리비 수수료 | D28: G | E28: ='공사비내역서(합계)'!I6 -> 22558290
C29: 총원가 | D29: H | E29: =ROUND(SUM(E25:E28),0) -> 29341273 | G29: D + E + F + G
C30: 부가가치세 | D30: I | E30: =ROUNDDOWN(E29*F30,0) -> 2934127 | F30: 0.1 | G30: H x 0.10
C31: 도급액 | D31: J | E31: =ROUND(SUM(E29:E30),-3) -> 32275000 | G31: H + I

Sheet 공사비내역서(합계)
A1: 공 사 비 내 역 서
A2: 공 종 | E2: 규 격 | F2: 수 량 | G2: 단위 | H2: 합 계 | J2: 재 료 비 | L2: 노 무 비 | N2: 경 비 | P2: 비 고
H3: 단 가 | I3: 금 액 | J3: 단 가 | K3: 금 액 | L3: 단 가 | M3: 금 액 | N3: 단 가 | O3: 금 액
B4: 1 | C4: 폐기물 운반비 | F4: 1 | G4: 식 | I4: =SUM(K4,M4,O4) -> 5872713 | K4: =공사비내역서!H4 -> 0 | M4: =공사비내역서!J4 -> 0 | O4: =공사비내역서!L4 -> 5872713
B6: 2 | C6: 폐기물 처리비 수수료 | F6: 1 | G6: 식 | I6: =SUM(K6,M6,O6) -> 22558290 | K6: =공사비내역서!H9 -> 0 | M6: =공사비내역서!J9 -> 0 | O6: =공사비내역서!L9 -> 22558290

Sheet 공사비내역서
A1: 예 산 내 역 서
A2: 공 종 | B2: 규 격 | C2: 수 량 | D2: 단위 | E2: 합 계 | G2: 재 료 비 | I2: 노 무 비 | K2: 경 비 | M2: 비 고
E3: 단 가 | F3: 금 액 | G3: 단 가 | H3: 금 액 | I3: 단 가 | J3: 금 액 | K3: 단 가 | L3: 금 액
A4: *. 폐기물 운반비 | C4: 0 | E4: =G4+I4+K4 -> 0 | F4: =H4+J4+L4 -> 5872713 | G4: 0 | H4: =SUM(H5:H7) -> 0 | I4: 0 | J4: =SUM(J5:J7) -> 0 | K4: 0 | L4: =SUM(L5:L7) -> 5872713
A5: 폐기물운반(콘크리트) | B5: 현장→중간처리업체 | C5: 99 | D5: ㎥ | E5: =G5+I5+K5 -> 14511 | F5: =H5+J5+L5 -> 1436589 | G5: 0 | H5: =TRUNC(C5*G5,0) -> 0 | I5: 0 | J5: =TRUNC(C5*I5,0) -> 0 | K5: 14511 | L5: =TRUNC(C5*K5,0) -> 1436589 | M5: 산근 1호표
A6: 폐기물운반(아스콘굴착) | B6: 현장→중간처리업체 | C6: 163 | D6: ㎥ | E6: =G6+I6+K6 -> 14751 | F6: =H6+J6+L6 -> 2404413 | G6: 0 | H6: =TRUNC(C6*G6,0) -> 0 | I6: 0 | J6: =TRUNC(C6*I6,0) -> 0 | K6: 14751 | L6: =TRUNC(C6*K6,0) -> 2404413 | M6: 산근 2호표
A7: 폐기물운반(아스콘절삭) | B7: 현장→중간처리업체 | C7: 87 | D7: ㎥ | E7: =G7+I7+K7 -> 23353 | F7: =H7+J7+L7 -> 2031711 | G7: 0 | H7: =TRUNC(C7*G7,0) -> 0 | I7: 0 | J7: =TRUNC(C7*I7,0) -> 0 | K7: 23353 | L7: =TRUNC(C7*K7,0) -> 2031711 | M7: 산근 3호표
A9: *. 폐기물 처리비 수수료 | C9: 0 | E9: =G9+I9+K9 -> 0 | F9: =H9+J9+L9 -> 22558290 | G9: 0 | H9: =SUM(H10:H12) -> 0 | I9: 0 | J9: =SUM(J10:J12) -> 0 | K9: 0 | L9: =SUM(L10:L12) -> 22558290
A10: 폐기물 처리비 | B10: 폐콘크리트 | C10: 228 | D10: Ton | E10: =G10+I10+K10 -> 31142 | F10: =H10+J10+L10 -> 7100376 | G10: 0 | H10: =TRUNC(C10*G10,0) -> 0 | I10: 0 | J10: =TRUNC(C10*I10,0) -> 0 | K10: 31142 | L10: =TRUNC(C10*K10,0) -> 7100376
A11: 폐기물 처리비 | B11: 폐아스팔트콘크리트 | C11: 383 | D11: Ton | E11: =G11+I11+K11 -> 32166 | F11: =H11+J11+L11 -> 12319578 | G11: 0 | H11: =TRUNC(C11*G11,0) -> 0 | I11: 0 | J11: =TRUNC(C11*I11,0) -> 0 | K11: 32166 | L11: =TRUNC(C11*K11,0) -> 12319578
A12: 폐기물 처리비 | B12: 아스콘 절삭 | C12: 204 | D12: Ton | E12: =G12+I12+K12 -> 15384 | F12: =H12+J12+L12 -> 3138336 | G12: 0 | H12: =TRUNC(C12*G12,0) -> 0 | I12: 0 | J12: =TRUNC(C12*I12,0) -> 0 | K12: 15384 | L12: =TRUNC(C12*K12,0) -> 3138336
